{"text_format":"1","workbook":"xlsx","n_sheets":5,"sheets":["Depot Redelivery","Import Units","Off hire Units","Check devoluções","Padrão mensagem"],"not_rendered":{"charts":0,"images":1,"macros":1,"external_links":0,"defined_names":2,"comments":0,"pivot_tables":1},"unopened":[],"bounds":{"document_bytes":16777216,"sheet_cells":100000,"rows_first":2000,"rows_last":500,"rows_between":2000,"halvings":0,"cell_chars":16384,"cell_head_chars":4096},"cells_cut":0,"cells_raw":0,"read":"whole","date_system":"1900"}

{"sheet":"Depot Redelivery","index":0,"n_rows":31,"n_cols":8,"rows_kept":31,"cut":false,"hidden":false,"merged":[[1,0,2,11],[10,0,10,6],[10,9,12,12],[10,13,12,16],[21,0,21,6]]}
["hapag_log"]
["CONSULTA LOCAL PARA DEVOLUÇÃO DE CONTAINERS"]
[]
[]
[null,null,"Instruções para consulta:"]
[]
[null,null,"Insira o número do container sem caracteres especiais (Exemplo: \"-\"; \".\"; \"*\"; \"_\")."]
[null,null,"Podem ser verificadas de 01 a 10 unidades por consulta."]
[null,null,"Confira o número e o armador, caso seu container não seja localizado ou em caso de dúvidas, entre em contato no telefone  - Contact Center : (11) 4505 1740 ( Equipment – opção 6 )"]
[]
[" Digite a(s) unidade(s) que deseja devolver:"]
[]
[]
[]
[]
[]
[]
[]
[]
[]
[]
[" Local para devolução:",null,null,null,null,null,null,{"$f":"IF(H11=\"\",\"\",IF(ISERROR(VLOOKUP(SUBSTITUTE(H11,\" \",\"\"),'Import Units'!$C$1:$F$972181,4,0)),\"Unidade não encontrada\",VLOOKUP(SUBSTITUTE(H11,\" \",\"\"),'Import Units'!$C$1:$F$972181,4,0)))","v":""}]
[null,null,null,null,null,null,null,{"$f":"IF(H12=\"\",\"\",IF(ISERROR(VLOOKUP(SUBSTITUTE(H12,\" \",\"\"),'Import Units'!$C$1:$F$972181,4,0)),\"Unidade não encontrada\",VLOOKUP(SUBSTITUTE(H12,\" \",\"\"),'Import Units'!$C$1:$F$972181,4,0)))","v":""}]
[null,null,null,null,null,null,null,{"$f":"IF(H13=\"\",\"\",IF(ISERROR(VLOOKUP(SUBSTITUTE(H13,\" \",\"\"),'Import Units'!$C$1:$F$972181,4,0)),\"Unidade não encontrada\",VLOOKUP(SUBSTITUTE(H13,\" \",\"\"),'Import Units'!$C$1:$F$972181,4,0)))","v":""}]
[null,null,null,null,null,null,null,{"$f":"IF(H14=\"\",\"\",IF(ISERROR(VLOOKUP(SUBSTITUTE(H14,\" \",\"\"),'Import Units'!$C$1:$F$972181,4,0)),\"Unidade não encontrada\",VLOOKUP(SUBSTITUTE(H14,\" \",\"\"),'Import Units'!$C$1:$F$972181,4,0)))","v":""}]
[null,null,null,null,null,null,null,{"$f":"IF(H15=\"\",\"\",IF(ISERROR(VLOOKUP(SUBSTITUTE(H15,\" \",\"\"),'Import Units'!$C$1:$F$972181,4,0)),\"Unidade não encontrada\",VLOOKUP(SUBSTITUTE(H15,\" \",\"\"),'Import Units'!$C$1:$F$972181,4,0)))","v":""}]
[null,null,null,null,null,null,null,{"$f":"IF(H16=\"\",\"\",IF(ISERROR(VLOOKUP(SUBSTITUTE(H16,\" \",\"\"),'Import Units'!$C$1:$F$972181,4,0)),\"Unidade não encontrada\",VLOOKUP(SUBSTITUTE(H16,\" \",\"\"),'Import Units'!$C$1:$F$972181,4,0)))","v":""}]
[null,null,null,null,null,null,null,{"$f":"IF(H17=\"\",\"\",IF(ISERROR(VLOOKUP(SUBSTITUTE(H17,\" \",\"\"),'Import Units'!$C$1:$F$972181,4,0)),\"Unidade não encontrada\",VLOOKUP(SUBSTITUTE(H17,\" \",\"\"),'Import Units'!$C$1:$F$972181,4,0)))","v":""}]
[null,null,null,null,null,null,null,{"$f":"IF(H18=\"\",\"\",IF(ISERROR(VLOOKUP(SUBSTITUTE(H18,\" \",\"\"),'Import Units'!$C$1:$F$972181,4,0)),\"Unidade não encontrada\",VLOOKUP(SUBSTITUTE(H18,\" \",\"\"),'Import Units'!$C$1:$F$972181,4,0)))","v":""}]
[null,null,null,null,null,null,null,{"$f":"IF(H19=\"\",\"\",IF(ISERROR(VLOOKUP(SUBSTITUTE(H19,\" \",\"\"),'Import Units'!$C$1:$F$972181,4,0)),\"Unidade não encontrada\",VLOOKUP(SUBSTITUTE(H19,\" \",\"\"),'Import Units'!$C$1:$F$972181,4,0)))","v":""}]
[null,null,null,null,null,null,null,{"$f":"IF(H20=\"\",\"\",IF(ISERROR(VLOOKUP(SUBSTITUTE(H20,\" \",\"\"),'Import Units'!$C$1:$F$972181,4,0)),\"Unidade não encontrada\",VLOOKUP(SUBSTITUTE(H20,\" \",\"\"),'Import Units'!$C$1:$F$972181,4,0)))","v":""}]

{"sheet":"Import Units","index":1,"n_rows":67933,"n_cols":6,"rows_kept":4500,"cut":true,"hidden":true,"merged":[],"bounds":{"rows_first":2000,"rows_last":500,"rows_between":2000,"halvings":0}}
["POD","Type","Unit","Offhire","Depot","Mensagem padrão"]
["BRMAO","45GP","GCXU5927647","Nao","SUPER TERMINAIS",{"$f":"VLOOKUP(E2,'Padrão mensagem'!$A$3:$B$67,2,0)","v":"Depot Super Terminais - (92) 3616-2650 / E-mails: coordenacao.depot@superterminais.com.br; reparos.container@superterminais.com.br"}]
["BRMAO","45GP","SEGU5658605","Nao","SUPER TERMINAIS",{"$f":"VLOOKUP(E3,'Padrão mensagem'!$A$3:$B$67,2,0)","v":"Depot Super Terminais - (92) 3616-2650 / E-mails: coordenacao.depot@superterminais.com.br; reparos.container@superterminais.com.br"}]
["BRMAO","45GP","FANU1837301","Nao","SUPER TERMINAIS",{"$f":"VLOOKUP(E4,'Padrão mensagem'!$A$3:$B$67,2,0)","v":"Depot Super Terminais - (92) 3616-2650 / E-mails: coordenacao.depot@superterminais.com.br; reparos.container@superterminais.com.br"}]
["BRMAO","45GP","TEMU7530688","Nao","SUPER TERMINAIS",{"$f":"VLOOKUP(E5,'Padrão mensagem'!$A$3:$B$67,2,0)","v":"Depot Super Terminais - (92) 3616-2650 / E-mails: coordenacao.depot@superterminais.com.br; reparos.container@superterminais.com.br"}]
["BRMAO","45GP","HAMU1266242","Nao","SUPER TERMINAIS",{"$f":"VLOOKUP(E6,'Padrão mensagem'!$A$3:$B$67,2,0)","v":"Depot Super Terminais - (92) 3616-2650 / E-mails: coordenacao.depot@superterminais.com.br; reparos.container@superterminais.com.br"}]
["BRMAO","45GP","HLBU2472079","Nao","SUPER TERMINAIS",{"$f":"VLOOKUP(E7,'Padrão mensagem'!$A$3:$B$67,2,0)","v":"Depot Super Terminais - (92) 3616-2650 / E-mails: coordenacao.depot@superterminais.com.br; reparos.container@superterminais.com.br"}]
["BRMAO","45GP","FANU1557580","Nao","SUPER TERMINAIS",{"$f":"VLOOKUP(E8,'Padrão mensagem'!$A$3:$B$67,2,0)","v":"Depot Super Terminais - (92) 3616-2650 / E-mails: coordenacao.depot@superterminais.com.br; reparos.container@superterminais.com.br"}]
["BRMAO","45GP","FANU3400840","Nao","SUPER TERMINAIS",{"$f":"VLOOKUP(E9,'Padrão mensagem'!$A$3:$B$67,2,0)","v":"Depot Super Terminais - (92) 3616-2650 / E-mails: coordenacao.depot@superterminais.com.br; reparos.container@superterminais.com.br"}]
["BRMAO","45GP","FFAU1230063","Nao","SUPER TERMINAIS",{"$f":"VLOOKUP(E10,'Padrão mensagem'!$A$3:$B$67,2,0)","v":"Depot Super Terminais - (92) 3616-2650 / E-mails: coordenacao.depot@superterminais.com.br; reparos.container@superterminais.com.br"}]
["BRMAO","45GP","FANU1274086","Nao","SUPER TERMINAIS",{"$f":"VLOOKUP(E11,'Padrão mensagem'!$A$3:$B$67,2,0)","v":"Depot Super Terminais - (92) 3616-2650 / E-mails: coordenacao.depot@superterminais.com.br; reparos.container@superterminais.com.br"}]
["BRMAO","45GP","HLBU3234835","Nao","SUPER TERMINAIS",{"$f":"VLOOKUP(E12,'Padrão mensagem'!$A$3:$B$67,2,0)","v":"Depot Super Terminais - (92) 3616-2650 / E-mails: coordenacao.depot@superterminais.com.br; reparos.container@superterminais.com.br"}]
["BRMAO","45GP","TEMU7653954","Nao","SUPER TERMINAIS",{"$f":"VLOOKUP(E13,'Padrão mensagem'!$A$3:$B$67,2,0)","v":"Depot Super Terminais - (92) 3616-2650 / E-mails: coordenacao.depot@superterminais.com.br; reparos.container@superterminais.com.br"}]
["BRMAO","45GP","FCIU7445873","Nao","SUPER TERMINAIS",{"$f":"VLOOKUP(E14,'Padrão mensagem'!$A$3:$B$67,2,0)","v":"Depot Super Terminais - (92) 3616-2650 / E-mails: coordenacao.depot@superterminais.com.br; reparos.container@superterminais.com.br"}]
["BRMAO","45GP","FANU3281443","Nao","SUPER TERMINAIS",{"$f":"VLOOKUP(E15,'Padrão mensagem'!$A$3:$B$67,2,0)","v":"Depot Super Terminais - (92) 3616-2650 / E-mails: coordenacao.depot@superterminais.com.br; reparos.container@superterminais.com.br"}]
["BRMAO","45GP","GCXU5979907","Nao","SUPER TERMINAIS",{"$f":"VLOOKUP(E16,'Padrão mensagem'!$A$3:$B$67,2,0)","v":"Depot Super Terminais - (92) 3616-2650 / E-mails: coordenacao.depot@superterminais.com.br; reparos.container@superterminais.com.br"}]
["BRMAO","45GP","FANU1055278","Nao","SUPER TERMINAIS",{"$f":"VLOOKUP(E17,'Padrão mensagem'!$A$3:$B$67,2,0)","v":"Depot Super Terminais - (92) 3616-2650 / E-mails: coordenacao.depot@superterminais.com.br; reparos.container@superterminais.com.br"}]
["BRMAO","45GP","TCNU4513331","Nao","SUPER TERMINAIS",{"$f":"VLOOKUP(E18,'Padrão mensagem'!$A$3:$B$67,2,0)","v":"Depot Super Terminais - (92) 3616-2650 / E-mails: coordenacao.depot@superterminais.com.br; reparos.container@superterminais.com.br"}]
["BRMAO","45GP","GCXU5980868","Nao","SUPER TERMINAIS",{"$f":"VLOOKUP(E19,'Padrão mensagem'!$A$3:$B$67,2,0)","v":"Depot Super Terminais - (92) 3616-2650 / E-mails: coordenacao.depot@superterminais.com.br; reparos.container@superterminais.com.br"}]
["BRMAO","45GP","FANU3793199","Nao","SUPER TERMINAIS",{"$f":"VLOOKUP(E20,'Padrão mensagem'!$A$3:$B$67,2,0)","v":"Depot Super Terminais - (92) 3616-2650 / E-mails: coordenacao.depot@superterminais.com.br; reparos.container@superterminais.com.br"}]
["BRMAO","45RT","HLBU9589283","Nao","SUPER TERMINAIS",{"$f":"VLOOKUP(E21,'Padrão mensagem'!$A$3:$B$67,2,0)","v":"Depot Super Terminais - (92) 3616-2650 / E-mails: coordenacao.depot@superterminais.com.br; reparos.container@superterminais.com.br"}]
["BRMAO","45RT","HLBU9660735","Nao","SUPER TERMINAIS",{"$f":"VLOOKUP(E22,'Padrão mensagem'!$A$3:$B$67,2,0)","v":"Depot Super Terminais - (92) 3616-2650 / E-mails: coordenacao.depot@superterminais.com.br; reparos.container@superterminais.com.br"}]
["BRMAO","45GP","FSCU7157182","Nao","SUPER TERMINAIS",{"$f":"VLOOKUP(E23,'Padrão mensagem'!$A$3:$B$67,2,0)","v":"Depot Super Terminais - (92) 3616-2650 / E-mails: coordenacao.depot@superterminais.com.br; reparos.container@superterminais.com.br"}]
["BRMAO","45GP","HLBU2487802","Nao","SUPER TERMINAIS",{"$f":"VLOOKUP(E24,'Padrão mensagem'!$A$3:$B$67,2,0)","v":"Depot Super Terminais - (92) 3616-2650 / E-mails: coordenacao.depot@superterminais.com.br; reparos.container@superterminais.com.br"}]
["BRMAO","45GP","HLXU8263319","Nao","SUPER TERMINAIS",{"$f":"VLOOKUP(E25,'Padrão mensagem'!$A$3:$B$67,2,0)","v":"Depot Super Terminais - (92) 3616-2650 / E-mails: coordenacao.depot@superterminais.com.br; reparos.container@superterminais.com.br"}]
["BRCUC","22GP","DFSU1274988","Nao","TERMACO TERMINAIS",{"$f":"VLOOKUP(E26,'Padrão mensagem'!$A$3:$B$67,2,0)","v":"Depot Termaco Terminais - (85) 99213 7266 | E-mail:gate.cac@termaco.com.br"}]
["BRMAO","45GP","FFAU5358411","Nao","SUPER TERMINAIS",{"$f":"VLOOKUP(E27,'Padrão mensagem'!$A$3:$B$67,2,0)","v":"Depot Super Terminais - (92) 3616-2650 / E-mails: coordenacao.depot@superterminais.com.br; reparos.container@superterminais.com.br"}]
["BRMAO","22GP","TEMU1849493","Nao","SUPER TERMINAIS",{"$f":"VLOOKUP(E28,'Padrão mensagem'!$A$3:$B$67,2,0)","v":"Depot Super Terminais - (92) 3616-2650 / E-mails: coordenacao.depot@superterminais.com.br; reparos.container@superterminais.com.br"}]
["BRMAO","22GP","FCIU2711158","Nao","SUPER TERMINAIS",{"$f":"VLOOKUP(E29,'Padrão mensagem'!$A$3:$B$67,2,0)","v":"Depot Super Terminais - (92) 3616-2650 / E-mails: coordenacao.depot@superterminais.com.br; reparos.container@superterminais.com.br"}]
["BRMAO","22GP","BSIU2470280","Nao","SUPER TERMINAIS",{"$f":"VLOOKUP(E30,'Padrão mensagem'!$A$3:$B$67,2,0)","v":"Depot Super Terminais - (92) 3616-2650 / E-mails: coordenacao.depot@superterminais.com.br; reparos.container@superterminais.com.br"}]
["BRMAO","22GP","GLDU9921666","Nao","SUPER TERMINAIS",{"$f":"VLOOKUP(E31,'Padrão mensagem'!$A$3:$B$67,2,0)","v":"Depot Super Terminais - (92) 3616-2650 / E-mails: coordenacao.depot@superterminais.com.br; reparos.container@superterminais.com.br"}]
["BRMAO","22GP","UETU2736944","Nao","SUPER TERMINAIS",{"$f":"VLOOKUP(E32,'Padrão mensagem'!$A$3:$B$67,2,0)","v":"Depot Super Terminais - (92) 3616-2650 / E-mails: coordenacao.depot@superterminais.com.br; reparos.container@superterminais.com.br"}]
["BRMAO","22GP","FSCU7915554","Nao","SUPER TERMINAIS",{"$f":"VLOOKUP(E33,'Padrão mensagem'!$A$3:$B$67,2,0)","v":"Depot Super Terminais - (92) 3616-2650 / E-mails: coordenacao.depot@superterminais.com.br; reparos.container@superterminais.com.br"}]
["BRMAO","22GP","TRHU1650313","Nao","SUPER TERMINAIS",{"$f":"VLOOKUP(E34,'Padrão mensagem'!$A$3:$B$67,2,0)","v":"Depot Super Terminais - (92) 3616-2650 / E-mails: coordenacao.depot@superterminais.com.br; reparos.container@superterminais.com.br"}]
["BRMAO","22GP","TCLU2850932","Nao","SUPER TERMINAIS",{"$f":"VLOOKUP(E35,'Padrão mensagem'!$A$3:$B$67,2,0)","v":"Depot Super Terminais - (92) 3616-2650 / E-mails: coordenacao.depot@superterminais.com.br; reparos.container@superterminais.com.br"}]
["BRMAO","22GP","DFSU2670617","Nao","SUPER TERMINAIS",{"$f":"VLOOKUP(E36,'Padrão mensagem'!$A$3:$B$67,2,0)","v":"Depot Super Terminais - (92) 3616-2650 / E-mails: coordenacao.depot@superterminais.com.br; reparos.container@superterminais.com.br"}]
["BRMAO","22GP","UACU3860174","Nao","SUPER TERMINAIS",{"$f":"VLOOKUP(E37,'Padrão mensagem'!$A$3:$B$67,2,0)","v":"Depot Super Terminais - (92) 3616-2650 / E-mails: coordenacao.depot@superterminais.com.br; reparos.container@superterminais.com.br"}]
["BRMAO","22GP","HLBU1506092","Nao","SUPER TERMINAIS",{"$f":"VLOOKUP(E38,'Padrão mensagem'!$A$3:$B$67,2,0)","v":"Depot Super Terminais - (92) 3616-2650 / E-mails: coordenacao.depot@superterminais.com.br; reparos.container@superterminais.com.br"}]
["BRMAO","22GP","CAIU3311965","Nao","SUPER TERMINAIS",{"$f":"VLOOKUP(E39,'Padrão mensagem'!$A$3:$B$67,2,0)","v":"Depot Super Terminais - (92) 3616-2650 / E-mails: coordenacao.depot@superterminais.com.br; reparos.container@superterminais.com.br"}]
["BRSUA","45GP","HLBU2420183","Nao","Ziranlog SUA ",{"$f":"VLOOKUP(E40,'Padrão mensagem'!$A$3:$B$67,2,0)","v":"Ziranlog SUA       -        (21) 973373045  |  E-mail: Controle@zirannordeste.com.br; gate@zirannordeste.com.br"}]
["BRMAO","22GP","GESU3612658","Nao","SUPER TERMINAIS",{"$f":"VLOOKUP(E41,'Padrão mensagem'!$A$3:$B$67,2,0)","v":"Depot Super Terminais - (92) 3616-2650 / E-mails: coordenacao.depot@superterminais.com.br; reparos.container@superterminais.com.br"}]
["BRMAO","22GP","FBIU0128556","Nao","SUPER TERMINAIS",{"$f":"VLOOKUP(E42,'Padrão mensagem'!$A$3:$B$67,2,0)","v":"Depot Super Terminais - (92) 3616-2650 / E-mails: coordenacao.depot@superterminais.com.br; reparos.container@superterminais.com.br"}]
["BRMAO","22GP","HLXU1243856","Nao","SUPER TERMINAIS",{"$f":"VLOOKUP(E43,'Padrão mensagem'!$A$3:$B$67,2,0)","v":"Depot Super Terminais - (92) 3616-2650 / E-mails: coordenacao.depot@superterminais.com.br; reparos.container@superterminais.com.br"}]
["BRMAO","22GP","UACU3701700","Nao","SUPER TERMINAIS",{"$f":"VLOOKUP(E44,'Padrão mensagem'!$A$3:$B$67,2,0)","v":"Depot Super Terminais - (92) 3616-2650 / E-mails: coordenacao.depot@superterminais.com.br; reparos.container@superterminais.com.br"}]
["BRMAO","22GP","BMOU2932079","Nao","SUPER TERMINAIS",{"$f":"VLOOKUP(E45,'Padrão mensagem'!$A$3:$B$67,2,0)","v":"Depot Super Terminais - (92) 3616-2650 / E-mails: coordenacao.depot@superterminais.com.br; reparos.container@superterminais.com.br"}]
["BRMAO","22GP","CAIU6507397","Nao","SUPER TERMINAIS",{"$f":"VLOOKUP(E46,'Padrão mensagem'!$A$3:$B$67,2,0)","v":"Depot Super Terminais - (92) 3616-2650 / E-mails: coordenacao.depot@superterminais.com.br; reparos.container@superterminais.com.br"}]
["BRMAO","22GP","UACU4098931","Nao","SUPER TERMINAIS",{"$f":"VLOOKUP(E47,'Padrão mensagem'!$A$3:$B$67,2,0)","v":"Depot Super Terminais - (92) 3616-2650 / E-mails: coordenacao.depot@superterminais.com.br; reparos.container@superterminais.com.br"}]
["BRMAO","22GP","HLBU2345290","Nao","SUPER TERMINAIS",{"$f":"VLOOKUP(E48,'Padrão mensagem'!$A$3:$B$67,2,0)","v":"Depot Super Terminais - (92) 3616-2650 / E-mails: coordenacao.depot@superterminais.com.br; reparos.container@superterminais.com.br"}]
["BRMAO","22GP","HLBU3021444","Nao","SUPER TERMINAIS",{"$f":"VLOOKUP(E49,'Padrão mensagem'!$A$3:$B$67,2,0)","v":"Depot Super Terminais - (92) 3616-2650 / E-mails: coordenacao.depot@superterminais.com.br; reparos.container@superterminais.com.br"}]
["BRMAO","22GP","TEMU1380620","Nao","SUPER TERMINAIS",{"$f":"VLOOKUP(E50,'Padrão mensagem'!$A$3:$B$67,2,0)","v":"Depot Super Terminais - (92) 3616-2650 / E-mails: coordenacao.depot@superterminais.com.br; reparos.container@superterminais.com.br"}]
["BRMAO","22GP","UACU3601240","Nao","SUPER TERMINAIS",{"$f":"VLOOKUP(E51,'Padrão mensagem'!$A$3:$B$67,2,0)","v":"Depot Super Terminais - (92) 3616-2650 / E-mails: coordenacao.depot@superterminais.com.br; reparos.container@superterminais.com.br"}]
["BRMAO","45GP","CAIU8523273","Nao","SUPER TERMINAIS",{"$f":"VLOOKUP(E52,'Padrão mensagem'!$A$3:$B$67,2,0)","v":"Depot Super Terminais - (92) 3616-2650 / E-mails: coordenacao.depot@superterminais.com.br; reparos.container@superterminais.com.br"}]
["BRMAO","45GP","HLBU2225680","Nao","SUPER TERMINAIS",{"$f":"VLOOKUP(E53,'Padrão mensagem'!$A$3:$B$67,2,0)","v":"Depot Super Terminais - (92) 3616-2650 / E-mails: coordenacao.depot@superterminais.com.br; reparos.container@superterminais.com.br"}]
["BRMAO","22GP","TEMU1675489","Nao","SUPER TERMINAIS",{"$f":"VLOOKUP(E54,'Padrão mensagem'!$A$3:$B$67,2,0)","v":"Depot Super Terminais - (92) 3616-2650 / E-mails: coordenacao.depot@superterminais.com.br; reparos.container@superterminais.com.br"}]
["BRMAO","22GP","TGBU2214429","Nao","SUPER TERMINAIS",{"$f":"VLOOKUP(E55,'Padrão mensagem'!$A$3:$B$67,2,0)","v":"Depot Super Terminais - (92) 3616-2650 / E-mails: coordenacao.depot@superterminais.com.br; reparos.container@superterminais.com.br"}]
["BRMAO","22GP","UACU3838972","Nao","SUPER TERMINAIS",{"$f":"VLOOKUP(E56,'Padrão mensagem'!$A$3:$B$67,2,0)","v":"Depot Super Terminais - (92) 3616-2650 / E-mails: coordenacao.depot@superterminais.com.br; reparos.container@superterminais.com.br"}]
["BRMAO","22GP","FCIU6317672","Nao","SUPER TERMINAIS",{"$f":"VLOOKUP(E57,'Padrão mensagem'!$A$3:$B$67,2,0)","v":"Depot Super Terminais - (92) 3616-2650 / E-mails: coordenacao.depot@superterminais.com.br; reparos.container@superterminais.com.br"}]
["BRMAO","22GP","HLBU1347278","Nao","SUPER TERMINAIS",{"$f":"VLOOKUP(E58,'Padrão mensagem'!$A$3:$B$67,2,0)","v":"Depot Super Terminais - (92) 3616-2650 / E-mails: coordenacao.depot@superterminais.com.br; reparos.container@superterminais.com.br"}]
["BRMAO","22GP","BEAU2211571","Nao","SUPER TERMINAIS",{"$f":"VLOOKUP(E59,'Padrão mensagem'!$A$3:$B$67,2,0)","v":"Depot Super Terminais - (92) 3616-2650 / E-mails: coordenacao.depot@superterminais.com.br; reparos.container@superterminais.com.br"}]
["BRMAO","22GP","CRXU1537380","Nao","SUPER TERMINAIS",{"$f":"VLOOKUP(E60,'Padrão mensagem'!$A$3:$B$67,2,0)","v":"Depot Super Terminais - (92) 3616-2650 / E-mails: coordenacao.depot@superterminais.com.br; reparos.container@superterminais.com.br"}]
["BRMAO","22GP","UACU3439885","Nao","SUPER TERMINAIS",{"$f":"VLOOKUP(E61,'Padrão mensagem'!$A$3:$B$67,2,0)","v":"Depot Super Terminais - (92) 3616-2650 / E-mails: coordenacao.depot@superterminais.com.br; reparos.container@superterminais.com.br"}]
["BRMAO","22GP","UETU2786396","Nao","SUPER TERMINAIS",{"$f":"VLOOKUP(E62,'Padrão mensagem'!$A$3:$B$67,2,0)","v":"Depot Super Terminais - (92) 3616-2650 / E-mails: coordenacao.depot@superterminais.com.br; reparos.container@superterminais.com.br"}]
["BRMAO","22GP","FCIU4671373","Nao","SUPER TERMINAIS",{"$f":"VLOOKUP(E63,'Padrão mensagem'!$A$3:$B$67,2,0)","v":"Depot Super Terminais - (92) 3616-2650 / E-mails: coordenacao.depot@superterminais.com.br; reparos.container@superterminais.com.br"}]
["BRMAO","22GP","TCLU2855976","Nao","SUPER TERMINAIS",{"$f":"VLOOKUP(E64,'Padrão mensagem'!$A$3:$B$67,2,0)","v":"Depot Super Terminais - (92) 3616-2650 / E-mails: coordenacao.depot@superterminais.com.br; reparos.container@superterminais.com.br"}]
["BRMAO","22GP","GLDU5470836","Nao","SUPER TERMINAIS",{"$f":"VLOOKUP(E65,'Padrão mensagem'!$A$3:$B$67,2,0)","v":"Depot Super Terminais - (92) 3616-2650 / E-mails: coordenacao.depot@superterminais.com.br; reparos.container@superterminais.com.br"}]
["BRMAO","22GP","SEGU1252705","Nao","SUPER TERMINAIS",{"$f":"VLOOKUP(E66,'Padrão mensagem'!$A$3:$B$67,2,0)","v":"Depot Super Terminais - (92) 3616-2650 / E-mails: coordenacao.depot@superterminais.com.br; reparos.container@superterminais.com.br"}]
["BRMAO","22GP","TEMU1898121","Nao","SUPER TERMINAIS",{"$f":"VLOOKUP(E67,'Padrão mensagem'!$A$3:$B$67,2,0)","v":"Depot Super Terminais - (92) 3616-2650 / E-mails: coordenacao.depot@superterminais.com.br; reparos.container@superterminais.com.br"}]
["BRMAO","22GP","FCIU6650600","Nao","SUPER TERMINAIS",{"$f":"VLOOKUP(E68,'Padrão mensagem'!$A$3:$B$67,2,0)","v":"Depot Super Terminais - (92) 3616-2650 / E-mails: coordenacao.depot@superterminais.com.br; reparos.container@superterminais.com.br"}]
["BRMAO","22GP","FANU1376914","Nao","SUPER TERMINAIS",{"$f":"VLOOKUP(E69,'Padrão mensagem'!$A$3:$B$67,2,0)","v":"Depot Super Terminais - (92) 3616-2650 / E-mails: coordenacao.depot@superterminais.com.br; reparos.container@superterminais.com.br"}]
["BRMAO","22GP","HLXU1131075","Nao","SUPER TERMINAIS",{"$f":"VLOOKUP(E70,'Padrão mensagem'!$A$3:$B$67,2,0)","v":"Depot Super Terminais - (92) 3616-2650 / E-mails: coordenacao.depot@superterminais.com.br; reparos.container@superterminais.com.br"}]
["BRMAO","22GP","UACU4024604","Nao","SUPER TERMINAIS",{"$f":"VLOOKUP(E71,'Padrão mensagem'!$A$3:$B$67,2,0)","v":"Depot Super Terminais - (92) 3616-2650 / E-mails: coordenacao.depot@superterminais.com.br; reparos.container@superterminais.com.br"}]
["BRMAO","22GP","HLXU1017838","Nao","SUPER TERMINAIS",{"$f":"VLOOKUP(E72,'Padrão mensagem'!$A$3:$B$67,2,0)","v":"Depot Super Terminais - (92) 3616-2650 / E-mails: coordenacao.depot@superterminais.com.br; reparos.container@superterminais.com.br"}]
["BRMAO","22GP","DRYU2168980","Nao","SUPER TERMINAIS",{"$f":"VLOOKUP(E73,'Padrão mensagem'!$A$3:$B$67,2,0)","v":"Depot Super Terminais - (92) 3616-2650 / E-mails: coordenacao.depot@superterminais.com.br; reparos.container@superterminais.com.br"}]
["BRMAO","22GP","TCKU2085939","Nao","SUPER TERMINAIS",{"$f":"VLOOKUP(E74,'Padrão mensagem'!$A$3:$B$67,2,0)","v":"Depot Super Terminais - (92) 3616-2650 / E-mails: coordenacao.depot@superterminais.com.br; reparos.container@superterminais.com.br"}]
["BRMAO","22GP","GLDU5481152","Nao","SUPER TERMINAIS",{"$f":"VLOOKUP(E75,'Padrão mensagem'!$A$3:$B$67,2,0)","v":"Depot Super Terminais - (92) 3616-2650 / E-mails: coordenacao.depot@superterminais.com.br; reparos.container@superterminais.com.br"}]
["BRMAO","22GP","TLLU2570673","Nao","SUPER TERMINAIS",{"$f":"VLOOKUP(E76,'Padrão mensagem'!$A$3:$B$67,2,0)","v":"Depot Super Terminais - (92) 3616-2650 / E-mails: coordenacao.depot@superterminais.com.br; reparos.container@superterminais.com.br"}]
["BRMAO","22GP","FBIU0433755","Nao","SUPER TERMINAIS",{"$f":"VLOOKUP(E77,'Padrão mensagem'!$A$3:$B$67,2,0)","v":"Depot Super Terminais - (92) 3616-2650 / E-mails: coordenacao.depot@superterminais.com.br; reparos.container@superterminais.com.br"}]
["BRMAO","22GP","TCLU2993574","Nao","SUPER TERMINAIS",{"$f":"VLOOKUP(E78,'Padrão mensagem'!$A$3:$B$67,2,0)","v":"Depot Super Terminais - (92) 3616-2650 / E-mails: coordenacao.depot@superterminais.com.br; reparos.container@superterminais.com.br"}]
["BRMAO","45GP","FANU1906871","Nao","SUPER TERMINAIS",{"$f":"VLOOKUP(E79,'Padrão mensagem'!$A$3:$B$67,2,0)","v":"Depot Super Terminais - (92) 3616-2650 / E-mails: coordenacao.depot@superterminais.com.br; reparos.container@superterminais.com.br"}]
["BRMAO","45GP","HLBU3319315","Nao","SUPER TERMINAIS",{"$f":"VLOOKUP(E80,'Padrão mensagem'!$A$3:$B$67,2,0)","v":"Depot Super Terminais - (92) 3616-2650 / E-mails: coordenacao.depot@superterminais.com.br; reparos.container@superterminais.com.br"}]
["BRMAO","45GP","GCXU5145571","Nao","SUPER TERMINAIS",{"$f":"VLOOKUP(E81,'Padrão mensagem'!$A$3:$B$67,2,0)","v":"Depot Super Terminais - (92) 3616-2650 / E-mails: coordenacao.depot@superterminais.com.br; reparos.container@superterminais.com.br"}]
["BRMAO","45GP","HLBU3211742","Nao","SUPER TERMINAIS",{"$f":"VLOOKUP(E82,'Padrão mensagem'!$A$3:$B$67,2,0)","v":"Depot Super Terminais - (92) 3616-2650 / E-mails: coordenacao.depot@superterminais.com.br; reparos.container@superterminais.com.br"}]
["BRMAO","45GP","FCIU7335897","Nao","SUPER TERMINAIS",{"$f":"VLOOKUP(E83,'Padrão mensagem'!$A$3:$B$67,2,0)","v":"Depot Super Terminais - (92) 3616-2650 / E-mails: coordenacao.depot@superterminais.com.br; reparos.container@superterminais.com.br"}]
["BRMAO","45GP","GCXU6163369","Nao","SUPER TERMINAIS",{"$f":"VLOOKUP(E84,'Padrão mensagem'!$A$3:$B$67,2,0)","v":"Depot Super Terminais - (92) 3616-2650 / E-mails: coordenacao.depot@superterminais.com.br; reparos.container@superterminais.com.br"}]
["BRMAO","22GP","TCKU3820339","Nao","SUPER TERMINAIS",{"$f":"VLOOKUP(E85,'Padrão mensagem'!$A$3:$B$67,2,0)","v":"Depot Super Terminais - (92) 3616-2650 / E-mails: coordenacao.depot@superterminais.com.br; reparos.container@superterminais.com.br"}]
["BRMAO","22GP","TCKU2931209","Nao","SUPER TERMINAIS",{"$f":"VLOOKUP(E86,'Padrão mensagem'!$A$3:$B$67,2,0)","v":"Depot Super Terminais - (92) 3616-2650 / E-mails: coordenacao.depot@superterminais.com.br; reparos.container@superterminais.com.br"}]
["BRMAO","22GP","GESU3977023","Nao","SUPER TERMINAIS",{"$f":"VLOOKUP(E87,'Padrão mensagem'!$A$3:$B$67,2,0)","v":"Depot Super Terminais - (92) 3616-2650 / E-mails: coordenacao.depot@superterminais.com.br; reparos.container@superterminais.com.br"}]
["BRMAO","22GP","TCKU2360840","Nao","SUPER TERMINAIS",{"$f":"VLOOKUP(E88,'Padrão mensagem'!$A$3:$B$67,2,0)","v":"Depot Super Terminais - (92) 3616-2650 / E-mails: coordenacao.depot@superterminais.com.br; reparos.container@superterminais.com.br"}]
["BRMAO","22GP","UACU3777373","Nao","SUPER TERMINAIS",{"$f":"VLOOKUP(E89,'Padrão mensagem'!$A$3:$B$67,2,0)","v":"Depot Super Terminais - (92) 3616-2650 / E-mails: coordenacao.depot@superterminais.com.br; reparos.container@superterminais.com.br"}]
["BRMAO","22GP","UETU2798170","Nao","SUPER TERMINAIS",{"$f":"VLOOKUP(E90,'Padrão mensagem'!$A$3:$B$67,2,0)","v":"Depot Super Terminais - (92) 3616-2650 / E-mails: coordenacao.depot@superterminais.com.br; reparos.container@superterminais.com.br"}]
["BRMAO","22GP","HLBU2610162","Nao","SUPER TERMINAIS",{"$f":"VLOOKUP(E91,'Padrão mensagem'!$A$3:$B$67,2,0)","v":"Depot Super Terminais - (92) 3616-2650 / E-mails: coordenacao.depot@superterminais.com.br; reparos.container@superterminais.com.br"}]
["BRMAO","22GP","UACU3991913","Nao","SUPER TERMINAIS",{"$f":"VLOOKUP(E92,'Padrão mensagem'!$A$3:$B$67,2,0)","v":"Depot Super Terminais - (92) 3616-2650 / E-mails: coordenacao.depot@superterminais.com.br; reparos.container@superterminais.com.br"}]
["BRMAO","22GP","FANU1339546","Nao","SUPER TERMINAIS",{"$f":"VLOOKUP(E93,'Padrão mensagem'!$A$3:$B$67,2,0)","v":"Depot Super Terminais - (92) 3616-2650 / E-mails: coordenacao.depot@superterminais.com.br; reparos.container@superterminais.com.br"}]
["BRMAO","22GP","HLBU3449474","Nao","SUPER TERMINAIS",{"$f":"VLOOKUP(E94,'Padrão mensagem'!$A$3:$B$67,2,0)","v":"Depot Super Terminais - (92) 3616-2650 / E-mails: coordenacao.depot@superterminais.com.br; reparos.container@superterminais.com.br"}]
["BRMAO","45GP","FANU1539499","Nao","SUPER TERMINAIS",{"$f":"VLOOKUP(E95,'Padrão mensagem'!$A$3:$B$67,2,0)","v":"Depot Super Terminais - (92) 3616-2650 / E-mails: coordenacao.depot@superterminais.com.br; reparos.container@superterminais.com.br"}]
["BRMAO","45GP","HLBU2545339","Nao","SUPER TERMINAIS",{"$f":"VLOOKUP(E96,'Padrão mensagem'!$A$3:$B$67,2,0)","v":"Depot Super Terminais - (92) 3616-2650 / E-mails: coordenacao.depot@superterminais.com.br; reparos.container@superterminais.com.br"}]
["BRMAO","22GP","BMOU2824264","Nao","SUPER TERMINAIS",{"$f":"VLOOKUP(E97,'Padrão mensagem'!$A$3:$B$67,2,0)","v":"Depot Super Terminais - (92) 3616-2650 / E-mails: coordenacao.depot@superterminais.com.br; reparos.container@superterminais.com.br"}]
["BRMAO","22GP","TCKU3702357","Nao","SUPER TERMINAIS",{"$f":"VLOOKUP(E98,'Padrão mensagem'!$A$3:$B$67,2,0)","v":"Depot Super Terminais - (92) 3616-2650 / E-mails: coordenacao.depot@superterminais.com.br; reparos.container@superterminais.com.br"}]
["BRMAO","22GP","HLXU3541823","Nao","SUPER TERMINAIS",{"$f":"VLOOKUP(E99,'Padrão mensagem'!$A$3:$B$67,2,0)","v":"Depot Super Terminais - (92) 3616-2650 / E-mails: coordenacao.depot@superterminais.com.br; reparos.container@superterminais.com.br"}]
["BRMAO","22GP","TCLU2694892","Nao","SUPER TERMINAIS",{"$f":"VLOOKUP(E100,'Padrão mensagem'!$A$3:$B$67,2,0)","v":"Depot Super Terminais - (92) 3616-2650 / E-mails: coordenacao.depot@superterminais.com.br; reparos.container@superterminais.com.br"}]
["BRMAO","22GP","UACU4072747","Nao","SUPER TERMINAIS",{"$f":"VLOOKUP(E101,'Padrão mensagem'!$A$3:$B$67,2,0)","v":"Depot Super Terminais - (92) 3616-2650 / E-mails: coordenacao.depot@superterminais.com.br; reparos.container@superterminais.com.br"}]
["BRMAO","22GP","HLBU1346749","Nao","SUPER TERMINAIS",{"$f":"VLOOKUP(E102,'Padrão mensagem'!$A$3:$B$67,2,0)","v":"Depot Super Terminais - (92) 3616-2650 / E-mails: coordenacao.depot@superterminais.com.br; reparos.container@superterminais.com.br"}]
["BRMAO","22GP","BMOU2676070","Nao","SUPER TERMINAIS",{"$f":"VLOOKUP(E103,'Padrão mensagem'!$A$3:$B$67,2,0)","v":"Depot Super Terminais - (92) 3616-2650 / E-mails: coordenacao.depot@superterminais.com.br; reparos.container@superterminais.com.br"}]
["BRMAO","22GP","TCKU1667806","Nao","SUPER TERMINAIS",{"$f":"VLOOKUP(E104,'Padrão mensagem'!$A$3:$B$67,2,0)","v":"Depot Super Terminais - (92) 3616-2650 / E-mails: coordenacao.depot@superterminais.com.br; reparos.container@superterminais.com.br"}]
["BRMAO","22GP","TEMU2452200","Nao","SUPER TERMINAIS",{"$f":"VLOOKUP(E105,'Padrão mensagem'!$A$3:$B$67,2,0)","v":"Depot Super Terminais - (92) 3616-2650 / E-mails: coordenacao.depot@superterminais.com.br; reparos.container@superterminais.com.br"}]
["BRMAO","22GP","UACU4157079","Nao","SUPER TERMINAIS",{"$f":"VLOOKUP(E106,'Padrão mensagem'!$A$3:$B$67,2,0)","v":"Depot Super Terminais - (92) 3616-2650 / E-mails: coordenacao.depot@superterminais.com.br; reparos.container@superterminais.com.br"}]
["BRMAO","22GP","CAIU6011283","Nao","SUPER TERMINAIS",{"$f":"VLOOKUP(E107,'Padrão mensagem'!$A$3:$B$67,2,0)","v":"Depot Super Terminais - (92) 3616-2650 / E-mails: coordenacao.depot@superterminais.com.br; reparos.container@superterminais.com.br"}]
["BRMAO","22GP","CAIU2612481","Nao","SUPER TERMINAIS",{"$f":"VLOOKUP(E108,'Padrão mensagem'!$A$3:$B$67,2,0)","v":"Depot Super Terminais - (92) 3616-2650 / E-mails: coordenacao.depot@superterminais.com.br; reparos.container@superterminais.com.br"}]
["BRMAO","22GP","TCKU3431980","Nao","SUPER TERMINAIS",{"$f":"VLOOKUP(E109,'Padrão mensagem'!$A$3:$B$67,2,0)","v":"Depot Super Terminais - (92) 3616-2650 / E-mails: coordenacao.depot@superterminais.com.br; reparos.container@superterminais.com.br"}]
["BRMAO","22GP","TGBU2250637","Nao","SUPER TERMINAIS",{"$f":"VLOOKUP(E110,'Padrão mensagem'!$A$3:$B$67,2,0)","v":"Depot Super Terminais - (92) 3616-2650 / E-mails: coordenacao.depot@superterminais.com.br; reparos.container@superterminais.com.br"}]
["BRMAO","22GP","UACU3877900","Nao","SUPER TERMINAIS",{"$f":"VLOOKUP(E111,'Padrão mensagem'!$A$3:$B$67,2,0)","v":"Depot Super Terminais - (92) 3616-2650 / E-mails: coordenacao.depot@superterminais.com.br; reparos.container@superterminais.com.br"}]
["BRMAO","22GP","TCKU1959120","Nao","SUPER TERMINAIS",{"$f":"VLOOKUP(E112,'Padrão mensagem'!$A$3:$B$67,2,0)","v":"Depot Super Terminais - (92) 3616-2650 / E-mails: coordenacao.depot@superterminais.com.br; reparos.container@superterminais.com.br"}]
["BRMAO","22GP","FTAU1270438","Nao","SUPER TERMINAIS",{"$f":"VLOOKUP(E113,'Padrão mensagem'!$A$3:$B$67,2,0)","v":"Depot Super Terminais - (92) 3616-2650 / E-mails: coordenacao.depot@superterminais.com.br; reparos.container@superterminais.com.br"}]
["BRMAO","22GP","HLXU1129627","Nao","SUPER TERMINAIS",{"$f":"VLOOKUP(E114,'Padrão mensagem'!$A$3:$B$67,2,0)","v":"Depot Super Terminais - (92) 3616-2650 / E-mails: coordenacao.depot@superterminais.com.br; reparos.container@superterminais.com.br"}]
["BRMAO","22GP","HLXU1363213","Nao","SUPER TERMINAIS",{"$f":"VLOOKUP(E115,'Padrão mensagem'!$A$3:$B$67,2,0)","v":"Depot Super Terminais - (92) 3616-2650 / E-mails: coordenacao.depot@superterminais.com.br; reparos.container@superterminais.com.br"}]
["BRMAO","22GP","HLBU3064488","Nao","SUPER TERMINAIS",{"$f":"VLOOKUP(E116,'Padrão mensagem'!$A$3:$B$67,2,0)","v":"Depot Super Terminais - (92) 3616-2650 / E-mails: coordenacao.depot@superterminais.com.br; reparos.container@superterminais.com.br"}]
["BRMAO","22GP","HLXU1180779","Nao","SUPER TERMINAIS",{"$f":"VLOOKUP(E117,'Padrão mensagem'!$A$3:$B$67,2,0)","v":"Depot Super Terminais - (92) 3616-2650 / E-mails: coordenacao.depot@superterminais.com.br; reparos.container@superterminais.com.br"}]
["BRMAO","22GP","TCLU3777728","Nao","SUPER TERMINAIS",{"$f":"VLOOKUP(E118,'Padrão mensagem'!$A$3:$B$67,2,0)","v":"Depot Super Terminais - (92) 3616-2650 / E-mails: coordenacao.depot@superterminais.com.br; reparos.container@superterminais.com.br"}]
["BRMAO","22GP","BMOU1447171","Nao","SUPER TERMINAIS",{"$f":"VLOOKUP(E119,'Padrão mensagem'!$A$3:$B$67,2,0)","v":"Depot Super Terminais - (92) 3616-2650 / E-mails: coordenacao.depot@superterminais.com.br; reparos.container@superterminais.com.br"}]
["BRMAO","22GP","UETU2406726","Nao","SUPER TERMINAIS",{"$f":"VLOOKUP(E120,'Padrão mensagem'!$A$3:$B$67,2,0)","v":"Depot Super Terminais - (92) 3616-2650 / E-mails: coordenacao.depot@superterminais.com.br; reparos.container@superterminais.com.br"}]
["BRMAO","22GP","HLXU1241642","Nao","SUPER TERMINAIS",{"$f":"VLOOKUP(E121,'Padrão mensagem'!$A$3:$B$67,2,0)","v":"Depot Super Terminais - (92) 3616-2650 / E-mails: coordenacao.depot@superterminais.com.br; reparos.container@superterminais.com.br"}]
["BRMAO","22GP","HLBU3010753","Nao","SUPER TERMINAIS",{"$f":"VLOOKUP(E122,'Padrão mensagem'!$A$3:$B$67,2,0)","v":"Depot Super Terminais - (92) 3616-2650 / E-mails: coordenacao.depot@superterminais.com.br; reparos.container@superterminais.com.br"}]
["BRMAO","45GP","TEMU7560023","Nao","SUPER TERMINAIS",{"$f":"VLOOKUP(E123,'Padrão mensagem'!$A$3:$B$67,2,0)","v":"Depot Super Terminais - (92) 3616-2650 / E-mails: coordenacao.depot@superterminais.com.br; reparos.container@superterminais.com.br"}]
["BRMAO","45GP","TEMU8858711","Nao","SUPER TERMINAIS",{"$f":"VLOOKUP(E124,'Padrão mensagem'!$A$3:$B$67,2,0)","v":"Depot Super Terminais - (92) 3616-2650 / E-mails: coordenacao.depot@superterminais.com.br; reparos.container@superterminais.com.br"}]
["BRMAO","45GP","TLLU5358945","Nao","SUPER TERMINAIS",{"$f":"VLOOKUP(E125,'Padrão mensagem'!$A$3:$B$67,2,0)","v":"Depot Super Terminais - (92) 3616-2650 / E-mails: coordenacao.depot@superterminais.com.br; reparos.container@superterminais.com.br"}]
["BRMAO","22GP","SEGU1101078","Nao","SUPER TERMINAIS",{"$f":"VLOOKUP(E126,'Padrão mensagem'!$A$3:$B$67,2,0)","v":"Depot Super Terminais - (92) 3616-2650 / E-mails: coordenacao.depot@superterminais.com.br; reparos.container@superterminais.com.br"}]
["BRMAO","45GP","FCIU7613149","Nao","SUPER TERMINAIS",{"$f":"VLOOKUP(E127,'Padrão mensagem'!$A$3:$B$67,2,0)","v":"Depot Super Terminais - (92) 3616-2650 / E-mails: coordenacao.depot@superterminais.com.br; reparos.container@superterminais.com.br"}]
["BRSUA","22GP","HLBU3589373","Nao","Tecon Suape",{"$f":"VLOOKUP(E128,'Padrão mensagem'!$A$3:$B$67,2,0)","v":"Tecon Suape - Acessar o site\nhttps://www.teconsuape.com/portalservicos/#!/login\ne informar o número de booking DDHLLMTY202401"}]
["BRSUA","22GP","TEMU1384647","Nao","Tecon Suape",{"$f":"VLOOKUP(E129,'Padrão mensagem'!$A$3:$B$67,2,0)","v":"Tecon Suape - Acessar o site\nhttps://www.teconsuape.com/portalservicos/#!/login\ne informar o número de booking DDHLLMTY202401"}]
["BRSUA","22GP","HLBU2939040","Nao","Tecon Suape",{"$f":"VLOOKUP(E130,'Padrão mensagem'!$A$3:$B$67,2,0)","v":"Tecon Suape - Acessar o site\nhttps://www.teconsuape.com/portalservicos/#!/login\ne informar o número de booking DDHLLMTY202401"}]
["BRSUA","45GP","HLBU1281674","Nao","Ziranlog SUA ",{"$f":"VLOOKUP(E131,'Padrão mensagem'!$A$3:$B$67,2,0)","v":"Ziranlog SUA       -        (21) 973373045  |  E-mail: Controle@zirannordeste.com.br; gate@zirannordeste.com.br"}]
["BRMAO","45GP","FANU3548587","Nao","SUPER TERMINAIS",{"$f":"VLOOKUP(E132,'Padrão mensagem'!$A$3:$B$67,2,0)","v":"Depot Super Terminais - (92) 3616-2650 / E-mails: coordenacao.depot@superterminais.com.br; reparos.container@superterminais.com.br"}]
["BRMAO","45GP","HLBU2853537","Nao","SUPER TERMINAIS",{"$f":"VLOOKUP(E133,'Padrão mensagem'!$A$3:$B$67,2,0)","v":"Depot Super Terminais - (92) 3616-2650 / E-mails: coordenacao.depot@superterminais.com.br; reparos.container@superterminais.com.br"}]
["BRMAO","45GP","FANU1544520","Nao","SUPER TERMINAIS",{"$f":"VLOOKUP(E134,'Padrão mensagem'!$A$3:$B$67,2,0)","v":"Depot Super Terminais - (92) 3616-2650 / E-mails: coordenacao.depot@superterminais.com.br; reparos.container@superterminais.com.br"}]
["BRMAO","45GP","HAMU1788988","Nao","SUPER TERMINAIS",{"$f":"VLOOKUP(E135,'Padrão mensagem'!$A$3:$B$67,2,0)","v":"Depot Super Terminais - (92) 3616-2650 / E-mails: coordenacao.depot@superterminais.com.br; reparos.container@superterminais.com.br"}]
["BRMAO","45GP","FANU1534938","Nao","SUPER TERMINAIS",{"$f":"VLOOKUP(E136,'Padrão mensagem'!$A$3:$B$67,2,0)","v":"Depot Super Terminais - (92) 3616-2650 / E-mails: coordenacao.depot@superterminais.com.br; reparos.container@superterminais.com.br"}]
["BRMAO","45GP","FANU1403666","Nao","SUPER TERMINAIS",{"$f":"VLOOKUP(E137,'Padrão mensagem'!$A$3:$B$67,2,0)","v":"Depot Super Terminais - (92) 3616-2650 / E-mails: coordenacao.depot@superterminais.com.br; reparos.container@superterminais.com.br"}]
["BRMAO","45GP","FSCU8081435","Nao","SUPER TERMINAIS",{"$f":"VLOOKUP(E138,'Padrão mensagem'!$A$3:$B$67,2,0)","v":"Depot Super Terminais - (92) 3616-2650 / E-mails: coordenacao.depot@superterminais.com.br; reparos.container@superterminais.com.br"}]
["BRMAO","22GP","GCXU2330621","Nao","SUPER TERMINAIS",{"$f":"VLOOKUP(E139,'Padrão mensagem'!$A$3:$B$67,2,0)","v":"Depot Super Terminais - (92) 3616-2650 / E-mails: coordenacao.depot@superterminais.com.br; reparos.container@superterminais.com.br"}]
["BRMAO","22GP","HAMU1046530","Nao","SUPER TERMINAIS",{"$f":"VLOOKUP(E140,'Padrão mensagem'!$A$3:$B$67,2,0)","v":"Depot Super Terminais - (92) 3616-2650 / E-mails: coordenacao.depot@superterminais.com.br; reparos.container@superterminais.com.br"}]
["BRMAO","22GP","GCXU2330880","Nao","SUPER TERMINAIS",{"$f":"VLOOKUP(E141,'Padrão mensagem'!$A$3:$B$67,2,0)","v":"Depot Super Terminais - (92) 3616-2650 / E-mails: coordenacao.depot@superterminais.com.br; reparos.container@superterminais.com.br"}]
["BRMAO","22GP","GESU3851884","Nao","SUPER TERMINAIS",{"$f":"VLOOKUP(E142,'Padrão mensagem'!$A$3:$B$67,2,0)","v":"Depot Super Terminais - (92) 3616-2650 / E-mails: coordenacao.depot@superterminais.com.br; reparos.container@superterminais.com.br"}]
["BRMAO","22GP","FTAU1548128","Nao","SUPER TERMINAIS",{"$f":"VLOOKUP(E143,'Padrão mensagem'!$A$3:$B$67,2,0)","v":"Depot Super Terminais - (92) 3616-2650 / E-mails: coordenacao.depot@superterminais.com.br; reparos.container@superterminais.com.br"}]
["BRMAO","22GP","HLBU3051156","Nao","SUPER TERMINAIS",{"$f":"VLOOKUP(E144,'Padrão mensagem'!$A$3:$B$67,2,0)","v":"Depot Super Terminais - (92) 3616-2650 / E-mails: coordenacao.depot@superterminais.com.br; reparos.container@superterminais.com.br"}]
["BRMAO","22GP","BMOU1386693","Nao","SUPER TERMINAIS",{"$f":"VLOOKUP(E145,'Padrão mensagem'!$A$3:$B$67,2,0)","v":"Depot Super Terminais - (92) 3616-2650 / E-mails: coordenacao.depot@superterminais.com.br; reparos.container@superterminais.com.br"}]
["BRMAO","22GP","CAIU2583022","Nao","SUPER TERMINAIS",{"$f":"VLOOKUP(E146,'Padrão mensagem'!$A$3:$B$67,2,0)","v":"Depot Super Terminais - (92) 3616-2650 / E-mails: coordenacao.depot@superterminais.com.br; reparos.container@superterminais.com.br"}]
["BRMAO","22GP","FCIU6497595","Nao","SUPER TERMINAIS",{"$f":"VLOOKUP(E147,'Padrão mensagem'!$A$3:$B$67,2,0)","v":"Depot Super Terminais - (92) 3616-2650 / E-mails: coordenacao.depot@superterminais.com.br; reparos.container@superterminais.com.br"}]
["BRMAO","22GP","HLXU1105224","Nao","SUPER TERMINAIS",{"$f":"VLOOKUP(E148,'Padrão mensagem'!$A$3:$B$67,2,0)","v":"Depot Super Terminais - (92) 3616-2650 / E-mails: coordenacao.depot@superterminais.com.br; reparos.container@superterminais.com.br"}]
["BRMAO","22GP","CAIU6787955","Offhire","SUPER TERMINAIS",{"$f":"VLOOKUP(E149,'Padrão mensagem'!$A$3:$B$67,2,0)","v":"Depot Super Terminais - (92) 3616-2650 / E-mails: coordenacao.depot@superterminais.com.br; reparos.container@superterminais.com.br"}]
["BRMAO","22GP","HLXU1350849","Nao","SUPER TERMINAIS",{"$f":"VLOOKUP(E150,'Padrão mensagem'!$A$3:$B$67,2,0)","v":"Depot Super Terminais - (92) 3616-2650 / E-mails: coordenacao.depot@superterminais.com.br; reparos.container@superterminais.com.br"}]
["BRMAO","45GP","UACU5618452","Nao","SUPER TERMINAIS",{"$f":"VLOOKUP(E151,'Padrão mensagem'!$A$3:$B$67,2,0)","v":"Depot Super Terminais - (92) 3616-2650 / E-mails: coordenacao.depot@superterminais.com.br; reparos.container@superterminais.com.br"}]
["BRMAO","45GP","HLBU2034010","Nao","SUPER TERMINAIS",{"$f":"VLOOKUP(E152,'Padrão mensagem'!$A$3:$B$67,2,0)","v":"Depot Super Terminais - (92) 3616-2650 / E-mails: coordenacao.depot@superterminais.com.br; reparos.container@superterminais.com.br"}]
["BRMAO","45GP","BEAU5994995","Nao","SUPER TERMINAIS",{"$f":"VLOOKUP(E153,'Padrão mensagem'!$A$3:$B$67,2,0)","v":"Depot Super Terminais - (92) 3616-2650 / E-mails: coordenacao.depot@superterminais.com.br; reparos.container@superterminais.com.br"}]
["BRMAO","45GP","HAMU1528471","Nao","SUPER TERMINAIS",{"$f":"VLOOKUP(E154,'Padrão mensagem'!$A$3:$B$67,2,0)","v":"Depot Super Terminais - (92) 3616-2650 / E-mails: coordenacao.depot@superterminais.com.br; reparos.container@superterminais.com.br"}]
["BRMAO","45GP","HLBU2038340","Nao","SUPER TERMINAIS",{"$f":"VLOOKUP(E155,'Padrão mensagem'!$A$3:$B$67,2,0)","v":"Depot Super Terminais - (92) 3616-2650 / E-mails: coordenacao.depot@superterminais.com.br; reparos.container@superterminais.com.br"}]
["BRMAO","45GP","HAMU1881920","Nao","SUPER TERMINAIS",{"$f":"VLOOKUP(E156,'Padrão mensagem'!$A$3:$B$67,2,0)","v":"Depot Super Terminais - (92) 3616-2650 / E-mails: coordenacao.depot@superterminais.com.br; reparos.container@superterminais.com.br"}]
["BRMAO","45GP","HAMU1214320","Nao","SUPER TERMINAIS",{"$f":"VLOOKUP(E157,'Padrão mensagem'!$A$3:$B$67,2,0)","v":"Depot Super Terminais - (92) 3616-2650 / E-mails: coordenacao.depot@superterminais.com.br; reparos.container@superterminais.com.br"}]
["BRMAO","45GP","TCLU8781016","Nao","SUPER TERMINAIS",{"$f":"VLOOKUP(E158,'Padrão mensagem'!$A$3:$B$67,2,0)","v":"Depot Super Terminais - (92) 3616-2650 / E-mails: coordenacao.depot@superterminais.com.br; reparos.container@superterminais.com.br"}]
["BRMAO","45GP","TGBU9643718","Nao","SUPER TERMINAIS",{"$f":"VLOOKUP(E159,'Padrão mensagem'!$A$3:$B$67,2,0)","v":"Depot Super Terminais - (92) 3616-2650 / E-mails: coordenacao.depot@superterminais.com.br; reparos.container@superterminais.com.br"}]
["BRMAO","45GP","HLXU8385209","Nao","SUPER TERMINAIS",{"$f":"VLOOKUP(E160,'Padrão mensagem'!$A$3:$B$67,2,0)","v":"Depot Super Terminais - (92) 3616-2650 / E-mails: coordenacao.depot@superterminais.com.br; reparos.container@superterminais.com.br"}]
["BRMAO","45GP","HAMU1718975","Nao","SUPER TERMINAIS",{"$f":"VLOOKUP(E161,'Padrão mensagem'!$A$3:$B$67,2,0)","v":"Depot Super Terminais - (92) 3616-2650 / E-mails: coordenacao.depot@superterminais.com.br; reparos.container@superterminais.com.br"}]
["BRMAO","45GP","HLBU1161750","Nao","SUPER TERMINAIS",{"$f":"VLOOKUP(E162,'Padrão mensagem'!$A$3:$B$67,2,0)","v":"Depot Super Terminais - (92) 3616-2650 / E-mails: coordenacao.depot@superterminais.com.br; reparos.container@superterminais.com.br"}]
["BRMAO","22GP","HLBU3518575","Nao","SUPER TERMINAIS",{"$f":"VLOOKUP(E163,'Padrão mensagem'!$A$3:$B$67,2,0)","v":"Depot Super Terminais - (92) 3616-2650 / E-mails: coordenacao.depot@superterminais.com.br; reparos.container@superterminais.com.br"}]
["BRMAO","22GP","TEMU1468434","Nao","SUPER TERMINAIS",{"$f":"VLOOKUP(E164,'Padrão mensagem'!$A$3:$B$67,2,0)","v":"Depot Super Terminais - (92) 3616-2650 / E-mails: coordenacao.depot@superterminais.com.br; reparos.container@superterminais.com.br"}]
["BRMAO","22GP","CAIU6709232","Nao","SUPER TERMINAIS",{"$f":"VLOOKUP(E165,'Padrão mensagem'!$A$3:$B$67,2,0)","v":"Depot Super Terminais - (92) 3616-2650 / E-mails: coordenacao.depot@superterminais.com.br; reparos.container@superterminais.com.br"}]
["BRMAO","22GP","GCXU2331696","Nao","SUPER TERMINAIS",{"$f":"VLOOKUP(E166,'Padrão mensagem'!$A$3:$B$67,2,0)","v":"Depot Super Terminais - (92) 3616-2650 / E-mails: coordenacao.depot@superterminais.com.br; reparos.container@superterminais.com.br"}]
["BRMAO","22GP","HLXU1291026","Nao","SUPER TERMINAIS",{"$f":"VLOOKUP(E167,'Padrão mensagem'!$A$3:$B$67,2,0)","v":"Depot Super Terminais - (92) 3616-2650 / E-mails: coordenacao.depot@superterminais.com.br; reparos.container@superterminais.com.br"}]
["BRMAO","22GP","UACU3945944","Nao","SUPER TERMINAIS",{"$f":"VLOOKUP(E168,'Padrão mensagem'!$A$3:$B$67,2,0)","v":"Depot Super Terminais - (92) 3616-2650 / E-mails: coordenacao.depot@superterminais.com.br; reparos.container@superterminais.com.br"}]
["BRMAO","22GP","SEKU1471061","Nao","SUPER TERMINAIS",{"$f":"VLOOKUP(E169,'Padrão mensagem'!$A$3:$B$67,2,0)","v":"Depot Super Terminais - (92) 3616-2650 / E-mails: coordenacao.depot@superterminais.com.br; reparos.container@superterminais.com.br"}]
["BRMAO","22GP","UACU3957550","Nao","SUPER TERMINAIS",{"$f":"VLOOKUP(E170,'Padrão mensagem'!$A$3:$B$67,2,0)","v":"Depot Super Terminais - (92) 3616-2650 / E-mails: coordenacao.depot@superterminais.com.br; reparos.container@superterminais.com.br"}]
["BRMAO","22GP","BMOU1443793","Nao","SUPER TERMINAIS",{"$f":"VLOOKUP(E171,'Padrão mensagem'!$A$3:$B$67,2,0)","v":"Depot Super Terminais - (92) 3616-2650 / E-mails: coordenacao.depot@superterminais.com.br; reparos.container@superterminais.com.br"}]
["BRMAO","22GP","BSIU3299675","Nao","SUPER TERMINAIS",{"$f":"VLOOKUP(E172,'Padrão mensagem'!$A$3:$B$67,2,0)","v":"Depot Super Terminais - (92) 3616-2650 / E-mails: coordenacao.depot@superterminais.com.br; reparos.container@superterminais.com.br"}]
["BRMAO","22GP","TEMU4469630","Nao","SUPER TERMINAIS",{"$f":"VLOOKUP(E173,'Padrão mensagem'!$A$3:$B$67,2,0)","v":"Depot Super Terminais - (92) 3616-2650 / E-mails: coordenacao.depot@superterminais.com.br; reparos.container@superterminais.com.br"}]
["BRMAO","22GP","UETU2802162","Nao","SUPER TERMINAIS",{"$f":"VLOOKUP(E174,'Padrão mensagem'!$A$3:$B$67,2,0)","v":"Depot Super Terminais - (92) 3616-2650 / E-mails: coordenacao.depot@superterminais.com.br; reparos.container@superterminais.com.br"}]
["BRMAO","45GP","HLBU3094076","Nao","SUPER TERMINAIS",{"$f":"VLOOKUP(E175,'Padrão mensagem'!$A$3:$B$67,2,0)","v":"Depot Super Terminais - (92) 3616-2650 / E-mails: coordenacao.depot@superterminais.com.br; reparos.container@superterminais.com.br"}]
["BRMAO","45GP","FANU3734869","Nao","SUPER TERMINAIS",{"$f":"VLOOKUP(E176,'Padrão mensagem'!$A$3:$B$67,2,0)","v":"Depot Super Terminais - (92) 3616-2650 / E-mails: coordenacao.depot@superterminais.com.br; reparos.container@superterminais.com.br"}]
["BRMAO","45GP","FANU1770595","Nao","SUPER TERMINAIS",{"$f":"VLOOKUP(E177,'Padrão mensagem'!$A$3:$B$67,2,0)","v":"Depot Super Terminais - (92) 3616-2650 / E-mails: coordenacao.depot@superterminais.com.br; reparos.container@superterminais.com.br"}]
["BRSUA","22GP","HAMU1106331","Nao","Tecon Suape",{"$f":"VLOOKUP(E178,'Padrão mensagem'!$A$3:$B$67,2,0)","v":"Tecon Suape - Acessar o site\nhttps://www.teconsuape.com/portalservicos/#!/login\ne informar o número de booking DDHLLMTY202401"}]
["BRSUA","22GP","FANU1371614","Nao","Tecon Suape",{"$f":"VLOOKUP(E179,'Padrão mensagem'!$A$3:$B$67,2,0)","v":"Tecon Suape - Acessar o site\nhttps://www.teconsuape.com/portalservicos/#!/login\ne informar o número de booking DDHLLMTY202401"}]
["BRSUA","22GP","FTAU1267922","Nao","Tecon Suape",{"$f":"VLOOKUP(E180,'Padrão mensagem'!$A$3:$B$67,2,0)","v":"Tecon Suape - Acessar o site\nhttps://www.teconsuape.com/portalservicos/#!/login\ne informar o número de booking DDHLLMTY202401"}]
["BRSUA","22GP","CAAU2334496","Nao","Tecon Suape",{"$f":"VLOOKUP(E181,'Padrão mensagem'!$A$3:$B$67,2,0)","v":"Tecon Suape - Acessar o site\nhttps://www.teconsuape.com/portalservicos/#!/login\ne informar o número de booking DDHLLMTY202401"}]
["BRSUA","22GP","FANU1352893","Nao","Tecon Suape",{"$f":"VLOOKUP(E182,'Padrão mensagem'!$A$3:$B$67,2,0)","v":"Tecon Suape - Acessar o site\nhttps://www.teconsuape.com/portalservicos/#!/login\ne informar o número de booking DDHLLMTY202401"}]
["BRSUA","22GP","GCXU2465870","Nao","Tecon Suape",{"$f":"VLOOKUP(E183,'Padrão mensagem'!$A$3:$B$67,2,0)","v":"Tecon Suape - Acessar o site\nhttps://www.teconsuape.com/portalservicos/#!/login\ne informar o número de booking DDHLLMTY202401"}]
["BRMAO","45GP","UETU5235566","Nao","SUPER TERMINAIS",{"$f":"VLOOKUP(E184,'Padrão mensagem'!$A$3:$B$67,2,0)","v":"Depot Super Terminais - (92) 3616-2650 / E-mails: coordenacao.depot@superterminais.com.br; reparos.container@superterminais.com.br"}]
["BRMAO","45GP","HAMU1609465","Nao","SUPER TERMINAIS",{"$f":"VLOOKUP(E185,'Padrão mensagem'!$A$3:$B$67,2,0)","v":"Depot Super Terminais - (92) 3616-2650 / E-mails: coordenacao.depot@superterminais.com.br; reparos.container@superterminais.com.br"}]
["BRMAO","45GP","FDCU0130494","Nao","SUPER TERMINAIS",{"$f":"VLOOKUP(E186,'Padrão mensagem'!$A$3:$B$67,2,0)","v":"Depot Super Terminais - (92) 3616-2650 / E-mails: coordenacao.depot@superterminais.com.br; reparos.container@superterminais.com.br"}]
["BRMAO","45GP","HLBU3341140","Nao","SUPER TERMINAIS",{"$f":"VLOOKUP(E187,'Padrão mensagem'!$A$3:$B$67,2,0)","v":"Depot Super Terminais - (92) 3616-2650 / E-mails: coordenacao.depot@superterminais.com.br; reparos.container@superterminais.com.br"}]
["BRMAO","45GP","FANU3496740","Nao","SUPER TERMINAIS",{"$f":"VLOOKUP(E188,'Padrão mensagem'!$A$3:$B$67,2,0)","v":"Depot Super Terminais - (92) 3616-2650 / E-mails: coordenacao.depot@superterminais.com.br; reparos.container@superterminais.com.br"}]
["BRMAO","45GP","HLXU8122157","Nao","SUPER TERMINAIS",{"$f":"VLOOKUP(E189,'Padrão mensagem'!$A$3:$B$67,2,0)","v":"Depot Super Terminais - (92) 3616-2650 / E-mails: coordenacao.depot@superterminais.com.br; reparos.container@superterminais.com.br"}]
["BRMAO","45GP","TXGU6521597","Nao","SUPER TERMINAIS",{"$f":"VLOOKUP(E190,'Padrão mensagem'!$A$3:$B$67,2,0)","v":"Depot Super Terminais - (92) 3616-2650 / E-mails: coordenacao.depot@superterminais.com.br; reparos.container@superterminais.com.br"}]
["BRMAO","45GP","CAIU8501422","Nao","SUPER TERMINAIS",{"$f":"VLOOKUP(E191,'Padrão mensagem'!$A$3:$B$67,2,0)","v":"Depot Super Terminais - (92) 3616-2650 / E-mails: coordenacao.depot@superterminais.com.br; reparos.container@superterminais.com.br"}]
["BRMAO","45GP","TEMU8677760","Nao","SUPER TERMINAIS",{"$f":"VLOOKUP(E192,'Padrão mensagem'!$A$3:$B$67,2,0)","v":"Depot Super Terminais - (92) 3616-2650 / E-mails: coordenacao.depot@superterminais.com.br; reparos.container@superterminais.com.br"}]
["BRMAO","45GP","TCLU6528170","Nao","SUPER TERMINAIS",{"$f":"VLOOKUP(E193,'Padrão mensagem'!$A$3:$B$67,2,0)","v":"Depot Super Terminais - (92) 3616-2650 / E-mails: coordenacao.depot@superterminais.com.br; reparos.container@superterminais.com.br"}]
["BRMAO","45GP","HLBU1656913","Nao","SUPER TERMINAIS",{"$f":"VLOOKUP(E194,'Padrão mensagem'!$A$3:$B$67,2,0)","v":"Depot Super Terminais - (92) 3616-2650 / E-mails: coordenacao.depot@superterminais.com.br; reparos.container@superterminais.com.br"}]
["BRMAO","45GP","FANU1524020","Nao","SUPER TERMINAIS",{"$f":"VLOOKUP(E195,'Padrão mensagem'!$A$3:$B$67,2,0)","v":"Depot Super Terminais - (92) 3616-2650 / E-mails: coordenacao.depot@superterminais.com.br; reparos.container@superterminais.com.br"}]
["BRMAO","45GP","FANU3806892","Nao","SUPER TERMINAIS",{"$f":"VLOOKUP(E196,'Padrão mensagem'!$A$3:$B$67,2,0)","v":"Depot Super Terminais - (92) 3616-2650 / E-mails: coordenacao.depot@superterminais.com.br; reparos.container@superterminais.com.br"}]
["BRMAO","22GP","RFSU3037968","Nao","SUPER TERMINAIS",{"$f":"VLOOKUP(E197,'Padrão mensagem'!$A$3:$B$67,2,0)","v":"Depot Super Terminais - (92) 3616-2650 / E-mails: coordenacao.depot@superterminais.com.br; reparos.container@superterminais.com.br"}]
["BRMAO","45GP","TCNU8794793","Nao","SUPER TERMINAIS",{"$f":"VLOOKUP(E198,'Padrão mensagem'!$A$3:$B$67,2,0)","v":"Depot Super Terminais - (92) 3616-2650 / E-mails: coordenacao.depot@superterminais.com.br; reparos.container@superterminais.com.br"}]
["BRMAO","22GP","GLDU5720621","Nao","SUPER TERMINAIS",{"$f":"VLOOKUP(E199,'Padrão mensagem'!$A$3:$B$67,2,0)","v":"Depot Super Terminais - (92) 3616-2650 / E-mails: coordenacao.depot@superterminais.com.br; reparos.container@superterminais.com.br"}]
["BRMAO","22GP","TCKU3684715","Nao","SUPER TERMINAIS",{"$f":"VLOOKUP(E200,'Padrão mensagem'!$A$3:$B$67,2,0)","v":"Depot Super Terminais - (92) 3616-2650 / E-mails: coordenacao.depot@superterminais.com.br; reparos.container@superterminais.com.br"}]
["BRCUC","45GP","TCLU8070698","Nao","TERMACO TERMINAIS",{"$f":"VLOOKUP(E201,'Padrão mensagem'!$A$3:$B$67,2,0)","v":"Depot Termaco Terminais - (85) 99213 7266 | E-mail:gate.cac@termaco.com.br"}]
["BRSUA","45GP","SEGU6577154","Nao","Ziranlog SUA ",{"$f":"VLOOKUP(E202,'Padrão mensagem'!$A$3:$B$67,2,0)","v":"Ziranlog SUA       -        (21) 973373045  |  E-mail: Controle@zirannordeste.com.br; gate@zirannordeste.com.br"}]
["BRMAO","22GP","UACU3885362","Nao","SUPER TERMINAIS",{"$f":"VLOOKUP(E203,'Padrão mensagem'!$A$3:$B$67,2,0)","v":"Depot Super Terminais - (92) 3616-2650 / E-mails: coordenacao.depot@superterminais.com.br; reparos.container@superterminais.com.br"}]
["BRMAO","22GP","SEGU2770550","Nao","SUPER TERMINAIS",{"$f":"VLOOKUP(E204,'Padrão mensagem'!$A$3:$B$67,2,0)","v":"Depot Super Terminais - (92) 3616-2650 / E-mails: coordenacao.depot@superterminais.com.br; reparos.container@superterminais.com.br"}]
["BRMAO","45GP","FANU3480487","Nao","SUPER TERMINAIS",{"$f":"VLOOKUP(E205,'Padrão mensagem'!$A$3:$B$67,2,0)","v":"Depot Super Terminais - (92) 3616-2650 / E-mails: coordenacao.depot@superterminais.com.br; reparos.container@superterminais.com.br"}]
["BRMAO","45GP","HLBU2470667","Nao","SUPER TERMINAIS",{"$f":"VLOOKUP(E206,'Padrão mensagem'!$A$3:$B$67,2,0)","v":"Depot Super Terminais - (92) 3616-2650 / E-mails: coordenacao.depot@superterminais.com.br; reparos.container@superterminais.com.br"}]
["BRMAO","45GP","TEMU7761645","Nao","SUPER TERMINAIS",{"$f":"VLOOKUP(E207,'Padrão mensagem'!$A$3:$B$67,2,0)","v":"Depot Super Terminais - (92) 3616-2650 / E-mails: coordenacao.depot@superterminais.com.br; reparos.container@superterminais.com.br"}]
["BRMAO","45GP","TCKU6596095","Nao","SUPER TERMINAIS",{"$f":"VLOOKUP(E208,'Padrão mensagem'!$A$3:$B$67,2,0)","v":"Depot Super Terminais - (92) 3616-2650 / E-mails: coordenacao.depot@superterminais.com.br; reparos.container@superterminais.com.br"}]
["BRMAO","45GP","HLXU8605176","Nao","SUPER TERMINAIS",{"$f":"VLOOKUP(E209,'Padrão mensagem'!$A$3:$B$67,2,0)","v":"Depot Super Terminais - (92) 3616-2650 / E-mails: coordenacao.depot@superterminais.com.br; reparos.container@superterminais.com.br"}]
["BRMAO","45GP","HLBU3078394","Nao","SUPER TERMINAIS",{"$f":"VLOOKUP(E210,'Padrão mensagem'!$A$3:$B$67,2,0)","v":"Depot Super Terminais - (92) 3616-2650 / E-mails: coordenacao.depot@superterminais.com.br; reparos.container@superterminais.com.br"}]
["BRMAO","45GP","CICU2134031","Nao","SUPER TERMINAIS",{"$f":"VLOOKUP(E211,'Padrão mensagem'!$A$3:$B$67,2,0)","v":"Depot Super Terminais - (92) 3616-2650 / E-mails: coordenacao.depot@superterminais.com.br; reparos.container@superterminais.com.br"}]
["BRMAO","45GP","FANU3451278","Nao","SUPER TERMINAIS",{"$f":"VLOOKUP(E212,'Padrão mensagem'!$A$3:$B$67,2,0)","v":"Depot Super Terminais - (92) 3616-2650 / E-mails: coordenacao.depot@superterminais.com.br; reparos.container@superterminais.com.br"}]
["BRMAO","45GP","HLBU2913580","Nao","SUPER TERMINAIS",{"$f":"VLOOKUP(E213,'Padrão mensagem'!$A$3:$B$67,2,0)","v":"Depot Super Terminais - (92) 3616-2650 / E-mails: coordenacao.depot@superterminais.com.br; reparos.container@superterminais.com.br"}]
["BRMAO","45GP","FANU1678088","Nao","SUPER TERMINAIS",{"$f":"VLOOKUP(E214,'Padrão mensagem'!$A$3:$B$67,2,0)","v":"Depot Super Terminais - (92) 3616-2650 / E-mails: coordenacao.depot@superterminais.com.br; reparos.container@superterminais.com.br"}]
["BRMAO","45GP","GCXU5962165","Nao","SUPER TERMINAIS",{"$f":"VLOOKUP(E215,'Padrão mensagem'!$A$3:$B$67,2,0)","v":"Depot Super Terminais - (92) 3616-2650 / E-mails: coordenacao.depot@superterminais.com.br; reparos.container@superterminais.com.br"}]
["BRMAO","45GP","HLBU1820760","Nao","SUPER TERMINAIS",{"$f":"VLOOKUP(E216,'Padrão mensagem'!$A$3:$B$67,2,0)","v":"Depot Super Terminais - (92) 3616-2650 / E-mails: coordenacao.depot@superterminais.com.br; reparos.container@superterminais.com.br"}]
["BRMAO","45GP","HLBU1995630","Nao","SUPER TERMINAIS",{"$f":"VLOOKUP(E217,'Padrão mensagem'!$A$3:$B$67,2,0)","v":"Depot Super Terminais - (92) 3616-2650 / E-mails: coordenacao.depot@superterminais.com.br; reparos.container@superterminais.com.br"}]
["BRMAO","45GP","HLBU2543491","Nao","SUPER TERMINAIS",{"$f":"VLOOKUP(E218,'Padrão mensagem'!$A$3:$B$67,2,0)","v":"Depot Super Terminais - (92) 3616-2650 / E-mails: coordenacao.depot@superterminais.com.br; reparos.container@superterminais.com.br"}]
["BRMAO","45GP","BEAU5083772","Nao","SUPER TERMINAIS",{"$f":"VLOOKUP(E219,'Padrão mensagem'!$A$3:$B$67,2,0)","v":"Depot Super Terminais - (92) 3616-2650 / E-mails: coordenacao.depot@superterminais.com.br; reparos.container@superterminais.com.br"}]
["BRMAO","45GP","FANU3328432","Nao","SUPER TERMINAIS",{"$f":"VLOOKUP(E220,'Padrão mensagem'!$A$3:$B$67,2,0)","v":"Depot Super Terminais - (92) 3616-2650 / E-mails: coordenacao.depot@superterminais.com.br; reparos.container@superterminais.com.br"}]
["BRMAO","45GP","HLXU8362651","Nao","SUPER TERMINAIS",{"$f":"VLOOKUP(E221,'Padrão mensagem'!$A$3:$B$67,2,0)","v":"Depot Super Terminais - (92) 3616-2650 / E-mails: coordenacao.depot@superterminais.com.br; reparos.container@superterminais.com.br"}]
["BRMAO","45GP","TGBU5903632","Nao","SUPER TERMINAIS",{"$f":"VLOOKUP(E222,'Padrão mensagem'!$A$3:$B$67,2,0)","v":"Depot Super Terminais - (92) 3616-2650 / E-mails: coordenacao.depot@superterminais.com.br; reparos.container@superterminais.com.br"}]
["BRMAO","45GP","FANU1455823","Nao","SUPER TERMINAIS",{"$f":"VLOOKUP(E223,'Padrão mensagem'!$A$3:$B$67,2,0)","v":"Depot Super Terminais - (92) 3616-2650 / E-mails: coordenacao.depot@superterminais.com.br; reparos.container@superterminais.com.br"}]
["BRMAO","45GP","BSIU9592660","Nao","SUPER TERMINAIS",{"$f":"VLOOKUP(E224,'Padrão mensagem'!$A$3:$B$67,2,0)","v":"Depot Super Terminais - (92) 3616-2650 / E-mails: coordenacao.depot@superterminais.com.br; reparos.container@superterminais.com.br"}]
["BRSUA","45GP","FANU1048849","Nao","Ziranlog SUA ",{"$f":"VLOOKUP(E225,'Padrão mensagem'!$A$3:$B$67,2,0)","v":"Ziranlog SUA       -        (21) 973373045  |  E-mail: Controle@zirannordeste.com.br; gate@zirannordeste.com.br"}]
["BRCUC","45GP","HLXU8448950","Nao","TERMACO TERMINAIS",{"$f":"VLOOKUP(E226,'Padrão mensagem'!$A$3:$B$67,2,0)","v":"Depot Termaco Terminais - (85) 99213 7266 | E-mail:gate.cac@termaco.com.br"}]
["BRMAO","22GP","HLBU1001747","Nao","SUPER TERMINAIS",{"$f":"VLOOKUP(E227,'Padrão mensagem'!$A$3:$B$67,2,0)","v":"Depot Super Terminais - (92) 3616-2650 / E-mails: coordenacao.depot@superterminais.com.br; reparos.container@superterminais.com.br"}]
["BRMAO","22GP","BSIU2220824","Nao","SUPER TERMINAIS",{"$f":"VLOOKUP(E228,'Padrão mensagem'!$A$3:$B$67,2,0)","v":"Depot Super Terminais - (92) 3616-2650 / E-mails: coordenacao.depot@superterminais.com.br; reparos.container@superterminais.com.br"}]
["BRMAO","22GP","CAAU2400601","Nao","SUPER TERMINAIS",{"$f":"VLOOKUP(E229,'Padrão mensagem'!$A$3:$B$67,2,0)","v":"Depot Super Terminais - (92) 3616-2650 / E-mails: coordenacao.depot@superterminais.com.br; reparos.container@superterminais.com.br"}]
["BRMAO","22GP","HLBU3465639","Nao","SUPER TERMINAIS",{"$f":"VLOOKUP(E230,'Padrão mensagem'!$A$3:$B$67,2,0)","v":"Depot Super Terminais - (92) 3616-2650 / E-mails: coordenacao.depot@superterminais.com.br; reparos.container@superterminais.com.br"}]
["BRMAO","22GP","HLBU2609541","Nao","SUPER TERMINAIS",{"$f":"VLOOKUP(E231,'Padrão mensagem'!$A$3:$B$67,2,0)","v":"Depot Super Terminais - (92) 3616-2650 / E-mails: coordenacao.depot@superterminais.com.br; reparos.container@superterminais.com.br"}]
["BRMAO","22GP","HLXU1019234","Nao","SUPER TERMINAIS",{"$f":"VLOOKUP(E232,'Padrão mensagem'!$A$3:$B$67,2,0)","v":"Depot Super Terminais - (92) 3616-2650 / E-mails: coordenacao.depot@superterminais.com.br; reparos.container@superterminais.com.br"}]
["BRMAO","22GP","HLBU2280559","Nao","SUPER TERMINAIS",{"$f":"VLOOKUP(E233,'Padrão mensagem'!$A$3:$B$67,2,0)","v":"Depot Super Terminais - (92) 3616-2650 / E-mails: coordenacao.depot@superterminais.com.br; reparos.container@superterminais.com.br"}]
["BRMAO","22GP","HLBU1342527","Nao","SUPER TERMINAIS",{"$f":"VLOOKUP(E234,'Padrão mensagem'!$A$3:$B$67,2,0)","v":"Depot Super Terminais - (92) 3616-2650 / E-mails: coordenacao.depot@superterminais.com.br; reparos.container@superterminais.com.br"}]
["BRMAO","22GP","CAIU3618313","Offhire","SUPER TERMINAIS",{"$f":"VLOOKUP(E235,'Padrão mensagem'!$A$3:$B$67,2,0)","v":"Depot Super Terminais - (92) 3616-2650 / E-mails: coordenacao.depot@superterminais.com.br; reparos.container@superterminais.com.br"}]
["BRMAO","22GP","HLBU3480700","Nao","SUPER TERMINAIS",{"$f":"VLOOKUP(E236,'Padrão mensagem'!$A$3:$B$67,2,0)","v":"Depot Super Terminais - (92) 3616-2650 / E-mails: coordenacao.depot@superterminais.com.br; reparos.container@superterminais.com.br"}]
["BRMAO","22GP","HLBU2612951","Nao","SUPER TERMINAIS",{"$f":"VLOOKUP(E237,'Padrão mensagem'!$A$3:$B$67,2,0)","v":"Depot Super Terminais - (92) 3616-2650 / E-mails: coordenacao.depot@superterminais.com.br; reparos.container@superterminais.com.br"}]
["BRMAO","22GP","TLLU2618530","Nao","SUPER TERMINAIS",{"$f":"VLOOKUP(E238,'Padrão mensagem'!$A$3:$B$67,2,0)","v":"Depot Super Terminais - (92) 3616-2650 / E-mails: coordenacao.depot@superterminais.com.br; reparos.container@superterminais.com.br"}]
["BRMAO","22GP","HLBU2927136","Nao","SUPER TERMINAIS",{"$f":"VLOOKUP(E239,'Padrão mensagem'!$A$3:$B$67,2,0)","v":"Depot Super Terminais - (92) 3616-2650 / E-mails: coordenacao.depot@superterminais.com.br; reparos.container@superterminais.com.br"}]
["BRMAO","22GP","GESU3627262","Nao","SUPER TERMINAIS",{"$f":"VLOOKUP(E240,'Padrão mensagem'!$A$3:$B$67,2,0)","v":"Depot Super Terminais - (92) 3616-2650 / E-mails: coordenacao.depot@superterminais.com.br; reparos.container@superterminais.com.br"}]
["BRMAO","22GP","TEMU1054460","Nao","SUPER TERMINAIS",{"$f":"VLOOKUP(E241,'Padrão mensagem'!$A$3:$B$67,2,0)","v":"Depot Super Terminais - (92) 3616-2650 / E-mails: coordenacao.depot@superterminais.com.br; reparos.container@superterminais.com.br"}]
["BRMAO","22GP","SEGU2674515","Nao","SUPER TERMINAIS",{"$f":"VLOOKUP(E242,'Padrão mensagem'!$A$3:$B$67,2,0)","v":"Depot Super Terminais - (92) 3616-2650 / E-mails: coordenacao.depot@superterminais.com.br; reparos.container@superterminais.com.br"}]
["BRMAO","45GP","SEKU6345277","Nao","SUPER TERMINAIS",{"$f":"VLOOKUP(E243,'Padrão mensagem'!$A$3:$B$67,2,0)","v":"Depot Super Terminais - (92) 3616-2650 / E-mails: coordenacao.depot@superterminais.com.br; reparos.container@superterminais.com.br"}]
["BRMAO","45GP","HLBU2167286","Nao","SUPER TERMINAIS",{"$f":"VLOOKUP(E244,'Padrão mensagem'!$A$3:$B$67,2,0)","v":"Depot Super Terminais - (92) 3616-2650 / E-mails: coordenacao.depot@superterminais.com.br; reparos.container@superterminais.com.br"}]
["BRMAO","45GP","FANU3505800","Nao","SUPER TERMINAIS",{"$f":"VLOOKUP(E245,'Padrão mensagem'!$A$3:$B$67,2,0)","v":"Depot Super Terminais - (92) 3616-2650 / E-mails: coordenacao.depot@superterminais.com.br; reparos.container@superterminais.com.br"}]
["BRMAO","45GP","CAAU5503460","Nao","SUPER TERMINAIS",{"$f":"VLOOKUP(E246,'Padrão mensagem'!$A$3:$B$67,2,0)","v":"Depot Super Terminais - (92) 3616-2650 / E-mails: coordenacao.depot@superterminais.com.br; reparos.container@superterminais.com.br"}]
["BRMAO","45GP","HAMU1492173","Nao","SUPER TERMINAIS",{"$f":"VLOOKUP(E247,'Padrão mensagem'!$A$3:$B$67,2,0)","v":"Depot Super Terminais - (92) 3616-2650 / E-mails: coordenacao.depot@superterminais.com.br; reparos.container@superterminais.com.br"}]
["BRMAO","45GP","FANU3757416","Nao","SUPER TERMINAIS",{"$f":"VLOOKUP(E248,'Padrão mensagem'!$A$3:$B$67,2,0)","v":"Depot Super Terminais - (92) 3616-2650 / E-mails: coordenacao.depot@superterminais.com.br; reparos.container@superterminais.com.br"}]
["BRMAO","45GP","FANU1977480","Nao","SUPER TERMINAIS",{"$f":"VLOOKUP(E249,'Padrão mensagem'!$A$3:$B$67,2,0)","v":"Depot Super Terminais - (92) 3616-2650 / E-mails: coordenacao.depot@superterminais.com.br; reparos.container@superterminais.com.br"}]
["BRMAO","45GP","FANU1946200","Nao","SUPER TERMINAIS",{"$f":"VLOOKUP(E250,'Padrão mensagem'!$A$3:$B$67,2,0)","v":"Depot Super Terminais - (92) 3616-2650 / E-mails: coordenacao.depot@superterminais.com.br; reparos.container@superterminais.com.br"}]
["BRMAO","45GP","FANU3108274","Nao","SUPER TERMINAIS",{"$f":"VLOOKUP(E251,'Padrão mensagem'!$A$3:$B$67,2,0)","v":"Depot Super Terminais - (92) 3616-2650 / E-mails: coordenacao.depot@superterminais.com.br; reparos.container@superterminais.com.br"}]
["BRMAO","45GP","HLBU2679908","Nao","SUPER TERMINAIS",{"$f":"VLOOKUP(E252,'Padrão mensagem'!$A$3:$B$67,2,0)","v":"Depot Super Terminais - (92) 3616-2650 / E-mails: coordenacao.depot@superterminais.com.br; reparos.container@superterminais.com.br"}]
["BRMAO","45GP","HLBU2597604","Nao","SUPER TERMINAIS",{"$f":"VLOOKUP(E253,'Padrão mensagem'!$A$3:$B$67,2,0)","v":"Depot Super Terminais - (92) 3616-2650 / E-mails: coordenacao.depot@superterminais.com.br; reparos.container@superterminais.com.br"}]
["BRMAO","45GP","FANU1779102","Nao","SUPER TERMINAIS",{"$f":"VLOOKUP(E254,'Padrão mensagem'!$A$3:$B$67,2,0)","v":"Depot Super Terminais - (92) 3616-2650 / E-mails: coordenacao.depot@superterminais.com.br; reparos.container@superterminais.com.br"}]
["BRMAO","45GP","HLBU1936426","Nao","SUPER TERMINAIS",{"$f":"VLOOKUP(E255,'Padrão mensagem'!$A$3:$B$67,2,0)","v":"Depot Super Terminais - (92) 3616-2650 / E-mails: coordenacao.depot@superterminais.com.br; reparos.container@superterminais.com.br"}]
["BRMAO","45GP","TCKU6553051","Nao","SUPER TERMINAIS",{"$f":"VLOOKUP(E256,'Padrão mensagem'!$A$3:$B$67,2,0)","v":"Depot Super Terminais - (92) 3616-2650 / E-mails: coordenacao.depot@superterminais.com.br; reparos.container@superterminais.com.br"}]
["BRMAO","45GP","FSCU7095060","Nao","SUPER TERMINAIS",{"$f":"VLOOKUP(E257,'Padrão mensagem'!$A$3:$B$67,2,0)","v":"Depot Super Terminais - (92) 3616-2650 / E-mails: coordenacao.depot@superterminais.com.br; reparos.container@superterminais.com.br"}]
["BRMAO","22GP","DFSU2853201","Nao","SUPER TERMINAIS",{"$f":"VLOOKUP(E258,'Padrão mensagem'!$A$3:$B$67,2,0)","v":"Depot Super Terminais - (92) 3616-2650 / E-mails: coordenacao.depot@superterminais.com.br; reparos.container@superterminais.com.br"}]
["BRMAO","22GP","PRSU1596110","Nao","SUPER TERMINAIS",{"$f":"VLOOKUP(E259,'Padrão mensagem'!$A$3:$B$67,2,0)","v":"Depot Super Terminais - (92) 3616-2650 / E-mails: coordenacao.depot@superterminais.com.br; reparos.container@superterminais.com.br"}]
["BRMAO","45GP","HLBU3212081","Nao","SUPER TERMINAIS",{"$f":"VLOOKUP(E260,'Padrão mensagem'!$A$3:$B$67,2,0)","v":"Depot Super Terminais - (92) 3616-2650 / E-mails: coordenacao.depot@superterminais.com.br; reparos.container@superterminais.com.br"}]
["BRMAO","45GP","HLBU2867839","Nao","SUPER TERMINAIS",{"$f":"VLOOKUP(E261,'Padrão mensagem'!$A$3:$B$67,2,0)","v":"Depot Super Terminais - (92) 3616-2650 / E-mails: coordenacao.depot@superterminais.com.br; reparos.container@superterminais.com.br"}]
["BRMAO","45GP","TCLU8075196","Nao","SUPER TERMINAIS",{"$f":"VLOOKUP(E262,'Padrão mensagem'!$A$3:$B$67,2,0)","v":"Depot Super Terminais - (92) 3616-2650 / E-mails: coordenacao.depot@superterminais.com.br; reparos.container@superterminais.com.br"}]
["BRMAO","45GP","FANU3721748","Nao","SUPER TERMINAIS",{"$f":"VLOOKUP(E263,'Padrão mensagem'!$A$3:$B$67,2,0)","v":"Depot Super Terminais - (92) 3616-2650 / E-mails: coordenacao.depot@superterminais.com.br; reparos.container@superterminais.com.br"}]
["BRMAO","45GP","GCXU5911511","Nao","SUPER TERMINAIS",{"$f":"VLOOKUP(E264,'Padrão mensagem'!$A$3:$B$67,2,0)","v":"Depot Super Terminais - (92) 3616-2650 / E-mails: coordenacao.depot@superterminais.com.br; reparos.container@superterminais.com.br"}]
["BRMAO","45GP","HAMU1655075","Nao","SUPER TERMINAIS",{"$f":"VLOOKUP(E265,'Padrão mensagem'!$A$3:$B$67,2,0)","v":"Depot Super Terminais - (92) 3616-2650 / E-mails: coordenacao.depot@superterminais.com.br; reparos.container@superterminais.com.br"}]
["BRMAO","45GP","UETU5170193","Nao","SUPER TERMINAIS",{"$f":"VLOOKUP(E266,'Padrão mensagem'!$A$3:$B$67,2,0)","v":"Depot Super Terminais - (92) 3616-2650 / E-mails: coordenacao.depot@superterminais.com.br; reparos.container@superterminais.com.br"}]
["BRMAO","45GP","FSCU7121282","Nao","SUPER TERMINAIS",{"$f":"VLOOKUP(E267,'Padrão mensagem'!$A$3:$B$67,2,0)","v":"Depot Super Terminais - (92) 3616-2650 / E-mails: coordenacao.depot@superterminais.com.br; reparos.container@superterminais.com.br"}]
["BRMAO","45GP","FANU3126370","Nao","SUPER TERMINAIS",{"$f":"VLOOKUP(E268,'Padrão mensagem'!$A$3:$B$67,2,0)","v":"Depot Super Terminais - (92) 3616-2650 / E-mails: coordenacao.depot@superterminais.com.br; reparos.container@superterminais.com.br"}]
["BRMAO","45GP","HLBU1749549","Nao","SUPER TERMINAIS",{"$f":"VLOOKUP(E269,'Padrão mensagem'!$A$3:$B$67,2,0)","v":"Depot Super Terminais - (92) 3616-2650 / E-mails: coordenacao.depot@superterminais.com.br; reparos.container@superterminais.com.br"}]
["BRMAO","45GP","FDCU0072593","Nao","SUPER TERMINAIS",{"$f":"VLOOKUP(E270,'Padrão mensagem'!$A$3:$B$67,2,0)","v":"Depot Super Terminais - (92) 3616-2650 / E-mails: coordenacao.depot@superterminais.com.br; reparos.container@superterminais.com.br"}]
["BRMAO","45GP","FANU1499673","Nao","SUPER TERMINAIS",{"$f":"VLOOKUP(E271,'Padrão mensagem'!$A$3:$B$67,2,0)","v":"Depot Super Terminais - (92) 3616-2650 / E-mails: coordenacao.depot@superterminais.com.br; reparos.container@superterminais.com.br"}]
["BRMAO","45GP","FANU3062846","Nao","SUPER TERMINAIS",{"$f":"VLOOKUP(E272,'Padrão mensagem'!$A$3:$B$67,2,0)","v":"Depot Super Terminais - (92) 3616-2650 / E-mails: coordenacao.depot@superterminais.com.br; reparos.container@superterminais.com.br"}]
["BRMAO","45GP","HLBU2555595","Nao","SUPER TERMINAIS",{"$f":"VLOOKUP(E273,'Padrão mensagem'!$A$3:$B$67,2,0)","v":"Depot Super Terminais - (92) 3616-2650 / E-mails: coordenacao.depot@superterminais.com.br; reparos.container@superterminais.com.br"}]
["BRMAO","45GP","HLBU2234131","Nao","SUPER TERMINAIS",{"$f":"VLOOKUP(E274,'Padrão mensagem'!$A$3:$B$67,2,0)","v":"Depot Super Terminais - (92) 3616-2650 / E-mails: coordenacao.depot@superterminais.com.br; reparos.container@superterminais.com.br"}]
["BRMAO","45GP","HLXU8416275","Nao","SUPER TERMINAIS",{"$f":"VLOOKUP(E275,'Padrão mensagem'!$A$3:$B$67,2,0)","v":"Depot Super Terminais - (92) 3616-2650 / E-mails: coordenacao.depot@superterminais.com.br; reparos.container@superterminais.com.br"}]
["BRMAO","45GP","HAMU2260995","Nao","SUPER TERMINAIS",{"$f":"VLOOKUP(E276,'Padrão mensagem'!$A$3:$B$67,2,0)","v":"Depot Super Terminais - (92) 3616-2650 / E-mails: coordenacao.depot@superterminais.com.br; reparos.container@superterminais.com.br"}]
["BRMAO","45GP","FANU3467891","Nao","SUPER TERMINAIS",{"$f":"VLOOKUP(E277,'Padrão mensagem'!$A$3:$B$67,2,0)","v":"Depot Super Terminais - (92) 3616-2650 / E-mails: coordenacao.depot@superterminais.com.br; reparos.container@superterminais.com.br"}]
["BRMAO","45GP","HAMU1913190","Nao","SUPER TERMINAIS",{"$f":"VLOOKUP(E278,'Padrão mensagem'!$A$3:$B$67,2,0)","v":"Depot Super Terminais - (92) 3616-2650 / E-mails: coordenacao.depot@superterminais.com.br; reparos.container@superterminais.com.br"}]
["BRMAO","45GP","HAMU2084725","Nao","SUPER TERMINAIS",{"$f":"VLOOKUP(E279,'Padrão mensagem'!$A$3:$B$67,2,0)","v":"Depot Super Terminais - (92) 3616-2650 / E-mails: coordenacao.depot@superterminais.com.br; reparos.container@superterminais.com.br"}]
["BRMAO","45GP","HAMU1431202","Nao","SUPER TERMINAIS",{"$f":"VLOOKUP(E280,'Padrão mensagem'!$A$3:$B$67,2,0)","v":"Depot Super Terminais - (92) 3616-2650 / E-mails: coordenacao.depot@superterminais.com.br; reparos.container@superterminais.com.br"}]
["BRMAO","45GP","FANU3372522","Nao","SUPER TERMINAIS",{"$f":"VLOOKUP(E281,'Padrão mensagem'!$A$3:$B$67,2,0)","v":"Depot Super Terminais - (92) 3616-2650 / E-mails: coordenacao.depot@superterminais.com.br; reparos.container@superterminais.com.br"}]
["BRMAO","45GP","UETU6900763","Nao","SUPER TERMINAIS",{"$f":"VLOOKUP(E282,'Padrão mensagem'!$A$3:$B$67,2,0)","v":"Depot Super Terminais - (92) 3616-2650 / E-mails: coordenacao.depot@superterminais.com.br; reparos.container@superterminais.com.br"}]
["BRMAO","45GP","FANU1713595","Nao","SUPER TERMINAIS",{"$f":"VLOOKUP(E283,'Padrão mensagem'!$A$3:$B$67,2,0)","v":"Depot Super Terminais - (92) 3616-2650 / E-mails: coordenacao.depot@superterminais.com.br; reparos.container@superterminais.com.br"}]
["BRMAO","22GP","CAIU3341321","Nao","SUPER TERMINAIS",{"$f":"VLOOKUP(E284,'Padrão mensagem'!$A$3:$B$67,2,0)","v":"Depot Super Terminais - (92) 3616-2650 / E-mails: coordenacao.depot@superterminais.com.br; reparos.container@superterminais.com.br"}]
["BRMAO","22GP","HLBU1234820","Nao","SUPER TERMINAIS",{"$f":"VLOOKUP(E285,'Padrão mensagem'!$A$3:$B$67,2,0)","v":"Depot Super Terminais - (92) 3616-2650 / E-mails: coordenacao.depot@superterminais.com.br; reparos.container@superterminais.com.br"}]
["BRMAO","22GP","UETU2197098","Nao","SUPER TERMINAIS",{"$f":"VLOOKUP(E286,'Padrão mensagem'!$A$3:$B$67,2,0)","v":"Depot Super Terminais - (92) 3616-2650 / E-mails: coordenacao.depot@superterminais.com.br; reparos.container@superterminais.com.br"}]
["BRMAO","22GP","PCIU1634078","Nao","SUPER TERMINAIS",{"$f":"VLOOKUP(E287,'Padrão mensagem'!$A$3:$B$67,2,0)","v":"Depot Super Terminais - (92) 3616-2650 / E-mails: coordenacao.depot@superterminais.com.br; reparos.container@superterminais.com.br"}]
["BRMAO","22GP","UACU3772010","Nao","SUPER TERMINAIS",{"$f":"VLOOKUP(E288,'Padrão mensagem'!$A$3:$B$67,2,0)","v":"Depot Super Terminais - (92) 3616-2650 / E-mails: coordenacao.depot@superterminais.com.br; reparos.container@superterminais.com.br"}]
["BRMAO","22GP","HAMU1014390","Nao","SUPER TERMINAIS",{"$f":"VLOOKUP(E289,'Padrão mensagem'!$A$3:$B$67,2,0)","v":"Depot Super Terminais - (92) 3616-2650 / E-mails: coordenacao.depot@superterminais.com.br; reparos.container@superterminais.com.br"}]
["BRSUA","22PC","HLXU3683237","Nao","Tecon Suape",{"$f":"VLOOKUP(E290,'Padrão mensagem'!$A$3:$B$67,2,0)","v":"Tecon Suape - Acessar o site\nhttps://www.teconsuape.com/portalservicos/#!/login\ne informar o número de booking DDHLLMTY202401"}]
["BRMAO","45GP","TCNU7981763","Nao","SUPER TERMINAIS",{"$f":"VLOOKUP(E291,'Padrão mensagem'!$A$3:$B$67,2,0)","v":"Depot Super Terminais - (92) 3616-2650 / E-mails: coordenacao.depot@superterminais.com.br; reparos.container@superterminais.com.br"}]
["BRMAO","45GP","FANU1878661","Nao","SUPER TERMINAIS",{"$f":"VLOOKUP(E292,'Padrão mensagem'!$A$3:$B$67,2,0)","v":"Depot Super Terminais - (92) 3616-2650 / E-mails: coordenacao.depot@superterminais.com.br; reparos.container@superterminais.com.br"}]
["BRMAO","45GP","FANU3407850","Nao","SUPER TERMINAIS",{"$f":"VLOOKUP(E293,'Padrão mensagem'!$A$3:$B$67,2,0)","v":"Depot Super Terminais - (92) 3616-2650 / E-mails: coordenacao.depot@superterminais.com.br; reparos.container@superterminais.com.br"}]
["BRMAO","45GP","HLBU2782140","Nao","SUPER TERMINAIS",{"$f":"VLOOKUP(E294,'Padrão mensagem'!$A$3:$B$67,2,0)","v":"Depot Super Terminais - (92) 3616-2650 / E-mails: coordenacao.depot@superterminais.com.br; reparos.container@superterminais.com.br"}]
["BRMAO","45GP","FANU3713700","Nao","SUPER TERMINAIS",{"$f":"VLOOKUP(E295,'Padrão mensagem'!$A$3:$B$67,2,0)","v":"Depot Super Terminais - (92) 3616-2650 / E-mails: coordenacao.depot@superterminais.com.br; reparos.container@superterminais.com.br"}]
["BRMAO","45GP","FANU3778471","Nao","SUPER TERMINAIS",{"$f":"VLOOKUP(E296,'Padrão mensagem'!$A$3:$B$67,2,0)","v":"Depot Super Terminais - (92) 3616-2650 / E-mails: coordenacao.depot@superterminais.com.br; reparos.container@superterminais.com.br"}]
["BRMAO","45GP","HAMU1634745","Nao","SUPER TERMINAIS",{"$f":"VLOOKUP(E297,'Padrão mensagem'!$A$3:$B$67,2,0)","v":"Depot Super Terminais - (92) 3616-2650 / E-mails: coordenacao.depot@superterminais.com.br; reparos.container@superterminais.com.br"}]
["BRMAO","45GP","FANU3244964","Nao","SUPER TERMINAIS",{"$f":"VLOOKUP(E298,'Padrão mensagem'!$A$3:$B$67,2,0)","v":"Depot Super Terminais - (92) 3616-2650 / E-mails: coordenacao.depot@superterminais.com.br; reparos.container@superterminais.com.br"}]
["BRMAO","45GP","HAMU1763568","Nao","SUPER TERMINAIS",{"$f":"VLOOKUP(E299,'Padrão mensagem'!$A$3:$B$67,2,0)","v":"Depot Super Terminais - (92) 3616-2650 / E-mails: coordenacao.depot@superterminais.com.br; reparos.container@superterminais.com.br"}]
["BRMAO","45GP","HAMU1413512","Nao","SUPER TERMINAIS",{"$f":"VLOOKUP(E300,'Padrão mensagem'!$A$3:$B$67,2,0)","v":"Depot Super Terminais - (92) 3616-2650 / E-mails: coordenacao.depot@superterminais.com.br; reparos.container@superterminais.com.br"}]
["BRMAO","45GP","FANU1480852","Nao","SUPER TERMINAIS",{"$f":"VLOOKUP(E301,'Padrão mensagem'!$A$3:$B$67,2,0)","v":"Depot Super Terminais - (92) 3616-2650 / E-mails: coordenacao.depot@superterminais.com.br; reparos.container@superterminais.com.br"}]
["BRMAO","45GP","FSCU7174343","Nao","SUPER TERMINAIS",{"$f":"VLOOKUP(E302,'Padrão mensagem'!$A$3:$B$67,2,0)","v":"Depot Super Terminais - (92) 3616-2650 / E-mails: coordenacao.depot@superterminais.com.br; reparos.container@superterminais.com.br"}]
["BRMAO","45GP","HAMU2006701","Nao","SUPER TERMINAIS",{"$f":"VLOOKUP(E303,'Padrão mensagem'!$A$3:$B$67,2,0)","v":"Depot Super Terminais - (92) 3616-2650 / E-mails: coordenacao.depot@superterminais.com.br; reparos.container@superterminais.com.br"}]
["BRMAO","45GP","FANU3542948","Nao","SUPER TERMINAIS",{"$f":"VLOOKUP(E304,'Padrão mensagem'!$A$3:$B$67,2,0)","v":"Depot Super Terminais - (92) 3616-2650 / E-mails: coordenacao.depot@superterminais.com.br; reparos.container@superterminais.com.br"}]
["BRMAO","45GP","FANU3188686","Nao","SUPER TERMINAIS",{"$f":"VLOOKUP(E305,'Padrão mensagem'!$A$3:$B$67,2,0)","v":"Depot Super Terminais - (92) 3616-2650 / E-mails: coordenacao.depot@superterminais.com.br; reparos.container@superterminais.com.br"}]
["BRMAO","45GP","FANU1813423","Nao","SUPER TERMINAIS",{"$f":"VLOOKUP(E306,'Padrão mensagem'!$A$3:$B$67,2,0)","v":"Depot Super Terminais - (92) 3616-2650 / E-mails: coordenacao.depot@superterminais.com.br; reparos.container@superterminais.com.br"}]
["BRMAO","45GP","FANU3702706","Nao","SUPER TERMINAIS",{"$f":"VLOOKUP(E307,'Padrão mensagem'!$A$3:$B$67,2,0)","v":"Depot Super Terminais - (92) 3616-2650 / E-mails: coordenacao.depot@superterminais.com.br; reparos.container@superterminais.com.br"}]
["BRMAO","45GP","FANU3698186","Nao","SUPER TERMINAIS",{"$f":"VLOOKUP(E308,'Padrão mensagem'!$A$3:$B$67,2,0)","v":"Depot Super Terminais - (92) 3616-2650 / E-mails: coordenacao.depot@superterminais.com.br; reparos.container@superterminais.com.br"}]
["BRMAO","45GP","UETU6845476","Nao","SUPER TERMINAIS",{"$f":"VLOOKUP(E309,'Padrão mensagem'!$A$3:$B$67,2,0)","v":"Depot Super Terminais - (92) 3616-2650 / E-mails: coordenacao.depot@superterminais.com.br; reparos.container@superterminais.com.br"}]
["BRMAO","45GP","UETU6405820","Nao","SUPER TERMINAIS",{"$f":"VLOOKUP(E310,'Padrão mensagem'!$A$3:$B$67,2,0)","v":"Depot Super Terminais - (92) 3616-2650 / E-mails: coordenacao.depot@superterminais.com.br; reparos.container@superterminais.com.br"}]
["BRMAO","45GP","SEGU6722545","Nao","SUPER TERMINAIS",{"$f":"VLOOKUP(E311,'Padrão mensagem'!$A$3:$B$67,2,0)","v":"Depot Super Terminais - (92) 3616-2650 / E-mails: coordenacao.depot@superterminais.com.br; reparos.container@superterminais.com.br"}]
["BRMAO","45GP","UETU6379228","Nao","SUPER TERMINAIS",{"$f":"VLOOKUP(E312,'Padrão mensagem'!$A$3:$B$67,2,0)","v":"Depot Super Terminais - (92) 3616-2650 / E-mails: coordenacao.depot@superterminais.com.br; reparos.container@superterminais.com.br"}]
["BRMAO","45GP","FANU3257766","Nao","SUPER TERMINAIS",{"$f":"VLOOKUP(E313,'Padrão mensagem'!$A$3:$B$67,2,0)","v":"Depot Super Terminais - (92) 3616-2650 / E-mails: coordenacao.depot@superterminais.com.br; reparos.container@superterminais.com.br"}]
["BRMAO","45GP","FANU3408760","Nao","SUPER TERMINAIS",{"$f":"VLOOKUP(E314,'Padrão mensagem'!$A$3:$B$67,2,0)","v":"Depot Super Terminais - (92) 3616-2650 / E-mails: coordenacao.depot@superterminais.com.br; reparos.container@superterminais.com.br"}]
["BRMAO","45GP","UETU6480038","Nao","SUPER TERMINAIS",{"$f":"VLOOKUP(E315,'Padrão mensagem'!$A$3:$B$67,2,0)","v":"Depot Super Terminais - (92) 3616-2650 / E-mails: coordenacao.depot@superterminais.com.br; reparos.container@superterminais.com.br"}]
["BRMAO","45GP","HAMU1785464","Nao","SUPER TERMINAIS",{"$f":"VLOOKUP(E316,'Padrão mensagem'!$A$3:$B$67,2,0)","v":"Depot Super Terminais - (92) 3616-2650 / E-mails: coordenacao.depot@superterminais.com.br; reparos.container@superterminais.com.br"}]
["BRMAO","45GP","FANU3605455","Nao","SUPER TERMINAIS",{"$f":"VLOOKUP(E317,'Padrão mensagem'!$A$3:$B$67,2,0)","v":"Depot Super Terminais - (92) 3616-2650 / E-mails: coordenacao.depot@superterminais.com.br; reparos.container@superterminais.com.br"}]
["BRMAO","45GP","HLBU3352020","Nao","SUPER TERMINAIS",{"$f":"VLOOKUP(E318,'Padrão mensagem'!$A$3:$B$67,2,0)","v":"Depot Super Terminais - (92) 3616-2650 / E-mails: coordenacao.depot@superterminais.com.br; reparos.container@superterminais.com.br"}]
["BRMAO","45GP","TCNU1804694","Nao","SUPER TERMINAIS",{"$f":"VLOOKUP(E319,'Padrão mensagem'!$A$3:$B$67,2,0)","v":"Depot Super Terminais - (92) 3616-2650 / E-mails: coordenacao.depot@superterminais.com.br; reparos.container@superterminais.com.br"}]
["BRMAO","45GP","HAMU1523762","Nao","SUPER TERMINAIS",{"$f":"VLOOKUP(E320,'Padrão mensagem'!$A$3:$B$67,2,0)","v":"Depot Super Terminais - (92) 3616-2650 / E-mails: coordenacao.depot@superterminais.com.br; reparos.container@superterminais.com.br"}]
["BRMAO","45GP","UETU6730435","Nao","SUPER TERMINAIS",{"$f":"VLOOKUP(E321,'Padrão mensagem'!$A$3:$B$67,2,0)","v":"Depot Super Terminais - (92) 3616-2650 / E-mails: coordenacao.depot@superterminais.com.br; reparos.container@superterminais.com.br"}]
["BRMAO","22GP","BEAU2168290","Nao","SUPER TERMINAIS",{"$f":"VLOOKUP(E322,'Padrão mensagem'!$A$3:$B$67,2,0)","v":"Depot Super Terminais - (92) 3616-2650 / E-mails: coordenacao.depot@superterminais.com.br; reparos.container@superterminais.com.br"}]
["BRMAO","22GP","BMOU1426517","Nao","SUPER TERMINAIS",{"$f":"VLOOKUP(E323,'Padrão mensagem'!$A$3:$B$67,2,0)","v":"Depot Super Terminais - (92) 3616-2650 / E-mails: coordenacao.depot@superterminais.com.br; reparos.container@superterminais.com.br"}]
["BRMAO","22GP","BMOU1444146","Nao","SUPER TERMINAIS",{"$f":"VLOOKUP(E324,'Padrão mensagem'!$A$3:$B$67,2,0)","v":"Depot Super Terminais - (92) 3616-2650 / E-mails: coordenacao.depot@superterminais.com.br; reparos.container@superterminais.com.br"}]
["BRMAO","22GP","BSIU3299567","Nao","SUPER TERMINAIS",{"$f":"VLOOKUP(E325,'Padrão mensagem'!$A$3:$B$67,2,0)","v":"Depot Super Terminais - (92) 3616-2650 / E-mails: coordenacao.depot@superterminais.com.br; reparos.container@superterminais.com.br"}]
["BRMAO","22GP","CAIU2621797","Nao","SUPER TERMINAIS",{"$f":"VLOOKUP(E326,'Padrão mensagem'!$A$3:$B$67,2,0)","v":"Depot Super Terminais - (92) 3616-2650 / E-mails: coordenacao.depot@superterminais.com.br; reparos.container@superterminais.com.br"}]
["BRMAO","45GP","UACU6017538","Nao","SUPER TERMINAIS",{"$f":"VLOOKUP(E327,'Padrão mensagem'!$A$3:$B$67,2,0)","v":"Depot Super Terminais - (92) 3616-2650 / E-mails: coordenacao.depot@superterminais.com.br; reparos.container@superterminais.com.br"}]
["BRMAO","22GP","FBIU0449767","Nao","SUPER TERMINAIS",{"$f":"VLOOKUP(E328,'Padrão mensagem'!$A$3:$B$67,2,0)","v":"Depot Super Terminais - (92) 3616-2650 / E-mails: coordenacao.depot@superterminais.com.br; reparos.container@superterminais.com.br"}]
["BRMAO","22GP","HLBU3043422","Nao","SUPER TERMINAIS",{"$f":"VLOOKUP(E329,'Padrão mensagem'!$A$3:$B$67,2,0)","v":"Depot Super Terminais - (92) 3616-2650 / E-mails: coordenacao.depot@superterminais.com.br; reparos.container@superterminais.com.br"}]
["BRMAO","22GP","CAIU2534603","Nao","SUPER TERMINAIS",{"$f":"VLOOKUP(E330,'Padrão mensagem'!$A$3:$B$67,2,0)","v":"Depot Super Terminais - (92) 3616-2650 / E-mails: coordenacao.depot@superterminais.com.br; reparos.container@superterminais.com.br"}]
["BRMAO","22GP","UACU3803549","Nao","SUPER TERMINAIS",{"$f":"VLOOKUP(E331,'Padrão mensagem'!$A$3:$B$67,2,0)","v":"Depot Super Terminais - (92) 3616-2650 / E-mails: coordenacao.depot@superterminais.com.br; reparos.container@superterminais.com.br"}]
["BRMAO","22GP","CAIU2544010","Nao","SUPER TERMINAIS",{"$f":"VLOOKUP(E332,'Padrão mensagem'!$A$3:$B$67,2,0)","v":"Depot Super Terminais - (92) 3616-2650 / E-mails: coordenacao.depot@superterminais.com.br; reparos.container@superterminais.com.br"}]
["BRMAO","22GP","UACU4058420","Nao","SUPER TERMINAIS",{"$f":"VLOOKUP(E333,'Padrão mensagem'!$A$3:$B$67,2,0)","v":"Depot Super Terminais - (92) 3616-2650 / E-mails: coordenacao.depot@superterminais.com.br; reparos.container@superterminais.com.br"}]
["BRMAO","22GP","TCLU2852771","Nao","SUPER TERMINAIS",{"$f":"VLOOKUP(E334,'Padrão mensagem'!$A$3:$B$67,2,0)","v":"Depot Super Terminais - (92) 3616-2650 / E-mails: coordenacao.depot@superterminais.com.br; reparos.container@superterminais.com.br"}]
["BRMAO","45GP","UACU5847818","Nao","SUPER TERMINAIS",{"$f":"VLOOKUP(E335,'Padrão mensagem'!$A$3:$B$67,2,0)","v":"Depot Super Terminais - (92) 3616-2650 / E-mails: coordenacao.depot@superterminais.com.br; reparos.container@superterminais.com.br"}]
["BRMAO","45GP","FANU3299798","Nao","SUPER TERMINAIS",{"$f":"VLOOKUP(E336,'Padrão mensagem'!$A$3:$B$67,2,0)","v":"Depot Super Terminais - (92) 3616-2650 / E-mails: coordenacao.depot@superterminais.com.br; reparos.container@superterminais.com.br"}]
["BRMAO","45GP","DFSU7412997","Nao","SUPER TERMINAIS",{"$f":"VLOOKUP(E337,'Padrão mensagem'!$A$3:$B$67,2,0)","v":"Depot Super Terminais - (92) 3616-2650 / E-mails: coordenacao.depot@superterminais.com.br; reparos.container@superterminais.com.br"}]
["BRMAO","45GP","HLBU2038057","Nao","SUPER TERMINAIS",{"$f":"VLOOKUP(E338,'Padrão mensagem'!$A$3:$B$67,2,0)","v":"Depot Super Terminais - (92) 3616-2650 / E-mails: coordenacao.depot@superterminais.com.br; reparos.container@superterminais.com.br"}]
["BRMAO","45GP","HLBU2602357","Nao","SUPER TERMINAIS",{"$f":"VLOOKUP(E339,'Padrão mensagem'!$A$3:$B$67,2,0)","v":"Depot Super Terminais - (92) 3616-2650 / E-mails: coordenacao.depot@superterminais.com.br; reparos.container@superterminais.com.br"}]
["BRMAO","45GP","TCLU8503170","Nao","SUPER TERMINAIS",{"$f":"VLOOKUP(E340,'Padrão mensagem'!$A$3:$B$67,2,0)","v":"Depot Super Terminais - (92) 3616-2650 / E-mails: coordenacao.depot@superterminais.com.br; reparos.container@superterminais.com.br"}]
["BRMAO","45GP","HLBU1769782","Nao","SUPER TERMINAIS",{"$f":"VLOOKUP(E341,'Padrão mensagem'!$A$3:$B$67,2,0)","v":"Depot Super Terminais - (92) 3616-2650 / E-mails: coordenacao.depot@superterminais.com.br; reparos.container@superterminais.com.br"}]
["BRMAO","45GP","HAMU1675071","Nao","SUPER TERMINAIS",{"$f":"VLOOKUP(E342,'Padrão mensagem'!$A$3:$B$67,2,0)","v":"Depot Super Terminais - (92) 3616-2650 / E-mails: coordenacao.depot@superterminais.com.br; reparos.container@superterminais.com.br"}]
["BRMAO","45GP","TCNU4441036","Nao","SUPER TERMINAIS",{"$f":"VLOOKUP(E343,'Padrão mensagem'!$A$3:$B$67,2,0)","v":"Depot Super Terminais - (92) 3616-2650 / E-mails: coordenacao.depot@superterminais.com.br; reparos.container@superterminais.com.br"}]
["BRMAO","45GP","TCNU3419589","Nao","SUPER TERMINAIS",{"$f":"VLOOKUP(E344,'Padrão mensagem'!$A$3:$B$67,2,0)","v":"Depot Super Terminais - (92) 3616-2650 / E-mails: coordenacao.depot@superterminais.com.br; reparos.container@superterminais.com.br"}]
["BRMAO","45GP","HLXU8042344","Nao","SUPER TERMINAIS",{"$f":"VLOOKUP(E345,'Padrão mensagem'!$A$3:$B$67,2,0)","v":"Depot Super Terminais - (92) 3616-2650 / E-mails: coordenacao.depot@superterminais.com.br; reparos.container@superterminais.com.br"}]
["BRMAO","45GP","HLXU8586841","Nao","SUPER TERMINAIS",{"$f":"VLOOKUP(E346,'Padrão mensagem'!$A$3:$B$67,2,0)","v":"Depot Super Terminais - (92) 3616-2650 / E-mails: coordenacao.depot@superterminais.com.br; reparos.container@superterminais.com.br"}]
["BRMAO","45GP","UASU1008480","Nao","SUPER TERMINAIS",{"$f":"VLOOKUP(E347,'Padrão mensagem'!$A$3:$B$67,2,0)","v":"Depot Super Terminais - (92) 3616-2650 / E-mails: coordenacao.depot@superterminais.com.br; reparos.container@superterminais.com.br"}]
["BRMAO","45GP","FANU3825233","Nao","SUPER TERMINAIS",{"$f":"VLOOKUP(E348,'Padrão mensagem'!$A$3:$B$67,2,0)","v":"Depot Super Terminais - (92) 3616-2650 / E-mails: coordenacao.depot@superterminais.com.br; reparos.container@superterminais.com.br"}]
["BRMAO","45GP","HLXU8546514","Nao","SUPER TERMINAIS",{"$f":"VLOOKUP(E349,'Padrão mensagem'!$A$3:$B$67,2,0)","v":"Depot Super Terminais - (92) 3616-2650 / E-mails: coordenacao.depot@superterminais.com.br; reparos.container@superterminais.com.br"}]
["BRMAO","45GP","FCIU7452065","Nao","SUPER TERMINAIS",{"$f":"VLOOKUP(E350,'Padrão mensagem'!$A$3:$B$67,2,0)","v":"Depot Super Terminais - (92) 3616-2650 / E-mails: coordenacao.depot@superterminais.com.br; reparos.container@superterminais.com.br"}]
["BRMAO","45GP","HLBU3445041","Nao","SUPER TERMINAIS",{"$f":"VLOOKUP(E351,'Padrão mensagem'!$A$3:$B$67,2,0)","v":"Depot Super Terminais - (92) 3616-2650 / E-mails: coordenacao.depot@superterminais.com.br; reparos.container@superterminais.com.br"}]
["BRMAO","45GP","FSCU8414794","Nao","SUPER TERMINAIS",{"$f":"VLOOKUP(E352,'Padrão mensagem'!$A$3:$B$67,2,0)","v":"Depot Super Terminais - (92) 3616-2650 / E-mails: coordenacao.depot@superterminais.com.br; reparos.container@superterminais.com.br"}]
["BRMAO","45GP","HLBU1846810","Nao","SUPER TERMINAIS",{"$f":"VLOOKUP(E353,'Padrão mensagem'!$A$3:$B$67,2,0)","v":"Depot Super Terminais - (92) 3616-2650 / E-mails: coordenacao.depot@superterminais.com.br; reparos.container@superterminais.com.br"}]
["BRMAO","45GP","CAIU9767802","Nao","SUPER TERMINAIS",{"$f":"VLOOKUP(E354,'Padrão mensagem'!$A$3:$B$67,2,0)","v":"Depot Super Terminais - (92) 3616-2650 / E-mails: coordenacao.depot@superterminais.com.br; reparos.container@superterminais.com.br"}]
["BRMAO","45GP","TLLU5950553","Nao","SUPER TERMINAIS",{"$f":"VLOOKUP(E355,'Padrão mensagem'!$A$3:$B$67,2,0)","v":"Depot Super Terminais - (92) 3616-2650 / E-mails: coordenacao.depot@superterminais.com.br; reparos.container@superterminais.com.br"}]
["BRMAO","45GP","HLBU2824966","Nao","SUPER TERMINAIS",{"$f":"VLOOKUP(E356,'Padrão mensagem'!$A$3:$B$67,2,0)","v":"Depot Super Terminais - (92) 3616-2650 / E-mails: coordenacao.depot@superterminais.com.br; reparos.container@superterminais.com.br"}]
["BRMAO","45GP","HLBU3349813","Nao","SUPER TERMINAIS",{"$f":"VLOOKUP(E357,'Padrão mensagem'!$A$3:$B$67,2,0)","v":"Depot Super Terminais - (92) 3616-2650 / E-mails: coordenacao.depot@superterminais.com.br; reparos.container@superterminais.com.br"}]
["BRMAO","45GP","BEAU4535749","Nao","SUPER TERMINAIS",{"$f":"VLOOKUP(E358,'Padrão mensagem'!$A$3:$B$67,2,0)","v":"Depot Super Terminais - (92) 3616-2650 / E-mails: coordenacao.depot@superterminais.com.br; reparos.container@superterminais.com.br"}]
["BRMAO","45GP","UACU5523249","Nao","SUPER TERMINAIS",{"$f":"VLOOKUP(E359,'Padrão mensagem'!$A$3:$B$67,2,0)","v":"Depot Super Terminais - (92) 3616-2650 / E-mails: coordenacao.depot@superterminais.com.br; reparos.container@superterminais.com.br"}]
["BRMAO","45GP","FANU3793590","Nao","SUPER TERMINAIS",{"$f":"VLOOKUP(E360,'Padrão mensagem'!$A$3:$B$67,2,0)","v":"Depot Super Terminais - (92) 3616-2650 / E-mails: coordenacao.depot@superterminais.com.br; reparos.container@superterminais.com.br"}]
["BRMAO","45GP","CAIU9047090","Nao","SUPER TERMINAIS",{"$f":"VLOOKUP(E361,'Padrão mensagem'!$A$3:$B$67,2,0)","v":"Depot Super Terminais - (92) 3616-2650 / E-mails: coordenacao.depot@superterminais.com.br; reparos.container@superterminais.com.br"}]
["BRMAO","45GP","CAIU9249573","Nao","SUPER TERMINAIS",{"$f":"VLOOKUP(E362,'Padrão mensagem'!$A$3:$B$67,2,0)","v":"Depot Super Terminais - (92) 3616-2650 / E-mails: coordenacao.depot@superterminais.com.br; reparos.container@superterminais.com.br"}]
["BRMAO","45GP","HLBU3320609","Nao","SUPER TERMINAIS",{"$f":"VLOOKUP(E363,'Padrão mensagem'!$A$3:$B$67,2,0)","v":"Depot Super Terminais - (92) 3616-2650 / E-mails: coordenacao.depot@superterminais.com.br; reparos.container@superterminais.com.br"}]
["BRMAO","45GP","UACU5349667","Nao","SUPER TERMINAIS",{"$f":"VLOOKUP(E364,'Padrão mensagem'!$A$3:$B$67,2,0)","v":"Depot Super Terminais - (92) 3616-2650 / E-mails: coordenacao.depot@superterminais.com.br; reparos.container@superterminais.com.br"}]
["BRMAO","45GP","UACU6039239","Nao","SUPER TERMINAIS",{"$f":"VLOOKUP(E365,'Padrão mensagem'!$A$3:$B$67,2,0)","v":"Depot Super Terminais - (92) 3616-2650 / E-mails: coordenacao.depot@superterminais.com.br; reparos.container@superterminais.com.br"}]
["BRMAO","42GP","UACU8426854","Nao","SUPER TERMINAIS",{"$f":"VLOOKUP(E366,'Padrão mensagem'!$A$3:$B$67,2,0)","v":"Depot Super Terminais - (92) 3616-2650 / E-mails: coordenacao.depot@superterminais.com.br; reparos.container@superterminais.com.br"}]
["BRSSA","45RT","HLBU9704704","Nao","Wilport",{"$f":"VLOOKUP(E367,'Padrão mensagem'!$A$3:$B$67,2,0)","v":"Wilport        -        (71) 3293-9259  |  E-mail: estimators.depottsv@teconsalvador.com.br"}]
["BRSSA","45RT","UAEU1256286","Nao","Wilport",{"$f":"VLOOKUP(E368,'Padrão mensagem'!$A$3:$B$67,2,0)","v":"Wilport        -        (71) 3293-9259  |  E-mail: estimators.depottsv@teconsalvador.com.br"}]
["BRSSA","45RT","HLBU9810780","Nao","Wilport",{"$f":"VLOOKUP(E369,'Padrão mensagem'!$A$3:$B$67,2,0)","v":"Wilport        -        (71) 3293-9259  |  E-mail: estimators.depottsv@teconsalvador.com.br"}]
["BRMAO","45GP","HAMU2079040","Nao","SUPER TERMINAIS",{"$f":"VLOOKUP(E370,'Padrão mensagem'!$A$3:$B$67,2,0)","v":"Depot Super Terminais - (92) 3616-2650 / E-mails: coordenacao.depot@superterminais.com.br; reparos.container@superterminais.com.br"}]
["BRMAO","45GP","BSIU9592839","Nao","SUPER TERMINAIS",{"$f":"VLOOKUP(E371,'Padrão mensagem'!$A$3:$B$67,2,0)","v":"Depot Super Terminais - (92) 3616-2650 / E-mails: coordenacao.depot@superterminais.com.br; reparos.container@superterminais.com.br"}]
["BRMAO","45GP","FANU1437579","Nao","SUPER TERMINAIS",{"$f":"VLOOKUP(E372,'Padrão mensagem'!$A$3:$B$67,2,0)","v":"Depot Super Terminais - (92) 3616-2650 / E-mails: coordenacao.depot@superterminais.com.br; reparos.container@superterminais.com.br"}]
["BRMAO","45GP","FANU1429790","Nao","SUPER TERMINAIS",{"$f":"VLOOKUP(E373,'Padrão mensagem'!$A$3:$B$67,2,0)","v":"Depot Super Terminais - (92) 3616-2650 / E-mails: coordenacao.depot@superterminais.com.br; reparos.container@superterminais.com.br"}]
["BRMAO","45GP","SEKU6734833","Nao","SUPER TERMINAIS",{"$f":"VLOOKUP(E374,'Padrão mensagem'!$A$3:$B$67,2,0)","v":"Depot Super Terminais - (92) 3616-2650 / E-mails: coordenacao.depot@superterminais.com.br; reparos.container@superterminais.com.br"}]
["BRMAO","45GP","TCLU8737883","Nao","SUPER TERMINAIS",{"$f":"VLOOKUP(E375,'Padrão mensagem'!$A$3:$B$67,2,0)","v":"Depot Super Terminais - (92) 3616-2650 / E-mails: coordenacao.depot@superterminais.com.br; reparos.container@superterminais.com.br"}]
["BRMAO","45GP","SEKU5739147","Nao","SUPER TERMINAIS",{"$f":"VLOOKUP(E376,'Padrão mensagem'!$A$3:$B$67,2,0)","v":"Depot Super Terminais - (92) 3616-2650 / E-mails: coordenacao.depot@superterminais.com.br; reparos.container@superterminais.com.br"}]
["BRMAO","45GP","UACU5729570","Nao","SUPER TERMINAIS",{"$f":"VLOOKUP(E377,'Padrão mensagem'!$A$3:$B$67,2,0)","v":"Depot Super Terminais - (92) 3616-2650 / E-mails: coordenacao.depot@superterminais.com.br; reparos.container@superterminais.com.br"}]
["BRMAO","45GP","BEAU5007638","Nao","SUPER TERMINAIS",{"$f":"VLOOKUP(E378,'Padrão mensagem'!$A$3:$B$67,2,0)","v":"Depot Super Terminais - (92) 3616-2650 / E-mails: coordenacao.depot@superterminais.com.br; reparos.container@superterminais.com.br"}]
["BRMAO","45GP","HLBU3288615","Nao","SUPER TERMINAIS",{"$f":"VLOOKUP(E379,'Padrão mensagem'!$A$3:$B$67,2,0)","v":"Depot Super Terminais - (92) 3616-2650 / E-mails: coordenacao.depot@superterminais.com.br; reparos.container@superterminais.com.br"}]
["BRMAO","45GP","BEAU4992616","Nao","SUPER TERMINAIS",{"$f":"VLOOKUP(E380,'Padrão mensagem'!$A$3:$B$67,2,0)","v":"Depot Super Terminais - (92) 3616-2650 / E-mails: coordenacao.depot@superterminais.com.br; reparos.container@superterminais.com.br"}]
["BRMAO","45GP","SKIU9118645","Nao","SUPER TERMINAIS",{"$f":"VLOOKUP(E381,'Padrão mensagem'!$A$3:$B$67,2,0)","v":"Depot Super Terminais - (92) 3616-2650 / E-mails: coordenacao.depot@superterminais.com.br; reparos.container@superterminais.com.br"}]
["BRMAO","45GP","FFAU2097000","Nao","SUPER TERMINAIS",{"$f":"VLOOKUP(E382,'Padrão mensagem'!$A$3:$B$67,2,0)","v":"Depot Super Terminais - (92) 3616-2650 / E-mails: coordenacao.depot@superterminais.com.br; reparos.container@superterminais.com.br"}]
["BRMAO","45GP","FANU1651214","Nao","SUPER TERMINAIS",{"$f":"VLOOKUP(E383,'Padrão mensagem'!$A$3:$B$67,2,0)","v":"Depot Super Terminais - (92) 3616-2650 / E-mails: coordenacao.depot@superterminais.com.br; reparos.container@superterminais.com.br"}]
["BRMAO","45GP","CAIU8554680","Nao","SUPER TERMINAIS",{"$f":"VLOOKUP(E384,'Padrão mensagem'!$A$3:$B$67,2,0)","v":"Depot Super Terminais - (92) 3616-2650 / E-mails: coordenacao.depot@superterminais.com.br; reparos.container@superterminais.com.br"}]
["BRMAO","45GP","FANU1107290","Nao","SUPER TERMINAIS",{"$f":"VLOOKUP(E385,'Padrão mensagem'!$A$3:$B$67,2,0)","v":"Depot Super Terminais - (92) 3616-2650 / E-mails: coordenacao.depot@superterminais.com.br; reparos.container@superterminais.com.br"}]
["BRMAO","45GP","HLBU1964639","Nao","SUPER TERMINAIS",{"$f":"VLOOKUP(E386,'Padrão mensagem'!$A$3:$B$67,2,0)","v":"Depot Super Terminais - (92) 3616-2650 / E-mails: coordenacao.depot@superterminais.com.br; reparos.container@superterminais.com.br"}]
["BRMAO","45GP","TCLU1769092","Nao","SUPER TERMINAIS",{"$f":"VLOOKUP(E387,'Padrão mensagem'!$A$3:$B$67,2,0)","v":"Depot Super Terminais - (92) 3616-2650 / E-mails: coordenacao.depot@superterminais.com.br; reparos.container@superterminais.com.br"}]
["BRMAO","45GP","FANU1114323","Nao","SUPER TERMINAIS",{"$f":"VLOOKUP(E388,'Padrão mensagem'!$A$3:$B$67,2,0)","v":"Depot Super Terminais - (92) 3616-2650 / E-mails: coordenacao.depot@superterminais.com.br; reparos.container@superterminais.com.br"}]
["BRMAO","45GP","FANU1233003","Nao","SUPER TERMINAIS",{"$f":"VLOOKUP(E389,'Padrão mensagem'!$A$3:$B$67,2,0)","v":"Depot Super Terminais - (92) 3616-2650 / E-mails: coordenacao.depot@superterminais.com.br; reparos.container@superterminais.com.br"}]
["BRMAO","45GP","FANU1282055","Nao","SUPER TERMINAIS",{"$f":"VLOOKUP(E390,'Padrão mensagem'!$A$3:$B$67,2,0)","v":"Depot Super Terminais - (92) 3616-2650 / E-mails: coordenacao.depot@superterminais.com.br; reparos.container@superterminais.com.br"}]
["BRMAO","45GP","FANU1389974","Nao","SUPER TERMINAIS",{"$f":"VLOOKUP(E391,'Padrão mensagem'!$A$3:$B$67,2,0)","v":"Depot Super Terminais - (92) 3616-2650 / E-mails: coordenacao.depot@superterminais.com.br; reparos.container@superterminais.com.br"}]
["BRMAO","45GP","FANU1615433","Nao","SUPER TERMINAIS",{"$f":"VLOOKUP(E392,'Padrão mensagem'!$A$3:$B$67,2,0)","v":"Depot Super Terminais - (92) 3616-2650 / E-mails: coordenacao.depot@superterminais.com.br; reparos.container@superterminais.com.br"}]
["BRMAO","45GP","HLBU2102011","Nao","SUPER TERMINAIS",{"$f":"VLOOKUP(E393,'Padrão mensagem'!$A$3:$B$67,2,0)","v":"Depot Super Terminais - (92) 3616-2650 / E-mails: coordenacao.depot@superterminais.com.br; reparos.container@superterminais.com.br"}]
["BRMAO","45GP","TCNU1859700","Nao","SUPER TERMINAIS",{"$f":"VLOOKUP(E394,'Padrão mensagem'!$A$3:$B$67,2,0)","v":"Depot Super Terminais - (92) 3616-2650 / E-mails: coordenacao.depot@superterminais.com.br; reparos.container@superterminais.com.br"}]
["BRMAO","45GP","TLLU5592932","Nao","SUPER TERMINAIS",{"$f":"VLOOKUP(E395,'Padrão mensagem'!$A$3:$B$67,2,0)","v":"Depot Super Terminais - (92) 3616-2650 / E-mails: coordenacao.depot@superterminais.com.br; reparos.container@superterminais.com.br"}]
["BRMAO","45GP","GCXU5143265","Nao","SUPER TERMINAIS",{"$f":"VLOOKUP(E396,'Padrão mensagem'!$A$3:$B$67,2,0)","v":"Depot Super Terminais - (92) 3616-2650 / E-mails: coordenacao.depot@superterminais.com.br; reparos.container@superterminais.com.br"}]
["BRMAO","45GP","TCNU3769340","Nao","SUPER TERMINAIS",{"$f":"VLOOKUP(E397,'Padrão mensagem'!$A$3:$B$67,2,0)","v":"Depot Super Terminais - (92) 3616-2650 / E-mails: coordenacao.depot@superterminais.com.br; reparos.container@superterminais.com.br"}]
["BRMAO","45GP","UASU1030924","Nao","SUPER TERMINAIS",{"$f":"VLOOKUP(E398,'Padrão mensagem'!$A$3:$B$67,2,0)","v":"Depot Super Terminais - (92) 3616-2650 / E-mails: coordenacao.depot@superterminais.com.br; reparos.container@superterminais.com.br"}]
["BRMAO","45GP","SEGU5706410","Nao","SUPER TERMINAIS",{"$f":"VLOOKUP(E399,'Padrão mensagem'!$A$3:$B$67,2,0)","v":"Depot Super Terminais - (92) 3616-2650 / E-mails: coordenacao.depot@superterminais.com.br; reparos.container@superterminais.com.br"}]
["BRMAO","45GP","FSCU7157916","Nao","SUPER TERMINAIS",{"$f":"VLOOKUP(E400,'Padrão mensagem'!$A$3:$B$67,2,0)","v":"Depot Super Terminais - (92) 3616-2650 / E-mails: coordenacao.depot@superterminais.com.br; reparos.container@superterminais.com.br"}]
["BRSUA","45GP","HLBU3254071","Nao","Ziranlog SUA ",{"$f":"VLOOKUP(E401,'Padrão mensagem'!$A$3:$B$67,2,0)","v":"Ziranlog SUA       -        (21) 973373045  |  E-mail: Controle@zirannordeste.com.br; gate@zirannordeste.com.br"}]
["BRSUA","45GP","TCNU4044656","Nao","Ziranlog SUA ",{"$f":"VLOOKUP(E402,'Padrão mensagem'!$A$3:$B$67,2,0)","v":"Ziranlog SUA       -        (21) 973373045  |  E-mail: Controle@zirannordeste.com.br; gate@zirannordeste.com.br"}]
["BRSUA","45GP","TCLU9532527","Nao","Ziranlog SUA ",{"$f":"VLOOKUP(E403,'Padrão mensagem'!$A$3:$B$67,2,0)","v":"Ziranlog SUA       -        (21) 973373045  |  E-mail: Controle@zirannordeste.com.br; gate@zirannordeste.com.br"}]
["BRSUA","45GP","HLBU2592520","Nao","Ziranlog SUA ",{"$f":"VLOOKUP(E404,'Padrão mensagem'!$A$3:$B$67,2,0)","v":"Ziranlog SUA       -        (21) 973373045  |  E-mail: Controle@zirannordeste.com.br; gate@zirannordeste.com.br"}]
["BRMAO","22GP","FCIU2535655","Nao","SUPER TERMINAIS",{"$f":"VLOOKUP(E405,'Padrão mensagem'!$A$3:$B$67,2,0)","v":"Depot Super Terminais - (92) 3616-2650 / E-mails: coordenacao.depot@superterminais.com.br; reparos.container@superterminais.com.br"}]
["BRMAO","22GP","HLBU2739313","Nao","SUPER TERMINAIS",{"$f":"VLOOKUP(E406,'Padrão mensagem'!$A$3:$B$67,2,0)","v":"Depot Super Terminais - (92) 3616-2650 / E-mails: coordenacao.depot@superterminais.com.br; reparos.container@superterminais.com.br"}]
["BRMAO","45GP","BEAU4363315","Nao","SUPER TERMINAIS",{"$f":"VLOOKUP(E407,'Padrão mensagem'!$A$3:$B$67,2,0)","v":"Depot Super Terminais - (92) 3616-2650 / E-mails: coordenacao.depot@superterminais.com.br; reparos.container@superterminais.com.br"}]
["BRMAO","45GP","HAMU1219240","Nao","SUPER TERMINAIS",{"$f":"VLOOKUP(E408,'Padrão mensagem'!$A$3:$B$67,2,0)","v":"Depot Super Terminais - (92) 3616-2650 / E-mails: coordenacao.depot@superterminais.com.br; reparos.container@superterminais.com.br"}]
["BRMAO","45GP","TCLU1888070","Nao","SUPER TERMINAIS",{"$f":"VLOOKUP(E409,'Padrão mensagem'!$A$3:$B$67,2,0)","v":"Depot Super Terminais - (92) 3616-2650 / E-mails: coordenacao.depot@superterminais.com.br; reparos.container@superterminais.com.br"}]
["BRMAO","45GP","FANU1554805","Nao","SUPER TERMINAIS",{"$f":"VLOOKUP(E410,'Padrão mensagem'!$A$3:$B$67,2,0)","v":"Depot Super Terminais - (92) 3616-2650 / E-mails: coordenacao.depot@superterminais.com.br; reparos.container@superterminais.com.br"}]
["BRMAO","45GP","HLXU8337556","Nao","SUPER TERMINAIS",{"$f":"VLOOKUP(E411,'Padrão mensagem'!$A$3:$B$67,2,0)","v":"Depot Super Terminais - (92) 3616-2650 / E-mails: coordenacao.depot@superterminais.com.br; reparos.container@superterminais.com.br"}]
["BRMAO","45GP","TGBU6065513","Nao","SUPER TERMINAIS",{"$f":"VLOOKUP(E412,'Padrão mensagem'!$A$3:$B$67,2,0)","v":"Depot Super Terminais - (92) 3616-2650 / E-mails: coordenacao.depot@superterminais.com.br; reparos.container@superterminais.com.br"}]
["BRMAO","45GP","FANU3732803","Nao","SUPER TERMINAIS",{"$f":"VLOOKUP(E413,'Padrão mensagem'!$A$3:$B$67,2,0)","v":"Depot Super Terminais - (92) 3616-2650 / E-mails: coordenacao.depot@superterminais.com.br; reparos.container@superterminais.com.br"}]
["BRMAO","45GP","TCLU6478989","Nao","SUPER TERMINAIS",{"$f":"VLOOKUP(E414,'Padrão mensagem'!$A$3:$B$67,2,0)","v":"Depot Super Terminais - (92) 3616-2650 / E-mails: coordenacao.depot@superterminais.com.br; reparos.container@superterminais.com.br"}]
["BRMAO","45GP","FDCU0240130","Nao","SUPER TERMINAIS",{"$f":"VLOOKUP(E415,'Padrão mensagem'!$A$3:$B$67,2,0)","v":"Depot Super Terminais - (92) 3616-2650 / E-mails: coordenacao.depot@superterminais.com.br; reparos.container@superterminais.com.br"}]
["BRMAO","45GP","HLBU2183939","Nao","SUPER TERMINAIS",{"$f":"VLOOKUP(E416,'Padrão mensagem'!$A$3:$B$67,2,0)","v":"Depot Super Terminais - (92) 3616-2650 / E-mails: coordenacao.depot@superterminais.com.br; reparos.container@superterminais.com.br"}]
["BRMAO","45GP","HLBU2694076","Nao","SUPER TERMINAIS",{"$f":"VLOOKUP(E417,'Padrão mensagem'!$A$3:$B$67,2,0)","v":"Depot Super Terminais - (92) 3616-2650 / E-mails: coordenacao.depot@superterminais.com.br; reparos.container@superterminais.com.br"}]
["BRMAO","45GP","HLBU1288278","Nao","SUPER TERMINAIS",{"$f":"VLOOKUP(E418,'Padrão mensagem'!$A$3:$B$67,2,0)","v":"Depot Super Terminais - (92) 3616-2650 / E-mails: coordenacao.depot@superterminais.com.br; reparos.container@superterminais.com.br"}]
["BRMAO","45GP","BEAU4546234","Nao","SUPER TERMINAIS",{"$f":"VLOOKUP(E419,'Padrão mensagem'!$A$3:$B$67,2,0)","v":"Depot Super Terminais - (92) 3616-2650 / E-mails: coordenacao.depot@superterminais.com.br; reparos.container@superterminais.com.br"}]
["BRMAO","45GP","HLBU1152614","Nao","SUPER TERMINAIS",{"$f":"VLOOKUP(E420,'Padrão mensagem'!$A$3:$B$67,2,0)","v":"Depot Super Terminais - (92) 3616-2650 / E-mails: coordenacao.depot@superterminais.com.br; reparos.container@superterminais.com.br"}]
["BRMAO","45GP","UETU5815266","Nao","SUPER TERMINAIS",{"$f":"VLOOKUP(E421,'Padrão mensagem'!$A$3:$B$67,2,0)","v":"Depot Super Terminais - (92) 3616-2650 / E-mails: coordenacao.depot@superterminais.com.br; reparos.container@superterminais.com.br"}]
["BRMAO","45GP","FANU1640204","Nao","SUPER TERMINAIS",{"$f":"VLOOKUP(E422,'Padrão mensagem'!$A$3:$B$67,2,0)","v":"Depot Super Terminais - (92) 3616-2650 / E-mails: coordenacao.depot@superterminais.com.br; reparos.container@superterminais.com.br"}]
["BRMAO","45GP","TCNU7332363","Nao","SUPER TERMINAIS",{"$f":"VLOOKUP(E423,'Padrão mensagem'!$A$3:$B$67,2,0)","v":"Depot Super Terminais - (92) 3616-2650 / E-mails: coordenacao.depot@superterminais.com.br; reparos.container@superterminais.com.br"}]
["BRMAO","45GP","HLXU8305836","Nao","SUPER TERMINAIS",{"$f":"VLOOKUP(E424,'Padrão mensagem'!$A$3:$B$67,2,0)","v":"Depot Super Terminais - (92) 3616-2650 / E-mails: coordenacao.depot@superterminais.com.br; reparos.container@superterminais.com.br"}]
["BRMAO","45GP","BEAU4459680","Nao","SUPER TERMINAIS",{"$f":"VLOOKUP(E425,'Padrão mensagem'!$A$3:$B$67,2,0)","v":"Depot Super Terminais - (92) 3616-2650 / E-mails: coordenacao.depot@superterminais.com.br; reparos.container@superterminais.com.br"}]
["BRMAO","45GP","HAMU1134652","Nao","SUPER TERMINAIS",{"$f":"VLOOKUP(E426,'Padrão mensagem'!$A$3:$B$67,2,0)","v":"Depot Super Terminais - (92) 3616-2650 / E-mails: coordenacao.depot@superterminais.com.br; reparos.container@superterminais.com.br"}]
["BRMAO","45GP","UACU5666086","Nao","SUPER TERMINAIS",{"$f":"VLOOKUP(E427,'Padrão mensagem'!$A$3:$B$67,2,0)","v":"Depot Super Terminais - (92) 3616-2650 / E-mails: coordenacao.depot@superterminais.com.br; reparos.container@superterminais.com.br"}]
["BRMAO","45GP","UACU6021883","Nao","SUPER TERMINAIS",{"$f":"VLOOKUP(E428,'Padrão mensagem'!$A$3:$B$67,2,0)","v":"Depot Super Terminais - (92) 3616-2650 / E-mails: coordenacao.depot@superterminais.com.br; reparos.container@superterminais.com.br"}]
["BRMAO","45GP","GCXU5306001","Nao","SUPER TERMINAIS",{"$f":"VLOOKUP(E429,'Padrão mensagem'!$A$3:$B$67,2,0)","v":"Depot Super Terminais - (92) 3616-2650 / E-mails: coordenacao.depot@superterminais.com.br; reparos.container@superterminais.com.br"}]
["BRMAO","45GP","FDCU0311872","Nao","SUPER TERMINAIS",{"$f":"VLOOKUP(E430,'Padrão mensagem'!$A$3:$B$67,2,0)","v":"Depot Super Terminais - (92) 3616-2650 / E-mails: coordenacao.depot@superterminais.com.br; reparos.container@superterminais.com.br"}]
["BRMAO","45GP","HAMU1436251","Nao","SUPER TERMINAIS",{"$f":"VLOOKUP(E431,'Padrão mensagem'!$A$3:$B$67,2,0)","v":"Depot Super Terminais - (92) 3616-2650 / E-mails: coordenacao.depot@superterminais.com.br; reparos.container@superterminais.com.br"}]
["BRMAO","45GP","UASU1014245","Nao","SUPER TERMINAIS",{"$f":"VLOOKUP(E432,'Padrão mensagem'!$A$3:$B$67,2,0)","v":"Depot Super Terminais - (92) 3616-2650 / E-mails: coordenacao.depot@superterminais.com.br; reparos.container@superterminais.com.br"}]
["BRMAO","45GP","FDCU0123052","Nao","SUPER TERMINAIS",{"$f":"VLOOKUP(E433,'Padrão mensagem'!$A$3:$B$67,2,0)","v":"Depot Super Terminais - (92) 3616-2650 / E-mails: coordenacao.depot@superterminais.com.br; reparos.container@superterminais.com.br"}]
["BRMAO","45GP","CAIU8663167","Nao","SUPER TERMINAIS",{"$f":"VLOOKUP(E434,'Padrão mensagem'!$A$3:$B$67,2,0)","v":"Depot Super Terminais - (92) 3616-2650 / E-mails: coordenacao.depot@superterminais.com.br; reparos.container@superterminais.com.br"}]
["BRMAO","45GP","UACU5543902","Nao","SUPER TERMINAIS",{"$f":"VLOOKUP(E435,'Padrão mensagem'!$A$3:$B$67,2,0)","v":"Depot Super Terminais - (92) 3616-2650 / E-mails: coordenacao.depot@superterminais.com.br; reparos.container@superterminais.com.br"}]
["BRMAO","45GP","UACU5934168","Nao","SUPER TERMINAIS",{"$f":"VLOOKUP(E436,'Padrão mensagem'!$A$3:$B$67,2,0)","v":"Depot Super Terminais - (92) 3616-2650 / E-mails: coordenacao.depot@superterminais.com.br; reparos.container@superterminais.com.br"}]
["BRMAO","45GP","FCIU7040957","Nao","SUPER TERMINAIS",{"$f":"VLOOKUP(E437,'Padrão mensagem'!$A$3:$B$67,2,0)","v":"Depot Super Terminais - (92) 3616-2650 / E-mails: coordenacao.depot@superterminais.com.br; reparos.container@superterminais.com.br"}]
["BRMAO","45GP","FANU3017148","Nao","SUPER TERMINAIS",{"$f":"VLOOKUP(E438,'Padrão mensagem'!$A$3:$B$67,2,0)","v":"Depot Super Terminais - (92) 3616-2650 / E-mails: coordenacao.depot@superterminais.com.br; reparos.container@superterminais.com.br"}]
["BRMAO","45GP","HLXU8364016","Nao","SUPER TERMINAIS",{"$f":"VLOOKUP(E439,'Padrão mensagem'!$A$3:$B$67,2,0)","v":"Depot Super Terminais - (92) 3616-2650 / E-mails: coordenacao.depot@superterminais.com.br; reparos.container@superterminais.com.br"}]
["BRMAO","45GP","HLXU8081166","Nao","SUPER TERMINAIS",{"$f":"VLOOKUP(E440,'Padrão mensagem'!$A$3:$B$67,2,0)","v":"Depot Super Terminais - (92) 3616-2650 / E-mails: coordenacao.depot@superterminais.com.br; reparos.container@superterminais.com.br"}]
["BRMAO","45GP","CAIU8504442","Nao","SUPER TERMINAIS",{"$f":"VLOOKUP(E441,'Padrão mensagem'!$A$3:$B$67,2,0)","v":"Depot Super Terminais - (92) 3616-2650 / E-mails: coordenacao.depot@superterminais.com.br; reparos.container@superterminais.com.br"}]
["BRMAO","45GP","CAIU9569200","Nao","SUPER TERMINAIS",{"$f":"VLOOKUP(E442,'Padrão mensagem'!$A$3:$B$67,2,0)","v":"Depot Super Terminais - (92) 3616-2650 / E-mails: coordenacao.depot@superterminais.com.br; reparos.container@superterminais.com.br"}]
["BRMAO","45GP","HLBU3109005","Nao","SUPER TERMINAIS",{"$f":"VLOOKUP(E443,'Padrão mensagem'!$A$3:$B$67,2,0)","v":"Depot Super Terminais - (92) 3616-2650 / E-mails: coordenacao.depot@superterminais.com.br; reparos.container@superterminais.com.br"}]
["BRMAO","45GP","HLBU2025276","Nao","SUPER TERMINAIS",{"$f":"VLOOKUP(E444,'Padrão mensagem'!$A$3:$B$67,2,0)","v":"Depot Super Terminais - (92) 3616-2650 / E-mails: coordenacao.depot@superterminais.com.br; reparos.container@superterminais.com.br"}]
["BRMAO","45GP","FANU3872148","Nao","SUPER TERMINAIS",{"$f":"VLOOKUP(E445,'Padrão mensagem'!$A$3:$B$67,2,0)","v":"Depot Super Terminais - (92) 3616-2650 / E-mails: coordenacao.depot@superterminais.com.br; reparos.container@superterminais.com.br"}]
["BRMAO","45GP","FANU3693590","Nao","SUPER TERMINAIS",{"$f":"VLOOKUP(E446,'Padrão mensagem'!$A$3:$B$67,2,0)","v":"Depot Super Terminais - (92) 3616-2650 / E-mails: coordenacao.depot@superterminais.com.br; reparos.container@superterminais.com.br"}]
["BRMAO","45GP","TEMU8422610","Nao","SUPER TERMINAIS",{"$f":"VLOOKUP(E447,'Padrão mensagem'!$A$3:$B$67,2,0)","v":"Depot Super Terminais - (92) 3616-2650 / E-mails: coordenacao.depot@superterminais.com.br; reparos.container@superterminais.com.br"}]
["BRMAO","45GP","TEMU6575517","Nao","SUPER TERMINAIS",{"$f":"VLOOKUP(E448,'Padrão mensagem'!$A$3:$B$67,2,0)","v":"Depot Super Terminais - (92) 3616-2650 / E-mails: coordenacao.depot@superterminais.com.br; reparos.container@superterminais.com.br"}]
["BRMAO","45GP","HLBU3232581","Nao","SUPER TERMINAIS",{"$f":"VLOOKUP(E449,'Padrão mensagem'!$A$3:$B$67,2,0)","v":"Depot Super Terminais - (92) 3616-2650 / E-mails: coordenacao.depot@superterminais.com.br; reparos.container@superterminais.com.br"}]
["BRMAO","45GP","TCNU5338104","Nao","SUPER TERMINAIS",{"$f":"VLOOKUP(E450,'Padrão mensagem'!$A$3:$B$67,2,0)","v":"Depot Super Terminais - (92) 3616-2650 / E-mails: coordenacao.depot@superterminais.com.br; reparos.container@superterminais.com.br"}]
["BRMAO","45GP","UACU5768196","Nao","SUPER TERMINAIS",{"$f":"VLOOKUP(E451,'Padrão mensagem'!$A$3:$B$67,2,0)","v":"Depot Super Terminais - (92) 3616-2650 / E-mails: coordenacao.depot@superterminais.com.br; reparos.container@superterminais.com.br"}]
["BRMAO","45GP","HAMU2269483","Nao","SUPER TERMINAIS",{"$f":"VLOOKUP(E452,'Padrão mensagem'!$A$3:$B$67,2,0)","v":"Depot Super Terminais - (92) 3616-2650 / E-mails: coordenacao.depot@superterminais.com.br; reparos.container@superterminais.com.br"}]
["BRMAO","45GP","HAMU2260090","Nao","SUPER TERMINAIS",{"$f":"VLOOKUP(E453,'Padrão mensagem'!$A$3:$B$67,2,0)","v":"Depot Super Terminais - (92) 3616-2650 / E-mails: coordenacao.depot@superterminais.com.br; reparos.container@superterminais.com.br"}]
["BRMAO","45GP","HAMU2503077","Nao","SUPER TERMINAIS",{"$f":"VLOOKUP(E454,'Padrão mensagem'!$A$3:$B$67,2,0)","v":"Depot Super Terminais - (92) 3616-2650 / E-mails: coordenacao.depot@superterminais.com.br; reparos.container@superterminais.com.br"}]
["BRMAO","45GP","HLBU2451625","Nao","SUPER TERMINAIS",{"$f":"VLOOKUP(E455,'Padrão mensagem'!$A$3:$B$67,2,0)","v":"Depot Super Terminais - (92) 3616-2650 / E-mails: coordenacao.depot@superterminais.com.br; reparos.container@superterminais.com.br"}]
["BRMAO","45GP","UACU6018719","Nao","SUPER TERMINAIS",{"$f":"VLOOKUP(E456,'Padrão mensagem'!$A$3:$B$67,2,0)","v":"Depot Super Terminais - (92) 3616-2650 / E-mails: coordenacao.depot@superterminais.com.br; reparos.container@superterminais.com.br"}]
["BRMAO","45GP","CAAU6966541","Nao","SUPER TERMINAIS",{"$f":"VLOOKUP(E457,'Padrão mensagem'!$A$3:$B$67,2,0)","v":"Depot Super Terminais - (92) 3616-2650 / E-mails: coordenacao.depot@superterminais.com.br; reparos.container@superterminais.com.br"}]
["BRMAO","45GP","HLBU3109113","Nao","SUPER TERMINAIS",{"$f":"VLOOKUP(E458,'Padrão mensagem'!$A$3:$B$67,2,0)","v":"Depot Super Terminais - (92) 3616-2650 / E-mails: coordenacao.depot@superterminais.com.br; reparos.container@superterminais.com.br"}]
["BRMAO","45GP","HAMU1231858","Nao","SUPER TERMINAIS",{"$f":"VLOOKUP(E459,'Padrão mensagem'!$A$3:$B$67,2,0)","v":"Depot Super Terminais - (92) 3616-2650 / E-mails: coordenacao.depot@superterminais.com.br; reparos.container@superterminais.com.br"}]
["BRMAO","45GP","BMOU4081851","Nao","SUPER TERMINAIS",{"$f":"VLOOKUP(E460,'Padrão mensagem'!$A$3:$B$67,2,0)","v":"Depot Super Terminais - (92) 3616-2650 / E-mails: coordenacao.depot@superterminais.com.br; reparos.container@superterminais.com.br"}]
["BRMAO","45GP","TCNU1424837","Nao","SUPER TERMINAIS",{"$f":"VLOOKUP(E461,'Padrão mensagem'!$A$3:$B$67,2,0)","v":"Depot Super Terminais - (92) 3616-2650 / E-mails: coordenacao.depot@superterminais.com.br; reparos.container@superterminais.com.br"}]
["BRMAO","45GP","TEMU7595415","Nao","SUPER TERMINAIS",{"$f":"VLOOKUP(E462,'Padrão mensagem'!$A$3:$B$67,2,0)","v":"Depot Super Terminais - (92) 3616-2650 / E-mails: coordenacao.depot@superterminais.com.br; reparos.container@superterminais.com.br"}]
["BRMAO","45GP","BSIU8211157","Nao","SUPER TERMINAIS",{"$f":"VLOOKUP(E463,'Padrão mensagem'!$A$3:$B$67,2,0)","v":"Depot Super Terminais - (92) 3616-2650 / E-mails: coordenacao.depot@superterminais.com.br; reparos.container@superterminais.com.br"}]
["BRMAO","45GP","UACU5584516","Nao","SUPER TERMINAIS",{"$f":"VLOOKUP(E464,'Padrão mensagem'!$A$3:$B$67,2,0)","v":"Depot Super Terminais - (92) 3616-2650 / E-mails: coordenacao.depot@superterminais.com.br; reparos.container@superterminais.com.br"}]
["BRMAO","45GP","CAAU5688960","Nao","SUPER TERMINAIS",{"$f":"VLOOKUP(E465,'Padrão mensagem'!$A$3:$B$67,2,0)","v":"Depot Super Terminais - (92) 3616-2650 / E-mails: coordenacao.depot@superterminais.com.br; reparos.container@superterminais.com.br"}]
["BRMAO","45GP","DFSU6634710","Nao","SUPER TERMINAIS",{"$f":"VLOOKUP(E466,'Padrão mensagem'!$A$3:$B$67,2,0)","v":"Depot Super Terminais - (92) 3616-2650 / E-mails: coordenacao.depot@superterminais.com.br; reparos.container@superterminais.com.br"}]
["BRMAO","42GP","HLBU1266957","Nao","SUPER TERMINAIS",{"$f":"VLOOKUP(E467,'Padrão mensagem'!$A$3:$B$67,2,0)","v":"Depot Super Terminais - (92) 3616-2650 / E-mails: coordenacao.depot@superterminais.com.br; reparos.container@superterminais.com.br"}]
["BRMAO","45RT","HLBU9633149","Nao","SUPER TERMINAIS",{"$f":"VLOOKUP(E468,'Padrão mensagem'!$A$3:$B$67,2,0)","v":"Depot Super Terminais - (92) 3616-2650 / E-mails: coordenacao.depot@superterminais.com.br; reparos.container@superterminais.com.br"}]
["BRMAO","45RT","HLBU9940417","Nao","SUPER TERMINAIS",{"$f":"VLOOKUP(E469,'Padrão mensagem'!$A$3:$B$67,2,0)","v":"Depot Super Terminais - (92) 3616-2650 / E-mails: coordenacao.depot@superterminais.com.br; reparos.container@superterminais.com.br"}]
["BRMAO","45GP","FANU3277931","Nao","SUPER TERMINAIS",{"$f":"VLOOKUP(E470,'Padrão mensagem'!$A$3:$B$67,2,0)","v":"Depot Super Terminais - (92) 3616-2650 / E-mails: coordenacao.depot@superterminais.com.br; reparos.container@superterminais.com.br"}]
["BRMAO","45GP","SLSU8052547","Nao","SUPER TERMINAIS",{"$f":"VLOOKUP(E471,'Padrão mensagem'!$A$3:$B$67,2,0)","v":"Depot Super Terminais - (92) 3616-2650 / E-mails: coordenacao.depot@superterminais.com.br; reparos.container@superterminais.com.br"}]
["BRMAO","45GP","TCNU1947843","Nao","SUPER TERMINAIS",{"$f":"VLOOKUP(E472,'Padrão mensagem'!$A$3:$B$67,2,0)","v":"Depot Super Terminais - (92) 3616-2650 / E-mails: coordenacao.depot@superterminais.com.br; reparos.container@superterminais.com.br"}]
["BRMAO","45GP","UACU5467084","Nao","SUPER TERMINAIS",{"$f":"VLOOKUP(E473,'Padrão mensagem'!$A$3:$B$67,2,0)","v":"Depot Super Terminais - (92) 3616-2650 / E-mails: coordenacao.depot@superterminais.com.br; reparos.container@superterminais.com.br"}]
["BRMAO","45GP","FANU3557700","Nao","SUPER TERMINAIS",{"$f":"VLOOKUP(E474,'Padrão mensagem'!$A$3:$B$67,2,0)","v":"Depot Super Terminais - (92) 3616-2650 / E-mails: coordenacao.depot@superterminais.com.br; reparos.container@superterminais.com.br"}]
["BRMAO","45GP","BSIU9649235","Nao","SUPER TERMINAIS",{"$f":"VLOOKUP(E475,'Padrão mensagem'!$A$3:$B$67,2,0)","v":"Depot Super Terminais - (92) 3616-2650 / E-mails: coordenacao.depot@superterminais.com.br; reparos.container@superterminais.com.br"}]
["BRMAO","45GP","HAMU1145030","Nao","SUPER TERMINAIS",{"$f":"VLOOKUP(E476,'Padrão mensagem'!$A$3:$B$67,2,0)","v":"Depot Super Terminais - (92) 3616-2650 / E-mails: coordenacao.depot@superterminais.com.br; reparos.container@superterminais.com.br"}]
["BRMAO","45GP","HLXU8046777","Nao","SUPER TERMINAIS",{"$f":"VLOOKUP(E477,'Padrão mensagem'!$A$3:$B$67,2,0)","v":"Depot Super Terminais - (92) 3616-2650 / E-mails: coordenacao.depot@superterminais.com.br; reparos.container@superterminais.com.br"}]
["BRMAO","45GP","CAIU7692854","Nao","SUPER TERMINAIS",{"$f":"VLOOKUP(E478,'Padrão mensagem'!$A$3:$B$67,2,0)","v":"Depot Super Terminais - (92) 3616-2650 / E-mails: coordenacao.depot@superterminais.com.br; reparos.container@superterminais.com.br"}]
["BRMAO","45GP","TGBU5867010","Nao","SUPER TERMINAIS",{"$f":"VLOOKUP(E479,'Padrão mensagem'!$A$3:$B$67,2,0)","v":"Depot Super Terminais - (92) 3616-2650 / E-mails: coordenacao.depot@superterminais.com.br; reparos.container@superterminais.com.br"}]
["BRMAO","45GP","HAMU2443300","Nao","SUPER TERMINAIS",{"$f":"VLOOKUP(E480,'Padrão mensagem'!$A$3:$B$67,2,0)","v":"Depot Super Terminais - (92) 3616-2650 / E-mails: coordenacao.depot@superterminais.com.br; reparos.container@superterminais.com.br"}]
["BRMAO","45GP","HAMU2461454","Nao","SUPER TERMINAIS",{"$f":"VLOOKUP(E481,'Padrão mensagem'!$A$3:$B$67,2,0)","v":"Depot Super Terminais - (92) 3616-2650 / E-mails: coordenacao.depot@superterminais.com.br; reparos.container@superterminais.com.br"}]
["BRMAO","45GP","HAMU2453130","Nao","SUPER TERMINAIS",{"$f":"VLOOKUP(E482,'Padrão mensagem'!$A$3:$B$67,2,0)","v":"Depot Super Terminais - (92) 3616-2650 / E-mails: coordenacao.depot@superterminais.com.br; reparos.container@superterminais.com.br"}]
["BRMAO","45GP","HAMU2453063","Nao","SUPER TERMINAIS",{"$f":"VLOOKUP(E483,'Padrão mensagem'!$A$3:$B$67,2,0)","v":"Depot Super Terminais - (92) 3616-2650 / E-mails: coordenacao.depot@superterminais.com.br; reparos.container@superterminais.com.br"}]
["BRMAO","22GP","FANU1375651","Nao","SUPER TERMINAIS",{"$f":"VLOOKUP(E484,'Padrão mensagem'!$A$3:$B$67,2,0)","v":"Depot Super Terminais - (92) 3616-2650 / E-mails: coordenacao.depot@superterminais.com.br; reparos.container@superterminais.com.br"}]
["BRMAO","45GP","UETU5908040","Nao","SUPER TERMINAIS",{"$f":"VLOOKUP(E485,'Padrão mensagem'!$A$3:$B$67,2,0)","v":"Depot Super Terminais - (92) 3616-2650 / E-mails: coordenacao.depot@superterminais.com.br; reparos.container@superterminais.com.br"}]
["BRMAO","45GP","CAAU5577334","Nao","SUPER TERMINAIS",{"$f":"VLOOKUP(E486,'Padrão mensagem'!$A$3:$B$67,2,0)","v":"Depot Super Terminais - (92) 3616-2650 / E-mails: coordenacao.depot@superterminais.com.br; reparos.container@superterminais.com.br"}]
["BRMAO","45GP","HLBU3402179","Nao","SUPER TERMINAIS",{"$f":"VLOOKUP(E487,'Padrão mensagem'!$A$3:$B$67,2,0)","v":"Depot Super Terminais - (92) 3616-2650 / E-mails: coordenacao.depot@superterminais.com.br; reparos.container@superterminais.com.br"}]
["BRMAO","45GP","TEMU7596622","Nao","SUPER TERMINAIS",{"$f":"VLOOKUP(E488,'Padrão mensagem'!$A$3:$B$67,2,0)","v":"Depot Super Terminais - (92) 3616-2650 / E-mails: coordenacao.depot@superterminais.com.br; reparos.container@superterminais.com.br"}]
["BRMAO","45GP","GCXU5877593","Nao","SUPER TERMINAIS",{"$f":"VLOOKUP(E489,'Padrão mensagem'!$A$3:$B$67,2,0)","v":"Depot Super Terminais - (92) 3616-2650 / E-mails: coordenacao.depot@superterminais.com.br; reparos.container@superterminais.com.br"}]
["BRMAO","22GP","UACU4129890","Nao","SUPER TERMINAIS",{"$f":"VLOOKUP(E490,'Padrão mensagem'!$A$3:$B$67,2,0)","v":"Depot Super Terminais - (92) 3616-2650 / E-mails: coordenacao.depot@superterminais.com.br; reparos.container@superterminais.com.br"}]
["BRMAO","45GP","HAMU2452576","Nao","SUPER TERMINAIS",{"$f":"VLOOKUP(E491,'Padrão mensagem'!$A$3:$B$67,2,0)","v":"Depot Super Terminais - (92) 3616-2650 / E-mails: coordenacao.depot@superterminais.com.br; reparos.container@superterminais.com.br"}]
["BRMAO","45GP","HAMU2452771","Nao","SUPER TERMINAIS",{"$f":"VLOOKUP(E492,'Padrão mensagem'!$A$3:$B$67,2,0)","v":"Depot Super Terminais - (92) 3616-2650 / E-mails: coordenacao.depot@superterminais.com.br; reparos.container@superterminais.com.br"}]
["BRMAO","45GP","HAMU2453145","Nao","SUPER TERMINAIS",{"$f":"VLOOKUP(E493,'Padrão mensagem'!$A$3:$B$67,2,0)","v":"Depot Super Terminais - (92) 3616-2650 / E-mails: coordenacao.depot@superterminais.com.br; reparos.container@superterminais.com.br"}]
["BRMAO","45GP","HAMU2500890","Nao","SUPER TERMINAIS",{"$f":"VLOOKUP(E494,'Padrão mensagem'!$A$3:$B$67,2,0)","v":"Depot Super Terminais - (92) 3616-2650 / E-mails: coordenacao.depot@superterminais.com.br; reparos.container@superterminais.com.br"}]
["BRMAO","45GP","HAMU2501290","Nao","SUPER TERMINAIS",{"$f":"VLOOKUP(E495,'Padrão mensagem'!$A$3:$B$67,2,0)","v":"Depot Super Terminais - (92) 3616-2650 / E-mails: coordenacao.depot@superterminais.com.br; reparos.container@superterminais.com.br"}]
["BRMAO","45GP","HLBU2687821","Nao","SUPER TERMINAIS",{"$f":"VLOOKUP(E496,'Padrão mensagem'!$A$3:$B$67,2,0)","v":"Depot Super Terminais - (92) 3616-2650 / E-mails: coordenacao.depot@superterminais.com.br; reparos.container@superterminais.com.br"}]
["BRMAO","45GP","HAMU2500870","Nao","SUPER TERMINAIS",{"$f":"VLOOKUP(E497,'Padrão mensagem'!$A$3:$B$67,2,0)","v":"Depot Super Terminais - (92) 3616-2650 / E-mails: coordenacao.depot@superterminais.com.br; reparos.container@superterminais.com.br"}]
["BRMAO","45GP","HAMU2438412","Nao","SUPER TERMINAIS",{"$f":"VLOOKUP(E498,'Padrão mensagem'!$A$3:$B$67,2,0)","v":"Depot Super Terminais - (92) 3616-2650 / E-mails: coordenacao.depot@superterminais.com.br; reparos.container@superterminais.com.br"}]
["BRMAO","45GP","CAAU6784589","Nao","SUPER TERMINAIS",{"$f":"VLOOKUP(E499,'Padrão mensagem'!$A$3:$B$67,2,0)","v":"Depot Super Terminais - (92) 3616-2650 / E-mails: coordenacao.depot@superterminais.com.br; reparos.container@superterminais.com.br"}]
["BRMAO","45GP","HLBU3274397","Nao","SUPER TERMINAIS",{"$f":"VLOOKUP(E500,'Padrão mensagem'!$A$3:$B$67,2,0)","v":"Depot Super Terminais - (92) 3616-2650 / E-mails: coordenacao.depot@superterminais.com.br; reparos.container@superterminais.com.br"}]
["BRMAO","45GP","HAMU1335071","Nao","SUPER TERMINAIS",{"$f":"VLOOKUP(E501,'Padrão mensagem'!$A$3:$B$67,2,0)","v":"Depot Super Terminais - (92) 3616-2650 / E-mails: coordenacao.depot@superterminais.com.br; reparos.container@superterminais.com.br"}]
["BRMAO","45GP","GCXU5989130","Nao","SUPER TERMINAIS",{"$f":"VLOOKUP(E502,'Padrão mensagem'!$A$3:$B$67,2,0)","v":"Depot Super Terminais - (92) 3616-2650 / E-mails: coordenacao.depot@superterminais.com.br; reparos.container@superterminais.com.br"}]
["BRMAO","45GP","HLBU1754967","Nao","SUPER TERMINAIS",{"$f":"VLOOKUP(E503,'Padrão mensagem'!$A$3:$B$67,2,0)","v":"Depot Super Terminais - (92) 3616-2650 / E-mails: coordenacao.depot@superterminais.com.br; reparos.container@superterminais.com.br"}]
["BRMAO","45GP","FCIU9158276","Nao","SUPER TERMINAIS",{"$f":"VLOOKUP(E504,'Padrão mensagem'!$A$3:$B$67,2,0)","v":"Depot Super Terminais - (92) 3616-2650 / E-mails: coordenacao.depot@superterminais.com.br; reparos.container@superterminais.com.br"}]
["BRMAO","45GP","FANU1739060","Nao","SUPER TERMINAIS",{"$f":"VLOOKUP(E505,'Padrão mensagem'!$A$3:$B$67,2,0)","v":"Depot Super Terminais - (92) 3616-2650 / E-mails: coordenacao.depot@superterminais.com.br; reparos.container@superterminais.com.br"}]
["BRMAO","45GP","HAMU1163136","Nao","SUPER TERMINAIS",{"$f":"VLOOKUP(E506,'Padrão mensagem'!$A$3:$B$67,2,0)","v":"Depot Super Terminais - (92) 3616-2650 / E-mails: coordenacao.depot@superterminais.com.br; reparos.container@superterminais.com.br"}]
["BRMAO","45GP","SEGU5446360","Nao","SUPER TERMINAIS",{"$f":"VLOOKUP(E507,'Padrão mensagem'!$A$3:$B$67,2,0)","v":"Depot Super Terminais - (92) 3616-2650 / E-mails: coordenacao.depot@superterminais.com.br; reparos.container@superterminais.com.br"}]
["BRMAO","45GP","HLBU1867670","Nao","SUPER TERMINAIS",{"$f":"VLOOKUP(E508,'Padrão mensagem'!$A$3:$B$67,2,0)","v":"Depot Super Terminais - (92) 3616-2650 / E-mails: coordenacao.depot@superterminais.com.br; reparos.container@superterminais.com.br"}]
["BRMAO","45GP","TGBU9612893","Nao","SUPER TERMINAIS",{"$f":"VLOOKUP(E509,'Padrão mensagem'!$A$3:$B$67,2,0)","v":"Depot Super Terminais - (92) 3616-2650 / E-mails: coordenacao.depot@superterminais.com.br; reparos.container@superterminais.com.br"}]
["BRMAO","45GP","FANU1075850","Nao","SUPER TERMINAIS",{"$f":"VLOOKUP(E510,'Padrão mensagem'!$A$3:$B$67,2,0)","v":"Depot Super Terminais - (92) 3616-2650 / E-mails: coordenacao.depot@superterminais.com.br; reparos.container@superterminais.com.br"}]
["BRMAO","45GP","TEMU7258029","Nao","SUPER TERMINAIS",{"$f":"VLOOKUP(E511,'Padrão mensagem'!$A$3:$B$67,2,0)","v":"Depot Super Terminais - (92) 3616-2650 / E-mails: coordenacao.depot@superterminais.com.br; reparos.container@superterminais.com.br"}]
["BRMAO","45GP","HLBU2899749","Nao","SUPER TERMINAIS",{"$f":"VLOOKUP(E512,'Padrão mensagem'!$A$3:$B$67,2,0)","v":"Depot Super Terminais - (92) 3616-2650 / E-mails: coordenacao.depot@superterminais.com.br; reparos.container@superterminais.com.br"}]
["BRMAO","45GP","FANU1454895","Nao","SUPER TERMINAIS",{"$f":"VLOOKUP(E513,'Padrão mensagem'!$A$3:$B$67,2,0)","v":"Depot Super Terminais - (92) 3616-2650 / E-mails: coordenacao.depot@superterminais.com.br; reparos.container@superterminais.com.br"}]
["BRMAO","45GP","BMOU4226533","Nao","SUPER TERMINAIS",{"$f":"VLOOKUP(E514,'Padrão mensagem'!$A$3:$B$67,2,0)","v":"Depot Super Terminais - (92) 3616-2650 / E-mails: coordenacao.depot@superterminais.com.br; reparos.container@superterminais.com.br"}]
["BRMAO","45GP","HAMU1879305","Nao","SUPER TERMINAIS",{"$f":"VLOOKUP(E515,'Padrão mensagem'!$A$3:$B$67,2,0)","v":"Depot Super Terminais - (92) 3616-2650 / E-mails: coordenacao.depot@superterminais.com.br; reparos.container@superterminais.com.br"}]
["BRMAO","45GP","HLXU8488341","Nao","SUPER TERMINAIS",{"$f":"VLOOKUP(E516,'Padrão mensagem'!$A$3:$B$67,2,0)","v":"Depot Super Terminais - (92) 3616-2650 / E-mails: coordenacao.depot@superterminais.com.br; reparos.container@superterminais.com.br"}]
["BRMAO","45GP","HLXU8626184","Nao","SUPER TERMINAIS",{"$f":"VLOOKUP(E517,'Padrão mensagem'!$A$3:$B$67,2,0)","v":"Depot Super Terminais - (92) 3616-2650 / E-mails: coordenacao.depot@superterminais.com.br; reparos.container@superterminais.com.br"}]
["BRMAO","45GP","HAMU2452616","Nao","SUPER TERMINAIS",{"$f":"VLOOKUP(E518,'Padrão mensagem'!$A$3:$B$67,2,0)","v":"Depot Super Terminais - (92) 3616-2650 / E-mails: coordenacao.depot@superterminais.com.br; reparos.container@superterminais.com.br"}]
["BRMAO","45GP","HAMU2452642","Nao","SUPER TERMINAIS",{"$f":"VLOOKUP(E519,'Padrão mensagem'!$A$3:$B$67,2,0)","v":"Depot Super Terminais - (92) 3616-2650 / E-mails: coordenacao.depot@superterminais.com.br; reparos.container@superterminais.com.br"}]
["BRMAO","45GP","HAMU2453150","Nao","SUPER TERMINAIS",{"$f":"VLOOKUP(E520,'Padrão mensagem'!$A$3:$B$67,2,0)","v":"Depot Super Terminais - (92) 3616-2650 / E-mails: coordenacao.depot@superterminais.com.br; reparos.container@superterminais.com.br"}]
["BRMAO","45GP","HAMU2444380","Nao","SUPER TERMINAIS",{"$f":"VLOOKUP(E521,'Padrão mensagem'!$A$3:$B$67,2,0)","v":"Depot Super Terminais - (92) 3616-2650 / E-mails: coordenacao.depot@superterminais.com.br; reparos.container@superterminais.com.br"}]
["BRMAO","45GP","HAMU2501310","Nao","SUPER TERMINAIS",{"$f":"VLOOKUP(E522,'Padrão mensagem'!$A$3:$B$67,2,0)","v":"Depot Super Terminais - (92) 3616-2650 / E-mails: coordenacao.depot@superterminais.com.br; reparos.container@superterminais.com.br"}]
["BRMAO","45GP","HAMU2514106","Nao","SUPER TERMINAIS",{"$f":"VLOOKUP(E523,'Padrão mensagem'!$A$3:$B$67,2,0)","v":"Depot Super Terminais - (92) 3616-2650 / E-mails: coordenacao.depot@superterminais.com.br; reparos.container@superterminais.com.br"}]
["BRMAO","45GP","HAMU2514045","Nao","SUPER TERMINAIS",{"$f":"VLOOKUP(E524,'Padrão mensagem'!$A$3:$B$67,2,0)","v":"Depot Super Terminais - (92) 3616-2650 / E-mails: coordenacao.depot@superterminais.com.br; reparos.container@superterminais.com.br"}]
["BRMAO","45GP","HAMU2501285","Nao","SUPER TERMINAIS",{"$f":"VLOOKUP(E525,'Padrão mensagem'!$A$3:$B$67,2,0)","v":"Depot Super Terminais - (92) 3616-2650 / E-mails: coordenacao.depot@superterminais.com.br; reparos.container@superterminais.com.br"}]
["BRMAO","45GP","TXGU7176690","Nao","SUPER TERMINAIS",{"$f":"VLOOKUP(E526,'Padrão mensagem'!$A$3:$B$67,2,0)","v":"Depot Super Terminais - (92) 3616-2650 / E-mails: coordenacao.depot@superterminais.com.br; reparos.container@superterminais.com.br"}]
["BRMAO","45GP","CAXU8139280","Nao","SUPER TERMINAIS",{"$f":"VLOOKUP(E527,'Padrão mensagem'!$A$3:$B$67,2,0)","v":"Depot Super Terminais - (92) 3616-2650 / E-mails: coordenacao.depot@superterminais.com.br; reparos.container@superterminais.com.br"}]
["BRMAO","45GP","MTSU9659895","Nao","SUPER TERMINAIS",{"$f":"VLOOKUP(E528,'Padrão mensagem'!$A$3:$B$67,2,0)","v":"Depot Super Terminais - (92) 3616-2650 / E-mails: coordenacao.depot@superterminais.com.br; reparos.container@superterminais.com.br"}]
["BRMAO","22GP","HLBU3821848","Nao","SUPER TERMINAIS",{"$f":"VLOOKUP(E529,'Padrão mensagem'!$A$3:$B$67,2,0)","v":"Depot Super Terminais - (92) 3616-2650 / E-mails: coordenacao.depot@superterminais.com.br; reparos.container@superterminais.com.br"}]
["BRMAO","45GP","HLBU2083740","Nao","SUPER TERMINAIS",{"$f":"VLOOKUP(E530,'Padrão mensagem'!$A$3:$B$67,2,0)","v":"Depot Super Terminais - (92) 3616-2650 / E-mails: coordenacao.depot@superterminais.com.br; reparos.container@superterminais.com.br"}]
["BRMAO","45GP","UACU5694792","Nao","SUPER TERMINAIS",{"$f":"VLOOKUP(E531,'Padrão mensagem'!$A$3:$B$67,2,0)","v":"Depot Super Terminais - (92) 3616-2650 / E-mails: coordenacao.depot@superterminais.com.br; reparos.container@superterminais.com.br"}]
["BRMAO","45GP","BEAU4983297","Nao","SUPER TERMINAIS",{"$f":"VLOOKUP(E532,'Padrão mensagem'!$A$3:$B$67,2,0)","v":"Depot Super Terminais - (92) 3616-2650 / E-mails: coordenacao.depot@superterminais.com.br; reparos.container@superterminais.com.br"}]
["BRMAO","45GP","FANU3139594","Nao","SUPER TERMINAIS",{"$f":"VLOOKUP(E533,'Padrão mensagem'!$A$3:$B$67,2,0)","v":"Depot Super Terminais - (92) 3616-2650 / E-mails: coordenacao.depot@superterminais.com.br; reparos.container@superterminais.com.br"}]
["BRMAO","45GP","FANU1583104","Nao","SUPER TERMINAIS",{"$f":"VLOOKUP(E534,'Padrão mensagem'!$A$3:$B$67,2,0)","v":"Depot Super Terminais - (92) 3616-2650 / E-mails: coordenacao.depot@superterminais.com.br; reparos.container@superterminais.com.br"}]
["BRMAO","45GP","FANU1300293","Nao","SUPER TERMINAIS",{"$f":"VLOOKUP(E535,'Padrão mensagem'!$A$3:$B$67,2,0)","v":"Depot Super Terminais - (92) 3616-2650 / E-mails: coordenacao.depot@superterminais.com.br; reparos.container@superterminais.com.br"}]
["BRMAO","45GP","HLBU1814454","Nao","SUPER TERMINAIS",{"$f":"VLOOKUP(E536,'Padrão mensagem'!$A$3:$B$67,2,0)","v":"Depot Super Terminais - (92) 3616-2650 / E-mails: coordenacao.depot@superterminais.com.br; reparos.container@superterminais.com.br"}]
["BRMAO","45GP","BSIU8296560","Nao","SUPER TERMINAIS",{"$f":"VLOOKUP(E537,'Padrão mensagem'!$A$3:$B$67,2,0)","v":"Depot Super Terminais - (92) 3616-2650 / E-mails: coordenacao.depot@superterminais.com.br; reparos.container@superterminais.com.br"}]
["BRMAO","45GP","FANU3201509","Nao","SUPER TERMINAIS",{"$f":"VLOOKUP(E538,'Padrão mensagem'!$A$3:$B$67,2,0)","v":"Depot Super Terminais - (92) 3616-2650 / E-mails: coordenacao.depot@superterminais.com.br; reparos.container@superterminais.com.br"}]
["BRMAO","45GP","TCNU6026306","Nao","SUPER TERMINAIS",{"$f":"VLOOKUP(E539,'Padrão mensagem'!$A$3:$B$67,2,0)","v":"Depot Super Terminais - (92) 3616-2650 / E-mails: coordenacao.depot@superterminais.com.br; reparos.container@superterminais.com.br"}]
["BRMAO","45GP","FANU3448016","Nao","SUPER TERMINAIS",{"$f":"VLOOKUP(E540,'Padrão mensagem'!$A$3:$B$67,2,0)","v":"Depot Super Terminais - (92) 3616-2650 / E-mails: coordenacao.depot@superterminais.com.br; reparos.container@superterminais.com.br"}]
["BRMAO","22GP","CAIU6373214","Nao","SUPER TERMINAIS",{"$f":"VLOOKUP(E541,'Padrão mensagem'!$A$3:$B$67,2,0)","v":"Depot Super Terminais - (92) 3616-2650 / E-mails: coordenacao.depot@superterminais.com.br; reparos.container@superterminais.com.br"}]
["BRMAO","45GP","HAMU2471597","Nao","SUPER TERMINAIS",{"$f":"VLOOKUP(E542,'Padrão mensagem'!$A$3:$B$67,2,0)","v":"Depot Super Terminais - (92) 3616-2650 / E-mails: coordenacao.depot@superterminais.com.br; reparos.container@superterminais.com.br"}]
["BRMAO","45GP","HAMU2457990","Nao","SUPER TERMINAIS",{"$f":"VLOOKUP(E543,'Padrão mensagem'!$A$3:$B$67,2,0)","v":"Depot Super Terminais - (92) 3616-2650 / E-mails: coordenacao.depot@superterminais.com.br; reparos.container@superterminais.com.br"}]
["BRMAO","45GP","HAMU2467703","Nao","SUPER TERMINAIS",{"$f":"VLOOKUP(E544,'Padrão mensagem'!$A$3:$B$67,2,0)","v":"Depot Super Terminais - (92) 3616-2650 / E-mails: coordenacao.depot@superterminais.com.br; reparos.container@superterminais.com.br"}]
["BRMAO","45GP","TCNU7080404","Nao","SUPER TERMINAIS",{"$f":"VLOOKUP(E545,'Padrão mensagem'!$A$3:$B$67,2,0)","v":"Depot Super Terminais - (92) 3616-2650 / E-mails: coordenacao.depot@superterminais.com.br; reparos.container@superterminais.com.br"}]
["BRMAO","45GP","FANU3495574","Nao","SUPER TERMINAIS",{"$f":"VLOOKUP(E546,'Padrão mensagem'!$A$3:$B$67,2,0)","v":"Depot Super Terminais - (92) 3616-2650 / E-mails: coordenacao.depot@superterminais.com.br; reparos.container@superterminais.com.br"}]
["BRMAO","45GP","FANU3420301","Nao","SUPER TERMINAIS",{"$f":"VLOOKUP(E547,'Padrão mensagem'!$A$3:$B$67,2,0)","v":"Depot Super Terminais - (92) 3616-2650 / E-mails: coordenacao.depot@superterminais.com.br; reparos.container@superterminais.com.br"}]
["BRMAO","22GP","HAMU1020639","Nao","SUPER TERMINAIS",{"$f":"VLOOKUP(E548,'Padrão mensagem'!$A$3:$B$67,2,0)","v":"Depot Super Terminais - (92) 3616-2650 / E-mails: coordenacao.depot@superterminais.com.br; reparos.container@superterminais.com.br"}]
["BRMAO","45GP","FANU3205762","Nao","SUPER TERMINAIS",{"$f":"VLOOKUP(E549,'Padrão mensagem'!$A$3:$B$67,2,0)","v":"Depot Super Terminais - (92) 3616-2650 / E-mails: coordenacao.depot@superterminais.com.br; reparos.container@superterminais.com.br"}]
["BRMAO","45GP","UACU5612304","Nao","SUPER TERMINAIS",{"$f":"VLOOKUP(E550,'Padrão mensagem'!$A$3:$B$67,2,0)","v":"Depot Super Terminais - (92) 3616-2650 / E-mails: coordenacao.depot@superterminais.com.br; reparos.container@superterminais.com.br"}]
["BRMAO","45GP","FANU3808909","Nao","SUPER TERMINAIS",{"$f":"VLOOKUP(E551,'Padrão mensagem'!$A$3:$B$67,2,0)","v":"Depot Super Terminais - (92) 3616-2650 / E-mails: coordenacao.depot@superterminais.com.br; reparos.container@superterminais.com.br"}]
["BRMAO","45GP","TCLU5975527","Nao","SUPER TERMINAIS",{"$f":"VLOOKUP(E552,'Padrão mensagem'!$A$3:$B$67,2,0)","v":"Depot Super Terminais - (92) 3616-2650 / E-mails: coordenacao.depot@superterminais.com.br; reparos.container@superterminais.com.br"}]
["BRMAO","45GP","FFAU2645001","Nao","SUPER TERMINAIS",{"$f":"VLOOKUP(E553,'Padrão mensagem'!$A$3:$B$67,2,0)","v":"Depot Super Terminais - (92) 3616-2650 / E-mails: coordenacao.depot@superterminais.com.br; reparos.container@superterminais.com.br"}]
["BRMAO","45GP","DFSU7494399","Nao","SUPER TERMINAIS",{"$f":"VLOOKUP(E554,'Padrão mensagem'!$A$3:$B$67,2,0)","v":"Depot Super Terminais - (92) 3616-2650 / E-mails: coordenacao.depot@superterminais.com.br; reparos.container@superterminais.com.br"}]
["BRMAO","45GP","FCIU8530310","Nao","SUPER TERMINAIS",{"$f":"VLOOKUP(E555,'Padrão mensagem'!$A$3:$B$67,2,0)","v":"Depot Super Terminais - (92) 3616-2650 / E-mails: coordenacao.depot@superterminais.com.br; reparos.container@superterminais.com.br"}]
["BRMAO","45GP","UACU5395214","Nao","SUPER TERMINAIS",{"$f":"VLOOKUP(E556,'Padrão mensagem'!$A$3:$B$67,2,0)","v":"Depot Super Terminais - (92) 3616-2650 / E-mails: coordenacao.depot@superterminais.com.br; reparos.container@superterminais.com.br"}]
["BRMAO","45GP","TGHU6235627","Nao","SUPER TERMINAIS",{"$f":"VLOOKUP(E557,'Padrão mensagem'!$A$3:$B$67,2,0)","v":"Depot Super Terminais - (92) 3616-2650 / E-mails: coordenacao.depot@superterminais.com.br; reparos.container@superterminais.com.br"}]
["BRMAO","45GP","TCNU6292754","Nao","SUPER TERMINAIS",{"$f":"VLOOKUP(E558,'Padrão mensagem'!$A$3:$B$67,2,0)","v":"Depot Super Terminais - (92) 3616-2650 / E-mails: coordenacao.depot@superterminais.com.br; reparos.container@superterminais.com.br"}]
["BRMAO","45GP","FANU3683247","Nao","SUPER TERMINAIS",{"$f":"VLOOKUP(E559,'Padrão mensagem'!$A$3:$B$67,2,0)","v":"Depot Super Terminais - (92) 3616-2650 / E-mails: coordenacao.depot@superterminais.com.br; reparos.container@superterminais.com.br"}]
["BRMAO","45GP","SLSU8030321","Nao","SUPER TERMINAIS",{"$f":"VLOOKUP(E560,'Padrão mensagem'!$A$3:$B$67,2,0)","v":"Depot Super Terminais - (92) 3616-2650 / E-mails: coordenacao.depot@superterminais.com.br; reparos.container@superterminais.com.br"}]
["BRMAO","45GP","FDCU0039851","Nao","SUPER TERMINAIS",{"$f":"VLOOKUP(E561,'Padrão mensagem'!$A$3:$B$67,2,0)","v":"Depot Super Terminais - (92) 3616-2650 / E-mails: coordenacao.depot@superterminais.com.br; reparos.container@superterminais.com.br"}]
["BRMAO","45GP","CAAU5553522","Nao","SUPER TERMINAIS",{"$f":"VLOOKUP(E562,'Padrão mensagem'!$A$3:$B$67,2,0)","v":"Depot Super Terminais - (92) 3616-2650 / E-mails: coordenacao.depot@superterminais.com.br; reparos.container@superterminais.com.br"}]
["BRMAO","45GP","FFAU2106967","Nao","SUPER TERMINAIS",{"$f":"VLOOKUP(E563,'Padrão mensagem'!$A$3:$B$67,2,0)","v":"Depot Super Terminais - (92) 3616-2650 / E-mails: coordenacao.depot@superterminais.com.br; reparos.container@superterminais.com.br"}]
["BRMAO","45GP","FANU1771035","Nao","SUPER TERMINAIS",{"$f":"VLOOKUP(E564,'Padrão mensagem'!$A$3:$B$67,2,0)","v":"Depot Super Terminais - (92) 3616-2650 / E-mails: coordenacao.depot@superterminais.com.br; reparos.container@superterminais.com.br"}]
["BRMAO","45GP","CAAU5682411","Nao","SUPER TERMINAIS",{"$f":"VLOOKUP(E565,'Padrão mensagem'!$A$3:$B$67,2,0)","v":"Depot Super Terminais - (92) 3616-2650 / E-mails: coordenacao.depot@superterminais.com.br; reparos.container@superterminais.com.br"}]
["BRMAO","45GP","TXGU7014827","Nao","SUPER TERMINAIS",{"$f":"VLOOKUP(E566,'Padrão mensagem'!$A$3:$B$67,2,0)","v":"Depot Super Terminais - (92) 3616-2650 / E-mails: coordenacao.depot@superterminais.com.br; reparos.container@superterminais.com.br"}]
["BRMAO","45GP","FSCU7169774","Nao","SUPER TERMINAIS",{"$f":"VLOOKUP(E567,'Padrão mensagem'!$A$3:$B$67,2,0)","v":"Depot Super Terminais - (92) 3616-2650 / E-mails: coordenacao.depot@superterminais.com.br; reparos.container@superterminais.com.br"}]
["BRMAO","45GP","TCNU1748760","Nao","SUPER TERMINAIS",{"$f":"VLOOKUP(E568,'Padrão mensagem'!$A$3:$B$67,2,0)","v":"Depot Super Terminais - (92) 3616-2650 / E-mails: coordenacao.depot@superterminais.com.br; reparos.container@superterminais.com.br"}]
["BRMAO","45GP","HAMU2513394","Nao","SUPER TERMINAIS",{"$f":"VLOOKUP(E569,'Padrão mensagem'!$A$3:$B$67,2,0)","v":"Depot Super Terminais - (92) 3616-2650 / E-mails: coordenacao.depot@superterminais.com.br; reparos.container@superterminais.com.br"}]
["BRMAO","45GP","HAMU2516095","Nao","SUPER TERMINAIS",{"$f":"VLOOKUP(E570,'Padrão mensagem'!$A$3:$B$67,2,0)","v":"Depot Super Terminais - (92) 3616-2650 / E-mails: coordenacao.depot@superterminais.com.br; reparos.container@superterminais.com.br"}]
["BRMAO","45GP","HAMU2513413","Nao","SUPER TERMINAIS",{"$f":"VLOOKUP(E571,'Padrão mensagem'!$A$3:$B$67,2,0)","v":"Depot Super Terminais - (92) 3616-2650 / E-mails: coordenacao.depot@superterminais.com.br; reparos.container@superterminais.com.br"}]
["BRMAO","45GP","HAMU2509440","Nao","SUPER TERMINAIS",{"$f":"VLOOKUP(E572,'Padrão mensagem'!$A$3:$B$67,2,0)","v":"Depot Super Terminais - (92) 3616-2650 / E-mails: coordenacao.depot@superterminais.com.br; reparos.container@superterminais.com.br"}]
["BRMAO","45GP","HAMU2516182","Nao","SUPER TERMINAIS",{"$f":"VLOOKUP(E573,'Padrão mensagem'!$A$3:$B$67,2,0)","v":"Depot Super Terminais - (92) 3616-2650 / E-mails: coordenacao.depot@superterminais.com.br; reparos.container@superterminais.com.br"}]
["BRMAO","45GP","HLBU1560236","Nao","SUPER TERMINAIS",{"$f":"VLOOKUP(E574,'Padrão mensagem'!$A$3:$B$67,2,0)","v":"Depot Super Terminais - (92) 3616-2650 / E-mails: coordenacao.depot@superterminais.com.br; reparos.container@superterminais.com.br"}]
["BRMAO","45GP","HAMU1215461","Nao","SUPER TERMINAIS",{"$f":"VLOOKUP(E575,'Padrão mensagem'!$A$3:$B$67,2,0)","v":"Depot Super Terminais - (92) 3616-2650 / E-mails: coordenacao.depot@superterminais.com.br; reparos.container@superterminais.com.br"}]
["BRMAO","45GP","CAIU8360366","Nao","SUPER TERMINAIS",{"$f":"VLOOKUP(E576,'Padrão mensagem'!$A$3:$B$67,2,0)","v":"Depot Super Terminais - (92) 3616-2650 / E-mails: coordenacao.depot@superterminais.com.br; reparos.container@superterminais.com.br"}]
["BRMAO","45GP","FANU1018567","Nao","SUPER TERMINAIS",{"$f":"VLOOKUP(E577,'Padrão mensagem'!$A$3:$B$67,2,0)","v":"Depot Super Terminais - (92) 3616-2650 / E-mails: coordenacao.depot@superterminais.com.br; reparos.container@superterminais.com.br"}]
["BRMAO","45GP","UACU5857333","Nao","SUPER TERMINAIS",{"$f":"VLOOKUP(E578,'Padrão mensagem'!$A$3:$B$67,2,0)","v":"Depot Super Terminais - (92) 3616-2650 / E-mails: coordenacao.depot@superterminais.com.br; reparos.container@superterminais.com.br"}]
["BRMAO","45GP","HAMU1986140","Nao","SUPER TERMINAIS",{"$f":"VLOOKUP(E579,'Padrão mensagem'!$A$3:$B$67,2,0)","v":"Depot Super Terminais - (92) 3616-2650 / E-mails: coordenacao.depot@superterminais.com.br; reparos.container@superterminais.com.br"}]
["BRMAO","45GP","HLXU8238419","Nao","SUPER TERMINAIS",{"$f":"VLOOKUP(E580,'Padrão mensagem'!$A$3:$B$67,2,0)","v":"Depot Super Terminais - (92) 3616-2650 / E-mails: coordenacao.depot@superterminais.com.br; reparos.container@superterminais.com.br"}]
["BRMAO","45GP","FANU1933100","Nao","SUPER TERMINAIS",{"$f":"VLOOKUP(E581,'Padrão mensagem'!$A$3:$B$67,2,0)","v":"Depot Super Terminais - (92) 3616-2650 / E-mails: coordenacao.depot@superterminais.com.br; reparos.container@superterminais.com.br"}]
["BRMAO","45GP","HLBU2042761","Nao","SUPER TERMINAIS",{"$f":"VLOOKUP(E582,'Padrão mensagem'!$A$3:$B$67,2,0)","v":"Depot Super Terminais - (92) 3616-2650 / E-mails: coordenacao.depot@superterminais.com.br; reparos.container@superterminais.com.br"}]
["BRMAO","45GP","HAMU1983881","Nao","SUPER TERMINAIS",{"$f":"VLOOKUP(E583,'Padrão mensagem'!$A$3:$B$67,2,0)","v":"Depot Super Terminais - (92) 3616-2650 / E-mails: coordenacao.depot@superterminais.com.br; reparos.container@superterminais.com.br"}]
["BRMAO","45GP","UASU1035850","Nao","SUPER TERMINAIS",{"$f":"VLOOKUP(E584,'Padrão mensagem'!$A$3:$B$67,2,0)","v":"Depot Super Terminais - (92) 3616-2650 / E-mails: coordenacao.depot@superterminais.com.br; reparos.container@superterminais.com.br"}]
["BRMAO","45GP","HAMU1308688","Nao","SUPER TERMINAIS",{"$f":"VLOOKUP(E585,'Padrão mensagem'!$A$3:$B$67,2,0)","v":"Depot Super Terminais - (92) 3616-2650 / E-mails: coordenacao.depot@superterminais.com.br; reparos.container@superterminais.com.br"}]
["BRMAO","45GP","FANU1790626","Nao","SUPER TERMINAIS",{"$f":"VLOOKUP(E586,'Padrão mensagem'!$A$3:$B$67,2,0)","v":"Depot Super Terminais - (92) 3616-2650 / E-mails: coordenacao.depot@superterminais.com.br; reparos.container@superterminais.com.br"}]
["BRMAO","45GP","HLBU2493195","Nao","SUPER TERMINAIS",{"$f":"VLOOKUP(E587,'Padrão mensagem'!$A$3:$B$67,2,0)","v":"Depot Super Terminais - (92) 3616-2650 / E-mails: coordenacao.depot@superterminais.com.br; reparos.container@superterminais.com.br"}]
["BRMAO","45GP","HLXU8111785","Nao","SUPER TERMINAIS",{"$f":"VLOOKUP(E588,'Padrão mensagem'!$A$3:$B$67,2,0)","v":"Depot Super Terminais - (92) 3616-2650 / E-mails: coordenacao.depot@superterminais.com.br; reparos.container@superterminais.com.br"}]
["BRMAO","45GP","HAMU2470456","Nao","SUPER TERMINAIS",{"$f":"VLOOKUP(E589,'Padrão mensagem'!$A$3:$B$67,2,0)","v":"Depot Super Terminais - (92) 3616-2650 / E-mails: coordenacao.depot@superterminais.com.br; reparos.container@superterminais.com.br"}]
["BRMAO","45GP","HAMU2419578","Nao","SUPER TERMINAIS",{"$f":"VLOOKUP(E590,'Padrão mensagem'!$A$3:$B$67,2,0)","v":"Depot Super Terminais - (92) 3616-2650 / E-mails: coordenacao.depot@superterminais.com.br; reparos.container@superterminais.com.br"}]
["BRMAO","45GP","CAIU4231340","Nao","SUPER TERMINAIS",{"$f":"VLOOKUP(E591,'Padrão mensagem'!$A$3:$B$67,2,0)","v":"Depot Super Terminais - (92) 3616-2650 / E-mails: coordenacao.depot@superterminais.com.br; reparos.container@superterminais.com.br"}]
["BRMAO","45GP","HAMU1493441","Nao","SUPER TERMINAIS",{"$f":"VLOOKUP(E592,'Padrão mensagem'!$A$3:$B$67,2,0)","v":"Depot Super Terminais - (92) 3616-2650 / E-mails: coordenacao.depot@superterminais.com.br; reparos.container@superterminais.com.br"}]
["BRMAO","45GP","FANU3499693","Nao","SUPER TERMINAIS",{"$f":"VLOOKUP(E593,'Padrão mensagem'!$A$3:$B$67,2,0)","v":"Depot Super Terminais - (92) 3616-2650 / E-mails: coordenacao.depot@superterminais.com.br; reparos.container@superterminais.com.br"}]
["BRMAO","45GP","BEAU4569266","Nao","SUPER TERMINAIS",{"$f":"VLOOKUP(E594,'Padrão mensagem'!$A$3:$B$67,2,0)","v":"Depot Super Terminais - (92) 3616-2650 / E-mails: coordenacao.depot@superterminais.com.br; reparos.container@superterminais.com.br"}]
["BRMAO","45GP","BMOU4609189","Nao","SUPER TERMINAIS",{"$f":"VLOOKUP(E595,'Padrão mensagem'!$A$3:$B$67,2,0)","v":"Depot Super Terminais - (92) 3616-2650 / E-mails: coordenacao.depot@superterminais.com.br; reparos.container@superterminais.com.br"}]
["BRMAO","45GP","HLBU2602104","Nao","SUPER TERMINAIS",{"$f":"VLOOKUP(E596,'Padrão mensagem'!$A$3:$B$67,2,0)","v":"Depot Super Terminais - (92) 3616-2650 / E-mails: coordenacao.depot@superterminais.com.br; reparos.container@superterminais.com.br"}]
["BRMAO","45GP","HAMU1190677","Nao","SUPER TERMINAIS",{"$f":"VLOOKUP(E597,'Padrão mensagem'!$A$3:$B$67,2,0)","v":"Depot Super Terminais - (92) 3616-2650 / E-mails: coordenacao.depot@superterminais.com.br; reparos.container@superterminais.com.br"}]
["BRMAO","45GP","FBLU0019354","Nao","SUPER TERMINAIS",{"$f":"VLOOKUP(E598,'Padrão mensagem'!$A$3:$B$67,2,0)","v":"Depot Super Terminais - (92) 3616-2650 / E-mails: coordenacao.depot@superterminais.com.br; reparos.container@superterminais.com.br"}]
["BRMAO","45GP","FANU3567709","Nao","SUPER TERMINAIS",{"$f":"VLOOKUP(E599,'Padrão mensagem'!$A$3:$B$67,2,0)","v":"Depot Super Terminais - (92) 3616-2650 / E-mails: coordenacao.depot@superterminais.com.br; reparos.container@superterminais.com.br"}]
["BRMAO","45GP","UETU5212555","Nao","SUPER TERMINAIS",{"$f":"VLOOKUP(E600,'Padrão mensagem'!$A$3:$B$67,2,0)","v":"Depot Super Terminais - (92) 3616-2650 / E-mails: coordenacao.depot@superterminais.com.br; reparos.container@superterminais.com.br"}]
["BRMAO","45GP","UACU5707288","Nao","SUPER TERMINAIS",{"$f":"VLOOKUP(E601,'Padrão mensagem'!$A$3:$B$67,2,0)","v":"Depot Super Terminais - (92) 3616-2650 / E-mails: coordenacao.depot@superterminais.com.br; reparos.container@superterminais.com.br"}]
["BRMAO","45GP","GESU6400689","Nao","SUPER TERMINAIS",{"$f":"VLOOKUP(E602,'Padrão mensagem'!$A$3:$B$67,2,0)","v":"Depot Super Terminais - (92) 3616-2650 / E-mails: coordenacao.depot@superterminais.com.br; reparos.container@superterminais.com.br"}]
["BRMAO","45GP","FANU1963444","Nao","SUPER TERMINAIS",{"$f":"VLOOKUP(E603,'Padrão mensagem'!$A$3:$B$67,2,0)","v":"Depot Super Terminais - (92) 3616-2650 / E-mails: coordenacao.depot@superterminais.com.br; reparos.container@superterminais.com.br"}]
["BRMAO","45GP","FANU3442785","Nao","SUPER TERMINAIS",{"$f":"VLOOKUP(E604,'Padrão mensagem'!$A$3:$B$67,2,0)","v":"Depot Super Terminais - (92) 3616-2650 / E-mails: coordenacao.depot@superterminais.com.br; reparos.container@superterminais.com.br"}]
["BRMAO","45GP","TEMU8168640","Nao","SUPER TERMINAIS",{"$f":"VLOOKUP(E605,'Padrão mensagem'!$A$3:$B$67,2,0)","v":"Depot Super Terminais - (92) 3616-2650 / E-mails: coordenacao.depot@superterminais.com.br; reparos.container@superterminais.com.br"}]
["BRMAO","45GP","FANU1278332","Nao","SUPER TERMINAIS",{"$f":"VLOOKUP(E606,'Padrão mensagem'!$A$3:$B$67,2,0)","v":"Depot Super Terminais - (92) 3616-2650 / E-mails: coordenacao.depot@superterminais.com.br; reparos.container@superterminais.com.br"}]
["BRMAO","45GP","SEGU5631100","Nao","SUPER TERMINAIS",{"$f":"VLOOKUP(E607,'Padrão mensagem'!$A$3:$B$67,2,0)","v":"Depot Super Terminais - (92) 3616-2650 / E-mails: coordenacao.depot@superterminais.com.br; reparos.container@superterminais.com.br"}]
["BRMAO","45GP","HLBU3205420","Nao","SUPER TERMINAIS",{"$f":"VLOOKUP(E608,'Padrão mensagem'!$A$3:$B$67,2,0)","v":"Depot Super Terminais - (92) 3616-2650 / E-mails: coordenacao.depot@superterminais.com.br; reparos.container@superterminais.com.br"}]
["BRMAO","45GP","HLXU8289587","Nao","SUPER TERMINAIS",{"$f":"VLOOKUP(E609,'Padrão mensagem'!$A$3:$B$67,2,0)","v":"Depot Super Terminais - (92) 3616-2650 / E-mails: coordenacao.depot@superterminais.com.br; reparos.container@superterminais.com.br"}]
["BRMAO","45GP","CAAU6372112","Nao","SUPER TERMINAIS",{"$f":"VLOOKUP(E610,'Padrão mensagem'!$A$3:$B$67,2,0)","v":"Depot Super Terminais - (92) 3616-2650 / E-mails: coordenacao.depot@superterminais.com.br; reparos.container@superterminais.com.br"}]
["BRMAO","45GP","SEGU5106798","Nao","SUPER TERMINAIS",{"$f":"VLOOKUP(E611,'Padrão mensagem'!$A$3:$B$67,2,0)","v":"Depot Super Terminais - (92) 3616-2650 / E-mails: coordenacao.depot@superterminais.com.br; reparos.container@superterminais.com.br"}]
["BRMAO","45GP","TEMU6117176","Nao","SUPER TERMINAIS",{"$f":"VLOOKUP(E612,'Padrão mensagem'!$A$3:$B$67,2,0)","v":"Depot Super Terminais - (92) 3616-2650 / E-mails: coordenacao.depot@superterminais.com.br; reparos.container@superterminais.com.br"}]
["BRMAO","45GP","TGCU0148194","Nao","SUPER TERMINAIS",{"$f":"VLOOKUP(E613,'Padrão mensagem'!$A$3:$B$67,2,0)","v":"Depot Super Terminais - (92) 3616-2650 / E-mails: coordenacao.depot@superterminais.com.br; reparos.container@superterminais.com.br"}]
["BRMAO","45GP","CAAU5540417","Nao","SUPER TERMINAIS",{"$f":"VLOOKUP(E614,'Padrão mensagem'!$A$3:$B$67,2,0)","v":"Depot Super Terminais - (92) 3616-2650 / E-mails: coordenacao.depot@superterminais.com.br; reparos.container@superterminais.com.br"}]
["BRMAO","45GP","TGBU6241253","Nao","SUPER TERMINAIS",{"$f":"VLOOKUP(E615,'Padrão mensagem'!$A$3:$B$67,2,0)","v":"Depot Super Terminais - (92) 3616-2650 / E-mails: coordenacao.depot@superterminais.com.br; reparos.container@superterminais.com.br"}]
["BRMAO","45GP","HLXU8073197","Nao","SUPER TERMINAIS",{"$f":"VLOOKUP(E616,'Padrão mensagem'!$A$3:$B$67,2,0)","v":"Depot Super Terminais - (92) 3616-2650 / E-mails: coordenacao.depot@superterminais.com.br; reparos.container@superterminais.com.br"}]
["BRMAO","45GP","CAAU7774559","Nao","SUPER TERMINAIS",{"$f":"VLOOKUP(E617,'Padrão mensagem'!$A$3:$B$67,2,0)","v":"Depot Super Terminais - (92) 3616-2650 / E-mails: coordenacao.depot@superterminais.com.br; reparos.container@superterminais.com.br"}]
["BRMAO","45GP","CAAU7779273","Nao","SUPER TERMINAIS",{"$f":"VLOOKUP(E618,'Padrão mensagem'!$A$3:$B$67,2,0)","v":"Depot Super Terminais - (92) 3616-2650 / E-mails: coordenacao.depot@superterminais.com.br; reparos.container@superterminais.com.br"}]
["BRMAO","45GP","UACU5156122","Nao","SUPER TERMINAIS",{"$f":"VLOOKUP(E619,'Padrão mensagem'!$A$3:$B$67,2,0)","v":"Depot Super Terminais - (92) 3616-2650 / E-mails: coordenacao.depot@superterminais.com.br; reparos.container@superterminais.com.br"}]
["BRMAO","45GP","HAMU1400834","Nao","SUPER TERMINAIS",{"$f":"VLOOKUP(E620,'Padrão mensagem'!$A$3:$B$67,2,0)","v":"Depot Super Terminais - (92) 3616-2650 / E-mails: coordenacao.depot@superterminais.com.br; reparos.container@superterminais.com.br"}]
["BRMAO","45GP","HAMU1551933","Nao","SUPER TERMINAIS",{"$f":"VLOOKUP(E621,'Padrão mensagem'!$A$3:$B$67,2,0)","v":"Depot Super Terminais - (92) 3616-2650 / E-mails: coordenacao.depot@superterminais.com.br; reparos.container@superterminais.com.br"}]
["BRMAO","45GP","FFAU5448222","Nao","SUPER TERMINAIS",{"$f":"VLOOKUP(E622,'Padrão mensagem'!$A$3:$B$67,2,0)","v":"Depot Super Terminais - (92) 3616-2650 / E-mails: coordenacao.depot@superterminais.com.br; reparos.container@superterminais.com.br"}]
["BRMAO","45GP","HAMU2444420","Nao","SUPER TERMINAIS",{"$f":"VLOOKUP(E623,'Padrão mensagem'!$A$3:$B$67,2,0)","v":"Depot Super Terminais - (92) 3616-2650 / E-mails: coordenacao.depot@superterminais.com.br; reparos.container@superterminais.com.br"}]
["BRMAO","45GP","HAMU2438433","Nao","SUPER TERMINAIS",{"$f":"VLOOKUP(E624,'Padrão mensagem'!$A$3:$B$67,2,0)","v":"Depot Super Terminais - (92) 3616-2650 / E-mails: coordenacao.depot@superterminais.com.br; reparos.container@superterminais.com.br"}]
["BRMAO","45GP","FANU1011731","Nao","SUPER TERMINAIS",{"$f":"VLOOKUP(E625,'Padrão mensagem'!$A$3:$B$67,2,0)","v":"Depot Super Terminais - (92) 3616-2650 / E-mails: coordenacao.depot@superterminais.com.br; reparos.container@superterminais.com.br"}]
["BRMAO","45GP","HAMU2444781","Nao","SUPER TERMINAIS",{"$f":"VLOOKUP(E626,'Padrão mensagem'!$A$3:$B$67,2,0)","v":"Depot Super Terminais - (92) 3616-2650 / E-mails: coordenacao.depot@superterminais.com.br; reparos.container@superterminais.com.br"}]
["BRMAO","45GP","HAMU2444483","Nao","SUPER TERMINAIS",{"$f":"VLOOKUP(E627,'Padrão mensagem'!$A$3:$B$67,2,0)","v":"Depot Super Terminais - (92) 3616-2650 / E-mails: coordenacao.depot@superterminais.com.br; reparos.container@superterminais.com.br"}]
["BRMAO","45GP","HAMU2438496","Nao","SUPER TERMINAIS",{"$f":"VLOOKUP(E628,'Padrão mensagem'!$A$3:$B$67,2,0)","v":"Depot Super Terminais - (92) 3616-2650 / E-mails: coordenacao.depot@superterminais.com.br; reparos.container@superterminais.com.br"}]
["BRMAO","45GP","HAMU2466327","Nao","SUPER TERMINAIS",{"$f":"VLOOKUP(E629,'Padrão mensagem'!$A$3:$B$67,2,0)","v":"Depot Super Terminais - (92) 3616-2650 / E-mails: coordenacao.depot@superterminais.com.br; reparos.container@superterminais.com.br"}]
["BRMAO","45RT","HLBU9896309","Nao","SUPER TERMINAIS",{"$f":"VLOOKUP(E630,'Padrão mensagem'!$A$3:$B$67,2,0)","v":"Depot Super Terminais - (92) 3616-2650 / E-mails: coordenacao.depot@superterminais.com.br; reparos.container@superterminais.com.br"}]
["BRMAO","45GP","DFSU6759507","Nao","SUPER TERMINAIS",{"$f":"VLOOKUP(E631,'Padrão mensagem'!$A$3:$B$67,2,0)","v":"Depot Super Terminais - (92) 3616-2650 / E-mails: coordenacao.depot@superterminais.com.br; reparos.container@superterminais.com.br"}]
["BRMAO","45GP","FANU3188161","Nao","SUPER TERMINAIS",{"$f":"VLOOKUP(E632,'Padrão mensagem'!$A$3:$B$67,2,0)","v":"Depot Super Terminais - (92) 3616-2650 / E-mails: coordenacao.depot@superterminais.com.br; reparos.container@superterminais.com.br"}]
["BRMAO","45GP","CAIU8474590","Nao","SUPER TERMINAIS",{"$f":"VLOOKUP(E633,'Padrão mensagem'!$A$3:$B$67,2,0)","v":"Depot Super Terminais - (92) 3616-2650 / E-mails: coordenacao.depot@superterminais.com.br; reparos.container@superterminais.com.br"}]
["BRMAO","45GP","HLBU2790017","Nao","SUPER TERMINAIS",{"$f":"VLOOKUP(E634,'Padrão mensagem'!$A$3:$B$67,2,0)","v":"Depot Super Terminais - (92) 3616-2650 / E-mails: coordenacao.depot@superterminais.com.br; reparos.container@superterminais.com.br"}]
["BRMAO","45GP","BMOU5630215","Nao","SUPER TERMINAIS",{"$f":"VLOOKUP(E635,'Padrão mensagem'!$A$3:$B$67,2,0)","v":"Depot Super Terminais - (92) 3616-2650 / E-mails: coordenacao.depot@superterminais.com.br; reparos.container@superterminais.com.br"}]
["BRMAO","45GP","BMOU6675092","Nao","SUPER TERMINAIS",{"$f":"VLOOKUP(E636,'Padrão mensagem'!$A$3:$B$67,2,0)","v":"Depot Super Terminais - (92) 3616-2650 / E-mails: coordenacao.depot@superterminais.com.br; reparos.container@superterminais.com.br"}]
["BRMAO","45GP","FANU3870741","Nao","SUPER TERMINAIS",{"$f":"VLOOKUP(E637,'Padrão mensagem'!$A$3:$B$67,2,0)","v":"Depot Super Terminais - (92) 3616-2650 / E-mails: coordenacao.depot@superterminais.com.br; reparos.container@superterminais.com.br"}]
["BRMAO","45GP","CAIU4734072","Nao","SUPER TERMINAIS",{"$f":"VLOOKUP(E638,'Padrão mensagem'!$A$3:$B$67,2,0)","v":"Depot Super Terminais - (92) 3616-2650 / E-mails: coordenacao.depot@superterminais.com.br; reparos.container@superterminais.com.br"}]
["BRMAO","22GP","NIDU2295431","Nao","SUPER TERMINAIS",{"$f":"VLOOKUP(E639,'Padrão mensagem'!$A$3:$B$67,2,0)","v":"Depot Super Terminais - (92) 3616-2650 / E-mails: coordenacao.depot@superterminais.com.br; reparos.container@superterminais.com.br"}]
["BRMAO","45GP","HLBU1204908","Nao","SUPER TERMINAIS",{"$f":"VLOOKUP(E640,'Padrão mensagem'!$A$3:$B$67,2,0)","v":"Depot Super Terminais - (92) 3616-2650 / E-mails: coordenacao.depot@superterminais.com.br; reparos.container@superterminais.com.br"}]
["BRMAO","45GP","HLXU6468114","Nao","SUPER TERMINAIS",{"$f":"VLOOKUP(E641,'Padrão mensagem'!$A$3:$B$67,2,0)","v":"Depot Super Terminais - (92) 3616-2650 / E-mails: coordenacao.depot@superterminais.com.br; reparos.container@superterminais.com.br"}]
["BRMAO","45GP","FSCU7227422","Nao","SUPER TERMINAIS",{"$f":"VLOOKUP(E642,'Padrão mensagem'!$A$3:$B$67,2,0)","v":"Depot Super Terminais - (92) 3616-2650 / E-mails: coordenacao.depot@superterminais.com.br; reparos.container@superterminais.com.br"}]
["BRMAO","45GP","SEGU5117771","Nao","SUPER TERMINAIS",{"$f":"VLOOKUP(E643,'Padrão mensagem'!$A$3:$B$67,2,0)","v":"Depot Super Terminais - (92) 3616-2650 / E-mails: coordenacao.depot@superterminais.com.br; reparos.container@superterminais.com.br"}]
["BRMAO","45GP","HLBU1702259","Nao","SUPER TERMINAIS",{"$f":"VLOOKUP(E644,'Padrão mensagem'!$A$3:$B$67,2,0)","v":"Depot Super Terminais - (92) 3616-2650 / E-mails: coordenacao.depot@superterminais.com.br; reparos.container@superterminais.com.br"}]
["BRMAO","45GP","CAIU8256325","Nao","SUPER TERMINAIS",{"$f":"VLOOKUP(E645,'Padrão mensagem'!$A$3:$B$67,2,0)","v":"Depot Super Terminais - (92) 3616-2650 / E-mails: coordenacao.depot@superterminais.com.br; reparos.container@superterminais.com.br"}]
["BRMAO","45GP","CAIU4671009","Nao","SUPER TERMINAIS",{"$f":"VLOOKUP(E646,'Padrão mensagem'!$A$3:$B$67,2,0)","v":"Depot Super Terminais - (92) 3616-2650 / E-mails: coordenacao.depot@superterminais.com.br; reparos.container@superterminais.com.br"}]
["BRMAO","22GP","GCXU2385959","Nao","SUPER TERMINAIS",{"$f":"VLOOKUP(E647,'Padrão mensagem'!$A$3:$B$67,2,0)","v":"Depot Super Terminais - (92) 3616-2650 / E-mails: coordenacao.depot@superterminais.com.br; reparos.container@superterminais.com.br"}]
["BRMAO","45GP","FANU1833348","Nao","SUPER TERMINAIS",{"$f":"VLOOKUP(E648,'Padrão mensagem'!$A$3:$B$67,2,0)","v":"Depot Super Terminais - (92) 3616-2650 / E-mails: coordenacao.depot@superterminais.com.br; reparos.container@superterminais.com.br"}]
["BRMAO","45GP","HLBU1679375","Nao","SUPER TERMINAIS",{"$f":"VLOOKUP(E649,'Padrão mensagem'!$A$3:$B$67,2,0)","v":"Depot Super Terminais - (92) 3616-2650 / E-mails: coordenacao.depot@superterminais.com.br; reparos.container@superterminais.com.br"}]
["BRMAO","45GP","HLBU1973190","Nao","SUPER TERMINAIS",{"$f":"VLOOKUP(E650,'Padrão mensagem'!$A$3:$B$67,2,0)","v":"Depot Super Terminais - (92) 3616-2650 / E-mails: coordenacao.depot@superterminais.com.br; reparos.container@superterminais.com.br"}]
["BRMAO","45GP","NIDU5207352","Nao","SUPER TERMINAIS",{"$f":"VLOOKUP(E651,'Padrão mensagem'!$A$3:$B$67,2,0)","v":"Depot Super Terminais - (92) 3616-2650 / E-mails: coordenacao.depot@superterminais.com.br; reparos.container@superterminais.com.br"}]
["BRMAO","45GP","HAMU1270746","Nao","SUPER TERMINAIS",{"$f":"VLOOKUP(E652,'Padrão mensagem'!$A$3:$B$67,2,0)","v":"Depot Super Terminais - (92) 3616-2650 / E-mails: coordenacao.depot@superterminais.com.br; reparos.container@superterminais.com.br"}]
["BRMAO","45GP","CAIU4737976","Nao","SUPER TERMINAIS",{"$f":"VLOOKUP(E653,'Padrão mensagem'!$A$3:$B$67,2,0)","v":"Depot Super Terminais - (92) 3616-2650 / E-mails: coordenacao.depot@superterminais.com.br; reparos.container@superterminais.com.br"}]
["BRMAO","45GP","HLBU2533662","Nao","SUPER TERMINAIS",{"$f":"VLOOKUP(E654,'Padrão mensagem'!$A$3:$B$67,2,0)","v":"Depot Super Terminais - (92) 3616-2650 / E-mails: coordenacao.depot@superterminais.com.br; reparos.container@superterminais.com.br"}]
["BRMAO","45GP","BMOU4970268","Nao","SUPER TERMINAIS",{"$f":"VLOOKUP(E655,'Padrão mensagem'!$A$3:$B$67,2,0)","v":"Depot Super Terminais - (92) 3616-2650 / E-mails: coordenacao.depot@superterminais.com.br; reparos.container@superterminais.com.br"}]
["BRMAO","45GP","BMOU5539825","Nao","SUPER TERMINAIS",{"$f":"VLOOKUP(E656,'Padrão mensagem'!$A$3:$B$67,2,0)","v":"Depot Super Terminais - (92) 3616-2650 / E-mails: coordenacao.depot@superterminais.com.br; reparos.container@superterminais.com.br"}]
["BRMAO","45GP","HLBU1599897","Nao","SUPER TERMINAIS",{"$f":"VLOOKUP(E657,'Padrão mensagem'!$A$3:$B$67,2,0)","v":"Depot Super Terminais - (92) 3616-2650 / E-mails: coordenacao.depot@superterminais.com.br; reparos.container@superterminais.com.br"}]
["BRMAO","45GP","FANU3786991","Nao","SUPER TERMINAIS",{"$f":"VLOOKUP(E658,'Padrão mensagem'!$A$3:$B$67,2,0)","v":"Depot Super Terminais - (92) 3616-2650 / E-mails: coordenacao.depot@superterminais.com.br; reparos.container@superterminais.com.br"}]
["BRMAO","45GP","TLLU5305668","Nao","SUPER TERMINAIS",{"$f":"VLOOKUP(E659,'Padrão mensagem'!$A$3:$B$67,2,0)","v":"Depot Super Terminais - (92) 3616-2650 / E-mails: coordenacao.depot@superterminais.com.br; reparos.container@superterminais.com.br"}]
["BRMAO","45GP","HAMU2453090","Nao","SUPER TERMINAIS",{"$f":"VLOOKUP(E660,'Padrão mensagem'!$A$3:$B$67,2,0)","v":"Depot Super Terminais - (92) 3616-2650 / E-mails: coordenacao.depot@superterminais.com.br; reparos.container@superterminais.com.br"}]
["BRMAO","45GP","HAMU2459945","Nao","SUPER TERMINAIS",{"$f":"VLOOKUP(E661,'Padrão mensagem'!$A$3:$B$67,2,0)","v":"Depot Super Terminais - (92) 3616-2650 / E-mails: coordenacao.depot@superterminais.com.br; reparos.container@superterminais.com.br"}]
["BRMAO","45GP","BSIU9062720","Nao","SUPER TERMINAIS",{"$f":"VLOOKUP(E662,'Padrão mensagem'!$A$3:$B$67,2,0)","v":"Depot Super Terminais - (92) 3616-2650 / E-mails: coordenacao.depot@superterminais.com.br; reparos.container@superterminais.com.br"}]
["BRMAO","45GP","TXGU7337769","Nao","SUPER TERMINAIS",{"$f":"VLOOKUP(E663,'Padrão mensagem'!$A$3:$B$67,2,0)","v":"Depot Super Terminais - (92) 3616-2650 / E-mails: coordenacao.depot@superterminais.com.br; reparos.container@superterminais.com.br"}]
["BRMAO","45GP","DAYU6124080","Nao","SUPER TERMINAIS",{"$f":"VLOOKUP(E664,'Padrão mensagem'!$A$3:$B$67,2,0)","v":"Depot Super Terminais - (92) 3616-2650 / E-mails: coordenacao.depot@superterminais.com.br; reparos.container@superterminais.com.br"}]
["BRMAO","45GP","FANU1535596","Nao","SUPER TERMINAIS",{"$f":"VLOOKUP(E665,'Padrão mensagem'!$A$3:$B$67,2,0)","v":"Depot Super Terminais - (92) 3616-2650 / E-mails: coordenacao.depot@superterminais.com.br; reparos.container@superterminais.com.br"}]
["BRMAO","45GP","HLBU2790505","Nao","SUPER TERMINAIS",{"$f":"VLOOKUP(E666,'Padrão mensagem'!$A$3:$B$67,2,0)","v":"Depot Super Terminais - (92) 3616-2650 / E-mails: coordenacao.depot@superterminais.com.br; reparos.container@superterminais.com.br"}]
["BRMAO","45GP","HAMU1291857","Nao","SUPER TERMINAIS",{"$f":"VLOOKUP(E667,'Padrão mensagem'!$A$3:$B$67,2,0)","v":"Depot Super Terminais - (92) 3616-2650 / E-mails: coordenacao.depot@superterminais.com.br; reparos.container@superterminais.com.br"}]
["BRMAO","45GP","TGBU6189540","Nao","SUPER TERMINAIS",{"$f":"VLOOKUP(E668,'Padrão mensagem'!$A$3:$B$67,2,0)","v":"Depot Super Terminais - (92) 3616-2650 / E-mails: coordenacao.depot@superterminais.com.br; reparos.container@superterminais.com.br"}]
["BRMAO","45GP","TCNU8481628","Nao","SUPER TERMINAIS",{"$f":"VLOOKUP(E669,'Padrão mensagem'!$A$3:$B$67,2,0)","v":"Depot Super Terminais - (92) 3616-2650 / E-mails: coordenacao.depot@superterminais.com.br; reparos.container@superterminais.com.br"}]
["BRMAO","45GP","BSIU8300070","Nao","SUPER TERMINAIS",{"$f":"VLOOKUP(E670,'Padrão mensagem'!$A$3:$B$67,2,0)","v":"Depot Super Terminais - (92) 3616-2650 / E-mails: coordenacao.depot@superterminais.com.br; reparos.container@superterminais.com.br"}]
["BRMAO","45GP","FFAU1338926","Nao","SUPER TERMINAIS",{"$f":"VLOOKUP(E671,'Padrão mensagem'!$A$3:$B$67,2,0)","v":"Depot Super Terminais - (92) 3616-2650 / E-mails: coordenacao.depot@superterminais.com.br; reparos.container@superterminais.com.br"}]
["BRMAO","45GP","HAMU2502759","Nao","SUPER TERMINAIS",{"$f":"VLOOKUP(E672,'Padrão mensagem'!$A$3:$B$67,2,0)","v":"Depot Super Terminais - (92) 3616-2650 / E-mails: coordenacao.depot@superterminais.com.br; reparos.container@superterminais.com.br"}]
["BRMAO","45GP","HAMU2419900","Nao","SUPER TERMINAIS",{"$f":"VLOOKUP(E673,'Padrão mensagem'!$A$3:$B$67,2,0)","v":"Depot Super Terminais - (92) 3616-2650 / E-mails: coordenacao.depot@superterminais.com.br; reparos.container@superterminais.com.br"}]
["BRMAO","45GP","HAMU2498643","Nao","SUPER TERMINAIS",{"$f":"VLOOKUP(E674,'Padrão mensagem'!$A$3:$B$67,2,0)","v":"Depot Super Terminais - (92) 3616-2650 / E-mails: coordenacao.depot@superterminais.com.br; reparos.container@superterminais.com.br"}]
["BRMAO","45GP","HAMU2433370","Nao","SUPER TERMINAIS",{"$f":"VLOOKUP(E675,'Padrão mensagem'!$A$3:$B$67,2,0)","v":"Depot Super Terminais - (92) 3616-2650 / E-mails: coordenacao.depot@superterminais.com.br; reparos.container@superterminais.com.br"}]
["BRMAO","45GP","HLBU2112977","Nao","SUPER TERMINAIS",{"$f":"VLOOKUP(E676,'Padrão mensagem'!$A$3:$B$67,2,0)","v":"Depot Super Terminais - (92) 3616-2650 / E-mails: coordenacao.depot@superterminais.com.br; reparos.container@superterminais.com.br"}]
["BRMAO","45GP","FANU3366453","Nao","SUPER TERMINAIS",{"$f":"VLOOKUP(E677,'Padrão mensagem'!$A$3:$B$67,2,0)","v":"Depot Super Terminais - (92) 3616-2650 / E-mails: coordenacao.depot@superterminais.com.br; reparos.container@superterminais.com.br"}]
["BRMAO","45GP","HLXU8048635","Nao","SUPER TERMINAIS",{"$f":"VLOOKUP(E678,'Padrão mensagem'!$A$3:$B$67,2,0)","v":"Depot Super Terminais - (92) 3616-2650 / E-mails: coordenacao.depot@superterminais.com.br; reparos.container@superterminais.com.br"}]
["BRMAO","45GP","HLBU2453546","Nao","SUPER TERMINAIS",{"$f":"VLOOKUP(E679,'Padrão mensagem'!$A$3:$B$67,2,0)","v":"Depot Super Terminais - (92) 3616-2650 / E-mails: coordenacao.depot@superterminais.com.br; reparos.container@superterminais.com.br"}]
["BRMAO","45GP","SLSU8036572","Nao","SUPER TERMINAIS",{"$f":"VLOOKUP(E680,'Padrão mensagem'!$A$3:$B$67,2,0)","v":"Depot Super Terminais - (92) 3616-2650 / E-mails: coordenacao.depot@superterminais.com.br; reparos.container@superterminais.com.br"}]
["BRMAO","45GP","TEMU7176189","Nao","SUPER TERMINAIS",{"$f":"VLOOKUP(E681,'Padrão mensagem'!$A$3:$B$67,2,0)","v":"Depot Super Terminais - (92) 3616-2650 / E-mails: coordenacao.depot@superterminais.com.br; reparos.container@superterminais.com.br"}]
["BRMAO","45GP","FANU1759390","Nao","SUPER TERMINAIS",{"$f":"VLOOKUP(E682,'Padrão mensagem'!$A$3:$B$67,2,0)","v":"Depot Super Terminais - (92) 3616-2650 / E-mails: coordenacao.depot@superterminais.com.br; reparos.container@superterminais.com.br"}]
["BRMAO","45GP","FCIU8499663","Nao","SUPER TERMINAIS",{"$f":"VLOOKUP(E683,'Padrão mensagem'!$A$3:$B$67,2,0)","v":"Depot Super Terminais - (92) 3616-2650 / E-mails: coordenacao.depot@superterminais.com.br; reparos.container@superterminais.com.br"}]
["BRMAO","45GP","BEAU6002754","Nao","SUPER TERMINAIS",{"$f":"VLOOKUP(E684,'Padrão mensagem'!$A$3:$B$67,2,0)","v":"Depot Super Terminais - (92) 3616-2650 / E-mails: coordenacao.depot@superterminais.com.br; reparos.container@superterminais.com.br"}]
["BRMAO","45RT","HLBU9705716","Nao","SUPER TERMINAIS",{"$f":"VLOOKUP(E685,'Padrão mensagem'!$A$3:$B$67,2,0)","v":"Depot Super Terminais - (92) 3616-2650 / E-mails: coordenacao.depot@superterminais.com.br; reparos.container@superterminais.com.br"}]
["BRMAO","45GP","TGBU9642809","Nao","SUPER TERMINAIS",{"$f":"VLOOKUP(E686,'Padrão mensagem'!$A$3:$B$67,2,0)","v":"Depot Super Terminais - (92) 3616-2650 / E-mails: coordenacao.depot@superterminais.com.br; reparos.container@superterminais.com.br"}]
["BRMAO","45GP","HLBU1550011","Nao","SUPER TERMINAIS",{"$f":"VLOOKUP(E687,'Padrão mensagem'!$A$3:$B$67,2,0)","v":"Depot Super Terminais - (92) 3616-2650 / E-mails: coordenacao.depot@superterminais.com.br; reparos.container@superterminais.com.br"}]
["BRMAO","45GP","BSIU8213669","Nao","SUPER TERMINAIS",{"$f":"VLOOKUP(E688,'Padrão mensagem'!$A$3:$B$67,2,0)","v":"Depot Super Terminais - (92) 3616-2650 / E-mails: coordenacao.depot@superterminais.com.br; reparos.container@superterminais.com.br"}]
["BRMAO","45GP","FANU3464320","Nao","SUPER TERMINAIS",{"$f":"VLOOKUP(E689,'Padrão mensagem'!$A$3:$B$67,2,0)","v":"Depot Super Terminais - (92) 3616-2650 / E-mails: coordenacao.depot@superterminais.com.br; reparos.container@superterminais.com.br"}]
["BRMAO","45GP","GESU6387951","Nao","SUPER TERMINAIS",{"$f":"VLOOKUP(E690,'Padrão mensagem'!$A$3:$B$67,2,0)","v":"Depot Super Terminais - (92) 3616-2650 / E-mails: coordenacao.depot@superterminais.com.br; reparos.container@superterminais.com.br"}]
["BRMAO","45GP","HAMU1546808","Nao","SUPER TERMINAIS",{"$f":"VLOOKUP(E691,'Padrão mensagem'!$A$3:$B$67,2,0)","v":"Depot Super Terminais - (92) 3616-2650 / E-mails: coordenacao.depot@superterminais.com.br; reparos.container@superterminais.com.br"}]
["BRMAO","45GP","HLXU6283928","Nao","SUPER TERMINAIS",{"$f":"VLOOKUP(E692,'Padrão mensagem'!$A$3:$B$67,2,0)","v":"Depot Super Terminais - (92) 3616-2650 / E-mails: coordenacao.depot@superterminais.com.br; reparos.container@superterminais.com.br"}]
["BRMAO","45GP","HLBU3150159","Nao","SUPER TERMINAIS",{"$f":"VLOOKUP(E693,'Padrão mensagem'!$A$3:$B$67,2,0)","v":"Depot Super Terminais - (92) 3616-2650 / E-mails: coordenacao.depot@superterminais.com.br; reparos.container@superterminais.com.br"}]
["BRMAO","45GP","CAAU5569405","Nao","SUPER TERMINAIS",{"$f":"VLOOKUP(E694,'Padrão mensagem'!$A$3:$B$67,2,0)","v":"Depot Super Terminais - (92) 3616-2650 / E-mails: coordenacao.depot@superterminais.com.br; reparos.container@superterminais.com.br"}]
["BRMAO","45GP","CAIU8365537","Nao","SUPER TERMINAIS",{"$f":"VLOOKUP(E695,'Padrão mensagem'!$A$3:$B$67,2,0)","v":"Depot Super Terminais - (92) 3616-2650 / E-mails: coordenacao.depot@superterminais.com.br; reparos.container@superterminais.com.br"}]
["BRMAO","45GP","TLLU5321118","Nao","SUPER TERMINAIS",{"$f":"VLOOKUP(E696,'Padrão mensagem'!$A$3:$B$67,2,0)","v":"Depot Super Terminais - (92) 3616-2650 / E-mails: coordenacao.depot@superterminais.com.br; reparos.container@superterminais.com.br"}]
["BRMAO","45GP","HLBU1637220","Nao","SUPER TERMINAIS",{"$f":"VLOOKUP(E697,'Padrão mensagem'!$A$3:$B$67,2,0)","v":"Depot Super Terminais - (92) 3616-2650 / E-mails: coordenacao.depot@superterminais.com.br; reparos.container@superterminais.com.br"}]
["BRMAO","45GP","HAMU1490674","Nao","SUPER TERMINAIS",{"$f":"VLOOKUP(E698,'Padrão mensagem'!$A$3:$B$67,2,0)","v":"Depot Super Terminais - (92) 3616-2650 / E-mails: coordenacao.depot@superterminais.com.br; reparos.container@superterminais.com.br"}]
["BRMAO","45GP","HAMU1261960","Nao","SUPER TERMINAIS",{"$f":"VLOOKUP(E699,'Padrão mensagem'!$A$3:$B$67,2,0)","v":"Depot Super Terminais - (92) 3616-2650 / E-mails: coordenacao.depot@superterminais.com.br; reparos.container@superterminais.com.br"}]
["BRMAO","45GP","CAIU8260006","Nao","SUPER TERMINAIS",{"$f":"VLOOKUP(E700,'Padrão mensagem'!$A$3:$B$67,2,0)","v":"Depot Super Terminais - (92) 3616-2650 / E-mails: coordenacao.depot@superterminais.com.br; reparos.container@superterminais.com.br"}]
["BRMAO","42GP","HLBU1804332","Nao","SUPER TERMINAIS",{"$f":"VLOOKUP(E701,'Padrão mensagem'!$A$3:$B$67,2,0)","v":"Depot Super Terminais - (92) 3616-2650 / E-mails: coordenacao.depot@superterminais.com.br; reparos.container@superterminais.com.br"}]
["BRMAO","45GP","HAMU2420917","Nao","SUPER TERMINAIS",{"$f":"VLOOKUP(E702,'Padrão mensagem'!$A$3:$B$67,2,0)","v":"Depot Super Terminais - (92) 3616-2650 / E-mails: coordenacao.depot@superterminais.com.br; reparos.container@superterminais.com.br"}]
["BRMAO","45GP","HAMU2419752","Nao","SUPER TERMINAIS",{"$f":"VLOOKUP(E703,'Padrão mensagem'!$A$3:$B$67,2,0)","v":"Depot Super Terminais - (92) 3616-2650 / E-mails: coordenacao.depot@superterminais.com.br; reparos.container@superterminais.com.br"}]
["BRMAO","45GP","UETU5909025","Nao","SUPER TERMINAIS",{"$f":"VLOOKUP(E704,'Padrão mensagem'!$A$3:$B$67,2,0)","v":"Depot Super Terminais - (92) 3616-2650 / E-mails: coordenacao.depot@superterminais.com.br; reparos.container@superterminais.com.br"}]
["BRMAO","45GP","GESU6507790","Nao","SUPER TERMINAIS",{"$f":"VLOOKUP(E705,'Padrão mensagem'!$A$3:$B$67,2,0)","v":"Depot Super Terminais - (92) 3616-2650 / E-mails: coordenacao.depot@superterminais.com.br; reparos.container@superterminais.com.br"}]
["BRMAO","45GP","HLXU8113880","Nao","SUPER TERMINAIS",{"$f":"VLOOKUP(E706,'Padrão mensagem'!$A$3:$B$67,2,0)","v":"Depot Super Terminais - (92) 3616-2650 / E-mails: coordenacao.depot@superterminais.com.br; reparos.container@superterminais.com.br"}]
["BRMAO","45GP","FANU1721651","Nao","SUPER TERMINAIS",{"$f":"VLOOKUP(E707,'Padrão mensagem'!$A$3:$B$67,2,0)","v":"Depot Super Terminais - (92) 3616-2650 / E-mails: coordenacao.depot@superterminais.com.br; reparos.container@superterminais.com.br"}]
["BRMAO","45GP","HLBU3335487","Nao","SUPER TERMINAIS",{"$f":"VLOOKUP(E708,'Padrão mensagem'!$A$3:$B$67,2,0)","v":"Depot Super Terminais - (92) 3616-2650 / E-mails: coordenacao.depot@superterminais.com.br; reparos.container@superterminais.com.br"}]
["BRMAO","45GP","FANU3640013","Nao","SUPER TERMINAIS",{"$f":"VLOOKUP(E709,'Padrão mensagem'!$A$3:$B$67,2,0)","v":"Depot Super Terminais - (92) 3616-2650 / E-mails: coordenacao.depot@superterminais.com.br; reparos.container@superterminais.com.br"}]
["BRMAO","45GP","TXGU7113706","Nao","SUPER TERMINAIS",{"$f":"VLOOKUP(E710,'Padrão mensagem'!$A$3:$B$67,2,0)","v":"Depot Super Terminais - (92) 3616-2650 / E-mails: coordenacao.depot@superterminais.com.br; reparos.container@superterminais.com.br"}]
["BRMAO","45GP","HLBU3154323","Nao","SUPER TERMINAIS",{"$f":"VLOOKUP(E711,'Padrão mensagem'!$A$3:$B$67,2,0)","v":"Depot Super Terminais - (92) 3616-2650 / E-mails: coordenacao.depot@superterminais.com.br; reparos.container@superterminais.com.br"}]
["BRMAO","45GP","HLBU1960145","Nao","SUPER TERMINAIS",{"$f":"VLOOKUP(E712,'Padrão mensagem'!$A$3:$B$67,2,0)","v":"Depot Super Terminais - (92) 3616-2650 / E-mails: coordenacao.depot@superterminais.com.br; reparos.container@superterminais.com.br"}]
["BRMAO","45GP","HLXU8573968","Nao","SUPER TERMINAIS",{"$f":"VLOOKUP(E713,'Padrão mensagem'!$A$3:$B$67,2,0)","v":"Depot Super Terminais - (92) 3616-2650 / E-mails: coordenacao.depot@superterminais.com.br; reparos.container@superterminais.com.br"}]
["BRMAO","22GP","HLBU3565108","Nao","SUPER TERMINAIS",{"$f":"VLOOKUP(E714,'Padrão mensagem'!$A$3:$B$67,2,0)","v":"Depot Super Terminais - (92) 3616-2650 / E-mails: coordenacao.depot@superterminais.com.br; reparos.container@superterminais.com.br"}]
["BRMAO","45GP","CAIU9739971","Nao","SUPER TERMINAIS",{"$f":"VLOOKUP(E715,'Padrão mensagem'!$A$3:$B$67,2,0)","v":"Depot Super Terminais - (92) 3616-2650 / E-mails: coordenacao.depot@superterminais.com.br; reparos.container@superterminais.com.br"}]
["BRMAO","45GP","TGHU6487362","Nao","SUPER TERMINAIS",{"$f":"VLOOKUP(E716,'Padrão mensagem'!$A$3:$B$67,2,0)","v":"Depot Super Terminais - (92) 3616-2650 / E-mails: coordenacao.depot@superterminais.com.br; reparos.container@superterminais.com.br"}]
["BRMAO","45GP","SEGU6396979","Nao","SUPER TERMINAIS",{"$f":"VLOOKUP(E717,'Padrão mensagem'!$A$3:$B$67,2,0)","v":"Depot Super Terminais - (92) 3616-2650 / E-mails: coordenacao.depot@superterminais.com.br; reparos.container@superterminais.com.br"}]
["BRMAO","45GP","TLLU5398779","Nao","SUPER TERMINAIS",{"$f":"VLOOKUP(E718,'Padrão mensagem'!$A$3:$B$67,2,0)","v":"Depot Super Terminais - (92) 3616-2650 / E-mails: coordenacao.depot@superterminais.com.br; reparos.container@superterminais.com.br"}]
["BRMAO","45GP","CRSU9278719","Nao","SUPER TERMINAIS",{"$f":"VLOOKUP(E719,'Padrão mensagem'!$A$3:$B$67,2,0)","v":"Depot Super Terminais - (92) 3616-2650 / E-mails: coordenacao.depot@superterminais.com.br; reparos.container@superterminais.com.br"}]
["BRMAO","45GP","HAMU1689748","Nao","SUPER TERMINAIS",{"$f":"VLOOKUP(E720,'Padrão mensagem'!$A$3:$B$67,2,0)","v":"Depot Super Terminais - (92) 3616-2650 / E-mails: coordenacao.depot@superterminais.com.br; reparos.container@superterminais.com.br"}]
["BRMAO","45GP","CAIU4478920","Nao","SUPER TERMINAIS",{"$f":"VLOOKUP(E721,'Padrão mensagem'!$A$3:$B$67,2,0)","v":"Depot Super Terminais - (92) 3616-2650 / E-mails: coordenacao.depot@superterminais.com.br; reparos.container@superterminais.com.br"}]
["BRMAO","45GP","DRYU9776976","Nao","SUPER TERMINAIS",{"$f":"VLOOKUP(E722,'Padrão mensagem'!$A$3:$B$67,2,0)","v":"Depot Super Terminais - (92) 3616-2650 / E-mails: coordenacao.depot@superterminais.com.br; reparos.container@superterminais.com.br"}]
["BRMAO","45GP","FANU3767899","Nao","SUPER TERMINAIS",{"$f":"VLOOKUP(E723,'Padrão mensagem'!$A$3:$B$67,2,0)","v":"Depot Super Terminais - (92) 3616-2650 / E-mails: coordenacao.depot@superterminais.com.br; reparos.container@superterminais.com.br"}]
["BRMAO","45GP","HLBU2454882","Nao","SUPER TERMINAIS",{"$f":"VLOOKUP(E724,'Padrão mensagem'!$A$3:$B$67,2,0)","v":"Depot Super Terminais - (92) 3616-2650 / E-mails: coordenacao.depot@superterminais.com.br; reparos.container@superterminais.com.br"}]
["BRMAO","45GP","CAIU7852504","Nao","SUPER TERMINAIS",{"$f":"VLOOKUP(E725,'Padrão mensagem'!$A$3:$B$67,2,0)","v":"Depot Super Terminais - (92) 3616-2650 / E-mails: coordenacao.depot@superterminais.com.br; reparos.container@superterminais.com.br"}]
["BRMAO","45GP","FSCU7294009","Nao","SUPER TERMINAIS",{"$f":"VLOOKUP(E726,'Padrão mensagem'!$A$3:$B$67,2,0)","v":"Depot Super Terminais - (92) 3616-2650 / E-mails: coordenacao.depot@superterminais.com.br; reparos.container@superterminais.com.br"}]
["BRMAO","45GP","HLBU2256721","Nao","SUPER TERMINAIS",{"$f":"VLOOKUP(E727,'Padrão mensagem'!$A$3:$B$67,2,0)","v":"Depot Super Terminais - (92) 3616-2650 / E-mails: coordenacao.depot@superterminais.com.br; reparos.container@superterminais.com.br"}]
["BRMAO","45GP","TCKU6027993","Nao","SUPER TERMINAIS",{"$f":"VLOOKUP(E728,'Padrão mensagem'!$A$3:$B$67,2,0)","v":"Depot Super Terminais - (92) 3616-2650 / E-mails: coordenacao.depot@superterminais.com.br; reparos.container@superterminais.com.br"}]
["BRMAO","45GP","HLBU3404654","Nao","SUPER TERMINAIS",{"$f":"VLOOKUP(E729,'Padrão mensagem'!$A$3:$B$67,2,0)","v":"Depot Super Terminais - (92) 3616-2650 / E-mails: coordenacao.depot@superterminais.com.br; reparos.container@superterminais.com.br"}]
["BRMAO","45GP","CXDU1852300","Nao","SUPER TERMINAIS",{"$f":"VLOOKUP(E730,'Padrão mensagem'!$A$3:$B$67,2,0)","v":"Depot Super Terminais - (92) 3616-2650 / E-mails: coordenacao.depot@superterminais.com.br; reparos.container@superterminais.com.br"}]
["BRMAO","45GP","FANU3395385","Nao","SUPER TERMINAIS",{"$f":"VLOOKUP(E731,'Padrão mensagem'!$A$3:$B$67,2,0)","v":"Depot Super Terminais - (92) 3616-2650 / E-mails: coordenacao.depot@superterminais.com.br; reparos.container@superterminais.com.br"}]
["BRMAO","45GP","FANU1252940","Nao","SUPER TERMINAIS",{"$f":"VLOOKUP(E732,'Padrão mensagem'!$A$3:$B$67,2,0)","v":"Depot Super Terminais - (92) 3616-2650 / E-mails: coordenacao.depot@superterminais.com.br; reparos.container@superterminais.com.br"}]
["BRMAO","45GP","TLLU5868867","Nao","SUPER TERMINAIS",{"$f":"VLOOKUP(E733,'Padrão mensagem'!$A$3:$B$67,2,0)","v":"Depot Super Terminais - (92) 3616-2650 / E-mails: coordenacao.depot@superterminais.com.br; reparos.container@superterminais.com.br"}]
["BRMAO","42GP","UACU8320311","Nao","SUPER TERMINAIS",{"$f":"VLOOKUP(E734,'Padrão mensagem'!$A$3:$B$67,2,0)","v":"Depot Super Terminais - (92) 3616-2650 / E-mails: coordenacao.depot@superterminais.com.br; reparos.container@superterminais.com.br"}]
["BRMAO","45GP","HLXU8215840","Nao","SUPER TERMINAIS",{"$f":"VLOOKUP(E735,'Padrão mensagem'!$A$3:$B$67,2,0)","v":"Depot Super Terminais - (92) 3616-2650 / E-mails: coordenacao.depot@superterminais.com.br; reparos.container@superterminais.com.br"}]
["BRMAO","45GP","HLXU8612010","Nao","SUPER TERMINAIS",{"$f":"VLOOKUP(E736,'Padrão mensagem'!$A$3:$B$67,2,0)","v":"Depot Super Terminais - (92) 3616-2650 / E-mails: coordenacao.depot@superterminais.com.br; reparos.container@superterminais.com.br"}]
["BRMAO","45GP","HLXU8434089","Nao","SUPER TERMINAIS",{"$f":"VLOOKUP(E737,'Padrão mensagem'!$A$3:$B$67,2,0)","v":"Depot Super Terminais - (92) 3616-2650 / E-mails: coordenacao.depot@superterminais.com.br; reparos.container@superterminais.com.br"}]
["BRMAO","45GP","BMOU6702407","Nao","SUPER TERMINAIS",{"$f":"VLOOKUP(E738,'Padrão mensagem'!$A$3:$B$67,2,0)","v":"Depot Super Terminais - (92) 3616-2650 / E-mails: coordenacao.depot@superterminais.com.br; reparos.container@superterminais.com.br"}]
["BRMAO","45GP","FANU1528154","Nao","SUPER TERMINAIS",{"$f":"VLOOKUP(E739,'Padrão mensagem'!$A$3:$B$67,2,0)","v":"Depot Super Terminais - (92) 3616-2650 / E-mails: coordenacao.depot@superterminais.com.br; reparos.container@superterminais.com.br"}]
["BRMAO","45GP","UACU5658671","Nao","SUPER TERMINAIS",{"$f":"VLOOKUP(E740,'Padrão mensagem'!$A$3:$B$67,2,0)","v":"Depot Super Terminais - (92) 3616-2650 / E-mails: coordenacao.depot@superterminais.com.br; reparos.container@superterminais.com.br"}]
["BRMAO","45GP","UETU5796171","Nao","SUPER TERMINAIS",{"$f":"VLOOKUP(E741,'Padrão mensagem'!$A$3:$B$67,2,0)","v":"Depot Super Terminais - (92) 3616-2650 / E-mails: coordenacao.depot@superterminais.com.br; reparos.container@superterminais.com.br"}]
["BRMAO","45GP","SEKU6251521","Nao","SUPER TERMINAIS",{"$f":"VLOOKUP(E742,'Padrão mensagem'!$A$3:$B$67,2,0)","v":"Depot Super Terminais - (92) 3616-2650 / E-mails: coordenacao.depot@superterminais.com.br; reparos.container@superterminais.com.br"}]
["BRMAO","45GP","HLXU8293139","Nao","SUPER TERMINAIS",{"$f":"VLOOKUP(E743,'Padrão mensagem'!$A$3:$B$67,2,0)","v":"Depot Super Terminais - (92) 3616-2650 / E-mails: coordenacao.depot@superterminais.com.br; reparos.container@superterminais.com.br"}]
["BRMAO","45GP","HLBU1932966","Nao","SUPER TERMINAIS",{"$f":"VLOOKUP(E744,'Padrão mensagem'!$A$3:$B$67,2,0)","v":"Depot Super Terminais - (92) 3616-2650 / E-mails: coordenacao.depot@superterminais.com.br; reparos.container@superterminais.com.br"}]
["BRMAO","45GP","TCLU5155446","Nao","SUPER TERMINAIS",{"$f":"VLOOKUP(E745,'Padrão mensagem'!$A$3:$B$67,2,0)","v":"Depot Super Terminais - (92) 3616-2650 / E-mails: coordenacao.depot@superterminais.com.br; reparos.container@superterminais.com.br"}]
["BRMAO","45GP","FANU3863887","Nao","SUPER TERMINAIS",{"$f":"VLOOKUP(E746,'Padrão mensagem'!$A$3:$B$67,2,0)","v":"Depot Super Terminais - (92) 3616-2650 / E-mails: coordenacao.depot@superterminais.com.br; reparos.container@superterminais.com.br"}]
["BRMAO","45PC","HLBU8244409","Nao","SUPER TERMINAIS",{"$f":"VLOOKUP(E747,'Padrão mensagem'!$A$3:$B$67,2,0)","v":"Depot Super Terminais - (92) 3616-2650 / E-mails: coordenacao.depot@superterminais.com.br; reparos.container@superterminais.com.br"}]
["BRMAO","45GP","CAIU9002074","Nao","SUPER TERMINAIS",{"$f":"VLOOKUP(E748,'Padrão mensagem'!$A$3:$B$67,2,0)","v":"Depot Super Terminais - (92) 3616-2650 / E-mails: coordenacao.depot@superterminais.com.br; reparos.container@superterminais.com.br"}]
["BRMAO","45GP","NIDU5201077","Nao","SUPER TERMINAIS",{"$f":"VLOOKUP(E749,'Padrão mensagem'!$A$3:$B$67,2,0)","v":"Depot Super Terminais - (92) 3616-2650 / E-mails: coordenacao.depot@superterminais.com.br; reparos.container@superterminais.com.br"}]
["BRMAO","45GP","FANU1947905","Nao","SUPER TERMINAIS",{"$f":"VLOOKUP(E750,'Padrão mensagem'!$A$3:$B$67,2,0)","v":"Depot Super Terminais - (92) 3616-2650 / E-mails: coordenacao.depot@superterminais.com.br; reparos.container@superterminais.com.br"}]
["BRMAO","45GP","TCNU3256861","Nao","SUPER TERMINAIS",{"$f":"VLOOKUP(E751,'Padrão mensagem'!$A$3:$B$67,2,0)","v":"Depot Super Terminais - (92) 3616-2650 / E-mails: coordenacao.depot@superterminais.com.br; reparos.container@superterminais.com.br"}]
["BRMAO","45GP","TCLU5359898","Nao","SUPER TERMINAIS",{"$f":"VLOOKUP(E752,'Padrão mensagem'!$A$3:$B$67,2,0)","v":"Depot Super Terminais - (92) 3616-2650 / E-mails: coordenacao.depot@superterminais.com.br; reparos.container@superterminais.com.br"}]
["BRMAO","45GP","FCIU9154516","Nao","SUPER TERMINAIS",{"$f":"VLOOKUP(E753,'Padrão mensagem'!$A$3:$B$67,2,0)","v":"Depot Super Terminais - (92) 3616-2650 / E-mails: coordenacao.depot@superterminais.com.br; reparos.container@superterminais.com.br"}]
["BRMAO","45GP","TXGU7115930","Nao","SUPER TERMINAIS",{"$f":"VLOOKUP(E754,'Padrão mensagem'!$A$3:$B$67,2,0)","v":"Depot Super Terminais - (92) 3616-2650 / E-mails: coordenacao.depot@superterminais.com.br; reparos.container@superterminais.com.br"}]
["BRMAO","45GP","HLBU3382703","Nao","SUPER TERMINAIS",{"$f":"VLOOKUP(E755,'Padrão mensagem'!$A$3:$B$67,2,0)","v":"Depot Super Terminais - (92) 3616-2650 / E-mails: coordenacao.depot@superterminais.com.br; reparos.container@superterminais.com.br"}]
["BRMAO","45GP","NIDU5234086","Nao","SUPER TERMINAIS",{"$f":"VLOOKUP(E756,'Padrão mensagem'!$A$3:$B$67,2,0)","v":"Depot Super Terminais - (92) 3616-2650 / E-mails: coordenacao.depot@superterminais.com.br; reparos.container@superterminais.com.br"}]
["BRMAO","45GP","HLXU8052131","Nao","SUPER TERMINAIS",{"$f":"VLOOKUP(E757,'Padrão mensagem'!$A$3:$B$67,2,0)","v":"Depot Super Terminais - (92) 3616-2650 / E-mails: coordenacao.depot@superterminais.com.br; reparos.container@superterminais.com.br"}]
["BRMAO","45GP","HLXU8486014","Nao","SUPER TERMINAIS",{"$f":"VLOOKUP(E758,'Padrão mensagem'!$A$3:$B$67,2,0)","v":"Depot Super Terminais - (92) 3616-2650 / E-mails: coordenacao.depot@superterminais.com.br; reparos.container@superterminais.com.br"}]
["BRMAO","45GP","HAMU2461665","Nao","SUPER TERMINAIS",{"$f":"VLOOKUP(E759,'Padrão mensagem'!$A$3:$B$67,2,0)","v":"Depot Super Terminais - (92) 3616-2650 / E-mails: coordenacao.depot@superterminais.com.br; reparos.container@superterminais.com.br"}]
["BRMAO","45GP","HAMU1238430","Nao","SUPER TERMINAIS",{"$f":"VLOOKUP(E760,'Padrão mensagem'!$A$3:$B$67,2,0)","v":"Depot Super Terminais - (92) 3616-2650 / E-mails: coordenacao.depot@superterminais.com.br; reparos.container@superterminais.com.br"}]
["BRMAO","45GP","FANU3011432","Nao","SUPER TERMINAIS",{"$f":"VLOOKUP(E761,'Padrão mensagem'!$A$3:$B$67,2,0)","v":"Depot Super Terminais - (92) 3616-2650 / E-mails: coordenacao.depot@superterminais.com.br; reparos.container@superterminais.com.br"}]
["BRMAO","45GP","HAMU1239020","Nao","SUPER TERMINAIS",{"$f":"VLOOKUP(E762,'Padrão mensagem'!$A$3:$B$67,2,0)","v":"Depot Super Terminais - (92) 3616-2650 / E-mails: coordenacao.depot@superterminais.com.br; reparos.container@superterminais.com.br"}]
["BRMAO","45GP","HLBU2155006","Nao","SUPER TERMINAIS",{"$f":"VLOOKUP(E763,'Padrão mensagem'!$A$3:$B$67,2,0)","v":"Depot Super Terminais - (92) 3616-2650 / E-mails: coordenacao.depot@superterminais.com.br; reparos.container@superterminais.com.br"}]
["BRMAO","45GP","FANU3490295","Nao","SUPER TERMINAIS",{"$f":"VLOOKUP(E764,'Padrão mensagem'!$A$3:$B$67,2,0)","v":"Depot Super Terminais - (92) 3616-2650 / E-mails: coordenacao.depot@superterminais.com.br; reparos.container@superterminais.com.br"}]
["BRMAO","45GP","UACU5746941","Nao","SUPER TERMINAIS",{"$f":"VLOOKUP(E765,'Padrão mensagem'!$A$3:$B$67,2,0)","v":"Depot Super Terminais - (92) 3616-2650 / E-mails: coordenacao.depot@superterminais.com.br; reparos.container@superterminais.com.br"}]
["BRMAO","45GP","GESU6198496","Nao","SUPER TERMINAIS",{"$f":"VLOOKUP(E766,'Padrão mensagem'!$A$3:$B$67,2,0)","v":"Depot Super Terminais - (92) 3616-2650 / E-mails: coordenacao.depot@superterminais.com.br; reparos.container@superterminais.com.br"}]
["BRMAO","45GP","HLBU1681639","Nao","SUPER TERMINAIS",{"$f":"VLOOKUP(E767,'Padrão mensagem'!$A$3:$B$67,2,0)","v":"Depot Super Terminais - (92) 3616-2650 / E-mails: coordenacao.depot@superterminais.com.br; reparos.container@superterminais.com.br"}]
["BRMAO","45GP","UACU5780078","Nao","SUPER TERMINAIS",{"$f":"VLOOKUP(E768,'Padrão mensagem'!$A$3:$B$67,2,0)","v":"Depot Super Terminais - (92) 3616-2650 / E-mails: coordenacao.depot@superterminais.com.br; reparos.container@superterminais.com.br"}]
["BRMAO","45GP","FANU1429824","Nao","SUPER TERMINAIS",{"$f":"VLOOKUP(E769,'Padrão mensagem'!$A$3:$B$67,2,0)","v":"Depot Super Terminais - (92) 3616-2650 / E-mails: coordenacao.depot@superterminais.com.br; reparos.container@superterminais.com.br"}]
["BRMAO","45GP","FANU1864415","Nao","SUPER TERMINAIS",{"$f":"VLOOKUP(E770,'Padrão mensagem'!$A$3:$B$67,2,0)","v":"Depot Super Terminais - (92) 3616-2650 / E-mails: coordenacao.depot@superterminais.com.br; reparos.container@superterminais.com.br"}]
["BRMAO","45GP","HAMU2146961","Nao","SUPER TERMINAIS",{"$f":"VLOOKUP(E771,'Padrão mensagem'!$A$3:$B$67,2,0)","v":"Depot Super Terminais - (92) 3616-2650 / E-mails: coordenacao.depot@superterminais.com.br; reparos.container@superterminais.com.br"}]
["BRMAO","45GP","TCKU6085201","Nao","SUPER TERMINAIS",{"$f":"VLOOKUP(E772,'Padrão mensagem'!$A$3:$B$67,2,0)","v":"Depot Super Terminais - (92) 3616-2650 / E-mails: coordenacao.depot@superterminais.com.br; reparos.container@superterminais.com.br"}]
["BRMAO","45GP","TCLU5174404","Nao","SUPER TERMINAIS",{"$f":"VLOOKUP(E773,'Padrão mensagem'!$A$3:$B$67,2,0)","v":"Depot Super Terminais - (92) 3616-2650 / E-mails: coordenacao.depot@superterminais.com.br; reparos.container@superterminais.com.br"}]
["BRMAO","45GP","UACU5654906","Nao","SUPER TERMINAIS",{"$f":"VLOOKUP(E774,'Padrão mensagem'!$A$3:$B$67,2,0)","v":"Depot Super Terminais - (92) 3616-2650 / E-mails: coordenacao.depot@superterminais.com.br; reparos.container@superterminais.com.br"}]
["BRMAO","45GP","FBLU0074095","Nao","SUPER TERMINAIS",{"$f":"VLOOKUP(E775,'Padrão mensagem'!$A$3:$B$67,2,0)","v":"Depot Super Terminais - (92) 3616-2650 / E-mails: coordenacao.depot@superterminais.com.br; reparos.container@superterminais.com.br"}]
["BRMAO","45GP","GESU6422380","Nao","SUPER TERMINAIS",{"$f":"VLOOKUP(E776,'Padrão mensagem'!$A$3:$B$67,2,0)","v":"Depot Super Terminais - (92) 3616-2650 / E-mails: coordenacao.depot@superterminais.com.br; reparos.container@superterminais.com.br"}]
["BRMAO","45GP","CAIU4983748","Nao","SUPER TERMINAIS",{"$f":"VLOOKUP(E777,'Padrão mensagem'!$A$3:$B$67,2,0)","v":"Depot Super Terminais - (92) 3616-2650 / E-mails: coordenacao.depot@superterminais.com.br; reparos.container@superterminais.com.br"}]
["BRMAO","45GP","UACU6034690","Nao","SUPER TERMINAIS",{"$f":"VLOOKUP(E778,'Padrão mensagem'!$A$3:$B$67,2,0)","v":"Depot Super Terminais - (92) 3616-2650 / E-mails: coordenacao.depot@superterminais.com.br; reparos.container@superterminais.com.br"}]
["BRMAO","45GP","HLBU1889350","Nao","SUPER TERMINAIS",{"$f":"VLOOKUP(E779,'Padrão mensagem'!$A$3:$B$67,2,0)","v":"Depot Super Terminais - (92) 3616-2650 / E-mails: coordenacao.depot@superterminais.com.br; reparos.container@superterminais.com.br"}]
["BRMAO","45GP","HAMU1788340","Nao","SUPER TERMINAIS",{"$f":"VLOOKUP(E780,'Padrão mensagem'!$A$3:$B$67,2,0)","v":"Depot Super Terminais - (92) 3616-2650 / E-mails: coordenacao.depot@superterminais.com.br; reparos.container@superterminais.com.br"}]
["BRMAO","42GP","HLXU5342435","Nao","SUPER TERMINAIS",{"$f":"VLOOKUP(E781,'Padrão mensagem'!$A$3:$B$67,2,0)","v":"Depot Super Terminais - (92) 3616-2650 / E-mails: coordenacao.depot@superterminais.com.br; reparos.container@superterminais.com.br"}]
["BRMAO","42GP","UACU8343549","Nao","SUPER TERMINAIS",{"$f":"VLOOKUP(E782,'Padrão mensagem'!$A$3:$B$67,2,0)","v":"Depot Super Terminais - (92) 3616-2650 / E-mails: coordenacao.depot@superterminais.com.br; reparos.container@superterminais.com.br"}]
["BRMAO","42GP","UACU8348073","Nao","SUPER TERMINAIS",{"$f":"VLOOKUP(E783,'Padrão mensagem'!$A$3:$B$67,2,0)","v":"Depot Super Terminais - (92) 3616-2650 / E-mails: coordenacao.depot@superterminais.com.br; reparos.container@superterminais.com.br"}]
["BRMAO","42GP","UACU8556776","Nao","SUPER TERMINAIS",{"$f":"VLOOKUP(E784,'Padrão mensagem'!$A$3:$B$67,2,0)","v":"Depot Super Terminais - (92) 3616-2650 / E-mails: coordenacao.depot@superterminais.com.br; reparos.container@superterminais.com.br"}]
["BRMAO","42GP","HLBU1265523","Nao","SUPER TERMINAIS",{"$f":"VLOOKUP(E785,'Padrão mensagem'!$A$3:$B$67,2,0)","v":"Depot Super Terminais - (92) 3616-2650 / E-mails: coordenacao.depot@superterminais.com.br; reparos.container@superterminais.com.br"}]
["BRMAO","45GP","FANU1246171","Nao","SUPER TERMINAIS",{"$f":"VLOOKUP(E786,'Padrão mensagem'!$A$3:$B$67,2,0)","v":"Depot Super Terminais - (92) 3616-2650 / E-mails: coordenacao.depot@superterminais.com.br; reparos.container@superterminais.com.br"}]
["BRMAO","45GP","HLBU3135961","Nao","SUPER TERMINAIS",{"$f":"VLOOKUP(E787,'Padrão mensagem'!$A$3:$B$67,2,0)","v":"Depot Super Terminais - (92) 3616-2650 / E-mails: coordenacao.depot@superterminais.com.br; reparos.container@superterminais.com.br"}]
["BRMAO","45GP","HLXU8120489","Nao","SUPER TERMINAIS",{"$f":"VLOOKUP(E788,'Padrão mensagem'!$A$3:$B$67,2,0)","v":"Depot Super Terminais - (92) 3616-2650 / E-mails: coordenacao.depot@superterminais.com.br; reparos.container@superterminais.com.br"}]
["BRMAO","45GP","HLBU3100667","Nao","SUPER TERMINAIS",{"$f":"VLOOKUP(E789,'Padrão mensagem'!$A$3:$B$67,2,0)","v":"Depot Super Terminais - (92) 3616-2650 / E-mails: coordenacao.depot@superterminais.com.br; reparos.container@superterminais.com.br"}]
["BRMAO","45GP","HLBU2550130","Nao","SUPER TERMINAIS",{"$f":"VLOOKUP(E790,'Padrão mensagem'!$A$3:$B$67,2,0)","v":"Depot Super Terminais - (92) 3616-2650 / E-mails: coordenacao.depot@superterminais.com.br; reparos.container@superterminais.com.br"}]
["BRMAO","45GP","FANU1836964","Nao","SUPER TERMINAIS",{"$f":"VLOOKUP(E791,'Padrão mensagem'!$A$3:$B$67,2,0)","v":"Depot Super Terminais - (92) 3616-2650 / E-mails: coordenacao.depot@superterminais.com.br; reparos.container@superterminais.com.br"}]
["BRMAO","45GP","HAMU1589420","Nao","SUPER TERMINAIS",{"$f":"VLOOKUP(E792,'Padrão mensagem'!$A$3:$B$67,2,0)","v":"Depot Super Terminais - (92) 3616-2650 / E-mails: coordenacao.depot@superterminais.com.br; reparos.container@superterminais.com.br"}]
["BRMAO","45GP","FANU3073141","Nao","SUPER TERMINAIS",{"$f":"VLOOKUP(E793,'Padrão mensagem'!$A$3:$B$67,2,0)","v":"Depot Super Terminais - (92) 3616-2650 / E-mails: coordenacao.depot@superterminais.com.br; reparos.container@superterminais.com.br"}]
["BRMAO","45GP","HAMU1596619","Nao","SUPER TERMINAIS",{"$f":"VLOOKUP(E794,'Padrão mensagem'!$A$3:$B$67,2,0)","v":"Depot Super Terminais - (92) 3616-2650 / E-mails: coordenacao.depot@superterminais.com.br; reparos.container@superterminais.com.br"}]
["BRMAO","42GP","CAXU7397444","Nao","SUPER TERMINAIS",{"$f":"VLOOKUP(E795,'Padrão mensagem'!$A$3:$B$67,2,0)","v":"Depot Super Terminais - (92) 3616-2650 / E-mails: coordenacao.depot@superterminais.com.br; reparos.container@superterminais.com.br"}]
["BRMAO","45GP","TXGU7183540","Nao","SUPER TERMINAIS",{"$f":"VLOOKUP(E796,'Padrão mensagem'!$A$3:$B$67,2,0)","v":"Depot Super Terminais - (92) 3616-2650 / E-mails: coordenacao.depot@superterminais.com.br; reparos.container@superterminais.com.br"}]
["BRMAO","45GP","FANU3127269","Nao","SUPER TERMINAIS",{"$f":"VLOOKUP(E797,'Padrão mensagem'!$A$3:$B$67,2,0)","v":"Depot Super Terminais - (92) 3616-2650 / E-mails: coordenacao.depot@superterminais.com.br; reparos.container@superterminais.com.br"}]
["BRMAO","45GP","TLLU5400201","Nao","SUPER TERMINAIS",{"$f":"VLOOKUP(E798,'Padrão mensagem'!$A$3:$B$67,2,0)","v":"Depot Super Terminais - (92) 3616-2650 / E-mails: coordenacao.depot@superterminais.com.br; reparos.container@superterminais.com.br"}]
["BRMAO","45GP","HLBU1493740","Nao","SUPER TERMINAIS",{"$f":"VLOOKUP(E799,'Padrão mensagem'!$A$3:$B$67,2,0)","v":"Depot Super Terminais - (92) 3616-2650 / E-mails: coordenacao.depot@superterminais.com.br; reparos.container@superterminais.com.br"}]
["BRMAO","45GP","BMOU5574620","Nao","SUPER TERMINAIS",{"$f":"VLOOKUP(E800,'Padrão mensagem'!$A$3:$B$67,2,0)","v":"Depot Super Terminais - (92) 3616-2650 / E-mails: coordenacao.depot@superterminais.com.br; reparos.container@superterminais.com.br"}]
["BRMAO","45GP","HLBU1550264","Nao","SUPER TERMINAIS",{"$f":"VLOOKUP(E801,'Padrão mensagem'!$A$3:$B$67,2,0)","v":"Depot Super Terminais - (92) 3616-2650 / E-mails: coordenacao.depot@superterminais.com.br; reparos.container@superterminais.com.br"}]
["BRMAO","45GP","HLXU8547378","Nao","SUPER TERMINAIS",{"$f":"VLOOKUP(E802,'Padrão mensagem'!$A$3:$B$67,2,0)","v":"Depot Super Terminais - (92) 3616-2650 / E-mails: coordenacao.depot@superterminais.com.br; reparos.container@superterminais.com.br"}]
["BRMAO","45GP","CAIU9514390","Nao","SUPER TERMINAIS",{"$f":"VLOOKUP(E803,'Padrão mensagem'!$A$3:$B$67,2,0)","v":"Depot Super Terminais - (92) 3616-2650 / E-mails: coordenacao.depot@superterminais.com.br; reparos.container@superterminais.com.br"}]
["BRMAO","45GP","TCNU7110920","Nao","SUPER TERMINAIS",{"$f":"VLOOKUP(E804,'Padrão mensagem'!$A$3:$B$67,2,0)","v":"Depot Super Terminais - (92) 3616-2650 / E-mails: coordenacao.depot@superterminais.com.br; reparos.container@superterminais.com.br"}]
["BRMAO","45GP","HAMU1967638","Nao","SUPER TERMINAIS",{"$f":"VLOOKUP(E805,'Padrão mensagem'!$A$3:$B$67,2,0)","v":"Depot Super Terminais - (92) 3616-2650 / E-mails: coordenacao.depot@superterminais.com.br; reparos.container@superterminais.com.br"}]
["BRMAO","45GP","UACU5770830","Nao","SUPER TERMINAIS",{"$f":"VLOOKUP(E806,'Padrão mensagem'!$A$3:$B$67,2,0)","v":"Depot Super Terminais - (92) 3616-2650 / E-mails: coordenacao.depot@superterminais.com.br; reparos.container@superterminais.com.br"}]
["BRMAO","45GP","HLXU8268809","Nao","SUPER TERMINAIS",{"$f":"VLOOKUP(E807,'Padrão mensagem'!$A$3:$B$67,2,0)","v":"Depot Super Terminais - (92) 3616-2650 / E-mails: coordenacao.depot@superterminais.com.br; reparos.container@superterminais.com.br"}]
["BRMAO","45GP","HLBU1758237","Nao","SUPER TERMINAIS",{"$f":"VLOOKUP(E808,'Padrão mensagem'!$A$3:$B$67,2,0)","v":"Depot Super Terminais - (92) 3616-2650 / E-mails: coordenacao.depot@superterminais.com.br; reparos.container@superterminais.com.br"}]
["BRMAO","45GP","FANU3279657","Nao","SUPER TERMINAIS",{"$f":"VLOOKUP(E809,'Padrão mensagem'!$A$3:$B$67,2,0)","v":"Depot Super Terminais - (92) 3616-2650 / E-mails: coordenacao.depot@superterminais.com.br; reparos.container@superterminais.com.br"}]
["BRMAO","45GP","HLBU1879959","Nao","SUPER TERMINAIS",{"$f":"VLOOKUP(E810,'Padrão mensagem'!$A$3:$B$67,2,0)","v":"Depot Super Terminais - (92) 3616-2650 / E-mails: coordenacao.depot@superterminais.com.br; reparos.container@superterminais.com.br"}]
["BRMAO","45GP","TCNU1789835","Nao","SUPER TERMINAIS",{"$f":"VLOOKUP(E811,'Padrão mensagem'!$A$3:$B$67,2,0)","v":"Depot Super Terminais - (92) 3616-2650 / E-mails: coordenacao.depot@superterminais.com.br; reparos.container@superterminais.com.br"}]
["BRMAO","22GP","BSIU3313346","Nao","SUPER TERMINAIS",{"$f":"VLOOKUP(E812,'Padrão mensagem'!$A$3:$B$67,2,0)","v":"Depot Super Terminais - (92) 3616-2650 / E-mails: coordenacao.depot@superterminais.com.br; reparos.container@superterminais.com.br"}]
["BRMAO","22GP","BEAU2199270","Nao","SUPER TERMINAIS",{"$f":"VLOOKUP(E813,'Padrão mensagem'!$A$3:$B$67,2,0)","v":"Depot Super Terminais - (92) 3616-2650 / E-mails: coordenacao.depot@superterminais.com.br; reparos.container@superterminais.com.br"}]
["BRMAO","22GP","HLXU1043307","Nao","SUPER TERMINAIS",{"$f":"VLOOKUP(E814,'Padrão mensagem'!$A$3:$B$67,2,0)","v":"Depot Super Terminais - (92) 3616-2650 / E-mails: coordenacao.depot@superterminais.com.br; reparos.container@superterminais.com.br"}]
["BRMAO","45GP","HLBU1417138","Nao","SUPER TERMINAIS",{"$f":"VLOOKUP(E815,'Padrão mensagem'!$A$3:$B$67,2,0)","v":"Depot Super Terminais - (92) 3616-2650 / E-mails: coordenacao.depot@superterminais.com.br; reparos.container@superterminais.com.br"}]
["BRMAO","45GP","FANU1461620","Nao","SUPER TERMINAIS",{"$f":"VLOOKUP(E816,'Padrão mensagem'!$A$3:$B$67,2,0)","v":"Depot Super Terminais - (92) 3616-2650 / E-mails: coordenacao.depot@superterminais.com.br; reparos.container@superterminais.com.br"}]
["BRMAO","45GP","HLBU3086949","Nao","SUPER TERMINAIS",{"$f":"VLOOKUP(E817,'Padrão mensagem'!$A$3:$B$67,2,0)","v":"Depot Super Terminais - (92) 3616-2650 / E-mails: coordenacao.depot@superterminais.com.br; reparos.container@superterminais.com.br"}]
["BRMAO","45GP","TCNU7585818","Nao","SUPER TERMINAIS",{"$f":"VLOOKUP(E818,'Padrão mensagem'!$A$3:$B$67,2,0)","v":"Depot Super Terminais - (92) 3616-2650 / E-mails: coordenacao.depot@superterminais.com.br; reparos.container@superterminais.com.br"}]
["BRMAO","45RT","HLBU9125092","Nao","SUPER TERMINAIS",{"$f":"VLOOKUP(E819,'Padrão mensagem'!$A$3:$B$67,2,0)","v":"Depot Super Terminais - (92) 3616-2650 / E-mails: coordenacao.depot@superterminais.com.br; reparos.container@superterminais.com.br"}]
["BRMAO","45RT","HLXU8759989","Nao","SUPER TERMINAIS",{"$f":"VLOOKUP(E820,'Padrão mensagem'!$A$3:$B$67,2,0)","v":"Depot Super Terminais - (92) 3616-2650 / E-mails: coordenacao.depot@superterminais.com.br; reparos.container@superterminais.com.br"}]
["BRMAO","45RT","HLBU9432798","Nao","SUPER TERMINAIS",{"$f":"VLOOKUP(E821,'Padrão mensagem'!$A$3:$B$67,2,0)","v":"Depot Super Terminais - (92) 3616-2650 / E-mails: coordenacao.depot@superterminais.com.br; reparos.container@superterminais.com.br"}]
["BRMAO","45RT","HLBU9246221","Nao","SUPER TERMINAIS",{"$f":"VLOOKUP(E822,'Padrão mensagem'!$A$3:$B$67,2,0)","v":"Depot Super Terminais - (92) 3616-2650 / E-mails: coordenacao.depot@superterminais.com.br; reparos.container@superterminais.com.br"}]
["BRMAO","45RT","HLBU9123886","Nao","SUPER TERMINAIS",{"$f":"VLOOKUP(E823,'Padrão mensagem'!$A$3:$B$67,2,0)","v":"Depot Super Terminais - (92) 3616-2650 / E-mails: coordenacao.depot@superterminais.com.br; reparos.container@superterminais.com.br"}]
["BRMAO","45GP","FANU3847206","Nao","SUPER TERMINAIS",{"$f":"VLOOKUP(E824,'Padrão mensagem'!$A$3:$B$67,2,0)","v":"Depot Super Terminais - (92) 3616-2650 / E-mails: coordenacao.depot@superterminais.com.br; reparos.container@superterminais.com.br"}]
["BRMAO","45GP","HLXU8216554","Nao","SUPER TERMINAIS",{"$f":"VLOOKUP(E825,'Padrão mensagem'!$A$3:$B$67,2,0)","v":"Depot Super Terminais - (92) 3616-2650 / E-mails: coordenacao.depot@superterminais.com.br; reparos.container@superterminais.com.br"}]
["BRMAO","45GP","FANU3110380","Nao","SUPER TERMINAIS",{"$f":"VLOOKUP(E826,'Padrão mensagem'!$A$3:$B$67,2,0)","v":"Depot Super Terminais - (92) 3616-2650 / E-mails: coordenacao.depot@superterminais.com.br; reparos.container@superterminais.com.br"}]
["BRMAO","45GP","CAIU7993267","Nao","SUPER TERMINAIS",{"$f":"VLOOKUP(E827,'Padrão mensagem'!$A$3:$B$67,2,0)","v":"Depot Super Terminais - (92) 3616-2650 / E-mails: coordenacao.depot@superterminais.com.br; reparos.container@superterminais.com.br"}]
["BRMAO","22GP","FANU1333790","Nao","SUPER TERMINAIS",{"$f":"VLOOKUP(E828,'Padrão mensagem'!$A$3:$B$67,2,0)","v":"Depot Super Terminais - (92) 3616-2650 / E-mails: coordenacao.depot@superterminais.com.br; reparos.container@superterminais.com.br"}]
["BRMAO","45GP","HLXU8198614","Nao","SUPER TERMINAIS",{"$f":"VLOOKUP(E829,'Padrão mensagem'!$A$3:$B$67,2,0)","v":"Depot Super Terminais - (92) 3616-2650 / E-mails: coordenacao.depot@superterminais.com.br; reparos.container@superterminais.com.br"}]
["BRMAO","45GP","TCLU1464616","Nao","SUPER TERMINAIS",{"$f":"VLOOKUP(E830,'Padrão mensagem'!$A$3:$B$67,2,0)","v":"Depot Super Terminais - (92) 3616-2650 / E-mails: coordenacao.depot@superterminais.com.br; reparos.container@superterminais.com.br"}]
["BRMAO","45GP","FANU1688213","Nao","SUPER TERMINAIS",{"$f":"VLOOKUP(E831,'Padrão mensagem'!$A$3:$B$67,2,0)","v":"Depot Super Terminais - (92) 3616-2650 / E-mails: coordenacao.depot@superterminais.com.br; reparos.container@superterminais.com.br"}]
["BRMAO","45GP","HLBU1989555","Nao","SUPER TERMINAIS",{"$f":"VLOOKUP(E832,'Padrão mensagem'!$A$3:$B$67,2,0)","v":"Depot Super Terminais - (92) 3616-2650 / E-mails: coordenacao.depot@superterminais.com.br; reparos.container@superterminais.com.br"}]
["BRMAO","45GP","HLBU2513178","Nao","SUPER TERMINAIS",{"$f":"VLOOKUP(E833,'Padrão mensagem'!$A$3:$B$67,2,0)","v":"Depot Super Terminais - (92) 3616-2650 / E-mails: coordenacao.depot@superterminais.com.br; reparos.container@superterminais.com.br"}]
["BRMAO","45GP","HLXU8003986","Nao","SUPER TERMINAIS",{"$f":"VLOOKUP(E834,'Padrão mensagem'!$A$3:$B$67,2,0)","v":"Depot Super Terminais - (92) 3616-2650 / E-mails: coordenacao.depot@superterminais.com.br; reparos.container@superterminais.com.br"}]
["BRMAO","45GP","FCIU9198514","Nao","SUPER TERMINAIS",{"$f":"VLOOKUP(E835,'Padrão mensagem'!$A$3:$B$67,2,0)","v":"Depot Super Terminais - (92) 3616-2650 / E-mails: coordenacao.depot@superterminais.com.br; reparos.container@superterminais.com.br"}]
["BRMAO","45GP","HAMU2303422","Nao","SUPER TERMINAIS",{"$f":"VLOOKUP(E836,'Padrão mensagem'!$A$3:$B$67,2,0)","v":"Depot Super Terminais - (92) 3616-2650 / E-mails: coordenacao.depot@superterminais.com.br; reparos.container@superterminais.com.br"}]
["BRMAO","45GP","HLBU2047470","Nao","SUPER TERMINAIS",{"$f":"VLOOKUP(E837,'Padrão mensagem'!$A$3:$B$67,2,0)","v":"Depot Super Terminais - (92) 3616-2650 / E-mails: coordenacao.depot@superterminais.com.br; reparos.container@superterminais.com.br"}]
["BRMAO","45GP","SEKU5741036","Nao","SUPER TERMINAIS",{"$f":"VLOOKUP(E838,'Padrão mensagem'!$A$3:$B$67,2,0)","v":"Depot Super Terminais - (92) 3616-2650 / E-mails: coordenacao.depot@superterminais.com.br; reparos.container@superterminais.com.br"}]
["BRMAO","45GP","TCLU5942061","Nao","SUPER TERMINAIS",{"$f":"VLOOKUP(E839,'Padrão mensagem'!$A$3:$B$67,2,0)","v":"Depot Super Terminais - (92) 3616-2650 / E-mails: coordenacao.depot@superterminais.com.br; reparos.container@superterminais.com.br"}]
["BRMAO","45GP","UETU5479330","Nao","SUPER TERMINAIS",{"$f":"VLOOKUP(E840,'Padrão mensagem'!$A$3:$B$67,2,0)","v":"Depot Super Terminais - (92) 3616-2650 / E-mails: coordenacao.depot@superterminais.com.br; reparos.container@superterminais.com.br"}]
["BRMAO","22UT","HLXU3627017","Nao","SUPER TERMINAIS",{"$f":"VLOOKUP(E841,'Padrão mensagem'!$A$3:$B$67,2,0)","v":"Depot Super Terminais - (92) 3616-2650 / E-mails: coordenacao.depot@superterminais.com.br; reparos.container@superterminais.com.br"}]
["BRMAO","45GP","HLXU8250414","Nao","SUPER TERMINAIS",{"$f":"VLOOKUP(E842,'Padrão mensagem'!$A$3:$B$67,2,0)","v":"Depot Super Terminais - (92) 3616-2650 / E-mails: coordenacao.depot@superterminais.com.br; reparos.container@superterminais.com.br"}]
["BRMAO","45GP","UACU5992863","Nao","SUPER TERMINAIS",{"$f":"VLOOKUP(E843,'Padrão mensagem'!$A$3:$B$67,2,0)","v":"Depot Super Terminais - (92) 3616-2650 / E-mails: coordenacao.depot@superterminais.com.br; reparos.container@superterminais.com.br"}]
["BRMAO","45GP","FFAU5354329","Nao","SUPER TERMINAIS",{"$f":"VLOOKUP(E844,'Padrão mensagem'!$A$3:$B$67,2,0)","v":"Depot Super Terminais - (92) 3616-2650 / E-mails: coordenacao.depot@superterminais.com.br; reparos.container@superterminais.com.br"}]
["BRMAO","45GP","TCNU8657002","Nao","SUPER TERMINAIS",{"$f":"VLOOKUP(E845,'Padrão mensagem'!$A$3:$B$67,2,0)","v":"Depot Super Terminais - (92) 3616-2650 / E-mails: coordenacao.depot@superterminais.com.br; reparos.container@superterminais.com.br"}]
["BRMAO","45GP","HLBU2077270","Nao","SUPER TERMINAIS",{"$f":"VLOOKUP(E846,'Padrão mensagem'!$A$3:$B$67,2,0)","v":"Depot Super Terminais - (92) 3616-2650 / E-mails: coordenacao.depot@superterminais.com.br; reparos.container@superterminais.com.br"}]
["BRMAO","45GP","UACU5749771","Nao","SUPER TERMINAIS",{"$f":"VLOOKUP(E847,'Padrão mensagem'!$A$3:$B$67,2,0)","v":"Depot Super Terminais - (92) 3616-2650 / E-mails: coordenacao.depot@superterminais.com.br; reparos.container@superterminais.com.br"}]
["BRMAO","45GP","TRHU4530604","Nao","SUPER TERMINAIS",{"$f":"VLOOKUP(E848,'Padrão mensagem'!$A$3:$B$67,2,0)","v":"Depot Super Terminais - (92) 3616-2650 / E-mails: coordenacao.depot@superterminais.com.br; reparos.container@superterminais.com.br"}]
["BRMAO","45GP","FANU1393779","Nao","SUPER TERMINAIS",{"$f":"VLOOKUP(E849,'Padrão mensagem'!$A$3:$B$67,2,0)","v":"Depot Super Terminais - (92) 3616-2650 / E-mails: coordenacao.depot@superterminais.com.br; reparos.container@superterminais.com.br"}]
["BRMAO","45GP","FANU3668978","Nao","SUPER TERMINAIS",{"$f":"VLOOKUP(E850,'Padrão mensagem'!$A$3:$B$67,2,0)","v":"Depot Super Terminais - (92) 3616-2650 / E-mails: coordenacao.depot@superterminais.com.br; reparos.container@superterminais.com.br"}]
["BRMAO","22GP","GESU3877169","Nao","SUPER TERMINAIS",{"$f":"VLOOKUP(E851,'Padrão mensagem'!$A$3:$B$67,2,0)","v":"Depot Super Terminais - (92) 3616-2650 / E-mails: coordenacao.depot@superterminais.com.br; reparos.container@superterminais.com.br"}]
["BRMAO","45GP","HLBU2135421","Nao","SUPER TERMINAIS",{"$f":"VLOOKUP(E852,'Padrão mensagem'!$A$3:$B$67,2,0)","v":"Depot Super Terminais - (92) 3616-2650 / E-mails: coordenacao.depot@superterminais.com.br; reparos.container@superterminais.com.br"}]
["BRMAO","45GP","BSIU8295482","Nao","SUPER TERMINAIS",{"$f":"VLOOKUP(E853,'Padrão mensagem'!$A$3:$B$67,2,0)","v":"Depot Super Terminais - (92) 3616-2650 / E-mails: coordenacao.depot@superterminais.com.br; reparos.container@superterminais.com.br"}]
["BRMAO","45GP","FANU3189126","Nao","SUPER TERMINAIS",{"$f":"VLOOKUP(E854,'Padrão mensagem'!$A$3:$B$67,2,0)","v":"Depot Super Terminais - (92) 3616-2650 / E-mails: coordenacao.depot@superterminais.com.br; reparos.container@superterminais.com.br"}]
["BRMAO","45GP","FFAU1189843","Nao","SUPER TERMINAIS",{"$f":"VLOOKUP(E855,'Padrão mensagem'!$A$3:$B$67,2,0)","v":"Depot Super Terminais - (92) 3616-2650 / E-mails: coordenacao.depot@superterminais.com.br; reparos.container@superterminais.com.br"}]
["BRMAO","45GP","GESU6302487","Nao","SUPER TERMINAIS",{"$f":"VLOOKUP(E856,'Padrão mensagem'!$A$3:$B$67,2,0)","v":"Depot Super Terminais - (92) 3616-2650 / E-mails: coordenacao.depot@superterminais.com.br; reparos.container@superterminais.com.br"}]
["BRMAO","45GP","UETU6378598","Nao","SUPER TERMINAIS",{"$f":"VLOOKUP(E857,'Padrão mensagem'!$A$3:$B$67,2,0)","v":"Depot Super Terminais - (92) 3616-2650 / E-mails: coordenacao.depot@superterminais.com.br; reparos.container@superterminais.com.br"}]
["BRMAO","45GP","TCLU8217834","Nao","SUPER TERMINAIS",{"$f":"VLOOKUP(E858,'Padrão mensagem'!$A$3:$B$67,2,0)","v":"Depot Super Terminais - (92) 3616-2650 / E-mails: coordenacao.depot@superterminais.com.br; reparos.container@superterminais.com.br"}]
["BRMAO","45GP","FANU1297327","Nao","SUPER TERMINAIS",{"$f":"VLOOKUP(E859,'Padrão mensagem'!$A$3:$B$67,2,0)","v":"Depot Super Terminais - (92) 3616-2650 / E-mails: coordenacao.depot@superterminais.com.br; reparos.container@superterminais.com.br"}]
["BRMAO","45GP","HLBU2494062","Nao","SUPER TERMINAIS",{"$f":"VLOOKUP(E860,'Padrão mensagem'!$A$3:$B$67,2,0)","v":"Depot Super Terminais - (92) 3616-2650 / E-mails: coordenacao.depot@superterminais.com.br; reparos.container@superterminais.com.br"}]
["BRMAO","45GP","SEGU6398689","Nao","SUPER TERMINAIS",{"$f":"VLOOKUP(E861,'Padrão mensagem'!$A$3:$B$67,2,0)","v":"Depot Super Terminais - (92) 3616-2650 / E-mails: coordenacao.depot@superterminais.com.br; reparos.container@superterminais.com.br"}]
["BRMAO","22GP","TCLU2724277","Nao","SUPER TERMINAIS",{"$f":"VLOOKUP(E862,'Padrão mensagem'!$A$3:$B$67,2,0)","v":"Depot Super Terminais - (92) 3616-2650 / E-mails: coordenacao.depot@superterminais.com.br; reparos.container@superterminais.com.br"}]
["BRMAO","45GP","FANU3428513","Nao","SUPER TERMINAIS",{"$f":"VLOOKUP(E863,'Padrão mensagem'!$A$3:$B$67,2,0)","v":"Depot Super Terminais - (92) 3616-2650 / E-mails: coordenacao.depot@superterminais.com.br; reparos.container@superterminais.com.br"}]
["BRMAO","45GP","HAMU1731508","Nao","SUPER TERMINAIS",{"$f":"VLOOKUP(E864,'Padrão mensagem'!$A$3:$B$67,2,0)","v":"Depot Super Terminais - (92) 3616-2650 / E-mails: coordenacao.depot@superterminais.com.br; reparos.container@superterminais.com.br"}]
["BRMAO","42GP","HLXU5407958","Nao","SUPER TERMINAIS",{"$f":"VLOOKUP(E865,'Padrão mensagem'!$A$3:$B$67,2,0)","v":"Depot Super Terminais - (92) 3616-2650 / E-mails: coordenacao.depot@superterminais.com.br; reparos.container@superterminais.com.br"}]
["BRMAO","45GP","UACU5481457","Nao","SUPER TERMINAIS",{"$f":"VLOOKUP(E866,'Padrão mensagem'!$A$3:$B$67,2,0)","v":"Depot Super Terminais - (92) 3616-2650 / E-mails: coordenacao.depot@superterminais.com.br; reparos.container@superterminais.com.br"}]
["BRMAO","45GP","CAIU9267509","Nao","SUPER TERMINAIS",{"$f":"VLOOKUP(E867,'Padrão mensagem'!$A$3:$B$67,2,0)","v":"Depot Super Terminais - (92) 3616-2650 / E-mails: coordenacao.depot@superterminais.com.br; reparos.container@superterminais.com.br"}]
["BRMAO","45GP","FCIU7038081","Nao","SUPER TERMINAIS",{"$f":"VLOOKUP(E868,'Padrão mensagem'!$A$3:$B$67,2,0)","v":"Depot Super Terminais - (92) 3616-2650 / E-mails: coordenacao.depot@superterminais.com.br; reparos.container@superterminais.com.br"}]
["BRMAO","45GP","FANU1913377","Nao","SUPER TERMINAIS",{"$f":"VLOOKUP(E869,'Padrão mensagem'!$A$3:$B$67,2,0)","v":"Depot Super Terminais - (92) 3616-2650 / E-mails: coordenacao.depot@superterminais.com.br; reparos.container@superterminais.com.br"}]
["BRMAO","45GP","HLXU8221592","Nao","SUPER TERMINAIS",{"$f":"VLOOKUP(E870,'Padrão mensagem'!$A$3:$B$67,2,0)","v":"Depot Super Terminais - (92) 3616-2650 / E-mails: coordenacao.depot@superterminais.com.br; reparos.container@superterminais.com.br"}]
["BRMAO","45GP","FSCU7172037","Nao","SUPER TERMINAIS",{"$f":"VLOOKUP(E871,'Padrão mensagem'!$A$3:$B$67,2,0)","v":"Depot Super Terminais - (92) 3616-2650 / E-mails: coordenacao.depot@superterminais.com.br; reparos.container@superterminais.com.br"}]
["BRMAO","45GP","UACU5892165","Nao","SUPER TERMINAIS",{"$f":"VLOOKUP(E872,'Padrão mensagem'!$A$3:$B$67,2,0)","v":"Depot Super Terminais - (92) 3616-2650 / E-mails: coordenacao.depot@superterminais.com.br; reparos.container@superterminais.com.br"}]
["BRMAO","45GP","HLBU1553900","Nao","SUPER TERMINAIS",{"$f":"VLOOKUP(E873,'Padrão mensagem'!$A$3:$B$67,2,0)","v":"Depot Super Terminais - (92) 3616-2650 / E-mails: coordenacao.depot@superterminais.com.br; reparos.container@superterminais.com.br"}]
["BRMAO","45GP","HLBU2724139","Nao","SUPER TERMINAIS",{"$f":"VLOOKUP(E874,'Padrão mensagem'!$A$3:$B$67,2,0)","v":"Depot Super Terminais - (92) 3616-2650 / E-mails: coordenacao.depot@superterminais.com.br; reparos.container@superterminais.com.br"}]
["BRMAO","45GP","FANU1749279","Nao","SUPER TERMINAIS",{"$f":"VLOOKUP(E875,'Padrão mensagem'!$A$3:$B$67,2,0)","v":"Depot Super Terminais - (92) 3616-2650 / E-mails: coordenacao.depot@superterminais.com.br; reparos.container@superterminais.com.br"}]
["BRMAO","45GP","FANU3195303","Nao","SUPER TERMINAIS",{"$f":"VLOOKUP(E876,'Padrão mensagem'!$A$3:$B$67,2,0)","v":"Depot Super Terminais - (92) 3616-2650 / E-mails: coordenacao.depot@superterminais.com.br; reparos.container@superterminais.com.br"}]
["BRMAO","45GP","HAMU2301836","Nao","SUPER TERMINAIS",{"$f":"VLOOKUP(E877,'Padrão mensagem'!$A$3:$B$67,2,0)","v":"Depot Super Terminais - (92) 3616-2650 / E-mails: coordenacao.depot@superterminais.com.br; reparos.container@superterminais.com.br"}]
["BRMAO","45GP","FANU1082416","Nao","SUPER TERMINAIS",{"$f":"VLOOKUP(E878,'Padrão mensagem'!$A$3:$B$67,2,0)","v":"Depot Super Terminais - (92) 3616-2650 / E-mails: coordenacao.depot@superterminais.com.br; reparos.container@superterminais.com.br"}]
["BRMAO","45GP","CAIU8636222","Nao","SUPER TERMINAIS",{"$f":"VLOOKUP(E879,'Padrão mensagem'!$A$3:$B$67,2,0)","v":"Depot Super Terminais - (92) 3616-2650 / E-mails: coordenacao.depot@superterminais.com.br; reparos.container@superterminais.com.br"}]
["BRMAO","45GP","FANU1012208","Nao","SUPER TERMINAIS",{"$f":"VLOOKUP(E880,'Padrão mensagem'!$A$3:$B$67,2,0)","v":"Depot Super Terminais - (92) 3616-2650 / E-mails: coordenacao.depot@superterminais.com.br; reparos.container@superterminais.com.br"}]
["BRMAO","45GP","FANU3622806","Nao","SUPER TERMINAIS",{"$f":"VLOOKUP(E881,'Padrão mensagem'!$A$3:$B$67,2,0)","v":"Depot Super Terminais - (92) 3616-2650 / E-mails: coordenacao.depot@superterminais.com.br; reparos.container@superterminais.com.br"}]
["BRMAO","45GP","TEMU6707104","Nao","SUPER TERMINAIS",{"$f":"VLOOKUP(E882,'Padrão mensagem'!$A$3:$B$67,2,0)","v":"Depot Super Terminais - (92) 3616-2650 / E-mails: coordenacao.depot@superterminais.com.br; reparos.container@superterminais.com.br"}]
["BRMAO","45GP","TGBU6118362","Nao","SUPER TERMINAIS",{"$f":"VLOOKUP(E883,'Padrão mensagem'!$A$3:$B$67,2,0)","v":"Depot Super Terminais - (92) 3616-2650 / E-mails: coordenacao.depot@superterminais.com.br; reparos.container@superterminais.com.br"}]
["BRMAO","45GP","GESU6481700","Nao","SUPER TERMINAIS",{"$f":"VLOOKUP(E884,'Padrão mensagem'!$A$3:$B$67,2,0)","v":"Depot Super Terminais - (92) 3616-2650 / E-mails: coordenacao.depot@superterminais.com.br; reparos.container@superterminais.com.br"}]
["BRMAO","45GP","HAMU2305472","Nao","SUPER TERMINAIS",{"$f":"VLOOKUP(E885,'Padrão mensagem'!$A$3:$B$67,2,0)","v":"Depot Super Terminais - (92) 3616-2650 / E-mails: coordenacao.depot@superterminais.com.br; reparos.container@superterminais.com.br"}]
["BRMAO","45GP","CAIU8705431","Nao","SUPER TERMINAIS",{"$f":"VLOOKUP(E886,'Padrão mensagem'!$A$3:$B$67,2,0)","v":"Depot Super Terminais - (92) 3616-2650 / E-mails: coordenacao.depot@superterminais.com.br; reparos.container@superterminais.com.br"}]
["BRMAO","45GP","BEAU4457137","Nao","SUPER TERMINAIS",{"$f":"VLOOKUP(E887,'Padrão mensagem'!$A$3:$B$67,2,0)","v":"Depot Super Terminais - (92) 3616-2650 / E-mails: coordenacao.depot@superterminais.com.br; reparos.container@superterminais.com.br"}]
["BRMAO","45GP","HAMU1414587","Nao","SUPER TERMINAIS",{"$f":"VLOOKUP(E888,'Padrão mensagem'!$A$3:$B$67,2,0)","v":"Depot Super Terminais - (92) 3616-2650 / E-mails: coordenacao.depot@superterminais.com.br; reparos.container@superterminais.com.br"}]
["BRMAO","45GP","BEAU4996988","Nao","SUPER TERMINAIS",{"$f":"VLOOKUP(E889,'Padrão mensagem'!$A$3:$B$67,2,0)","v":"Depot Super Terminais - (92) 3616-2650 / E-mails: coordenacao.depot@superterminais.com.br; reparos.container@superterminais.com.br"}]
["BRMAO","45GP","CAAU5746901","Nao","SUPER TERMINAIS",{"$f":"VLOOKUP(E890,'Padrão mensagem'!$A$3:$B$67,2,0)","v":"Depot Super Terminais - (92) 3616-2650 / E-mails: coordenacao.depot@superterminais.com.br; reparos.container@superterminais.com.br"}]
["BRMAO","42GP","HLBU1141625","Nao","SUPER TERMINAIS",{"$f":"VLOOKUP(E891,'Padrão mensagem'!$A$3:$B$67,2,0)","v":"Depot Super Terminais - (92) 3616-2650 / E-mails: coordenacao.depot@superterminais.com.br; reparos.container@superterminais.com.br"}]
["BRMAO","45GP","HLXU8177015","Nao","SUPER TERMINAIS",{"$f":"VLOOKUP(E892,'Padrão mensagem'!$A$3:$B$67,2,0)","v":"Depot Super Terminais - (92) 3616-2650 / E-mails: coordenacao.depot@superterminais.com.br; reparos.container@superterminais.com.br"}]
["BRMAO","45GP","TEMU7886663","Nao","SUPER TERMINAIS",{"$f":"VLOOKUP(E893,'Padrão mensagem'!$A$3:$B$67,2,0)","v":"Depot Super Terminais - (92) 3616-2650 / E-mails: coordenacao.depot@superterminais.com.br; reparos.container@superterminais.com.br"}]
["BRMAO","22GP","AMFU3270934","Nao","SUPER TERMINAIS",{"$f":"VLOOKUP(E894,'Padrão mensagem'!$A$3:$B$67,2,0)","v":"Depot Super Terminais - (92) 3616-2650 / E-mails: coordenacao.depot@superterminais.com.br; reparos.container@superterminais.com.br"}]
["BRMAO","45GP","FCIU9161979","Nao","SUPER TERMINAIS",{"$f":"VLOOKUP(E895,'Padrão mensagem'!$A$3:$B$67,2,0)","v":"Depot Super Terminais - (92) 3616-2650 / E-mails: coordenacao.depot@superterminais.com.br; reparos.container@superterminais.com.br"}]
["BRMAO","45GP","HLBU2670412","Nao","SUPER TERMINAIS",{"$f":"VLOOKUP(E896,'Padrão mensagem'!$A$3:$B$67,2,0)","v":"Depot Super Terminais - (92) 3616-2650 / E-mails: coordenacao.depot@superterminais.com.br; reparos.container@superterminais.com.br"}]
["BRMAO","42GP","UACU8389724","Nao","SUPER TERMINAIS",{"$f":"VLOOKUP(E897,'Padrão mensagem'!$A$3:$B$67,2,0)","v":"Depot Super Terminais - (92) 3616-2650 / E-mails: coordenacao.depot@superterminais.com.br; reparos.container@superterminais.com.br"}]
["BRMAO","42GP","TCKU4365672","Nao","SUPER TERMINAIS",{"$f":"VLOOKUP(E898,'Padrão mensagem'!$A$3:$B$67,2,0)","v":"Depot Super Terminais - (92) 3616-2650 / E-mails: coordenacao.depot@superterminais.com.br; reparos.container@superterminais.com.br"}]
["BRMAO","45GP","UACU5635505","Nao","SUPER TERMINAIS",{"$f":"VLOOKUP(E899,'Padrão mensagem'!$A$3:$B$67,2,0)","v":"Depot Super Terminais - (92) 3616-2650 / E-mails: coordenacao.depot@superterminais.com.br; reparos.container@superterminais.com.br"}]
["BRMAO","45GP","FANU1380344","Nao","SUPER TERMINAIS",{"$f":"VLOOKUP(E900,'Padrão mensagem'!$A$3:$B$67,2,0)","v":"Depot Super Terminais - (92) 3616-2650 / E-mails: coordenacao.depot@superterminais.com.br; reparos.container@superterminais.com.br"}]
["BRMAO","45GP","HLBU2240730","Nao","SUPER TERMINAIS",{"$f":"VLOOKUP(E901,'Padrão mensagem'!$A$3:$B$67,2,0)","v":"Depot Super Terminais - (92) 3616-2650 / E-mails: coordenacao.depot@superterminais.com.br; reparos.container@superterminais.com.br"}]
["BRMAO","45GP","TGBU5679950","Nao","SUPER TERMINAIS",{"$f":"VLOOKUP(E902,'Padrão mensagem'!$A$3:$B$67,2,0)","v":"Depot Super Terminais - (92) 3616-2650 / E-mails: coordenacao.depot@superterminais.com.br; reparos.container@superterminais.com.br"}]
["BRMAO","45GP","TCNU7644865","Nao","SUPER TERMINAIS",{"$f":"VLOOKUP(E903,'Padrão mensagem'!$A$3:$B$67,2,0)","v":"Depot Super Terminais - (92) 3616-2650 / E-mails: coordenacao.depot@superterminais.com.br; reparos.container@superterminais.com.br"}]
["BRMAO","22GP","HLBU2744407","Nao","SUPER TERMINAIS",{"$f":"VLOOKUP(E904,'Padrão mensagem'!$A$3:$B$67,2,0)","v":"Depot Super Terminais - (92) 3616-2650 / E-mails: coordenacao.depot@superterminais.com.br; reparos.container@superterminais.com.br"}]
["BRMAO","22GP","HLBU2316081","Nao","SUPER TERMINAIS",{"$f":"VLOOKUP(E905,'Padrão mensagem'!$A$3:$B$67,2,0)","v":"Depot Super Terminais - (92) 3616-2650 / E-mails: coordenacao.depot@superterminais.com.br; reparos.container@superterminais.com.br"}]
["BRMAO","45GP","CXDU2275800","Nao","SUPER TERMINAIS",{"$f":"VLOOKUP(E906,'Padrão mensagem'!$A$3:$B$67,2,0)","v":"Depot Super Terminais - (92) 3616-2650 / E-mails: coordenacao.depot@superterminais.com.br; reparos.container@superterminais.com.br"}]
["BRMAO","45GP","CAAU8506020","Nao","SUPER TERMINAIS",{"$f":"VLOOKUP(E907,'Padrão mensagem'!$A$3:$B$67,2,0)","v":"Depot Super Terminais - (92) 3616-2650 / E-mails: coordenacao.depot@superterminais.com.br; reparos.container@superterminais.com.br"}]
["BRMAO","45GP","CAAU8505507","Nao","SUPER TERMINAIS",{"$f":"VLOOKUP(E908,'Padrão mensagem'!$A$3:$B$67,2,0)","v":"Depot Super Terminais - (92) 3616-2650 / E-mails: coordenacao.depot@superterminais.com.br; reparos.container@superterminais.com.br"}]
["BRMAO","45GP","DFSU7371347","Nao","SUPER TERMINAIS",{"$f":"VLOOKUP(E909,'Padrão mensagem'!$A$3:$B$67,2,0)","v":"Depot Super Terminais - (92) 3616-2650 / E-mails: coordenacao.depot@superterminais.com.br; reparos.container@superterminais.com.br"}]
["BRMAO","45GP","CAAU8507109","Nao","SUPER TERMINAIS",{"$f":"VLOOKUP(E910,'Padrão mensagem'!$A$3:$B$67,2,0)","v":"Depot Super Terminais - (92) 3616-2650 / E-mails: coordenacao.depot@superterminais.com.br; reparos.container@superterminais.com.br"}]
["BRMAO","45GP","CAAU8506782","Nao","SUPER TERMINAIS",{"$f":"VLOOKUP(E911,'Padrão mensagem'!$A$3:$B$67,2,0)","v":"Depot Super Terminais - (92) 3616-2650 / E-mails: coordenacao.depot@superterminais.com.br; reparos.container@superterminais.com.br"}]
["BRMAO","45GP","CAAU8506756","Nao","SUPER TERMINAIS",{"$f":"VLOOKUP(E912,'Padrão mensagem'!$A$3:$B$67,2,0)","v":"Depot Super Terminais - (92) 3616-2650 / E-mails: coordenacao.depot@superterminais.com.br; reparos.container@superterminais.com.br"}]
["BRMAO","45GP","CAAU8499852","Nao","SUPER TERMINAIS",{"$f":"VLOOKUP(E913,'Padrão mensagem'!$A$3:$B$67,2,0)","v":"Depot Super Terminais - (92) 3616-2650 / E-mails: coordenacao.depot@superterminais.com.br; reparos.container@superterminais.com.br"}]
["BRMAO","45GP","TCLU8685692","Nao","SUPER TERMINAIS",{"$f":"VLOOKUP(E914,'Padrão mensagem'!$A$3:$B$67,2,0)","v":"Depot Super Terminais - (92) 3616-2650 / E-mails: coordenacao.depot@superterminais.com.br; reparos.container@superterminais.com.br"}]
["BRMAO","22GP","CAAU2284585","Nao","SUPER TERMINAIS",{"$f":"VLOOKUP(E915,'Padrão mensagem'!$A$3:$B$67,2,0)","v":"Depot Super Terminais - (92) 3616-2650 / E-mails: coordenacao.depot@superterminais.com.br; reparos.container@superterminais.com.br"}]
["BRMAO","22GP","CARU3831691","Nao","SUPER TERMINAIS",{"$f":"VLOOKUP(E916,'Padrão mensagem'!$A$3:$B$67,2,0)","v":"Depot Super Terminais - (92) 3616-2650 / E-mails: coordenacao.depot@superterminais.com.br; reparos.container@superterminais.com.br"}]
["BRMAO","45GP","HAMU2305364","Nao","SUPER TERMINAIS",{"$f":"VLOOKUP(E917,'Padrão mensagem'!$A$3:$B$67,2,0)","v":"Depot Super Terminais - (92) 3616-2650 / E-mails: coordenacao.depot@superterminais.com.br; reparos.container@superterminais.com.br"}]
["BRMAO","45GP","UACU5806172","Nao","SUPER TERMINAIS",{"$f":"VLOOKUP(E918,'Padrão mensagem'!$A$3:$B$67,2,0)","v":"Depot Super Terminais - (92) 3616-2650 / E-mails: coordenacao.depot@superterminais.com.br; reparos.container@superterminais.com.br"}]
["BRMAO","45GP","CAIU9647216","Nao","SUPER TERMINAIS",{"$f":"VLOOKUP(E919,'Padrão mensagem'!$A$3:$B$67,2,0)","v":"Depot Super Terminais - (92) 3616-2650 / E-mails: coordenacao.depot@superterminais.com.br; reparos.container@superterminais.com.br"}]
["BRMAO","45GP","FANU1819606","Nao","SUPER TERMINAIS",{"$f":"VLOOKUP(E920,'Padrão mensagem'!$A$3:$B$67,2,0)","v":"Depot Super Terminais - (92) 3616-2650 / E-mails: coordenacao.depot@superterminais.com.br; reparos.container@superterminais.com.br"}]
["BRMAO","45GP","FANU1660330","Nao","SUPER TERMINAIS",{"$f":"VLOOKUP(E921,'Padrão mensagem'!$A$3:$B$67,2,0)","v":"Depot Super Terminais - (92) 3616-2650 / E-mails: coordenacao.depot@superterminais.com.br; reparos.container@superterminais.com.br"}]
["BRMAO","45GP","FANU3682493","Nao","SUPER TERMINAIS",{"$f":"VLOOKUP(E922,'Padrão mensagem'!$A$3:$B$67,2,0)","v":"Depot Super Terminais - (92) 3616-2650 / E-mails: coordenacao.depot@superterminais.com.br; reparos.container@superterminais.com.br"}]
["BRMAO","45GP","HAMU1700636","Nao","SUPER TERMINAIS",{"$f":"VLOOKUP(E923,'Padrão mensagem'!$A$3:$B$67,2,0)","v":"Depot Super Terminais - (92) 3616-2650 / E-mails: coordenacao.depot@superterminais.com.br; reparos.container@superterminais.com.br"}]
["BRMAO","45GP","HLXU8502861","Nao","SUPER TERMINAIS",{"$f":"VLOOKUP(E924,'Padrão mensagem'!$A$3:$B$67,2,0)","v":"Depot Super Terminais - (92) 3616-2650 / E-mails: coordenacao.depot@superterminais.com.br; reparos.container@superterminais.com.br"}]
["BRMAO","45GP","TGBU6117113","Nao","SUPER TERMINAIS",{"$f":"VLOOKUP(E925,'Padrão mensagem'!$A$3:$B$67,2,0)","v":"Depot Super Terminais - (92) 3616-2650 / E-mails: coordenacao.depot@superterminais.com.br; reparos.container@superterminais.com.br"}]
["BRMAO","45GP","CXDU1817130","Nao","SUPER TERMINAIS",{"$f":"VLOOKUP(E926,'Padrão mensagem'!$A$3:$B$67,2,0)","v":"Depot Super Terminais - (92) 3616-2650 / E-mails: coordenacao.depot@superterminais.com.br; reparos.container@superterminais.com.br"}]
["BRMAO","45GP","HAMU1310690","Nao","SUPER TERMINAIS",{"$f":"VLOOKUP(E927,'Padrão mensagem'!$A$3:$B$67,2,0)","v":"Depot Super Terminais - (92) 3616-2650 / E-mails: coordenacao.depot@superterminais.com.br; reparos.container@superterminais.com.br"}]
["BRMAO","45GP","TCLU6657813","Nao","SUPER TERMINAIS",{"$f":"VLOOKUP(E928,'Padrão mensagem'!$A$3:$B$67,2,0)","v":"Depot Super Terminais - (92) 3616-2650 / E-mails: coordenacao.depot@superterminais.com.br; reparos.container@superterminais.com.br"}]
["BRMAO","45GP","HLBU1635119","Nao","SUPER TERMINAIS",{"$f":"VLOOKUP(E929,'Padrão mensagem'!$A$3:$B$67,2,0)","v":"Depot Super Terminais - (92) 3616-2650 / E-mails: coordenacao.depot@superterminais.com.br; reparos.container@superterminais.com.br"}]
["BRMAO","22GP","TLLU2509837","Nao","SUPER TERMINAIS",{"$f":"VLOOKUP(E930,'Padrão mensagem'!$A$3:$B$67,2,0)","v":"Depot Super Terminais - (92) 3616-2650 / E-mails: coordenacao.depot@superterminais.com.br; reparos.container@superterminais.com.br"}]
["BRMAO","22GP","GESU1218563","Nao","SUPER TERMINAIS",{"$f":"VLOOKUP(E931,'Padrão mensagem'!$A$3:$B$67,2,0)","v":"Depot Super Terminais - (92) 3616-2650 / E-mails: coordenacao.depot@superterminais.com.br; reparos.container@superterminais.com.br"}]
["BRMAO","22GP","BMOU2309578","Nao","SUPER TERMINAIS",{"$f":"VLOOKUP(E932,'Padrão mensagem'!$A$3:$B$67,2,0)","v":"Depot Super Terminais - (92) 3616-2650 / E-mails: coordenacao.depot@superterminais.com.br; reparos.container@superterminais.com.br"}]
["BRMAO","22GP","UACU3666575","Nao","SUPER TERMINAIS",{"$f":"VLOOKUP(E933,'Padrão mensagem'!$A$3:$B$67,2,0)","v":"Depot Super Terminais - (92) 3616-2650 / E-mails: coordenacao.depot@superterminais.com.br; reparos.container@superterminais.com.br"}]
["BRMAO","22GP","HLXU1370486","Nao","SUPER TERMINAIS",{"$f":"VLOOKUP(E934,'Padrão mensagem'!$A$3:$B$67,2,0)","v":"Depot Super Terminais - (92) 3616-2650 / E-mails: coordenacao.depot@superterminais.com.br; reparos.container@superterminais.com.br"}]
["BRMAO","22GP","FCIU6510613","Nao","SUPER TERMINAIS",{"$f":"VLOOKUP(E935,'Padrão mensagem'!$A$3:$B$67,2,0)","v":"Depot Super Terminais - (92) 3616-2650 / E-mails: coordenacao.depot@superterminais.com.br; reparos.container@superterminais.com.br"}]
["BRMAO","45GP","TLLU5410405","Nao","SUPER TERMINAIS",{"$f":"VLOOKUP(E936,'Padrão mensagem'!$A$3:$B$67,2,0)","v":"Depot Super Terminais - (92) 3616-2650 / E-mails: coordenacao.depot@superterminais.com.br; reparos.container@superterminais.com.br"}]
["BRMAO","45GP","TEMU7479436","Nao","SUPER TERMINAIS",{"$f":"VLOOKUP(E937,'Padrão mensagem'!$A$3:$B$67,2,0)","v":"Depot Super Terminais - (92) 3616-2650 / E-mails: coordenacao.depot@superterminais.com.br; reparos.container@superterminais.com.br"}]
["BRMAO","45GP","TCLU7928139","Nao","SUPER TERMINAIS",{"$f":"VLOOKUP(E938,'Padrão mensagem'!$A$3:$B$67,2,0)","v":"Depot Super Terminais - (92) 3616-2650 / E-mails: coordenacao.depot@superterminais.com.br; reparos.container@superterminais.com.br"}]
["BRMAO","45GP","HLXU8461546","Nao","SUPER TERMINAIS",{"$f":"VLOOKUP(E939,'Padrão mensagem'!$A$3:$B$67,2,0)","v":"Depot Super Terminais - (92) 3616-2650 / E-mails: coordenacao.depot@superterminais.com.br; reparos.container@superterminais.com.br"}]
["BRMAO","45GP","UACU5623280","Nao","SUPER TERMINAIS",{"$f":"VLOOKUP(E940,'Padrão mensagem'!$A$3:$B$67,2,0)","v":"Depot Super Terminais - (92) 3616-2650 / E-mails: coordenacao.depot@superterminais.com.br; reparos.container@superterminais.com.br"}]
["BRMAO","45GP","FANU1272627","Nao","SUPER TERMINAIS",{"$f":"VLOOKUP(E941,'Padrão mensagem'!$A$3:$B$67,2,0)","v":"Depot Super Terminais - (92) 3616-2650 / E-mails: coordenacao.depot@superterminais.com.br; reparos.container@superterminais.com.br"}]
["BRMAO","45GP","FANU3010170","Nao","SUPER TERMINAIS",{"$f":"VLOOKUP(E942,'Padrão mensagem'!$A$3:$B$67,2,0)","v":"Depot Super Terminais - (92) 3616-2650 / E-mails: coordenacao.depot@superterminais.com.br; reparos.container@superterminais.com.br"}]
["BRMAO","45GP","FSCU7295216","Nao","SUPER TERMINAIS",{"$f":"VLOOKUP(E943,'Padrão mensagem'!$A$3:$B$67,2,0)","v":"Depot Super Terminais - (92) 3616-2650 / E-mails: coordenacao.depot@superterminais.com.br; reparos.container@superterminais.com.br"}]
["BRMAO","45GP","CAIU4239947","Nao","SUPER TERMINAIS",{"$f":"VLOOKUP(E944,'Padrão mensagem'!$A$3:$B$67,2,0)","v":"Depot Super Terminais - (92) 3616-2650 / E-mails: coordenacao.depot@superterminais.com.br; reparos.container@superterminais.com.br"}]
["BRMAO","45GP","TCNU1487898","Nao","SUPER TERMINAIS",{"$f":"VLOOKUP(E945,'Padrão mensagem'!$A$3:$B$67,2,0)","v":"Depot Super Terminais - (92) 3616-2650 / E-mails: coordenacao.depot@superterminais.com.br; reparos.container@superterminais.com.br"}]
["BRMAO","45GP","FANU3130703","Nao","SUPER TERMINAIS",{"$f":"VLOOKUP(E946,'Padrão mensagem'!$A$3:$B$67,2,0)","v":"Depot Super Terminais - (92) 3616-2650 / E-mails: coordenacao.depot@superterminais.com.br; reparos.container@superterminais.com.br"}]
["BRMAO","45GP","FANU1676104","Nao","SUPER TERMINAIS",{"$f":"VLOOKUP(E947,'Padrão mensagem'!$A$3:$B$67,2,0)","v":"Depot Super Terminais - (92) 3616-2650 / E-mails: coordenacao.depot@superterminais.com.br; reparos.container@superterminais.com.br"}]
["BRMAO","45GP","FDCU0121960","Nao","SUPER TERMINAIS",{"$f":"VLOOKUP(E948,'Padrão mensagem'!$A$3:$B$67,2,0)","v":"Depot Super Terminais - (92) 3616-2650 / E-mails: coordenacao.depot@superterminais.com.br; reparos.container@superterminais.com.br"}]
["BRMAO","45GP","TCLU8729363","Nao","SUPER TERMINAIS",{"$f":"VLOOKUP(E949,'Padrão mensagem'!$A$3:$B$67,2,0)","v":"Depot Super Terminais - (92) 3616-2650 / E-mails: coordenacao.depot@superterminais.com.br; reparos.container@superterminais.com.br"}]
["BRMAO","45GP","FCIU8441297","Nao","SUPER TERMINAIS",{"$f":"VLOOKUP(E950,'Padrão mensagem'!$A$3:$B$67,2,0)","v":"Depot Super Terminais - (92) 3616-2650 / E-mails: coordenacao.depot@superterminais.com.br; reparos.container@superterminais.com.br"}]
["BRMAO","45GP","HLBU3329606","Nao","SUPER TERMINAIS",{"$f":"VLOOKUP(E951,'Padrão mensagem'!$A$3:$B$67,2,0)","v":"Depot Super Terminais - (92) 3616-2650 / E-mails: coordenacao.depot@superterminais.com.br; reparos.container@superterminais.com.br"}]
["BRMAO","45GP","HLBU2564072","Nao","SUPER TERMINAIS",{"$f":"VLOOKUP(E952,'Padrão mensagem'!$A$3:$B$67,2,0)","v":"Depot Super Terminais - (92) 3616-2650 / E-mails: coordenacao.depot@superterminais.com.br; reparos.container@superterminais.com.br"}]
["BRMAO","45GP","FCIU7438299","Nao","SUPER TERMINAIS",{"$f":"VLOOKUP(E953,'Padrão mensagem'!$A$3:$B$67,2,0)","v":"Depot Super Terminais - (92) 3616-2650 / E-mails: coordenacao.depot@superterminais.com.br; reparos.container@superterminais.com.br"}]
["BRMAO","45GP","TCLU8233619","Nao","SUPER TERMINAIS",{"$f":"VLOOKUP(E954,'Padrão mensagem'!$A$3:$B$67,2,0)","v":"Depot Super Terminais - (92) 3616-2650 / E-mails: coordenacao.depot@superterminais.com.br; reparos.container@superterminais.com.br"}]
["BRMAO","45GP","UETU5731782","Nao","SUPER TERMINAIS",{"$f":"VLOOKUP(E955,'Padrão mensagem'!$A$3:$B$67,2,0)","v":"Depot Super Terminais - (92) 3616-2650 / E-mails: coordenacao.depot@superterminais.com.br; reparos.container@superterminais.com.br"}]
["BRMAO","22GP","HLXU3518633","Nao","SUPER TERMINAIS",{"$f":"VLOOKUP(E956,'Padrão mensagem'!$A$3:$B$67,2,0)","v":"Depot Super Terminais - (92) 3616-2650 / E-mails: coordenacao.depot@superterminais.com.br; reparos.container@superterminais.com.br"}]
["BRMAO","45GP","HAMU1979496","Nao","SUPER TERMINAIS",{"$f":"VLOOKUP(E957,'Padrão mensagem'!$A$3:$B$67,2,0)","v":"Depot Super Terminais - (92) 3616-2650 / E-mails: coordenacao.depot@superterminais.com.br; reparos.container@superterminais.com.br"}]
["BRMAO","45GP","HAMU1978170","Nao","SUPER TERMINAIS",{"$f":"VLOOKUP(E958,'Padrão mensagem'!$A$3:$B$67,2,0)","v":"Depot Super Terminais - (92) 3616-2650 / E-mails: coordenacao.depot@superterminais.com.br; reparos.container@superterminais.com.br"}]
["BRMAO","45GP","UETU5928961","Nao","SUPER TERMINAIS",{"$f":"VLOOKUP(E959,'Padrão mensagem'!$A$3:$B$67,2,0)","v":"Depot Super Terminais - (92) 3616-2650 / E-mails: coordenacao.depot@superterminais.com.br; reparos.container@superterminais.com.br"}]
["BRMAO","45GP","HAMU1979032","Nao","SUPER TERMINAIS",{"$f":"VLOOKUP(E960,'Padrão mensagem'!$A$3:$B$67,2,0)","v":"Depot Super Terminais - (92) 3616-2650 / E-mails: coordenacao.depot@superterminais.com.br; reparos.container@superterminais.com.br"}]
["BRMAO","45GP","FFAU1526923","Nao","SUPER TERMINAIS",{"$f":"VLOOKUP(E961,'Padrão mensagem'!$A$3:$B$67,2,0)","v":"Depot Super Terminais - (92) 3616-2650 / E-mails: coordenacao.depot@superterminais.com.br; reparos.container@superterminais.com.br"}]
["BRMAO","45GP","HAMU1977678","Nao","SUPER TERMINAIS",{"$f":"VLOOKUP(E962,'Padrão mensagem'!$A$3:$B$67,2,0)","v":"Depot Super Terminais - (92) 3616-2650 / E-mails: coordenacao.depot@superterminais.com.br; reparos.container@superterminais.com.br"}]
["BRMAO","45GP","HAMU1418453","Nao","SUPER TERMINAIS",{"$f":"VLOOKUP(E963,'Padrão mensagem'!$A$3:$B$67,2,0)","v":"Depot Super Terminais - (92) 3616-2650 / E-mails: coordenacao.depot@superterminais.com.br; reparos.container@superterminais.com.br"}]
["BRMAO","45GP","UACU5923409","Nao","SUPER TERMINAIS",{"$f":"VLOOKUP(E964,'Padrão mensagem'!$A$3:$B$67,2,0)","v":"Depot Super Terminais - (92) 3616-2650 / E-mails: coordenacao.depot@superterminais.com.br; reparos.container@superterminais.com.br"}]
["BRMAO","45GP","UACU5977998","Nao","SUPER TERMINAIS",{"$f":"VLOOKUP(E965,'Padrão mensagem'!$A$3:$B$67,2,0)","v":"Depot Super Terminais - (92) 3616-2650 / E-mails: coordenacao.depot@superterminais.com.br; reparos.container@superterminais.com.br"}]
["BRMAO","45GP","HAMU2014733","Nao","SUPER TERMINAIS",{"$f":"VLOOKUP(E966,'Padrão mensagem'!$A$3:$B$67,2,0)","v":"Depot Super Terminais - (92) 3616-2650 / E-mails: coordenacao.depot@superterminais.com.br; reparos.container@superterminais.com.br"}]
["BRMAO","45GP","HLBU2525040","Nao","SUPER TERMINAIS",{"$f":"VLOOKUP(E967,'Padrão mensagem'!$A$3:$B$67,2,0)","v":"Depot Super Terminais - (92) 3616-2650 / E-mails: coordenacao.depot@superterminais.com.br; reparos.container@superterminais.com.br"}]
["BRMAO","45GP","HAMU1631005","Nao","SUPER TERMINAIS",{"$f":"VLOOKUP(E968,'Padrão mensagem'!$A$3:$B$67,2,0)","v":"Depot Super Terminais - (92) 3616-2650 / E-mails: coordenacao.depot@superterminais.com.br; reparos.container@superterminais.com.br"}]
["BRMAO","45GP","FFAU2107449","Nao","SUPER TERMINAIS",{"$f":"VLOOKUP(E969,'Padrão mensagem'!$A$3:$B$67,2,0)","v":"Depot Super Terminais - (92) 3616-2650 / E-mails: coordenacao.depot@superterminais.com.br; reparos.container@superterminais.com.br"}]
["BRMAO","45GP","FANU1908133","Nao","SUPER TERMINAIS",{"$f":"VLOOKUP(E970,'Padrão mensagem'!$A$3:$B$67,2,0)","v":"Depot Super Terminais - (92) 3616-2650 / E-mails: coordenacao.depot@superterminais.com.br; reparos.container@superterminais.com.br"}]
["BRMAO","45GP","HLBU3344088","Nao","SUPER TERMINAIS",{"$f":"VLOOKUP(E971,'Padrão mensagem'!$A$3:$B$67,2,0)","v":"Depot Super Terminais - (92) 3616-2650 / E-mails: coordenacao.depot@superterminais.com.br; reparos.container@superterminais.com.br"}]
["BRMAO","45GP","FANU3322413","Nao","SUPER TERMINAIS",{"$f":"VLOOKUP(E972,'Padrão mensagem'!$A$3:$B$67,2,0)","v":"Depot Super Terminais - (92) 3616-2650 / E-mails: coordenacao.depot@superterminais.com.br; reparos.container@superterminais.com.br"}]
["BRMAO","45GP","HLBU1582180","Nao","SUPER TERMINAIS",{"$f":"VLOOKUP(E973,'Padrão mensagem'!$A$3:$B$67,2,0)","v":"Depot Super Terminais - (92) 3616-2650 / E-mails: coordenacao.depot@superterminais.com.br; reparos.container@superterminais.com.br"}]
["BRMAO","45GP","FSCU8081625","Nao","SUPER TERMINAIS",{"$f":"VLOOKUP(E974,'Padrão mensagem'!$A$3:$B$67,2,0)","v":"Depot Super Terminais - (92) 3616-2650 / E-mails: coordenacao.depot@superterminais.com.br; reparos.container@superterminais.com.br"}]
["BRMAO","45GP","FANU3323030","Nao","SUPER TERMINAIS",{"$f":"VLOOKUP(E975,'Padrão mensagem'!$A$3:$B$67,2,0)","v":"Depot Super Terminais - (92) 3616-2650 / E-mails: coordenacao.depot@superterminais.com.br; reparos.container@superterminais.com.br"}]
["BRMAO","45GP","HLBU1492975","Nao","SUPER TERMINAIS",{"$f":"VLOOKUP(E976,'Padrão mensagem'!$A$3:$B$67,2,0)","v":"Depot Super Terminais - (92) 3616-2650 / E-mails: coordenacao.depot@superterminais.com.br; reparos.container@superterminais.com.br"}]
["BRMAO","45GP","FDCU0074301","Nao","SUPER TERMINAIS",{"$f":"VLOOKUP(E977,'Padrão mensagem'!$A$3:$B$67,2,0)","v":"Depot Super Terminais - (92) 3616-2650 / E-mails: coordenacao.depot@superterminais.com.br; reparos.container@superterminais.com.br"}]
["BRMAO","45GP","HLBU2555928","Nao","SUPER TERMINAIS",{"$f":"VLOOKUP(E978,'Padrão mensagem'!$A$3:$B$67,2,0)","v":"Depot Super Terminais - (92) 3616-2650 / E-mails: coordenacao.depot@superterminais.com.br; reparos.container@superterminais.com.br"}]
["BRMAO","45GP","CAAU6786365","Nao","SUPER TERMINAIS",{"$f":"VLOOKUP(E979,'Padrão mensagem'!$A$3:$B$67,2,0)","v":"Depot Super Terminais - (92) 3616-2650 / E-mails: coordenacao.depot@superterminais.com.br; reparos.container@superterminais.com.br"}]
["BRMAO","45GP","HLBU2694651","Nao","SUPER TERMINAIS",{"$f":"VLOOKUP(E980,'Padrão mensagem'!$A$3:$B$67,2,0)","v":"Depot Super Terminais - (92) 3616-2650 / E-mails: coordenacao.depot@superterminais.com.br; reparos.container@superterminais.com.br"}]
["BRMAO","45GP","TCLU5782488","Nao","SUPER TERMINAIS",{"$f":"VLOOKUP(E981,'Padrão mensagem'!$A$3:$B$67,2,0)","v":"Depot Super Terminais - (92) 3616-2650 / E-mails: coordenacao.depot@superterminais.com.br; reparos.container@superterminais.com.br"}]
["BRMAO","45GP","FANU1316710","Nao","SUPER TERMINAIS",{"$f":"VLOOKUP(E982,'Padrão mensagem'!$A$3:$B$67,2,0)","v":"Depot Super Terminais - (92) 3616-2650 / E-mails: coordenacao.depot@superterminais.com.br; reparos.container@superterminais.com.br"}]
["BRMAO","45GP","FFAU2207509","Nao","SUPER TERMINAIS",{"$f":"VLOOKUP(E983,'Padrão mensagem'!$A$3:$B$67,2,0)","v":"Depot Super Terminais - (92) 3616-2650 / E-mails: coordenacao.depot@superterminais.com.br; reparos.container@superterminais.com.br"}]
["BRMAO","45GP","FSCU7242983","Nao","SUPER TERMINAIS",{"$f":"VLOOKUP(E984,'Padrão mensagem'!$A$3:$B$67,2,0)","v":"Depot Super Terminais - (92) 3616-2650 / E-mails: coordenacao.depot@superterminais.com.br; reparos.container@superterminais.com.br"}]
["BRMAO","45GP","CAAU7775581","Nao","SUPER TERMINAIS",{"$f":"VLOOKUP(E985,'Padrão mensagem'!$A$3:$B$67,2,0)","v":"Depot Super Terminais - (92) 3616-2650 / E-mails: coordenacao.depot@superterminais.com.br; reparos.container@superterminais.com.br"}]
["BRMAO","45GP","SEGU5622027","Nao","SUPER TERMINAIS",{"$f":"VLOOKUP(E986,'Padrão mensagem'!$A$3:$B$67,2,0)","v":"Depot Super Terminais - (92) 3616-2650 / E-mails: coordenacao.depot@superterminais.com.br; reparos.container@superterminais.com.br"}]
["BRMAO","45GP","FANU1535744","Nao","SUPER TERMINAIS",{"$f":"VLOOKUP(E987,'Padrão mensagem'!$A$3:$B$67,2,0)","v":"Depot Super Terminais - (92) 3616-2650 / E-mails: coordenacao.depot@superterminais.com.br; reparos.container@superterminais.com.br"}]
["BRMAO","45GP","HLBU2454579","Nao","SUPER TERMINAIS",{"$f":"VLOOKUP(E988,'Padrão mensagem'!$A$3:$B$67,2,0)","v":"Depot Super Terminais - (92) 3616-2650 / E-mails: coordenacao.depot@superterminais.com.br; reparos.container@superterminais.com.br"}]
["BRMAO","45GP","TCNU1047918","Nao","SUPER TERMINAIS",{"$f":"VLOOKUP(E989,'Padrão mensagem'!$A$3:$B$67,2,0)","v":"Depot Super Terminais - (92) 3616-2650 / E-mails: coordenacao.depot@superterminais.com.br; reparos.container@superterminais.com.br"}]
["BRMAO","45GP","TGBU5458753","Nao","SUPER TERMINAIS",{"$f":"VLOOKUP(E990,'Padrão mensagem'!$A$3:$B$67,2,0)","v":"Depot Super Terminais - (92) 3616-2650 / E-mails: coordenacao.depot@superterminais.com.br; reparos.container@superterminais.com.br"}]
["BRMAO","45GP","HLBU2727272","Nao","SUPER TERMINAIS",{"$f":"VLOOKUP(E991,'Padrão mensagem'!$A$3:$B$67,2,0)","v":"Depot Super Terminais - (92) 3616-2650 / E-mails: coordenacao.depot@superterminais.com.br; reparos.container@superterminais.com.br"}]
["BRMAO","45GP","FCIU7315777","Nao","SUPER TERMINAIS",{"$f":"VLOOKUP(E992,'Padrão mensagem'!$A$3:$B$67,2,0)","v":"Depot Super Terminais - (92) 3616-2650 / E-mails: coordenacao.depot@superterminais.com.br; reparos.container@superterminais.com.br"}]
["BRMAO","45GP","HLBU2138668","Nao","SUPER TERMINAIS",{"$f":"VLOOKUP(E993,'Padrão mensagem'!$A$3:$B$67,2,0)","v":"Depot Super Terminais - (92) 3616-2650 / E-mails: coordenacao.depot@superterminais.com.br; reparos.container@superterminais.com.br"}]
["BRMAO","45GP","HLBU3097650","Nao","SUPER TERMINAIS",{"$f":"VLOOKUP(E994,'Padrão mensagem'!$A$3:$B$67,2,0)","v":"Depot Super Terminais - (92) 3616-2650 / E-mails: coordenacao.depot@superterminais.com.br; reparos.container@superterminais.com.br"}]
["BRMAO","45GP","HLBU1901179","Nao","SUPER TERMINAIS",{"$f":"VLOOKUP(E995,'Padrão mensagem'!$A$3:$B$67,2,0)","v":"Depot Super Terminais - (92) 3616-2650 / E-mails: coordenacao.depot@superterminais.com.br; reparos.container@superterminais.com.br"}]
["BRMAO","45GP","UACU5463540","Nao","SUPER TERMINAIS",{"$f":"VLOOKUP(E996,'Padrão mensagem'!$A$3:$B$67,2,0)","v":"Depot Super Terminais - (92) 3616-2650 / E-mails: coordenacao.depot@superterminais.com.br; reparos.container@superterminais.com.br"}]
["BRMAO","45GP","TXGU7350570","Nao","SUPER TERMINAIS",{"$f":"VLOOKUP(E997,'Padrão mensagem'!$A$3:$B$67,2,0)","v":"Depot Super Terminais - (92) 3616-2650 / E-mails: coordenacao.depot@superterminais.com.br; reparos.container@superterminais.com.br"}]
["BRMAO","45GP","FCIU9089719","Nao","SUPER TERMINAIS",{"$f":"VLOOKUP(E998,'Padrão mensagem'!$A$3:$B$67,2,0)","v":"Depot Super Terminais - (92) 3616-2650 / E-mails: coordenacao.depot@superterminais.com.br; reparos.container@superterminais.com.br"}]
["BRMAO","45GP","HLBU1895950","Nao","SUPER TERMINAIS",{"$f":"VLOOKUP(E999,'Padrão mensagem'!$A$3:$B$67,2,0)","v":"Depot Super Terminais - (92) 3616-2650 / E-mails: coordenacao.depot@superterminais.com.br; reparos.container@superterminais.com.br"}]
["BRMAO","45GP","FANU1164659","Nao","SUPER TERMINAIS",{"$f":"VLOOKUP(E1000,'Padrão mensagem'!$A$3:$B$67,2,0)","v":"Depot Super Terminais - (92) 3616-2650 / E-mails: coordenacao.depot@superterminais.com.br; reparos.container@superterminais.com.br"}]
["BRMAO","45GP","FANU1936705","Nao","SUPER TERMINAIS",{"$f":"VLOOKUP(E1001,'Padrão mensagem'!$A$3:$B$67,2,0)","v":"Depot Super Terminais - (92) 3616-2650 / E-mails: coordenacao.depot@superterminais.com.br; reparos.container@superterminais.com.br"}]
["BRMAO","45GP","SEGU5707269","Nao","SUPER TERMINAIS",{"$f":"VLOOKUP(E1002,'Padrão mensagem'!$A$3:$B$67,2,0)","v":"Depot Super Terminais - (92) 3616-2650 / E-mails: coordenacao.depot@superterminais.com.br; reparos.container@superterminais.com.br"}]
["BRMAO","45GP","FFAU1185318","Nao","SUPER TERMINAIS",{"$f":"VLOOKUP(E1003,'Padrão mensagem'!$A$3:$B$67,2,0)","v":"Depot Super Terminais - (92) 3616-2650 / E-mails: coordenacao.depot@superterminais.com.br; reparos.container@superterminais.com.br"}]
["BRMAO","45GP","CAIU9096854","Nao","SUPER TERMINAIS",{"$f":"VLOOKUP(E1004,'Padrão mensagem'!$A$3:$B$67,2,0)","v":"Depot Super Terminais - (92) 3616-2650 / E-mails: coordenacao.depot@superterminais.com.br; reparos.container@superterminais.com.br"}]
["BRMAO","45GP","FANU3227041","Nao","SUPER TERMINAIS",{"$f":"VLOOKUP(E1005,'Padrão mensagem'!$A$3:$B$67,2,0)","v":"Depot Super Terminais - (92) 3616-2650 / E-mails: coordenacao.depot@superterminais.com.br; reparos.container@superterminais.com.br"}]
["BRMAO","45GP","UACU5653319","Nao","SUPER TERMINAIS",{"$f":"VLOOKUP(E1006,'Padrão mensagem'!$A$3:$B$67,2,0)","v":"Depot Super Terminais - (92) 3616-2650 / E-mails: coordenacao.depot@superterminais.com.br; reparos.container@superterminais.com.br"}]
["BRMAO","45GP","FANU1903194","Nao","SUPER TERMINAIS",{"$f":"VLOOKUP(E1007,'Padrão mensagem'!$A$3:$B$67,2,0)","v":"Depot Super Terminais - (92) 3616-2650 / E-mails: coordenacao.depot@superterminais.com.br; reparos.container@superterminais.com.br"}]
["BRMAO","45GP","HLXU8431460","Nao","SUPER TERMINAIS",{"$f":"VLOOKUP(E1008,'Padrão mensagem'!$A$3:$B$67,2,0)","v":"Depot Super Terminais - (92) 3616-2650 / E-mails: coordenacao.depot@superterminais.com.br; reparos.container@superterminais.com.br"}]
["BRMAO","45GP","HLBU3096084","Nao","SUPER TERMINAIS",{"$f":"VLOOKUP(E1009,'Padrão mensagem'!$A$3:$B$67,2,0)","v":"Depot Super Terminais - (92) 3616-2650 / E-mails: coordenacao.depot@superterminais.com.br; reparos.container@superterminais.com.br"}]
["BRMAO","45GP","FSCU8155667","Nao","SUPER TERMINAIS",{"$f":"VLOOKUP(E1010,'Padrão mensagem'!$A$3:$B$67,2,0)","v":"Depot Super Terminais - (92) 3616-2650 / E-mails: coordenacao.depot@superterminais.com.br; reparos.container@superterminais.com.br"}]
["BRMAO","45GP","HAMU1245450","Nao","SUPER TERMINAIS",{"$f":"VLOOKUP(E1011,'Padrão mensagem'!$A$3:$B$67,2,0)","v":"Depot Super Terminais - (92) 3616-2650 / E-mails: coordenacao.depot@superterminais.com.br; reparos.container@superterminais.com.br"}]
["BRMAO","45GP","GCXU5924709","Nao","SUPER TERMINAIS",{"$f":"VLOOKUP(E1012,'Padrão mensagem'!$A$3:$B$67,2,0)","v":"Depot Super Terminais - (92) 3616-2650 / E-mails: coordenacao.depot@superterminais.com.br; reparos.container@superterminais.com.br"}]
["BRSUA","22GP","STJU2041179","Nao","Tecon Suape",{"$f":"VLOOKUP(E1013,'Padrão mensagem'!$A$3:$B$67,2,0)","v":"Tecon Suape - Acessar o site\nhttps://www.teconsuape.com/portalservicos/#!/login\ne informar o número de booking DDHLLMTY202401"}]
["BRSUA","22GP","UACU3753915","Nao","Tecon Suape",{"$f":"VLOOKUP(E1014,'Padrão mensagem'!$A$3:$B$67,2,0)","v":"Tecon Suape - Acessar o site\nhttps://www.teconsuape.com/portalservicos/#!/login\ne informar o número de booking DDHLLMTY202401"}]
["BRSUA","22GP","BMOU1400322","Nao","Tecon Suape",{"$f":"VLOOKUP(E1015,'Padrão mensagem'!$A$3:$B$67,2,0)","v":"Tecon Suape - Acessar o site\nhttps://www.teconsuape.com/portalservicos/#!/login\ne informar o número de booking DDHLLMTY202401"}]
["BRSUA","22GP","HLXU1216228","Nao","Tecon Suape",{"$f":"VLOOKUP(E1016,'Padrão mensagem'!$A$3:$B$67,2,0)","v":"Tecon Suape - Acessar o site\nhttps://www.teconsuape.com/portalservicos/#!/login\ne informar o número de booking DDHLLMTY202401"}]
["BRSUA","22GP","HLBU1344690","Nao","Tecon Suape",{"$f":"VLOOKUP(E1017,'Padrão mensagem'!$A$3:$B$67,2,0)","v":"Tecon Suape - Acessar o site\nhttps://www.teconsuape.com/portalservicos/#!/login\ne informar o número de booking DDHLLMTY202401"}]
["BRSUA","22GP","TEMU1905576","Nao","Tecon Suape",{"$f":"VLOOKUP(E1018,'Padrão mensagem'!$A$3:$B$67,2,0)","v":"Tecon Suape - Acessar o site\nhttps://www.teconsuape.com/portalservicos/#!/login\ne informar o número de booking DDHLLMTY202401"}]
["BRSUA","22GP","UACU4088023","Nao","Tecon Suape",{"$f":"VLOOKUP(E1019,'Padrão mensagem'!$A$3:$B$67,2,0)","v":"Tecon Suape - Acessar o site\nhttps://www.teconsuape.com/portalservicos/#!/login\ne informar o número de booking DDHLLMTY202401"}]
["BRSUA","22GP","HLBU3509505","Nao","Tecon Suape",{"$f":"VLOOKUP(E1020,'Padrão mensagem'!$A$3:$B$67,2,0)","v":"Tecon Suape - Acessar o site\nhttps://www.teconsuape.com/portalservicos/#!/login\ne informar o número de booking DDHLLMTY202401"}]
["BRSUA","22GP","CAIU6991995","Nao","Tecon Suape",{"$f":"VLOOKUP(E1021,'Padrão mensagem'!$A$3:$B$67,2,0)","v":"Tecon Suape - Acessar o site\nhttps://www.teconsuape.com/portalservicos/#!/login\ne informar o número de booking DDHLLMTY202401"}]
["BRSUA","22GP","BSIU2146202","Nao","Tecon Suape",{"$f":"VLOOKUP(E1022,'Padrão mensagem'!$A$3:$B$67,2,0)","v":"Tecon Suape - Acessar o site\nhttps://www.teconsuape.com/portalservicos/#!/login\ne informar o número de booking DDHLLMTY202401"}]
["BRSUA","22GP","TCLU3295773","Nao","Tecon Suape",{"$f":"VLOOKUP(E1023,'Padrão mensagem'!$A$3:$B$67,2,0)","v":"Tecon Suape - Acessar o site\nhttps://www.teconsuape.com/portalservicos/#!/login\ne informar o número de booking DDHLLMTY202401"}]
["BRSUA","22GP","HLBU1004031","Nao","Tecon Suape",{"$f":"VLOOKUP(E1024,'Padrão mensagem'!$A$3:$B$67,2,0)","v":"Tecon Suape - Acessar o site\nhttps://www.teconsuape.com/portalservicos/#!/login\ne informar o número de booking DDHLLMTY202401"}]
["BRSUA","22GP","CAIU6655223","Nao","Tecon Suape",{"$f":"VLOOKUP(E1025,'Padrão mensagem'!$A$3:$B$67,2,0)","v":"Tecon Suape - Acessar o site\nhttps://www.teconsuape.com/portalservicos/#!/login\ne informar o número de booking DDHLLMTY202401"}]
["BRSUA","22GP","CAIU3305622","Nao","Tecon Suape",{"$f":"VLOOKUP(E1026,'Padrão mensagem'!$A$3:$B$67,2,0)","v":"Tecon Suape - Acessar o site\nhttps://www.teconsuape.com/portalservicos/#!/login\ne informar o número de booking DDHLLMTY202401"}]
["BRSUA","22GP","HLBU2646463","Nao","Tecon Suape",{"$f":"VLOOKUP(E1027,'Padrão mensagem'!$A$3:$B$67,2,0)","v":"Tecon Suape - Acessar o site\nhttps://www.teconsuape.com/portalservicos/#!/login\ne informar o número de booking DDHLLMTY202401"}]
["BRSUA","22GP","UACU3886034","Nao","Tecon Suape",{"$f":"VLOOKUP(E1028,'Padrão mensagem'!$A$3:$B$67,2,0)","v":"Tecon Suape - Acessar o site\nhttps://www.teconsuape.com/portalservicos/#!/login\ne informar o número de booking DDHLLMTY202401"}]
["BRSUA","22GP","HLBU2632496","Nao","Tecon Suape",{"$f":"VLOOKUP(E1029,'Padrão mensagem'!$A$3:$B$67,2,0)","v":"Tecon Suape - Acessar o site\nhttps://www.teconsuape.com/portalservicos/#!/login\ne informar o número de booking DDHLLMTY202401"}]
["BRSUA","22GP","SEGU1232550","Nao","Tecon Suape",{"$f":"VLOOKUP(E1030,'Padrão mensagem'!$A$3:$B$67,2,0)","v":"Tecon Suape - Acessar o site\nhttps://www.teconsuape.com/portalservicos/#!/login\ne informar o número de booking DDHLLMTY202401"}]
["BRSUA","22GP","HLBU2638489","Nao","Tecon Suape",{"$f":"VLOOKUP(E1031,'Padrão mensagem'!$A$3:$B$67,2,0)","v":"Tecon Suape - Acessar o site\nhttps://www.teconsuape.com/portalservicos/#!/login\ne informar o número de booking DDHLLMTY202401"}]
["BRSUA","22GP","HLBU2648743","Nao","Tecon Suape",{"$f":"VLOOKUP(E1032,'Padrão mensagem'!$A$3:$B$67,2,0)","v":"Tecon Suape - Acessar o site\nhttps://www.teconsuape.com/portalservicos/#!/login\ne informar o número de booking DDHLLMTY202401"}]
["BRSUA","22GP","HLBU1748429","Nao","Tecon Suape",{"$f":"VLOOKUP(E1033,'Padrão mensagem'!$A$3:$B$67,2,0)","v":"Tecon Suape - Acessar o site\nhttps://www.teconsuape.com/portalservicos/#!/login\ne informar o número de booking DDHLLMTY202401"}]
["BRSUA","22GP","FBIU0094420","Nao","Tecon Suape",{"$f":"VLOOKUP(E1034,'Padrão mensagem'!$A$3:$B$67,2,0)","v":"Tecon Suape - Acessar o site\nhttps://www.teconsuape.com/portalservicos/#!/login\ne informar o número de booking DDHLLMTY202401"}]
["BRSUA","22GP","HAMU1065675","Nao","Tecon Suape",{"$f":"VLOOKUP(E1035,'Padrão mensagem'!$A$3:$B$67,2,0)","v":"Tecon Suape - Acessar o site\nhttps://www.teconsuape.com/portalservicos/#!/login\ne informar o número de booking DDHLLMTY202401"}]
["BRSUA","22GP","UACU4105619","Nao","Tecon Suape",{"$f":"VLOOKUP(E1036,'Padrão mensagem'!$A$3:$B$67,2,0)","v":"Tecon Suape - Acessar o site\nhttps://www.teconsuape.com/portalservicos/#!/login\ne informar o número de booking DDHLLMTY202401"}]
["BRSUA","22GP","TEMU3971113","Nao","Tecon Suape",{"$f":"VLOOKUP(E1037,'Padrão mensagem'!$A$3:$B$67,2,0)","v":"Tecon Suape - Acessar o site\nhttps://www.teconsuape.com/portalservicos/#!/login\ne informar o número de booking DDHLLMTY202401"}]
["BRSUA","22GP","UACU4002776","Nao","Tecon Suape",{"$f":"VLOOKUP(E1038,'Padrão mensagem'!$A$3:$B$67,2,0)","v":"Tecon Suape - Acessar o site\nhttps://www.teconsuape.com/portalservicos/#!/login\ne informar o número de booking DDHLLMTY202401"}]
["BRSUA","22GP","HLXU1276654","Nao","Tecon Suape",{"$f":"VLOOKUP(E1039,'Padrão mensagem'!$A$3:$B$67,2,0)","v":"Tecon Suape - Acessar o site\nhttps://www.teconsuape.com/portalservicos/#!/login\ne informar o número de booking DDHLLMTY202401"}]
["BRSUA","22GP","BSIU2784104","Nao","Tecon Suape",{"$f":"VLOOKUP(E1040,'Padrão mensagem'!$A$3:$B$67,2,0)","v":"Tecon Suape - Acessar o site\nhttps://www.teconsuape.com/portalservicos/#!/login\ne informar o número de booking DDHLLMTY202401"}]
["BRSUA","22GP","UACU3631368","Nao","Tecon Suape",{"$f":"VLOOKUP(E1041,'Padrão mensagem'!$A$3:$B$67,2,0)","v":"Tecon Suape - Acessar o site\nhttps://www.teconsuape.com/portalservicos/#!/login\ne informar o número de booking DDHLLMTY202401"}]
["BRSUA","22GP","HLXU1018855","Nao","Tecon Suape",{"$f":"VLOOKUP(E1042,'Padrão mensagem'!$A$3:$B$67,2,0)","v":"Tecon Suape - Acessar o site\nhttps://www.teconsuape.com/portalservicos/#!/login\ne informar o número de booking DDHLLMTY202401"}]
["BRSUA","22GP","TGBU2214917","Nao","Tecon Suape",{"$f":"VLOOKUP(E1043,'Padrão mensagem'!$A$3:$B$67,2,0)","v":"Tecon Suape - Acessar o site\nhttps://www.teconsuape.com/portalservicos/#!/login\ne informar o número de booking DDHLLMTY202401"}]
["BRSUA","22GP","HLBU1120350","Nao","Tecon Suape",{"$f":"VLOOKUP(E1044,'Padrão mensagem'!$A$3:$B$67,2,0)","v":"Tecon Suape - Acessar o site\nhttps://www.teconsuape.com/portalservicos/#!/login\ne informar o número de booking DDHLLMTY202401"}]
["BRSUA","22GP","FTAU1990675","Nao","Tecon Suape",{"$f":"VLOOKUP(E1045,'Padrão mensagem'!$A$3:$B$67,2,0)","v":"Tecon Suape - Acessar o site\nhttps://www.teconsuape.com/portalservicos/#!/login\ne informar o número de booking DDHLLMTY202401"}]
["BRSUA","22GP","HLBU3575770","Nao","Tecon Suape",{"$f":"VLOOKUP(E1046,'Padrão mensagem'!$A$3:$B$67,2,0)","v":"Tecon Suape - Acessar o site\nhttps://www.teconsuape.com/portalservicos/#!/login\ne informar o número de booking DDHLLMTY202401"}]
["BRSUA","22GP","HAMU1066440","Nao","Tecon Suape",{"$f":"VLOOKUP(E1047,'Padrão mensagem'!$A$3:$B$67,2,0)","v":"Tecon Suape - Acessar o site\nhttps://www.teconsuape.com/portalservicos/#!/login\ne informar o número de booking DDHLLMTY202401"}]
["BRSUA","22GP","HAMU1100483","Nao","Tecon Suape",{"$f":"VLOOKUP(E1048,'Padrão mensagem'!$A$3:$B$67,2,0)","v":"Tecon Suape - Acessar o site\nhttps://www.teconsuape.com/portalservicos/#!/login\ne informar o número de booking DDHLLMTY202401"}]
["BRSUA","22GP","BSIU2871003","Nao","Tecon Suape",{"$f":"VLOOKUP(E1049,'Padrão mensagem'!$A$3:$B$67,2,0)","v":"Tecon Suape - Acessar o site\nhttps://www.teconsuape.com/portalservicos/#!/login\ne informar o número de booking DDHLLMTY202401"}]
["BRSUA","22GP","HLXU1394385","Nao","Tecon Suape",{"$f":"VLOOKUP(E1050,'Padrão mensagem'!$A$3:$B$67,2,0)","v":"Tecon Suape - Acessar o site\nhttps://www.teconsuape.com/portalservicos/#!/login\ne informar o número de booking DDHLLMTY202401"}]
["BRSUA","22GP","UETU2828151","Nao","Tecon Suape",{"$f":"VLOOKUP(E1051,'Padrão mensagem'!$A$3:$B$67,2,0)","v":"Tecon Suape - Acessar o site\nhttps://www.teconsuape.com/portalservicos/#!/login\ne informar o número de booking DDHLLMTY202401"}]
["BRSUA","22GP","HLXU1362541","Nao","Tecon Suape",{"$f":"VLOOKUP(E1052,'Padrão mensagem'!$A$3:$B$67,2,0)","v":"Tecon Suape - Acessar o site\nhttps://www.teconsuape.com/portalservicos/#!/login\ne informar o número de booking DDHLLMTY202401"}]
["BRSUA","22GP","UACU4109002","Nao","Tecon Suape",{"$f":"VLOOKUP(E1053,'Padrão mensagem'!$A$3:$B$67,2,0)","v":"Tecon Suape - Acessar o site\nhttps://www.teconsuape.com/portalservicos/#!/login\ne informar o número de booking DDHLLMTY202401"}]
["BRSUA","22GP","CAIU2695716","Nao","Tecon Suape",{"$f":"VLOOKUP(E1054,'Padrão mensagem'!$A$3:$B$67,2,0)","v":"Tecon Suape - Acessar o site\nhttps://www.teconsuape.com/portalservicos/#!/login\ne informar o número de booking DDHLLMTY202401"}]
["BRSUA","22GP","HAMU1047938","Nao","Tecon Suape",{"$f":"VLOOKUP(E1055,'Padrão mensagem'!$A$3:$B$67,2,0)","v":"Tecon Suape - Acessar o site\nhttps://www.teconsuape.com/portalservicos/#!/login\ne informar o número de booking DDHLLMTY202401"}]
["BRSUA","22GP","TEMU2673048","Nao","Tecon Suape",{"$f":"VLOOKUP(E1056,'Padrão mensagem'!$A$3:$B$67,2,0)","v":"Tecon Suape - Acessar o site\nhttps://www.teconsuape.com/portalservicos/#!/login\ne informar o número de booking DDHLLMTY202401"}]
["BRSUA","22GP","UACU3910871","Nao","Tecon Suape",{"$f":"VLOOKUP(E1057,'Padrão mensagem'!$A$3:$B$67,2,0)","v":"Tecon Suape - Acessar o site\nhttps://www.teconsuape.com/portalservicos/#!/login\ne informar o número de booking DDHLLMTY202401"}]
["BRSUA","22GP","FBIU0127626","Nao","Tecon Suape",{"$f":"VLOOKUP(E1058,'Padrão mensagem'!$A$3:$B$67,2,0)","v":"Tecon Suape - Acessar o site\nhttps://www.teconsuape.com/portalservicos/#!/login\ne informar o número de booking DDHLLMTY202401"}]
["BRSUA","22GP","HLBU3557843","Nao","Tecon Suape",{"$f":"VLOOKUP(E1059,'Padrão mensagem'!$A$3:$B$67,2,0)","v":"Tecon Suape - Acessar o site\nhttps://www.teconsuape.com/portalservicos/#!/login\ne informar o número de booking DDHLLMTY202401"}]
["BRSUA","22GP","HLBU3488172","Nao","Tecon Suape",{"$f":"VLOOKUP(E1060,'Padrão mensagem'!$A$3:$B$67,2,0)","v":"Tecon Suape - Acessar o site\nhttps://www.teconsuape.com/portalservicos/#!/login\ne informar o número de booking DDHLLMTY202401"}]
["BRSUA","22GP","CAAU2265097","Nao","Tecon Suape",{"$f":"VLOOKUP(E1061,'Padrão mensagem'!$A$3:$B$67,2,0)","v":"Tecon Suape - Acessar o site\nhttps://www.teconsuape.com/portalservicos/#!/login\ne informar o número de booking DDHLLMTY202401"}]
["BRSUA","22GP","HLBU3036547","Nao","Tecon Suape",{"$f":"VLOOKUP(E1062,'Padrão mensagem'!$A$3:$B$67,2,0)","v":"Tecon Suape - Acessar o site\nhttps://www.teconsuape.com/portalservicos/#!/login\ne informar o número de booking DDHLLMTY202401"}]
["BRSUA","22GP","HLBU2612150","Nao","Tecon Suape",{"$f":"VLOOKUP(E1063,'Padrão mensagem'!$A$3:$B$67,2,0)","v":"Tecon Suape - Acessar o site\nhttps://www.teconsuape.com/portalservicos/#!/login\ne informar o número de booking DDHLLMTY202401"}]
["BRSUA","22GP","HLBU2978827","Nao","Tecon Suape",{"$f":"VLOOKUP(E1064,'Padrão mensagem'!$A$3:$B$67,2,0)","v":"Tecon Suape - Acessar o site\nhttps://www.teconsuape.com/portalservicos/#!/login\ne informar o número de booking DDHLLMTY202401"}]
["BRSUA","22GP","UACU3958427","Nao","Tecon Suape",{"$f":"VLOOKUP(E1065,'Padrão mensagem'!$A$3:$B$67,2,0)","v":"Tecon Suape - Acessar o site\nhttps://www.teconsuape.com/portalservicos/#!/login\ne informar o número de booking DDHLLMTY202401"}]
["BRSUA","22GP","UACU3821922","Nao","Tecon Suape",{"$f":"VLOOKUP(E1066,'Padrão mensagem'!$A$3:$B$67,2,0)","v":"Tecon Suape - Acessar o site\nhttps://www.teconsuape.com/portalservicos/#!/login\ne informar o número de booking DDHLLMTY202401"}]
["BRSUA","22GP","TRHU2566758","Nao","Tecon Suape",{"$f":"VLOOKUP(E1067,'Padrão mensagem'!$A$3:$B$67,2,0)","v":"Tecon Suape - Acessar o site\nhttps://www.teconsuape.com/portalservicos/#!/login\ne informar o número de booking DDHLLMTY202401"}]
["BRSUA","22GP","HLBU1040717","Nao","Tecon Suape",{"$f":"VLOOKUP(E1068,'Padrão mensagem'!$A$3:$B$67,2,0)","v":"Tecon Suape - Acessar o site\nhttps://www.teconsuape.com/portalservicos/#!/login\ne informar o número de booking DDHLLMTY202401"}]
["BRSUA","22GP","GESU3976731","Nao","Tecon Suape",{"$f":"VLOOKUP(E1069,'Padrão mensagem'!$A$3:$B$67,2,0)","v":"Tecon Suape - Acessar o site\nhttps://www.teconsuape.com/portalservicos/#!/login\ne informar o número de booking DDHLLMTY202401"}]
["BRSUA","22GP","SEGU2078500","Nao","Tecon Suape",{"$f":"VLOOKUP(E1070,'Padrão mensagem'!$A$3:$B$67,2,0)","v":"Tecon Suape - Acessar o site\nhttps://www.teconsuape.com/portalservicos/#!/login\ne informar o número de booking DDHLLMTY202401"}]
["BRSUA","22GP","HLBU2973569","Nao","Tecon Suape",{"$f":"VLOOKUP(E1071,'Padrão mensagem'!$A$3:$B$67,2,0)","v":"Tecon Suape - Acessar o site\nhttps://www.teconsuape.com/portalservicos/#!/login\ne informar o número de booking DDHLLMTY202401"}]
["BRSUA","22GP","TLLU2436957","Nao","Tecon Suape",{"$f":"VLOOKUP(E1072,'Padrão mensagem'!$A$3:$B$67,2,0)","v":"Tecon Suape - Acessar o site\nhttps://www.teconsuape.com/portalservicos/#!/login\ne informar o número de booking DDHLLMTY202401"}]
["BRSUA","22GP","TCLU2868551","Nao","Tecon Suape",{"$f":"VLOOKUP(E1073,'Padrão mensagem'!$A$3:$B$67,2,0)","v":"Tecon Suape - Acessar o site\nhttps://www.teconsuape.com/portalservicos/#!/login\ne informar o número de booking DDHLLMTY202401"}]
["BRSUA","22GP","UACU4164210","Nao","Tecon Suape",{"$f":"VLOOKUP(E1074,'Padrão mensagem'!$A$3:$B$67,2,0)","v":"Tecon Suape - Acessar o site\nhttps://www.teconsuape.com/portalservicos/#!/login\ne informar o número de booking DDHLLMTY202401"}]
["BRSUA","22GP","HLBU3048321","Nao","Tecon Suape",{"$f":"VLOOKUP(E1075,'Padrão mensagem'!$A$3:$B$67,2,0)","v":"Tecon Suape - Acessar o site\nhttps://www.teconsuape.com/portalservicos/#!/login\ne informar o número de booking DDHLLMTY202401"}]
["BRSUA","22GP","HLXU1413314","Nao","Tecon Suape",{"$f":"VLOOKUP(E1076,'Padrão mensagem'!$A$3:$B$67,2,0)","v":"Tecon Suape - Acessar o site\nhttps://www.teconsuape.com/portalservicos/#!/login\ne informar o número de booking DDHLLMTY202401"}]
["BRSUA","22GP","UACU4149880","Nao","Tecon Suape",{"$f":"VLOOKUP(E1077,'Padrão mensagem'!$A$3:$B$67,2,0)","v":"Tecon Suape - Acessar o site\nhttps://www.teconsuape.com/portalservicos/#!/login\ne informar o número de booking DDHLLMTY202401"}]
["BRSUA","22GP","HLBU3548179","Nao","Tecon Suape",{"$f":"VLOOKUP(E1078,'Padrão mensagem'!$A$3:$B$67,2,0)","v":"Tecon Suape - Acessar o site\nhttps://www.teconsuape.com/portalservicos/#!/login\ne informar o número de booking DDHLLMTY202401"}]
["BRSUA","22GP","UETU2823062","Nao","Tecon Suape",{"$f":"VLOOKUP(E1079,'Padrão mensagem'!$A$3:$B$67,2,0)","v":"Tecon Suape - Acessar o site\nhttps://www.teconsuape.com/portalservicos/#!/login\ne informar o número de booking DDHLLMTY202401"}]
["BRSUA","22GP","HLXU1015310","Nao","Tecon Suape",{"$f":"VLOOKUP(E1080,'Padrão mensagem'!$A$3:$B$67,2,0)","v":"Tecon Suape - Acessar o site\nhttps://www.teconsuape.com/portalservicos/#!/login\ne informar o número de booking DDHLLMTY202401"}]
["BRSUA","22GP","HLXU1162116","Nao","Tecon Suape",{"$f":"VLOOKUP(E1081,'Padrão mensagem'!$A$3:$B$67,2,0)","v":"Tecon Suape - Acessar o site\nhttps://www.teconsuape.com/portalservicos/#!/login\ne informar o número de booking DDHLLMTY202401"}]
["BRSUA","22GP","TRHU1415063","Nao","Tecon Suape",{"$f":"VLOOKUP(E1082,'Padrão mensagem'!$A$3:$B$67,2,0)","v":"Tecon Suape - Acessar o site\nhttps://www.teconsuape.com/portalservicos/#!/login\ne informar o número de booking DDHLLMTY202401"}]
["BRSUA","22GP","UETU2737236","Nao","Tecon Suape",{"$f":"VLOOKUP(E1083,'Padrão mensagem'!$A$3:$B$67,2,0)","v":"Tecon Suape - Acessar o site\nhttps://www.teconsuape.com/portalservicos/#!/login\ne informar o número de booking DDHLLMTY202401"}]
["BRSUA","22GP","GESU1070938","Nao","Tecon Suape",{"$f":"VLOOKUP(E1084,'Padrão mensagem'!$A$3:$B$67,2,0)","v":"Tecon Suape - Acessar o site\nhttps://www.teconsuape.com/portalservicos/#!/login\ne informar o número de booking DDHLLMTY202401"}]
["BRSUA","22GP","HLBU3035197","Nao","Tecon Suape",{"$f":"VLOOKUP(E1085,'Padrão mensagem'!$A$3:$B$67,2,0)","v":"Tecon Suape - Acessar o site\nhttps://www.teconsuape.com/portalservicos/#!/login\ne informar o número de booking DDHLLMTY202401"}]
["BRSUA","22GP","UACU3952033","Nao","Tecon Suape",{"$f":"VLOOKUP(E1086,'Padrão mensagem'!$A$3:$B$67,2,0)","v":"Tecon Suape - Acessar o site\nhttps://www.teconsuape.com/portalservicos/#!/login\ne informar o número de booking DDHLLMTY202401"}]
["BRSUA","22GP","HLXU1145572","Nao","Tecon Suape",{"$f":"VLOOKUP(E1087,'Padrão mensagem'!$A$3:$B$67,2,0)","v":"Tecon Suape - Acessar o site\nhttps://www.teconsuape.com/portalservicos/#!/login\ne informar o número de booking DDHLLMTY202401"}]
["BRSUA","22GP","CAIU3153833","Nao","Tecon Suape",{"$f":"VLOOKUP(E1088,'Padrão mensagem'!$A$3:$B$67,2,0)","v":"Tecon Suape - Acessar o site\nhttps://www.teconsuape.com/portalservicos/#!/login\ne informar o número de booking DDHLLMTY202401"}]
["BRSUA","22GP","TLLU2551441","Nao","Tecon Suape",{"$f":"VLOOKUP(E1089,'Padrão mensagem'!$A$3:$B$67,2,0)","v":"Tecon Suape - Acessar o site\nhttps://www.teconsuape.com/portalservicos/#!/login\ne informar o número de booking DDHLLMTY202401"}]
["BRSUA","22GP","UACU3622094","Nao","Tecon Suape",{"$f":"VLOOKUP(E1090,'Padrão mensagem'!$A$3:$B$67,2,0)","v":"Tecon Suape - Acessar o site\nhttps://www.teconsuape.com/portalservicos/#!/login\ne informar o número de booking DDHLLMTY202401"}]
["BRSUA","45RT","HLBU9067843","Nao","Tecon Suape",{"$f":"VLOOKUP(E1091,'Padrão mensagem'!$A$3:$B$67,2,0)","v":"Tecon Suape - Acessar o site\nhttps://www.teconsuape.com/portalservicos/#!/login\ne informar o número de booking DDHLLMTY202401"}]
["BRSUA","45RT","HLBU9072731","Nao","Tecon Suape",{"$f":"VLOOKUP(E1092,'Padrão mensagem'!$A$3:$B$67,2,0)","v":"Tecon Suape - Acessar o site\nhttps://www.teconsuape.com/portalservicos/#!/login\ne informar o número de booking DDHLLMTY202401"}]
["BRSUA","45RT","HLBU9798468","Nao","Tecon Suape",{"$f":"VLOOKUP(E1093,'Padrão mensagem'!$A$3:$B$67,2,0)","v":"Tecon Suape - Acessar o site\nhttps://www.teconsuape.com/portalservicos/#!/login\ne informar o número de booking DDHLLMTY202401"}]
["BRSUA","45RT","GESU9582273","Nao","Tecon Suape",{"$f":"VLOOKUP(E1094,'Padrão mensagem'!$A$3:$B$67,2,0)","v":"Tecon Suape - Acessar o site\nhttps://www.teconsuape.com/portalservicos/#!/login\ne informar o número de booking DDHLLMTY202401"}]
["BRSUA","45RT","HLBU9897250","Nao","Tecon Suape",{"$f":"VLOOKUP(E1095,'Padrão mensagem'!$A$3:$B$67,2,0)","v":"Tecon Suape - Acessar o site\nhttps://www.teconsuape.com/portalservicos/#!/login\ne informar o número de booking DDHLLMTY202401"}]
["BRSUA","45RT","HLBU9056140","Nao","Tecon Suape",{"$f":"VLOOKUP(E1096,'Padrão mensagem'!$A$3:$B$67,2,0)","v":"Tecon Suape - Acessar o site\nhttps://www.teconsuape.com/portalservicos/#!/login\ne informar o número de booking DDHLLMTY202401"}]
["BRSUA","45RT","UACU4785199","Nao","Tecon Suape",{"$f":"VLOOKUP(E1097,'Padrão mensagem'!$A$3:$B$67,2,0)","v":"Tecon Suape - Acessar o site\nhttps://www.teconsuape.com/portalservicos/#!/login\ne informar o número de booking DDHLLMTY202401"}]
["BRSUA","45RT","HLBU9263023","Nao","Tecon Suape",{"$f":"VLOOKUP(E1098,'Padrão mensagem'!$A$3:$B$67,2,0)","v":"Tecon Suape - Acessar o site\nhttps://www.teconsuape.com/portalservicos/#!/login\ne informar o número de booking DDHLLMTY202401"}]
["BRSUA","45RT","HLBU9536107","Nao","Tecon Suape",{"$f":"VLOOKUP(E1099,'Padrão mensagem'!$A$3:$B$67,2,0)","v":"Tecon Suape - Acessar o site\nhttps://www.teconsuape.com/portalservicos/#!/login\ne informar o número de booking DDHLLMTY202401"}]
["BRSSA","45GP","DFSU7513375","Nao","DEPOT PONTUAL",{"$f":"VLOOKUP(E1100,'Padrão mensagem'!$A$3:$B$67,2,0)","v":"Depot Pontual - (71) /3594-5732 | E-mails: marjorie@depotpontual.com.br; caio@depotpontual.com.br; Operacional01@depotpontual.com.br; operacionnal@depotpontual.com.br"}]
["BRSSA","45GP","CAIU8536671","Nao","DEPOT PONTUAL",{"$f":"VLOOKUP(E1101,'Padrão mensagem'!$A$3:$B$67,2,0)","v":"Depot Pontual - (71) /3594-5732 | E-mails: marjorie@depotpontual.com.br; caio@depotpontual.com.br; Operacional01@depotpontual.com.br; operacionnal@depotpontual.com.br"}]
["BRSSA","45GP","HLXU8021110","Nao","DEPOT PONTUAL",{"$f":"VLOOKUP(E1102,'Padrão mensagem'!$A$3:$B$67,2,0)","v":"Depot Pontual - (71) /3594-5732 | E-mails: marjorie@depotpontual.com.br; caio@depotpontual.com.br; Operacional01@depotpontual.com.br; operacionnal@depotpontual.com.br"}]
["BRSUA","45GP","FANU3240357","Nao","Ziranlog SUA ",{"$f":"VLOOKUP(E1103,'Padrão mensagem'!$A$3:$B$67,2,0)","v":"Ziranlog SUA       -        (21) 973373045  |  E-mail: Controle@zirannordeste.com.br; gate@zirannordeste.com.br"}]
["BRSUA","22GP","HLBU3689618","Nao","Tecon Suape",{"$f":"VLOOKUP(E1104,'Padrão mensagem'!$A$3:$B$67,2,0)","v":"Tecon Suape - Acessar o site\nhttps://www.teconsuape.com/portalservicos/#!/login\ne informar o número de booking DDHLLMTY202401"}]
["BRCUC","42GP","UACU8551861","Nao","TERMACO TERMINAIS",{"$f":"VLOOKUP(E1105,'Padrão mensagem'!$A$3:$B$67,2,0)","v":"Depot Termaco Terminais - (85) 99213 7266 | E-mail:gate.cac@termaco.com.br"}]
["BRSUA","45GP","HLBU1958533","Nao","Ziranlog SUA ",{"$f":"VLOOKUP(E1106,'Padrão mensagem'!$A$3:$B$67,2,0)","v":"Ziranlog SUA       -        (21) 973373045  |  E-mail: Controle@zirannordeste.com.br; gate@zirannordeste.com.br"}]
["BRSUA","45GP","FFAU1145655","Nao","Ziranlog SUA ",{"$f":"VLOOKUP(E1107,'Padrão mensagem'!$A$3:$B$67,2,0)","v":"Ziranlog SUA       -        (21) 973373045  |  E-mail: Controle@zirannordeste.com.br; gate@zirannordeste.com.br"}]
["BRSUA","45GP","BEAU4841538","Nao","Ziranlog SUA ",{"$f":"VLOOKUP(E1108,'Padrão mensagem'!$A$3:$B$67,2,0)","v":"Ziranlog SUA       -        (21) 973373045  |  E-mail: Controle@zirannordeste.com.br; gate@zirannordeste.com.br"}]
["BRSUA","45GP","HAMU1603868","Nao","Ziranlog SUA ",{"$f":"VLOOKUP(E1109,'Padrão mensagem'!$A$3:$B$67,2,0)","v":"Ziranlog SUA       -        (21) 973373045  |  E-mail: Controle@zirannordeste.com.br; gate@zirannordeste.com.br"}]
["BRSUA","45GP","TCNU7298422","Nao","Ziranlog SUA ",{"$f":"VLOOKUP(E1110,'Padrão mensagem'!$A$3:$B$67,2,0)","v":"Ziranlog SUA       -        (21) 973373045  |  E-mail: Controle@zirannordeste.com.br; gate@zirannordeste.com.br"}]
["BRSUA","45GP","UACU5635676","Nao","Ziranlog SUA ",{"$f":"VLOOKUP(E1111,'Padrão mensagem'!$A$3:$B$67,2,0)","v":"Ziranlog SUA       -        (21) 973373045  |  E-mail: Controle@zirannordeste.com.br; gate@zirannordeste.com.br"}]
["BRSUA","45GP","HLBU2671620","Nao","Ziranlog SUA ",{"$f":"VLOOKUP(E1112,'Padrão mensagem'!$A$3:$B$67,2,0)","v":"Ziranlog SUA       -        (21) 973373045  |  E-mail: Controle@zirannordeste.com.br; gate@zirannordeste.com.br"}]
["BRSUA","45GP","HLBU1719251","Nao","Ziranlog SUA ",{"$f":"VLOOKUP(E1113,'Padrão mensagem'!$A$3:$B$67,2,0)","v":"Ziranlog SUA       -        (21) 973373045  |  E-mail: Controle@zirannordeste.com.br; gate@zirannordeste.com.br"}]
["BRSUA","45GP","HLBU3096931","Nao","Ziranlog SUA ",{"$f":"VLOOKUP(E1114,'Padrão mensagem'!$A$3:$B$67,2,0)","v":"Ziranlog SUA       -        (21) 973373045  |  E-mail: Controle@zirannordeste.com.br; gate@zirannordeste.com.br"}]
["BRSUA","45GP","TCNU4201729","Nao","Ziranlog SUA ",{"$f":"VLOOKUP(E1115,'Padrão mensagem'!$A$3:$B$67,2,0)","v":"Ziranlog SUA       -        (21) 973373045  |  E-mail: Controle@zirannordeste.com.br; gate@zirannordeste.com.br"}]
["BRSSA","22GP","TGCU2089402","Nao","DEPOT PONTUAL",{"$f":"VLOOKUP(E1116,'Padrão mensagem'!$A$3:$B$67,2,0)","v":"Depot Pontual - (71) /3594-5732 | E-mails: marjorie@depotpontual.com.br; caio@depotpontual.com.br; Operacional01@depotpontual.com.br; operacionnal@depotpontual.com.br"}]
["BRSSA","22GP","HLBU2982642","Nao","DEPOT PONTUAL",{"$f":"VLOOKUP(E1117,'Padrão mensagem'!$A$3:$B$67,2,0)","v":"Depot Pontual - (71) /3594-5732 | E-mails: marjorie@depotpontual.com.br; caio@depotpontual.com.br; Operacional01@depotpontual.com.br; operacionnal@depotpontual.com.br"}]
["BRSUA","22GP","HLBU2955570","Nao","Tecon Suape",{"$f":"VLOOKUP(E1118,'Padrão mensagem'!$A$3:$B$67,2,0)","v":"Tecon Suape - Acessar o site\nhttps://www.teconsuape.com/portalservicos/#!/login\ne informar o número de booking DDHLLMTY202401"}]
["BRCUC","45GP","GESU6197674","Nao","TERMACO TERMINAIS",{"$f":"VLOOKUP(E1119,'Padrão mensagem'!$A$3:$B$67,2,0)","v":"Depot Termaco Terminais - (85) 99213 7266 | E-mail:gate.cac@termaco.com.br"}]
["BRCUC","45GP","HLXU8396625","Nao","TERMACO TERMINAIS",{"$f":"VLOOKUP(E1120,'Padrão mensagem'!$A$3:$B$67,2,0)","v":"Depot Termaco Terminais - (85) 99213 7266 | E-mail:gate.cac@termaco.com.br"}]
["BRCUC","45GP","CAIU4461023","Nao","TERMACO TERMINAIS",{"$f":"VLOOKUP(E1121,'Padrão mensagem'!$A$3:$B$67,2,0)","v":"Depot Termaco Terminais - (85) 99213 7266 | E-mail:gate.cac@termaco.com.br"}]
["BRCUC","45GP","CARU9638376","Nao","TERMACO TERMINAIS",{"$f":"VLOOKUP(E1122,'Padrão mensagem'!$A$3:$B$67,2,0)","v":"Depot Termaco Terminais - (85) 99213 7266 | E-mail:gate.cac@termaco.com.br"}]
["BRSUA","45RT","TCLU1377872","Nao","Tecon Suape",{"$f":"VLOOKUP(E1123,'Padrão mensagem'!$A$3:$B$67,2,0)","v":"Tecon Suape - Acessar o site\nhttps://www.teconsuape.com/portalservicos/#!/login\ne informar o número de booking DDHLLMTY202401"}]
["BRSUA","45GP","BMOU4426613","Nao","Ziranlog SUA ",{"$f":"VLOOKUP(E1124,'Padrão mensagem'!$A$3:$B$67,2,0)","v":"Ziranlog SUA       -        (21) 973373045  |  E-mail: Controle@zirannordeste.com.br; gate@zirannordeste.com.br"}]
["BRSUA","45GP","TGCU5346649","Nao","Ziranlog SUA ",{"$f":"VLOOKUP(E1125,'Padrão mensagem'!$A$3:$B$67,2,0)","v":"Ziranlog SUA       -        (21) 973373045  |  E-mail: Controle@zirannordeste.com.br; gate@zirannordeste.com.br"}]
["BRMAO","22GP","HLBU2971421","Nao","SUPER TERMINAIS",{"$f":"VLOOKUP(E1126,'Padrão mensagem'!$A$3:$B$67,2,0)","v":"Depot Super Terminais - (92) 3616-2650 / E-mails: coordenacao.depot@superterminais.com.br; reparos.container@superterminais.com.br"}]
["BRMAO","45GP","TCLU8097600","Nao","SUPER TERMINAIS",{"$f":"VLOOKUP(E1127,'Padrão mensagem'!$A$3:$B$67,2,0)","v":"Depot Super Terminais - (92) 3616-2650 / E-mails: coordenacao.depot@superterminais.com.br; reparos.container@superterminais.com.br"}]
["BRMAO","45GP","HLBU2699890","Nao","SUPER TERMINAIS",{"$f":"VLOOKUP(E1128,'Padrão mensagem'!$A$3:$B$67,2,0)","v":"Depot Super Terminais - (92) 3616-2650 / E-mails: coordenacao.depot@superterminais.com.br; reparos.container@superterminais.com.br"}]
["BRMAO","45GP","HAMU1674352","Nao","SUPER TERMINAIS",{"$f":"VLOOKUP(E1129,'Padrão mensagem'!$A$3:$B$67,2,0)","v":"Depot Super Terminais - (92) 3616-2650 / E-mails: coordenacao.depot@superterminais.com.br; reparos.container@superterminais.com.br"}]
["BRMAO","45RT","HLBU9711869","Nao","SUPER TERMINAIS",{"$f":"VLOOKUP(E1130,'Padrão mensagem'!$A$3:$B$67,2,0)","v":"Depot Super Terminais - (92) 3616-2650 / E-mails: coordenacao.depot@superterminais.com.br; reparos.container@superterminais.com.br"}]
["BRMAO","45GP","HLBU2117942","Nao","SUPER TERMINAIS",{"$f":"VLOOKUP(E1131,'Padrão mensagem'!$A$3:$B$67,2,0)","v":"Depot Super Terminais - (92) 3616-2650 / E-mails: coordenacao.depot@superterminais.com.br; reparos.container@superterminais.com.br"}]
["BRMAO","45GP","FANU3203142","Nao","SUPER TERMINAIS",{"$f":"VLOOKUP(E1132,'Padrão mensagem'!$A$3:$B$67,2,0)","v":"Depot Super Terminais - (92) 3616-2650 / E-mails: coordenacao.depot@superterminais.com.br; reparos.container@superterminais.com.br"}]
["BRMAO","45GP","HLXU8413830","Nao","SUPER TERMINAIS",{"$f":"VLOOKUP(E1133,'Padrão mensagem'!$A$3:$B$67,2,0)","v":"Depot Super Terminais - (92) 3616-2650 / E-mails: coordenacao.depot@superterminais.com.br; reparos.container@superterminais.com.br"}]
["BRMAO","45GP","CAIU4264446","Nao","SUPER TERMINAIS",{"$f":"VLOOKUP(E1134,'Padrão mensagem'!$A$3:$B$67,2,0)","v":"Depot Super Terminais - (92) 3616-2650 / E-mails: coordenacao.depot@superterminais.com.br; reparos.container@superterminais.com.br"}]
["BRMAO","45GP","HAMU1138719","Nao","SUPER TERMINAIS",{"$f":"VLOOKUP(E1135,'Padrão mensagem'!$A$3:$B$67,2,0)","v":"Depot Super Terminais - (92) 3616-2650 / E-mails: coordenacao.depot@superterminais.com.br; reparos.container@superterminais.com.br"}]
["BRMAO","45GP","FFAU2204808","Nao","SUPER TERMINAIS",{"$f":"VLOOKUP(E1136,'Padrão mensagem'!$A$3:$B$67,2,0)","v":"Depot Super Terminais - (92) 3616-2650 / E-mails: coordenacao.depot@superterminais.com.br; reparos.container@superterminais.com.br"}]
["BRMAO","45GP","HLXU8512962","Nao","SUPER TERMINAIS",{"$f":"VLOOKUP(E1137,'Padrão mensagem'!$A$3:$B$67,2,0)","v":"Depot Super Terminais - (92) 3616-2650 / E-mails: coordenacao.depot@superterminais.com.br; reparos.container@superterminais.com.br"}]
["BRMAO","45GP","HLBU1647568","Nao","SUPER TERMINAIS",{"$f":"VLOOKUP(E1138,'Padrão mensagem'!$A$3:$B$67,2,0)","v":"Depot Super Terminais - (92) 3616-2650 / E-mails: coordenacao.depot@superterminais.com.br; reparos.container@superterminais.com.br"}]
["BRMAO","45GP","HLBU2825788","Nao","SUPER TERMINAIS",{"$f":"VLOOKUP(E1139,'Padrão mensagem'!$A$3:$B$67,2,0)","v":"Depot Super Terminais - (92) 3616-2650 / E-mails: coordenacao.depot@superterminais.com.br; reparos.container@superterminais.com.br"}]
["BRMAO","45GP","FFAU1539108","Nao","SUPER TERMINAIS",{"$f":"VLOOKUP(E1140,'Padrão mensagem'!$A$3:$B$67,2,0)","v":"Depot Super Terminais - (92) 3616-2650 / E-mails: coordenacao.depot@superterminais.com.br; reparos.container@superterminais.com.br"}]
["BRMAO","45GP","GCXU6129940","Nao","SUPER TERMINAIS",{"$f":"VLOOKUP(E1141,'Padrão mensagem'!$A$3:$B$67,2,0)","v":"Depot Super Terminais - (92) 3616-2650 / E-mails: coordenacao.depot@superterminais.com.br; reparos.container@superterminais.com.br"}]
["BRMAO","45GP","HLBU2480979","Nao","SUPER TERMINAIS",{"$f":"VLOOKUP(E1142,'Padrão mensagem'!$A$3:$B$67,2,0)","v":"Depot Super Terminais - (92) 3616-2650 / E-mails: coordenacao.depot@superterminais.com.br; reparos.container@superterminais.com.br"}]
["BRMAO","45GP","HLBU3076370","Nao","SUPER TERMINAIS",{"$f":"VLOOKUP(E1143,'Padrão mensagem'!$A$3:$B$67,2,0)","v":"Depot Super Terminais - (92) 3616-2650 / E-mails: coordenacao.depot@superterminais.com.br; reparos.container@superterminais.com.br"}]
["BRMAO","45GP","FANU1991488","Nao","SUPER TERMINAIS",{"$f":"VLOOKUP(E1144,'Padrão mensagem'!$A$3:$B$67,2,0)","v":"Depot Super Terminais - (92) 3616-2650 / E-mails: coordenacao.depot@superterminais.com.br; reparos.container@superterminais.com.br"}]
["BRMAO","45GP","FFAU2650841","Nao","SUPER TERMINAIS",{"$f":"VLOOKUP(E1145,'Padrão mensagem'!$A$3:$B$67,2,0)","v":"Depot Super Terminais - (92) 3616-2650 / E-mails: coordenacao.depot@superterminais.com.br; reparos.container@superterminais.com.br"}]
["BRMAO","45GP","HLBU2550295","Nao","SUPER TERMINAIS",{"$f":"VLOOKUP(E1146,'Padrão mensagem'!$A$3:$B$67,2,0)","v":"Depot Super Terminais - (92) 3616-2650 / E-mails: coordenacao.depot@superterminais.com.br; reparos.container@superterminais.com.br"}]
["BRMAO","45GP","FSCU8940417","Nao","SUPER TERMINAIS",{"$f":"VLOOKUP(E1147,'Padrão mensagem'!$A$3:$B$67,2,0)","v":"Depot Super Terminais - (92) 3616-2650 / E-mails: coordenacao.depot@superterminais.com.br; reparos.container@superterminais.com.br"}]
["BRMAO","45GP","FCIU7345663","Nao","SUPER TERMINAIS",{"$f":"VLOOKUP(E1148,'Padrão mensagem'!$A$3:$B$67,2,0)","v":"Depot Super Terminais - (92) 3616-2650 / E-mails: coordenacao.depot@superterminais.com.br; reparos.container@superterminais.com.br"}]
["BRMAO","45GP","HAMU2467318","Nao","SUPER TERMINAIS",{"$f":"VLOOKUP(E1149,'Padrão mensagem'!$A$3:$B$67,2,0)","v":"Depot Super Terminais - (92) 3616-2650 / E-mails: coordenacao.depot@superterminais.com.br; reparos.container@superterminais.com.br"}]
["BRMAO","45GP","HAMU2474512","Nao","SUPER TERMINAIS",{"$f":"VLOOKUP(E1150,'Padrão mensagem'!$A$3:$B$67,2,0)","v":"Depot Super Terminais - (92) 3616-2650 / E-mails: coordenacao.depot@superterminais.com.br; reparos.container@superterminais.com.br"}]
["BRMAO","45GP","HAMU2474467","Nao","SUPER TERMINAIS",{"$f":"VLOOKUP(E1151,'Padrão mensagem'!$A$3:$B$67,2,0)","v":"Depot Super Terminais - (92) 3616-2650 / E-mails: coordenacao.depot@superterminais.com.br; reparos.container@superterminais.com.br"}]
["BRMAO","45GP","HAMU2475036","Nao","SUPER TERMINAIS",{"$f":"VLOOKUP(E1152,'Padrão mensagem'!$A$3:$B$67,2,0)","v":"Depot Super Terminais - (92) 3616-2650 / E-mails: coordenacao.depot@superterminais.com.br; reparos.container@superterminais.com.br"}]
["BRMAO","45GP","HLBU2433540","Nao","SUPER TERMINAIS",{"$f":"VLOOKUP(E1153,'Padrão mensagem'!$A$3:$B$67,2,0)","v":"Depot Super Terminais - (92) 3616-2650 / E-mails: coordenacao.depot@superterminais.com.br; reparos.container@superterminais.com.br"}]
["BRMAO","45GP","CAIU4366704","Nao","SUPER TERMINAIS",{"$f":"VLOOKUP(E1154,'Padrão mensagem'!$A$3:$B$67,2,0)","v":"Depot Super Terminais - (92) 3616-2650 / E-mails: coordenacao.depot@superterminais.com.br; reparos.container@superterminais.com.br"}]
["BRMAO","45GP","TCLU5617919","Nao","SUPER TERMINAIS",{"$f":"VLOOKUP(E1155,'Padrão mensagem'!$A$3:$B$67,2,0)","v":"Depot Super Terminais - (92) 3616-2650 / E-mails: coordenacao.depot@superterminais.com.br; reparos.container@superterminais.com.br"}]
["BRMAO","45GP","FANU3511989","Nao","SUPER TERMINAIS",{"$f":"VLOOKUP(E1156,'Padrão mensagem'!$A$3:$B$67,2,0)","v":"Depot Super Terminais - (92) 3616-2650 / E-mails: coordenacao.depot@superterminais.com.br; reparos.container@superterminais.com.br"}]
["BRMAO","45GP","UACU5461234","Nao","SUPER TERMINAIS",{"$f":"VLOOKUP(E1157,'Padrão mensagem'!$A$3:$B$67,2,0)","v":"Depot Super Terminais - (92) 3616-2650 / E-mails: coordenacao.depot@superterminais.com.br; reparos.container@superterminais.com.br"}]
["BRMAO","45GP","FANU3111555","Nao","SUPER TERMINAIS",{"$f":"VLOOKUP(E1158,'Padrão mensagem'!$A$3:$B$67,2,0)","v":"Depot Super Terminais - (92) 3616-2650 / E-mails: coordenacao.depot@superterminais.com.br; reparos.container@superterminais.com.br"}]
["BRMAO","45GP","FSCU8241913","Nao","SUPER TERMINAIS",{"$f":"VLOOKUP(E1159,'Padrão mensagem'!$A$3:$B$67,2,0)","v":"Depot Super Terminais - (92) 3616-2650 / E-mails: coordenacao.depot@superterminais.com.br; reparos.container@superterminais.com.br"}]
["BRMAO","45GP","FFAU1784445","Nao","SUPER TERMINAIS",{"$f":"VLOOKUP(E1160,'Padrão mensagem'!$A$3:$B$67,2,0)","v":"Depot Super Terminais - (92) 3616-2650 / E-mails: coordenacao.depot@superterminais.com.br; reparos.container@superterminais.com.br"}]
["BRMAO","45GP","HLBU1598870","Nao","SUPER TERMINAIS",{"$f":"VLOOKUP(E1161,'Padrão mensagem'!$A$3:$B$67,2,0)","v":"Depot Super Terminais - (92) 3616-2650 / E-mails: coordenacao.depot@superterminais.com.br; reparos.container@superterminais.com.br"}]
["BRMAO","45GP","BMOU5827903","Nao","SUPER TERMINAIS",{"$f":"VLOOKUP(E1162,'Padrão mensagem'!$A$3:$B$67,2,0)","v":"Depot Super Terminais - (92) 3616-2650 / E-mails: coordenacao.depot@superterminais.com.br; reparos.container@superterminais.com.br"}]
["BRMAO","45GP","HAMU2449422","Nao","SUPER TERMINAIS",{"$f":"VLOOKUP(E1163,'Padrão mensagem'!$A$3:$B$67,2,0)","v":"Depot Super Terminais - (92) 3616-2650 / E-mails: coordenacao.depot@superterminais.com.br; reparos.container@superterminais.com.br"}]
["BRMAO","45GP","HAMU2442048","Nao","SUPER TERMINAIS",{"$f":"VLOOKUP(E1164,'Padrão mensagem'!$A$3:$B$67,2,0)","v":"Depot Super Terminais - (92) 3616-2650 / E-mails: coordenacao.depot@superterminais.com.br; reparos.container@superterminais.com.br"}]
["BRMAO","45GP","HLXU8428147","Nao","SUPER TERMINAIS",{"$f":"VLOOKUP(E1165,'Padrão mensagem'!$A$3:$B$67,2,0)","v":"Depot Super Terminais - (92) 3616-2650 / E-mails: coordenacao.depot@superterminais.com.br; reparos.container@superterminais.com.br"}]
["BRMAO","45GP","HAMU2437334","Nao","SUPER TERMINAIS",{"$f":"VLOOKUP(E1166,'Padrão mensagem'!$A$3:$B$67,2,0)","v":"Depot Super Terminais - (92) 3616-2650 / E-mails: coordenacao.depot@superterminais.com.br; reparos.container@superterminais.com.br"}]
["BRMAO","45RT","HLBU9570082","Nao","SUPER TERMINAIS",{"$f":"VLOOKUP(E1167,'Padrão mensagem'!$A$3:$B$67,2,0)","v":"Depot Super Terminais - (92) 3616-2650 / E-mails: coordenacao.depot@superterminais.com.br; reparos.container@superterminais.com.br"}]
["BRMAO","45GP","HLXU8591175","Nao","SUPER TERMINAIS",{"$f":"VLOOKUP(E1168,'Padrão mensagem'!$A$3:$B$67,2,0)","v":"Depot Super Terminais - (92) 3616-2650 / E-mails: coordenacao.depot@superterminais.com.br; reparos.container@superterminais.com.br"}]
["BRMAO","45GP","FANU3579546","Nao","SUPER TERMINAIS",{"$f":"VLOOKUP(E1169,'Padrão mensagem'!$A$3:$B$67,2,0)","v":"Depot Super Terminais - (92) 3616-2650 / E-mails: coordenacao.depot@superterminais.com.br; reparos.container@superterminais.com.br"}]
["BRMAO","45GP","FANU3569419","Nao","SUPER TERMINAIS",{"$f":"VLOOKUP(E1170,'Padrão mensagem'!$A$3:$B$67,2,0)","v":"Depot Super Terminais - (92) 3616-2650 / E-mails: coordenacao.depot@superterminais.com.br; reparos.container@superterminais.com.br"}]
["BRMAO","45GP","HAMU2439131","Nao","SUPER TERMINAIS",{"$f":"VLOOKUP(E1171,'Padrão mensagem'!$A$3:$B$67,2,0)","v":"Depot Super Terminais - (92) 3616-2650 / E-mails: coordenacao.depot@superterminais.com.br; reparos.container@superterminais.com.br"}]
["BRMAO","45GP","HAMU2438109","Nao","SUPER TERMINAIS",{"$f":"VLOOKUP(E1172,'Padrão mensagem'!$A$3:$B$67,2,0)","v":"Depot Super Terminais - (92) 3616-2650 / E-mails: coordenacao.depot@superterminais.com.br; reparos.container@superterminais.com.br"}]
["BRMAO","45GP","HAMU2464793","Nao","SUPER TERMINAIS",{"$f":"VLOOKUP(E1173,'Padrão mensagem'!$A$3:$B$67,2,0)","v":"Depot Super Terminais - (92) 3616-2650 / E-mails: coordenacao.depot@superterminais.com.br; reparos.container@superterminais.com.br"}]
["BRMAO","45GP","HAMU2456720","Nao","SUPER TERMINAIS",{"$f":"VLOOKUP(E1174,'Padrão mensagem'!$A$3:$B$67,2,0)","v":"Depot Super Terminais - (92) 3616-2650 / E-mails: coordenacao.depot@superterminais.com.br; reparos.container@superterminais.com.br"}]
["BRMAO","45GP","HAMU2475123","Nao","SUPER TERMINAIS",{"$f":"VLOOKUP(E1175,'Padrão mensagem'!$A$3:$B$67,2,0)","v":"Depot Super Terminais - (92) 3616-2650 / E-mails: coordenacao.depot@superterminais.com.br; reparos.container@superterminais.com.br"}]
["BRMAO","45GP","HAMU2440298","Nao","SUPER TERMINAIS",{"$f":"VLOOKUP(E1176,'Padrão mensagem'!$A$3:$B$67,2,0)","v":"Depot Super Terminais - (92) 3616-2650 / E-mails: coordenacao.depot@superterminais.com.br; reparos.container@superterminais.com.br"}]
["BRMAO","45GP","CXDU2318183","Nao","SUPER TERMINAIS",{"$f":"VLOOKUP(E1177,'Padrão mensagem'!$A$3:$B$67,2,0)","v":"Depot Super Terminais - (92) 3616-2650 / E-mails: coordenacao.depot@superterminais.com.br; reparos.container@superterminais.com.br"}]
["BRMAO","45GP","FDCU0128310","Nao","SUPER TERMINAIS",{"$f":"VLOOKUP(E1178,'Padrão mensagem'!$A$3:$B$67,2,0)","v":"Depot Super Terminais - (92) 3616-2650 / E-mails: coordenacao.depot@superterminais.com.br; reparos.container@superterminais.com.br"}]
["BRMAO","45GP","HLBU1081402","Nao","SUPER TERMINAIS",{"$f":"VLOOKUP(E1179,'Padrão mensagem'!$A$3:$B$67,2,0)","v":"Depot Super Terminais - (92) 3616-2650 / E-mails: coordenacao.depot@superterminais.com.br; reparos.container@superterminais.com.br"}]
["BRMAO","45RT","HLBU9536745","Nao","SUPER TERMINAIS",{"$f":"VLOOKUP(E1180,'Padrão mensagem'!$A$3:$B$67,2,0)","v":"Depot Super Terminais - (92) 3616-2650 / E-mails: coordenacao.depot@superterminais.com.br; reparos.container@superterminais.com.br"}]
["BRMAO","45RT","HLBU9822184","Nao","SUPER TERMINAIS",{"$f":"VLOOKUP(E1181,'Padrão mensagem'!$A$3:$B$67,2,0)","v":"Depot Super Terminais - (92) 3616-2650 / E-mails: coordenacao.depot@superterminais.com.br; reparos.container@superterminais.com.br"}]
["BRMAO","45RT","HLXU8789793","Nao","SUPER TERMINAIS",{"$f":"VLOOKUP(E1182,'Padrão mensagem'!$A$3:$B$67,2,0)","v":"Depot Super Terminais - (92) 3616-2650 / E-mails: coordenacao.depot@superterminais.com.br; reparos.container@superterminais.com.br"}]
["BRMAO","45RT","HLBU9890281","Nao","SUPER TERMINAIS",{"$f":"VLOOKUP(E1183,'Padrão mensagem'!$A$3:$B$67,2,0)","v":"Depot Super Terminais - (92) 3616-2650 / E-mails: coordenacao.depot@superterminais.com.br; reparos.container@superterminais.com.br"}]
["BRMAO","45RT","BMOU9266884","Nao","SUPER TERMINAIS",{"$f":"VLOOKUP(E1184,'Padrão mensagem'!$A$3:$B$67,2,0)","v":"Depot Super Terminais - (92) 3616-2650 / E-mails: coordenacao.depot@superterminais.com.br; reparos.container@superterminais.com.br"}]
["BRMAO","45RT","UACU4738900","Nao","SUPER TERMINAIS",{"$f":"VLOOKUP(E1185,'Padrão mensagem'!$A$3:$B$67,2,0)","v":"Depot Super Terminais - (92) 3616-2650 / E-mails: coordenacao.depot@superterminais.com.br; reparos.container@superterminais.com.br"}]
["BRMAO","45RT","BMOU9714850","Nao","SUPER TERMINAIS",{"$f":"VLOOKUP(E1186,'Padrão mensagem'!$A$3:$B$67,2,0)","v":"Depot Super Terminais - (92) 3616-2650 / E-mails: coordenacao.depot@superterminais.com.br; reparos.container@superterminais.com.br"}]
["BRMAO","45RT","HLBU9481323","Nao","SUPER TERMINAIS",{"$f":"VLOOKUP(E1187,'Padrão mensagem'!$A$3:$B$67,2,0)","v":"Depot Super Terminais - (92) 3616-2650 / E-mails: coordenacao.depot@superterminais.com.br; reparos.container@superterminais.com.br"}]
["BRMAO","45RT","BMOU9801424","Nao","SUPER TERMINAIS",{"$f":"VLOOKUP(E1188,'Padrão mensagem'!$A$3:$B$67,2,0)","v":"Depot Super Terminais - (92) 3616-2650 / E-mails: coordenacao.depot@superterminais.com.br; reparos.container@superterminais.com.br"}]
["BRMAO","45RT","HLBU9644009","Nao","SUPER TERMINAIS",{"$f":"VLOOKUP(E1189,'Padrão mensagem'!$A$3:$B$67,2,0)","v":"Depot Super Terminais - (92) 3616-2650 / E-mails: coordenacao.depot@superterminais.com.br; reparos.container@superterminais.com.br"}]
["BRMAO","45RT","HLBU9767507","Nao","SUPER TERMINAIS",{"$f":"VLOOKUP(E1190,'Padrão mensagem'!$A$3:$B$67,2,0)","v":"Depot Super Terminais - (92) 3616-2650 / E-mails: coordenacao.depot@superterminais.com.br; reparos.container@superterminais.com.br"}]
["BRMAO","45RT","TTNU8326162","Nao","SUPER TERMINAIS",{"$f":"VLOOKUP(E1191,'Padrão mensagem'!$A$3:$B$67,2,0)","v":"Depot Super Terminais - (92) 3616-2650 / E-mails: coordenacao.depot@superterminais.com.br; reparos.container@superterminais.com.br"}]
["BRMAO","45GP","HAMU2424152","Nao","SUPER TERMINAIS",{"$f":"VLOOKUP(E1192,'Padrão mensagem'!$A$3:$B$67,2,0)","v":"Depot Super Terminais - (92) 3616-2650 / E-mails: coordenacao.depot@superterminais.com.br; reparos.container@superterminais.com.br"}]
["BRMAO","45GP","BMOU5086652","Nao","SUPER TERMINAIS",{"$f":"VLOOKUP(E1193,'Padrão mensagem'!$A$3:$B$67,2,0)","v":"Depot Super Terminais - (92) 3616-2650 / E-mails: coordenacao.depot@superterminais.com.br; reparos.container@superterminais.com.br"}]
["BRMAO","45GP","FANU3024018","Nao","SUPER TERMINAIS",{"$f":"VLOOKUP(E1194,'Padrão mensagem'!$A$3:$B$67,2,0)","v":"Depot Super Terminais - (92) 3616-2650 / E-mails: coordenacao.depot@superterminais.com.br; reparos.container@superterminais.com.br"}]
["BRMAO","45GP","TXGU6536703","Nao","SUPER TERMINAIS",{"$f":"VLOOKUP(E1195,'Padrão mensagem'!$A$3:$B$67,2,0)","v":"Depot Super Terminais - (92) 3616-2650 / E-mails: coordenacao.depot@superterminais.com.br; reparos.container@superterminais.com.br"}]
["BRMAO","45GP","HAMU2447733","Nao","SUPER TERMINAIS",{"$f":"VLOOKUP(E1196,'Padrão mensagem'!$A$3:$B$67,2,0)","v":"Depot Super Terminais - (92) 3616-2650 / E-mails: coordenacao.depot@superterminais.com.br; reparos.container@superterminais.com.br"}]
["BRMAO","45GP","FDCU0127464","Nao","SUPER TERMINAIS",{"$f":"VLOOKUP(E1197,'Padrão mensagem'!$A$3:$B$67,2,0)","v":"Depot Super Terminais - (92) 3616-2650 / E-mails: coordenacao.depot@superterminais.com.br; reparos.container@superterminais.com.br"}]
["BRMAO","45GP","HAMU2431505","Nao","SUPER TERMINAIS",{"$f":"VLOOKUP(E1198,'Padrão mensagem'!$A$3:$B$67,2,0)","v":"Depot Super Terminais - (92) 3616-2650 / E-mails: coordenacao.depot@superterminais.com.br; reparos.container@superterminais.com.br"}]
["BRMAO","45GP","HAMU2434090","Nao","SUPER TERMINAIS",{"$f":"VLOOKUP(E1199,'Padrão mensagem'!$A$3:$B$67,2,0)","v":"Depot Super Terminais - (92) 3616-2650 / E-mails: coordenacao.depot@superterminais.com.br; reparos.container@superterminais.com.br"}]
["BRMAO","45GP","HLXU8577304","Nao","SUPER TERMINAIS",{"$f":"VLOOKUP(E1200,'Padrão mensagem'!$A$3:$B$67,2,0)","v":"Depot Super Terminais - (92) 3616-2650 / E-mails: coordenacao.depot@superterminais.com.br; reparos.container@superterminais.com.br"}]
["BRMAO","45GP","SEKU6359178","Nao","SUPER TERMINAIS",{"$f":"VLOOKUP(E1201,'Padrão mensagem'!$A$3:$B$67,2,0)","v":"Depot Super Terminais - (92) 3616-2650 / E-mails: coordenacao.depot@superterminais.com.br; reparos.container@superterminais.com.br"}]
["BRMAO","45GP","HLBU1092794","Nao","SUPER TERMINAIS",{"$f":"VLOOKUP(E1202,'Padrão mensagem'!$A$3:$B$67,2,0)","v":"Depot Super Terminais - (92) 3616-2650 / E-mails: coordenacao.depot@superterminais.com.br; reparos.container@superterminais.com.br"}]
["BRMAO","45GP","FANU3165675","Nao","SUPER TERMINAIS",{"$f":"VLOOKUP(E1203,'Padrão mensagem'!$A$3:$B$67,2,0)","v":"Depot Super Terminais - (92) 3616-2650 / E-mails: coordenacao.depot@superterminais.com.br; reparos.container@superterminais.com.br"}]
["BRMAO","45GP","HLBU3325030","Nao","SUPER TERMINAIS",{"$f":"VLOOKUP(E1204,'Padrão mensagem'!$A$3:$B$67,2,0)","v":"Depot Super Terminais - (92) 3616-2650 / E-mails: coordenacao.depot@superterminais.com.br; reparos.container@superterminais.com.br"}]
["BRMAO","45GP","HLBU1647850","Nao","SUPER TERMINAIS",{"$f":"VLOOKUP(E1205,'Padrão mensagem'!$A$3:$B$67,2,0)","v":"Depot Super Terminais - (92) 3616-2650 / E-mails: coordenacao.depot@superterminais.com.br; reparos.container@superterminais.com.br"}]
["BRMAO","45GP","BEAU4169737","Nao","SUPER TERMINAIS",{"$f":"VLOOKUP(E1206,'Padrão mensagem'!$A$3:$B$67,2,0)","v":"Depot Super Terminais - (92) 3616-2650 / E-mails: coordenacao.depot@superterminais.com.br; reparos.container@superterminais.com.br"}]
["BRMAO","45GP","HAMU1928987","Nao","SUPER TERMINAIS",{"$f":"VLOOKUP(E1207,'Padrão mensagem'!$A$3:$B$67,2,0)","v":"Depot Super Terminais - (92) 3616-2650 / E-mails: coordenacao.depot@superterminais.com.br; reparos.container@superterminais.com.br"}]
["BRMAO","45GP","UACU5519845","Nao","SUPER TERMINAIS",{"$f":"VLOOKUP(E1208,'Padrão mensagem'!$A$3:$B$67,2,0)","v":"Depot Super Terminais - (92) 3616-2650 / E-mails: coordenacao.depot@superterminais.com.br; reparos.container@superterminais.com.br"}]
["BRMAO","45GP","CAIU8255165","Nao","SUPER TERMINAIS",{"$f":"VLOOKUP(E1209,'Padrão mensagem'!$A$3:$B$67,2,0)","v":"Depot Super Terminais - (92) 3616-2650 / E-mails: coordenacao.depot@superterminais.com.br; reparos.container@superterminais.com.br"}]
["BRMAO","45GP","FANU3164895","Nao","SUPER TERMINAIS",{"$f":"VLOOKUP(E1210,'Padrão mensagem'!$A$3:$B$67,2,0)","v":"Depot Super Terminais - (92) 3616-2650 / E-mails: coordenacao.depot@superterminais.com.br; reparos.container@superterminais.com.br"}]
["BRMAO","45GP","BMOU4838349","Nao","SUPER TERMINAIS",{"$f":"VLOOKUP(E1211,'Padrão mensagem'!$A$3:$B$67,2,0)","v":"Depot Super Terminais - (92) 3616-2650 / E-mails: coordenacao.depot@superterminais.com.br; reparos.container@superterminais.com.br"}]
["BRMAO","45GP","FANU3586951","Nao","SUPER TERMINAIS",{"$f":"VLOOKUP(E1212,'Padrão mensagem'!$A$3:$B$67,2,0)","v":"Depot Super Terminais - (92) 3616-2650 / E-mails: coordenacao.depot@superterminais.com.br; reparos.container@superterminais.com.br"}]
["BRMAO","45GP","HLXU8392002","Nao","SUPER TERMINAIS",{"$f":"VLOOKUP(E1213,'Padrão mensagem'!$A$3:$B$67,2,0)","v":"Depot Super Terminais - (92) 3616-2650 / E-mails: coordenacao.depot@superterminais.com.br; reparos.container@superterminais.com.br"}]
["BRMAO","45GP","CAAU5572482","Nao","SUPER TERMINAIS",{"$f":"VLOOKUP(E1214,'Padrão mensagem'!$A$3:$B$67,2,0)","v":"Depot Super Terminais - (92) 3616-2650 / E-mails: coordenacao.depot@superterminais.com.br; reparos.container@superterminais.com.br"}]
["BRMAO","45GP","HAMU2432688","Nao","SUPER TERMINAIS",{"$f":"VLOOKUP(E1215,'Padrão mensagem'!$A$3:$B$67,2,0)","v":"Depot Super Terminais - (92) 3616-2650 / E-mails: coordenacao.depot@superterminais.com.br; reparos.container@superterminais.com.br"}]
["BRMAO","45GP","HAMU2474620","Nao","SUPER TERMINAIS",{"$f":"VLOOKUP(E1216,'Padrão mensagem'!$A$3:$B$67,2,0)","v":"Depot Super Terminais - (92) 3616-2650 / E-mails: coordenacao.depot@superterminais.com.br; reparos.container@superterminais.com.br"}]
["BRMAO","45GP","HAMU2466775","Nao","SUPER TERMINAIS",{"$f":"VLOOKUP(E1217,'Padrão mensagem'!$A$3:$B$67,2,0)","v":"Depot Super Terminais - (92) 3616-2650 / E-mails: coordenacao.depot@superterminais.com.br; reparos.container@superterminais.com.br"}]
["BRMAO","45GP","HAMU2474750","Nao","SUPER TERMINAIS",{"$f":"VLOOKUP(E1218,'Padrão mensagem'!$A$3:$B$67,2,0)","v":"Depot Super Terminais - (92) 3616-2650 / E-mails: coordenacao.depot@superterminais.com.br; reparos.container@superterminais.com.br"}]
["BRMAO","45GP","HAMU2470815","Nao","SUPER TERMINAIS",{"$f":"VLOOKUP(E1219,'Padrão mensagem'!$A$3:$B$67,2,0)","v":"Depot Super Terminais - (92) 3616-2650 / E-mails: coordenacao.depot@superterminais.com.br; reparos.container@superterminais.com.br"}]
["BRMAO","45GP","HAMU2427043","Nao","SUPER TERMINAIS",{"$f":"VLOOKUP(E1220,'Padrão mensagem'!$A$3:$B$67,2,0)","v":"Depot Super Terminais - (92) 3616-2650 / E-mails: coordenacao.depot@superterminais.com.br; reparos.container@superterminais.com.br"}]
["BRMAO","45GP","HLBU1323738","Nao","SUPER TERMINAIS",{"$f":"VLOOKUP(E1221,'Padrão mensagem'!$A$3:$B$67,2,0)","v":"Depot Super Terminais - (92) 3616-2650 / E-mails: coordenacao.depot@superterminais.com.br; reparos.container@superterminais.com.br"}]
["BRMAO","45GP","HAMU2438979","Nao","SUPER TERMINAIS",{"$f":"VLOOKUP(E1222,'Padrão mensagem'!$A$3:$B$67,2,0)","v":"Depot Super Terminais - (92) 3616-2650 / E-mails: coordenacao.depot@superterminais.com.br; reparos.container@superterminais.com.br"}]
["BRMAO","45GP","HAMU2438330","Nao","SUPER TERMINAIS",{"$f":"VLOOKUP(E1223,'Padrão mensagem'!$A$3:$B$67,2,0)","v":"Depot Super Terminais - (92) 3616-2650 / E-mails: coordenacao.depot@superterminais.com.br; reparos.container@superterminais.com.br"}]
["BRMAO","45GP","HAMU2439050","Nao","SUPER TERMINAIS",{"$f":"VLOOKUP(E1224,'Padrão mensagem'!$A$3:$B$67,2,0)","v":"Depot Super Terminais - (92) 3616-2650 / E-mails: coordenacao.depot@superterminais.com.br; reparos.container@superterminais.com.br"}]
["BRMAO","45GP","HAMU2437714","Nao","SUPER TERMINAIS",{"$f":"VLOOKUP(E1225,'Padrão mensagem'!$A$3:$B$67,2,0)","v":"Depot Super Terminais - (92) 3616-2650 / E-mails: coordenacao.depot@superterminais.com.br; reparos.container@superterminais.com.br"}]
["BRMAO","45GP","HAMU2438198","Nao","SUPER TERMINAIS",{"$f":"VLOOKUP(E1226,'Padrão mensagem'!$A$3:$B$67,2,0)","v":"Depot Super Terminais - (92) 3616-2650 / E-mails: coordenacao.depot@superterminais.com.br; reparos.container@superterminais.com.br"}]
["BRMAO","45GP","HAMU2435218","Nao","SUPER TERMINAIS",{"$f":"VLOOKUP(E1227,'Padrão mensagem'!$A$3:$B$67,2,0)","v":"Depot Super Terminais - (92) 3616-2650 / E-mails: coordenacao.depot@superterminais.com.br; reparos.container@superterminais.com.br"}]
["BRMAO","45GP","HAMU2434401","Nao","SUPER TERMINAIS",{"$f":"VLOOKUP(E1228,'Padrão mensagem'!$A$3:$B$67,2,0)","v":"Depot Super Terminais - (92) 3616-2650 / E-mails: coordenacao.depot@superterminais.com.br; reparos.container@superterminais.com.br"}]
["BRMAO","45GP","TCNU8468251","Nao","SUPER TERMINAIS",{"$f":"VLOOKUP(E1229,'Padrão mensagem'!$A$3:$B$67,2,0)","v":"Depot Super Terminais - (92) 3616-2650 / E-mails: coordenacao.depot@superterminais.com.br; reparos.container@superterminais.com.br"}]
["BRMAO","45GP","TCLU5976502","Nao","SUPER TERMINAIS",{"$f":"VLOOKUP(E1230,'Padrão mensagem'!$A$3:$B$67,2,0)","v":"Depot Super Terminais - (92) 3616-2650 / E-mails: coordenacao.depot@superterminais.com.br; reparos.container@superterminais.com.br"}]
["BRMAO","45GP","TGHU9543069","Nao","SUPER TERMINAIS",{"$f":"VLOOKUP(E1231,'Padrão mensagem'!$A$3:$B$67,2,0)","v":"Depot Super Terminais - (92) 3616-2650 / E-mails: coordenacao.depot@superterminais.com.br; reparos.container@superterminais.com.br"}]
["BRMAO","45GP","TGBU5914730","Nao","SUPER TERMINAIS",{"$f":"VLOOKUP(E1232,'Padrão mensagem'!$A$3:$B$67,2,0)","v":"Depot Super Terminais - (92) 3616-2650 / E-mails: coordenacao.depot@superterminais.com.br; reparos.container@superterminais.com.br"}]
["BRMAO","45GP","HLBU3373213","Nao","SUPER TERMINAIS",{"$f":"VLOOKUP(E1233,'Padrão mensagem'!$A$3:$B$67,2,0)","v":"Depot Super Terminais - (92) 3616-2650 / E-mails: coordenacao.depot@superterminais.com.br; reparos.container@superterminais.com.br"}]
["BRMAO","45GP","UACU5432621","Nao","SUPER TERMINAIS",{"$f":"VLOOKUP(E1234,'Padrão mensagem'!$A$3:$B$67,2,0)","v":"Depot Super Terminais - (92) 3616-2650 / E-mails: coordenacao.depot@superterminais.com.br; reparos.container@superterminais.com.br"}]
["BRMAO","45GP","HAMU2438388","Nao","SUPER TERMINAIS",{"$f":"VLOOKUP(E1235,'Padrão mensagem'!$A$3:$B$67,2,0)","v":"Depot Super Terminais - (92) 3616-2650 / E-mails: coordenacao.depot@superterminais.com.br; reparos.container@superterminais.com.br"}]
["BRMAO","45GP","HAMU2437798","Nao","SUPER TERMINAIS",{"$f":"VLOOKUP(E1236,'Padrão mensagem'!$A$3:$B$67,2,0)","v":"Depot Super Terminais - (92) 3616-2650 / E-mails: coordenacao.depot@superterminais.com.br; reparos.container@superterminais.com.br"}]
["BRMAO","45GP","GESU6405633","Nao","SUPER TERMINAIS",{"$f":"VLOOKUP(E1237,'Padrão mensagem'!$A$3:$B$67,2,0)","v":"Depot Super Terminais - (92) 3616-2650 / E-mails: coordenacao.depot@superterminais.com.br; reparos.container@superterminais.com.br"}]
["BRMAO","45GP","HAMU2435305","Nao","SUPER TERMINAIS",{"$f":"VLOOKUP(E1238,'Padrão mensagem'!$A$3:$B$67,2,0)","v":"Depot Super Terminais - (92) 3616-2650 / E-mails: coordenacao.depot@superterminais.com.br; reparos.container@superterminais.com.br"}]
["BRMAO","45GP","HAMU2472696","Nao","SUPER TERMINAIS",{"$f":"VLOOKUP(E1239,'Padrão mensagem'!$A$3:$B$67,2,0)","v":"Depot Super Terminais - (92) 3616-2650 / E-mails: coordenacao.depot@superterminais.com.br; reparos.container@superterminais.com.br"}]
["BRMAO","45GP","HAMU2435389","Nao","SUPER TERMINAIS",{"$f":"VLOOKUP(E1240,'Padrão mensagem'!$A$3:$B$67,2,0)","v":"Depot Super Terminais - (92) 3616-2650 / E-mails: coordenacao.depot@superterminais.com.br; reparos.container@superterminais.com.br"}]
["BRMAO","45GP","HLBU2779764","Nao","SUPER TERMINAIS",{"$f":"VLOOKUP(E1241,'Padrão mensagem'!$A$3:$B$67,2,0)","v":"Depot Super Terminais - (92) 3616-2650 / E-mails: coordenacao.depot@superterminais.com.br; reparos.container@superterminais.com.br"}]
["BRMAO","45GP","HAMU2424912","Nao","SUPER TERMINAIS",{"$f":"VLOOKUP(E1242,'Padrão mensagem'!$A$3:$B$67,2,0)","v":"Depot Super Terminais - (92) 3616-2650 / E-mails: coordenacao.depot@superterminais.com.br; reparos.container@superterminais.com.br"}]
["BRMAO","45GP","FANU3637365","Nao","SUPER TERMINAIS",{"$f":"VLOOKUP(E1243,'Padrão mensagem'!$A$3:$B$67,2,0)","v":"Depot Super Terminais - (92) 3616-2650 / E-mails: coordenacao.depot@superterminais.com.br; reparos.container@superterminais.com.br"}]
["BRMAO","45GP","FCIU7097192","Nao","SUPER TERMINAIS",{"$f":"VLOOKUP(E1244,'Padrão mensagem'!$A$3:$B$67,2,0)","v":"Depot Super Terminais - (92) 3616-2650 / E-mails: coordenacao.depot@superterminais.com.br; reparos.container@superterminais.com.br"}]
["BRMAO","45GP","FANU3722169","Nao","SUPER TERMINAIS",{"$f":"VLOOKUP(E1245,'Padrão mensagem'!$A$3:$B$67,2,0)","v":"Depot Super Terminais - (92) 3616-2650 / E-mails: coordenacao.depot@superterminais.com.br; reparos.container@superterminais.com.br"}]
["BRMAO","45GP","TGBU5858277","Nao","SUPER TERMINAIS",{"$f":"VLOOKUP(E1246,'Padrão mensagem'!$A$3:$B$67,2,0)","v":"Depot Super Terminais - (92) 3616-2650 / E-mails: coordenacao.depot@superterminais.com.br; reparos.container@superterminais.com.br"}]
["BRMAO","45GP","TCLU8070759","Nao","SUPER TERMINAIS",{"$f":"VLOOKUP(E1247,'Padrão mensagem'!$A$3:$B$67,2,0)","v":"Depot Super Terminais - (92) 3616-2650 / E-mails: coordenacao.depot@superterminais.com.br; reparos.container@superterminais.com.br"}]
["BRMAO","45GP","BMOU6696536","Nao","SUPER TERMINAIS",{"$f":"VLOOKUP(E1248,'Padrão mensagem'!$A$3:$B$67,2,0)","v":"Depot Super Terminais - (92) 3616-2650 / E-mails: coordenacao.depot@superterminais.com.br; reparos.container@superterminais.com.br"}]
["BRMAO","45GP","TCKU6033419","Nao","SUPER TERMINAIS",{"$f":"VLOOKUP(E1249,'Padrão mensagem'!$A$3:$B$67,2,0)","v":"Depot Super Terminais - (92) 3616-2650 / E-mails: coordenacao.depot@superterminais.com.br; reparos.container@superterminais.com.br"}]
["BRMAO","45GP","FCIU7343790","Nao","SUPER TERMINAIS",{"$f":"VLOOKUP(E1250,'Padrão mensagem'!$A$3:$B$67,2,0)","v":"Depot Super Terminais - (92) 3616-2650 / E-mails: coordenacao.depot@superterminais.com.br; reparos.container@superterminais.com.br"}]
["BRMAO","45GP","FANU3230554","Nao","SUPER TERMINAIS",{"$f":"VLOOKUP(E1251,'Padrão mensagem'!$A$3:$B$67,2,0)","v":"Depot Super Terminais - (92) 3616-2650 / E-mails: coordenacao.depot@superterminais.com.br; reparos.container@superterminais.com.br"}]
["BRMAO","45GP","FDCU0137267","Nao","SUPER TERMINAIS",{"$f":"VLOOKUP(E1252,'Padrão mensagem'!$A$3:$B$67,2,0)","v":"Depot Super Terminais - (92) 3616-2650 / E-mails: coordenacao.depot@superterminais.com.br; reparos.container@superterminais.com.br"}]
["BRMAO","22GP","HLBU3752768","Nao","SUPER TERMINAIS",{"$f":"VLOOKUP(E1253,'Padrão mensagem'!$A$3:$B$67,2,0)","v":"Depot Super Terminais - (92) 3616-2650 / E-mails: coordenacao.depot@superterminais.com.br; reparos.container@superterminais.com.br"}]
["BRMAO","45GP","TRHU4504101","Nao","SUPER TERMINAIS",{"$f":"VLOOKUP(E1254,'Padrão mensagem'!$A$3:$B$67,2,0)","v":"Depot Super Terminais - (92) 3616-2650 / E-mails: coordenacao.depot@superterminais.com.br; reparos.container@superterminais.com.br"}]
["BRMAO","45GP","HLBU1692757","Nao","SUPER TERMINAIS",{"$f":"VLOOKUP(E1255,'Padrão mensagem'!$A$3:$B$67,2,0)","v":"Depot Super Terminais - (92) 3616-2650 / E-mails: coordenacao.depot@superterminais.com.br; reparos.container@superterminais.com.br"}]
["BRMAO","22GP","TGCU2406889","Nao","SUPER TERMINAIS",{"$f":"VLOOKUP(E1256,'Padrão mensagem'!$A$3:$B$67,2,0)","v":"Depot Super Terminais - (92) 3616-2650 / E-mails: coordenacao.depot@superterminais.com.br; reparos.container@superterminais.com.br"}]
["BRMAO","22GP","CAAU2364274","Nao","SUPER TERMINAIS",{"$f":"VLOOKUP(E1257,'Padrão mensagem'!$A$3:$B$67,2,0)","v":"Depot Super Terminais - (92) 3616-2650 / E-mails: coordenacao.depot@superterminais.com.br; reparos.container@superterminais.com.br"}]
["BRMAO","22GP","CAAU2338640","Nao","SUPER TERMINAIS",{"$f":"VLOOKUP(E1258,'Padrão mensagem'!$A$3:$B$67,2,0)","v":"Depot Super Terminais - (92) 3616-2650 / E-mails: coordenacao.depot@superterminais.com.br; reparos.container@superterminais.com.br"}]
["BRMAO","22GP","CAAU2363410","Nao","SUPER TERMINAIS",{"$f":"VLOOKUP(E1259,'Padrão mensagem'!$A$3:$B$67,2,0)","v":"Depot Super Terminais - (92) 3616-2650 / E-mails: coordenacao.depot@superterminais.com.br; reparos.container@superterminais.com.br"}]
["BRMAO","22GP","FBIU0461680","Nao","SUPER TERMINAIS",{"$f":"VLOOKUP(E1260,'Padrão mensagem'!$A$3:$B$67,2,0)","v":"Depot Super Terminais - (92) 3616-2650 / E-mails: coordenacao.depot@superterminais.com.br; reparos.container@superterminais.com.br"}]
["BRMAO","22GP","FBIU0463868","Nao","SUPER TERMINAIS",{"$f":"VLOOKUP(E1261,'Padrão mensagem'!$A$3:$B$67,2,0)","v":"Depot Super Terminais - (92) 3616-2650 / E-mails: coordenacao.depot@superterminais.com.br; reparos.container@superterminais.com.br"}]
["BRMAO","22GP","HLBU2953217","Nao","SUPER TERMINAIS",{"$f":"VLOOKUP(E1262,'Padrão mensagem'!$A$3:$B$67,2,0)","v":"Depot Super Terminais - (92) 3616-2650 / E-mails: coordenacao.depot@superterminais.com.br; reparos.container@superterminais.com.br"}]
["BRMAO","22GP","HLBU3474348","Nao","SUPER TERMINAIS",{"$f":"VLOOKUP(E1263,'Padrão mensagem'!$A$3:$B$67,2,0)","v":"Depot Super Terminais - (92) 3616-2650 / E-mails: coordenacao.depot@superterminais.com.br; reparos.container@superterminais.com.br"}]
["BRMAO","22GP","TEMU1597072","Nao","SUPER TERMINAIS",{"$f":"VLOOKUP(E1264,'Padrão mensagem'!$A$3:$B$67,2,0)","v":"Depot Super Terminais - (92) 3616-2650 / E-mails: coordenacao.depot@superterminais.com.br; reparos.container@superterminais.com.br"}]
["BRMAO","45GP","UETU5181367","Nao","SUPER TERMINAIS",{"$f":"VLOOKUP(E1265,'Padrão mensagem'!$A$3:$B$67,2,0)","v":"Depot Super Terminais - (92) 3616-2650 / E-mails: coordenacao.depot@superterminais.com.br; reparos.container@superterminais.com.br"}]
["BRMAO","22GP","CAIU3334805","Nao","SUPER TERMINAIS",{"$f":"VLOOKUP(E1266,'Padrão mensagem'!$A$3:$B$67,2,0)","v":"Depot Super Terminais - (92) 3616-2650 / E-mails: coordenacao.depot@superterminais.com.br; reparos.container@superterminais.com.br"}]
["BRMAO","45GP","TCLU8218770","Nao","SUPER TERMINAIS",{"$f":"VLOOKUP(E1267,'Padrão mensagem'!$A$3:$B$67,2,0)","v":"Depot Super Terminais - (92) 3616-2650 / E-mails: coordenacao.depot@superterminais.com.br; reparos.container@superterminais.com.br"}]
["BRMAO","45GP","UACU5954689","Nao","SUPER TERMINAIS",{"$f":"VLOOKUP(E1268,'Padrão mensagem'!$A$3:$B$67,2,0)","v":"Depot Super Terminais - (92) 3616-2650 / E-mails: coordenacao.depot@superterminais.com.br; reparos.container@superterminais.com.br"}]
["BRMAO","45GP","HLBU1552225","Nao","SUPER TERMINAIS",{"$f":"VLOOKUP(E1269,'Padrão mensagem'!$A$3:$B$67,2,0)","v":"Depot Super Terminais - (92) 3616-2650 / E-mails: coordenacao.depot@superterminais.com.br; reparos.container@superterminais.com.br"}]
["BRMAO","22GP","GCXU2491035","Nao","SUPER TERMINAIS",{"$f":"VLOOKUP(E1270,'Padrão mensagem'!$A$3:$B$67,2,0)","v":"Depot Super Terminais - (92) 3616-2650 / E-mails: coordenacao.depot@superterminais.com.br; reparos.container@superterminais.com.br"}]
["BRMAO","22GP","STJU2061365","Nao","SUPER TERMINAIS",{"$f":"VLOOKUP(E1271,'Padrão mensagem'!$A$3:$B$67,2,0)","v":"Depot Super Terminais - (92) 3616-2650 / E-mails: coordenacao.depot@superterminais.com.br; reparos.container@superterminais.com.br"}]
["BRMAO","22GP","LYGU8062362","Nao","SUPER TERMINAIS",{"$f":"VLOOKUP(E1272,'Padrão mensagem'!$A$3:$B$67,2,0)","v":"Depot Super Terminais - (92) 3616-2650 / E-mails: coordenacao.depot@superterminais.com.br; reparos.container@superterminais.com.br"}]
["BRMAO","45GP","FCIU7346464","Nao","SUPER TERMINAIS",{"$f":"VLOOKUP(E1273,'Padrão mensagem'!$A$3:$B$67,2,0)","v":"Depot Super Terminais - (92) 3616-2650 / E-mails: coordenacao.depot@superterminais.com.br; reparos.container@superterminais.com.br"}]
["BRMAO","45GP","TCLU8275337","Nao","SUPER TERMINAIS",{"$f":"VLOOKUP(E1274,'Padrão mensagem'!$A$3:$B$67,2,0)","v":"Depot Super Terminais - (92) 3616-2650 / E-mails: coordenacao.depot@superterminais.com.br; reparos.container@superterminais.com.br"}]
["BRMAO","45GP","FANU3123751","Nao","SUPER TERMINAIS",{"$f":"VLOOKUP(E1275,'Padrão mensagem'!$A$3:$B$67,2,0)","v":"Depot Super Terminais - (92) 3616-2650 / E-mails: coordenacao.depot@superterminais.com.br; reparos.container@superterminais.com.br"}]
["BRMAO","45RT","HLBU9711806","Nao","SUPER TERMINAIS",{"$f":"VLOOKUP(E1276,'Padrão mensagem'!$A$3:$B$67,2,0)","v":"Depot Super Terminais - (92) 3616-2650 / E-mails: coordenacao.depot@superterminais.com.br; reparos.container@superterminais.com.br"}]
["BRMAO","22GP","GESU1216339","Nao","SUPER TERMINAIS",{"$f":"VLOOKUP(E1277,'Padrão mensagem'!$A$3:$B$67,2,0)","v":"Depot Super Terminais - (92) 3616-2650 / E-mails: coordenacao.depot@superterminais.com.br; reparos.container@superterminais.com.br"}]
["BRMAO","22GP","GCXU2330724","Nao","SUPER TERMINAIS",{"$f":"VLOOKUP(E1278,'Padrão mensagem'!$A$3:$B$67,2,0)","v":"Depot Super Terminais - (92) 3616-2650 / E-mails: coordenacao.depot@superterminais.com.br; reparos.container@superterminais.com.br"}]
["BRMAO","42GP","UACU8343132","Nao","SUPER TERMINAIS",{"$f":"VLOOKUP(E1279,'Padrão mensagem'!$A$3:$B$67,2,0)","v":"Depot Super Terminais - (92) 3616-2650 / E-mails: coordenacao.depot@superterminais.com.br; reparos.container@superterminais.com.br"}]
["BRMAO","45GP","TRHU4491318","Nao","SUPER TERMINAIS",{"$f":"VLOOKUP(E1280,'Padrão mensagem'!$A$3:$B$67,2,0)","v":"Depot Super Terminais - (92) 3616-2650 / E-mails: coordenacao.depot@superterminais.com.br; reparos.container@superterminais.com.br"}]
["BRMAO","45GP","TXGU7112762","Nao","SUPER TERMINAIS",{"$f":"VLOOKUP(E1281,'Padrão mensagem'!$A$3:$B$67,2,0)","v":"Depot Super Terminais - (92) 3616-2650 / E-mails: coordenacao.depot@superterminais.com.br; reparos.container@superterminais.com.br"}]
["BRMAO","45GP","CAIU9287845","Nao","SUPER TERMINAIS",{"$f":"VLOOKUP(E1282,'Padrão mensagem'!$A$3:$B$67,2,0)","v":"Depot Super Terminais - (92) 3616-2650 / E-mails: coordenacao.depot@superterminais.com.br; reparos.container@superterminais.com.br"}]
["BRMAO","45GP","TCNU1054347","Nao","SUPER TERMINAIS",{"$f":"VLOOKUP(E1283,'Padrão mensagem'!$A$3:$B$67,2,0)","v":"Depot Super Terminais - (92) 3616-2650 / E-mails: coordenacao.depot@superterminais.com.br; reparos.container@superterminais.com.br"}]
["BRMAO","45GP","HLBU2417810","Nao","SUPER TERMINAIS",{"$f":"VLOOKUP(E1284,'Padrão mensagem'!$A$3:$B$67,2,0)","v":"Depot Super Terminais - (92) 3616-2650 / E-mails: coordenacao.depot@superterminais.com.br; reparos.container@superterminais.com.br"}]
["BRMAO","45GP","FANU3719421","Nao","SUPER TERMINAIS",{"$f":"VLOOKUP(E1285,'Padrão mensagem'!$A$3:$B$67,2,0)","v":"Depot Super Terminais - (92) 3616-2650 / E-mails: coordenacao.depot@superterminais.com.br; reparos.container@superterminais.com.br"}]
["BRMAO","45GP","FANU3366392","Nao","SUPER TERMINAIS",{"$f":"VLOOKUP(E1286,'Padrão mensagem'!$A$3:$B$67,2,0)","v":"Depot Super Terminais - (92) 3616-2650 / E-mails: coordenacao.depot@superterminais.com.br; reparos.container@superterminais.com.br"}]
["BRMAO","45GP","HAMU1528677","Nao","SUPER TERMINAIS",{"$f":"VLOOKUP(E1287,'Padrão mensagem'!$A$3:$B$67,2,0)","v":"Depot Super Terminais - (92) 3616-2650 / E-mails: coordenacao.depot@superterminais.com.br; reparos.container@superterminais.com.br"}]
["BRMAO","45GP","HAMU2438182","Nao","SUPER TERMINAIS",{"$f":"VLOOKUP(E1288,'Padrão mensagem'!$A$3:$B$67,2,0)","v":"Depot Super Terminais - (92) 3616-2650 / E-mails: coordenacao.depot@superterminais.com.br; reparos.container@superterminais.com.br"}]
["BRMAO","45GP","FDCU0142915","Nao","SUPER TERMINAIS",{"$f":"VLOOKUP(E1289,'Padrão mensagem'!$A$3:$B$67,2,0)","v":"Depot Super Terminais - (92) 3616-2650 / E-mails: coordenacao.depot@superterminais.com.br; reparos.container@superterminais.com.br"}]
["BRMAO","45GP","HAMU2438095","Nao","SUPER TERMINAIS",{"$f":"VLOOKUP(E1290,'Padrão mensagem'!$A$3:$B$67,2,0)","v":"Depot Super Terminais - (92) 3616-2650 / E-mails: coordenacao.depot@superterminais.com.br; reparos.container@superterminais.com.br"}]
["BRMAO","45GP","TGBU9888346","Nao","SUPER TERMINAIS",{"$f":"VLOOKUP(E1291,'Padrão mensagem'!$A$3:$B$67,2,0)","v":"Depot Super Terminais - (92) 3616-2650 / E-mails: coordenacao.depot@superterminais.com.br; reparos.container@superterminais.com.br"}]
["BRMAO","45GP","HAMU2471302","Nao","SUPER TERMINAIS",{"$f":"VLOOKUP(E1292,'Padrão mensagem'!$A$3:$B$67,2,0)","v":"Depot Super Terminais - (92) 3616-2650 / E-mails: coordenacao.depot@superterminais.com.br; reparos.container@superterminais.com.br"}]
["BRMAO","45GP","HAMU2474488","Nao","SUPER TERMINAIS",{"$f":"VLOOKUP(E1293,'Padrão mensagem'!$A$3:$B$67,2,0)","v":"Depot Super Terminais - (92) 3616-2650 / E-mails: coordenacao.depot@superterminais.com.br; reparos.container@superterminais.com.br"}]
["BRMAO","45GP","HAMU2434356","Nao","SUPER TERMINAIS",{"$f":"VLOOKUP(E1294,'Padrão mensagem'!$A$3:$B$67,2,0)","v":"Depot Super Terminais - (92) 3616-2650 / E-mails: coordenacao.depot@superterminais.com.br; reparos.container@superterminais.com.br"}]
["BRMAO","45GP","HAMU2435244","Nao","SUPER TERMINAIS",{"$f":"VLOOKUP(E1295,'Padrão mensagem'!$A$3:$B$67,2,0)","v":"Depot Super Terminais - (92) 3616-2650 / E-mails: coordenacao.depot@superterminais.com.br; reparos.container@superterminais.com.br"}]
["BRMAO","45GP","HAMU2438032","Nao","SUPER TERMINAIS",{"$f":"VLOOKUP(E1296,'Padrão mensagem'!$A$3:$B$67,2,0)","v":"Depot Super Terminais - (92) 3616-2650 / E-mails: coordenacao.depot@superterminais.com.br; reparos.container@superterminais.com.br"}]
["BRMAO","45GP","HAMU2474507","Nao","SUPER TERMINAIS",{"$f":"VLOOKUP(E1297,'Padrão mensagem'!$A$3:$B$67,2,0)","v":"Depot Super Terminais - (92) 3616-2650 / E-mails: coordenacao.depot@superterminais.com.br; reparos.container@superterminais.com.br"}]
["BRMAO","45GP","HAMU2431655","Nao","SUPER TERMINAIS",{"$f":"VLOOKUP(E1298,'Padrão mensagem'!$A$3:$B$67,2,0)","v":"Depot Super Terminais - (92) 3616-2650 / E-mails: coordenacao.depot@superterminais.com.br; reparos.container@superterminais.com.br"}]
["BRMAO","22GP","FANU1336151","Nao","SUPER TERMINAIS",{"$f":"VLOOKUP(E1299,'Padrão mensagem'!$A$3:$B$67,2,0)","v":"Depot Super Terminais - (92) 3616-2650 / E-mails: coordenacao.depot@superterminais.com.br; reparos.container@superterminais.com.br"}]
["BRMAO","45GP","FANU3303521","Nao","SUPER TERMINAIS",{"$f":"VLOOKUP(E1300,'Padrão mensagem'!$A$3:$B$67,2,0)","v":"Depot Super Terminais - (92) 3616-2650 / E-mails: coordenacao.depot@superterminais.com.br; reparos.container@superterminais.com.br"}]
["BRMAO","45GP","HLBU3391726","Nao","SUPER TERMINAIS",{"$f":"VLOOKUP(E1301,'Padrão mensagem'!$A$3:$B$67,2,0)","v":"Depot Super Terminais - (92) 3616-2650 / E-mails: coordenacao.depot@superterminais.com.br; reparos.container@superterminais.com.br"}]
["BRMAO","45GP","HLBU3324749","Nao","SUPER TERMINAIS",{"$f":"VLOOKUP(E1302,'Padrão mensagem'!$A$3:$B$67,2,0)","v":"Depot Super Terminais - (92) 3616-2650 / E-mails: coordenacao.depot@superterminais.com.br; reparos.container@superterminais.com.br"}]
["BRMAO","45GP","HLBU2659080","Nao","SUPER TERMINAIS",{"$f":"VLOOKUP(E1303,'Padrão mensagem'!$A$3:$B$67,2,0)","v":"Depot Super Terminais - (92) 3616-2650 / E-mails: coordenacao.depot@superterminais.com.br; reparos.container@superterminais.com.br"}]
["BRMAO","45GP","TEMU6718351","Nao","SUPER TERMINAIS",{"$f":"VLOOKUP(E1304,'Padrão mensagem'!$A$3:$B$67,2,0)","v":"Depot Super Terminais - (92) 3616-2650 / E-mails: coordenacao.depot@superterminais.com.br; reparos.container@superterminais.com.br"}]
["BRMAO","45GP","CAIU9766262","Nao","SUPER TERMINAIS",{"$f":"VLOOKUP(E1305,'Padrão mensagem'!$A$3:$B$67,2,0)","v":"Depot Super Terminais - (92) 3616-2650 / E-mails: coordenacao.depot@superterminais.com.br; reparos.container@superterminais.com.br"}]
["BRMAO","45GP","HLBU3332507","Nao","SUPER TERMINAIS",{"$f":"VLOOKUP(E1306,'Padrão mensagem'!$A$3:$B$67,2,0)","v":"Depot Super Terminais - (92) 3616-2650 / E-mails: coordenacao.depot@superterminais.com.br; reparos.container@superterminais.com.br"}]
["BRMAO","45GP","HLBU1841151","Nao","SUPER TERMINAIS",{"$f":"VLOOKUP(E1307,'Padrão mensagem'!$A$3:$B$67,2,0)","v":"Depot Super Terminais - (92) 3616-2650 / E-mails: coordenacao.depot@superterminais.com.br; reparos.container@superterminais.com.br"}]
["BRMAO","45GP","FANU1705650","Nao","SUPER TERMINAIS",{"$f":"VLOOKUP(E1308,'Padrão mensagem'!$A$3:$B$67,2,0)","v":"Depot Super Terminais - (92) 3616-2650 / E-mails: coordenacao.depot@superterminais.com.br; reparos.container@superterminais.com.br"}]
["BRMAO","45GP","HAMU1744439","Nao","SUPER TERMINAIS",{"$f":"VLOOKUP(E1309,'Padrão mensagem'!$A$3:$B$67,2,0)","v":"Depot Super Terminais - (92) 3616-2650 / E-mails: coordenacao.depot@superterminais.com.br; reparos.container@superterminais.com.br"}]
["BRMAO","45GP","FANU3573105","Nao","SUPER TERMINAIS",{"$f":"VLOOKUP(E1310,'Padrão mensagem'!$A$3:$B$67,2,0)","v":"Depot Super Terminais - (92) 3616-2650 / E-mails: coordenacao.depot@superterminais.com.br; reparos.container@superterminais.com.br"}]
["BRMAO","45GP","JMCU4960059","Nao","SUPER TERMINAIS",{"$f":"VLOOKUP(E1311,'Padrão mensagem'!$A$3:$B$67,2,0)","v":"Depot Super Terminais - (92) 3616-2650 / E-mails: coordenacao.depot@superterminais.com.br; reparos.container@superterminais.com.br"}]
["BRMAO","45GP","TGBU9632879","Nao","SUPER TERMINAIS",{"$f":"VLOOKUP(E1312,'Padrão mensagem'!$A$3:$B$67,2,0)","v":"Depot Super Terminais - (92) 3616-2650 / E-mails: coordenacao.depot@superterminais.com.br; reparos.container@superterminais.com.br"}]
["BRMAO","45GP","TGBU5121443","Nao","SUPER TERMINAIS",{"$f":"VLOOKUP(E1313,'Padrão mensagem'!$A$3:$B$67,2,0)","v":"Depot Super Terminais - (92) 3616-2650 / E-mails: coordenacao.depot@superterminais.com.br; reparos.container@superterminais.com.br"}]
["BRMAO","22GP","HAMU1120474","Nao","SUPER TERMINAIS",{"$f":"VLOOKUP(E1314,'Padrão mensagem'!$A$3:$B$67,2,0)","v":"Depot Super Terminais - (92) 3616-2650 / E-mails: coordenacao.depot@superterminais.com.br; reparos.container@superterminais.com.br"}]
["BRMAO","45RT","TCLU1360740","Nao","SUPER TERMINAIS",{"$f":"VLOOKUP(E1315,'Padrão mensagem'!$A$3:$B$67,2,0)","v":"Depot Super Terminais - (92) 3616-2650 / E-mails: coordenacao.depot@superterminais.com.br; reparos.container@superterminais.com.br"}]
["BRMAO","45GP","HLXU8262400","Nao","SUPER TERMINAIS",{"$f":"VLOOKUP(E1316,'Padrão mensagem'!$A$3:$B$67,2,0)","v":"Depot Super Terminais - (92) 3616-2650 / E-mails: coordenacao.depot@superterminais.com.br; reparos.container@superterminais.com.br"}]
["BRMAO","45GP","FANU3325897","Nao","SUPER TERMINAIS",{"$f":"VLOOKUP(E1317,'Padrão mensagem'!$A$3:$B$67,2,0)","v":"Depot Super Terminais - (92) 3616-2650 / E-mails: coordenacao.depot@superterminais.com.br; reparos.container@superterminais.com.br"}]
["BRMAO","45GP","HAMU1336416","Nao","SUPER TERMINAIS",{"$f":"VLOOKUP(E1318,'Padrão mensagem'!$A$3:$B$67,2,0)","v":"Depot Super Terminais - (92) 3616-2650 / E-mails: coordenacao.depot@superterminais.com.br; reparos.container@superterminais.com.br"}]
["BRMAO","45GP","HLBU2200888","Nao","SUPER TERMINAIS",{"$f":"VLOOKUP(E1319,'Padrão mensagem'!$A$3:$B$67,2,0)","v":"Depot Super Terminais - (92) 3616-2650 / E-mails: coordenacao.depot@superterminais.com.br; reparos.container@superterminais.com.br"}]
["BRMAO","45GP","FANU1860451","Nao","SUPER TERMINAIS",{"$f":"VLOOKUP(E1320,'Padrão mensagem'!$A$3:$B$67,2,0)","v":"Depot Super Terminais - (92) 3616-2650 / E-mails: coordenacao.depot@superterminais.com.br; reparos.container@superterminais.com.br"}]
["BRMAO","45GP","CXDU2250170","Nao","SUPER TERMINAIS",{"$f":"VLOOKUP(E1321,'Padrão mensagem'!$A$3:$B$67,2,0)","v":"Depot Super Terminais - (92) 3616-2650 / E-mails: coordenacao.depot@superterminais.com.br; reparos.container@superterminais.com.br"}]
["BRMAO","45GP","HAMU1368959","Nao","SUPER TERMINAIS",{"$f":"VLOOKUP(E1322,'Padrão mensagem'!$A$3:$B$67,2,0)","v":"Depot Super Terminais - (92) 3616-2650 / E-mails: coordenacao.depot@superterminais.com.br; reparos.container@superterminais.com.br"}]
["BRMAO","45GP","WBPU7045104","Nao","SUPER TERMINAIS",{"$f":"VLOOKUP(E1323,'Padrão mensagem'!$A$3:$B$67,2,0)","v":"Depot Super Terminais - (92) 3616-2650 / E-mails: coordenacao.depot@superterminais.com.br; reparos.container@superterminais.com.br"}]
["BRMAO","45GP","HLBU1608962","Nao","SUPER TERMINAIS",{"$f":"VLOOKUP(E1324,'Padrão mensagem'!$A$3:$B$67,2,0)","v":"Depot Super Terminais - (92) 3616-2650 / E-mails: coordenacao.depot@superterminais.com.br; reparos.container@superterminais.com.br"}]
["BRMAO","45GP","HLBU1417652","Nao","SUPER TERMINAIS",{"$f":"VLOOKUP(E1325,'Padrão mensagem'!$A$3:$B$67,2,0)","v":"Depot Super Terminais - (92) 3616-2650 / E-mails: coordenacao.depot@superterminais.com.br; reparos.container@superterminais.com.br"}]
["BRMAO","45GP","HAMU1862030","Nao","SUPER TERMINAIS",{"$f":"VLOOKUP(E1326,'Padrão mensagem'!$A$3:$B$67,2,0)","v":"Depot Super Terminais - (92) 3616-2650 / E-mails: coordenacao.depot@superterminais.com.br; reparos.container@superterminais.com.br"}]
["BRMAO","45GP","FANU3704925","Nao","SUPER TERMINAIS",{"$f":"VLOOKUP(E1327,'Padrão mensagem'!$A$3:$B$67,2,0)","v":"Depot Super Terminais - (92) 3616-2650 / E-mails: coordenacao.depot@superterminais.com.br; reparos.container@superterminais.com.br"}]
["BRMAO","45GP","HLBU2225910","Nao","SUPER TERMINAIS",{"$f":"VLOOKUP(E1328,'Padrão mensagem'!$A$3:$B$67,2,0)","v":"Depot Super Terminais - (92) 3616-2650 / E-mails: coordenacao.depot@superterminais.com.br; reparos.container@superterminais.com.br"}]
["BRMAO","45GP","UACU5544690","Nao","SUPER TERMINAIS",{"$f":"VLOOKUP(E1329,'Padrão mensagem'!$A$3:$B$67,2,0)","v":"Depot Super Terminais - (92) 3616-2650 / E-mails: coordenacao.depot@superterminais.com.br; reparos.container@superterminais.com.br"}]
["BRMAO","45GP","SLSU8057868","Nao","SUPER TERMINAIS",{"$f":"VLOOKUP(E1330,'Padrão mensagem'!$A$3:$B$67,2,0)","v":"Depot Super Terminais - (92) 3616-2650 / E-mails: coordenacao.depot@superterminais.com.br; reparos.container@superterminais.com.br"}]
["BRMAO","45GP","FANU3858242","Nao","SUPER TERMINAIS",{"$f":"VLOOKUP(E1331,'Padrão mensagem'!$A$3:$B$67,2,0)","v":"Depot Super Terminais - (92) 3616-2650 / E-mails: coordenacao.depot@superterminais.com.br; reparos.container@superterminais.com.br"}]
["BRMAO","45GP","HLBU3202416","Nao","SUPER TERMINAIS",{"$f":"VLOOKUP(E1332,'Padrão mensagem'!$A$3:$B$67,2,0)","v":"Depot Super Terminais - (92) 3616-2650 / E-mails: coordenacao.depot@superterminais.com.br; reparos.container@superterminais.com.br"}]
["BRMAO","45GP","FANU1415380","Nao","SUPER TERMINAIS",{"$f":"VLOOKUP(E1333,'Padrão mensagem'!$A$3:$B$67,2,0)","v":"Depot Super Terminais - (92) 3616-2650 / E-mails: coordenacao.depot@superterminais.com.br; reparos.container@superterminais.com.br"}]
["BRMAO","45GP","FANU3413766","Nao","SUPER TERMINAIS",{"$f":"VLOOKUP(E1334,'Padrão mensagem'!$A$3:$B$67,2,0)","v":"Depot Super Terminais - (92) 3616-2650 / E-mails: coordenacao.depot@superterminais.com.br; reparos.container@superterminais.com.br"}]
["BRMAO","45GP","FANU1184470","Nao","SUPER TERMINAIS",{"$f":"VLOOKUP(E1335,'Padrão mensagem'!$A$3:$B$67,2,0)","v":"Depot Super Terminais - (92) 3616-2650 / E-mails: coordenacao.depot@superterminais.com.br; reparos.container@superterminais.com.br"}]
["BRMAO","45GP","CAIU8473547","Nao","SUPER TERMINAIS",{"$f":"VLOOKUP(E1336,'Padrão mensagem'!$A$3:$B$67,2,0)","v":"Depot Super Terminais - (92) 3616-2650 / E-mails: coordenacao.depot@superterminais.com.br; reparos.container@superterminais.com.br"}]
["BRMAO","45GP","BEAU4922460","Nao","SUPER TERMINAIS",{"$f":"VLOOKUP(E1337,'Padrão mensagem'!$A$3:$B$67,2,0)","v":"Depot Super Terminais - (92) 3616-2650 / E-mails: coordenacao.depot@superterminais.com.br; reparos.container@superterminais.com.br"}]
["BRMAO","45GP","UACU5378536","Nao","SUPER TERMINAIS",{"$f":"VLOOKUP(E1338,'Padrão mensagem'!$A$3:$B$67,2,0)","v":"Depot Super Terminais - (92) 3616-2650 / E-mails: coordenacao.depot@superterminais.com.br; reparos.container@superterminais.com.br"}]
["BRMAO","45GP","BMOU4538444","Nao","SUPER TERMINAIS",{"$f":"VLOOKUP(E1339,'Padrão mensagem'!$A$3:$B$67,2,0)","v":"Depot Super Terminais - (92) 3616-2650 / E-mails: coordenacao.depot@superterminais.com.br; reparos.container@superterminais.com.br"}]
["BRMAO","45GP","HLBU2708462","Nao","SUPER TERMINAIS",{"$f":"VLOOKUP(E1340,'Padrão mensagem'!$A$3:$B$67,2,0)","v":"Depot Super Terminais - (92) 3616-2650 / E-mails: coordenacao.depot@superterminais.com.br; reparos.container@superterminais.com.br"}]
["BRMAO","22GP","HLBU3716930","Nao","SUPER TERMINAIS",{"$f":"VLOOKUP(E1341,'Padrão mensagem'!$A$3:$B$67,2,0)","v":"Depot Super Terminais - (92) 3616-2650 / E-mails: coordenacao.depot@superterminais.com.br; reparos.container@superterminais.com.br"}]
["BRMAO","45GP","UETU5169680","Nao","SUPER TERMINAIS",{"$f":"VLOOKUP(E1342,'Padrão mensagem'!$A$3:$B$67,2,0)","v":"Depot Super Terminais - (92) 3616-2650 / E-mails: coordenacao.depot@superterminais.com.br; reparos.container@superterminais.com.br"}]
["BRMAO","45GP","FANU1117493","Nao","SUPER TERMINAIS",{"$f":"VLOOKUP(E1343,'Padrão mensagem'!$A$3:$B$67,2,0)","v":"Depot Super Terminais - (92) 3616-2650 / E-mails: coordenacao.depot@superterminais.com.br; reparos.container@superterminais.com.br"}]
["BRMAO","45GP","UACU5313535","Nao","SUPER TERMINAIS",{"$f":"VLOOKUP(E1344,'Padrão mensagem'!$A$3:$B$67,2,0)","v":"Depot Super Terminais - (92) 3616-2650 / E-mails: coordenacao.depot@superterminais.com.br; reparos.container@superterminais.com.br"}]
["BRMAO","45GP","FANU1461050","Nao","SUPER TERMINAIS",{"$f":"VLOOKUP(E1345,'Padrão mensagem'!$A$3:$B$67,2,0)","v":"Depot Super Terminais - (92) 3616-2650 / E-mails: coordenacao.depot@superterminais.com.br; reparos.container@superterminais.com.br"}]
["BRMAO","45GP","FANU1250551","Nao","SUPER TERMINAIS",{"$f":"VLOOKUP(E1346,'Padrão mensagem'!$A$3:$B$67,2,0)","v":"Depot Super Terminais - (92) 3616-2650 / E-mails: coordenacao.depot@superterminais.com.br; reparos.container@superterminais.com.br"}]
["BRMAO","45GP","TEMU7301402","Nao","SUPER TERMINAIS",{"$f":"VLOOKUP(E1347,'Padrão mensagem'!$A$3:$B$67,2,0)","v":"Depot Super Terminais - (92) 3616-2650 / E-mails: coordenacao.depot@superterminais.com.br; reparos.container@superterminais.com.br"}]
["BRMAO","45GP","HLXU8476079","Nao","SUPER TERMINAIS",{"$f":"VLOOKUP(E1348,'Padrão mensagem'!$A$3:$B$67,2,0)","v":"Depot Super Terminais - (92) 3616-2650 / E-mails: coordenacao.depot@superterminais.com.br; reparos.container@superterminais.com.br"}]
["BRMAO","45GP","TGBU6124051","Nao","SUPER TERMINAIS",{"$f":"VLOOKUP(E1349,'Padrão mensagem'!$A$3:$B$67,2,0)","v":"Depot Super Terminais - (92) 3616-2650 / E-mails: coordenacao.depot@superterminais.com.br; reparos.container@superterminais.com.br"}]
["BRMAO","22GP","HLBU3758072","Nao","SUPER TERMINAIS",{"$f":"VLOOKUP(E1350,'Padrão mensagem'!$A$3:$B$67,2,0)","v":"Depot Super Terminais - (92) 3616-2650 / E-mails: coordenacao.depot@superterminais.com.br; reparos.container@superterminais.com.br"}]
["BRMAO","45GP","HLBU1978925","Nao","SUPER TERMINAIS",{"$f":"VLOOKUP(E1351,'Padrão mensagem'!$A$3:$B$67,2,0)","v":"Depot Super Terminais - (92) 3616-2650 / E-mails: coordenacao.depot@superterminais.com.br; reparos.container@superterminais.com.br"}]
["BRMAO","45GP","NIDU5201143","Nao","SUPER TERMINAIS",{"$f":"VLOOKUP(E1352,'Padrão mensagem'!$A$3:$B$67,2,0)","v":"Depot Super Terminais - (92) 3616-2650 / E-mails: coordenacao.depot@superterminais.com.br; reparos.container@superterminais.com.br"}]
["BRMAO","45GP","TGBU6234444","Nao","SUPER TERMINAIS",{"$f":"VLOOKUP(E1353,'Padrão mensagem'!$A$3:$B$67,2,0)","v":"Depot Super Terminais - (92) 3616-2650 / E-mails: coordenacao.depot@superterminais.com.br; reparos.container@superterminais.com.br"}]
["BRMAO","45GP","HAMU1564674","Nao","SUPER TERMINAIS",{"$f":"VLOOKUP(E1354,'Padrão mensagem'!$A$3:$B$67,2,0)","v":"Depot Super Terminais - (92) 3616-2650 / E-mails: coordenacao.depot@superterminais.com.br; reparos.container@superterminais.com.br"}]
["BRMAO","45GP","UACU5952480","Nao","SUPER TERMINAIS",{"$f":"VLOOKUP(E1355,'Padrão mensagem'!$A$3:$B$67,2,0)","v":"Depot Super Terminais - (92) 3616-2650 / E-mails: coordenacao.depot@superterminais.com.br; reparos.container@superterminais.com.br"}]
["BRMAO","45GP","HLBU1200097","Nao","SUPER TERMINAIS",{"$f":"VLOOKUP(E1356,'Padrão mensagem'!$A$3:$B$67,2,0)","v":"Depot Super Terminais - (92) 3616-2650 / E-mails: coordenacao.depot@superterminais.com.br; reparos.container@superterminais.com.br"}]
["BRMAO","45GP","CAAU5551427","Nao","SUPER TERMINAIS",{"$f":"VLOOKUP(E1357,'Padrão mensagem'!$A$3:$B$67,2,0)","v":"Depot Super Terminais - (92) 3616-2650 / E-mails: coordenacao.depot@superterminais.com.br; reparos.container@superterminais.com.br"}]
["BRMAO","45GP","FANU1687290","Nao","SUPER TERMINAIS",{"$f":"VLOOKUP(E1358,'Padrão mensagem'!$A$3:$B$67,2,0)","v":"Depot Super Terminais - (92) 3616-2650 / E-mails: coordenacao.depot@superterminais.com.br; reparos.container@superterminais.com.br"}]
["BRMAO","45GP","HLXU8574049","Nao","SUPER TERMINAIS",{"$f":"VLOOKUP(E1359,'Padrão mensagem'!$A$3:$B$67,2,0)","v":"Depot Super Terminais - (92) 3616-2650 / E-mails: coordenacao.depot@superterminais.com.br; reparos.container@superterminais.com.br"}]
["BRMAO","45GP","FANU1211730","Nao","SUPER TERMINAIS",{"$f":"VLOOKUP(E1360,'Padrão mensagem'!$A$3:$B$67,2,0)","v":"Depot Super Terminais - (92) 3616-2650 / E-mails: coordenacao.depot@superterminais.com.br; reparos.container@superterminais.com.br"}]
["BRMAO","45GP","FANU3231252","Nao","SUPER TERMINAIS",{"$f":"VLOOKUP(E1361,'Padrão mensagem'!$A$3:$B$67,2,0)","v":"Depot Super Terminais - (92) 3616-2650 / E-mails: coordenacao.depot@superterminais.com.br; reparos.container@superterminais.com.br"}]
["BRMAO","45GP","HAMU1173242","Nao","SUPER TERMINAIS",{"$f":"VLOOKUP(E1362,'Padrão mensagem'!$A$3:$B$67,2,0)","v":"Depot Super Terminais - (92) 3616-2650 / E-mails: coordenacao.depot@superterminais.com.br; reparos.container@superterminais.com.br"}]
["BRMAO","45GP","FSCU7179411","Nao","SUPER TERMINAIS",{"$f":"VLOOKUP(E1363,'Padrão mensagem'!$A$3:$B$67,2,0)","v":"Depot Super Terminais - (92) 3616-2650 / E-mails: coordenacao.depot@superterminais.com.br; reparos.container@superterminais.com.br"}]
["BRMAO","45GP","FANU3592569","Nao","SUPER TERMINAIS",{"$f":"VLOOKUP(E1364,'Padrão mensagem'!$A$3:$B$67,2,0)","v":"Depot Super Terminais - (92) 3616-2650 / E-mails: coordenacao.depot@superterminais.com.br; reparos.container@superterminais.com.br"}]
["BRMAO","45GP","HLBU1358082","Nao","SUPER TERMINAIS",{"$f":"VLOOKUP(E1365,'Padrão mensagem'!$A$3:$B$67,2,0)","v":"Depot Super Terminais - (92) 3616-2650 / E-mails: coordenacao.depot@superterminais.com.br; reparos.container@superterminais.com.br"}]
["BRMAO","45GP","HLBU3237602","Nao","SUPER TERMINAIS",{"$f":"VLOOKUP(E1366,'Padrão mensagem'!$A$3:$B$67,2,0)","v":"Depot Super Terminais - (92) 3616-2650 / E-mails: coordenacao.depot@superterminais.com.br; reparos.container@superterminais.com.br"}]
["BRMAO","45GP","FANU1454323","Nao","SUPER TERMINAIS",{"$f":"VLOOKUP(E1367,'Padrão mensagem'!$A$3:$B$67,2,0)","v":"Depot Super Terminais - (92) 3616-2650 / E-mails: coordenacao.depot@superterminais.com.br; reparos.container@superterminais.com.br"}]
["BRMAO","45GP","FANU3336865","Nao","SUPER TERMINAIS",{"$f":"VLOOKUP(E1368,'Padrão mensagem'!$A$3:$B$67,2,0)","v":"Depot Super Terminais - (92) 3616-2650 / E-mails: coordenacao.depot@superterminais.com.br; reparos.container@superterminais.com.br"}]
["BRMAO","45GP","HLBU2675707","Nao","SUPER TERMINAIS",{"$f":"VLOOKUP(E1369,'Padrão mensagem'!$A$3:$B$67,2,0)","v":"Depot Super Terminais - (92) 3616-2650 / E-mails: coordenacao.depot@superterminais.com.br; reparos.container@superterminais.com.br"}]
["BRMAO","45GP","FANU3419234","Nao","SUPER TERMINAIS",{"$f":"VLOOKUP(E1370,'Padrão mensagem'!$A$3:$B$67,2,0)","v":"Depot Super Terminais - (92) 3616-2650 / E-mails: coordenacao.depot@superterminais.com.br; reparos.container@superterminais.com.br"}]
["BRMAO","45GP","FCIU7354808","Nao","SUPER TERMINAIS",{"$f":"VLOOKUP(E1371,'Padrão mensagem'!$A$3:$B$67,2,0)","v":"Depot Super Terminais - (92) 3616-2650 / E-mails: coordenacao.depot@superterminais.com.br; reparos.container@superterminais.com.br"}]
["BRMAO","45GP","CAIU8537364","Nao","SUPER TERMINAIS",{"$f":"VLOOKUP(E1372,'Padrão mensagem'!$A$3:$B$67,2,0)","v":"Depot Super Terminais - (92) 3616-2650 / E-mails: coordenacao.depot@superterminais.com.br; reparos.container@superterminais.com.br"}]
["BRMAO","45GP","TLLU5201133","Nao","SUPER TERMINAIS",{"$f":"VLOOKUP(E1373,'Padrão mensagem'!$A$3:$B$67,2,0)","v":"Depot Super Terminais - (92) 3616-2650 / E-mails: coordenacao.depot@superterminais.com.br; reparos.container@superterminais.com.br"}]
["BRMAO","45GP","CAIU8905018","Nao","SUPER TERMINAIS",{"$f":"VLOOKUP(E1374,'Padrão mensagem'!$A$3:$B$67,2,0)","v":"Depot Super Terminais - (92) 3616-2650 / E-mails: coordenacao.depot@superterminais.com.br; reparos.container@superterminais.com.br"}]
["BRMAO","45GP","UACU5745800","Nao","SUPER TERMINAIS",{"$f":"VLOOKUP(E1375,'Padrão mensagem'!$A$3:$B$67,2,0)","v":"Depot Super Terminais - (92) 3616-2650 / E-mails: coordenacao.depot@superterminais.com.br; reparos.container@superterminais.com.br"}]
["BRMAO","45GP","HLBU2255920","Nao","SUPER TERMINAIS",{"$f":"VLOOKUP(E1376,'Padrão mensagem'!$A$3:$B$67,2,0)","v":"Depot Super Terminais - (92) 3616-2650 / E-mails: coordenacao.depot@superterminais.com.br; reparos.container@superterminais.com.br"}]
["BRMAO","45GP","GCXU5147208","Nao","SUPER TERMINAIS",{"$f":"VLOOKUP(E1377,'Padrão mensagem'!$A$3:$B$67,2,0)","v":"Depot Super Terminais - (92) 3616-2650 / E-mails: coordenacao.depot@superterminais.com.br; reparos.container@superterminais.com.br"}]
["BRMAO","45GP","HAMU2160091","Nao","SUPER TERMINAIS",{"$f":"VLOOKUP(E1378,'Padrão mensagem'!$A$3:$B$67,2,0)","v":"Depot Super Terminais - (92) 3616-2650 / E-mails: coordenacao.depot@superterminais.com.br; reparos.container@superterminais.com.br"}]
["BRMAO","45GP","HLBU3440306","Nao","SUPER TERMINAIS",{"$f":"VLOOKUP(E1379,'Padrão mensagem'!$A$3:$B$67,2,0)","v":"Depot Super Terminais - (92) 3616-2650 / E-mails: coordenacao.depot@superterminais.com.br; reparos.container@superterminais.com.br"}]
["BRMAO","45GP","TCLU8121080","Nao","SUPER TERMINAIS",{"$f":"VLOOKUP(E1380,'Padrão mensagem'!$A$3:$B$67,2,0)","v":"Depot Super Terminais - (92) 3616-2650 / E-mails: coordenacao.depot@superterminais.com.br; reparos.container@superterminais.com.br"}]
["BRMAO","45GP","HLBU2384126","Nao","SUPER TERMINAIS",{"$f":"VLOOKUP(E1381,'Padrão mensagem'!$A$3:$B$67,2,0)","v":"Depot Super Terminais - (92) 3616-2650 / E-mails: coordenacao.depot@superterminais.com.br; reparos.container@superterminais.com.br"}]
["BRMAO","45GP","HLBU2864444","Nao","SUPER TERMINAIS",{"$f":"VLOOKUP(E1382,'Padrão mensagem'!$A$3:$B$67,2,0)","v":"Depot Super Terminais - (92) 3616-2650 / E-mails: coordenacao.depot@superterminais.com.br; reparos.container@superterminais.com.br"}]
["BRMAO","45GP","TGBU6071584","Nao","SUPER TERMINAIS",{"$f":"VLOOKUP(E1383,'Padrão mensagem'!$A$3:$B$67,2,0)","v":"Depot Super Terminais - (92) 3616-2650 / E-mails: coordenacao.depot@superterminais.com.br; reparos.container@superterminais.com.br"}]
["BRMAO","45GP","FANU1908010","Nao","SUPER TERMINAIS",{"$f":"VLOOKUP(E1384,'Padrão mensagem'!$A$3:$B$67,2,0)","v":"Depot Super Terminais - (92) 3616-2650 / E-mails: coordenacao.depot@superterminais.com.br; reparos.container@superterminais.com.br"}]
["BRMAO","45GP","FANU3202402","Nao","SUPER TERMINAIS",{"$f":"VLOOKUP(E1385,'Padrão mensagem'!$A$3:$B$67,2,0)","v":"Depot Super Terminais - (92) 3616-2650 / E-mails: coordenacao.depot@superterminais.com.br; reparos.container@superterminais.com.br"}]
["BRMAO","45GP","TXGU7124871","Nao","SUPER TERMINAIS",{"$f":"VLOOKUP(E1386,'Padrão mensagem'!$A$3:$B$67,2,0)","v":"Depot Super Terminais - (92) 3616-2650 / E-mails: coordenacao.depot@superterminais.com.br; reparos.container@superterminais.com.br"}]
["BRMAO","45GP","HLBU2443363","Nao","SUPER TERMINAIS",{"$f":"VLOOKUP(E1387,'Padrão mensagem'!$A$3:$B$67,2,0)","v":"Depot Super Terminais - (92) 3616-2650 / E-mails: coordenacao.depot@superterminais.com.br; reparos.container@superterminais.com.br"}]
["BRMAO","45GP","HLXU8085304","Nao","SUPER TERMINAIS",{"$f":"VLOOKUP(E1388,'Padrão mensagem'!$A$3:$B$67,2,0)","v":"Depot Super Terminais - (92) 3616-2650 / E-mails: coordenacao.depot@superterminais.com.br; reparos.container@superterminais.com.br"}]
["BRMAO","45GP","HLBU1656908","Nao","SUPER TERMINAIS",{"$f":"VLOOKUP(E1389,'Padrão mensagem'!$A$3:$B$67,2,0)","v":"Depot Super Terminais - (92) 3616-2650 / E-mails: coordenacao.depot@superterminais.com.br; reparos.container@superterminais.com.br"}]
["BRMAO","45GP","HAMU1161410","Nao","SUPER TERMINAIS",{"$f":"VLOOKUP(E1390,'Padrão mensagem'!$A$3:$B$67,2,0)","v":"Depot Super Terminais - (92) 3616-2650 / E-mails: coordenacao.depot@superterminais.com.br; reparos.container@superterminais.com.br"}]
["BRMAO","45GP","HLBU3291291","Nao","SUPER TERMINAIS",{"$f":"VLOOKUP(E1391,'Padrão mensagem'!$A$3:$B$67,2,0)","v":"Depot Super Terminais - (92) 3616-2650 / E-mails: coordenacao.depot@superterminais.com.br; reparos.container@superterminais.com.br"}]
["BRMAO","45GP","CAIU4978042","Nao","SUPER TERMINAIS",{"$f":"VLOOKUP(E1392,'Padrão mensagem'!$A$3:$B$67,2,0)","v":"Depot Super Terminais - (92) 3616-2650 / E-mails: coordenacao.depot@superterminais.com.br; reparos.container@superterminais.com.br"}]
["BRMAO","45GP","HLXU8157338","Nao","SUPER TERMINAIS",{"$f":"VLOOKUP(E1393,'Padrão mensagem'!$A$3:$B$67,2,0)","v":"Depot Super Terminais - (92) 3616-2650 / E-mails: coordenacao.depot@superterminais.com.br; reparos.container@superterminais.com.br"}]
["BRMAO","45GP","HLXU8613063","Nao","SUPER TERMINAIS",{"$f":"VLOOKUP(E1394,'Padrão mensagem'!$A$3:$B$67,2,0)","v":"Depot Super Terminais - (92) 3616-2650 / E-mails: coordenacao.depot@superterminais.com.br; reparos.container@superterminais.com.br"}]
["BRMAO","45GP","UACU5656508","Nao","SUPER TERMINAIS",{"$f":"VLOOKUP(E1395,'Padrão mensagem'!$A$3:$B$67,2,0)","v":"Depot Super Terminais - (92) 3616-2650 / E-mails: coordenacao.depot@superterminais.com.br; reparos.container@superterminais.com.br"}]
["BRMAO","45GP","FSCU7175268","Nao","SUPER TERMINAIS",{"$f":"VLOOKUP(E1396,'Padrão mensagem'!$A$3:$B$67,2,0)","v":"Depot Super Terminais - (92) 3616-2650 / E-mails: coordenacao.depot@superterminais.com.br; reparos.container@superterminais.com.br"}]
["BRMAO","45GP","SEGU5616092","Nao","SUPER TERMINAIS",{"$f":"VLOOKUP(E1397,'Padrão mensagem'!$A$3:$B$67,2,0)","v":"Depot Super Terminais - (92) 3616-2650 / E-mails: coordenacao.depot@superterminais.com.br; reparos.container@superterminais.com.br"}]
["BRMAO","45GP","HAMU1563683","Nao","SUPER TERMINAIS",{"$f":"VLOOKUP(E1398,'Padrão mensagem'!$A$3:$B$67,2,0)","v":"Depot Super Terminais - (92) 3616-2650 / E-mails: coordenacao.depot@superterminais.com.br; reparos.container@superterminais.com.br"}]
["BRMAO","42GP","UACU8563944","Nao","SUPER TERMINAIS",{"$f":"VLOOKUP(E1399,'Padrão mensagem'!$A$3:$B$67,2,0)","v":"Depot Super Terminais - (92) 3616-2650 / E-mails: coordenacao.depot@superterminais.com.br; reparos.container@superterminais.com.br"}]
["BRMAO","42GP","HLBU1800960","Nao","SUPER TERMINAIS",{"$f":"VLOOKUP(E1400,'Padrão mensagem'!$A$3:$B$67,2,0)","v":"Depot Super Terminais - (92) 3616-2650 / E-mails: coordenacao.depot@superterminais.com.br; reparos.container@superterminais.com.br"}]
["BRMAO","45GP","HLBU3298151","Nao","SUPER TERMINAIS",{"$f":"VLOOKUP(E1401,'Padrão mensagem'!$A$3:$B$67,2,0)","v":"Depot Super Terminais - (92) 3616-2650 / E-mails: coordenacao.depot@superterminais.com.br; reparos.container@superterminais.com.br"}]
["BRMAO","42GP","HLBU1248547","Nao","SUPER TERMINAIS",{"$f":"VLOOKUP(E1402,'Padrão mensagem'!$A$3:$B$67,2,0)","v":"Depot Super Terminais - (92) 3616-2650 / E-mails: coordenacao.depot@superterminais.com.br; reparos.container@superterminais.com.br"}]
["BRMAO","42GP","UACU8428287","Nao","SUPER TERMINAIS",{"$f":"VLOOKUP(E1403,'Padrão mensagem'!$A$3:$B$67,2,0)","v":"Depot Super Terminais - (92) 3616-2650 / E-mails: coordenacao.depot@superterminais.com.br; reparos.container@superterminais.com.br"}]
["BRMAO","45GP","HAMU2159510","Nao","SUPER TERMINAIS",{"$f":"VLOOKUP(E1404,'Padrão mensagem'!$A$3:$B$67,2,0)","v":"Depot Super Terminais - (92) 3616-2650 / E-mails: coordenacao.depot@superterminais.com.br; reparos.container@superterminais.com.br"}]
["BRMAO","45GP","UACU5738503","Nao","SUPER TERMINAIS",{"$f":"VLOOKUP(E1405,'Padrão mensagem'!$A$3:$B$67,2,0)","v":"Depot Super Terminais - (92) 3616-2650 / E-mails: coordenacao.depot@superterminais.com.br; reparos.container@superterminais.com.br"}]
["BRMAO","45GP","FFAU1173359","Nao","SUPER TERMINAIS",{"$f":"VLOOKUP(E1406,'Padrão mensagem'!$A$3:$B$67,2,0)","v":"Depot Super Terminais - (92) 3616-2650 / E-mails: coordenacao.depot@superterminais.com.br; reparos.container@superterminais.com.br"}]
["BRMAO","45GP","BEAU4204669","Nao","SUPER TERMINAIS",{"$f":"VLOOKUP(E1407,'Padrão mensagem'!$A$3:$B$67,2,0)","v":"Depot Super Terminais - (92) 3616-2650 / E-mails: coordenacao.depot@superterminais.com.br; reparos.container@superterminais.com.br"}]
["BRMAO","45GP","HAMU1228509","Nao","SUPER TERMINAIS",{"$f":"VLOOKUP(E1408,'Padrão mensagem'!$A$3:$B$67,2,0)","v":"Depot Super Terminais - (92) 3616-2650 / E-mails: coordenacao.depot@superterminais.com.br; reparos.container@superterminais.com.br"}]
["BRMAO","45GP","FANU1915214","Nao","SUPER TERMINAIS",{"$f":"VLOOKUP(E1409,'Padrão mensagem'!$A$3:$B$67,2,0)","v":"Depot Super Terminais - (92) 3616-2650 / E-mails: coordenacao.depot@superterminais.com.br; reparos.container@superterminais.com.br"}]
["BRMAO","45GP","SEGU5705060","Nao","SUPER TERMINAIS",{"$f":"VLOOKUP(E1410,'Padrão mensagem'!$A$3:$B$67,2,0)","v":"Depot Super Terminais - (92) 3616-2650 / E-mails: coordenacao.depot@superterminais.com.br; reparos.container@superterminais.com.br"}]
["BRMAO","45GP","HAMU1446389","Nao","SUPER TERMINAIS",{"$f":"VLOOKUP(E1411,'Padrão mensagem'!$A$3:$B$67,2,0)","v":"Depot Super Terminais - (92) 3616-2650 / E-mails: coordenacao.depot@superterminais.com.br; reparos.container@superterminais.com.br"}]
["BRMAO","45GP","HLBU3200012","Nao","SUPER TERMINAIS",{"$f":"VLOOKUP(E1412,'Padrão mensagem'!$A$3:$B$67,2,0)","v":"Depot Super Terminais - (92) 3616-2650 / E-mails: coordenacao.depot@superterminais.com.br; reparos.container@superterminais.com.br"}]
["BRMAO","45GP","HLXU8187630","Nao","SUPER TERMINAIS",{"$f":"VLOOKUP(E1413,'Padrão mensagem'!$A$3:$B$67,2,0)","v":"Depot Super Terminais - (92) 3616-2650 / E-mails: coordenacao.depot@superterminais.com.br; reparos.container@superterminais.com.br"}]
["BRMAO","45GP","HLBU3230589","Nao","SUPER TERMINAIS",{"$f":"VLOOKUP(E1414,'Padrão mensagem'!$A$3:$B$67,2,0)","v":"Depot Super Terminais - (92) 3616-2650 / E-mails: coordenacao.depot@superterminais.com.br; reparos.container@superterminais.com.br"}]
["BRMAO","45GP","HAMU2127299","Nao","SUPER TERMINAIS",{"$f":"VLOOKUP(E1415,'Padrão mensagem'!$A$3:$B$67,2,0)","v":"Depot Super Terminais - (92) 3616-2650 / E-mails: coordenacao.depot@superterminais.com.br; reparos.container@superterminais.com.br"}]
["BRMAO","45GP","HLXU8206237","Nao","SUPER TERMINAIS",{"$f":"VLOOKUP(E1416,'Padrão mensagem'!$A$3:$B$67,2,0)","v":"Depot Super Terminais - (92) 3616-2650 / E-mails: coordenacao.depot@superterminais.com.br; reparos.container@superterminais.com.br"}]
["BRMAO","22GP","HLXU1074864","Nao","SUPER TERMINAIS",{"$f":"VLOOKUP(E1417,'Padrão mensagem'!$A$3:$B$67,2,0)","v":"Depot Super Terminais - (92) 3616-2650 / E-mails: coordenacao.depot@superterminais.com.br; reparos.container@superterminais.com.br"}]
["BRMAO","45GP","HLBU1759491","Nao","SUPER TERMINAIS",{"$f":"VLOOKUP(E1418,'Padrão mensagem'!$A$3:$B$67,2,0)","v":"Depot Super Terminais - (92) 3616-2650 / E-mails: coordenacao.depot@superterminais.com.br; reparos.container@superterminais.com.br"}]
["BRMAO","45GP","UACU5641046","Nao","SUPER TERMINAIS",{"$f":"VLOOKUP(E1419,'Padrão mensagem'!$A$3:$B$67,2,0)","v":"Depot Super Terminais - (92) 3616-2650 / E-mails: coordenacao.depot@superterminais.com.br; reparos.container@superterminais.com.br"}]
["BRMAO","45GP","FDCU0077403","Nao","SUPER TERMINAIS",{"$f":"VLOOKUP(E1420,'Padrão mensagem'!$A$3:$B$67,2,0)","v":"Depot Super Terminais - (92) 3616-2650 / E-mails: coordenacao.depot@superterminais.com.br; reparos.container@superterminais.com.br"}]
["BRMAO","45GP","HLBU2500294","Nao","SUPER TERMINAIS",{"$f":"VLOOKUP(E1421,'Padrão mensagem'!$A$3:$B$67,2,0)","v":"Depot Super Terminais - (92) 3616-2650 / E-mails: coordenacao.depot@superterminais.com.br; reparos.container@superterminais.com.br"}]
["BRMAO","45GP","HLBU2678178","Nao","SUPER TERMINAIS",{"$f":"VLOOKUP(E1422,'Padrão mensagem'!$A$3:$B$67,2,0)","v":"Depot Super Terminais - (92) 3616-2650 / E-mails: coordenacao.depot@superterminais.com.br; reparos.container@superterminais.com.br"}]
["BRMAO","45GP","HLBU3127713","Nao","SUPER TERMINAIS",{"$f":"VLOOKUP(E1423,'Padrão mensagem'!$A$3:$B$67,2,0)","v":"Depot Super Terminais - (92) 3616-2650 / E-mails: coordenacao.depot@superterminais.com.br; reparos.container@superterminais.com.br"}]
["BRMAO","45GP","FANU1949066","Nao","SUPER TERMINAIS",{"$f":"VLOOKUP(E1424,'Padrão mensagem'!$A$3:$B$67,2,0)","v":"Depot Super Terminais - (92) 3616-2650 / E-mails: coordenacao.depot@superterminais.com.br; reparos.container@superterminais.com.br"}]
["BRMAO","45GP","TCNU1787811","Nao","SUPER TERMINAIS",{"$f":"VLOOKUP(E1425,'Padrão mensagem'!$A$3:$B$67,2,0)","v":"Depot Super Terminais - (92) 3616-2650 / E-mails: coordenacao.depot@superterminais.com.br; reparos.container@superterminais.com.br"}]
["BRMAO","45GP","FANU1280622","Nao","SUPER TERMINAIS",{"$f":"VLOOKUP(E1426,'Padrão mensagem'!$A$3:$B$67,2,0)","v":"Depot Super Terminais - (92) 3616-2650 / E-mails: coordenacao.depot@superterminais.com.br; reparos.container@superterminais.com.br"}]
["BRMAO","45GP","HLBU2898594","Nao","SUPER TERMINAIS",{"$f":"VLOOKUP(E1427,'Padrão mensagem'!$A$3:$B$67,2,0)","v":"Depot Super Terminais - (92) 3616-2650 / E-mails: coordenacao.depot@superterminais.com.br; reparos.container@superterminais.com.br"}]
["BRMAO","45RT","HLBU9236748","Nao","SUPER TERMINAIS",{"$f":"VLOOKUP(E1428,'Padrão mensagem'!$A$3:$B$67,2,0)","v":"Depot Super Terminais - (92) 3616-2650 / E-mails: coordenacao.depot@superterminais.com.br; reparos.container@superterminais.com.br"}]
["BRMAO","45RT","SEGU9086977","Nao","SUPER TERMINAIS",{"$f":"VLOOKUP(E1429,'Padrão mensagem'!$A$3:$B$67,2,0)","v":"Depot Super Terminais - (92) 3616-2650 / E-mails: coordenacao.depot@superterminais.com.br; reparos.container@superterminais.com.br"}]
["BRMAO","45GP","SEGU6730453","Nao","SUPER TERMINAIS",{"$f":"VLOOKUP(E1430,'Padrão mensagem'!$A$3:$B$67,2,0)","v":"Depot Super Terminais - (92) 3616-2650 / E-mails: coordenacao.depot@superterminais.com.br; reparos.container@superterminais.com.br"}]
["BRMAO","45GP","TCNU8366460","Nao","SUPER TERMINAIS",{"$f":"VLOOKUP(E1431,'Padrão mensagem'!$A$3:$B$67,2,0)","v":"Depot Super Terminais - (92) 3616-2650 / E-mails: coordenacao.depot@superterminais.com.br; reparos.container@superterminais.com.br"}]
["BRMAO","45GP","TEMU7373721","Nao","SUPER TERMINAIS",{"$f":"VLOOKUP(E1432,'Padrão mensagem'!$A$3:$B$67,2,0)","v":"Depot Super Terminais - (92) 3616-2650 / E-mails: coordenacao.depot@superterminais.com.br; reparos.container@superterminais.com.br"}]
["BRMAO","45GP","FSCU8080790","Nao","SUPER TERMINAIS",{"$f":"VLOOKUP(E1433,'Padrão mensagem'!$A$3:$B$67,2,0)","v":"Depot Super Terminais - (92) 3616-2650 / E-mails: coordenacao.depot@superterminais.com.br; reparos.container@superterminais.com.br"}]
["BRMAO","45GP","HLXU8466384","Nao","SUPER TERMINAIS",{"$f":"VLOOKUP(E1434,'Padrão mensagem'!$A$3:$B$67,2,0)","v":"Depot Super Terminais - (92) 3616-2650 / E-mails: coordenacao.depot@superterminais.com.br; reparos.container@superterminais.com.br"}]
["BRMAO","45GP","CAIU4694616","Nao","SUPER TERMINAIS",{"$f":"VLOOKUP(E1435,'Padrão mensagem'!$A$3:$B$67,2,0)","v":"Depot Super Terminais - (92) 3616-2650 / E-mails: coordenacao.depot@superterminais.com.br; reparos.container@superterminais.com.br"}]
["BRMAO","45GP","HLBU1330927","Nao","SUPER TERMINAIS",{"$f":"VLOOKUP(E1436,'Padrão mensagem'!$A$3:$B$67,2,0)","v":"Depot Super Terminais - (92) 3616-2650 / E-mails: coordenacao.depot@superterminais.com.br; reparos.container@superterminais.com.br"}]
["BRMAO","45GP","CXDU1777146","Nao","SUPER TERMINAIS",{"$f":"VLOOKUP(E1437,'Padrão mensagem'!$A$3:$B$67,2,0)","v":"Depot Super Terminais - (92) 3616-2650 / E-mails: coordenacao.depot@superterminais.com.br; reparos.container@superterminais.com.br"}]
["BRMAO","45GP","HLBU1934439","Nao","SUPER TERMINAIS",{"$f":"VLOOKUP(E1438,'Padrão mensagem'!$A$3:$B$67,2,0)","v":"Depot Super Terminais - (92) 3616-2650 / E-mails: coordenacao.depot@superterminais.com.br; reparos.container@superterminais.com.br"}]
["BRMAO","45GP","HLXU8599710","Nao","SUPER TERMINAIS",{"$f":"VLOOKUP(E1439,'Padrão mensagem'!$A$3:$B$67,2,0)","v":"Depot Super Terminais - (92) 3616-2650 / E-mails: coordenacao.depot@superterminais.com.br; reparos.container@superterminais.com.br"}]
["BRMAO","45GP","FCIU7343547","Nao","SUPER TERMINAIS",{"$f":"VLOOKUP(E1440,'Padrão mensagem'!$A$3:$B$67,2,0)","v":"Depot Super Terminais - (92) 3616-2650 / E-mails: coordenacao.depot@superterminais.com.br; reparos.container@superterminais.com.br"}]
["BRMAO","45GP","FANU3377484","Nao","SUPER TERMINAIS",{"$f":"VLOOKUP(E1441,'Padrão mensagem'!$A$3:$B$67,2,0)","v":"Depot Super Terminais - (92) 3616-2650 / E-mails: coordenacao.depot@superterminais.com.br; reparos.container@superterminais.com.br"}]
["BRMAO","45GP","FANU1885803","Nao","SUPER TERMINAIS",{"$f":"VLOOKUP(E1442,'Padrão mensagem'!$A$3:$B$67,2,0)","v":"Depot Super Terminais - (92) 3616-2650 / E-mails: coordenacao.depot@superterminais.com.br; reparos.container@superterminais.com.br"}]
["BRMAO","45GP","FANU3344705","Nao","SUPER TERMINAIS",{"$f":"VLOOKUP(E1443,'Padrão mensagem'!$A$3:$B$67,2,0)","v":"Depot Super Terminais - (92) 3616-2650 / E-mails: coordenacao.depot@superterminais.com.br; reparos.container@superterminais.com.br"}]
["BRMAO","45GP","FANU1316617","Nao","SUPER TERMINAIS",{"$f":"VLOOKUP(E1444,'Padrão mensagem'!$A$3:$B$67,2,0)","v":"Depot Super Terminais - (92) 3616-2650 / E-mails: coordenacao.depot@superterminais.com.br; reparos.container@superterminais.com.br"}]
["BRMAO","45GP","KKFU7585868","Nao","SUPER TERMINAIS",{"$f":"VLOOKUP(E1445,'Padrão mensagem'!$A$3:$B$67,2,0)","v":"Depot Super Terminais - (92) 3616-2650 / E-mails: coordenacao.depot@superterminais.com.br; reparos.container@superterminais.com.br"}]
["BRMAO","45GP","UACU5879517","Nao","SUPER TERMINAIS",{"$f":"VLOOKUP(E1446,'Padrão mensagem'!$A$3:$B$67,2,0)","v":"Depot Super Terminais - (92) 3616-2650 / E-mails: coordenacao.depot@superterminais.com.br; reparos.container@superterminais.com.br"}]
["BRMAO","45GP","FANU3223581","Nao","SUPER TERMINAIS",{"$f":"VLOOKUP(E1447,'Padrão mensagem'!$A$3:$B$67,2,0)","v":"Depot Super Terminais - (92) 3616-2650 / E-mails: coordenacao.depot@superterminais.com.br; reparos.container@superterminais.com.br"}]
["BRMAO","45GP","CAIU9387633","Nao","SUPER TERMINAIS",{"$f":"VLOOKUP(E1448,'Padrão mensagem'!$A$3:$B$67,2,0)","v":"Depot Super Terminais - (92) 3616-2650 / E-mails: coordenacao.depot@superterminais.com.br; reparos.container@superterminais.com.br"}]
["BRMAO","45GP","HLBU2554937","Nao","SUPER TERMINAIS",{"$f":"VLOOKUP(E1449,'Padrão mensagem'!$A$3:$B$67,2,0)","v":"Depot Super Terminais - (92) 3616-2650 / E-mails: coordenacao.depot@superterminais.com.br; reparos.container@superterminais.com.br"}]
["BRMAO","45GP","FANU3133641","Nao","SUPER TERMINAIS",{"$f":"VLOOKUP(E1450,'Padrão mensagem'!$A$3:$B$67,2,0)","v":"Depot Super Terminais - (92) 3616-2650 / E-mails: coordenacao.depot@superterminais.com.br; reparos.container@superterminais.com.br"}]
["BRMAO","45GP","HLBU2552066","Nao","SUPER TERMINAIS",{"$f":"VLOOKUP(E1451,'Padrão mensagem'!$A$3:$B$67,2,0)","v":"Depot Super Terminais - (92) 3616-2650 / E-mails: coordenacao.depot@superterminais.com.br; reparos.container@superterminais.com.br"}]
["BRMAO","45GP","HLXU8012503","Nao","SUPER TERMINAIS",{"$f":"VLOOKUP(E1452,'Padrão mensagem'!$A$3:$B$67,2,0)","v":"Depot Super Terminais - (92) 3616-2650 / E-mails: coordenacao.depot@superterminais.com.br; reparos.container@superterminais.com.br"}]
["BRMAO","45GP","GCXU5300343","Nao","SUPER TERMINAIS",{"$f":"VLOOKUP(E1453,'Padrão mensagem'!$A$3:$B$67,2,0)","v":"Depot Super Terminais - (92) 3616-2650 / E-mails: coordenacao.depot@superterminais.com.br; reparos.container@superterminais.com.br"}]
["BRMAO","45GP","BSIU9651870","Nao","SUPER TERMINAIS",{"$f":"VLOOKUP(E1454,'Padrão mensagem'!$A$3:$B$67,2,0)","v":"Depot Super Terminais - (92) 3616-2650 / E-mails: coordenacao.depot@superterminais.com.br; reparos.container@superterminais.com.br"}]
["BRMAO","45GP","GESU6155426","Nao","SUPER TERMINAIS",{"$f":"VLOOKUP(E1455,'Padrão mensagem'!$A$3:$B$67,2,0)","v":"Depot Super Terminais - (92) 3616-2650 / E-mails: coordenacao.depot@superterminais.com.br; reparos.container@superterminais.com.br"}]
["BRMAO","45GP","TCLU1562377","Nao","SUPER TERMINAIS",{"$f":"VLOOKUP(E1456,'Padrão mensagem'!$A$3:$B$67,2,0)","v":"Depot Super Terminais - (92) 3616-2650 / E-mails: coordenacao.depot@superterminais.com.br; reparos.container@superterminais.com.br"}]
["BRMAO","45GP","HAMU2071970","Nao","SUPER TERMINAIS",{"$f":"VLOOKUP(E1457,'Padrão mensagem'!$A$3:$B$67,2,0)","v":"Depot Super Terminais - (92) 3616-2650 / E-mails: coordenacao.depot@superterminais.com.br; reparos.container@superterminais.com.br"}]
["BRMAO","45GP","HLBU1837608","Nao","SUPER TERMINAIS",{"$f":"VLOOKUP(E1458,'Padrão mensagem'!$A$3:$B$67,2,0)","v":"Depot Super Terminais - (92) 3616-2650 / E-mails: coordenacao.depot@superterminais.com.br; reparos.container@superterminais.com.br"}]
["BRMAO","45GP","HAMU2219440","Nao","SUPER TERMINAIS",{"$f":"VLOOKUP(E1459,'Padrão mensagem'!$A$3:$B$67,2,0)","v":"Depot Super Terminais - (92) 3616-2650 / E-mails: coordenacao.depot@superterminais.com.br; reparos.container@superterminais.com.br"}]
["BRMAO","45GP","BMOU6431202","Nao","SUPER TERMINAIS",{"$f":"VLOOKUP(E1460,'Padrão mensagem'!$A$3:$B$67,2,0)","v":"Depot Super Terminais - (92) 3616-2650 / E-mails: coordenacao.depot@superterminais.com.br; reparos.container@superterminais.com.br"}]
["BRMAO","45GP","FANU3346138","Nao","SUPER TERMINAIS",{"$f":"VLOOKUP(E1461,'Padrão mensagem'!$A$3:$B$67,2,0)","v":"Depot Super Terminais - (92) 3616-2650 / E-mails: coordenacao.depot@superterminais.com.br; reparos.container@superterminais.com.br"}]
["BRMAO","45GP","CAAU6796928","Nao","SUPER TERMINAIS",{"$f":"VLOOKUP(E1462,'Padrão mensagem'!$A$3:$B$67,2,0)","v":"Depot Super Terminais - (92) 3616-2650 / E-mails: coordenacao.depot@superterminais.com.br; reparos.container@superterminais.com.br"}]
["BRMAO","45GP","TCNU1803023","Nao","SUPER TERMINAIS",{"$f":"VLOOKUP(E1463,'Padrão mensagem'!$A$3:$B$67,2,0)","v":"Depot Super Terminais - (92) 3616-2650 / E-mails: coordenacao.depot@superterminais.com.br; reparos.container@superterminais.com.br"}]
["BRMAO","45GP","FANU3059518","Nao","SUPER TERMINAIS",{"$f":"VLOOKUP(E1464,'Padrão mensagem'!$A$3:$B$67,2,0)","v":"Depot Super Terminais - (92) 3616-2650 / E-mails: coordenacao.depot@superterminais.com.br; reparos.container@superterminais.com.br"}]
["BRMAO","45GP","WBPU7072080","Nao","SUPER TERMINAIS",{"$f":"VLOOKUP(E1465,'Padrão mensagem'!$A$3:$B$67,2,0)","v":"Depot Super Terminais - (92) 3616-2650 / E-mails: coordenacao.depot@superterminais.com.br; reparos.container@superterminais.com.br"}]
["BRMAO","45GP","CAIU4223257","Nao","SUPER TERMINAIS",{"$f":"VLOOKUP(E1466,'Padrão mensagem'!$A$3:$B$67,2,0)","v":"Depot Super Terminais - (92) 3616-2650 / E-mails: coordenacao.depot@superterminais.com.br; reparos.container@superterminais.com.br"}]
["BRMAO","45GP","TCLU5498511","Nao","SUPER TERMINAIS",{"$f":"VLOOKUP(E1467,'Padrão mensagem'!$A$3:$B$67,2,0)","v":"Depot Super Terminais - (92) 3616-2650 / E-mails: coordenacao.depot@superterminais.com.br; reparos.container@superterminais.com.br"}]
["BRMAO","45GP","FANU3713995","Nao","SUPER TERMINAIS",{"$f":"VLOOKUP(E1468,'Padrão mensagem'!$A$3:$B$67,2,0)","v":"Depot Super Terminais - (92) 3616-2650 / E-mails: coordenacao.depot@superterminais.com.br; reparos.container@superterminais.com.br"}]
["BRMAO","45GP","FANU1160099","Nao","SUPER TERMINAIS",{"$f":"VLOOKUP(E1469,'Padrão mensagem'!$A$3:$B$67,2,0)","v":"Depot Super Terminais - (92) 3616-2650 / E-mails: coordenacao.depot@superterminais.com.br; reparos.container@superterminais.com.br"}]
["BRMAO","45GP","HAMU1240783","Nao","SUPER TERMINAIS",{"$f":"VLOOKUP(E1470,'Padrão mensagem'!$A$3:$B$67,2,0)","v":"Depot Super Terminais - (92) 3616-2650 / E-mails: coordenacao.depot@superterminais.com.br; reparos.container@superterminais.com.br"}]
["BRMAO","45GP","FANU3138833","Nao","SUPER TERMINAIS",{"$f":"VLOOKUP(E1471,'Padrão mensagem'!$A$3:$B$67,2,0)","v":"Depot Super Terminais - (92) 3616-2650 / E-mails: coordenacao.depot@superterminais.com.br; reparos.container@superterminais.com.br"}]
["BRMAO","45GP","TGBU5940615","Nao","SUPER TERMINAIS",{"$f":"VLOOKUP(E1472,'Padrão mensagem'!$A$3:$B$67,2,0)","v":"Depot Super Terminais - (92) 3616-2650 / E-mails: coordenacao.depot@superterminais.com.br; reparos.container@superterminais.com.br"}]
["BRMAO","45GP","HAMU1394351","Nao","SUPER TERMINAIS",{"$f":"VLOOKUP(E1473,'Padrão mensagem'!$A$3:$B$67,2,0)","v":"Depot Super Terminais - (92) 3616-2650 / E-mails: coordenacao.depot@superterminais.com.br; reparos.container@superterminais.com.br"}]
["BRMAO","45GP","FANU3033745","Nao","SUPER TERMINAIS",{"$f":"VLOOKUP(E1474,'Padrão mensagem'!$A$3:$B$67,2,0)","v":"Depot Super Terminais - (92) 3616-2650 / E-mails: coordenacao.depot@superterminais.com.br; reparos.container@superterminais.com.br"}]
["BRMAO","45GP","HLBU2234698","Nao","SUPER TERMINAIS",{"$f":"VLOOKUP(E1475,'Padrão mensagem'!$A$3:$B$67,2,0)","v":"Depot Super Terminais - (92) 3616-2650 / E-mails: coordenacao.depot@superterminais.com.br; reparos.container@superterminais.com.br"}]
["BRMAO","45RT","HLBU9053515","Nao","SUPER TERMINAIS",{"$f":"VLOOKUP(E1476,'Padrão mensagem'!$A$3:$B$67,2,0)","v":"Depot Super Terminais - (92) 3616-2650 / E-mails: coordenacao.depot@superterminais.com.br; reparos.container@superterminais.com.br"}]
["BRMAO","45GP","TCLU8155922","Nao","SUPER TERMINAIS",{"$f":"VLOOKUP(E1477,'Padrão mensagem'!$A$3:$B$67,2,0)","v":"Depot Super Terminais - (92) 3616-2650 / E-mails: coordenacao.depot@superterminais.com.br; reparos.container@superterminais.com.br"}]
["BRMAO","45GP","HAMU2514575","Nao","SUPER TERMINAIS",{"$f":"VLOOKUP(E1478,'Padrão mensagem'!$A$3:$B$67,2,0)","v":"Depot Super Terminais - (92) 3616-2650 / E-mails: coordenacao.depot@superterminais.com.br; reparos.container@superterminais.com.br"}]
["BRMAO","45GP","HAMU2512525","Nao","SUPER TERMINAIS",{"$f":"VLOOKUP(E1479,'Padrão mensagem'!$A$3:$B$67,2,0)","v":"Depot Super Terminais - (92) 3616-2650 / E-mails: coordenacao.depot@superterminais.com.br; reparos.container@superterminais.com.br"}]
["BRMAO","45GP","HAMU2512680","Nao","SUPER TERMINAIS",{"$f":"VLOOKUP(E1480,'Padrão mensagem'!$A$3:$B$67,2,0)","v":"Depot Super Terminais - (92) 3616-2650 / E-mails: coordenacao.depot@superterminais.com.br; reparos.container@superterminais.com.br"}]
["BRMAO","45GP","HLXU8044809","Nao","SUPER TERMINAIS",{"$f":"VLOOKUP(E1481,'Padrão mensagem'!$A$3:$B$67,2,0)","v":"Depot Super Terminais - (92) 3616-2650 / E-mails: coordenacao.depot@superterminais.com.br; reparos.container@superterminais.com.br"}]
["BRMAO","45GP","TGBU5862425","Nao","SUPER TERMINAIS",{"$f":"VLOOKUP(E1482,'Padrão mensagem'!$A$3:$B$67,2,0)","v":"Depot Super Terminais - (92) 3616-2650 / E-mails: coordenacao.depot@superterminais.com.br; reparos.container@superterminais.com.br"}]
["BRMAO","45GP","FANU3471119","Nao","SUPER TERMINAIS",{"$f":"VLOOKUP(E1483,'Padrão mensagem'!$A$3:$B$67,2,0)","v":"Depot Super Terminais - (92) 3616-2650 / E-mails: coordenacao.depot@superterminais.com.br; reparos.container@superterminais.com.br"}]
["BRMAO","45GP","BMOU4317968","Nao","SUPER TERMINAIS",{"$f":"VLOOKUP(E1484,'Padrão mensagem'!$A$3:$B$67,2,0)","v":"Depot Super Terminais - (92) 3616-2650 / E-mails: coordenacao.depot@superterminais.com.br; reparos.container@superterminais.com.br"}]
["BRMAO","45GP","SEGU5657698","Nao","SUPER TERMINAIS",{"$f":"VLOOKUP(E1485,'Padrão mensagem'!$A$3:$B$67,2,0)","v":"Depot Super Terminais - (92) 3616-2650 / E-mails: coordenacao.depot@superterminais.com.br; reparos.container@superterminais.com.br"}]
["BRMAO","45GP","HAMU2453119","Nao","SUPER TERMINAIS",{"$f":"VLOOKUP(E1486,'Padrão mensagem'!$A$3:$B$67,2,0)","v":"Depot Super Terminais - (92) 3616-2650 / E-mails: coordenacao.depot@superterminais.com.br; reparos.container@superterminais.com.br"}]
["BRMAO","45GP","HAMU2453084","Nao","SUPER TERMINAIS",{"$f":"VLOOKUP(E1487,'Padrão mensagem'!$A$3:$B$67,2,0)","v":"Depot Super Terminais - (92) 3616-2650 / E-mails: coordenacao.depot@superterminais.com.br; reparos.container@superterminais.com.br"}]
["BRMAO","22GP","UACU3600773","Nao","SUPER TERMINAIS",{"$f":"VLOOKUP(E1488,'Padrão mensagem'!$A$3:$B$67,2,0)","v":"Depot Super Terminais - (92) 3616-2650 / E-mails: coordenacao.depot@superterminais.com.br; reparos.container@superterminais.com.br"}]
["BRMAO","45GP","HAMU2426520","Nao","SUPER TERMINAIS",{"$f":"VLOOKUP(E1489,'Padrão mensagem'!$A$3:$B$67,2,0)","v":"Depot Super Terminais - (92) 3616-2650 / E-mails: coordenacao.depot@superterminais.com.br; reparos.container@superterminais.com.br"}]
["BRMAO","45GP","HAMU2437416","Nao","SUPER TERMINAIS",{"$f":"VLOOKUP(E1490,'Padrão mensagem'!$A$3:$B$67,2,0)","v":"Depot Super Terminais - (92) 3616-2650 / E-mails: coordenacao.depot@superterminais.com.br; reparos.container@superterminais.com.br"}]
["BRMAO","45GP","HAMU2437252","Nao","SUPER TERMINAIS",{"$f":"VLOOKUP(E1491,'Padrão mensagem'!$A$3:$B$67,2,0)","v":"Depot Super Terminais - (92) 3616-2650 / E-mails: coordenacao.depot@superterminais.com.br; reparos.container@superterminais.com.br"}]
["BRMAO","45GP","GCXU5126340","Nao","SUPER TERMINAIS",{"$f":"VLOOKUP(E1492,'Padrão mensagem'!$A$3:$B$67,2,0)","v":"Depot Super Terminais - (92) 3616-2650 / E-mails: coordenacao.depot@superterminais.com.br; reparos.container@superterminais.com.br"}]
["BRMAO","45GP","TCNU1734663","Nao","SUPER TERMINAIS",{"$f":"VLOOKUP(E1493,'Padrão mensagem'!$A$3:$B$67,2,0)","v":"Depot Super Terminais - (92) 3616-2650 / E-mails: coordenacao.depot@superterminais.com.br; reparos.container@superterminais.com.br"}]
["BRMAO","45GP","BMOU5899816","Nao","SUPER TERMINAIS",{"$f":"VLOOKUP(E1494,'Padrão mensagem'!$A$3:$B$67,2,0)","v":"Depot Super Terminais - (92) 3616-2650 / E-mails: coordenacao.depot@superterminais.com.br; reparos.container@superterminais.com.br"}]
["BRMAO","45GP","FANU1099893","Nao","SUPER TERMINAIS",{"$f":"VLOOKUP(E1495,'Padrão mensagem'!$A$3:$B$67,2,0)","v":"Depot Super Terminais - (92) 3616-2650 / E-mails: coordenacao.depot@superterminais.com.br; reparos.container@superterminais.com.br"}]
["BRMAO","45GP","HAMU2512485","Nao","SUPER TERMINAIS",{"$f":"VLOOKUP(E1496,'Padrão mensagem'!$A$3:$B$67,2,0)","v":"Depot Super Terminais - (92) 3616-2650 / E-mails: coordenacao.depot@superterminais.com.br; reparos.container@superterminais.com.br"}]
["BRMAO","45GP","HAMU2512459","Nao","SUPER TERMINAIS",{"$f":"VLOOKUP(E1497,'Padrão mensagem'!$A$3:$B$67,2,0)","v":"Depot Super Terminais - (92) 3616-2650 / E-mails: coordenacao.depot@superterminais.com.br; reparos.container@superterminais.com.br"}]
["BRMAO","45GP","UACU5992190","Nao","SUPER TERMINAIS",{"$f":"VLOOKUP(E1498,'Padrão mensagem'!$A$3:$B$67,2,0)","v":"Depot Super Terminais - (92) 3616-2650 / E-mails: coordenacao.depot@superterminais.com.br; reparos.container@superterminais.com.br"}]
["BRMAO","45GP","UACU5405360","Nao","SUPER TERMINAIS",{"$f":"VLOOKUP(E1499,'Padrão mensagem'!$A$3:$B$67,2,0)","v":"Depot Super Terminais - (92) 3616-2650 / E-mails: coordenacao.depot@superterminais.com.br; reparos.container@superterminais.com.br"}]
["BRMAO","45GP","UETU5815796","Nao","SUPER TERMINAIS",{"$f":"VLOOKUP(E1500,'Padrão mensagem'!$A$3:$B$67,2,0)","v":"Depot Super Terminais - (92) 3616-2650 / E-mails: coordenacao.depot@superterminais.com.br; reparos.container@superterminais.com.br"}]
["BRMAO","45GP","FANU3357507","Nao","SUPER TERMINAIS",{"$f":"VLOOKUP(E1501,'Padrão mensagem'!$A$3:$B$67,2,0)","v":"Depot Super Terminais - (92) 3616-2650 / E-mails: coordenacao.depot@superterminais.com.br; reparos.container@superterminais.com.br"}]
["BRMAO","45GP","UASU1009043","Nao","SUPER TERMINAIS",{"$f":"VLOOKUP(E1502,'Padrão mensagem'!$A$3:$B$67,2,0)","v":"Depot Super Terminais - (92) 3616-2650 / E-mails: coordenacao.depot@superterminais.com.br; reparos.container@superterminais.com.br"}]
["BRMAO","45GP","FANU3620505","Nao","SUPER TERMINAIS",{"$f":"VLOOKUP(E1503,'Padrão mensagem'!$A$3:$B$67,2,0)","v":"Depot Super Terminais - (92) 3616-2650 / E-mails: coordenacao.depot@superterminais.com.br; reparos.container@superterminais.com.br"}]
["BRMAO","45GP","CAAU6784418","Nao","SUPER TERMINAIS",{"$f":"VLOOKUP(E1504,'Padrão mensagem'!$A$3:$B$67,2,0)","v":"Depot Super Terminais - (92) 3616-2650 / E-mails: coordenacao.depot@superterminais.com.br; reparos.container@superterminais.com.br"}]
["BRMAO","45GP","FSCU7230658","Nao","SUPER TERMINAIS",{"$f":"VLOOKUP(E1505,'Padrão mensagem'!$A$3:$B$67,2,0)","v":"Depot Super Terminais - (92) 3616-2650 / E-mails: coordenacao.depot@superterminais.com.br; reparos.container@superterminais.com.br"}]
["BRMAO","42GP","HLBU1468916","Nao","SUPER TERMINAIS",{"$f":"VLOOKUP(E1506,'Padrão mensagem'!$A$3:$B$67,2,0)","v":"Depot Super Terminais - (92) 3616-2650 / E-mails: coordenacao.depot@superterminais.com.br; reparos.container@superterminais.com.br"}]
["BRMAO","45GP","HLXU8539120","Nao","SUPER TERMINAIS",{"$f":"VLOOKUP(E1507,'Padrão mensagem'!$A$3:$B$67,2,0)","v":"Depot Super Terminais - (92) 3616-2650 / E-mails: coordenacao.depot@superterminais.com.br; reparos.container@superterminais.com.br"}]
["BRMAO","45GP","TEMU8694979","Nao","SUPER TERMINAIS",{"$f":"VLOOKUP(E1508,'Padrão mensagem'!$A$3:$B$67,2,0)","v":"Depot Super Terminais - (92) 3616-2650 / E-mails: coordenacao.depot@superterminais.com.br; reparos.container@superterminais.com.br"}]
["BRMAO","45GP","FANU3471356","Nao","SUPER TERMINAIS",{"$f":"VLOOKUP(E1509,'Padrão mensagem'!$A$3:$B$67,2,0)","v":"Depot Super Terminais - (92) 3616-2650 / E-mails: coordenacao.depot@superterminais.com.br; reparos.container@superterminais.com.br"}]
["BRMAO","45GP","HLBU3399687","Nao","SUPER TERMINAIS",{"$f":"VLOOKUP(E1510,'Padrão mensagem'!$A$3:$B$67,2,0)","v":"Depot Super Terminais - (92) 3616-2650 / E-mails: coordenacao.depot@superterminais.com.br; reparos.container@superterminais.com.br"}]
["BRMAO","45GP","HAMU2438238","Nao","SUPER TERMINAIS",{"$f":"VLOOKUP(E1511,'Padrão mensagem'!$A$3:$B$67,2,0)","v":"Depot Super Terminais - (92) 3616-2650 / E-mails: coordenacao.depot@superterminais.com.br; reparos.container@superterminais.com.br"}]
["BRMAO","45GP","HAMU2427568","Nao","SUPER TERMINAIS",{"$f":"VLOOKUP(E1512,'Padrão mensagem'!$A$3:$B$67,2,0)","v":"Depot Super Terminais - (92) 3616-2650 / E-mails: coordenacao.depot@superterminais.com.br; reparos.container@superterminais.com.br"}]
["BRMAO","45GP","HAMU2432332","Nao","SUPER TERMINAIS",{"$f":"VLOOKUP(E1513,'Padrão mensagem'!$A$3:$B$67,2,0)","v":"Depot Super Terminais - (92) 3616-2650 / E-mails: coordenacao.depot@superterminais.com.br; reparos.container@superterminais.com.br"}]
["BRMAO","45GP","HAMU2439126","Nao","SUPER TERMINAIS",{"$f":"VLOOKUP(E1514,'Padrão mensagem'!$A$3:$B$67,2,0)","v":"Depot Super Terminais - (92) 3616-2650 / E-mails: coordenacao.depot@superterminais.com.br; reparos.container@superterminais.com.br"}]
["BRMAO","45GP","HAMU2435239","Nao","SUPER TERMINAIS",{"$f":"VLOOKUP(E1515,'Padrão mensagem'!$A$3:$B$67,2,0)","v":"Depot Super Terminais - (92) 3616-2650 / E-mails: coordenacao.depot@superterminais.com.br; reparos.container@superterminais.com.br"}]
["BRMAO","45GP","UACU5444509","Nao","SUPER TERMINAIS",{"$f":"VLOOKUP(E1516,'Padrão mensagem'!$A$3:$B$67,2,0)","v":"Depot Super Terminais - (92) 3616-2650 / E-mails: coordenacao.depot@superterminais.com.br; reparos.container@superterminais.com.br"}]
["BRMAO","45GP","HAMU2439023","Nao","SUPER TERMINAIS",{"$f":"VLOOKUP(E1517,'Padrão mensagem'!$A$3:$B$67,2,0)","v":"Depot Super Terminais - (92) 3616-2650 / E-mails: coordenacao.depot@superterminais.com.br; reparos.container@superterminais.com.br"}]
["BRMAO","45GP","HAMU2435120","Nao","SUPER TERMINAIS",{"$f":"VLOOKUP(E1518,'Padrão mensagem'!$A$3:$B$67,2,0)","v":"Depot Super Terminais - (92) 3616-2650 / E-mails: coordenacao.depot@superterminais.com.br; reparos.container@superterminais.com.br"}]
["BRMAO","45GP","HAMU2437669","Nao","SUPER TERMINAIS",{"$f":"VLOOKUP(E1519,'Padrão mensagem'!$A$3:$B$67,2,0)","v":"Depot Super Terminais - (92) 3616-2650 / E-mails: coordenacao.depot@superterminais.com.br; reparos.container@superterminais.com.br"}]
["BRMAO","45GP","HAMU2427254","Nao","SUPER TERMINAIS",{"$f":"VLOOKUP(E1520,'Padrão mensagem'!$A$3:$B$67,2,0)","v":"Depot Super Terminais - (92) 3616-2650 / E-mails: coordenacao.depot@superterminais.com.br; reparos.container@superterminais.com.br"}]
["BRMAO","45GP","HAMU2438120","Nao","SUPER TERMINAIS",{"$f":"VLOOKUP(E1521,'Padrão mensagem'!$A$3:$B$67,2,0)","v":"Depot Super Terminais - (92) 3616-2650 / E-mails: coordenacao.depot@superterminais.com.br; reparos.container@superterminais.com.br"}]
["BRMAO","45GP","GESU6417850","Nao","SUPER TERMINAIS",{"$f":"VLOOKUP(E1522,'Padrão mensagem'!$A$3:$B$67,2,0)","v":"Depot Super Terminais - (92) 3616-2650 / E-mails: coordenacao.depot@superterminais.com.br; reparos.container@superterminais.com.br"}]
["BRMAO","45GP","FANU1011557","Nao","SUPER TERMINAIS",{"$f":"VLOOKUP(E1523,'Padrão mensagem'!$A$3:$B$67,2,0)","v":"Depot Super Terminais - (92) 3616-2650 / E-mails: coordenacao.depot@superterminais.com.br; reparos.container@superterminais.com.br"}]
["BRMAO","45GP","BMOU5497329","Nao","SUPER TERMINAIS",{"$f":"VLOOKUP(E1524,'Padrão mensagem'!$A$3:$B$67,2,0)","v":"Depot Super Terminais - (92) 3616-2650 / E-mails: coordenacao.depot@superterminais.com.br; reparos.container@superterminais.com.br"}]
["BRMAO","45GP","BEAU4691090","Nao","SUPER TERMINAIS",{"$f":"VLOOKUP(E1525,'Padrão mensagem'!$A$3:$B$67,2,0)","v":"Depot Super Terminais - (92) 3616-2650 / E-mails: coordenacao.depot@superterminais.com.br; reparos.container@superterminais.com.br"}]
["BRMAO","45GP","FANU1449461","Nao","SUPER TERMINAIS",{"$f":"VLOOKUP(E1526,'Padrão mensagem'!$A$3:$B$67,2,0)","v":"Depot Super Terminais - (92) 3616-2650 / E-mails: coordenacao.depot@superterminais.com.br; reparos.container@superterminais.com.br"}]
["BRMAO","45GP","UACU5536544","Nao","SUPER TERMINAIS",{"$f":"VLOOKUP(E1527,'Padrão mensagem'!$A$3:$B$67,2,0)","v":"Depot Super Terminais - (92) 3616-2650 / E-mails: coordenacao.depot@superterminais.com.br; reparos.container@superterminais.com.br"}]
["BRMAO","45GP","FANU1538609","Nao","SUPER TERMINAIS",{"$f":"VLOOKUP(E1528,'Padrão mensagem'!$A$3:$B$67,2,0)","v":"Depot Super Terminais - (92) 3616-2650 / E-mails: coordenacao.depot@superterminais.com.br; reparos.container@superterminais.com.br"}]
["BRMAO","45GP","HAMU1244011","Nao","SUPER TERMINAIS",{"$f":"VLOOKUP(E1529,'Padrão mensagem'!$A$3:$B$67,2,0)","v":"Depot Super Terminais - (92) 3616-2650 / E-mails: coordenacao.depot@superterminais.com.br; reparos.container@superterminais.com.br"}]
["BRMAO","45GP","SEGU4642923","Nao","SUPER TERMINAIS",{"$f":"VLOOKUP(E1530,'Padrão mensagem'!$A$3:$B$67,2,0)","v":"Depot Super Terminais - (92) 3616-2650 / E-mails: coordenacao.depot@superterminais.com.br; reparos.container@superterminais.com.br"}]
["BRMAO","45GP","CAIU9249526","Nao","SUPER TERMINAIS",{"$f":"VLOOKUP(E1531,'Padrão mensagem'!$A$3:$B$67,2,0)","v":"Depot Super Terminais - (92) 3616-2650 / E-mails: coordenacao.depot@superterminais.com.br; reparos.container@superterminais.com.br"}]
["BRMAO","45GP","FSCU8430748","Nao","SUPER TERMINAIS",{"$f":"VLOOKUP(E1532,'Padrão mensagem'!$A$3:$B$67,2,0)","v":"Depot Super Terminais - (92) 3616-2650 / E-mails: coordenacao.depot@superterminais.com.br; reparos.container@superterminais.com.br"}]
["BRMAO","45GP","HLBU2689887","Nao","SUPER TERMINAIS",{"$f":"VLOOKUP(E1533,'Padrão mensagem'!$A$3:$B$67,2,0)","v":"Depot Super Terminais - (92) 3616-2650 / E-mails: coordenacao.depot@superterminais.com.br; reparos.container@superterminais.com.br"}]
["BRMAO","45GP","HAMU2453103","Nao","SUPER TERMINAIS",{"$f":"VLOOKUP(E1534,'Padrão mensagem'!$A$3:$B$67,2,0)","v":"Depot Super Terminais - (92) 3616-2650 / E-mails: coordenacao.depot@superterminais.com.br; reparos.container@superterminais.com.br"}]
["BRMAO","45GP","HAMU2452581","Nao","SUPER TERMINAIS",{"$f":"VLOOKUP(E1535,'Padrão mensagem'!$A$3:$B$67,2,0)","v":"Depot Super Terminais - (92) 3616-2650 / E-mails: coordenacao.depot@superterminais.com.br; reparos.container@superterminais.com.br"}]
["BRMAO","45GP","HAMU2475078","Nao","SUPER TERMINAIS",{"$f":"VLOOKUP(E1536,'Padrão mensagem'!$A$3:$B$67,2,0)","v":"Depot Super Terminais - (92) 3616-2650 / E-mails: coordenacao.depot@superterminais.com.br; reparos.container@superterminais.com.br"}]
["BRMAO","45GP","UACU5993031","Nao","SUPER TERMINAIS",{"$f":"VLOOKUP(E1537,'Padrão mensagem'!$A$3:$B$67,2,0)","v":"Depot Super Terminais - (92) 3616-2650 / E-mails: coordenacao.depot@superterminais.com.br; reparos.container@superterminais.com.br"}]
["BRMAO","45GP","BSIU9277816","Nao","SUPER TERMINAIS",{"$f":"VLOOKUP(E1538,'Padrão mensagem'!$A$3:$B$67,2,0)","v":"Depot Super Terminais - (92) 3616-2650 / E-mails: coordenacao.depot@superterminais.com.br; reparos.container@superterminais.com.br"}]
["BRMAO","45GP","HLBU2157478","Nao","SUPER TERMINAIS",{"$f":"VLOOKUP(E1539,'Padrão mensagem'!$A$3:$B$67,2,0)","v":"Depot Super Terminais - (92) 3616-2650 / E-mails: coordenacao.depot@superterminais.com.br; reparos.container@superterminais.com.br"}]
["BRMAO","45GP","FCIU8928095","Nao","SUPER TERMINAIS",{"$f":"VLOOKUP(E1540,'Padrão mensagem'!$A$3:$B$67,2,0)","v":"Depot Super Terminais - (92) 3616-2650 / E-mails: coordenacao.depot@superterminais.com.br; reparos.container@superterminais.com.br"}]
["BRMAO","45GP","TCNU8723721","Nao","SUPER TERMINAIS",{"$f":"VLOOKUP(E1541,'Padrão mensagem'!$A$3:$B$67,2,0)","v":"Depot Super Terminais - (92) 3616-2650 / E-mails: coordenacao.depot@superterminais.com.br; reparos.container@superterminais.com.br"}]
["BRMAO","45GP","HAMU2472145","Nao","SUPER TERMINAIS",{"$f":"VLOOKUP(E1542,'Padrão mensagem'!$A$3:$B$67,2,0)","v":"Depot Super Terminais - (92) 3616-2650 / E-mails: coordenacao.depot@superterminais.com.br; reparos.container@superterminais.com.br"}]
["BRMAO","45GP","HAMU2474359","Nao","SUPER TERMINAIS",{"$f":"VLOOKUP(E1543,'Padrão mensagem'!$A$3:$B$67,2,0)","v":"Depot Super Terminais - (92) 3616-2650 / E-mails: coordenacao.depot@superterminais.com.br; reparos.container@superterminais.com.br"}]
["BRMAO","45GP","HAMU2470311","Nao","SUPER TERMINAIS",{"$f":"VLOOKUP(E1544,'Padrão mensagem'!$A$3:$B$67,2,0)","v":"Depot Super Terminais - (92) 3616-2650 / E-mails: coordenacao.depot@superterminais.com.br; reparos.container@superterminais.com.br"}]
["BRMAO","45GP","FANU3578935","Nao","SUPER TERMINAIS",{"$f":"VLOOKUP(E1545,'Padrão mensagem'!$A$3:$B$67,2,0)","v":"Depot Super Terminais - (92) 3616-2650 / E-mails: coordenacao.depot@superterminais.com.br; reparos.container@superterminais.com.br"}]
["BRMAO","45GP","TCLU6527466","Nao","SUPER TERMINAIS",{"$f":"VLOOKUP(E1546,'Padrão mensagem'!$A$3:$B$67,2,0)","v":"Depot Super Terminais - (92) 3616-2650 / E-mails: coordenacao.depot@superterminais.com.br; reparos.container@superterminais.com.br"}]
["BRMAO","45GP","FANU1987148","Nao","SUPER TERMINAIS",{"$f":"VLOOKUP(E1547,'Padrão mensagem'!$A$3:$B$67,2,0)","v":"Depot Super Terminais - (92) 3616-2650 / E-mails: coordenacao.depot@superterminais.com.br; reparos.container@superterminais.com.br"}]
["BRMAO","45GP","GCXU5930126","Nao","SUPER TERMINAIS",{"$f":"VLOOKUP(E1548,'Padrão mensagem'!$A$3:$B$67,2,0)","v":"Depot Super Terminais - (92) 3616-2650 / E-mails: coordenacao.depot@superterminais.com.br; reparos.container@superterminais.com.br"}]
["BRMAO","45GP","UACU5852455","Nao","SUPER TERMINAIS",{"$f":"VLOOKUP(E1549,'Padrão mensagem'!$A$3:$B$67,2,0)","v":"Depot Super Terminais - (92) 3616-2650 / E-mails: coordenacao.depot@superterminais.com.br; reparos.container@superterminais.com.br"}]
["BRMAO","45GP","CAAU7803153","Nao","SUPER TERMINAIS",{"$f":"VLOOKUP(E1550,'Padrão mensagem'!$A$3:$B$67,2,0)","v":"Depot Super Terminais - (92) 3616-2650 / E-mails: coordenacao.depot@superterminais.com.br; reparos.container@superterminais.com.br"}]
["BRMAO","45GP","HAMU2513774","Nao","SUPER TERMINAIS",{"$f":"VLOOKUP(E1551,'Padrão mensagem'!$A$3:$B$67,2,0)","v":"Depot Super Terminais - (92) 3616-2650 / E-mails: coordenacao.depot@superterminais.com.br; reparos.container@superterminais.com.br"}]
["BRMAO","45GP","HAMU2513286","Nao","SUPER TERMINAIS",{"$f":"VLOOKUP(E1552,'Padrão mensagem'!$A$3:$B$67,2,0)","v":"Depot Super Terminais - (92) 3616-2650 / E-mails: coordenacao.depot@superterminais.com.br; reparos.container@superterminais.com.br"}]
["BRMAO","45GP","HLXU8573839","Nao","SUPER TERMINAIS",{"$f":"VLOOKUP(E1553,'Padrão mensagem'!$A$3:$B$67,2,0)","v":"Depot Super Terminais - (92) 3616-2650 / E-mails: coordenacao.depot@superterminais.com.br; reparos.container@superterminais.com.br"}]
["BRMAO","45GP","UETU5483310","Nao","SUPER TERMINAIS",{"$f":"VLOOKUP(E1554,'Padrão mensagem'!$A$3:$B$67,2,0)","v":"Depot Super Terminais - (92) 3616-2650 / E-mails: coordenacao.depot@superterminais.com.br; reparos.container@superterminais.com.br"}]
["BRMAO","45GP","HLXU8033342","Nao","SUPER TERMINAIS",{"$f":"VLOOKUP(E1555,'Padrão mensagem'!$A$3:$B$67,2,0)","v":"Depot Super Terminais - (92) 3616-2650 / E-mails: coordenacao.depot@superterminais.com.br; reparos.container@superterminais.com.br"}]
["BRMAO","45GP","HLBU1686604","Nao","SUPER TERMINAIS",{"$f":"VLOOKUP(E1556,'Padrão mensagem'!$A$3:$B$67,2,0)","v":"Depot Super Terminais - (92) 3616-2650 / E-mails: coordenacao.depot@superterminais.com.br; reparos.container@superterminais.com.br"}]
["BRMAO","45GP","TLLU5239777","Nao","SUPER TERMINAIS",{"$f":"VLOOKUP(E1557,'Padrão mensagem'!$A$3:$B$67,2,0)","v":"Depot Super Terminais - (92) 3616-2650 / E-mails: coordenacao.depot@superterminais.com.br; reparos.container@superterminais.com.br"}]
["BRMAO","45GP","BSIU9557592","Nao","SUPER TERMINAIS",{"$f":"VLOOKUP(E1558,'Padrão mensagem'!$A$3:$B$67,2,0)","v":"Depot Super Terminais - (92) 3616-2650 / E-mails: coordenacao.depot@superterminais.com.br; reparos.container@superterminais.com.br"}]
["BRMAO","45GP","HLBU1872234","Nao","SUPER TERMINAIS",{"$f":"VLOOKUP(E1559,'Padrão mensagem'!$A$3:$B$67,2,0)","v":"Depot Super Terminais - (92) 3616-2650 / E-mails: coordenacao.depot@superterminais.com.br; reparos.container@superterminais.com.br"}]
["BRMAO","45GP","TCLU8127556","Nao","SUPER TERMINAIS",{"$f":"VLOOKUP(E1560,'Padrão mensagem'!$A$3:$B$67,2,0)","v":"Depot Super Terminais - (92) 3616-2650 / E-mails: coordenacao.depot@superterminais.com.br; reparos.container@superterminais.com.br"}]
["BRMAO","45GP","TEMU7517731","Nao","SUPER TERMINAIS",{"$f":"VLOOKUP(E1561,'Padrão mensagem'!$A$3:$B$67,2,0)","v":"Depot Super Terminais - (92) 3616-2650 / E-mails: coordenacao.depot@superterminais.com.br; reparos.container@superterminais.com.br"}]
["BRMAO","45GP","TCLU8088085","Nao","SUPER TERMINAIS",{"$f":"VLOOKUP(E1562,'Padrão mensagem'!$A$3:$B$67,2,0)","v":"Depot Super Terminais - (92) 3616-2650 / E-mails: coordenacao.depot@superterminais.com.br; reparos.container@superterminais.com.br"}]
["BRMAO","45GP","CAAU6784927","Nao","SUPER TERMINAIS",{"$f":"VLOOKUP(E1563,'Padrão mensagem'!$A$3:$B$67,2,0)","v":"Depot Super Terminais - (92) 3616-2650 / E-mails: coordenacao.depot@superterminais.com.br; reparos.container@superterminais.com.br"}]
["BRMAO","45GP","FSCU8942791","Nao","SUPER TERMINAIS",{"$f":"VLOOKUP(E1564,'Padrão mensagem'!$A$3:$B$67,2,0)","v":"Depot Super Terminais - (92) 3616-2650 / E-mails: coordenacao.depot@superterminais.com.br; reparos.container@superterminais.com.br"}]
["BRMAO","45GP","BEAU4187577","Nao","SUPER TERMINAIS",{"$f":"VLOOKUP(E1565,'Padrão mensagem'!$A$3:$B$67,2,0)","v":"Depot Super Terminais - (92) 3616-2650 / E-mails: coordenacao.depot@superterminais.com.br; reparos.container@superterminais.com.br"}]
["BRMAO","45GP","FCIU9109970","Nao","SUPER TERMINAIS",{"$f":"VLOOKUP(E1566,'Padrão mensagem'!$A$3:$B$67,2,0)","v":"Depot Super Terminais - (92) 3616-2650 / E-mails: coordenacao.depot@superterminais.com.br; reparos.container@superterminais.com.br"}]
["BRMAO","45GP","BMOU6639372","Nao","SUPER TERMINAIS",{"$f":"VLOOKUP(E1567,'Padrão mensagem'!$A$3:$B$67,2,0)","v":"Depot Super Terminais - (92) 3616-2650 / E-mails: coordenacao.depot@superterminais.com.br; reparos.container@superterminais.com.br"}]
["BRMAO","45GP","TCNU1638799","Nao","SUPER TERMINAIS",{"$f":"VLOOKUP(E1568,'Padrão mensagem'!$A$3:$B$67,2,0)","v":"Depot Super Terminais - (92) 3616-2650 / E-mails: coordenacao.depot@superterminais.com.br; reparos.container@superterminais.com.br"}]
["BRMAO","45GP","TXGU6980678","Nao","SUPER TERMINAIS",{"$f":"VLOOKUP(E1569,'Padrão mensagem'!$A$3:$B$67,2,0)","v":"Depot Super Terminais - (92) 3616-2650 / E-mails: coordenacao.depot@superterminais.com.br; reparos.container@superterminais.com.br"}]
["BRMAO","45GP","BMOU5832113","Nao","SUPER TERMINAIS",{"$f":"VLOOKUP(E1570,'Padrão mensagem'!$A$3:$B$67,2,0)","v":"Depot Super Terminais - (92) 3616-2650 / E-mails: coordenacao.depot@superterminais.com.br; reparos.container@superterminais.com.br"}]
["BRMAO","45GP","TEMU7499411","Nao","SUPER TERMINAIS",{"$f":"VLOOKUP(E1571,'Padrão mensagem'!$A$3:$B$67,2,0)","v":"Depot Super Terminais - (92) 3616-2650 / E-mails: coordenacao.depot@superterminais.com.br; reparos.container@superterminais.com.br"}]
["BRMAO","45GP","TCLU5292794","Nao","SUPER TERMINAIS",{"$f":"VLOOKUP(E1572,'Padrão mensagem'!$A$3:$B$67,2,0)","v":"Depot Super Terminais - (92) 3616-2650 / E-mails: coordenacao.depot@superterminais.com.br; reparos.container@superterminais.com.br"}]
["BRMAO","45GP","TCNU7613519","Nao","SUPER TERMINAIS",{"$f":"VLOOKUP(E1573,'Padrão mensagem'!$A$3:$B$67,2,0)","v":"Depot Super Terminais - (92) 3616-2650 / E-mails: coordenacao.depot@superterminais.com.br; reparos.container@superterminais.com.br"}]
["BRSSA","22GP","HAMU1030982","Nao","DEPOT PONTUAL",{"$f":"VLOOKUP(E1574,'Padrão mensagem'!$A$3:$B$67,2,0)","v":"Depot Pontual - (71) /3594-5732 | E-mails: marjorie@depotpontual.com.br; caio@depotpontual.com.br; Operacional01@depotpontual.com.br; operacionnal@depotpontual.com.br"}]
["BRSSA","22GP","HAMU1132686","Nao","DEPOT PONTUAL",{"$f":"VLOOKUP(E1575,'Padrão mensagem'!$A$3:$B$67,2,0)","v":"Depot Pontual - (71) /3594-5732 | E-mails: marjorie@depotpontual.com.br; caio@depotpontual.com.br; Operacional01@depotpontual.com.br; operacionnal@depotpontual.com.br"}]
["BRSSA","22GP","CAAU2107867","Nao","DEPOT PONTUAL",{"$f":"VLOOKUP(E1576,'Padrão mensagem'!$A$3:$B$67,2,0)","v":"Depot Pontual - (71) /3594-5732 | E-mails: marjorie@depotpontual.com.br; caio@depotpontual.com.br; Operacional01@depotpontual.com.br; operacionnal@depotpontual.com.br"}]
["BRSSA","22GP","TCLU2822340","Nao","DEPOT PONTUAL",{"$f":"VLOOKUP(E1577,'Padrão mensagem'!$A$3:$B$67,2,0)","v":"Depot Pontual - (71) /3594-5732 | E-mails: marjorie@depotpontual.com.br; caio@depotpontual.com.br; Operacional01@depotpontual.com.br; operacionnal@depotpontual.com.br"}]
["BRSSA","45RT","HLBU9495625","Nao","Wilport",{"$f":"VLOOKUP(E1578,'Padrão mensagem'!$A$3:$B$67,2,0)","v":"Wilport        -        (71) 3293-9259  |  E-mail: estimators.depottsv@teconsalvador.com.br"}]
["BRSSA","22GP","FTAU1194702","Nao","DEPOT PONTUAL",{"$f":"VLOOKUP(E1579,'Padrão mensagem'!$A$3:$B$67,2,0)","v":"Depot Pontual - (71) /3594-5732 | E-mails: marjorie@depotpontual.com.br; caio@depotpontual.com.br; Operacional01@depotpontual.com.br; operacionnal@depotpontual.com.br"}]
["BRCUC","45GP","UACU5711842","Nao","TERMACO TERMINAIS",{"$f":"VLOOKUP(E1580,'Padrão mensagem'!$A$3:$B$67,2,0)","v":"Depot Termaco Terminais - (85) 99213 7266 | E-mail:gate.cac@termaco.com.br"}]
["BRCUC","45GP","HAMU1151114","Nao","TERMACO TERMINAIS",{"$f":"VLOOKUP(E1581,'Padrão mensagem'!$A$3:$B$67,2,0)","v":"Depot Termaco Terminais - (85) 99213 7266 | E-mail:gate.cac@termaco.com.br"}]
["BRCUC","45GP","FANU1211196","Nao","TERMACO TERMINAIS",{"$f":"VLOOKUP(E1582,'Padrão mensagem'!$A$3:$B$67,2,0)","v":"Depot Termaco Terminais - (85) 99213 7266 | E-mail:gate.cac@termaco.com.br"}]
["BRCUC","45GP","UACU5557212","Nao","TERMACO TERMINAIS",{"$f":"VLOOKUP(E1583,'Padrão mensagem'!$A$3:$B$67,2,0)","v":"Depot Termaco Terminais - (85) 99213 7266 | E-mail:gate.cac@termaco.com.br"}]
["BRSUA","45GP","HAMU1939913","Nao","Ziranlog SUA ",{"$f":"VLOOKUP(E1584,'Padrão mensagem'!$A$3:$B$67,2,0)","v":"Ziranlog SUA       -        (21) 973373045  |  E-mail: Controle@zirannordeste.com.br; gate@zirannordeste.com.br"}]
["BRSUA","45GP","TCNU3274145","Nao","Ziranlog SUA ",{"$f":"VLOOKUP(E1585,'Padrão mensagem'!$A$3:$B$67,2,0)","v":"Ziranlog SUA       -        (21) 973373045  |  E-mail: Controle@zirannordeste.com.br; gate@zirannordeste.com.br"}]
["BRSUA","45GP","UACU5717964","Nao","Ziranlog SUA ",{"$f":"VLOOKUP(E1586,'Padrão mensagem'!$A$3:$B$67,2,0)","v":"Ziranlog SUA       -        (21) 973373045  |  E-mail: Controle@zirannordeste.com.br; gate@zirannordeste.com.br"}]
["BRCUC","22GP","CAIU3223102","Nao","TERMACO TERMINAIS",{"$f":"VLOOKUP(E1587,'Padrão mensagem'!$A$3:$B$67,2,0)","v":"Depot Termaco Terminais - (85) 99213 7266 | E-mail:gate.cac@termaco.com.br"}]
["BRCUC","22GP","HLBU2329772","Nao","TERMACO TERMINAIS",{"$f":"VLOOKUP(E1588,'Padrão mensagem'!$A$3:$B$67,2,0)","v":"Depot Termaco Terminais - (85) 99213 7266 | E-mail:gate.cac@termaco.com.br"}]
["BRCUC","22GP","HLBU1095793","Nao","TERMACO TERMINAIS",{"$f":"VLOOKUP(E1589,'Padrão mensagem'!$A$3:$B$67,2,0)","v":"Depot Termaco Terminais - (85) 99213 7266 | E-mail:gate.cac@termaco.com.br"}]
["BRSUA","22GP","TCLU2825781","Nao","Tecon Suape",{"$f":"VLOOKUP(E1590,'Padrão mensagem'!$A$3:$B$67,2,0)","v":"Tecon Suape - Acessar o site\nhttps://www.teconsuape.com/portalservicos/#!/login\ne informar o número de booking DDHLLMTY202401"}]
["BRSUA","22GP","HLBU2615101","Nao","Tecon Suape",{"$f":"VLOOKUP(E1591,'Padrão mensagem'!$A$3:$B$67,2,0)","v":"Tecon Suape - Acessar o site\nhttps://www.teconsuape.com/portalservicos/#!/login\ne informar o número de booking DDHLLMTY202401"}]
["BRSSA","22GP","UACU3740190","Nao","DEPOT PONTUAL",{"$f":"VLOOKUP(E1592,'Padrão mensagem'!$A$3:$B$67,2,0)","v":"Depot Pontual - (71) /3594-5732 | E-mails: marjorie@depotpontual.com.br; caio@depotpontual.com.br; Operacional01@depotpontual.com.br; operacionnal@depotpontual.com.br"}]
["BRSSA","45GP","FANU1743645","Nao","DEPOT PONTUAL",{"$f":"VLOOKUP(E1593,'Padrão mensagem'!$A$3:$B$67,2,0)","v":"Depot Pontual - (71) /3594-5732 | E-mails: marjorie@depotpontual.com.br; caio@depotpontual.com.br; Operacional01@depotpontual.com.br; operacionnal@depotpontual.com.br"}]
["BRSSA","45GP","FANU1803528","Nao","DEPOT PONTUAL",{"$f":"VLOOKUP(E1594,'Padrão mensagem'!$A$3:$B$67,2,0)","v":"Depot Pontual - (71) /3594-5732 | E-mails: marjorie@depotpontual.com.br; caio@depotpontual.com.br; Operacional01@depotpontual.com.br; operacionnal@depotpontual.com.br"}]
["BRSSA","45GP","TXGU7117039","Nao","DEPOT PONTUAL",{"$f":"VLOOKUP(E1595,'Padrão mensagem'!$A$3:$B$67,2,0)","v":"Depot Pontual - (71) /3594-5732 | E-mails: marjorie@depotpontual.com.br; caio@depotpontual.com.br; Operacional01@depotpontual.com.br; operacionnal@depotpontual.com.br"}]
["BRSSA","42GP","TCLU4449235","Nao","DEPOT PONTUAL",{"$f":"VLOOKUP(E1596,'Padrão mensagem'!$A$3:$B$67,2,0)","v":"Depot Pontual - (71) /3594-5732 | E-mails: marjorie@depotpontual.com.br; caio@depotpontual.com.br; Operacional01@depotpontual.com.br; operacionnal@depotpontual.com.br"}]
["BRSSA","42GP","UACU8311562","Nao","DEPOT PONTUAL",{"$f":"VLOOKUP(E1597,'Padrão mensagem'!$A$3:$B$67,2,0)","v":"Depot Pontual - (71) /3594-5732 | E-mails: marjorie@depotpontual.com.br; caio@depotpontual.com.br; Operacional01@depotpontual.com.br; operacionnal@depotpontual.com.br"}]
["BRCUC","45GP","FANU1278796","Nao","TERMACO TERMINAIS",{"$f":"VLOOKUP(E1598,'Padrão mensagem'!$A$3:$B$67,2,0)","v":"Depot Termaco Terminais - (85) 99213 7266 | E-mail:gate.cac@termaco.com.br"}]
["BRCUC","45GP","FANU1292876","Nao","TERMACO TERMINAIS",{"$f":"VLOOKUP(E1599,'Padrão mensagem'!$A$3:$B$67,2,0)","v":"Depot Termaco Terminais - (85) 99213 7266 | E-mail:gate.cac@termaco.com.br"}]
["BRCUC","45GP","FANU1705619","Nao","TERMACO TERMINAIS",{"$f":"VLOOKUP(E1600,'Padrão mensagem'!$A$3:$B$67,2,0)","v":"Depot Termaco Terminais - (85) 99213 7266 | E-mail:gate.cac@termaco.com.br"}]
["BRCUC","45GP","GCXU5925388","Nao","TERMACO TERMINAIS",{"$f":"VLOOKUP(E1601,'Padrão mensagem'!$A$3:$B$67,2,0)","v":"Depot Termaco Terminais - (85) 99213 7266 | E-mail:gate.cac@termaco.com.br"}]
["BRCUC","45GP","HLBU3119220","Nao","TERMACO TERMINAIS",{"$f":"VLOOKUP(E1602,'Padrão mensagem'!$A$3:$B$67,2,0)","v":"Depot Termaco Terminais - (85) 99213 7266 | E-mail:gate.cac@termaco.com.br"}]
["BRCUC","45GP","HLXU8132962","Nao","TERMACO TERMINAIS",{"$f":"VLOOKUP(E1603,'Padrão mensagem'!$A$3:$B$67,2,0)","v":"Depot Termaco Terminais - (85) 99213 7266 | E-mail:gate.cac@termaco.com.br"}]
["BRCUC","45GP","HLXU8403730","Nao","TERMACO TERMINAIS",{"$f":"VLOOKUP(E1604,'Padrão mensagem'!$A$3:$B$67,2,0)","v":"Depot Termaco Terminais - (85) 99213 7266 | E-mail:gate.cac@termaco.com.br"}]
["BRCUC","45GP","TCKU6557381","Nao","TERMACO TERMINAIS",{"$f":"VLOOKUP(E1605,'Padrão mensagem'!$A$3:$B$67,2,0)","v":"Depot Termaco Terminais - (85) 99213 7266 | E-mail:gate.cac@termaco.com.br"}]
["BRCUC","45GP","TCKU6598499","Nao","TERMACO TERMINAIS",{"$f":"VLOOKUP(E1606,'Padrão mensagem'!$A$3:$B$67,2,0)","v":"Depot Termaco Terminais - (85) 99213 7266 | E-mail:gate.cac@termaco.com.br"}]
["BRCUC","45GP","TCLU5153382","Nao","TERMACO TERMINAIS",{"$f":"VLOOKUP(E1607,'Padrão mensagem'!$A$3:$B$67,2,0)","v":"Depot Termaco Terminais - (85) 99213 7266 | E-mail:gate.cac@termaco.com.br"}]
["BRCUC","45GP","TEMU7472513","Nao","TERMACO TERMINAIS",{"$f":"VLOOKUP(E1608,'Padrão mensagem'!$A$3:$B$67,2,0)","v":"Depot Termaco Terminais - (85) 99213 7266 | E-mail:gate.cac@termaco.com.br"}]
["BRCUC","45GP","TGBU5319906","Nao","TERMACO TERMINAIS",{"$f":"VLOOKUP(E1609,'Padrão mensagem'!$A$3:$B$67,2,0)","v":"Depot Termaco Terminais - (85) 99213 7266 | E-mail:gate.cac@termaco.com.br"}]
["BRCUC","45GP","TGHU9808830","Nao","TERMACO TERMINAIS",{"$f":"VLOOKUP(E1610,'Padrão mensagem'!$A$3:$B$67,2,0)","v":"Depot Termaco Terminais - (85) 99213 7266 | E-mail:gate.cac@termaco.com.br"}]
["BRCUC","45GP","UACU5357770","Nao","TERMACO TERMINAIS",{"$f":"VLOOKUP(E1611,'Padrão mensagem'!$A$3:$B$67,2,0)","v":"Depot Termaco Terminais - (85) 99213 7266 | E-mail:gate.cac@termaco.com.br"}]
["BRCUC","45GP","HAMU1544786","Nao","TERMACO TERMINAIS",{"$f":"VLOOKUP(E1612,'Padrão mensagem'!$A$3:$B$67,2,0)","v":"Depot Termaco Terminais - (85) 99213 7266 | E-mail:gate.cac@termaco.com.br"}]
["BRCUC","45GP","FANU3011880","Nao","TERMACO TERMINAIS",{"$f":"VLOOKUP(E1613,'Padrão mensagem'!$A$3:$B$67,2,0)","v":"Depot Termaco Terminais - (85) 99213 7266 | E-mail:gate.cac@termaco.com.br"}]
["BRCUC","45GP","HAMU1990432","Nao","TERMACO TERMINAIS",{"$f":"VLOOKUP(E1614,'Padrão mensagem'!$A$3:$B$67,2,0)","v":"Depot Termaco Terminais - (85) 99213 7266 | E-mail:gate.cac@termaco.com.br"}]
["BRCUC","45GP","FANU3832422","Nao","TERMACO TERMINAIS",{"$f":"VLOOKUP(E1615,'Padrão mensagem'!$A$3:$B$67,2,0)","v":"Depot Termaco Terminais - (85) 99213 7266 | E-mail:gate.cac@termaco.com.br"}]
["BRCUC","22GP","DRYU2173836","Nao","TERMACO TERMINAIS",{"$f":"VLOOKUP(E1616,'Padrão mensagem'!$A$3:$B$67,2,0)","v":"Depot Termaco Terminais - (85) 99213 7266 | E-mail:gate.cac@termaco.com.br"}]
["BRCUC","22GP","TEMU5183390","Nao","TERMACO TERMINAIS",{"$f":"VLOOKUP(E1617,'Padrão mensagem'!$A$3:$B$67,2,0)","v":"Depot Termaco Terminais - (85) 99213 7266 | E-mail:gate.cac@termaco.com.br"}]
["BRCUC","22GP","CAIU3355428","Nao","TERMACO TERMINAIS",{"$f":"VLOOKUP(E1618,'Padrão mensagem'!$A$3:$B$67,2,0)","v":"Depot Termaco Terminais - (85) 99213 7266 | E-mail:gate.cac@termaco.com.br"}]
["BRSSA","22GP","HLBU3450897","Nao","DEPOT PONTUAL",{"$f":"VLOOKUP(E1619,'Padrão mensagem'!$A$3:$B$67,2,0)","v":"Depot Pontual - (71) /3594-5732 | E-mails: marjorie@depotpontual.com.br; caio@depotpontual.com.br; Operacional01@depotpontual.com.br; operacionnal@depotpontual.com.br"}]
["BRSSA","22GP","HLBU1336416","Nao","DEPOT PONTUAL",{"$f":"VLOOKUP(E1620,'Padrão mensagem'!$A$3:$B$67,2,0)","v":"Depot Pontual - (71) /3594-5732 | E-mails: marjorie@depotpontual.com.br; caio@depotpontual.com.br; Operacional01@depotpontual.com.br; operacionnal@depotpontual.com.br"}]
["BRSSA","22GP","HLXU1010598","Nao","DEPOT PONTUAL",{"$f":"VLOOKUP(E1621,'Padrão mensagem'!$A$3:$B$67,2,0)","v":"Depot Pontual - (71) /3594-5732 | E-mails: marjorie@depotpontual.com.br; caio@depotpontual.com.br; Operacional01@depotpontual.com.br; operacionnal@depotpontual.com.br"}]
["BRSUA","45RT","HLBU9437341","Nao","Tecon Suape",{"$f":"VLOOKUP(E1622,'Padrão mensagem'!$A$3:$B$67,2,0)","v":"Tecon Suape - Acessar o site\nhttps://www.teconsuape.com/portalservicos/#!/login\ne informar o número de booking DDHLLMTY202401"}]
["BRSUA","45RT","UACU4773140","Nao","Tecon Suape",{"$f":"VLOOKUP(E1623,'Padrão mensagem'!$A$3:$B$67,2,0)","v":"Tecon Suape - Acessar o site\nhttps://www.teconsuape.com/portalservicos/#!/login\ne informar o número de booking DDHLLMTY202401"}]
["BRSSA","45GP","HLBU3295595","Nao","DEPOT PONTUAL",{"$f":"VLOOKUP(E1624,'Padrão mensagem'!$A$3:$B$67,2,0)","v":"Depot Pontual - (71) /3594-5732 | E-mails: marjorie@depotpontual.com.br; caio@depotpontual.com.br; Operacional01@depotpontual.com.br; operacionnal@depotpontual.com.br"}]
["BRSUA","45GP","TXGU7100078","Nao","Ziranlog SUA ",{"$f":"VLOOKUP(E1625,'Padrão mensagem'!$A$3:$B$67,2,0)","v":"Ziranlog SUA       -        (21) 973373045  |  E-mail: Controle@zirannordeste.com.br; gate@zirannordeste.com.br"}]
["BRSUA","45GP","NYKU5137422","Nao","Ziranlog SUA ",{"$f":"VLOOKUP(E1626,'Padrão mensagem'!$A$3:$B$67,2,0)","v":"Ziranlog SUA       -        (21) 973373045  |  E-mail: Controle@zirannordeste.com.br; gate@zirannordeste.com.br"}]
["BRSUA","45GP","FANU3672392","Nao","Ziranlog SUA ",{"$f":"VLOOKUP(E1627,'Padrão mensagem'!$A$3:$B$67,2,0)","v":"Ziranlog SUA       -        (21) 973373045  |  E-mail: Controle@zirannordeste.com.br; gate@zirannordeste.com.br"}]
["BRSUA","45GP","TXGU6750058","Nao","Ziranlog SUA ",{"$f":"VLOOKUP(E1628,'Padrão mensagem'!$A$3:$B$67,2,0)","v":"Ziranlog SUA       -        (21) 973373045  |  E-mail: Controle@zirannordeste.com.br; gate@zirannordeste.com.br"}]
["BRSUA","45GP","FANU1906418","Nao","Ziranlog SUA ",{"$f":"VLOOKUP(E1629,'Padrão mensagem'!$A$3:$B$67,2,0)","v":"Ziranlog SUA       -        (21) 973373045  |  E-mail: Controle@zirannordeste.com.br; gate@zirannordeste.com.br"}]
["BRSUA","45GP","DRYU9740227","Nao","Ziranlog SUA ",{"$f":"VLOOKUP(E1630,'Padrão mensagem'!$A$3:$B$67,2,0)","v":"Ziranlog SUA       -        (21) 973373045  |  E-mail: Controle@zirannordeste.com.br; gate@zirannordeste.com.br"}]
["BRSUA","45GP","TCNU1830796","Nao","Ziranlog SUA ",{"$f":"VLOOKUP(E1631,'Padrão mensagem'!$A$3:$B$67,2,0)","v":"Ziranlog SUA       -        (21) 973373045  |  E-mail: Controle@zirannordeste.com.br; gate@zirannordeste.com.br"}]
["BRSSA","22GP","LYGU8076617","Nao","DEPOT PONTUAL",{"$f":"VLOOKUP(E1632,'Padrão mensagem'!$A$3:$B$67,2,0)","v":"Depot Pontual - (71) /3594-5732 | E-mails: marjorie@depotpontual.com.br; caio@depotpontual.com.br; Operacional01@depotpontual.com.br; operacionnal@depotpontual.com.br"}]
["BRSSA","22GP","HLXU1274435","Nao","DEPOT PONTUAL",{"$f":"VLOOKUP(E1633,'Padrão mensagem'!$A$3:$B$67,2,0)","v":"Depot Pontual - (71) /3594-5732 | E-mails: marjorie@depotpontual.com.br; caio@depotpontual.com.br; Operacional01@depotpontual.com.br; operacionnal@depotpontual.com.br"}]
["BRSSA","22GP","HLBU3483592","Nao","DEPOT PONTUAL",{"$f":"VLOOKUP(E1634,'Padrão mensagem'!$A$3:$B$67,2,0)","v":"Depot Pontual - (71) /3594-5732 | E-mails: marjorie@depotpontual.com.br; caio@depotpontual.com.br; Operacional01@depotpontual.com.br; operacionnal@depotpontual.com.br"}]
["BRSSA","22GP","FTAU1594041","Nao","DEPOT PONTUAL",{"$f":"VLOOKUP(E1635,'Padrão mensagem'!$A$3:$B$67,2,0)","v":"Depot Pontual - (71) /3594-5732 | E-mails: marjorie@depotpontual.com.br; caio@depotpontual.com.br; Operacional01@depotpontual.com.br; operacionnal@depotpontual.com.br"}]
["BRSSA","22GP","UACU3664675","Nao","DEPOT PONTUAL",{"$f":"VLOOKUP(E1636,'Padrão mensagem'!$A$3:$B$67,2,0)","v":"Depot Pontual - (71) /3594-5732 | E-mails: marjorie@depotpontual.com.br; caio@depotpontual.com.br; Operacional01@depotpontual.com.br; operacionnal@depotpontual.com.br"}]
["BRMAO","45RT","HLBU9667909","Nao","SUPER TERMINAIS",{"$f":"VLOOKUP(E1637,'Padrão mensagem'!$A$3:$B$67,2,0)","v":"Depot Super Terminais - (92) 3616-2650 / E-mails: coordenacao.depot@superterminais.com.br; reparos.container@superterminais.com.br"}]
["BRMAO","42GP","HLXU5403058","Nao","SUPER TERMINAIS",{"$f":"VLOOKUP(E1638,'Padrão mensagem'!$A$3:$B$67,2,0)","v":"Depot Super Terminais - (92) 3616-2650 / E-mails: coordenacao.depot@superterminais.com.br; reparos.container@superterminais.com.br"}]
["BRMAO","42GP","HLBU1530015","Nao","SUPER TERMINAIS",{"$f":"VLOOKUP(E1639,'Padrão mensagem'!$A$3:$B$67,2,0)","v":"Depot Super Terminais - (92) 3616-2650 / E-mails: coordenacao.depot@superterminais.com.br; reparos.container@superterminais.com.br"}]
["BRMAO","45GP","HLBU2702865","Nao","SUPER TERMINAIS",{"$f":"VLOOKUP(E1640,'Padrão mensagem'!$A$3:$B$67,2,0)","v":"Depot Super Terminais - (92) 3616-2650 / E-mails: coordenacao.depot@superterminais.com.br; reparos.container@superterminais.com.br"}]
["BRMAO","45GP","CAIU4798204","Nao","SUPER TERMINAIS",{"$f":"VLOOKUP(E1641,'Padrão mensagem'!$A$3:$B$67,2,0)","v":"Depot Super Terminais - (92) 3616-2650 / E-mails: coordenacao.depot@superterminais.com.br; reparos.container@superterminais.com.br"}]
["BRMAO","45GP","CAAU5570772","Nao","SUPER TERMINAIS",{"$f":"VLOOKUP(E1642,'Padrão mensagem'!$A$3:$B$67,2,0)","v":"Depot Super Terminais - (92) 3616-2650 / E-mails: coordenacao.depot@superterminais.com.br; reparos.container@superterminais.com.br"}]
["BRMAO","45RT","HLBU6007861","Nao","SUPER TERMINAIS",{"$f":"VLOOKUP(E1643,'Padrão mensagem'!$A$3:$B$67,2,0)","v":"Depot Super Terminais - (92) 3616-2650 / E-mails: coordenacao.depot@superterminais.com.br; reparos.container@superterminais.com.br"}]
["BRMAO","45GP","GESU6142141","Nao","SUPER TERMINAIS",{"$f":"VLOOKUP(E1644,'Padrão mensagem'!$A$3:$B$67,2,0)","v":"Depot Super Terminais - (92) 3616-2650 / E-mails: coordenacao.depot@superterminais.com.br; reparos.container@superterminais.com.br"}]
["BRMAO","45GP","TRLU7518010","Nao","SUPER TERMINAIS",{"$f":"VLOOKUP(E1645,'Padrão mensagem'!$A$3:$B$67,2,0)","v":"Depot Super Terminais - (92) 3616-2650 / E-mails: coordenacao.depot@superterminais.com.br; reparos.container@superterminais.com.br"}]
["BRMAO","45GP","CAAU5325374","Nao","SUPER TERMINAIS",{"$f":"VLOOKUP(E1646,'Padrão mensagem'!$A$3:$B$67,2,0)","v":"Depot Super Terminais - (92) 3616-2650 / E-mails: coordenacao.depot@superterminais.com.br; reparos.container@superterminais.com.br"}]
["BRMAO","45GP","SLSU8069386","Nao","SUPER TERMINAIS",{"$f":"VLOOKUP(E1647,'Padrão mensagem'!$A$3:$B$67,2,0)","v":"Depot Super Terminais - (92) 3616-2650 / E-mails: coordenacao.depot@superterminais.com.br; reparos.container@superterminais.com.br"}]
["BRMAO","45GP","UASU1054042","Nao","SUPER TERMINAIS",{"$f":"VLOOKUP(E1648,'Padrão mensagem'!$A$3:$B$67,2,0)","v":"Depot Super Terminais - (92) 3616-2650 / E-mails: coordenacao.depot@superterminais.com.br; reparos.container@superterminais.com.br"}]
["BRMAO","45RT","BMOU9267371","Nao","SUPER TERMINAIS",{"$f":"VLOOKUP(E1649,'Padrão mensagem'!$A$3:$B$67,2,0)","v":"Depot Super Terminais - (92) 3616-2650 / E-mails: coordenacao.depot@superterminais.com.br; reparos.container@superterminais.com.br"}]
["BRMAO","45GP","TGBU5753980","Nao","SUPER TERMINAIS",{"$f":"VLOOKUP(E1650,'Padrão mensagem'!$A$3:$B$67,2,0)","v":"Depot Super Terminais - (92) 3616-2650 / E-mails: coordenacao.depot@superterminais.com.br; reparos.container@superterminais.com.br"}]
["BRMAO","45GP","UACU5979265","Nao","SUPER TERMINAIS",{"$f":"VLOOKUP(E1651,'Padrão mensagem'!$A$3:$B$67,2,0)","v":"Depot Super Terminais - (92) 3616-2650 / E-mails: coordenacao.depot@superterminais.com.br; reparos.container@superterminais.com.br"}]
["BRMAO","45GP","UACU5508521","Nao","SUPER TERMINAIS",{"$f":"VLOOKUP(E1652,'Padrão mensagem'!$A$3:$B$67,2,0)","v":"Depot Super Terminais - (92) 3616-2650 / E-mails: coordenacao.depot@superterminais.com.br; reparos.container@superterminais.com.br"}]
["BRMAO","45GP","HLXU8359874","Nao","SUPER TERMINAIS",{"$f":"VLOOKUP(E1653,'Padrão mensagem'!$A$3:$B$67,2,0)","v":"Depot Super Terminais - (92) 3616-2650 / E-mails: coordenacao.depot@superterminais.com.br; reparos.container@superterminais.com.br"}]
["BRMAO","45GP","UACU5704972","Nao","SUPER TERMINAIS",{"$f":"VLOOKUP(E1654,'Padrão mensagem'!$A$3:$B$67,2,0)","v":"Depot Super Terminais - (92) 3616-2650 / E-mails: coordenacao.depot@superterminais.com.br; reparos.container@superterminais.com.br"}]
["BRMAO","45GP","HLXU8049518","Nao","SUPER TERMINAIS",{"$f":"VLOOKUP(E1655,'Padrão mensagem'!$A$3:$B$67,2,0)","v":"Depot Super Terminais - (92) 3616-2650 / E-mails: coordenacao.depot@superterminais.com.br; reparos.container@superterminais.com.br"}]
["BRMAO","45GP","HAMU2731441","Nao","SUPER TERMINAIS",{"$f":"VLOOKUP(E1656,'Padrão mensagem'!$A$3:$B$67,2,0)","v":"Depot Super Terminais - (92) 3616-2650 / E-mails: coordenacao.depot@superterminais.com.br; reparos.container@superterminais.com.br"}]
["BRMAO","45GP","HAMU2731396","Nao","SUPER TERMINAIS",{"$f":"VLOOKUP(E1657,'Padrão mensagem'!$A$3:$B$67,2,0)","v":"Depot Super Terminais - (92) 3616-2650 / E-mails: coordenacao.depot@superterminais.com.br; reparos.container@superterminais.com.br"}]
["BRMAO","45GP","TCKU6548435","Nao","SUPER TERMINAIS",{"$f":"VLOOKUP(E1658,'Padrão mensagem'!$A$3:$B$67,2,0)","v":"Depot Super Terminais - (92) 3616-2650 / E-mails: coordenacao.depot@superterminais.com.br; reparos.container@superterminais.com.br"}]
["BRMAO","45GP","TCNU4830995","Nao","SUPER TERMINAIS",{"$f":"VLOOKUP(E1659,'Padrão mensagem'!$A$3:$B$67,2,0)","v":"Depot Super Terminais - (92) 3616-2650 / E-mails: coordenacao.depot@superterminais.com.br; reparos.container@superterminais.com.br"}]
["BRMAO","45GP","HLBU3285616","Nao","SUPER TERMINAIS",{"$f":"VLOOKUP(E1660,'Padrão mensagem'!$A$3:$B$67,2,0)","v":"Depot Super Terminais - (92) 3616-2650 / E-mails: coordenacao.depot@superterminais.com.br; reparos.container@superterminais.com.br"}]
["BRMAO","45GP","UETU5508104","Nao","SUPER TERMINAIS",{"$f":"VLOOKUP(E1661,'Padrão mensagem'!$A$3:$B$67,2,0)","v":"Depot Super Terminais - (92) 3616-2650 / E-mails: coordenacao.depot@superterminais.com.br; reparos.container@superterminais.com.br"}]
["BRMAO","45GP","TCLU5462381","Nao","SUPER TERMINAIS",{"$f":"VLOOKUP(E1662,'Padrão mensagem'!$A$3:$B$67,2,0)","v":"Depot Super Terminais - (92) 3616-2650 / E-mails: coordenacao.depot@superterminais.com.br; reparos.container@superterminais.com.br"}]
["BRMAO","45GP","UACU5744105","Nao","SUPER TERMINAIS",{"$f":"VLOOKUP(E1663,'Padrão mensagem'!$A$3:$B$67,2,0)","v":"Depot Super Terminais - (92) 3616-2650 / E-mails: coordenacao.depot@superterminais.com.br; reparos.container@superterminais.com.br"}]
["BRMAO","45GP","FFAU2866635","Nao","SUPER TERMINAIS",{"$f":"VLOOKUP(E1664,'Padrão mensagem'!$A$3:$B$67,2,0)","v":"Depot Super Terminais - (92) 3616-2650 / E-mails: coordenacao.depot@superterminais.com.br; reparos.container@superterminais.com.br"}]
["BRMAO","22GP","TGCU2109659","Nao","SUPER TERMINAIS",{"$f":"VLOOKUP(E1665,'Padrão mensagem'!$A$3:$B$67,2,0)","v":"Depot Super Terminais - (92) 3616-2650 / E-mails: coordenacao.depot@superterminais.com.br; reparos.container@superterminais.com.br"}]
["BRMAO","45GP","BEAU6001296","Nao","SUPER TERMINAIS",{"$f":"VLOOKUP(E1666,'Padrão mensagem'!$A$3:$B$67,2,0)","v":"Depot Super Terminais - (92) 3616-2650 / E-mails: coordenacao.depot@superterminais.com.br; reparos.container@superterminais.com.br"}]
["BRMAO","45RT","FSCU5697406","Nao","SUPER TERMINAIS",{"$f":"VLOOKUP(E1667,'Padrão mensagem'!$A$3:$B$67,2,0)","v":"Depot Super Terminais - (92) 3616-2650 / E-mails: coordenacao.depot@superterminais.com.br; reparos.container@superterminais.com.br"}]
["BRMAO","45GP","TCNU6800285","Nao","SUPER TERMINAIS",{"$f":"VLOOKUP(E1668,'Padrão mensagem'!$A$3:$B$67,2,0)","v":"Depot Super Terminais - (92) 3616-2650 / E-mails: coordenacao.depot@superterminais.com.br; reparos.container@superterminais.com.br"}]
["BRMAO","45GP","FANU1257751","Nao","SUPER TERMINAIS",{"$f":"VLOOKUP(E1669,'Padrão mensagem'!$A$3:$B$67,2,0)","v":"Depot Super Terminais - (92) 3616-2650 / E-mails: coordenacao.depot@superterminais.com.br; reparos.container@superterminais.com.br"}]
["BRMAO","45RT","HLBU9074713","Nao","SUPER TERMINAIS",{"$f":"VLOOKUP(E1670,'Padrão mensagem'!$A$3:$B$67,2,0)","v":"Depot Super Terminais - (92) 3616-2650 / E-mails: coordenacao.depot@superterminais.com.br; reparos.container@superterminais.com.br"}]
["BRMAO","45GP","HAMU1262611","Nao","SUPER TERMINAIS",{"$f":"VLOOKUP(E1671,'Padrão mensagem'!$A$3:$B$67,2,0)","v":"Depot Super Terminais - (92) 3616-2650 / E-mails: coordenacao.depot@superterminais.com.br; reparos.container@superterminais.com.br"}]
["BRMAO","45GP","GESU6442180","Nao","SUPER TERMINAIS",{"$f":"VLOOKUP(E1672,'Padrão mensagem'!$A$3:$B$67,2,0)","v":"Depot Super Terminais - (92) 3616-2650 / E-mails: coordenacao.depot@superterminais.com.br; reparos.container@superterminais.com.br"}]
["BRMAO","45GP","TCNU1914428","Nao","SUPER TERMINAIS",{"$f":"VLOOKUP(E1673,'Padrão mensagem'!$A$3:$B$67,2,0)","v":"Depot Super Terminais - (92) 3616-2650 / E-mails: coordenacao.depot@superterminais.com.br; reparos.container@superterminais.com.br"}]
["BRMAO","22GP","CARU3830709","Nao","SUPER TERMINAIS",{"$f":"VLOOKUP(E1674,'Padrão mensagem'!$A$3:$B$67,2,0)","v":"Depot Super Terminais - (92) 3616-2650 / E-mails: coordenacao.depot@superterminais.com.br; reparos.container@superterminais.com.br"}]
["BRMAO","22GP","TRHU2131117","Nao","SUPER TERMINAIS",{"$f":"VLOOKUP(E1675,'Padrão mensagem'!$A$3:$B$67,2,0)","v":"Depot Super Terminais - (92) 3616-2650 / E-mails: coordenacao.depot@superterminais.com.br; reparos.container@superterminais.com.br"}]
["BRMAO","22GP","HLXU3543338","Nao","SUPER TERMINAIS",{"$f":"VLOOKUP(E1676,'Padrão mensagem'!$A$3:$B$67,2,0)","v":"Depot Super Terminais - (92) 3616-2650 / E-mails: coordenacao.depot@superterminais.com.br; reparos.container@superterminais.com.br"}]
["BRMAO","22GP","HLBU3640583","Nao","SUPER TERMINAIS",{"$f":"VLOOKUP(E1677,'Padrão mensagem'!$A$3:$B$67,2,0)","v":"Depot Super Terminais - (92) 3616-2650 / E-mails: coordenacao.depot@superterminais.com.br; reparos.container@superterminais.com.br"}]
["BRMAO","22GP","TEMU5183039","Nao","SUPER TERMINAIS",{"$f":"VLOOKUP(E1678,'Padrão mensagem'!$A$3:$B$67,2,0)","v":"Depot Super Terminais - (92) 3616-2650 / E-mails: coordenacao.depot@superterminais.com.br; reparos.container@superterminais.com.br"}]
["BRMAO","22GP","HLBU3044809","Nao","SUPER TERMINAIS",{"$f":"VLOOKUP(E1679,'Padrão mensagem'!$A$3:$B$67,2,0)","v":"Depot Super Terminais - (92) 3616-2650 / E-mails: coordenacao.depot@superterminais.com.br; reparos.container@superterminais.com.br"}]
["BRMAO","22GP","DRYU3030763","Nao","SUPER TERMINAIS",{"$f":"VLOOKUP(E1680,'Padrão mensagem'!$A$3:$B$67,2,0)","v":"Depot Super Terminais - (92) 3616-2650 / E-mails: coordenacao.depot@superterminais.com.br; reparos.container@superterminais.com.br"}]
["BRMAO","22GP","MWLU3406037","Nao","SUPER TERMINAIS",{"$f":"VLOOKUP(E1681,'Padrão mensagem'!$A$3:$B$67,2,0)","v":"Depot Super Terminais - (92) 3616-2650 / E-mails: coordenacao.depot@superterminais.com.br; reparos.container@superterminais.com.br"}]
["BRMAO","22GP","UACU3937682","Nao","SUPER TERMINAIS",{"$f":"VLOOKUP(E1682,'Padrão mensagem'!$A$3:$B$67,2,0)","v":"Depot Super Terminais - (92) 3616-2650 / E-mails: coordenacao.depot@superterminais.com.br; reparos.container@superterminais.com.br"}]
["BRMAO","22GP","UACU4055117","Nao","SUPER TERMINAIS",{"$f":"VLOOKUP(E1683,'Padrão mensagem'!$A$3:$B$67,2,0)","v":"Depot Super Terminais - (92) 3616-2650 / E-mails: coordenacao.depot@superterminais.com.br; reparos.container@superterminais.com.br"}]
["BRMAO","22GP","UACU4055987","Nao","SUPER TERMINAIS",{"$f":"VLOOKUP(E1684,'Padrão mensagem'!$A$3:$B$67,2,0)","v":"Depot Super Terminais - (92) 3616-2650 / E-mails: coordenacao.depot@superterminais.com.br; reparos.container@superterminais.com.br"}]
["BRMAO","22GP","DFSU2240405","Nao","SUPER TERMINAIS",{"$f":"VLOOKUP(E1685,'Padrão mensagem'!$A$3:$B$67,2,0)","v":"Depot Super Terminais - (92) 3616-2650 / E-mails: coordenacao.depot@superterminais.com.br; reparos.container@superterminais.com.br"}]
["BRMAO","22GP","HAMU1002511","Nao","SUPER TERMINAIS",{"$f":"VLOOKUP(E1686,'Padrão mensagem'!$A$3:$B$67,2,0)","v":"Depot Super Terminais - (92) 3616-2650 / E-mails: coordenacao.depot@superterminais.com.br; reparos.container@superterminais.com.br"}]
["BRMAO","22GP","HLBU3710799","Nao","SUPER TERMINAIS",{"$f":"VLOOKUP(E1687,'Padrão mensagem'!$A$3:$B$67,2,0)","v":"Depot Super Terminais - (92) 3616-2650 / E-mails: coordenacao.depot@superterminais.com.br; reparos.container@superterminais.com.br"}]
["BRMAO","22GP","GCXU2417700","Nao","SUPER TERMINAIS",{"$f":"VLOOKUP(E1688,'Padrão mensagem'!$A$3:$B$67,2,0)","v":"Depot Super Terminais - (92) 3616-2650 / E-mails: coordenacao.depot@superterminais.com.br; reparos.container@superterminais.com.br"}]
["BRMAO","45GP","TLNU4215253","Nao","SUPER TERMINAIS",{"$f":"VLOOKUP(E1689,'Padrão mensagem'!$A$3:$B$67,2,0)","v":"Depot Super Terminais - (92) 3616-2650 / E-mails: coordenacao.depot@superterminais.com.br; reparos.container@superterminais.com.br"}]
["BRMAO","45GP","HAMU2733383","Nao","SUPER TERMINAIS",{"$f":"VLOOKUP(E1690,'Padrão mensagem'!$A$3:$B$67,2,0)","v":"Depot Super Terminais - (92) 3616-2650 / E-mails: coordenacao.depot@superterminais.com.br; reparos.container@superterminais.com.br"}]
["BRMAO","22GP","TEMU1791175","Nao","SUPER TERMINAIS",{"$f":"VLOOKUP(E1691,'Padrão mensagem'!$A$3:$B$67,2,0)","v":"Depot Super Terminais - (92) 3616-2650 / E-mails: coordenacao.depot@superterminais.com.br; reparos.container@superterminais.com.br"}]
["BRMAO","45GP","FSCU7095157","Nao","SUPER TERMINAIS",{"$f":"VLOOKUP(E1692,'Padrão mensagem'!$A$3:$B$67,2,0)","v":"Depot Super Terminais - (92) 3616-2650 / E-mails: coordenacao.depot@superterminais.com.br; reparos.container@superterminais.com.br"}]
["BRMAO","45GP","HLBU1718492","Nao","SUPER TERMINAIS",{"$f":"VLOOKUP(E1693,'Padrão mensagem'!$A$3:$B$67,2,0)","v":"Depot Super Terminais - (92) 3616-2650 / E-mails: coordenacao.depot@superterminais.com.br; reparos.container@superterminais.com.br"}]
["BRMAO","45GP","HAMU1271887","Nao","SUPER TERMINAIS",{"$f":"VLOOKUP(E1694,'Padrão mensagem'!$A$3:$B$67,2,0)","v":"Depot Super Terminais - (92) 3616-2650 / E-mails: coordenacao.depot@superterminais.com.br; reparos.container@superterminais.com.br"}]
["BRMAO","22GP","CAIU6790500","Nao","SUPER TERMINAIS",{"$f":"VLOOKUP(E1695,'Padrão mensagem'!$A$3:$B$67,2,0)","v":"Depot Super Terminais - (92) 3616-2650 / E-mails: coordenacao.depot@superterminais.com.br; reparos.container@superterminais.com.br"}]
["BRMAO","22GP","BSIU3257962","Nao","SUPER TERMINAIS",{"$f":"VLOOKUP(E1696,'Padrão mensagem'!$A$3:$B$67,2,0)","v":"Depot Super Terminais - (92) 3616-2650 / E-mails: coordenacao.depot@superterminais.com.br; reparos.container@superterminais.com.br"}]
["BRMAO","45RT","HLBU9422850","Nao","SUPER TERMINAIS",{"$f":"VLOOKUP(E1697,'Padrão mensagem'!$A$3:$B$67,2,0)","v":"Depot Super Terminais - (92) 3616-2650 / E-mails: coordenacao.depot@superterminais.com.br; reparos.container@superterminais.com.br"}]
["BRMAO","45GP","HAMU2729871","Nao","SUPER TERMINAIS",{"$f":"VLOOKUP(E1698,'Padrão mensagem'!$A$3:$B$67,2,0)","v":"Depot Super Terminais - (92) 3616-2650 / E-mails: coordenacao.depot@superterminais.com.br; reparos.container@superterminais.com.br"}]
["BRMAO","45GP","BMOU6571673","Nao","SUPER TERMINAIS",{"$f":"VLOOKUP(E1699,'Padrão mensagem'!$A$3:$B$67,2,0)","v":"Depot Super Terminais - (92) 3616-2650 / E-mails: coordenacao.depot@superterminais.com.br; reparos.container@superterminais.com.br"}]
["BRMAO","45GP","BEAU4167210","Nao","SUPER TERMINAIS",{"$f":"VLOOKUP(E1700,'Padrão mensagem'!$A$3:$B$67,2,0)","v":"Depot Super Terminais - (92) 3616-2650 / E-mails: coordenacao.depot@superterminais.com.br; reparos.container@superterminais.com.br"}]
["BRMAO","45GP","HLXU8364124","Nao","SUPER TERMINAIS",{"$f":"VLOOKUP(E1701,'Padrão mensagem'!$A$3:$B$67,2,0)","v":"Depot Super Terminais - (92) 3616-2650 / E-mails: coordenacao.depot@superterminais.com.br; reparos.container@superterminais.com.br"}]
["BRMAO","45GP","TCNU1788443","Nao","SUPER TERMINAIS",{"$f":"VLOOKUP(E1702,'Padrão mensagem'!$A$3:$B$67,2,0)","v":"Depot Super Terminais - (92) 3616-2650 / E-mails: coordenacao.depot@superterminais.com.br; reparos.container@superterminais.com.br"}]
["BRMAO","45GP","BEAU4994115","Nao","SUPER TERMINAIS",{"$f":"VLOOKUP(E1703,'Padrão mensagem'!$A$3:$B$67,2,0)","v":"Depot Super Terminais - (92) 3616-2650 / E-mails: coordenacao.depot@superterminais.com.br; reparos.container@superterminais.com.br"}]
["BRMAO","45GP","BEAU4209228","Nao","SUPER TERMINAIS",{"$f":"VLOOKUP(E1704,'Padrão mensagem'!$A$3:$B$67,2,0)","v":"Depot Super Terminais - (92) 3616-2650 / E-mails: coordenacao.depot@superterminais.com.br; reparos.container@superterminais.com.br"}]
["BRMAO","45GP","HLBU3422869","Nao","SUPER TERMINAIS",{"$f":"VLOOKUP(E1705,'Padrão mensagem'!$A$3:$B$67,2,0)","v":"Depot Super Terminais - (92) 3616-2650 / E-mails: coordenacao.depot@superterminais.com.br; reparos.container@superterminais.com.br"}]
["BRMAO","45GP","HLBU1323527","Nao","SUPER TERMINAIS",{"$f":"VLOOKUP(E1706,'Padrão mensagem'!$A$3:$B$67,2,0)","v":"Depot Super Terminais - (92) 3616-2650 / E-mails: coordenacao.depot@superterminais.com.br; reparos.container@superterminais.com.br"}]
["BRMAO","45GP","TEMU8516724","Nao","SUPER TERMINAIS",{"$f":"VLOOKUP(E1707,'Padrão mensagem'!$A$3:$B$67,2,0)","v":"Depot Super Terminais - (92) 3616-2650 / E-mails: coordenacao.depot@superterminais.com.br; reparos.container@superterminais.com.br"}]
["BRMAO","45GP","FANU3269350","Nao","SUPER TERMINAIS",{"$f":"VLOOKUP(E1708,'Padrão mensagem'!$A$3:$B$67,2,0)","v":"Depot Super Terminais - (92) 3616-2650 / E-mails: coordenacao.depot@superterminais.com.br; reparos.container@superterminais.com.br"}]
["BRMAO","45GP","HLBU1645673","Nao","SUPER TERMINAIS",{"$f":"VLOOKUP(E1709,'Padrão mensagem'!$A$3:$B$67,2,0)","v":"Depot Super Terminais - (92) 3616-2650 / E-mails: coordenacao.depot@superterminais.com.br; reparos.container@superterminais.com.br"}]
["BRMAO","45GP","CAIU4983809","Nao","SUPER TERMINAIS",{"$f":"VLOOKUP(E1710,'Padrão mensagem'!$A$3:$B$67,2,0)","v":"Depot Super Terminais - (92) 3616-2650 / E-mails: coordenacao.depot@superterminais.com.br; reparos.container@superterminais.com.br"}]
["BRMAO","45GP","DRYU9755206","Nao","SUPER TERMINAIS",{"$f":"VLOOKUP(E1711,'Padrão mensagem'!$A$3:$B$67,2,0)","v":"Depot Super Terminais - (92) 3616-2650 / E-mails: coordenacao.depot@superterminais.com.br; reparos.container@superterminais.com.br"}]
["BRMAO","45GP","SEKU6316535","Nao","SUPER TERMINAIS",{"$f":"VLOOKUP(E1712,'Padrão mensagem'!$A$3:$B$67,2,0)","v":"Depot Super Terminais - (92) 3616-2650 / E-mails: coordenacao.depot@superterminais.com.br; reparos.container@superterminais.com.br"}]
["BRMAO","45GP","CAIU8357254","Nao","SUPER TERMINAIS",{"$f":"VLOOKUP(E1713,'Padrão mensagem'!$A$3:$B$67,2,0)","v":"Depot Super Terminais - (92) 3616-2650 / E-mails: coordenacao.depot@superterminais.com.br; reparos.container@superterminais.com.br"}]
["BRMAO","45GP","HLBU2093250","Nao","SUPER TERMINAIS",{"$f":"VLOOKUP(E1714,'Padrão mensagem'!$A$3:$B$67,2,0)","v":"Depot Super Terminais - (92) 3616-2650 / E-mails: coordenacao.depot@superterminais.com.br; reparos.container@superterminais.com.br"}]
["BRMAO","45RT","HLBU9064119","Nao","SUPER TERMINAIS",{"$f":"VLOOKUP(E1715,'Padrão mensagem'!$A$3:$B$67,2,0)","v":"Depot Super Terminais - (92) 3616-2650 / E-mails: coordenacao.depot@superterminais.com.br; reparos.container@superterminais.com.br"}]
["BRMAO","45RT","UACU4743378","Nao","SUPER TERMINAIS",{"$f":"VLOOKUP(E1716,'Padrão mensagem'!$A$3:$B$67,2,0)","v":"Depot Super Terminais - (92) 3616-2650 / E-mails: coordenacao.depot@superterminais.com.br; reparos.container@superterminais.com.br"}]
["BRMAO","45GP","HLBU1630903","Nao","SUPER TERMINAIS",{"$f":"VLOOKUP(E1717,'Padrão mensagem'!$A$3:$B$67,2,0)","v":"Depot Super Terminais - (92) 3616-2650 / E-mails: coordenacao.depot@superterminais.com.br; reparos.container@superterminais.com.br"}]
["BRMAO","45GP","TGBU9631609","Nao","SUPER TERMINAIS",{"$f":"VLOOKUP(E1718,'Padrão mensagem'!$A$3:$B$67,2,0)","v":"Depot Super Terminais - (92) 3616-2650 / E-mails: coordenacao.depot@superterminais.com.br; reparos.container@superterminais.com.br"}]
["BRMAO","22GP","SEGU2123960","Nao","SUPER TERMINAIS",{"$f":"VLOOKUP(E1719,'Padrão mensagem'!$A$3:$B$67,2,0)","v":"Depot Super Terminais - (92) 3616-2650 / E-mails: coordenacao.depot@superterminais.com.br; reparos.container@superterminais.com.br"}]
["BRMAO","22GP","CAAU2009639","Nao","SUPER TERMINAIS",{"$f":"VLOOKUP(E1720,'Padrão mensagem'!$A$3:$B$67,2,0)","v":"Depot Super Terminais - (92) 3616-2650 / E-mails: coordenacao.depot@superterminais.com.br; reparos.container@superterminais.com.br"}]
["BRMAO","22GP","CAAU2003902","Nao","SUPER TERMINAIS",{"$f":"VLOOKUP(E1721,'Padrão mensagem'!$A$3:$B$67,2,0)","v":"Depot Super Terminais - (92) 3616-2650 / E-mails: coordenacao.depot@superterminais.com.br; reparos.container@superterminais.com.br"}]
["BRMAO","22GP","FANU1374233","Nao","SUPER TERMINAIS",{"$f":"VLOOKUP(E1722,'Padrão mensagem'!$A$3:$B$67,2,0)","v":"Depot Super Terminais - (92) 3616-2650 / E-mails: coordenacao.depot@superterminais.com.br; reparos.container@superterminais.com.br"}]
["BRMAO","22GP","FCIU4744335","Nao","SUPER TERMINAIS",{"$f":"VLOOKUP(E1723,'Padrão mensagem'!$A$3:$B$67,2,0)","v":"Depot Super Terminais - (92) 3616-2650 / E-mails: coordenacao.depot@superterminais.com.br; reparos.container@superterminais.com.br"}]
["BRMAO","22GP","CAAU2004262","Nao","SUPER TERMINAIS",{"$f":"VLOOKUP(E1724,'Padrão mensagem'!$A$3:$B$67,2,0)","v":"Depot Super Terminais - (92) 3616-2650 / E-mails: coordenacao.depot@superterminais.com.br; reparos.container@superterminais.com.br"}]
["BRMAO","22GP","TEMU1849066","Nao","SUPER TERMINAIS",{"$f":"VLOOKUP(E1725,'Padrão mensagem'!$A$3:$B$67,2,0)","v":"Depot Super Terminais - (92) 3616-2650 / E-mails: coordenacao.depot@superterminais.com.br; reparos.container@superterminais.com.br"}]
["BRMAO","22GP","UACU3888628","Nao","SUPER TERMINAIS",{"$f":"VLOOKUP(E1726,'Padrão mensagem'!$A$3:$B$67,2,0)","v":"Depot Super Terminais - (92) 3616-2650 / E-mails: coordenacao.depot@superterminais.com.br; reparos.container@superterminais.com.br"}]
["BRMAO","22GP","UACU4092403","Nao","SUPER TERMINAIS",{"$f":"VLOOKUP(E1727,'Padrão mensagem'!$A$3:$B$67,2,0)","v":"Depot Super Terminais - (92) 3616-2650 / E-mails: coordenacao.depot@superterminais.com.br; reparos.container@superterminais.com.br"}]
["BRMAO","22GP","TGBU2356505","Nao","SUPER TERMINAIS",{"$f":"VLOOKUP(E1728,'Padrão mensagem'!$A$3:$B$67,2,0)","v":"Depot Super Terminais - (92) 3616-2650 / E-mails: coordenacao.depot@superterminais.com.br; reparos.container@superterminais.com.br"}]
["BRSUA","22GP","GCXU2320372","Nao","Tecon Suape",{"$f":"VLOOKUP(E1729,'Padrão mensagem'!$A$3:$B$67,2,0)","v":"Tecon Suape - Acessar o site\nhttps://www.teconsuape.com/portalservicos/#!/login\ne informar o número de booking DDHLLMTY202401"}]
["BRSUA","22GP","UACU3668747","Nao","Tecon Suape",{"$f":"VLOOKUP(E1730,'Padrão mensagem'!$A$3:$B$67,2,0)","v":"Tecon Suape - Acessar o site\nhttps://www.teconsuape.com/portalservicos/#!/login\ne informar o número de booking DDHLLMTY202401"}]
["BRSUA","22GP","HAMU1088393","Nao","Tecon Suape",{"$f":"VLOOKUP(E1731,'Padrão mensagem'!$A$3:$B$67,2,0)","v":"Tecon Suape - Acessar o site\nhttps://www.teconsuape.com/portalservicos/#!/login\ne informar o número de booking DDHLLMTY202401"}]
["BRSUA","45RT","HLBU6139277","Nao","Tecon Suape",{"$f":"VLOOKUP(E1732,'Padrão mensagem'!$A$3:$B$67,2,0)","v":"Tecon Suape - Acessar o site\nhttps://www.teconsuape.com/portalservicos/#!/login\ne informar o número de booking DDHLLMTY202401"}]
["BRSUA","45RT","HLBU9670142","Nao","Tecon Suape",{"$f":"VLOOKUP(E1733,'Padrão mensagem'!$A$3:$B$67,2,0)","v":"Tecon Suape - Acessar o site\nhttps://www.teconsuape.com/portalservicos/#!/login\ne informar o número de booking DDHLLMTY202401"}]
["BRSUA","45RT","BMOU9208147","Nao","Tecon Suape",{"$f":"VLOOKUP(E1734,'Padrão mensagem'!$A$3:$B$67,2,0)","v":"Tecon Suape - Acessar o site\nhttps://www.teconsuape.com/portalservicos/#!/login\ne informar o número de booking DDHLLMTY202401"}]
["BRSUA","45RT","HLBU6146527","Nao","Tecon Suape",{"$f":"VLOOKUP(E1735,'Padrão mensagem'!$A$3:$B$67,2,0)","v":"Tecon Suape - Acessar o site\nhttps://www.teconsuape.com/portalservicos/#!/login\ne informar o número de booking DDHLLMTY202401"}]
["BRSSA","45GP","HLBU2558932","Nao","DEPOT PONTUAL",{"$f":"VLOOKUP(E1736,'Padrão mensagem'!$A$3:$B$67,2,0)","v":"Depot Pontual - (71) /3594-5732 | E-mails: marjorie@depotpontual.com.br; caio@depotpontual.com.br; Operacional01@depotpontual.com.br; operacionnal@depotpontual.com.br"}]
["BRSSA","45GP","HLBU2204559","Nao","DEPOT PONTUAL",{"$f":"VLOOKUP(E1737,'Padrão mensagem'!$A$3:$B$67,2,0)","v":"Depot Pontual - (71) /3594-5732 | E-mails: marjorie@depotpontual.com.br; caio@depotpontual.com.br; Operacional01@depotpontual.com.br; operacionnal@depotpontual.com.br"}]
["BRSSA","45GP","TLNU4215232","Nao","DEPOT PONTUAL",{"$f":"VLOOKUP(E1738,'Padrão mensagem'!$A$3:$B$67,2,0)","v":"Depot Pontual - (71) /3594-5732 | E-mails: marjorie@depotpontual.com.br; caio@depotpontual.com.br; Operacional01@depotpontual.com.br; operacionnal@depotpontual.com.br"}]
["BRSSA","45GP","MTSU9656290","Nao","DEPOT PONTUAL",{"$f":"VLOOKUP(E1739,'Padrão mensagem'!$A$3:$B$67,2,0)","v":"Depot Pontual - (71) /3594-5732 | E-mails: marjorie@depotpontual.com.br; caio@depotpontual.com.br; Operacional01@depotpontual.com.br; operacionnal@depotpontual.com.br"}]
["BRSSA","45GP","HAMU1988610","Nao","DEPOT PONTUAL",{"$f":"VLOOKUP(E1740,'Padrão mensagem'!$A$3:$B$67,2,0)","v":"Depot Pontual - (71) /3594-5732 | E-mails: marjorie@depotpontual.com.br; caio@depotpontual.com.br; Operacional01@depotpontual.com.br; operacionnal@depotpontual.com.br"}]
["BRSSA","45GP","HLBU1900151","Nao","DEPOT PONTUAL",{"$f":"VLOOKUP(E1741,'Padrão mensagem'!$A$3:$B$67,2,0)","v":"Depot Pontual - (71) /3594-5732 | E-mails: marjorie@depotpontual.com.br; caio@depotpontual.com.br; Operacional01@depotpontual.com.br; operacionnal@depotpontual.com.br"}]
["BRSSA","45GP","HAMU1147346","Nao","DEPOT PONTUAL",{"$f":"VLOOKUP(E1742,'Padrão mensagem'!$A$3:$B$67,2,0)","v":"Depot Pontual - (71) /3594-5732 | E-mails: marjorie@depotpontual.com.br; caio@depotpontual.com.br; Operacional01@depotpontual.com.br; operacionnal@depotpontual.com.br"}]
["BRSSA","45GP","TCNU7111423","Nao","DEPOT PONTUAL",{"$f":"VLOOKUP(E1743,'Padrão mensagem'!$A$3:$B$67,2,0)","v":"Depot Pontual - (71) /3594-5732 | E-mails: marjorie@depotpontual.com.br; caio@depotpontual.com.br; Operacional01@depotpontual.com.br; operacionnal@depotpontual.com.br"}]
["BRSSA","45GP","CAAU6802189","Nao","DEPOT PONTUAL",{"$f":"VLOOKUP(E1744,'Padrão mensagem'!$A$3:$B$67,2,0)","v":"Depot Pontual - (71) /3594-5732 | E-mails: marjorie@depotpontual.com.br; caio@depotpontual.com.br; Operacional01@depotpontual.com.br; operacionnal@depotpontual.com.br"}]
["BRSSA","45GP","HLBU1901733","Nao","DEPOT PONTUAL",{"$f":"VLOOKUP(E1745,'Padrão mensagem'!$A$3:$B$67,2,0)","v":"Depot Pontual - (71) /3594-5732 | E-mails: marjorie@depotpontual.com.br; caio@depotpontual.com.br; Operacional01@depotpontual.com.br; operacionnal@depotpontual.com.br"}]
["BRSSA","45GP","UETU6610384","Nao","DEPOT PONTUAL",{"$f":"VLOOKUP(E1746,'Padrão mensagem'!$A$3:$B$67,2,0)","v":"Depot Pontual - (71) /3594-5732 | E-mails: marjorie@depotpontual.com.br; caio@depotpontual.com.br; Operacional01@depotpontual.com.br; operacionnal@depotpontual.com.br"}]
["BRSUA","22PC","HLXU3686344","Nao","Tecon Suape",{"$f":"VLOOKUP(E1747,'Padrão mensagem'!$A$3:$B$67,2,0)","v":"Tecon Suape - Acessar o site\nhttps://www.teconsuape.com/portalservicos/#!/login\ne informar o número de booking DDHLLMTY202401"}]
["BRSUA","45GP","FSCU8250134","Nao","Ziranlog SUA ",{"$f":"VLOOKUP(E1748,'Padrão mensagem'!$A$3:$B$67,2,0)","v":"Ziranlog SUA       -        (21) 973373045  |  E-mail: Controle@zirannordeste.com.br; gate@zirannordeste.com.br"}]
["BRSUA","45GP","HAMU2669319","Nao","Ziranlog SUA ",{"$f":"VLOOKUP(E1749,'Padrão mensagem'!$A$3:$B$67,2,0)","v":"Ziranlog SUA       -        (21) 973373045  |  E-mail: Controle@zirannordeste.com.br; gate@zirannordeste.com.br"}]
["BRSUA","45GP","HAMU2662119","Nao","Ziranlog SUA ",{"$f":"VLOOKUP(E1750,'Padrão mensagem'!$A$3:$B$67,2,0)","v":"Ziranlog SUA       -        (21) 973373045  |  E-mail: Controle@zirannordeste.com.br; gate@zirannordeste.com.br"}]
["BRSUA","45GP","HAMU2662042","Nao","Ziranlog SUA ",{"$f":"VLOOKUP(E1751,'Padrão mensagem'!$A$3:$B$67,2,0)","v":"Ziranlog SUA       -        (21) 973373045  |  E-mail: Controle@zirannordeste.com.br; gate@zirannordeste.com.br"}]
["BRSUA","45GP","HAMU2663809","Nao","Ziranlog SUA ",{"$f":"VLOOKUP(E1752,'Padrão mensagem'!$A$3:$B$67,2,0)","v":"Ziranlog SUA       -        (21) 973373045  |  E-mail: Controle@zirannordeste.com.br; gate@zirannordeste.com.br"}]
["BRSUA","45GP","HAMU2662783","Nao","Ziranlog SUA ",{"$f":"VLOOKUP(E1753,'Padrão mensagem'!$A$3:$B$67,2,0)","v":"Ziranlog SUA       -        (21) 973373045  |  E-mail: Controle@zirannordeste.com.br; gate@zirannordeste.com.br"}]
["BRSUA","45GP","HAMU2662525","Nao","Ziranlog SUA ",{"$f":"VLOOKUP(E1754,'Padrão mensagem'!$A$3:$B$67,2,0)","v":"Ziranlog SUA       -        (21) 973373045  |  E-mail: Controle@zirannordeste.com.br; gate@zirannordeste.com.br"}]
["BRSUA","45GP","HLBU2096351","Nao","Ziranlog SUA ",{"$f":"VLOOKUP(E1755,'Padrão mensagem'!$A$3:$B$67,2,0)","v":"Ziranlog SUA       -        (21) 973373045  |  E-mail: Controle@zirannordeste.com.br; gate@zirannordeste.com.br"}]
["BRSUA","45GP","CAAU8403892","Nao","Ziranlog SUA ",{"$f":"VLOOKUP(E1756,'Padrão mensagem'!$A$3:$B$67,2,0)","v":"Ziranlog SUA       -        (21) 973373045  |  E-mail: Controle@zirannordeste.com.br; gate@zirannordeste.com.br"}]
["BRSUA","45GP","HAMU1543075","Nao","Ziranlog SUA ",{"$f":"VLOOKUP(E1757,'Padrão mensagem'!$A$3:$B$67,2,0)","v":"Ziranlog SUA       -        (21) 973373045  |  E-mail: Controle@zirannordeste.com.br; gate@zirannordeste.com.br"}]
["BRSUA","45GP","CAAU7565950","Nao","Ziranlog SUA ",{"$f":"VLOOKUP(E1758,'Padrão mensagem'!$A$3:$B$67,2,0)","v":"Ziranlog SUA       -        (21) 973373045  |  E-mail: Controle@zirannordeste.com.br; gate@zirannordeste.com.br"}]
["BRSUA","45GP","GCXU6162470","Nao","Ziranlog SUA ",{"$f":"VLOOKUP(E1759,'Padrão mensagem'!$A$3:$B$67,2,0)","v":"Ziranlog SUA       -        (21) 973373045  |  E-mail: Controle@zirannordeste.com.br; gate@zirannordeste.com.br"}]
["BRSUA","45GP","FANU1119177","Nao","Ziranlog SUA ",{"$f":"VLOOKUP(E1760,'Padrão mensagem'!$A$3:$B$67,2,0)","v":"Ziranlog SUA       -        (21) 973373045  |  E-mail: Controle@zirannordeste.com.br; gate@zirannordeste.com.br"}]
["BRCUC","22GP","CAAU2041538","Nao","TERMACO TERMINAIS",{"$f":"VLOOKUP(E1761,'Padrão mensagem'!$A$3:$B$67,2,0)","v":"Depot Termaco Terminais - (85) 99213 7266 | E-mail:gate.cac@termaco.com.br"}]
["BRSSA","45RT","UAEU1265328","Nao","Wilport",{"$f":"VLOOKUP(E1762,'Padrão mensagem'!$A$3:$B$67,2,0)","v":"Wilport        -        (71) 3293-9259  |  E-mail: estimators.depottsv@teconsalvador.com.br"}]
["BRSSA","45RT","HLBU9665130","Nao","Wilport",{"$f":"VLOOKUP(E1763,'Padrão mensagem'!$A$3:$B$67,2,0)","v":"Wilport        -        (71) 3293-9259  |  E-mail: estimators.depottsv@teconsalvador.com.br"}]
["BRSSA","22GP","KKTU8234224","Nao","DEPOT PONTUAL",{"$f":"VLOOKUP(E1764,'Padrão mensagem'!$A$3:$B$67,2,0)","v":"Depot Pontual - (71) /3594-5732 | E-mails: marjorie@depotpontual.com.br; caio@depotpontual.com.br; Operacional01@depotpontual.com.br; operacionnal@depotpontual.com.br"}]
["BRSSA","22GP","HLXU1314590","Nao","DEPOT PONTUAL",{"$f":"VLOOKUP(E1765,'Padrão mensagem'!$A$3:$B$67,2,0)","v":"Depot Pontual - (71) /3594-5732 | E-mails: marjorie@depotpontual.com.br; caio@depotpontual.com.br; Operacional01@depotpontual.com.br; operacionnal@depotpontual.com.br"}]
["BRSSA","22GP","HLXU3562240","Nao","DEPOT PONTUAL",{"$f":"VLOOKUP(E1766,'Padrão mensagem'!$A$3:$B$67,2,0)","v":"Depot Pontual - (71) /3594-5732 | E-mails: marjorie@depotpontual.com.br; caio@depotpontual.com.br; Operacional01@depotpontual.com.br; operacionnal@depotpontual.com.br"}]
["BRSSA","22GP","TCLU2733561","Nao","DEPOT PONTUAL",{"$f":"VLOOKUP(E1767,'Padrão mensagem'!$A$3:$B$67,2,0)","v":"Depot Pontual - (71) /3594-5732 | E-mails: marjorie@depotpontual.com.br; caio@depotpontual.com.br; Operacional01@depotpontual.com.br; operacionnal@depotpontual.com.br"}]
["BRSSA","22GP","TEMU1305231","Nao","DEPOT PONTUAL",{"$f":"VLOOKUP(E1768,'Padrão mensagem'!$A$3:$B$67,2,0)","v":"Depot Pontual - (71) /3594-5732 | E-mails: marjorie@depotpontual.com.br; caio@depotpontual.com.br; Operacional01@depotpontual.com.br; operacionnal@depotpontual.com.br"}]
["BRSSA","22GP","BMOU1452481","Nao","DEPOT PONTUAL",{"$f":"VLOOKUP(E1769,'Padrão mensagem'!$A$3:$B$67,2,0)","v":"Depot Pontual - (71) /3594-5732 | E-mails: marjorie@depotpontual.com.br; caio@depotpontual.com.br; Operacional01@depotpontual.com.br; operacionnal@depotpontual.com.br"}]
["BRSSA","45RT","HLBU9724362","Nao","Wilport",{"$f":"VLOOKUP(E1770,'Padrão mensagem'!$A$3:$B$67,2,0)","v":"Wilport        -        (71) 3293-9259  |  E-mail: estimators.depottsv@teconsalvador.com.br"}]
["BRSSA","22GP","FTAU1190142","Nao","DEPOT PONTUAL",{"$f":"VLOOKUP(E1771,'Padrão mensagem'!$A$3:$B$67,2,0)","v":"Depot Pontual - (71) /3594-5732 | E-mails: marjorie@depotpontual.com.br; caio@depotpontual.com.br; Operacional01@depotpontual.com.br; operacionnal@depotpontual.com.br"}]
["BRSSA","45RT","HLBU9339962","Nao","Wilport",{"$f":"VLOOKUP(E1772,'Padrão mensagem'!$A$3:$B$67,2,0)","v":"Wilport        -        (71) 3293-9259  |  E-mail: estimators.depottsv@teconsalvador.com.br"}]
["BRSSA","22GP","TEMU2236916","Nao","DEPOT PONTUAL",{"$f":"VLOOKUP(E1773,'Padrão mensagem'!$A$3:$B$67,2,0)","v":"Depot Pontual - (71) /3594-5732 | E-mails: marjorie@depotpontual.com.br; caio@depotpontual.com.br; Operacional01@depotpontual.com.br; operacionnal@depotpontual.com.br"}]
["BRSSA","22GP","GCXU2444460","Nao","DEPOT PONTUAL",{"$f":"VLOOKUP(E1774,'Padrão mensagem'!$A$3:$B$67,2,0)","v":"Depot Pontual - (71) /3594-5732 | E-mails: marjorie@depotpontual.com.br; caio@depotpontual.com.br; Operacional01@depotpontual.com.br; operacionnal@depotpontual.com.br"}]
["BRSSA","45GP","HLBU1605290","Nao","DEPOT PONTUAL",{"$f":"VLOOKUP(E1775,'Padrão mensagem'!$A$3:$B$67,2,0)","v":"Depot Pontual - (71) /3594-5732 | E-mails: marjorie@depotpontual.com.br; caio@depotpontual.com.br; Operacional01@depotpontual.com.br; operacionnal@depotpontual.com.br"}]
["BRSSA","45GP","TGBU6122254","Nao","DEPOT PONTUAL",{"$f":"VLOOKUP(E1776,'Padrão mensagem'!$A$3:$B$67,2,0)","v":"Depot Pontual - (71) /3594-5732 | E-mails: marjorie@depotpontual.com.br; caio@depotpontual.com.br; Operacional01@depotpontual.com.br; operacionnal@depotpontual.com.br"}]
["BRSUA","22GP","CXDU1197560","Nao","Tecon Suape",{"$f":"VLOOKUP(E1777,'Padrão mensagem'!$A$3:$B$67,2,0)","v":"Tecon Suape - Acessar o site\nhttps://www.teconsuape.com/portalservicos/#!/login\ne informar o número de booking DDHLLMTY202401"}]
["BRSUA","22GP","HLBU1723668","Nao","Tecon Suape",{"$f":"VLOOKUP(E1778,'Padrão mensagem'!$A$3:$B$67,2,0)","v":"Tecon Suape - Acessar o site\nhttps://www.teconsuape.com/portalservicos/#!/login\ne informar o número de booking DDHLLMTY202401"}]
["BRCUC","42UT","TEXU1539378","Nao","TERMACO TERMINAIS",{"$f":"VLOOKUP(E1779,'Padrão mensagem'!$A$3:$B$67,2,0)","v":"Depot Termaco Terminais - (85) 99213 7266 | E-mail:gate.cac@termaco.com.br"}]
["BRCUC","42UT","UACU4420288","Nao","TERMACO TERMINAIS",{"$f":"VLOOKUP(E1780,'Padrão mensagem'!$A$3:$B$67,2,0)","v":"Depot Termaco Terminais - (85) 99213 7266 | E-mail:gate.cac@termaco.com.br"}]
["BRSUA","42GP","UACU8414555","Nao","Tecon Suape",{"$f":"VLOOKUP(E1781,'Padrão mensagem'!$A$3:$B$67,2,0)","v":"Tecon Suape - Acessar o site\nhttps://www.teconsuape.com/portalservicos/#!/login\ne informar o número de booking DDHLLMTY202401"}]
["BRSUA","42GP","UACU8313375","Nao","Tecon Suape",{"$f":"VLOOKUP(E1782,'Padrão mensagem'!$A$3:$B$67,2,0)","v":"Tecon Suape - Acessar o site\nhttps://www.teconsuape.com/portalservicos/#!/login\ne informar o número de booking DDHLLMTY202401"}]
["BRSUA","45RT","HLXU8786726","Nao","Tecon Suape",{"$f":"VLOOKUP(E1783,'Padrão mensagem'!$A$3:$B$67,2,0)","v":"Tecon Suape - Acessar o site\nhttps://www.teconsuape.com/portalservicos/#!/login\ne informar o número de booking DDHLLMTY202401"}]
["BRSUA","45RT","HLBU6144566","Nao","Tecon Suape",{"$f":"VLOOKUP(E1784,'Padrão mensagem'!$A$3:$B$67,2,0)","v":"Tecon Suape - Acessar o site\nhttps://www.teconsuape.com/portalservicos/#!/login\ne informar o número de booking DDHLLMTY202401"}]
["BRSUA","45RT","CXRU1593565","Nao","Tecon Suape",{"$f":"VLOOKUP(E1785,'Padrão mensagem'!$A$3:$B$67,2,0)","v":"Tecon Suape - Acessar o site\nhttps://www.teconsuape.com/portalservicos/#!/login\ne informar o número de booking DDHLLMTY202401"}]
["BRSUA","45RT","HLBU9270790","Nao","Tecon Suape",{"$f":"VLOOKUP(E1786,'Padrão mensagem'!$A$3:$B$67,2,0)","v":"Tecon Suape - Acessar o site\nhttps://www.teconsuape.com/portalservicos/#!/login\ne informar o número de booking DDHLLMTY202401"}]
["BRSUA","45RT","TCLU1374908","Nao","Tecon Suape",{"$f":"VLOOKUP(E1787,'Padrão mensagem'!$A$3:$B$67,2,0)","v":"Tecon Suape - Acessar o site\nhttps://www.teconsuape.com/portalservicos/#!/login\ne informar o número de booking DDHLLMTY202401"}]
["BRSUA","45RT","TRIU8073480","Nao","Tecon Suape",{"$f":"VLOOKUP(E1788,'Padrão mensagem'!$A$3:$B$67,2,0)","v":"Tecon Suape - Acessar o site\nhttps://www.teconsuape.com/portalservicos/#!/login\ne informar o número de booking DDHLLMTY202401"}]
["BRSUA","45RT","HLBU6123347","Nao","Tecon Suape",{"$f":"VLOOKUP(E1789,'Padrão mensagem'!$A$3:$B$67,2,0)","v":"Tecon Suape - Acessar o site\nhttps://www.teconsuape.com/portalservicos/#!/login\ne informar o número de booking DDHLLMTY202401"}]
["BRSUA","45RT","HLBU9867358","Nao","Tecon Suape",{"$f":"VLOOKUP(E1790,'Padrão mensagem'!$A$3:$B$67,2,0)","v":"Tecon Suape - Acessar o site\nhttps://www.teconsuape.com/portalservicos/#!/login\ne informar o número de booking DDHLLMTY202401"}]
["BRSUA","45RT","HLBU9528009","Nao","Tecon Suape",{"$f":"VLOOKUP(E1791,'Padrão mensagem'!$A$3:$B$67,2,0)","v":"Tecon Suape - Acessar o site\nhttps://www.teconsuape.com/portalservicos/#!/login\ne informar o número de booking DDHLLMTY202401"}]
["BRSUA","45RT","HLXU8748156","Nao","Tecon Suape",{"$f":"VLOOKUP(E1792,'Padrão mensagem'!$A$3:$B$67,2,0)","v":"Tecon Suape - Acessar o site\nhttps://www.teconsuape.com/portalservicos/#!/login\ne informar o número de booking DDHLLMTY202401"}]
["BRSUA","45RT","HLBU9354606","Nao","Tecon Suape",{"$f":"VLOOKUP(E1793,'Padrão mensagem'!$A$3:$B$67,2,0)","v":"Tecon Suape - Acessar o site\nhttps://www.teconsuape.com/portalservicos/#!/login\ne informar o número de booking DDHLLMTY202401"}]
["BRSUA","45RT","TRIU8144882","Nao","Tecon Suape",{"$f":"VLOOKUP(E1794,'Padrão mensagem'!$A$3:$B$67,2,0)","v":"Tecon Suape - Acessar o site\nhttps://www.teconsuape.com/portalservicos/#!/login\ne informar o número de booking DDHLLMTY202401"}]
["BRSUA","45PC","HLBU8238068","Nao","Tecon Suape",{"$f":"VLOOKUP(E1795,'Padrão mensagem'!$A$3:$B$67,2,0)","v":"Tecon Suape - Acessar o site\nhttps://www.teconsuape.com/portalservicos/#!/login\ne informar o número de booking DDHLLMTY202401"}]
["BRSUA","45PC","HLBU8287910","Nao","Tecon Suape",{"$f":"VLOOKUP(E1796,'Padrão mensagem'!$A$3:$B$67,2,0)","v":"Tecon Suape - Acessar o site\nhttps://www.teconsuape.com/portalservicos/#!/login\ne informar o número de booking DDHLLMTY202401"}]
["BRSUA","45PC","HLBU8290894","Nao","Tecon Suape",{"$f":"VLOOKUP(E1797,'Padrão mensagem'!$A$3:$B$67,2,0)","v":"Tecon Suape - Acessar o site\nhttps://www.teconsuape.com/portalservicos/#!/login\ne informar o número de booking DDHLLMTY202401"}]
["BRSUA","45PC","HLBU8200205","Nao","Tecon Suape",{"$f":"VLOOKUP(E1798,'Padrão mensagem'!$A$3:$B$67,2,0)","v":"Tecon Suape - Acessar o site\nhttps://www.teconsuape.com/portalservicos/#!/login\ne informar o número de booking DDHLLMTY202401"}]
["BRSUA","45RT","HLBU9402010","Nao","Tecon Suape",{"$f":"VLOOKUP(E1799,'Padrão mensagem'!$A$3:$B$67,2,0)","v":"Tecon Suape - Acessar o site\nhttps://www.teconsuape.com/portalservicos/#!/login\ne informar o número de booking DDHLLMTY202401"}]
["BRSUA","45RT","HLBU9241180","Nao","Tecon Suape",{"$f":"VLOOKUP(E1800,'Padrão mensagem'!$A$3:$B$67,2,0)","v":"Tecon Suape - Acessar o site\nhttps://www.teconsuape.com/portalservicos/#!/login\ne informar o número de booking DDHLLMTY202401"}]
["BRSUA","45RT","HLBU6042610","Nao","Tecon Suape",{"$f":"VLOOKUP(E1801,'Padrão mensagem'!$A$3:$B$67,2,0)","v":"Tecon Suape - Acessar o site\nhttps://www.teconsuape.com/portalservicos/#!/login\ne informar o número de booking DDHLLMTY202401"}]
["BRSUA","45RT","HLBU9770157","Nao","Tecon Suape",{"$f":"VLOOKUP(E1802,'Padrão mensagem'!$A$3:$B$67,2,0)","v":"Tecon Suape - Acessar o site\nhttps://www.teconsuape.com/portalservicos/#!/login\ne informar o número de booking DDHLLMTY202401"}]
["BRSUA","45GP","HAMU2648888","Nao","Ziranlog SUA ",{"$f":"VLOOKUP(E1803,'Padrão mensagem'!$A$3:$B$67,2,0)","v":"Ziranlog SUA       -        (21) 973373045  |  E-mail: Controle@zirannordeste.com.br; gate@zirannordeste.com.br"}]
["BRSUA","45GP","BMOU5625862","Nao","Ziranlog SUA ",{"$f":"VLOOKUP(E1804,'Padrão mensagem'!$A$3:$B$67,2,0)","v":"Ziranlog SUA       -        (21) 973373045  |  E-mail: Controle@zirannordeste.com.br; gate@zirannordeste.com.br"}]
["BRSUA","45GP","HLBU1947586","Nao","Ziranlog SUA ",{"$f":"VLOOKUP(E1805,'Padrão mensagem'!$A$3:$B$67,2,0)","v":"Ziranlog SUA       -        (21) 973373045  |  E-mail: Controle@zirannordeste.com.br; gate@zirannordeste.com.br"}]
["BRSUA","45GP","HLBU2726569","Nao","Ziranlog SUA ",{"$f":"VLOOKUP(E1806,'Padrão mensagem'!$A$3:$B$67,2,0)","v":"Ziranlog SUA       -        (21) 973373045  |  E-mail: Controle@zirannordeste.com.br; gate@zirannordeste.com.br"}]
["BRSUA","45GP","HAMU1859994","Nao","Ziranlog SUA ",{"$f":"VLOOKUP(E1807,'Padrão mensagem'!$A$3:$B$67,2,0)","v":"Ziranlog SUA       -        (21) 973373045  |  E-mail: Controle@zirannordeste.com.br; gate@zirannordeste.com.br"}]
["BRSUA","45GP","HAMU1613207","Nao","Ziranlog SUA ",{"$f":"VLOOKUP(E1808,'Padrão mensagem'!$A$3:$B$67,2,0)","v":"Ziranlog SUA       -        (21) 973373045  |  E-mail: Controle@zirannordeste.com.br; gate@zirannordeste.com.br"}]
["BRSUA","45GP","BEAU4551992","Nao","Ziranlog SUA ",{"$f":"VLOOKUP(E1809,'Padrão mensagem'!$A$3:$B$67,2,0)","v":"Ziranlog SUA       -        (21) 973373045  |  E-mail: Controle@zirannordeste.com.br; gate@zirannordeste.com.br"}]
["BRSUA","45GP","FANU3249668","Nao","Ziranlog SUA ",{"$f":"VLOOKUP(E1810,'Padrão mensagem'!$A$3:$B$67,2,0)","v":"Ziranlog SUA       -        (21) 973373045  |  E-mail: Controle@zirannordeste.com.br; gate@zirannordeste.com.br"}]
["BRSUA","45GP","UACU6017190","Nao","Ziranlog SUA ",{"$f":"VLOOKUP(E1811,'Padrão mensagem'!$A$3:$B$67,2,0)","v":"Ziranlog SUA       -        (21) 973373045  |  E-mail: Controle@zirannordeste.com.br; gate@zirannordeste.com.br"}]
["BRSUA","45GP","TCNU3703790","Nao","Ziranlog SUA ",{"$f":"VLOOKUP(E1812,'Padrão mensagem'!$A$3:$B$67,2,0)","v":"Ziranlog SUA       -        (21) 973373045  |  E-mail: Controle@zirannordeste.com.br; gate@zirannordeste.com.br"}]
["BRSUA","45GP","FBLU0112153","Nao","Ziranlog SUA ",{"$f":"VLOOKUP(E1813,'Padrão mensagem'!$A$3:$B$67,2,0)","v":"Ziranlog SUA       -        (21) 973373045  |  E-mail: Controle@zirannordeste.com.br; gate@zirannordeste.com.br"}]
["BRSUA","45GP","UACU5864435","Nao","Ziranlog SUA ",{"$f":"VLOOKUP(E1814,'Padrão mensagem'!$A$3:$B$67,2,0)","v":"Ziranlog SUA       -        (21) 973373045  |  E-mail: Controle@zirannordeste.com.br; gate@zirannordeste.com.br"}]
["BRSUA","45GP","HAMU2867762","Nao","Ziranlog SUA ",{"$f":"VLOOKUP(E1815,'Padrão mensagem'!$A$3:$B$67,2,0)","v":"Ziranlog SUA       -        (21) 973373045  |  E-mail: Controle@zirannordeste.com.br; gate@zirannordeste.com.br"}]
["BRSUA","45GP","HAMU1534514","Nao","Ziranlog SUA ",{"$f":"VLOOKUP(E1816,'Padrão mensagem'!$A$3:$B$67,2,0)","v":"Ziranlog SUA       -        (21) 973373045  |  E-mail: Controle@zirannordeste.com.br; gate@zirannordeste.com.br"}]
["BRSUA","45GP","GCXU5991029","Nao","Ziranlog SUA ",{"$f":"VLOOKUP(E1817,'Padrão mensagem'!$A$3:$B$67,2,0)","v":"Ziranlog SUA       -        (21) 973373045  |  E-mail: Controle@zirannordeste.com.br; gate@zirannordeste.com.br"}]
["BRSUA","45GP","FANU3805577","Nao","Ziranlog SUA ",{"$f":"VLOOKUP(E1818,'Padrão mensagem'!$A$3:$B$67,2,0)","v":"Ziranlog SUA       -        (21) 973373045  |  E-mail: Controle@zirannordeste.com.br; gate@zirannordeste.com.br"}]
["BRSUA","45GP","TCLU5179181","Nao","Ziranlog SUA ",{"$f":"VLOOKUP(E1819,'Padrão mensagem'!$A$3:$B$67,2,0)","v":"Ziranlog SUA       -        (21) 973373045  |  E-mail: Controle@zirannordeste.com.br; gate@zirannordeste.com.br"}]
["BRSUA","45GP","HLBU1412481","Nao","Ziranlog SUA ",{"$f":"VLOOKUP(E1820,'Padrão mensagem'!$A$3:$B$67,2,0)","v":"Ziranlog SUA       -        (21) 973373045  |  E-mail: Controle@zirannordeste.com.br; gate@zirannordeste.com.br"}]
["BRSUA","45GP","FANU3633821","Nao","Ziranlog SUA ",{"$f":"VLOOKUP(E1821,'Padrão mensagem'!$A$3:$B$67,2,0)","v":"Ziranlog SUA       -        (21) 973373045  |  E-mail: Controle@zirannordeste.com.br; gate@zirannordeste.com.br"}]
["BRSUA","45GP","HLXU8364504","Nao","Ziranlog SUA ",{"$f":"VLOOKUP(E1822,'Padrão mensagem'!$A$3:$B$67,2,0)","v":"Ziranlog SUA       -        (21) 973373045  |  E-mail: Controle@zirannordeste.com.br; gate@zirannordeste.com.br"}]
["BRSUA","45GP","FANU1143363","Nao","Ziranlog SUA ",{"$f":"VLOOKUP(E1823,'Padrão mensagem'!$A$3:$B$67,2,0)","v":"Ziranlog SUA       -        (21) 973373045  |  E-mail: Controle@zirannordeste.com.br; gate@zirannordeste.com.br"}]
["BRSUA","45GP","HLXU8554253","Nao","Ziranlog SUA ",{"$f":"VLOOKUP(E1824,'Padrão mensagem'!$A$3:$B$67,2,0)","v":"Ziranlog SUA       -        (21) 973373045  |  E-mail: Controle@zirannordeste.com.br; gate@zirannordeste.com.br"}]
["BRSUA","45GP","TXGU7007561","Nao","Ziranlog SUA ",{"$f":"VLOOKUP(E1825,'Padrão mensagem'!$A$3:$B$67,2,0)","v":"Ziranlog SUA       -        (21) 973373045  |  E-mail: Controle@zirannordeste.com.br; gate@zirannordeste.com.br"}]
["BRSUA","45GP","DFSU7319164","Nao","Ziranlog SUA ",{"$f":"VLOOKUP(E1826,'Padrão mensagem'!$A$3:$B$67,2,0)","v":"Ziranlog SUA       -        (21) 973373045  |  E-mail: Controle@zirannordeste.com.br; gate@zirannordeste.com.br"}]
["BRSUA","45GP","BEAU4934266","Nao","Ziranlog SUA ",{"$f":"VLOOKUP(E1827,'Padrão mensagem'!$A$3:$B$67,2,0)","v":"Ziranlog SUA       -        (21) 973373045  |  E-mail: Controle@zirannordeste.com.br; gate@zirannordeste.com.br"}]
["BRSUA","45GP","HLBU3138805","Nao","Ziranlog SUA ",{"$f":"VLOOKUP(E1828,'Padrão mensagem'!$A$3:$B$67,2,0)","v":"Ziranlog SUA       -        (21) 973373045  |  E-mail: Controle@zirannordeste.com.br; gate@zirannordeste.com.br"}]
["BRSUA","45GP","HAMU2644630","Nao","Ziranlog SUA ",{"$f":"VLOOKUP(E1829,'Padrão mensagem'!$A$3:$B$67,2,0)","v":"Ziranlog SUA       -        (21) 973373045  |  E-mail: Controle@zirannordeste.com.br; gate@zirannordeste.com.br"}]
["BRSUA","45GP","HLBU3106639","Nao","Ziranlog SUA ",{"$f":"VLOOKUP(E1830,'Padrão mensagem'!$A$3:$B$67,2,0)","v":"Ziranlog SUA       -        (21) 973373045  |  E-mail: Controle@zirannordeste.com.br; gate@zirannordeste.com.br"}]
["BRSUA","45GP","HAMU2870149","Nao","Ziranlog SUA ",{"$f":"VLOOKUP(E1831,'Padrão mensagem'!$A$3:$B$67,2,0)","v":"Ziranlog SUA       -        (21) 973373045  |  E-mail: Controle@zirannordeste.com.br; gate@zirannordeste.com.br"}]
["BRSUA","45GP","CAIU4475156","Nao","Ziranlog SUA ",{"$f":"VLOOKUP(E1832,'Padrão mensagem'!$A$3:$B$67,2,0)","v":"Ziranlog SUA       -        (21) 973373045  |  E-mail: Controle@zirannordeste.com.br; gate@zirannordeste.com.br"}]
["BRSUA","45GP","HLBU3248382","Nao","Ziranlog SUA ",{"$f":"VLOOKUP(E1833,'Padrão mensagem'!$A$3:$B$67,2,0)","v":"Ziranlog SUA       -        (21) 973373045  |  E-mail: Controle@zirannordeste.com.br; gate@zirannordeste.com.br"}]
["BRSUA","45GP","UACU5900065","Nao","Ziranlog SUA ",{"$f":"VLOOKUP(E1834,'Padrão mensagem'!$A$3:$B$67,2,0)","v":"Ziranlog SUA       -        (21) 973373045  |  E-mail: Controle@zirannordeste.com.br; gate@zirannordeste.com.br"}]
["BRSUA","45GP","TGBU6188272","Nao","Ziranlog SUA ",{"$f":"VLOOKUP(E1835,'Padrão mensagem'!$A$3:$B$67,2,0)","v":"Ziranlog SUA       -        (21) 973373045  |  E-mail: Controle@zirannordeste.com.br; gate@zirannordeste.com.br"}]
["BRSUA","45GP","FANU3113516","Nao","Ziranlog SUA ",{"$f":"VLOOKUP(E1836,'Padrão mensagem'!$A$3:$B$67,2,0)","v":"Ziranlog SUA       -        (21) 973373045  |  E-mail: Controle@zirannordeste.com.br; gate@zirannordeste.com.br"}]
["BRSUA","45GP","NIDU5232740","Nao","Ziranlog SUA ",{"$f":"VLOOKUP(E1837,'Padrão mensagem'!$A$3:$B$67,2,0)","v":"Ziranlog SUA       -        (21) 973373045  |  E-mail: Controle@zirannordeste.com.br; gate@zirannordeste.com.br"}]
["BRSUA","45GP","UACU5443420","Nao","Ziranlog SUA ",{"$f":"VLOOKUP(E1838,'Padrão mensagem'!$A$3:$B$67,2,0)","v":"Ziranlog SUA       -        (21) 973373045  |  E-mail: Controle@zirannordeste.com.br; gate@zirannordeste.com.br"}]
["BRSUA","45GP","CAAU5690818","Nao","Ziranlog SUA ",{"$f":"VLOOKUP(E1839,'Padrão mensagem'!$A$3:$B$67,2,0)","v":"Ziranlog SUA       -        (21) 973373045  |  E-mail: Controle@zirannordeste.com.br; gate@zirannordeste.com.br"}]
["BRSUA","45GP","FANU3317654","Nao","Ziranlog SUA ",{"$f":"VLOOKUP(E1840,'Padrão mensagem'!$A$3:$B$67,2,0)","v":"Ziranlog SUA       -        (21) 973373045  |  E-mail: Controle@zirannordeste.com.br; gate@zirannordeste.com.br"}]
["BRSUA","45GP","HAMU1703379","Nao","Ziranlog SUA ",{"$f":"VLOOKUP(E1841,'Padrão mensagem'!$A$3:$B$67,2,0)","v":"Ziranlog SUA       -        (21) 973373045  |  E-mail: Controle@zirannordeste.com.br; gate@zirannordeste.com.br"}]
["BRSUA","45GP","FANU3020250","Nao","Ziranlog SUA ",{"$f":"VLOOKUP(E1842,'Padrão mensagem'!$A$3:$B$67,2,0)","v":"Ziranlog SUA       -        (21) 973373045  |  E-mail: Controle@zirannordeste.com.br; gate@zirannordeste.com.br"}]
["BRSUA","45GP","HAMU1912846","Nao","Ziranlog SUA ",{"$f":"VLOOKUP(E1843,'Padrão mensagem'!$A$3:$B$67,2,0)","v":"Ziranlog SUA       -        (21) 973373045  |  E-mail: Controle@zirannordeste.com.br; gate@zirannordeste.com.br"}]
["BRSUA","45GP","UACU5918634","Nao","Ziranlog SUA ",{"$f":"VLOOKUP(E1844,'Padrão mensagem'!$A$3:$B$67,2,0)","v":"Ziranlog SUA       -        (21) 973373045  |  E-mail: Controle@zirannordeste.com.br; gate@zirannordeste.com.br"}]
["BRSUA","45GP","FANU1755034","Nao","Ziranlog SUA ",{"$f":"VLOOKUP(E1845,'Padrão mensagem'!$A$3:$B$67,2,0)","v":"Ziranlog SUA       -        (21) 973373045  |  E-mail: Controle@zirannordeste.com.br; gate@zirannordeste.com.br"}]
["BRSUA","45GP","TGBU9645201","Nao","Ziranlog SUA ",{"$f":"VLOOKUP(E1846,'Padrão mensagem'!$A$3:$B$67,2,0)","v":"Ziranlog SUA       -        (21) 973373045  |  E-mail: Controle@zirannordeste.com.br; gate@zirannordeste.com.br"}]
["BRSUA","45GP","TEMU6885111","Nao","Ziranlog SUA ",{"$f":"VLOOKUP(E1847,'Padrão mensagem'!$A$3:$B$67,2,0)","v":"Ziranlog SUA       -        (21) 973373045  |  E-mail: Controle@zirannordeste.com.br; gate@zirannordeste.com.br"}]
["BRSUA","45GP","FANU1747580","Nao","Ziranlog SUA ",{"$f":"VLOOKUP(E1848,'Padrão mensagem'!$A$3:$B$67,2,0)","v":"Ziranlog SUA       -        (21) 973373045  |  E-mail: Controle@zirannordeste.com.br; gate@zirannordeste.com.br"}]
["BRSUA","45GP","TCLU5719910","Nao","Ziranlog SUA ",{"$f":"VLOOKUP(E1849,'Padrão mensagem'!$A$3:$B$67,2,0)","v":"Ziranlog SUA       -        (21) 973373045  |  E-mail: Controle@zirannordeste.com.br; gate@zirannordeste.com.br"}]
["BRSUA","45GP","HLBU2406082","Nao","Ziranlog SUA ",{"$f":"VLOOKUP(E1850,'Padrão mensagem'!$A$3:$B$67,2,0)","v":"Ziranlog SUA       -        (21) 973373045  |  E-mail: Controle@zirannordeste.com.br; gate@zirannordeste.com.br"}]
["BRSUA","45GP","SEGU5638342","Nao","Ziranlog SUA ",{"$f":"VLOOKUP(E1851,'Padrão mensagem'!$A$3:$B$67,2,0)","v":"Ziranlog SUA       -        (21) 973373045  |  E-mail: Controle@zirannordeste.com.br; gate@zirannordeste.com.br"}]
["BRSUA","45GP","HAMU1577877","Nao","Ziranlog SUA ",{"$f":"VLOOKUP(E1852,'Padrão mensagem'!$A$3:$B$67,2,0)","v":"Ziranlog SUA       -        (21) 973373045  |  E-mail: Controle@zirannordeste.com.br; gate@zirannordeste.com.br"}]
["BRSUA","45GP","CAAU6711767","Nao","Ziranlog SUA ",{"$f":"VLOOKUP(E1853,'Padrão mensagem'!$A$3:$B$67,2,0)","v":"Ziranlog SUA       -        (21) 973373045  |  E-mail: Controle@zirannordeste.com.br; gate@zirannordeste.com.br"}]
["BRSUA","45GP","HLBU3181550","Nao","Ziranlog SUA ",{"$f":"VLOOKUP(E1854,'Padrão mensagem'!$A$3:$B$67,2,0)","v":"Ziranlog SUA       -        (21) 973373045  |  E-mail: Controle@zirannordeste.com.br; gate@zirannordeste.com.br"}]
["BRSUA","45GP","BEAU4542748","Nao","Ziranlog SUA ",{"$f":"VLOOKUP(E1855,'Padrão mensagem'!$A$3:$B$67,2,0)","v":"Ziranlog SUA       -        (21) 973373045  |  E-mail: Controle@zirannordeste.com.br; gate@zirannordeste.com.br"}]
["BRSUA","45GP","HAMU2063580","Nao","Ziranlog SUA ",{"$f":"VLOOKUP(E1856,'Padrão mensagem'!$A$3:$B$67,2,0)","v":"Ziranlog SUA       -        (21) 973373045  |  E-mail: Controle@zirannordeste.com.br; gate@zirannordeste.com.br"}]
["BRSUA","45GP","HAMU2683003","Nao","Ziranlog SUA ",{"$f":"VLOOKUP(E1857,'Padrão mensagem'!$A$3:$B$67,2,0)","v":"Ziranlog SUA       -        (21) 973373045  |  E-mail: Controle@zirannordeste.com.br; gate@zirannordeste.com.br"}]
["BRSUA","45GP","FANU1425095","Nao","Ziranlog SUA ",{"$f":"VLOOKUP(E1858,'Padrão mensagem'!$A$3:$B$67,2,0)","v":"Ziranlog SUA       -        (21) 973373045  |  E-mail: Controle@zirannordeste.com.br; gate@zirannordeste.com.br"}]
["BRSUA","45GP","FANU1604845","Nao","Ziranlog SUA ",{"$f":"VLOOKUP(E1859,'Padrão mensagem'!$A$3:$B$67,2,0)","v":"Ziranlog SUA       -        (21) 973373045  |  E-mail: Controle@zirannordeste.com.br; gate@zirannordeste.com.br"}]
["BRSUA","45GP","HLBU2107395","Nao","Ziranlog SUA ",{"$f":"VLOOKUP(E1860,'Padrão mensagem'!$A$3:$B$67,2,0)","v":"Ziranlog SUA       -        (21) 973373045  |  E-mail: Controle@zirannordeste.com.br; gate@zirannordeste.com.br"}]
["BRSUA","45GP","DFSU7093230","Nao","Ziranlog SUA ",{"$f":"VLOOKUP(E1861,'Padrão mensagem'!$A$3:$B$67,2,0)","v":"Ziranlog SUA       -        (21) 973373045  |  E-mail: Controle@zirannordeste.com.br; gate@zirannordeste.com.br"}]
["BRSUA","45GP","HLBU1487201","Nao","Ziranlog SUA ",{"$f":"VLOOKUP(E1862,'Padrão mensagem'!$A$3:$B$67,2,0)","v":"Ziranlog SUA       -        (21) 973373045  |  E-mail: Controle@zirannordeste.com.br; gate@zirannordeste.com.br"}]
["BRSUA","45GP","TEMU7752089","Nao","Ziranlog SUA ",{"$f":"VLOOKUP(E1863,'Padrão mensagem'!$A$3:$B$67,2,0)","v":"Ziranlog SUA       -        (21) 973373045  |  E-mail: Controle@zirannordeste.com.br; gate@zirannordeste.com.br"}]
["BRSUA","45GP","TCNU7107830","Nao","Ziranlog SUA ",{"$f":"VLOOKUP(E1864,'Padrão mensagem'!$A$3:$B$67,2,0)","v":"Ziranlog SUA       -        (21) 973373045  |  E-mail: Controle@zirannordeste.com.br; gate@zirannordeste.com.br"}]
["BRSUA","45GP","HAMU2691436","Nao","Ziranlog SUA ",{"$f":"VLOOKUP(E1865,'Padrão mensagem'!$A$3:$B$67,2,0)","v":"Ziranlog SUA       -        (21) 973373045  |  E-mail: Controle@zirannordeste.com.br; gate@zirannordeste.com.br"}]
["BRSUA","45GP","HLBU2714830","Nao","Ziranlog SUA ",{"$f":"VLOOKUP(E1866,'Padrão mensagem'!$A$3:$B$67,2,0)","v":"Ziranlog SUA       -        (21) 973373045  |  E-mail: Controle@zirannordeste.com.br; gate@zirannordeste.com.br"}]
["BRSUA","45GP","HAMU2667390","Nao","Ziranlog SUA ",{"$f":"VLOOKUP(E1867,'Padrão mensagem'!$A$3:$B$67,2,0)","v":"Ziranlog SUA       -        (21) 973373045  |  E-mail: Controle@zirannordeste.com.br; gate@zirannordeste.com.br"}]
["BRSUA","45GP","HAMU2694970","Nao","Ziranlog SUA ",{"$f":"VLOOKUP(E1868,'Padrão mensagem'!$A$3:$B$67,2,0)","v":"Ziranlog SUA       -        (21) 973373045  |  E-mail: Controle@zirannordeste.com.br; gate@zirannordeste.com.br"}]
["BRSUA","45GP","HAMU2205410","Nao","Ziranlog SUA ",{"$f":"VLOOKUP(E1869,'Padrão mensagem'!$A$3:$B$67,2,0)","v":"Ziranlog SUA       -        (21) 973373045  |  E-mail: Controle@zirannordeste.com.br; gate@zirannordeste.com.br"}]
["BRSUA","45GP","HLBU2877251","Nao","Ziranlog SUA ",{"$f":"VLOOKUP(E1870,'Padrão mensagem'!$A$3:$B$67,2,0)","v":"Ziranlog SUA       -        (21) 973373045  |  E-mail: Controle@zirannordeste.com.br; gate@zirannordeste.com.br"}]
["BRSUA","45GP","HLBU2125362","Nao","Ziranlog SUA ",{"$f":"VLOOKUP(E1871,'Padrão mensagem'!$A$3:$B$67,2,0)","v":"Ziranlog SUA       -        (21) 973373045  |  E-mail: Controle@zirannordeste.com.br; gate@zirannordeste.com.br"}]
["BRSUA","45GP","TGBU9621112","Nao","Ziranlog SUA ",{"$f":"VLOOKUP(E1872,'Padrão mensagem'!$A$3:$B$67,2,0)","v":"Ziranlog SUA       -        (21) 973373045  |  E-mail: Controle@zirannordeste.com.br; gate@zirannordeste.com.br"}]
["BRSUA","45GP","BSIU8297762","Nao","Ziranlog SUA ",{"$f":"VLOOKUP(E1873,'Padrão mensagem'!$A$3:$B$67,2,0)","v":"Ziranlog SUA       -        (21) 973373045  |  E-mail: Controle@zirannordeste.com.br; gate@zirannordeste.com.br"}]
["BRSUA","45GP","FCIU7485710","Nao","Ziranlog SUA ",{"$f":"VLOOKUP(E1874,'Padrão mensagem'!$A$3:$B$67,2,0)","v":"Ziranlog SUA       -        (21) 973373045  |  E-mail: Controle@zirannordeste.com.br; gate@zirannordeste.com.br"}]
["BRSUA","45GP","FFAU1148340","Nao","Ziranlog SUA ",{"$f":"VLOOKUP(E1875,'Padrão mensagem'!$A$3:$B$67,2,0)","v":"Ziranlog SUA       -        (21) 973373045  |  E-mail: Controle@zirannordeste.com.br; gate@zirannordeste.com.br"}]
["BRSUA","45GP","FCIU7617669","Nao","Ziranlog SUA ",{"$f":"VLOOKUP(E1876,'Padrão mensagem'!$A$3:$B$67,2,0)","v":"Ziranlog SUA       -        (21) 973373045  |  E-mail: Controle@zirannordeste.com.br; gate@zirannordeste.com.br"}]
["BRSUA","45GP","CAAU8216741","Nao","Ziranlog SUA ",{"$f":"VLOOKUP(E1877,'Padrão mensagem'!$A$3:$B$67,2,0)","v":"Ziranlog SUA       -        (21) 973373045  |  E-mail: Controle@zirannordeste.com.br; gate@zirannordeste.com.br"}]
["BRSUA","45GP","FANU1940942","Nao","Ziranlog SUA ",{"$f":"VLOOKUP(E1878,'Padrão mensagem'!$A$3:$B$67,2,0)","v":"Ziranlog SUA       -        (21) 973373045  |  E-mail: Controle@zirannordeste.com.br; gate@zirannordeste.com.br"}]
["BRSUA","45GP","TCNU1515794","Nao","Ziranlog SUA ",{"$f":"VLOOKUP(E1879,'Padrão mensagem'!$A$3:$B$67,2,0)","v":"Ziranlog SUA       -        (21) 973373045  |  E-mail: Controle@zirannordeste.com.br; gate@zirannordeste.com.br"}]
["BRSUA","45GP","FCIU7343953","Nao","Ziranlog SUA ",{"$f":"VLOOKUP(E1880,'Padrão mensagem'!$A$3:$B$67,2,0)","v":"Ziranlog SUA       -        (21) 973373045  |  E-mail: Controle@zirannordeste.com.br; gate@zirannordeste.com.br"}]
["BRSUA","45GP","TXGU7349203","Nao","Ziranlog SUA ",{"$f":"VLOOKUP(E1881,'Padrão mensagem'!$A$3:$B$67,2,0)","v":"Ziranlog SUA       -        (21) 973373045  |  E-mail: Controle@zirannordeste.com.br; gate@zirannordeste.com.br"}]
["BRSUA","45GP","FCIU7486717","Nao","Ziranlog SUA ",{"$f":"VLOOKUP(E1882,'Padrão mensagem'!$A$3:$B$67,2,0)","v":"Ziranlog SUA       -        (21) 973373045  |  E-mail: Controle@zirannordeste.com.br; gate@zirannordeste.com.br"}]
["BRSUA","45GP","HLBU3096802","Nao","Ziranlog SUA ",{"$f":"VLOOKUP(E1883,'Padrão mensagem'!$A$3:$B$67,2,0)","v":"Ziranlog SUA       -        (21) 973373045  |  E-mail: Controle@zirannordeste.com.br; gate@zirannordeste.com.br"}]
["BRSUA","45GP","GESU6159653","Nao","Ziranlog SUA ",{"$f":"VLOOKUP(E1884,'Padrão mensagem'!$A$3:$B$67,2,0)","v":"Ziranlog SUA       -        (21) 973373045  |  E-mail: Controle@zirannordeste.com.br; gate@zirannordeste.com.br"}]
["BRSUA","45GP","UACU5759342","Nao","Ziranlog SUA ",{"$f":"VLOOKUP(E1885,'Padrão mensagem'!$A$3:$B$67,2,0)","v":"Ziranlog SUA       -        (21) 973373045  |  E-mail: Controle@zirannordeste.com.br; gate@zirannordeste.com.br"}]
["BRSUA","45GP","CAAU8395204","Nao","Ziranlog SUA ",{"$f":"VLOOKUP(E1886,'Padrão mensagem'!$A$3:$B$67,2,0)","v":"Ziranlog SUA       -        (21) 973373045  |  E-mail: Controle@zirannordeste.com.br; gate@zirannordeste.com.br"}]
["BRSUA","45GP","HLBU3299944","Nao","Ziranlog SUA ",{"$f":"VLOOKUP(E1887,'Padrão mensagem'!$A$3:$B$67,2,0)","v":"Ziranlog SUA       -        (21) 973373045  |  E-mail: Controle@zirannordeste.com.br; gate@zirannordeste.com.br"}]
["BRSUA","45GP","HLXU8489163","Nao","Ziranlog SUA ",{"$f":"VLOOKUP(E1888,'Padrão mensagem'!$A$3:$B$67,2,0)","v":"Ziranlog SUA       -        (21) 973373045  |  E-mail: Controle@zirannordeste.com.br; gate@zirannordeste.com.br"}]
["BRSUA","45GP","HAMU2829280","Nao","Ziranlog SUA ",{"$f":"VLOOKUP(E1889,'Padrão mensagem'!$A$3:$B$67,2,0)","v":"Ziranlog SUA       -        (21) 973373045  |  E-mail: Controle@zirannordeste.com.br; gate@zirannordeste.com.br"}]
["BRSUA","45GP","UETU6513722","Nao","Ziranlog SUA ",{"$f":"VLOOKUP(E1890,'Padrão mensagem'!$A$3:$B$67,2,0)","v":"Ziranlog SUA       -        (21) 973373045  |  E-mail: Controle@zirannordeste.com.br; gate@zirannordeste.com.br"}]
["BRSUA","45GP","TCKU6485759","Nao","Ziranlog SUA ",{"$f":"VLOOKUP(E1891,'Padrão mensagem'!$A$3:$B$67,2,0)","v":"Ziranlog SUA       -        (21) 973373045  |  E-mail: Controle@zirannordeste.com.br; gate@zirannordeste.com.br"}]
["BRSUA","45GP","TGHU9054659","Nao","Ziranlog SUA ",{"$f":"VLOOKUP(E1892,'Padrão mensagem'!$A$3:$B$67,2,0)","v":"Ziranlog SUA       -        (21) 973373045  |  E-mail: Controle@zirannordeste.com.br; gate@zirannordeste.com.br"}]
["BRSUA","45GP","TCLU8096368","Nao","Ziranlog SUA ",{"$f":"VLOOKUP(E1893,'Padrão mensagem'!$A$3:$B$67,2,0)","v":"Ziranlog SUA       -        (21) 973373045  |  E-mail: Controle@zirannordeste.com.br; gate@zirannordeste.com.br"}]
["BRSUA","45GP","UACU5555360","Nao","Ziranlog SUA ",{"$f":"VLOOKUP(E1894,'Padrão mensagem'!$A$3:$B$67,2,0)","v":"Ziranlog SUA       -        (21) 973373045  |  E-mail: Controle@zirannordeste.com.br; gate@zirannordeste.com.br"}]
["BRSUA","45GP","FANU1112980","Nao","Ziranlog SUA ",{"$f":"VLOOKUP(E1895,'Padrão mensagem'!$A$3:$B$67,2,0)","v":"Ziranlog SUA       -        (21) 973373045  |  E-mail: Controle@zirannordeste.com.br; gate@zirannordeste.com.br"}]
["BRSUA","45GP","TCLU5459916","Nao","Ziranlog SUA ",{"$f":"VLOOKUP(E1896,'Padrão mensagem'!$A$3:$B$67,2,0)","v":"Ziranlog SUA       -        (21) 973373045  |  E-mail: Controle@zirannordeste.com.br; gate@zirannordeste.com.br"}]
["BRSUA","45GP","FSCU7229636","Nao","Ziranlog SUA ",{"$f":"VLOOKUP(E1897,'Padrão mensagem'!$A$3:$B$67,2,0)","v":"Ziranlog SUA       -        (21) 973373045  |  E-mail: Controle@zirannordeste.com.br; gate@zirannordeste.com.br"}]
["BRSUA","45GP","TRHU4974907","Nao","Ziranlog SUA ",{"$f":"VLOOKUP(E1898,'Padrão mensagem'!$A$3:$B$67,2,0)","v":"Ziranlog SUA       -        (21) 973373045  |  E-mail: Controle@zirannordeste.com.br; gate@zirannordeste.com.br"}]
["BRSUA","45GP","HLBU3282540","Nao","Ziranlog SUA ",{"$f":"VLOOKUP(E1899,'Padrão mensagem'!$A$3:$B$67,2,0)","v":"Ziranlog SUA       -        (21) 973373045  |  E-mail: Controle@zirannordeste.com.br; gate@zirannordeste.com.br"}]
["BRSUA","45GP","FANU3724412","Nao","Ziranlog SUA ",{"$f":"VLOOKUP(E1900,'Padrão mensagem'!$A$3:$B$67,2,0)","v":"Ziranlog SUA       -        (21) 973373045  |  E-mail: Controle@zirannordeste.com.br; gate@zirannordeste.com.br"}]
["BRSUA","45GP","FSCU7171621","Nao","Ziranlog SUA ",{"$f":"VLOOKUP(E1901,'Padrão mensagem'!$A$3:$B$67,2,0)","v":"Ziranlog SUA       -        (21) 973373045  |  E-mail: Controle@zirannordeste.com.br; gate@zirannordeste.com.br"}]
["BRSUA","45GP","HAMU2827353","Nao","Ziranlog SUA ",{"$f":"VLOOKUP(E1902,'Padrão mensagem'!$A$3:$B$67,2,0)","v":"Ziranlog SUA       -        (21) 973373045  |  E-mail: Controle@zirannordeste.com.br; gate@zirannordeste.com.br"}]
["BRSUA","45GP","HLXU8416001","Nao","Ziranlog SUA ",{"$f":"VLOOKUP(E1903,'Padrão mensagem'!$A$3:$B$67,2,0)","v":"Ziranlog SUA       -        (21) 973373045  |  E-mail: Controle@zirannordeste.com.br; gate@zirannordeste.com.br"}]
["BRSUA","45GP","FANU1302681","Nao","Ziranlog SUA ",{"$f":"VLOOKUP(E1904,'Padrão mensagem'!$A$3:$B$67,2,0)","v":"Ziranlog SUA       -        (21) 973373045  |  E-mail: Controle@zirannordeste.com.br; gate@zirannordeste.com.br"}]
["BRSUA","45GP","HAMU2241573","Nao","Ziranlog SUA ",{"$f":"VLOOKUP(E1905,'Padrão mensagem'!$A$3:$B$67,2,0)","v":"Ziranlog SUA       -        (21) 973373045  |  E-mail: Controle@zirannordeste.com.br; gate@zirannordeste.com.br"}]
["BRSUA","45GP","HLBU2663265","Nao","Ziranlog SUA ",{"$f":"VLOOKUP(E1906,'Padrão mensagem'!$A$3:$B$67,2,0)","v":"Ziranlog SUA       -        (21) 973373045  |  E-mail: Controle@zirannordeste.com.br; gate@zirannordeste.com.br"}]
["BRSUA","45GP","HLBU1575895","Nao","Ziranlog SUA ",{"$f":"VLOOKUP(E1907,'Padrão mensagem'!$A$3:$B$67,2,0)","v":"Ziranlog SUA       -        (21) 973373045  |  E-mail: Controle@zirannordeste.com.br; gate@zirannordeste.com.br"}]
["BRSUA","45GP","FANU1409900","Nao","Ziranlog SUA ",{"$f":"VLOOKUP(E1908,'Padrão mensagem'!$A$3:$B$67,2,0)","v":"Ziranlog SUA       -        (21) 973373045  |  E-mail: Controle@zirannordeste.com.br; gate@zirannordeste.com.br"}]
["BRSUA","45GP","HAMU1864460","Nao","Ziranlog SUA ",{"$f":"VLOOKUP(E1909,'Padrão mensagem'!$A$3:$B$67,2,0)","v":"Ziranlog SUA       -        (21) 973373045  |  E-mail: Controle@zirannordeste.com.br; gate@zirannordeste.com.br"}]
["BRSUA","45GP","FANU3688845","Nao","Ziranlog SUA ",{"$f":"VLOOKUP(E1910,'Padrão mensagem'!$A$3:$B$67,2,0)","v":"Ziranlog SUA       -        (21) 973373045  |  E-mail: Controle@zirannordeste.com.br; gate@zirannordeste.com.br"}]
["BRSUA","45GP","DFSU7318039","Nao","Ziranlog SUA ",{"$f":"VLOOKUP(E1911,'Padrão mensagem'!$A$3:$B$67,2,0)","v":"Ziranlog SUA       -        (21) 973373045  |  E-mail: Controle@zirannordeste.com.br; gate@zirannordeste.com.br"}]
["BRSUA","45GP","FANU1528257","Nao","Ziranlog SUA ",{"$f":"VLOOKUP(E1912,'Padrão mensagem'!$A$3:$B$67,2,0)","v":"Ziranlog SUA       -        (21) 973373045  |  E-mail: Controle@zirannordeste.com.br; gate@zirannordeste.com.br"}]
["BRSUA","45GP","HAMU2083246","Nao","Ziranlog SUA ",{"$f":"VLOOKUP(E1913,'Padrão mensagem'!$A$3:$B$67,2,0)","v":"Ziranlog SUA       -        (21) 973373045  |  E-mail: Controle@zirannordeste.com.br; gate@zirannordeste.com.br"}]
["BRSUA","45GP","BMOU4309216","Nao","Ziranlog SUA ",{"$f":"VLOOKUP(E1914,'Padrão mensagem'!$A$3:$B$67,2,0)","v":"Ziranlog SUA       -        (21) 973373045  |  E-mail: Controle@zirannordeste.com.br; gate@zirannordeste.com.br"}]
["BRSUA","45GP","SEGU5096468","Nao","Ziranlog SUA ",{"$f":"VLOOKUP(E1915,'Padrão mensagem'!$A$3:$B$67,2,0)","v":"Ziranlog SUA       -        (21) 973373045  |  E-mail: Controle@zirannordeste.com.br; gate@zirannordeste.com.br"}]
["BRSUA","45GP","HLBU1545519","Offhire","Ziranlog SUA ",{"$f":"VLOOKUP(E1916,'Padrão mensagem'!$A$3:$B$67,2,0)","v":"Ziranlog SUA       -        (21) 973373045  |  E-mail: Controle@zirannordeste.com.br; gate@zirannordeste.com.br"}]
["BRSUA","45GP","TCKU6591088","Nao","Ziranlog SUA ",{"$f":"VLOOKUP(E1917,'Padrão mensagem'!$A$3:$B$67,2,0)","v":"Ziranlog SUA       -        (21) 973373045  |  E-mail: Controle@zirannordeste.com.br; gate@zirannordeste.com.br"}]
["BRSUA","45GP","FCIU7454725","Nao","Ziranlog SUA ",{"$f":"VLOOKUP(E1918,'Padrão mensagem'!$A$3:$B$67,2,0)","v":"Ziranlog SUA       -        (21) 973373045  |  E-mail: Controle@zirannordeste.com.br; gate@zirannordeste.com.br"}]
["BRSUA","45GP","TCLU6653530","Nao","Ziranlog SUA ",{"$f":"VLOOKUP(E1919,'Padrão mensagem'!$A$3:$B$67,2,0)","v":"Ziranlog SUA       -        (21) 973373045  |  E-mail: Controle@zirannordeste.com.br; gate@zirannordeste.com.br"}]
["BRSUA","45GP","FFAU1189885","Nao","Ziranlog SUA ",{"$f":"VLOOKUP(E1920,'Padrão mensagem'!$A$3:$B$67,2,0)","v":"Ziranlog SUA       -        (21) 973373045  |  E-mail: Controle@zirannordeste.com.br; gate@zirannordeste.com.br"}]
["BRSUA","45GP","TCNU6698996","Nao","Ziranlog SUA ",{"$f":"VLOOKUP(E1921,'Padrão mensagem'!$A$3:$B$67,2,0)","v":"Ziranlog SUA       -        (21) 973373045  |  E-mail: Controle@zirannordeste.com.br; gate@zirannordeste.com.br"}]
["BRSUA","45GP","UACU5819312","Nao","Ziranlog SUA ",{"$f":"VLOOKUP(E1922,'Padrão mensagem'!$A$3:$B$67,2,0)","v":"Ziranlog SUA       -        (21) 973373045  |  E-mail: Controle@zirannordeste.com.br; gate@zirannordeste.com.br"}]
["BRSUA","45GP","DFSU7093565","Nao","Ziranlog SUA ",{"$f":"VLOOKUP(E1923,'Padrão mensagem'!$A$3:$B$67,2,0)","v":"Ziranlog SUA       -        (21) 973373045  |  E-mail: Controle@zirannordeste.com.br; gate@zirannordeste.com.br"}]
["BRSUA","45GP","FANU3182435","Nao","Ziranlog SUA ",{"$f":"VLOOKUP(E1924,'Padrão mensagem'!$A$3:$B$67,2,0)","v":"Ziranlog SUA       -        (21) 973373045  |  E-mail: Controle@zirannordeste.com.br; gate@zirannordeste.com.br"}]
["BRSUA","45GP","FANU3261494","Nao","Ziranlog SUA ",{"$f":"VLOOKUP(E1925,'Padrão mensagem'!$A$3:$B$67,2,0)","v":"Ziranlog SUA       -        (21) 973373045  |  E-mail: Controle@zirannordeste.com.br; gate@zirannordeste.com.br"}]
["BRSUA","45GP","FANU1176095","Nao","Ziranlog SUA ",{"$f":"VLOOKUP(E1926,'Padrão mensagem'!$A$3:$B$67,2,0)","v":"Ziranlog SUA       -        (21) 973373045  |  E-mail: Controle@zirannordeste.com.br; gate@zirannordeste.com.br"}]
["BRSUA","45GP","TEMU8826864","Nao","Ziranlog SUA ",{"$f":"VLOOKUP(E1927,'Padrão mensagem'!$A$3:$B$67,2,0)","v":"Ziranlog SUA       -        (21) 973373045  |  E-mail: Controle@zirannordeste.com.br; gate@zirannordeste.com.br"}]
["BRSUA","45GP","FDCU0035183","Nao","Ziranlog SUA ",{"$f":"VLOOKUP(E1928,'Padrão mensagem'!$A$3:$B$67,2,0)","v":"Ziranlog SUA       -        (21) 973373045  |  E-mail: Controle@zirannordeste.com.br; gate@zirannordeste.com.br"}]
["BRSUA","45GP","HLBU1930372","Nao","Ziranlog SUA ",{"$f":"VLOOKUP(E1929,'Padrão mensagem'!$A$3:$B$67,2,0)","v":"Ziranlog SUA       -        (21) 973373045  |  E-mail: Controle@zirannordeste.com.br; gate@zirannordeste.com.br"}]
["BRSUA","45GP","FANU1744066","Nao","Ziranlog SUA ",{"$f":"VLOOKUP(E1930,'Padrão mensagem'!$A$3:$B$67,2,0)","v":"Ziranlog SUA       -        (21) 973373045  |  E-mail: Controle@zirannordeste.com.br; gate@zirannordeste.com.br"}]
["BRSUA","45GP","BMOU5494546","Nao","Ziranlog SUA ",{"$f":"VLOOKUP(E1931,'Padrão mensagem'!$A$3:$B$67,2,0)","v":"Ziranlog SUA       -        (21) 973373045  |  E-mail: Controle@zirannordeste.com.br; gate@zirannordeste.com.br"}]
["BRSUA","45GP","FANU3750643","Nao","Ziranlog SUA ",{"$f":"VLOOKUP(E1932,'Padrão mensagem'!$A$3:$B$67,2,0)","v":"Ziranlog SUA       -        (21) 973373045  |  E-mail: Controle@zirannordeste.com.br; gate@zirannordeste.com.br"}]
["BRSUA","45GP","HAMU2111353","Nao","Ziranlog SUA ",{"$f":"VLOOKUP(E1933,'Padrão mensagem'!$A$3:$B$67,2,0)","v":"Ziranlog SUA       -        (21) 973373045  |  E-mail: Controle@zirannordeste.com.br; gate@zirannordeste.com.br"}]
["BRSUA","45GP","HLBU3147406","Nao","Ziranlog SUA ",{"$f":"VLOOKUP(E1934,'Padrão mensagem'!$A$3:$B$67,2,0)","v":"Ziranlog SUA       -        (21) 973373045  |  E-mail: Controle@zirannordeste.com.br; gate@zirannordeste.com.br"}]
["BRSUA","45GP","GCXU5167333","Nao","Ziranlog SUA ",{"$f":"VLOOKUP(E1935,'Padrão mensagem'!$A$3:$B$67,2,0)","v":"Ziranlog SUA       -        (21) 973373045  |  E-mail: Controle@zirannordeste.com.br; gate@zirannordeste.com.br"}]
["BRSUA","45GP","FANU3740666","Nao","Ziranlog SUA ",{"$f":"VLOOKUP(E1936,'Padrão mensagem'!$A$3:$B$67,2,0)","v":"Ziranlog SUA       -        (21) 973373045  |  E-mail: Controle@zirannordeste.com.br; gate@zirannordeste.com.br"}]
["BRSUA","45GP","FANU3541094","Nao","Ziranlog SUA ",{"$f":"VLOOKUP(E1937,'Padrão mensagem'!$A$3:$B$67,2,0)","v":"Ziranlog SUA       -        (21) 973373045  |  E-mail: Controle@zirannordeste.com.br; gate@zirannordeste.com.br"}]
["BRSUA","45GP","HAMU2368887","Nao","Ziranlog SUA ",{"$f":"VLOOKUP(E1938,'Padrão mensagem'!$A$3:$B$67,2,0)","v":"Ziranlog SUA       -        (21) 973373045  |  E-mail: Controle@zirannordeste.com.br; gate@zirannordeste.com.br"}]
["BRSUA","45GP","HAMU2117557","Nao","Ziranlog SUA ",{"$f":"VLOOKUP(E1939,'Padrão mensagem'!$A$3:$B$67,2,0)","v":"Ziranlog SUA       -        (21) 973373045  |  E-mail: Controle@zirannordeste.com.br; gate@zirannordeste.com.br"}]
["BRSUA","45GP","HAMU2120437","Nao","Ziranlog SUA ",{"$f":"VLOOKUP(E1940,'Padrão mensagem'!$A$3:$B$67,2,0)","v":"Ziranlog SUA       -        (21) 973373045  |  E-mail: Controle@zirannordeste.com.br; gate@zirannordeste.com.br"}]
["BRSUA","45GP","HAMU2117578","Nao","Ziranlog SUA ",{"$f":"VLOOKUP(E1941,'Padrão mensagem'!$A$3:$B$67,2,0)","v":"Ziranlog SUA       -        (21) 973373045  |  E-mail: Controle@zirannordeste.com.br; gate@zirannordeste.com.br"}]
["BRSUA","45GP","TCNU1427292","Nao","Ziranlog SUA ",{"$f":"VLOOKUP(E1942,'Padrão mensagem'!$A$3:$B$67,2,0)","v":"Ziranlog SUA       -        (21) 973373045  |  E-mail: Controle@zirannordeste.com.br; gate@zirannordeste.com.br"}]
["BRSUA","45GP","HLBU1488487","Nao","Ziranlog SUA ",{"$f":"VLOOKUP(E1943,'Padrão mensagem'!$A$3:$B$67,2,0)","v":"Ziranlog SUA       -        (21) 973373045  |  E-mail: Controle@zirannordeste.com.br; gate@zirannordeste.com.br"}]
["BRSUA","45GP","CAIU8997544","Nao","Ziranlog SUA ",{"$f":"VLOOKUP(E1944,'Padrão mensagem'!$A$3:$B$67,2,0)","v":"Ziranlog SUA       -        (21) 973373045  |  E-mail: Controle@zirannordeste.com.br; gate@zirannordeste.com.br"}]
["BRSUA","45GP","HLBU1596814","Nao","Ziranlog SUA ",{"$f":"VLOOKUP(E1945,'Padrão mensagem'!$A$3:$B$67,2,0)","v":"Ziranlog SUA       -        (21) 973373045  |  E-mail: Controle@zirannordeste.com.br; gate@zirannordeste.com.br"}]
["BRSUA","45GP","HAMU2368510","Nao","Ziranlog SUA ",{"$f":"VLOOKUP(E1946,'Padrão mensagem'!$A$3:$B$67,2,0)","v":"Ziranlog SUA       -        (21) 973373045  |  E-mail: Controle@zirannordeste.com.br; gate@zirannordeste.com.br"}]
["BRSUA","45GP","GCXU5950441","Nao","Ziranlog SUA ",{"$f":"VLOOKUP(E1947,'Padrão mensagem'!$A$3:$B$67,2,0)","v":"Ziranlog SUA       -        (21) 973373045  |  E-mail: Controle@zirannordeste.com.br; gate@zirannordeste.com.br"}]
["BRSUA","45GP","FSCU8429285","Nao","Ziranlog SUA ",{"$f":"VLOOKUP(E1948,'Padrão mensagem'!$A$3:$B$67,2,0)","v":"Ziranlog SUA       -        (21) 973373045  |  E-mail: Controle@zirannordeste.com.br; gate@zirannordeste.com.br"}]
["BRSUA","45GP","TEMU6575693","Offhire","Ziranlog SUA ",{"$f":"VLOOKUP(E1949,'Padrão mensagem'!$A$3:$B$67,2,0)","v":"Ziranlog SUA       -        (21) 973373045  |  E-mail: Controle@zirannordeste.com.br; gate@zirannordeste.com.br"}]
["BRSUA","45GP","HLBU3107471","Nao","Ziranlog SUA ",{"$f":"VLOOKUP(E1950,'Padrão mensagem'!$A$3:$B$67,2,0)","v":"Ziranlog SUA       -        (21) 973373045  |  E-mail: Controle@zirannordeste.com.br; gate@zirannordeste.com.br"}]
["BRSUA","45GP","HLXU8411165","Nao","Ziranlog SUA ",{"$f":"VLOOKUP(E1951,'Padrão mensagem'!$A$3:$B$67,2,0)","v":"Ziranlog SUA       -        (21) 973373045  |  E-mail: Controle@zirannordeste.com.br; gate@zirannordeste.com.br"}]
["BRSUA","45GP","HLBU1617120","Nao","Ziranlog SUA ",{"$f":"VLOOKUP(E1952,'Padrão mensagem'!$A$3:$B$67,2,0)","v":"Ziranlog SUA       -        (21) 973373045  |  E-mail: Controle@zirannordeste.com.br; gate@zirannordeste.com.br"}]
["BRSUA","45GP","HLBU2576828","Nao","Ziranlog SUA ",{"$f":"VLOOKUP(E1953,'Padrão mensagem'!$A$3:$B$67,2,0)","v":"Ziranlog SUA       -        (21) 973373045  |  E-mail: Controle@zirannordeste.com.br; gate@zirannordeste.com.br"}]
["BRSUA","45GP","FANU3009184","Nao","Ziranlog SUA ",{"$f":"VLOOKUP(E1954,'Padrão mensagem'!$A$3:$B$67,2,0)","v":"Ziranlog SUA       -        (21) 973373045  |  E-mail: Controle@zirannordeste.com.br; gate@zirannordeste.com.br"}]
["BRSUA","45GP","TEMU7719877","Nao","Ziranlog SUA ",{"$f":"VLOOKUP(E1955,'Padrão mensagem'!$A$3:$B$67,2,0)","v":"Ziranlog SUA       -        (21) 973373045  |  E-mail: Controle@zirannordeste.com.br; gate@zirannordeste.com.br"}]
["BRSUA","45GP","BSIU9868423","Nao","Ziranlog SUA ",{"$f":"VLOOKUP(E1956,'Padrão mensagem'!$A$3:$B$67,2,0)","v":"Ziranlog SUA       -        (21) 973373045  |  E-mail: Controle@zirannordeste.com.br; gate@zirannordeste.com.br"}]
["BRSUA","45GP","TGBU5702263","Nao","Ziranlog SUA ",{"$f":"VLOOKUP(E1957,'Padrão mensagem'!$A$3:$B$67,2,0)","v":"Ziranlog SUA       -        (21) 973373045  |  E-mail: Controle@zirannordeste.com.br; gate@zirannordeste.com.br"}]
["BRSUA","45GP","HLXU8526056","Nao","Ziranlog SUA ",{"$f":"VLOOKUP(E1958,'Padrão mensagem'!$A$3:$B$67,2,0)","v":"Ziranlog SUA       -        (21) 973373045  |  E-mail: Controle@zirannordeste.com.br; gate@zirannordeste.com.br"}]
["BRSUA","45GP","FDCU0188500","Nao","Ziranlog SUA ",{"$f":"VLOOKUP(E1959,'Padrão mensagem'!$A$3:$B$67,2,0)","v":"Ziranlog SUA       -        (21) 973373045  |  E-mail: Controle@zirannordeste.com.br; gate@zirannordeste.com.br"}]
["BRSUA","45GP","TCNU6799610","Nao","Ziranlog SUA ",{"$f":"VLOOKUP(E1960,'Padrão mensagem'!$A$3:$B$67,2,0)","v":"Ziranlog SUA       -        (21) 973373045  |  E-mail: Controle@zirannordeste.com.br; gate@zirannordeste.com.br"}]
["BRSUA","45GP","HAMU1789752","Nao","Ziranlog SUA ",{"$f":"VLOOKUP(E1961,'Padrão mensagem'!$A$3:$B$67,2,0)","v":"Ziranlog SUA       -        (21) 973373045  |  E-mail: Controle@zirannordeste.com.br; gate@zirannordeste.com.br"}]
["BRSUA","45GP","HAMU1705324","Nao","Ziranlog SUA ",{"$f":"VLOOKUP(E1962,'Padrão mensagem'!$A$3:$B$67,2,0)","v":"Ziranlog SUA       -        (21) 973373045  |  E-mail: Controle@zirannordeste.com.br; gate@zirannordeste.com.br"}]
["BRSUA","45GP","FANU1248934","Nao","Ziranlog SUA ",{"$f":"VLOOKUP(E1963,'Padrão mensagem'!$A$3:$B$67,2,0)","v":"Ziranlog SUA       -        (21) 973373045  |  E-mail: Controle@zirannordeste.com.br; gate@zirannordeste.com.br"}]
["BRSUA","45GP","FSCU7180834","Nao","Ziranlog SUA ",{"$f":"VLOOKUP(E1964,'Padrão mensagem'!$A$3:$B$67,2,0)","v":"Ziranlog SUA       -        (21) 973373045  |  E-mail: Controle@zirannordeste.com.br; gate@zirannordeste.com.br"}]
["BRSUA","45GP","TEMU7750635","Nao","Ziranlog SUA ",{"$f":"VLOOKUP(E1965,'Padrão mensagem'!$A$3:$B$67,2,0)","v":"Ziranlog SUA       -        (21) 973373045  |  E-mail: Controle@zirannordeste.com.br; gate@zirannordeste.com.br"}]
["BRSUA","45GP","FANU3073856","Nao","Ziranlog SUA ",{"$f":"VLOOKUP(E1966,'Padrão mensagem'!$A$3:$B$67,2,0)","v":"Ziranlog SUA       -        (21) 973373045  |  E-mail: Controle@zirannordeste.com.br; gate@zirannordeste.com.br"}]
["BRSUA","45GP","GCXU5952399","Nao","Ziranlog SUA ",{"$f":"VLOOKUP(E1967,'Padrão mensagem'!$A$3:$B$67,2,0)","v":"Ziranlog SUA       -        (21) 973373045  |  E-mail: Controle@zirannordeste.com.br; gate@zirannordeste.com.br"}]
["BRSUA","45GP","HLBU2689721","Nao","Ziranlog SUA ",{"$f":"VLOOKUP(E1968,'Padrão mensagem'!$A$3:$B$67,2,0)","v":"Ziranlog SUA       -        (21) 973373045  |  E-mail: Controle@zirannordeste.com.br; gate@zirannordeste.com.br"}]
["BRSUA","45GP","HAMU1885421","Nao","Ziranlog SUA ",{"$f":"VLOOKUP(E1969,'Padrão mensagem'!$A$3:$B$67,2,0)","v":"Ziranlog SUA       -        (21) 973373045  |  E-mail: Controle@zirannordeste.com.br; gate@zirannordeste.com.br"}]
["BRSUA","45GP","FANU3837614","Nao","Ziranlog SUA ",{"$f":"VLOOKUP(E1970,'Padrão mensagem'!$A$3:$B$67,2,0)","v":"Ziranlog SUA       -        (21) 973373045  |  E-mail: Controle@zirannordeste.com.br; gate@zirannordeste.com.br"}]
["BRSUA","45GP","HLBU3295131","Nao","Ziranlog SUA ",{"$f":"VLOOKUP(E1971,'Padrão mensagem'!$A$3:$B$67,2,0)","v":"Ziranlog SUA       -        (21) 973373045  |  E-mail: Controle@zirannordeste.com.br; gate@zirannordeste.com.br"}]
["BRSUA","45GP","HLBU2198796","Nao","Ziranlog SUA ",{"$f":"VLOOKUP(E1972,'Padrão mensagem'!$A$3:$B$67,2,0)","v":"Ziranlog SUA       -        (21) 973373045  |  E-mail: Controle@zirannordeste.com.br; gate@zirannordeste.com.br"}]
["BRSUA","45GP","HAMU2017352","Nao","Ziranlog SUA ",{"$f":"VLOOKUP(E1973,'Padrão mensagem'!$A$3:$B$67,2,0)","v":"Ziranlog SUA       -        (21) 973373045  |  E-mail: Controle@zirannordeste.com.br; gate@zirannordeste.com.br"}]
["BRSUA","45GP","CAAU5683763","Nao","Ziranlog SUA ",{"$f":"VLOOKUP(E1974,'Padrão mensagem'!$A$3:$B$67,2,0)","v":"Ziranlog SUA       -        (21) 973373045  |  E-mail: Controle@zirannordeste.com.br; gate@zirannordeste.com.br"}]
["BRSUA","45GP","FANU3403639","Nao","Ziranlog SUA ",{"$f":"VLOOKUP(E1975,'Padrão mensagem'!$A$3:$B$67,2,0)","v":"Ziranlog SUA       -        (21) 973373045  |  E-mail: Controle@zirannordeste.com.br; gate@zirannordeste.com.br"}]
["BRSUA","45GP","CAAU5546734","Nao","Ziranlog SUA ",{"$f":"VLOOKUP(E1976,'Padrão mensagem'!$A$3:$B$67,2,0)","v":"Ziranlog SUA       -        (21) 973373045  |  E-mail: Controle@zirannordeste.com.br; gate@zirannordeste.com.br"}]
["BRSUA","45GP","TCLU6652241","Nao","Ziranlog SUA ",{"$f":"VLOOKUP(E1977,'Padrão mensagem'!$A$3:$B$67,2,0)","v":"Ziranlog SUA       -        (21) 973373045  |  E-mail: Controle@zirannordeste.com.br; gate@zirannordeste.com.br"}]
["BRSUA","45GP","HLBU1700153","Nao","Ziranlog SUA ",{"$f":"VLOOKUP(E1978,'Padrão mensagem'!$A$3:$B$67,2,0)","v":"Ziranlog SUA       -        (21) 973373045  |  E-mail: Controle@zirannordeste.com.br; gate@zirannordeste.com.br"}]
["BRSUA","45GP","HLBU2699714","Nao","Ziranlog SUA ",{"$f":"VLOOKUP(E1979,'Padrão mensagem'!$A$3:$B$67,2,0)","v":"Ziranlog SUA       -        (21) 973373045  |  E-mail: Controle@zirannordeste.com.br; gate@zirannordeste.com.br"}]
["BRSUA","45GP","FANU1446971","Nao","Ziranlog SUA ",{"$f":"VLOOKUP(E1980,'Padrão mensagem'!$A$3:$B$67,2,0)","v":"Ziranlog SUA       -        (21) 973373045  |  E-mail: Controle@zirannordeste.com.br; gate@zirannordeste.com.br"}]
["BRSUA","45GP","SEGU5799687","Nao","Ziranlog SUA ",{"$f":"VLOOKUP(E1981,'Padrão mensagem'!$A$3:$B$67,2,0)","v":"Ziranlog SUA       -        (21) 973373045  |  E-mail: Controle@zirannordeste.com.br; gate@zirannordeste.com.br"}]
["BRSUA","45GP","HAMU2112787","Nao","Ziranlog SUA ",{"$f":"VLOOKUP(E1982,'Padrão mensagem'!$A$3:$B$67,2,0)","v":"Ziranlog SUA       -        (21) 973373045  |  E-mail: Controle@zirannordeste.com.br; gate@zirannordeste.com.br"}]
["BRSUA","45GP","BEAU6002420","Nao","Ziranlog SUA ",{"$f":"VLOOKUP(E1983,'Padrão mensagem'!$A$3:$B$67,2,0)","v":"Ziranlog SUA       -        (21) 973373045  |  E-mail: Controle@zirannordeste.com.br; gate@zirannordeste.com.br"}]
["BRSUA","45GP","FANU1671951","Nao","Ziranlog SUA ",{"$f":"VLOOKUP(E1984,'Padrão mensagem'!$A$3:$B$67,2,0)","v":"Ziranlog SUA       -        (21) 973373045  |  E-mail: Controle@zirannordeste.com.br; gate@zirannordeste.com.br"}]
["BRSUA","45GP","TCNU3256692","Nao","Ziranlog SUA ",{"$f":"VLOOKUP(E1985,'Padrão mensagem'!$A$3:$B$67,2,0)","v":"Ziranlog SUA       -        (21) 973373045  |  E-mail: Controle@zirannordeste.com.br; gate@zirannordeste.com.br"}]
["BRSUA","45GP","UETU5526582","Nao","Ziranlog SUA ",{"$f":"VLOOKUP(E1986,'Padrão mensagem'!$A$3:$B$67,2,0)","v":"Ziranlog SUA       -        (21) 973373045  |  E-mail: Controle@zirannordeste.com.br; gate@zirannordeste.com.br"}]
["BRSUA","45GP","FSCU7109693","Nao","Ziranlog SUA ",{"$f":"VLOOKUP(E1987,'Padrão mensagem'!$A$3:$B$67,2,0)","v":"Ziranlog SUA       -        (21) 973373045  |  E-mail: Controle@zirannordeste.com.br; gate@zirannordeste.com.br"}]
["BRSUA","45GP","HLBU3438818","Nao","Ziranlog SUA ",{"$f":"VLOOKUP(E1988,'Padrão mensagem'!$A$3:$B$67,2,0)","v":"Ziranlog SUA       -        (21) 973373045  |  E-mail: Controle@zirannordeste.com.br; gate@zirannordeste.com.br"}]
["BRSUA","45GP","FANU3113985","Nao","Ziranlog SUA ",{"$f":"VLOOKUP(E1989,'Padrão mensagem'!$A$3:$B$67,2,0)","v":"Ziranlog SUA       -        (21) 973373045  |  E-mail: Controle@zirannordeste.com.br; gate@zirannordeste.com.br"}]
["BRSUA","45GP","HLBU3220390","Nao","Ziranlog SUA ",{"$f":"VLOOKUP(E1990,'Padrão mensagem'!$A$3:$B$67,2,0)","v":"Ziranlog SUA       -        (21) 973373045  |  E-mail: Controle@zirannordeste.com.br; gate@zirannordeste.com.br"}]
["BRSUA","45GP","FANU1525860","Nao","Ziranlog SUA ",{"$f":"VLOOKUP(E1991,'Padrão mensagem'!$A$3:$B$67,2,0)","v":"Ziranlog SUA       -        (21) 973373045  |  E-mail: Controle@zirannordeste.com.br; gate@zirannordeste.com.br"}]
["BRSUA","45GP","HAMU2112827","Nao","Ziranlog SUA ",{"$f":"VLOOKUP(E1992,'Padrão mensagem'!$A$3:$B$67,2,0)","v":"Ziranlog SUA       -        (21) 973373045  |  E-mail: Controle@zirannordeste.com.br; gate@zirannordeste.com.br"}]
["BRSUA","45GP","HLBU2470754","Nao","Ziranlog SUA ",{"$f":"VLOOKUP(E1993,'Padrão mensagem'!$A$3:$B$67,2,0)","v":"Ziranlog SUA       -        (21) 973373045  |  E-mail: Controle@zirannordeste.com.br; gate@zirannordeste.com.br"}]
["BRSUA","45GP","SEKU6371770","Nao","Ziranlog SUA ",{"$f":"VLOOKUP(E1994,'Padrão mensagem'!$A$3:$B$67,2,0)","v":"Ziranlog SUA       -        (21) 973373045  |  E-mail: Controle@zirannordeste.com.br; gate@zirannordeste.com.br"}]
["BRSUA","45GP","HAMU1042860","Nao","Ziranlog SUA ",{"$f":"VLOOKUP(E1995,'Padrão mensagem'!$A$3:$B$67,2,0)","v":"Ziranlog SUA       -        (21) 973373045  |  E-mail: Controle@zirannordeste.com.br; gate@zirannordeste.com.br"}]
["BRSUA","45GP","HAMU2368758","NÃO","Ziranlog SUA ",{"$f":"VLOOKUP(E1996,'Padrão mensagem'!$A$3:$B$67,2,0)","v":"Ziranlog SUA       -        (21) 973373045  |  E-mail: Controle@zirannordeste.com.br; gate@zirannordeste.com.br"}]
["BRSUA","45GP","HAMU2120592","NÃO","Ziranlog SUA ",{"$f":"VLOOKUP(E1997,'Padrão mensagem'!$A$3:$B$67,2,0)","v":"Ziranlog SUA       -        (21) 973373045  |  E-mail: Controle@zirannordeste.com.br; gate@zirannordeste.com.br"}]
["BRSUA","45GP","TRHU4958995","NÃO","Ziranlog SUA ",{"$f":"VLOOKUP(E1998,'Padrão mensagem'!$A$3:$B$67,2,0)","v":"Ziranlog SUA       -        (21) 973373045  |  E-mail: Controle@zirannordeste.com.br; gate@zirannordeste.com.br"}]
["BRSUA","45GP","HLBU1588125","NÃO","Ziranlog SUA ",{"$f":"VLOOKUP(E1999,'Padrão mensagem'!$A$3:$B$67,2,0)","v":"Ziranlog SUA       -        (21) 973373045  |  E-mail: Controle@zirannordeste.com.br; gate@zirannordeste.com.br"}]
["BRSUA","45GP","TCLU1453632","NÃO","Ziranlog SUA ",{"$f":"VLOOKUP(E2000,'Padrão mensagem'!$A$3:$B$67,2,0)","v":"Ziranlog SUA       -        (21) 973373045  |  E-mail: Controle@zirannordeste.com.br; gate@zirannordeste.com.br"}]
["BRSUA","45GP","HAMU1651357","NÃO","Ziranlog SUA ",{"$f":"VLOOKUP(E2026,'Padrão mensagem'!$A$3:$B$67,2,0)","v":"Ziranlog SUA       -        (21) 973373045  |  E-mail: Controle@zirannordeste.com.br; gate@zirannordeste.com.br"}]
["BRSUA","22GP","UETU2834600","NÃO","Tecon Suape",{"$f":"VLOOKUP(E2046,'Padrão mensagem'!$A$3:$B$67,2,0)","v":"Tecon Suape - Acessar o site\nhttps://www.teconsuape.com/portalservicos/#!/login\ne informar o número de booking DDHLLMTY202401"}]
["BRSUA","22GP","TCLU3920079","NÃO","Tecon Suape",{"$f":"VLOOKUP(E2085,'Padrão mensagem'!$A$3:$B$67,2,0)","v":"Tecon Suape - Acessar o site\nhttps://www.teconsuape.com/portalservicos/#!/login\ne informar o número de booking DDHLLMTY202401"}]
["BRSUA","22GP","UACU3951377","NÃO","Tecon Suape",{"$f":"VLOOKUP(E2111,'Padrão mensagem'!$A$3:$B$67,2,0)","v":"Tecon Suape - Acessar o site\nhttps://www.teconsuape.com/portalservicos/#!/login\ne informar o número de booking DDHLLMTY202401"}]
["BRSUA","22GP","HLBU3452523","NÃO","Tecon Suape",{"$f":"VLOOKUP(E2133,'Padrão mensagem'!$A$3:$B$67,2,0)","v":"Tecon Suape - Acessar o site\nhttps://www.teconsuape.com/portalservicos/#!/login\ne informar o número de booking DDHLLMTY202401"}]
["BRSUA","22GP","HLXU3382193","NÃO","Tecon Suape",{"$f":"VLOOKUP(E2172,'Padrão mensagem'!$A$3:$B$67,2,0)","v":"Tecon Suape - Acessar o site\nhttps://www.teconsuape.com/portalservicos/#!/login\ne informar o número de booking DDHLLMTY202401"}]
["BRSUA","22GP","DFSU1307715","NÃO","Tecon Suape",{"$f":"VLOOKUP(E2215,'Padrão mensagem'!$A$3:$B$67,2,0)","v":"Tecon Suape - Acessar o site\nhttps://www.teconsuape.com/portalservicos/#!/login\ne informar o número de booking DDHLLMTY202401"}]
["BRSUA","22GP","TGHU3849489","NÃO","Tecon Suape",{"$f":"VLOOKUP(E2246,'Padrão mensagem'!$A$3:$B$67,2,0)","v":"Tecon Suape - Acessar o site\nhttps://www.teconsuape.com/portalservicos/#!/login\ne informar o número de booking DDHLLMTY202401"}]
["BRSUA","22GP","SEGU3648280","NÃO","Tecon Suape",{"$f":"VLOOKUP(E2263,'Padrão mensagem'!$A$3:$B$67,2,0)","v":"Tecon Suape - Acessar o site\nhttps://www.teconsuape.com/portalservicos/#!/login\ne informar o número de booking DDHLLMTY202401"}]
["BRSUA","45RT","HLBU9775185","NÃO","Tecon Suape",{"$f":"VLOOKUP(E2302,'Padrão mensagem'!$A$3:$B$67,2,0)","v":"Tecon Suape - Acessar o site\nhttps://www.teconsuape.com/portalservicos/#!/login\ne informar o número de booking DDHLLMTY202401"}]
["BRSUA","45GP","FANU1981710","NÃO","Ziranlog SUA ",{"$f":"VLOOKUP(E2331,'Padrão mensagem'!$A$3:$B$67,2,0)","v":"Ziranlog SUA       -        (21) 973373045  |  E-mail: Controle@zirannordeste.com.br; gate@zirannordeste.com.br"}]
["BRSUA","45GP","FANU1898230","NÃO","Ziranlog SUA ",{"$f":"VLOOKUP(E2383,'Padrão mensagem'!$A$3:$B$67,2,0)","v":"Ziranlog SUA       -        (21) 973373045  |  E-mail: Controle@zirannordeste.com.br; gate@zirannordeste.com.br"}]
["BRSUA","45GP","HLBU1986767","NÃO","Ziranlog SUA ",{"$f":"VLOOKUP(E2422,'Padrão mensagem'!$A$3:$B$67,2,0)","v":"Ziranlog SUA       -        (21) 973373045  |  E-mail: Controle@zirannordeste.com.br; gate@zirannordeste.com.br"}]
["BRSUA","45GP","CAAU5325292","NÃO","Ziranlog SUA ",{"$f":"VLOOKUP(E2428,'Padrão mensagem'!$A$3:$B$67,2,0)","v":"Ziranlog SUA       -        (21) 973373045  |  E-mail: Controle@zirannordeste.com.br; gate@zirannordeste.com.br"}]
["BRSUA","45GP","TGBU5838603","SIM","Ziranlog SUA ",{"$f":"VLOOKUP(E2466,'Padrão mensagem'!$A$3:$B$67,2,0)","v":"Ziranlog SUA       -        (21) 973373045  |  E-mail: Controle@zirannordeste.com.br; gate@zirannordeste.com.br"}]
["BRSUA","45GP","UETU6202546","NÃO","Ziranlog SUA ",{"$f":"VLOOKUP(E2509,'Padrão mensagem'!$A$3:$B$67,2,0)","v":"Ziranlog SUA       -        (21) 973373045  |  E-mail: Controle@zirannordeste.com.br; gate@zirannordeste.com.br"}]
["BRSUA","22GP","LYGU8068099","NÃO","Tecon Suape",{"$f":"VLOOKUP(E2552,'Padrão mensagem'!$A$3:$B$67,2,0)","v":"Tecon Suape - Acessar o site\nhttps://www.teconsuape.com/portalservicos/#!/login\ne informar o número de booking DDHLLMTY202401"}]
["BRSUA","22GP","SEGU3621823","NÃO","Tecon Suape",{"$f":"VLOOKUP(E2583,'Padrão mensagem'!$A$3:$B$67,2,0)","v":"Tecon Suape - Acessar o site\nhttps://www.teconsuape.com/portalservicos/#!/login\ne informar o número de booking DDHLLMTY202401"}]
["BRSUA","45GP","HAMU2708354","NÃO","Ziranlog SUA ",{"$f":"VLOOKUP(E2596,'Padrão mensagem'!$A$3:$B$67,2,0)","v":"Ziranlog SUA       -        (21) 973373045  |  E-mail: Controle@zirannordeste.com.br; gate@zirannordeste.com.br"}]
["BRSUA","45GP","FANU1577689","NÃO","Ziranlog SUA ",{"$f":"VLOOKUP(E2639,'Padrão mensagem'!$A$3:$B$67,2,0)","v":"Ziranlog SUA       -        (21) 973373045  |  E-mail: Controle@zirannordeste.com.br; gate@zirannordeste.com.br"}]
["BRSUA","45GP","CAAU5576180","NÃO","Ziranlog SUA ",{"$f":"VLOOKUP(E2678,'Padrão mensagem'!$A$3:$B$67,2,0)","v":"Ziranlog SUA       -        (21) 973373045  |  E-mail: Controle@zirannordeste.com.br; gate@zirannordeste.com.br"}]
["BRSUA","45GP","HAMU2356818","NÃO","Ziranlog SUA ",{"$f":"VLOOKUP(E2718,'Padrão mensagem'!$A$3:$B$67,2,0)","v":"Ziranlog SUA       -        (21) 973373045  |  E-mail: Controle@zirannordeste.com.br; gate@zirannordeste.com.br"}]
["BRSUA","45GP","FANU3013121","NÃO","Ziranlog SUA ",{"$f":"VLOOKUP(E2726,'Padrão mensagem'!$A$3:$B$67,2,0)","v":"Ziranlog SUA       -        (21) 973373045  |  E-mail: Controle@zirannordeste.com.br; gate@zirannordeste.com.br"}]
["BRSUA","22RT","HLBU9299772","NÃO","Tecon Suape",{"$f":"VLOOKUP(E2765,'Padrão mensagem'!$A$3:$B$67,2,0)","v":"Tecon Suape - Acessar o site\nhttps://www.teconsuape.com/portalservicos/#!/login\ne informar o número de booking DDHLLMTY202401"}]
["BRSSA","22GP","BHCU3225133","NÃO","DEPOT PONTUAL",{"$f":"VLOOKUP(E2803,'Padrão mensagem'!$A$3:$B$67,2,0)","v":"Depot Pontual - (71) /3594-5732 | E-mails: marjorie@depotpontual.com.br; caio@depotpontual.com.br; Operacional01@depotpontual.com.br; operacionnal@depotpontual.com.br"}]
["BRSUA","45RT","UAEU1239150","NÃO","Tecon Suape",{"$f":"VLOOKUP(E2846,'Padrão mensagem'!$A$3:$B$67,2,0)","v":"Tecon Suape - Acessar o site\nhttps://www.teconsuape.com/portalservicos/#!/login\ne informar o número de booking DDHLLMTY202401"}]
["BRSUA","45GP","TCNU1609445","NÃO","Ziranlog SUA ",{"$f":"VLOOKUP(E2852,'Padrão mensagem'!$A$3:$B$67,2,0)","v":"Ziranlog SUA       -        (21) 973373045  |  E-mail: Controle@zirannordeste.com.br; gate@zirannordeste.com.br"}]
["BRSUA","42GP","UACU8458722","NÃO","Tecon Suape",{"$f":"VLOOKUP(E2895,'Padrão mensagem'!$A$3:$B$67,2,0)","v":"Tecon Suape - Acessar o site\nhttps://www.teconsuape.com/portalservicos/#!/login\ne informar o número de booking DDHLLMTY202401"}]
["BRSUA","45GP","HAMU2730804","NÃO","Ziranlog SUA ",{"$f":"VLOOKUP(E2938,'Padrão mensagem'!$A$3:$B$67,2,0)","v":"Ziranlog SUA       -        (21) 973373045  |  E-mail: Controle@zirannordeste.com.br; gate@zirannordeste.com.br"}]
["BRMAO","45RT","HLBU9883528","NÃO","SUPER TERMINAIS",{"$f":"VLOOKUP(E2976,'Padrão mensagem'!$A$3:$B$67,2,0)","v":"Depot Super Terminais - (92) 3616-2650 / E-mails: coordenacao.depot@superterminais.com.br; reparos.container@superterminais.com.br"}]
["BRMAO","45GP","CAIU9388054","NÃO","SUPER TERMINAIS",{"$f":"VLOOKUP(E2982,'Padrão mensagem'!$A$3:$B$67,2,0)","v":"Depot Super Terminais - (92) 3616-2650 / E-mails: coordenacao.depot@superterminais.com.br; reparos.container@superterminais.com.br"}]
["BRMAO","45GP","HLXU8178095","NÃO","SUPER TERMINAIS",{"$f":"VLOOKUP(E3023,'Padrão mensagem'!$A$3:$B$67,2,0)","v":"Depot Super Terminais - (92) 3616-2650 / E-mails: coordenacao.depot@superterminais.com.br; reparos.container@superterminais.com.br"}]
["BRMAO","45GP","UACU5862073","NÃO","SUPER TERMINAIS",{"$f":"VLOOKUP(E3063,'Padrão mensagem'!$A$3:$B$67,2,0)","v":"Depot Super Terminais - (92) 3616-2650 / E-mails: coordenacao.depot@superterminais.com.br; reparos.container@superterminais.com.br"}]
["BRMAO","45GP","TGBU6190198","NÃO","SUPER TERMINAIS",{"$f":"VLOOKUP(E3102,'Padrão mensagem'!$A$3:$B$67,2,0)","v":"Depot Super Terminais - (92) 3616-2650 / E-mails: coordenacao.depot@superterminais.com.br; reparos.container@superterminais.com.br"}]
["BRMAO","45GP","UACU5557819","NÃO","SUPER TERMINAIS",{"$f":"VLOOKUP(E3141,'Padrão mensagem'!$A$3:$B$67,2,0)","v":"Depot Super Terminais - (92) 3616-2650 / E-mails: coordenacao.depot@superterminais.com.br; reparos.container@superterminais.com.br"}]
["BRMAO","45GP","UACU5397958","NÃO","SUPER TERMINAIS",{"$f":"VLOOKUP(E3158,'Padrão mensagem'!$A$3:$B$67,2,0)","v":"Depot Super Terminais - (92) 3616-2650 / E-mails: coordenacao.depot@superterminais.com.br; reparos.container@superterminais.com.br"}]
["BRMAO","22GP","UETU2143039","NÃO","SUPER TERMINAIS",{"$f":"VLOOKUP(E3189,'Padrão mensagem'!$A$3:$B$67,2,0)","v":"Depot Super Terminais - (92) 3616-2650 / E-mails: coordenacao.depot@superterminais.com.br; reparos.container@superterminais.com.br"}]
["BRMAO","45GP","GATU8747516","NÃO","SUPER TERMINAIS",{"$f":"VLOOKUP(E3232,'Padrão mensagem'!$A$3:$B$67,2,0)","v":"Depot Super Terminais - (92) 3616-2650 / E-mails: coordenacao.depot@superterminais.com.br; reparos.container@superterminais.com.br"}]
["BRMAO","45GP","FBLU0105880","NÃO","SUPER TERMINAIS",{"$f":"VLOOKUP(E3275,'Padrão mensagem'!$A$3:$B$67,2,0)","v":"Depot Super Terminais - (92) 3616-2650 / E-mails: coordenacao.depot@superterminais.com.br; reparos.container@superterminais.com.br"}]
["BRMAO","45GP","UETU6337259","NÃO","SUPER TERMINAIS",{"$f":"VLOOKUP(E3276,'Padrão mensagem'!$A$3:$B$67,2,0)","v":"Depot Super Terminais - (92) 3616-2650 / E-mails: coordenacao.depot@superterminais.com.br; reparos.container@superterminais.com.br"}]
["BRMAO","45GP","TGHU6229157","NÃO","SUPER TERMINAIS",{"$f":"VLOOKUP(E3319,'Padrão mensagem'!$A$3:$B$67,2,0)","v":"Depot Super Terminais - (92) 3616-2650 / E-mails: coordenacao.depot@superterminais.com.br; reparos.container@superterminais.com.br"}]
["BRMAO","45RT","HLBU9008310","NÃO","SUPER TERMINAIS",{"$f":"VLOOKUP(E3358,'Padrão mensagem'!$A$3:$B$67,2,0)","v":"Depot Super Terminais - (92) 3616-2650 / E-mails: coordenacao.depot@superterminais.com.br; reparos.container@superterminais.com.br"}]
["BRMAO","22GP","SEKU1086194","NÃO","SUPER TERMINAIS",{"$f":"VLOOKUP(E3378,'Padrão mensagem'!$A$3:$B$67,2,0)","v":"Depot Super Terminais - (92) 3616-2650 / E-mails: coordenacao.depot@superterminais.com.br; reparos.container@superterminais.com.br"}]
["BRMAO","45GP","FANU1223751","NÃO","SUPER TERMINAIS",{"$f":"VLOOKUP(E3439,'Padrão mensagem'!$A$3:$B$67,2,0)","v":"Depot Super Terminais - (92) 3616-2650 / E-mails: coordenacao.depot@superterminais.com.br; reparos.container@superterminais.com.br"}]
["BRMAO","45GP","FANU3819138","NÃO","SUPER TERMINAIS",{"$f":"VLOOKUP(E3445,'Padrão mensagem'!$A$3:$B$67,2,0)","v":"Depot Super Terminais - (92) 3616-2650 / E-mails: coordenacao.depot@superterminais.com.br; reparos.container@superterminais.com.br"}]
["BRMAO","45GP","FANU1385388","NÃO","SUPER TERMINAIS",{"$f":"VLOOKUP(E3495,'Padrão mensagem'!$A$3:$B$67,2,0)","v":"Depot Super Terminais - (92) 3616-2650 / E-mails: coordenacao.depot@superterminais.com.br; reparos.container@superterminais.com.br"}]
["BRMAO","45GP","TCLU8085044","NÃO","SUPER TERMINAIS",{"$f":"VLOOKUP(E3526,'Padrão mensagem'!$A$3:$B$67,2,0)","v":"Depot Super Terminais - (92) 3616-2650 / E-mails: coordenacao.depot@superterminais.com.br; reparos.container@superterminais.com.br"}]
["BRMAO","45GP","HLXU8374056","Nao","SUPER TERMINAIS",{"$f":"VLOOKUP(E3565,'Padrão mensagem'!$A$3:$B$67,2,0)","v":"Depot Super Terminais - (92) 3616-2650 / E-mails: coordenacao.depot@superterminais.com.br; reparos.container@superterminais.com.br"}]
["BRSUA","45RT","HLBU9082154","Nao","Tecon Suape",{"$f":"VLOOKUP(E3575,'Padrão mensagem'!$A$3:$B$67,2,0)","v":"Tecon Suape - Acessar o site\nhttps://www.teconsuape.com/portalservicos/#!/login\ne informar o número de booking DDHLLMTY202401"}]
["BRSUA","42GP","UACU8434504","Nao","Tecon Suape",{"$f":"VLOOKUP(E3630,'Padrão mensagem'!$A$3:$B$67,2,0)","v":"Tecon Suape - Acessar o site\nhttps://www.teconsuape.com/portalservicos/#!/login\ne informar o número de booking DDHLLMTY202401"}]
["BRCUC","45RT","HLBU9233121","Nao","TERMACO TERMINAIS",{"$f":"VLOOKUP(E3656,'Padrão mensagem'!$A$3:$B$67,2,0)","v":"Depot Termaco Terminais - (85) 99213 7266 | E-mail:gate.cac@termaco.com.br"}]
["BRSUA","45RT","GESU9485735","Nao","Tecon Suape",{"$f":"VLOOKUP(E3695,'Padrão mensagem'!$A$3:$B$67,2,0)","v":"Tecon Suape - Acessar o site\nhttps://www.teconsuape.com/portalservicos/#!/login\ne informar o número de booking DDHLLMTY202401"}]
["BRCUC","45GP","HAMU2353640","Nao","TERMACO TERMINAIS",{"$f":"VLOOKUP(E3715,'Padrão mensagem'!$A$3:$B$67,2,0)","v":"Depot Termaco Terminais - (85) 99213 7266 | E-mail:gate.cac@termaco.com.br"}]
["BRCUC","45GP","HLBU1091714","Nao","TERMACO TERMINAIS",{"$f":"VLOOKUP(E3743,'Padrão mensagem'!$A$3:$B$67,2,0)","v":"Depot Termaco Terminais - (85) 99213 7266 | E-mail:gate.cac@termaco.com.br"}]
["BRCUC","45GP","HLXU8332446","Nao","TERMACO TERMINAIS",{"$f":"VLOOKUP(E3782,'Padrão mensagem'!$A$3:$B$67,2,0)","v":"Depot Termaco Terminais - (85) 99213 7266 | E-mail:gate.cac@termaco.com.br"}]
["BRCUC","22GP","TEMU1055620","Nao","TERMACO TERMINAIS",{"$f":"VLOOKUP(E3825,'Padrão mensagem'!$A$3:$B$67,2,0)","v":"Depot Termaco Terminais - (85) 99213 7266 | E-mail:gate.cac@termaco.com.br"}]
["BRSUA","45GP","HLBU3096510","Nao","Ziranlog SUA ",{"$f":"VLOOKUP(E3850,'Padrão mensagem'!$A$3:$B$67,2,0)","v":"Ziranlog SUA       -        (21) 973373045  |  E-mail: Controle@zirannordeste.com.br; gate@zirannordeste.com.br"}]
["BRSSA","45RT","HLBU9472023","Nao","Wilport",{"$f":"VLOOKUP(E3869,'Padrão mensagem'!$A$3:$B$67,2,0)","v":"Wilport        -        (71) 3293-9259  |  E-mail: estimators.depottsv@teconsalvador.com.br"}]
["BRSUA","45GP","HLXU8401969","Nao","Ziranlog SUA ",{"$f":"VLOOKUP(E3912,'Padrão mensagem'!$A$3:$B$67,2,0)","v":"Ziranlog SUA       -        (21) 973373045  |  E-mail: Controle@zirannordeste.com.br; gate@zirannordeste.com.br"}]
["BRSUA","45GP","HLBU1320575","Nao","Ziranlog SUA ",{"$f":"VLOOKUP(E3935,'Padrão mensagem'!$A$3:$B$67,2,0)","v":"Ziranlog SUA       -        (21) 973373045  |  E-mail: Controle@zirannordeste.com.br; gate@zirannordeste.com.br"}]
["BRSUA","45GP","FANU3452335","Nao","Ziranlog SUA ",{"$f":"VLOOKUP(E3989,'Padrão mensagem'!$A$3:$B$67,2,0)","v":"Ziranlog SUA       -        (21) 973373045  |  E-mail: Controle@zirannordeste.com.br; gate@zirannordeste.com.br"}]
["BRSUA","45GP","HAMU2958646","Nao","Ziranlog SUA ",{"$f":"VLOOKUP(E3999,'Padrão mensagem'!$A$3:$B$67,2,0)","v":"Ziranlog SUA       -        (21) 973373045  |  E-mail: Controle@zirannordeste.com.br; gate@zirannordeste.com.br"}]
["BRSUA","22GP","UACU3978399","Nao","Tecon Suape",{"$f":"VLOOKUP(E4038,'Padrão mensagem'!$A$3:$B$67,2,0)","v":"Tecon Suape - Acessar o site\nhttps://www.teconsuape.com/portalservicos/#!/login\ne informar o número de booking DDHLLMTY202401"}]
["BRSUA","45RT","HLBU9816710","Nao","Tecon Suape",{"$f":"VLOOKUP(E4070,'Padrão mensagem'!$A$3:$B$67,2,0)","v":"Tecon Suape - Acessar o site\nhttps://www.teconsuape.com/portalservicos/#!/login\ne informar o número de booking DDHLLMTY202401"}]
["BRMAO","45GP","HLBU3214675","Nao","SUPER TERMINAIS",{"$f":"VLOOKUP(E4119,'Padrão mensagem'!$A$3:$B$67,2,0)","v":"Depot Super Terminais - (92) 3616-2650 / E-mails: coordenacao.depot@superterminais.com.br; reparos.container@superterminais.com.br"}]
["BRMAO","45GP","HLBU1872173","Nao","SUPER TERMINAIS",{"$f":"VLOOKUP(E4158,'Padrão mensagem'!$A$3:$B$67,2,0)","v":"Depot Super Terminais - (92) 3616-2650 / E-mails: coordenacao.depot@superterminais.com.br; reparos.container@superterminais.com.br"}]
["BRMAO","45GP","FSCU8246983","Nao","SUPER TERMINAIS",{"$f":"VLOOKUP(E4168,'Padrão mensagem'!$A$3:$B$67,2,0)","v":"Depot Super Terminais - (92) 3616-2650 / E-mails: coordenacao.depot@superterminais.com.br; reparos.container@superterminais.com.br"}]
["BRMAO","45GP","HAMU2889566","Nao","SUPER TERMINAIS",{"$f":"VLOOKUP(E4205,'Padrão mensagem'!$A$3:$B$67,2,0)","v":"Depot Super Terminais - (92) 3616-2650 / E-mails: coordenacao.depot@superterminais.com.br; reparos.container@superterminais.com.br"}]
["BRMAO","45GP","UACU5561737","Nao","SUPER TERMINAIS",{"$f":"VLOOKUP(E4245,'Padrão mensagem'!$A$3:$B$67,2,0)","v":"Depot Super Terminais - (92) 3616-2650 / E-mails: coordenacao.depot@superterminais.com.br; reparos.container@superterminais.com.br"}]
["BRMAO","45GP","HAMU2884923","Nao","SUPER TERMINAIS",{"$f":"VLOOKUP(E4288,'Padrão mensagem'!$A$3:$B$67,2,0)","v":"Depot Super Terminais - (92) 3616-2650 / E-mails: coordenacao.depot@superterminais.com.br; reparos.container@superterminais.com.br"}]
["BRMAO","45GP","HAMU2889632","Nao","SUPER TERMINAIS",{"$f":"VLOOKUP(E4322,'Padrão mensagem'!$A$3:$B$67,2,0)","v":"Depot Super Terminais - (92) 3616-2650 / E-mails: coordenacao.depot@superterminais.com.br; reparos.container@superterminais.com.br"}]
["BRMAO","22GP","TCLU2530163","Nao","SUPER TERMINAIS",{"$f":"VLOOKUP(E4336,'Padrão mensagem'!$A$3:$B$67,2,0)","v":"Depot Super Terminais - (92) 3616-2650 / E-mails: coordenacao.depot@superterminais.com.br; reparos.container@superterminais.com.br"}]
["BRMAO","45GP","HLXU8515112","Nao","SUPER TERMINAIS",{"$f":"VLOOKUP(E4375,'Padrão mensagem'!$A$3:$B$67,2,0)","v":"Depot Super Terminais - (92) 3616-2650 / E-mails: coordenacao.depot@superterminais.com.br; reparos.container@superterminais.com.br"}]
["BRSUA","42GP","HLBU1193110","Nao","Tecon Suape",{"$f":"VLOOKUP(E4414,'Padrão mensagem'!$A$3:$B$67,2,0)","v":"Tecon Suape - Acessar o site\nhttps://www.teconsuape.com/portalservicos/#!/login\ne informar o número de booking DDHLLMTY202401"}]
["BRSUA","45GP","SEGU6900138","Nao","Ziranlog SUA ",{"$f":"VLOOKUP(E4425,'Padrão mensagem'!$A$3:$B$67,2,0)","v":"Ziranlog SUA       -        (21) 973373045  |  E-mail: Controle@zirannordeste.com.br; gate@zirannordeste.com.br"}]
["BRSUA","45GP","FANU1259498","Nao","Ziranlog SUA ",{"$f":"VLOOKUP(E4462,'Padrão mensagem'!$A$3:$B$67,2,0)","v":"Ziranlog SUA       -        (21) 973373045  |  E-mail: Controle@zirannordeste.com.br; gate@zirannordeste.com.br"}]
["BRSUA","22GP","SEGU3570460","Nao","Tecon Suape",{"$f":"VLOOKUP(E4505,'Padrão mensagem'!$A$3:$B$67,2,0)","v":"Tecon Suape - Acessar o site\nhttps://www.teconsuape.com/portalservicos/#!/login\ne informar o número de booking DDHLLMTY202401"}]
["BRSSA","22GP","HLXU3505282","Nao","DEPOT PONTUAL",{"$f":"VLOOKUP(E4542,'Padrão mensagem'!$A$3:$B$67,2,0)","v":"Depot Pontual - (71) /3594-5732 | E-mails: marjorie@depotpontual.com.br; caio@depotpontual.com.br; Operacional01@depotpontual.com.br; operacionnal@depotpontual.com.br"}]
["BRSUA","22GP","TCLU2831927","Nao","Tecon Suape",{"$f":"VLOOKUP(E4582,'Padrão mensagem'!$A$3:$B$67,2,0)","v":"Tecon Suape - Acessar o site\nhttps://www.teconsuape.com/portalservicos/#!/login\ne informar o número de booking DDHLLMTY202401"}]
["BRCUC","45GP","FANU3864610","Nao","TERMACO TERMINAIS",{"$f":"VLOOKUP(E4592,'Padrão mensagem'!$A$3:$B$67,2,0)","v":"Depot Termaco Terminais - (85) 99213 7266 | E-mail:gate.cac@termaco.com.br"}]
["BRSSA","22GP","FBIU0505325","Nao","DEPOT PONTUAL",{"$f":"VLOOKUP(E4631,'Padrão mensagem'!$A$3:$B$67,2,0)","v":"Depot Pontual - (71) /3594-5732 | E-mails: marjorie@depotpontual.com.br; caio@depotpontual.com.br; Operacional01@depotpontual.com.br; operacionnal@depotpontual.com.br"}]
["BRMAO","22GP","UETU2277980","Nao","SUPER TERMINAIS",{"$f":"VLOOKUP(E4677,'Padrão mensagem'!$A$3:$B$67,2,0)","v":"Depot Super Terminais - (92) 3616-2650 / E-mails: coordenacao.depot@superterminais.com.br; reparos.container@superterminais.com.br"}]
["BRMAO","45GP","TXGU7336994","Nao","SUPER TERMINAIS",{"$f":"VLOOKUP(E4712,'Padrão mensagem'!$A$3:$B$67,2,0)","v":"Depot Super Terminais - (92) 3616-2650 / E-mails: coordenacao.depot@superterminais.com.br; reparos.container@superterminais.com.br"}]
["BRMAO","45GP","TCNU5621454","Nao","SUPER TERMINAIS",{"$f":"VLOOKUP(E4718,'Padrão mensagem'!$A$3:$B$67,2,0)","v":"Depot Super Terminais - (92) 3616-2650 / E-mails: coordenacao.depot@superterminais.com.br; reparos.container@superterminais.com.br"}]
["BRSSA","22GP","HAMU1088351","Nao","DEPOT PONTUAL",{"$f":"VLOOKUP(E4762,'Padrão mensagem'!$A$3:$B$67,2,0)","v":"Depot Pontual - (71) /3594-5732 | E-mails: marjorie@depotpontual.com.br; caio@depotpontual.com.br; Operacional01@depotpontual.com.br; operacionnal@depotpontual.com.br"}]
["BRSUA","22GP","AXIU8468592","Nao","Tecon Suape",{"$f":"VLOOKUP(E4799,'Padrão mensagem'!$A$3:$B$67,2,0)","v":"Tecon Suape - Acessar o site\nhttps://www.teconsuape.com/portalservicos/#!/login\ne informar o número de booking DDHLLMTY202401"}]
["BRSUA","22GP","HLBU2646988","Nao","Tecon Suape",{"$f":"VLOOKUP(E4838,'Padrão mensagem'!$A$3:$B$67,2,0)","v":"Tecon Suape - Acessar o site\nhttps://www.teconsuape.com/portalservicos/#!/login\ne informar o número de booking DDHLLMTY202401"}]
["BRSUA","22GP","CAIU3122112","Nao","Tecon Suape",{"$f":"VLOOKUP(E4848,'Padrão mensagem'!$A$3:$B$67,2,0)","v":"Tecon Suape - Acessar o site\nhttps://www.teconsuape.com/portalservicos/#!/login\ne informar o número de booking DDHLLMTY202401"}]
["BRSUA","22GP","CAIU2657948","Nao","Tecon Suape",{"$f":"VLOOKUP(E4897,'Padrão mensagem'!$A$3:$B$67,2,0)","v":"Tecon Suape - Acessar o site\nhttps://www.teconsuape.com/portalservicos/#!/login\ne informar o número de booking DDHLLMTY202401"}]
["BRMAO","45GP","FANU3103190","Nao","SUPER TERMINAIS",{"$f":"VLOOKUP(E4925,'Padrão mensagem'!$A$3:$B$67,2,0)","v":"Depot Super Terminais - (92) 3616-2650 / E-mails: coordenacao.depot@superterminais.com.br; reparos.container@superterminais.com.br"}]
["BRMAO","45GP","FDCU0144862","Nao","SUPER TERMINAIS",{"$f":"VLOOKUP(E4968,'Padrão mensagem'!$A$3:$B$67,2,0)","v":"Depot Super Terminais - (92) 3616-2650 / E-mails: coordenacao.depot@superterminais.com.br; reparos.container@superterminais.com.br"}]
["BRMAO","45GP","TGBU5686500","Nao","SUPER TERMINAIS",{"$f":"VLOOKUP(E4982,'Padrão mensagem'!$A$3:$B$67,2,0)","v":"Depot Super Terminais - (92) 3616-2650 / E-mails: coordenacao.depot@superterminais.com.br; reparos.container@superterminais.com.br"}]
["BRMAO","45GP","HAMU2942228","Nao","SUPER TERMINAIS",{"$f":"VLOOKUP(E5016,'Padrão mensagem'!$A$3:$B$67,2,0)","v":"Depot Super Terminais - (92) 3616-2650 / E-mails: coordenacao.depot@superterminais.com.br; reparos.container@superterminais.com.br"}]
["BRMAO","45GP","TGHU9294670","Nao","SUPER TERMINAIS",{"$f":"VLOOKUP(E5055,'Padrão mensagem'!$A$3:$B$67,2,0)","v":"Depot Super Terminais - (92) 3616-2650 / E-mails: coordenacao.depot@superterminais.com.br; reparos.container@superterminais.com.br"}]
["BRMAO","45GP","FANU1871076","Nao","SUPER TERMINAIS",{"$f":"VLOOKUP(E5094,'Padrão mensagem'!$A$3:$B$67,2,0)","v":"Depot Super Terminais - (92) 3616-2650 / E-mails: coordenacao.depot@superterminais.com.br; reparos.container@superterminais.com.br"}]
["BRMAO","45GP","FANU1003269","Nao","SUPER TERMINAIS",{"$f":"VLOOKUP(E5117,'Padrão mensagem'!$A$3:$B$67,2,0)","v":"Depot Super Terminais - (92) 3616-2650 / E-mails: coordenacao.depot@superterminais.com.br; reparos.container@superterminais.com.br"}]
["BRSUA","45RT","UACU4804426","Nao","Tecon Suape",{"$f":"VLOOKUP(E5142,'Padrão mensagem'!$A$3:$B$67,2,0)","v":"Tecon Suape - Acessar o site\nhttps://www.teconsuape.com/portalservicos/#!/login\ne informar o número de booking DDHLLMTY202401"}]
["BRSUA","45GP","HAMU2420286","Nao","Ziranlog SUA ",{"$f":"VLOOKUP(E5185,'Padrão mensagem'!$A$3:$B$67,2,0)","v":"Ziranlog SUA       -        (21) 973373045  |  E-mail: Controle@zirannordeste.com.br; gate@zirannordeste.com.br"}]
["BRSUA","22GP","TRHU2751015","Nao","Tecon Suape",{"$f":"VLOOKUP(E5234,'Padrão mensagem'!$A$3:$B$67,2,0)","v":"Tecon Suape - Acessar o site\nhttps://www.teconsuape.com/portalservicos/#!/login\ne informar o número de booking DDHLLMTY202401"}]
["BRSUA","45GP","TCNU2118512","Nao","Ziranlog SUA ",{"$f":"VLOOKUP(E5262,'Padrão mensagem'!$A$3:$B$67,2,0)","v":"Ziranlog SUA       -        (21) 973373045  |  E-mail: Controle@zirannordeste.com.br; gate@zirannordeste.com.br"}]
["BRSUA","45GP","HAMU2575293","Nao","Ziranlog SUA ",{"$f":"VLOOKUP(E5272,'Padrão mensagem'!$A$3:$B$67,2,0)","v":"Ziranlog SUA       -        (21) 973373045  |  E-mail: Controle@zirannordeste.com.br; gate@zirannordeste.com.br"}]
["BRSSA","22GP","CAIU3271986","Nao","DEPOT PONTUAL",{"$f":"VLOOKUP(E5311,'Padrão mensagem'!$A$3:$B$67,2,0)","v":"Depot Pontual - (71) /3594-5732 | E-mails: marjorie@depotpontual.com.br; caio@depotpontual.com.br; Operacional01@depotpontual.com.br; operacionnal@depotpontual.com.br"}]
["BRSUA","45GP","FANU1156400","Nao","Ziranlog SUA ",{"$f":"VLOOKUP(E5369,'Padrão mensagem'!$A$3:$B$67,2,0)","v":"Ziranlog SUA       -        (21) 973373045  |  E-mail: Controle@zirannordeste.com.br; gate@zirannordeste.com.br"}]
["BRSUA","45GP","TGBU6049739","Nao","Ziranlog SUA ",{"$f":"VLOOKUP(E5392,'Padrão mensagem'!$A$3:$B$67,2,0)","v":"Ziranlog SUA       -        (21) 973373045  |  E-mail: Controle@zirannordeste.com.br; gate@zirannordeste.com.br"}]
["BRSUA","22GP","HLBU1510282","Nao","Tecon Suape",{"$f":"VLOOKUP(E5431,'Padrão mensagem'!$A$3:$B$67,2,0)","v":"Tecon Suape - Acessar o site\nhttps://www.teconsuape.com/portalservicos/#!/login\ne informar o número de booking DDHLLMTY202401"}]
["BRMAO","45GP","HAMU2599968","Nao","SUPER TERMINAIS",{"$f":"VLOOKUP(E5454,'Padrão mensagem'!$A$3:$B$67,2,0)","v":"Depot Super Terminais - (92) 3616-2650 / E-mails: coordenacao.depot@superterminais.com.br; reparos.container@superterminais.com.br"}]
["BRMAO","45GP","CAIU8356936","Nao","SUPER TERMINAIS",{"$f":"VLOOKUP(E5479,'Padrão mensagem'!$A$3:$B$67,2,0)","v":"Depot Super Terminais - (92) 3616-2650 / E-mails: coordenacao.depot@superterminais.com.br; reparos.container@superterminais.com.br"}]
["BRMAO","45GP","HLXU8242379","Nao","SUPER TERMINAIS",{"$f":"VLOOKUP(E5518,'Padrão mensagem'!$A$3:$B$67,2,0)","v":"Depot Super Terminais - (92) 3616-2650 / E-mails: coordenacao.depot@superterminais.com.br; reparos.container@superterminais.com.br"}]
["BRMAO","45GP","TGBU5266405","Nao","SUPER TERMINAIS",{"$f":"VLOOKUP(E5561,'Padrão mensagem'!$A$3:$B$67,2,0)","v":"Depot Super Terminais - (92) 3616-2650 / E-mails: coordenacao.depot@superterminais.com.br; reparos.container@superterminais.com.br"}]
["BRMAO","45GP","HAMU2896138","Nao","SUPER TERMINAIS",{"$f":"VLOOKUP(E5589,'Padrão mensagem'!$A$3:$B$67,2,0)","v":"Depot Super Terminais - (92) 3616-2650 / E-mails: coordenacao.depot@superterminais.com.br; reparos.container@superterminais.com.br"}]
["BRMAO","45GP","HLBU2406400","Nao","SUPER TERMINAIS",{"$f":"VLOOKUP(E5609,'Padrão mensagem'!$A$3:$B$67,2,0)","v":"Depot Super Terminais - (92) 3616-2650 / E-mails: coordenacao.depot@superterminais.com.br; reparos.container@superterminais.com.br"}]
["BRMAO","45GP","HLBU3361315","Nao","SUPER TERMINAIS",{"$f":"VLOOKUP(E5648,'Padrão mensagem'!$A$3:$B$67,2,0)","v":"Depot Super Terminais - (92) 3616-2650 / E-mails: coordenacao.depot@superterminais.com.br; reparos.container@superterminais.com.br"}]
["BRMAO","45GP","HAMU2419080","Nao","SUPER TERMINAIS",{"$f":"VLOOKUP(E5674,'Padrão mensagem'!$A$3:$B$67,2,0)","v":"Depot Super Terminais - (92) 3616-2650 / E-mails: coordenacao.depot@superterminais.com.br; reparos.container@superterminais.com.br"}]
["BRMAO","45GP","HAMU2933653","Nao","SUPER TERMINAIS",{"$f":"VLOOKUP(E5729,'Padrão mensagem'!$A$3:$B$67,2,0)","v":"Depot Super Terminais - (92) 3616-2650 / E-mails: coordenacao.depot@superterminais.com.br; reparos.container@superterminais.com.br"}]
["BRCUC","45GP","HLBU2666310","Nao","TERMACO TERMINAIS",{"$f":"VLOOKUP(E5735,'Padrão mensagem'!$A$3:$B$67,2,0)","v":"Depot Termaco Terminais - (85) 99213 7266 | E-mail:gate.cac@termaco.com.br"}]
["BRSUA","45RT","HLBU9923404","Nao","Tecon Suape",{"$f":"VLOOKUP(E5774,'Padrão mensagem'!$A$3:$B$67,2,0)","v":"Tecon Suape - Acessar o site\nhttps://www.teconsuape.com/portalservicos/#!/login\ne informar o número de booking DDHLLMTY202401"}]
["BRSSA","45GP","CAAU8497989","Nao","DEPOT PONTUAL",{"$f":"VLOOKUP(E5809,'Padrão mensagem'!$A$3:$B$67,2,0)","v":"Depot Pontual - (71) /3594-5732 | E-mails: marjorie@depotpontual.com.br; caio@depotpontual.com.br; Operacional01@depotpontual.com.br; operacionnal@depotpontual.com.br"}]
["BRCUC","45GP","TCLU1768440","Nao","TERMACO TERMINAIS",{"$f":"VLOOKUP(E5855,'Padrão mensagem'!$A$3:$B$67,2,0)","v":"Depot Termaco Terminais - (85) 99213 7266 | E-mail:gate.cac@termaco.com.br"}]
["BRCUC","22GP","HLBU3773457","Nao","TERMACO TERMINAIS",{"$f":"VLOOKUP(E5865,'Padrão mensagem'!$A$3:$B$67,2,0)","v":"Depot Termaco Terminais - (85) 99213 7266 | E-mail:gate.cac@termaco.com.br"}]
["BRSUA","45GP","CAIU4227680","Nao","Ziranlog SUA ",{"$f":"VLOOKUP(E5894,'Padrão mensagem'!$A$3:$B$67,2,0)","v":"Ziranlog SUA       -        (21) 973373045  |  E-mail: Controle@zirannordeste.com.br; gate@zirannordeste.com.br"}]
["BRSUA","45GP","TEMU8524782","Nao","Ziranlog SUA ",{"$f":"VLOOKUP(E5942,'Padrão mensagem'!$A$3:$B$67,2,0)","v":"Ziranlog SUA       -        (21) 973373045  |  E-mail: Controle@zirannordeste.com.br; gate@zirannordeste.com.br"}]
["BRSUA","45RT","HLBU9527511","Nao","Tecon Suape",{"$f":"VLOOKUP(E5985,'Padrão mensagem'!$A$3:$B$67,2,0)","v":"Tecon Suape - Acessar o site\nhttps://www.teconsuape.com/portalservicos/#!/login\ne informar o número de booking DDHLLMTY202401"}]
["BRSUA","45GP","FSCU8241169","Nao","Ziranlog SUA ",{"$f":"VLOOKUP(E6024,'Padrão mensagem'!$A$3:$B$67,2,0)","v":"Ziranlog SUA       -        (21) 973373045  |  E-mail: Controle@zirannordeste.com.br; gate@zirannordeste.com.br"}]
["BRSUA","45GP","HLXU8314210","Nao","Ziranlog SUA ",{"$f":"VLOOKUP(E6029,'Padrão mensagem'!$A$3:$B$67,2,0)","v":"Ziranlog SUA       -        (21) 973373045  |  E-mail: Controle@zirannordeste.com.br; gate@zirannordeste.com.br"}]
["BRSUA","22GP","HLBU2948566","Nao","Tecon Suape",{"$f":"VLOOKUP(E6072,'Padrão mensagem'!$A$3:$B$67,2,0)","v":"Tecon Suape - Acessar o site\nhttps://www.teconsuape.com/portalservicos/#!/login\ne informar o número de booking DDHLLMTY202401"}]
["BRSUA","22GP","NIDU2368646","Nao","Tecon Suape",{"$f":"VLOOKUP(E6111,'Padrão mensagem'!$A$3:$B$67,2,0)","v":"Tecon Suape - Acessar o site\nhttps://www.teconsuape.com/portalservicos/#!/login\ne informar o número de booking DDHLLMTY202401"}]
["BRSUA","42UT","HLBU8001245","Nao","Tecon Suape",{"$f":"VLOOKUP(E6146,'Padrão mensagem'!$A$3:$B$67,2,0)","v":"Tecon Suape - Acessar o site\nhttps://www.teconsuape.com/portalservicos/#!/login\ne informar o número de booking DDHLLMTY202401"}]
["BRCUC","45PC","UAEU9612824","Nao","TERMACO TERMINAIS",{"$f":"VLOOKUP(E6159,'Padrão mensagem'!$A$3:$B$67,2,0)","v":"Depot Termaco Terminais - (85) 99213 7266 | E-mail:gate.cac@termaco.com.br"}]
["BRMAO","45GP","FANU1783930","Nao","SUPER TERMINAIS",{"$f":"VLOOKUP(E6198,'Padrão mensagem'!$A$3:$B$67,2,0)","v":"Depot Super Terminais - (92) 3616-2650 / E-mails: coordenacao.depot@superterminais.com.br; reparos.container@superterminais.com.br"}]
["BRMAO","45GP","TEMU7532382","Nao","SUPER TERMINAIS",{"$f":"VLOOKUP(E6241,'Padrão mensagem'!$A$3:$B$67,2,0)","v":"Depot Super Terminais - (92) 3616-2650 / E-mails: coordenacao.depot@superterminais.com.br; reparos.container@superterminais.com.br"}]
["BRSUA","22GP","FCIU6510146","Nao","Tecon Suape",{"$f":"VLOOKUP(E6281,'Padrão mensagem'!$A$3:$B$67,2,0)","v":"Tecon Suape - Acessar o site\nhttps://www.teconsuape.com/portalservicos/#!/login\ne informar o número de booking DDHLLMTY202401"}]
["BRSUA","45GP","TEMU6625963","Nao","Ziranlog SUA ",{"$f":"VLOOKUP(E6289,'Padrão mensagem'!$A$3:$B$67,2,0)","v":"Ziranlog SUA       -        (21) 973373045  |  E-mail: Controle@zirannordeste.com.br; gate@zirannordeste.com.br"}]
["BRSUA","22GP","HLBU3736279","Nao","Tecon Suape",{"$f":"VLOOKUP(E6328,'Padrão mensagem'!$A$3:$B$67,2,0)","v":"Tecon Suape - Acessar o site\nhttps://www.teconsuape.com/portalservicos/#!/login\ne informar o número de booking DDHLLMTY202401"}]
["BRCUC","45RT","HLBU9601434","Nao","TERMACO TERMINAIS",{"$f":"VLOOKUP(E6367,'Padrão mensagem'!$A$3:$B$67,2,0)","v":"Depot Termaco Terminais - (85) 99213 7266 | E-mail:gate.cac@termaco.com.br"}]
["BRPNG","45GP","FCIU7435392","Nao","Granelmar",{"$f":"VLOOKUP(E6416,'Padrão mensagem'!$A$3:$B$67,2,0)","v":"Granelmar        -        (41) 3422-9170 / 99246-8781  |  E-mail: granelmar@granelmar.com.br"}]
["BRPNG","45GP","HLBU1321247","Nao","Granelmar",{"$f":"VLOOKUP(E6448,'Padrão mensagem'!$A$3:$B$67,2,0)","v":"Granelmar        -        (41) 3422-9170 / 99246-8781  |  E-mail: granelmar@granelmar.com.br"}]
["BRPNG","45GP","UETU6406848","Nao","Granelmar",{"$f":"VLOOKUP(E6454,'Padrão mensagem'!$A$3:$B$67,2,0)","v":"Granelmar        -        (41) 3422-9170 / 99246-8781  |  E-mail: granelmar@granelmar.com.br"}]
["BRPNG","45GP","FANU1393531","Nao","Granelmar",{"$f":"VLOOKUP(E6501,'Padrão mensagem'!$A$3:$B$67,2,0)","v":"Granelmar        -        (41) 3422-9170 / 99246-8781  |  E-mail: granelmar@granelmar.com.br"}]
["BRPNG","45GP","HAMU1819749","Nao","Granelmar",{"$f":"VLOOKUP(E6535,'Padrão mensagem'!$A$3:$B$67,2,0)","v":"Granelmar        -        (41) 3422-9170 / 99246-8781  |  E-mail: granelmar@granelmar.com.br"}]
["BRPNG","45GP","HAMU2330393","Nao","Granelmar",{"$f":"VLOOKUP(E6578,'Padrão mensagem'!$A$3:$B$67,2,0)","v":"Granelmar        -        (41) 3422-9170 / 99246-8781  |  E-mail: granelmar@granelmar.com.br"}]
["BRPNG","45GP","HAMU2348303","Nao","Granelmar",{"$f":"VLOOKUP(E6584,'Padrão mensagem'!$A$3:$B$67,2,0)","v":"Granelmar        -        (41) 3422-9170 / 99246-8781  |  E-mail: granelmar@granelmar.com.br"}]
["BRPNG","22GP","HLBU1026663","Nao","Granelmar",{"$f":"VLOOKUP(E6636,'Padrão mensagem'!$A$3:$B$67,2,0)","v":"Granelmar        -        (41) 3422-9170 / 99246-8781  |  E-mail: granelmar@granelmar.com.br"}]
["BRPNG","45RT","HLBU9618308","Nao","Granelmar",{"$f":"VLOOKUP(E6665,'Padrão mensagem'!$A$3:$B$67,2,0)","v":"Granelmar        -        (41) 3422-9170 / 99246-8781  |  E-mail: granelmar@granelmar.com.br"}]
["BRPNG","45RT","TCLU1074731","Nao","Granelmar",{"$f":"VLOOKUP(E6704,'Padrão mensagem'!$A$3:$B$67,2,0)","v":"Granelmar        -        (41) 3422-9170 / 99246-8781  |  E-mail: granelmar@granelmar.com.br"}]
["BRPNG","22GP","CAIU2612706","Nao","Granelmar",{"$f":"VLOOKUP(E6721,'Padrão mensagem'!$A$3:$B$67,2,0)","v":"Granelmar        -        (41) 3422-9170 / 99246-8781  |  E-mail: granelmar@granelmar.com.br"}]
["BRPNG","45GP","HAMU2331701","Nao","Granelmar",{"$f":"VLOOKUP(E6752,'Padrão mensagem'!$A$3:$B$67,2,0)","v":"Granelmar        -        (41) 3422-9170 / 99246-8781  |  E-mail: granelmar@granelmar.com.br"}]
["BRPNG","22GP","TGCU2107297","Nao","Granelmar",{"$f":"VLOOKUP(E6791,'Padrão mensagem'!$A$3:$B$67,2,0)","v":"Granelmar        -        (41) 3422-9170 / 99246-8781  |  E-mail: granelmar@granelmar.com.br"}]
["BRPNG","45GP","FDCU0005255","Nao","Granelmar",{"$f":"VLOOKUP(E6834,'Padrão mensagem'!$A$3:$B$67,2,0)","v":"Granelmar        -        (41) 3422-9170 / 99246-8781  |  E-mail: granelmar@granelmar.com.br"}]
["BRPNG","45GP","FANU1479070","Nao","Granelmar",{"$f":"VLOOKUP(E6856,'Padrão mensagem'!$A$3:$B$67,2,0)","v":"Granelmar        -        (41) 3422-9170 / 99246-8781  |  E-mail: granelmar@granelmar.com.br"}]
["BRPNG","45RT","HLBU9164273","Nao","Granelmar",{"$f":"VLOOKUP(E6878,'Padrão mensagem'!$A$3:$B$67,2,0)","v":"Granelmar        -        (41) 3422-9170 / 99246-8781  |  E-mail: granelmar@granelmar.com.br"}]
["BRPNG","45RT","HLBU9202368","Nao","Granelmar",{"$f":"VLOOKUP(E6921,'Padrão mensagem'!$A$3:$B$67,2,0)","v":"Granelmar        -        (41) 3422-9170 / 99246-8781  |  E-mail: granelmar@granelmar.com.br"}]
["BRPNG","45GP","UACU5947674","Nao","Granelmar",{"$f":"VLOOKUP(E6941,'Padrão mensagem'!$A$3:$B$67,2,0)","v":"Granelmar        -        (41) 3422-9170 / 99246-8781  |  E-mail: granelmar@granelmar.com.br"}]
["BRPNG","45GP","CAIU4988550","Nao","Granelmar",{"$f":"VLOOKUP(E7002,'Padrão mensagem'!$A$3:$B$67,2,0)","v":"Granelmar        -        (41) 3422-9170 / 99246-8781  |  E-mail: granelmar@granelmar.com.br"}]
["BRPNG","45GP","TCLU5412591","Nao","Granelmar",{"$f":"VLOOKUP(E7008,'Padrão mensagem'!$A$3:$B$67,2,0)","v":"Granelmar        -        (41) 3422-9170 / 99246-8781  |  E-mail: granelmar@granelmar.com.br"}]
["BRPNG","45GP","GESU6171725","Nao","Granelmar",{"$f":"VLOOKUP(E7047,'Padrão mensagem'!$A$3:$B$67,2,0)","v":"Granelmar        -        (41) 3422-9170 / 99246-8781  |  E-mail: granelmar@granelmar.com.br"}]
["BRPNG","22GP","CAIU3587357","Nao","Granelmar",{"$f":"VLOOKUP(E7076,'Padrão mensagem'!$A$3:$B$67,2,0)","v":"Granelmar        -        (41) 3422-9170 / 99246-8781  |  E-mail: granelmar@granelmar.com.br"}]
["BRPNG","45RT","HLXU8777998","Nao","Off Hire PR",{"$f":"VLOOKUP(E7128,'Padrão mensagem'!$A$3:$B$67,2,0)","v":"Entrar em contato pelo email: logistic.parana@hlag.com "}]
["BRPNG","45RT","HLBU9405895","Nao","Granelmar",{"$f":"VLOOKUP(E7167,'Padrão mensagem'!$A$3:$B$67,2,0)","v":"Granelmar        -        (41) 3422-9170 / 99246-8781  |  E-mail: granelmar@granelmar.com.br"}]
["BRPNG","22GP","BSIU2254531","Nao","Granelmar",{"$f":"VLOOKUP(E7193,'Padrão mensagem'!$A$3:$B$67,2,0)","v":"Granelmar        -        (41) 3422-9170 / 99246-8781  |  E-mail: granelmar@granelmar.com.br"}]
["BRPNG","45GP","HLBU2150339","Nao","Granelmar",{"$f":"VLOOKUP(E7215,'Padrão mensagem'!$A$3:$B$67,2,0)","v":"Granelmar        -        (41) 3422-9170 / 99246-8781  |  E-mail: granelmar@granelmar.com.br"}]
["BRPNG","22GP","HLBU3556826","Nao","Granelmar",{"$f":"VLOOKUP(E7258,'Padrão mensagem'!$A$3:$B$67,2,0)","v":"Granelmar        -        (41) 3422-9170 / 99246-8781  |  E-mail: granelmar@granelmar.com.br"}]
["BRPNG","22GP","HLBU3594955","Nao","Granelmar",{"$f":"VLOOKUP(E7297,'Padrão mensagem'!$A$3:$B$67,2,0)","v":"Granelmar        -        (41) 3422-9170 / 99246-8781  |  E-mail: granelmar@granelmar.com.br"}]
["BRPNG","22GP","HLBU3563152","Nao","Granelmar",{"$f":"VLOOKUP(E7328,'Padrão mensagem'!$A$3:$B$67,2,0)","v":"Granelmar        -        (41) 3422-9170 / 99246-8781  |  E-mail: granelmar@granelmar.com.br"}]
["BRPNG","22GP","UACU3865598","Nao","Granelmar",{"$f":"VLOOKUP(E7345,'Padrão mensagem'!$A$3:$B$67,2,0)","v":"Granelmar        -        (41) 3422-9170 / 99246-8781  |  E-mail: granelmar@granelmar.com.br"}]
["BRPNG","45GP","SEKU6410979","Nao","Granelmar",{"$f":"VLOOKUP(E7384,'Padrão mensagem'!$A$3:$B$67,2,0)","v":"Granelmar        -        (41) 3422-9170 / 99246-8781  |  E-mail: granelmar@granelmar.com.br"}]
["BRPNG","45GP","HAMU2337757","Nao","Granelmar",{"$f":"VLOOKUP(E7413,'Padrão mensagem'!$A$3:$B$67,2,0)","v":"Granelmar        -        (41) 3422-9170 / 99246-8781  |  E-mail: granelmar@granelmar.com.br"}]
["BRPNG","45RT","HLBU9691546","Nao","Granelmar",{"$f":"VLOOKUP(E7432,'Padrão mensagem'!$A$3:$B$67,2,0)","v":"Granelmar        -        (41) 3422-9170 / 99246-8781  |  E-mail: granelmar@granelmar.com.br"}]
["BRPNG","45GP","HLBU2263079","Nao","Off Hire PR",{"$f":"VLOOKUP(E7471,'Padrão mensagem'!$A$3:$B$67,2,0)","v":"Entrar em contato pelo email: logistic.parana@hlag.com "}]
["BRPNG","45GP","FANU1771190","Nao","Granelmar",{"$f":"VLOOKUP(E7514,'Padrão mensagem'!$A$3:$B$67,2,0)","v":"Granelmar        -        (41) 3422-9170 / 99246-8781  |  E-mail: granelmar@granelmar.com.br"}]
["BRPNG","22GP","UACU3839747","Nao","Granelmar",{"$f":"VLOOKUP(E7548,'Padrão mensagem'!$A$3:$B$67,2,0)","v":"Granelmar        -        (41) 3422-9170 / 99246-8781  |  E-mail: granelmar@granelmar.com.br"}]
["BRPNG","45RT","NIDU6500452","Nao","Granelmar",{"$f":"VLOOKUP(E7591,'Padrão mensagem'!$A$3:$B$67,2,0)","v":"Granelmar        -        (41) 3422-9170 / 99246-8781  |  E-mail: granelmar@granelmar.com.br"}]
["BRPNG","45GP","UETU6009922","Nao","Granelmar",{"$f":"VLOOKUP(E7601,'Padrão mensagem'!$A$3:$B$67,2,0)","v":"Granelmar        -        (41) 3422-9170 / 99246-8781  |  E-mail: granelmar@granelmar.com.br"}]
["BRPNG","45GP","HLBU2191852","Nao","Granelmar",{"$f":"VLOOKUP(E7633,'Padrão mensagem'!$A$3:$B$67,2,0)","v":"Granelmar        -        (41) 3422-9170 / 99246-8781  |  E-mail: granelmar@granelmar.com.br"}]
["BRPNG","22GP","HAMU1079792","Nao","Granelmar",{"$f":"VLOOKUP(E7682,'Padrão mensagem'!$A$3:$B$67,2,0)","v":"Granelmar        -        (41) 3422-9170 / 99246-8781  |  E-mail: granelmar@granelmar.com.br"}]
["BRPNG","45GP","FCIU8657460","Nao","Granelmar",{"$f":"VLOOKUP(E7721,'Padrão mensagem'!$A$3:$B$67,2,0)","v":"Granelmar        -        (41) 3422-9170 / 99246-8781  |  E-mail: granelmar@granelmar.com.br"}]
["BRPNG","45GP","FSCU7286446","Nao","Granelmar",{"$f":"VLOOKUP(E7727,'Padrão mensagem'!$A$3:$B$67,2,0)","v":"Granelmar        -        (41) 3422-9170 / 99246-8781  |  E-mail: granelmar@granelmar.com.br"}]
["BRPNG","22GP","HLBU2963961","Nao","Granelmar",{"$f":"VLOOKUP(E7768,'Padrão mensagem'!$A$3:$B$67,2,0)","v":"Granelmar        -        (41) 3422-9170 / 99246-8781  |  E-mail: granelmar@granelmar.com.br"}]
["BRPNG","45RT","HLBU9493392","Nao","Granelmar",{"$f":"VLOOKUP(E7808,'Padrão mensagem'!$A$3:$B$67,2,0)","v":"Granelmar        -        (41) 3422-9170 / 99246-8781  |  E-mail: granelmar@granelmar.com.br"}]
["BRPNG","45RT","HLBU9050922","Nao","Granelmar",{"$f":"VLOOKUP(E7847,'Padrão mensagem'!$A$3:$B$67,2,0)","v":"Granelmar        -        (41) 3422-9170 / 99246-8781  |  E-mail: granelmar@granelmar.com.br"}]
["BRPNG","45RT","HLBU9975250","Nao","Granelmar",{"$f":"VLOOKUP(E7885,'Padrão mensagem'!$A$3:$B$67,2,0)","v":"Granelmar        -        (41) 3422-9170 / 99246-8781  |  E-mail: granelmar@granelmar.com.br"}]
["BRPNG","45GP","FANU3879733","Nao","Granelmar",{"$f":"VLOOKUP(E7895,'Padrão mensagem'!$A$3:$B$67,2,0)","v":"Granelmar        -        (41) 3422-9170 / 99246-8781  |  E-mail: granelmar@granelmar.com.br"}]
["BRPNG","22GP","CAIU3303722","Nao","Granelmar",{"$f":"VLOOKUP(E7938,'Padrão mensagem'!$A$3:$B$67,2,0)","v":"Granelmar        -        (41) 3422-9170 / 99246-8781  |  E-mail: granelmar@granelmar.com.br"}]
["BRPNG","22GP","TEMU1404960","Nao","Granelmar",{"$f":"VLOOKUP(E7977,'Padrão mensagem'!$A$3:$B$67,2,0)","v":"Granelmar        -        (41) 3422-9170 / 99246-8781  |  E-mail: granelmar@granelmar.com.br"}]
["BRPNG","22GP","HLBU2319389","Nao","Granelmar",{"$f":"VLOOKUP(E7988,'Padrão mensagem'!$A$3:$B$67,2,0)","v":"Granelmar        -        (41) 3422-9170 / 99246-8781  |  E-mail: granelmar@granelmar.com.br"}]
["BRPNG","22GP","CAIU2673086","Nao","Granelmar",{"$f":"VLOOKUP(E8025,'Padrão mensagem'!$A$3:$B$67,2,0)","v":"Granelmar        -        (41) 3422-9170 / 99246-8781  |  E-mail: granelmar@granelmar.com.br"}]
["BRPNG","45GP","TLLU5937870","Nao","Granelmar",{"$f":"VLOOKUP(E8064,'Padrão mensagem'!$A$3:$B$67,2,0)","v":"Granelmar        -        (41) 3422-9170 / 99246-8781  |  E-mail: granelmar@granelmar.com.br"}]
["BRPNG","45RT","HLBU9692603","Nao","Granelmar",{"$f":"VLOOKUP(E8105,'Padrão mensagem'!$A$3:$B$67,2,0)","v":"Granelmar        -        (41) 3422-9170 / 99246-8781  |  E-mail: granelmar@granelmar.com.br"}]
["BRPNG","45GP","HLBU1309154","Nao","Granelmar",{"$f":"VLOOKUP(E8145,'Padrão mensagem'!$A$3:$B$67,2,0)","v":"Granelmar        -        (41) 3422-9170 / 99246-8781  |  E-mail: granelmar@granelmar.com.br"}]
["BRPNG","45GP","UACU5739562","Nao","Granelmar",{"$f":"VLOOKUP(E8151,'Padrão mensagem'!$A$3:$B$67,2,0)","v":"Granelmar        -        (41) 3422-9170 / 99246-8781  |  E-mail: granelmar@granelmar.com.br"}]
["BRPNG","45GP","GCXU5948296","Nao","Granelmar",{"$f":"VLOOKUP(E8194,'Padrão mensagem'!$A$3:$B$67,2,0)","v":"Granelmar        -        (41) 3422-9170 / 99246-8781  |  E-mail: granelmar@granelmar.com.br"}]
["BRPNG","45RT","HLBU9679324","Nao","Granelmar",{"$f":"VLOOKUP(E8240,'Padrão mensagem'!$A$3:$B$67,2,0)","v":"Granelmar        -        (41) 3422-9170 / 99246-8781  |  E-mail: granelmar@granelmar.com.br"}]
["BRPNG","45RT","HLBU9627260","Nao","Granelmar",{"$f":"VLOOKUP(E8271,'Padrão mensagem'!$A$3:$B$67,2,0)","v":"Granelmar        -        (41) 3422-9170 / 99246-8781  |  E-mail: granelmar@granelmar.com.br"}]
["BRPNG","22GP","TCKU1756930","Nao","Granelmar",{"$f":"VLOOKUP(E8314,'Padrão mensagem'!$A$3:$B$67,2,0)","v":"Granelmar        -        (41) 3422-9170 / 99246-8781  |  E-mail: granelmar@granelmar.com.br"}]
["BRPNG","22GP","HLBU2311285","Nao","Granelmar",{"$f":"VLOOKUP(E8320,'Padrão mensagem'!$A$3:$B$67,2,0)","v":"Granelmar        -        (41) 3422-9170 / 99246-8781  |  E-mail: granelmar@granelmar.com.br"}]
["BRPNG","45GP","HLBU3178644","Nao","Granelmar",{"$f":"VLOOKUP(E8375,'Padrão mensagem'!$A$3:$B$67,2,0)","v":"Granelmar        -        (41) 3422-9170 / 99246-8781  |  E-mail: granelmar@granelmar.com.br"}]
["BRPNG","22GP","TEMU1406833","Nao","Granelmar",{"$f":"VLOOKUP(E8401,'Padrão mensagem'!$A$3:$B$67,2,0)","v":"Granelmar        -        (41) 3422-9170 / 99246-8781  |  E-mail: granelmar@granelmar.com.br"}]
["BRPNG","45GP","BEAU4635970","Nao","Granelmar",{"$f":"VLOOKUP(E8440,'Padrão mensagem'!$A$3:$B$67,2,0)","v":"Granelmar        -        (41) 3422-9170 / 99246-8781  |  E-mail: granelmar@granelmar.com.br"}]
["BRPNG","45RT","HLXU8798202","Nao","Granelmar",{"$f":"VLOOKUP(E8460,'Padrão mensagem'!$A$3:$B$67,2,0)","v":"Granelmar        -        (41) 3422-9170 / 99246-8781  |  E-mail: granelmar@granelmar.com.br"}]
["BRPNG","45GP","GCXU5303810","Nao","Granelmar",{"$f":"VLOOKUP(E8488,'Padrão mensagem'!$A$3:$B$67,2,0)","v":"Granelmar        -        (41) 3422-9170 / 99246-8781  |  E-mail: granelmar@granelmar.com.br"}]
["BRPNG","45GP","HAMU2802524","Nao","Granelmar",{"$f":"VLOOKUP(E8531,'Padrão mensagem'!$A$3:$B$67,2,0)","v":"Granelmar        -        (41) 3422-9170 / 99246-8781  |  E-mail: granelmar@granelmar.com.br"}]
["BRPNG","45RT","HLBU9778590","Nao","Granelmar",{"$f":"VLOOKUP(E8570,'Padrão mensagem'!$A$3:$B$67,2,0)","v":"Granelmar        -        (41) 3422-9170 / 99246-8781  |  E-mail: granelmar@granelmar.com.br"}]
["BRPNG","45RT","HLBU9324350","Nao","Granelmar",{"$f":"VLOOKUP(E8595,'Padrão mensagem'!$A$3:$B$67,2,0)","v":"Granelmar        -        (41) 3422-9170 / 99246-8781  |  E-mail: granelmar@granelmar.com.br"}]
["BRPNG","45RT","TCLU1295331","Nao","Granelmar",{"$f":"VLOOKUP(E8618,'Padrão mensagem'!$A$3:$B$67,2,0)","v":"Granelmar        -        (41) 3422-9170 / 99246-8781  |  E-mail: granelmar@granelmar.com.br"}]
["BRPNG","45GP","HLBU2497694","Nao","Granelmar",{"$f":"VLOOKUP(E8657,'Padrão mensagem'!$A$3:$B$67,2,0)","v":"Granelmar        -        (41) 3422-9170 / 99246-8781  |  E-mail: granelmar@granelmar.com.br"}]
["BRPNG","45RT","HLBU9370398","Nao","Granelmar",{"$f":"VLOOKUP(E8680,'Padrão mensagem'!$A$3:$B$67,2,0)","v":"Granelmar        -        (41) 3422-9170 / 99246-8781  |  E-mail: granelmar@granelmar.com.br"}]
["BRPNG","45GP","FANU1471300","Nao","Granelmar",{"$f":"VLOOKUP(E8738,'Padrão mensagem'!$A$3:$B$67,2,0)","v":"Granelmar        -        (41) 3422-9170 / 99246-8781  |  E-mail: granelmar@granelmar.com.br"}]
["BRPNG","45GP","SEGU5124024","Nao","Granelmar",{"$f":"VLOOKUP(E8744,'Padrão mensagem'!$A$3:$B$67,2,0)","v":"Granelmar        -        (41) 3422-9170 / 99246-8781  |  E-mail: granelmar@granelmar.com.br"}]
["BRPNG","45RT","HLBU9511069","Nao","Granelmar",{"$f":"VLOOKUP(E8787,'Padrão mensagem'!$A$3:$B$67,2,0)","v":"Granelmar        -        (41) 3422-9170 / 99246-8781  |  E-mail: granelmar@granelmar.com.br"}]
["BRPNG","22GP","BMOU1328721","Nao","Granelmar",{"$f":"VLOOKUP(E8815,'Padrão mensagem'!$A$3:$B$67,2,0)","v":"Granelmar        -        (41) 3422-9170 / 99246-8781  |  E-mail: granelmar@granelmar.com.br"}]
["BRPNG","22GP","NIDU2325217","Nao","Granelmar",{"$f":"VLOOKUP(E8864,'Padrão mensagem'!$A$3:$B$67,2,0)","v":"Granelmar        -        (41) 3422-9170 / 99246-8781  |  E-mail: granelmar@granelmar.com.br"}]
["BRPNG","45UT","QIBU1238411","Nao","Granelmar",{"$f":"VLOOKUP(E8874,'Padrão mensagem'!$A$3:$B$67,2,0)","v":"Granelmar        -        (41) 3422-9170 / 99246-8781  |  E-mail: granelmar@granelmar.com.br"}]
["BRPNG","45GP","HLBU1965023","Nao","Granelmar",{"$f":"VLOOKUP(E8932,'Padrão mensagem'!$A$3:$B$67,2,0)","v":"Granelmar        -        (41) 3422-9170 / 99246-8781  |  E-mail: granelmar@granelmar.com.br"}]
["BRPNG","45GP","FANU1327530","Nao","Granelmar",{"$f":"VLOOKUP(E8951,'Padrão mensagem'!$A$3:$B$67,2,0)","v":"Granelmar        -        (41) 3422-9170 / 99246-8781  |  E-mail: granelmar@granelmar.com.br"}]
["BRPNG","45RT","GESU9575572","Nao","Granelmar",{"$f":"VLOOKUP(E8994,'Padrão mensagem'!$A$3:$B$67,2,0)","v":"Granelmar        -        (41) 3422-9170 / 99246-8781  |  E-mail: granelmar@granelmar.com.br"}]
["BRPNG","22GP","CAIU6997020","Nao","Granelmar",{"$f":"VLOOKUP(E9033,'Padrão mensagem'!$A$3:$B$67,2,0)","v":"Granelmar        -        (41) 3422-9170 / 99246-8781  |  E-mail: granelmar@granelmar.com.br"}]
["BRPNG","22GP","HLBU2989919","Nao","Granelmar",{"$f":"VLOOKUP(E9035,'Padrão mensagem'!$A$3:$B$67,2,0)","v":"Granelmar        -        (41) 3422-9170 / 99246-8781  |  E-mail: granelmar@granelmar.com.br"}]
["BRRIG","45GP","UETU6752096","Nao","Mercotainer",{"$f":"VLOOKUP(E9081,'Padrão mensagem'!$A$3:$B$67,2,0)","v":"Mercotainer        -        (53) 3234-1202  |  gategeral@mercotainer.com.br"}]
["BRRIG","45GP","FANU1391966","Nao","Mercotainer",{"$f":"VLOOKUP(E9120,'Padrão mensagem'!$A$3:$B$67,2,0)","v":"Mercotainer        -        (53) 3234-1202  |  gategeral@mercotainer.com.br"}]
["BRRIG","45RT","HLBU9525165","Nao","Mercotainer",{"$f":"VLOOKUP(E9152,'Padrão mensagem'!$A$3:$B$67,2,0)","v":"Mercotainer        -        (53) 3234-1202  |  gategeral@mercotainer.com.br"}]
["BRRIG","22GP","GESU1206520","Nao","Mercotainer",{"$f":"VLOOKUP(E9168,'Padrão mensagem'!$A$3:$B$67,2,0)","v":"Mercotainer        -        (53) 3234-1202  |  gategeral@mercotainer.com.br"}]
["BRRIG","45GP","HLXU8321879","Nao","Mercotainer",{"$f":"VLOOKUP(E9211,'Padrão mensagem'!$A$3:$B$67,2,0)","v":"Mercotainer        -        (53) 3234-1202  |  gategeral@mercotainer.com.br"}]
["BRRIG","22GP","HLBU2285967","Nao","Mercotainer",{"$f":"VLOOKUP(E9250,'Padrão mensagem'!$A$3:$B$67,2,0)","v":"Mercotainer        -        (53) 3234-1202  |  gategeral@mercotainer.com.br"}]
["BRRIG","45GP","HAMU2286876","Nao","Mercotainer",{"$f":"VLOOKUP(E9287,'Padrão mensagem'!$A$3:$B$67,2,0)","v":"Mercotainer        -        (53) 3234-1202  |  gategeral@mercotainer.com.br"}]
["BRRIG","45GP","FANU3602179","Nao","Mercotainer",{"$f":"VLOOKUP(E9298,'Padrão mensagem'!$A$3:$B$67,2,0)","v":"Mercotainer        -        (53) 3234-1202  |  gategeral@mercotainer.com.br"}]
["BRRIG","45GP","FANU1388962","Nao","Mercotainer",{"$f":"VLOOKUP(E9337,'Padrão mensagem'!$A$3:$B$67,2,0)","v":"Mercotainer        -        (53) 3234-1202  |  gategeral@mercotainer.com.br"}]
["BRRIG","22GP","HLXU1165840","Nao","Mercotainer",{"$f":"VLOOKUP(E9372,'Padrão mensagem'!$A$3:$B$67,2,0)","v":"Mercotainer        -        (53) 3234-1202  |  gategeral@mercotainer.com.br"}]
["BRRIG","45GP","HAMU1395717","Nao","Mercotainer",{"$f":"VLOOKUP(E9418,'Padrão mensagem'!$A$3:$B$67,2,0)","v":"Mercotainer        -        (53) 3234-1202  |  gategeral@mercotainer.com.br"}]
["BRRIG","45GP","HLXU8314756","Nao","Mercotainer",{"$f":"VLOOKUP(E9457,'Padrão mensagem'!$A$3:$B$67,2,0)","v":"Mercotainer        -        (53) 3234-1202  |  gategeral@mercotainer.com.br"}]
["BRRIG","45RT","HLBU9392057","Nao","Mercotainer",{"$f":"VLOOKUP(E9467,'Padrão mensagem'!$A$3:$B$67,2,0)","v":"Mercotainer        -        (53) 3234-1202  |  gategeral@mercotainer.com.br"}]
["BRRIG","45RT","HLBU9199140","Nao","Mercotainer",{"$f":"VLOOKUP(E9507,'Padrão mensagem'!$A$3:$B$67,2,0)","v":"Mercotainer        -        (53) 3234-1202  |  gategeral@mercotainer.com.br"}]
["BRRIG","22GP","HLBU3497805","Nao","Mercotainer",{"$f":"VLOOKUP(E9544,'Padrão mensagem'!$A$3:$B$67,2,0)","v":"Mercotainer        -        (53) 3234-1202  |  gategeral@mercotainer.com.br"}]
["BRRIG","45GP","SEGU5710299","Nao","Mercotainer",{"$f":"VLOOKUP(E9587,'Padrão mensagem'!$A$3:$B$67,2,0)","v":"Mercotainer        -        (53) 3234-1202  |  gategeral@mercotainer.com.br"}]
["BRRIG","22GP","UACU4038660","Nao","Mercotainer",{"$f":"VLOOKUP(E9592,'Padrão mensagem'!$A$3:$B$67,2,0)","v":"Mercotainer        -        (53) 3234-1202  |  gategeral@mercotainer.com.br"}]
["BRRIG","45GP","HAMU2228015","Nao","Mercotainer",{"$f":"VLOOKUP(E9631,'Padrão mensagem'!$A$3:$B$67,2,0)","v":"Mercotainer        -        (53) 3234-1202  |  gategeral@mercotainer.com.br"}]
["BRRIG","22GP","HLXU1161260","Nao","Mercotainer",{"$f":"VLOOKUP(E9674,'Padrão mensagem'!$A$3:$B$67,2,0)","v":"Mercotainer        -        (53) 3234-1202  |  gategeral@mercotainer.com.br"}]
["BRRIG","45GP","HLBU1177232","Nao","Mercotainer",{"$f":"VLOOKUP(E9713,'Padrão mensagem'!$A$3:$B$67,2,0)","v":"Mercotainer        -        (53) 3234-1202  |  gategeral@mercotainer.com.br"}]
["BRRIG","45GP","HAMU2057015","Nao","Mercotainer",{"$f":"VLOOKUP(E9727,'Padrão mensagem'!$A$3:$B$67,2,0)","v":"Mercotainer        -        (53) 3234-1202  |  gategeral@mercotainer.com.br"}]
["BRRIG","22GP","UACU3889901","Nao","Mercotainer",{"$f":"VLOOKUP(E9761,'Padrão mensagem'!$A$3:$B$67,2,0)","v":"Mercotainer        -        (53) 3234-1202  |  gategeral@mercotainer.com.br"}]
["BRRIG","45GP","HAMU1203671","Nao","Mercotainer",{"$f":"VLOOKUP(E9800,'Padrão mensagem'!$A$3:$B$67,2,0)","v":"Mercotainer        -        (53) 3234-1202  |  gategeral@mercotainer.com.br"}]
["BRRIG","22GP","TCLU2876032","Nao","Mercotainer",{"$f":"VLOOKUP(E9844,'Padrão mensagem'!$A$3:$B$67,2,0)","v":"Mercotainer        -        (53) 3234-1202  |  gategeral@mercotainer.com.br"}]
["BRRIG","22GP","HLBU3651818","Nao","Mercotainer",{"$f":"VLOOKUP(E9881,'Padrão mensagem'!$A$3:$B$67,2,0)","v":"Mercotainer        -        (53) 3234-1202  |  gategeral@mercotainer.com.br"}]
["BRRIG","45GP","BMOU6700493","Nao","Mercotainer",{"$f":"VLOOKUP(E9891,'Padrão mensagem'!$A$3:$B$67,2,0)","v":"Mercotainer        -        (53) 3234-1202  |  gategeral@mercotainer.com.br"}]
["BRRIG","45RT","HLBU9574914","Nao","Mercotainer",{"$f":"VLOOKUP(E9930,'Padrão mensagem'!$A$3:$B$67,2,0)","v":"Mercotainer        -        (53) 3234-1202  |  gategeral@mercotainer.com.br"}]
["BRRIG","42GP","UACU8534247","Nao","Mercotainer",{"$f":"VLOOKUP(E9979,'Padrão mensagem'!$A$3:$B$67,2,0)","v":"Mercotainer        -        (53) 3234-1202  |  gategeral@mercotainer.com.br"}]
["BRRIG","22GP","FBIU0464150","Nao","Mercotainer",{"$f":"VLOOKUP(E10011,'Padrão mensagem'!$A$3:$B$67,2,0)","v":"Mercotainer        -        (53) 3234-1202  |  gategeral@mercotainer.com.br"}]
["BRRIG","45GP","FANU1638608","Nao","Mercotainer",{"$f":"VLOOKUP(E10017,'Padrão mensagem'!$A$3:$B$67,2,0)","v":"Mercotainer        -        (53) 3234-1202  |  gategeral@mercotainer.com.br"}]
["BRRIG","22GP","NIDU2362864","Nao","Mercotainer",{"$f":"VLOOKUP(E10064,'Padrão mensagem'!$A$3:$B$67,2,0)","v":"Mercotainer        -        (53) 3234-1202  |  gategeral@mercotainer.com.br"}]
["BRRIG","22GP","TGBU2556308","Nao","Mercotainer",{"$f":"VLOOKUP(E10098,'Padrão mensagem'!$A$3:$B$67,2,0)","v":"Mercotainer        -        (53) 3234-1202  |  gategeral@mercotainer.com.br"}]
["BRRIG","22GP","HLBU2970235","Nao","Mercotainer",{"$f":"VLOOKUP(E10137,'Padrão mensagem'!$A$3:$B$67,2,0)","v":"Mercotainer        -        (53) 3234-1202  |  gategeral@mercotainer.com.br"}]
["BRIOA","45GP","FANU3584671","Nao","DET IOA",{"$f":"VLOOKUP(E10147,'Padrão mensagem'!$A$3:$B$67,2,0)","v":"DET Itapoá - contato: planejamento@detterminal.com.br / (47)33057710 - 33057711"}]
["BRNVT","45GP","TCNU6329658","Nao","VMG NVT",{"$f":"VLOOKUP(E10199,'Padrão mensagem'!$A$3:$B$67,2,0)","v":"depot.nvt@elitecargas.com"}]
["BRNVT","45GP","UACU5669320","Nao","VMG NVT",{"$f":"VLOOKUP(E10224,'Padrão mensagem'!$A$3:$B$67,2,0)","v":"depot.nvt@elitecargas.com"}]
["BRNVT","45GP","HLBU2183158","Nao","VMG NVT",{"$f":"VLOOKUP(E10267,'Padrão mensagem'!$A$3:$B$67,2,0)","v":"depot.nvt@elitecargas.com"}]
["BRIOA","45GP","HLBU2820580","Nao","DET IOA",{"$f":"VLOOKUP(E10284,'Padrão mensagem'!$A$3:$B$67,2,0)","v":"DET Itapoá - contato: planejamento@detterminal.com.br / (47)33057710 - 33057711"}]
["BRIOA","22GP","CAAU2299121","Nao","DET IOA",{"$f":"VLOOKUP(E10315,'Padrão mensagem'!$A$3:$B$67,2,0)","v":"DET Itapoá - contato: planejamento@detterminal.com.br / (47)33057710 - 33057711"}]
["BRIOA","45GP","HLBU1497874","Nao","DET IOA",{"$f":"VLOOKUP(E10354,'Padrão mensagem'!$A$3:$B$67,2,0)","v":"DET Itapoá - contato: planejamento@detterminal.com.br / (47)33057710 - 33057711"}]
["BRIOA","45GP","HLBU1919080","Nao","DET IOA",{"$f":"VLOOKUP(E10393,'Padrão mensagem'!$A$3:$B$67,2,0)","v":"DET Itapoá - contato: planejamento@detterminal.com.br / (47)33057710 - 33057711"}]
["BRIOA","45RT","GESU9539908","Nao","DET IOA",{"$f":"VLOOKUP(E10419,'Padrão mensagem'!$A$3:$B$67,2,0)","v":"DET Itapoá - contato: planejamento@detterminal.com.br / (47)33057710 - 33057711"}]
["BRNVT","22GP","TGBU2223478","Nao","VMG NVT",{"$f":"VLOOKUP(E10441,'Padrão mensagem'!$A$3:$B$67,2,0)","v":"depot.nvt@elitecargas.com"}]
["BRITJ","45RT","HLBU6103720","Nao","Conexão",{"$f":"VLOOKUP(E10480,'Padrão mensagem'!$A$3:$B$67,2,0)","v":"Conexão Marítima        -        (47) 3405-2260  |  E-mail: atendimento.vazios@cmaritima.com.br "}]
["BRITJ","45RT","HLBU6014388","Nao","Conexão",{"$f":"VLOOKUP(E10523,'Padrão mensagem'!$A$3:$B$67,2,0)","v":"Conexão Marítima        -        (47) 3405-2260  |  E-mail: atendimento.vazios@cmaritima.com.br "}]
["BRITJ","45RT","HLBU6135097","Nao","Conexão",{"$f":"VLOOKUP(E10554,'Padrão mensagem'!$A$3:$B$67,2,0)","v":"Conexão Marítima        -        (47) 3405-2260  |  E-mail: atendimento.vazios@cmaritima.com.br "}]
["BRIOA","45RT","TCLU1173312","Nao","DET IOA",{"$f":"VLOOKUP(E10604,'Padrão mensagem'!$A$3:$B$67,2,0)","v":"DET Itapoá - contato: planejamento@detterminal.com.br / (47)33057710 - 33057711"}]
["BRIOA","45GP","TCNU8794936","Nao","DET IOA",{"$f":"VLOOKUP(E10610,'Padrão mensagem'!$A$3:$B$67,2,0)","v":"DET Itapoá - contato: planejamento@detterminal.com.br / (47)33057710 - 33057711"}]
["BRNVT","22GP","HLBU2346738","Nao","VMG NVT",{"$f":"VLOOKUP(E10639,'Padrão mensagem'!$A$3:$B$67,2,0)","v":"depot.nvt@elitecargas.com"}]
["BRNVT","45GP","SLSU8053121","Nao","VMG NVT",{"$f":"VLOOKUP(E10691,'Padrão mensagem'!$A$3:$B$67,2,0)","v":"depot.nvt@elitecargas.com"}]
["BRNVT","45GP","HLBU2497903","Nao","VMG NVT",{"$f":"VLOOKUP(E10730,'Padrão mensagem'!$A$3:$B$67,2,0)","v":"depot.nvt@elitecargas.com"}]
["BRNVT","45GP","HAMU1149230","Nao","VMG NVT",{"$f":"VLOOKUP(E10736,'Padrão mensagem'!$A$3:$B$67,2,0)","v":"depot.nvt@elitecargas.com"}]
["BRNVT","45GP","HAMU2025126","Nao","VMG NVT",{"$f":"VLOOKUP(E10774,'Padrão mensagem'!$A$3:$B$67,2,0)","v":"depot.nvt@elitecargas.com"}]
["BRITJ","22GP","HLBU3734851","Nao","VMG NVT",{"$f":"VLOOKUP(E10817,'Padrão mensagem'!$A$3:$B$67,2,0)","v":"depot.nvt@elitecargas.com"}]
["BRNVT","45RT","HLBU9232207","Nao","Conexão",{"$f":"VLOOKUP(E10860,'Padrão mensagem'!$A$3:$B$67,2,0)","v":"Conexão Marítima        -        (47) 3405-2260  |  E-mail: atendimento.vazios@cmaritima.com.br "}]
["BRNVT","45RT","HLBU6145860","Nao","Conexão",{"$f":"VLOOKUP(E10891,'Padrão mensagem'!$A$3:$B$67,2,0)","v":"Conexão Marítima        -        (47) 3405-2260  |  E-mail: atendimento.vazios@cmaritima.com.br "}]
["BRNVT","45RT","HLBU9821655","Nao","Conexão",{"$f":"VLOOKUP(E10904,'Padrão mensagem'!$A$3:$B$67,2,0)","v":"Conexão Marítima        -        (47) 3405-2260  |  E-mail: atendimento.vazios@cmaritima.com.br "}]
["BRNVT","45GP","HLBU2594014","Nao","VMG NVT",{"$f":"VLOOKUP(E10947,'Padrão mensagem'!$A$3:$B$67,2,0)","v":"depot.nvt@elitecargas.com"}]
["BRNVT","45GP","SEGU5635087","Nao","VMG NVT",{"$f":"VLOOKUP(E10986,'Padrão mensagem'!$A$3:$B$67,2,0)","v":"depot.nvt@elitecargas.com"}]
["BRNVT","45RT","HLBU6112342","Nao","Conexão",{"$f":"VLOOKUP(E11026,'Padrão mensagem'!$A$3:$B$67,2,0)","v":"Conexão Marítima        -        (47) 3405-2260  |  E-mail: atendimento.vazios@cmaritima.com.br "}]
["BRNVT","45RT","HLBU9755949","Nao","Conexão",{"$f":"VLOOKUP(E11034,'Padrão mensagem'!$A$3:$B$67,2,0)","v":"Conexão Marítima        -        (47) 3405-2260  |  E-mail: atendimento.vazios@cmaritima.com.br "}]
["BRNVT","22GP","HLBU3646067","Nao","VMG NVT",{"$f":"VLOOKUP(E11073,'Padrão mensagem'!$A$3:$B$67,2,0)","v":"depot.nvt@elitecargas.com"}]
["BRNVT","45RT","TCLU1076056","Nao","Conexão",{"$f":"VLOOKUP(E11111,'Padrão mensagem'!$A$3:$B$67,2,0)","v":"Conexão Marítima        -        (47) 3405-2260  |  E-mail: atendimento.vazios@cmaritima.com.br "}]
["BRNVT","45RT","UAEU1243463","Nao","Conexão",{"$f":"VLOOKUP(E11154,'Padrão mensagem'!$A$3:$B$67,2,0)","v":"Conexão Marítima        -        (47) 3405-2260  |  E-mail: atendimento.vazios@cmaritima.com.br "}]
["BRNVT","45GP","UACU5717265","Nao","VMG NVT",{"$f":"VLOOKUP(E11193,'Padrão mensagem'!$A$3:$B$67,2,0)","v":"depot.nvt@elitecargas.com"}]
["BRNVT","45GP","HLXU8584094","Nao","VMG NVT",{"$f":"VLOOKUP(E11203,'Padrão mensagem'!$A$3:$B$67,2,0)","v":"depot.nvt@elitecargas.com"}]
["BRNVT","45GP","HAMU2424949","Nao","VMG NVT",{"$f":"VLOOKUP(E11246,'Padrão mensagem'!$A$3:$B$67,2,0)","v":"depot.nvt@elitecargas.com"}]
["BRNVT","45GP","CAAU5552573","Nao","VMG NVT",{"$f":"VLOOKUP(E11284,'Padrão mensagem'!$A$3:$B$67,2,0)","v":"depot.nvt@elitecargas.com"}]
["BRIOA","22GP","CAIU6825079","Nao","DET IOA",{"$f":"VLOOKUP(E11323,'Padrão mensagem'!$A$3:$B$67,2,0)","v":"DET Itapoá - contato: planejamento@detterminal.com.br / (47)33057710 - 33057711"}]
["BRIOA","22GP","NIDU2362720","Nao","DET IOA",{"$f":"VLOOKUP(E11331,'Padrão mensagem'!$A$3:$B$67,2,0)","v":"DET Itapoá - contato: planejamento@detterminal.com.br / (47)33057710 - 33057711"}]
["BRIOA","45GP","HAMU2531968","Nao","DET IOA",{"$f":"VLOOKUP(E11371,'Padrão mensagem'!$A$3:$B$67,2,0)","v":"DET Itapoá - contato: planejamento@detterminal.com.br / (47)33057710 - 33057711"}]
["BRNVT","45GP","HAMU2365804","Nao","VMG NVT",{"$f":"VLOOKUP(E11410,'Padrão mensagem'!$A$3:$B$67,2,0)","v":"depot.nvt@elitecargas.com"}]
["BRNVT","45GP","HLXU8090682","Nao","VMG NVT",{"$f":"VLOOKUP(E11453,'Padrão mensagem'!$A$3:$B$67,2,0)","v":"depot.nvt@elitecargas.com"}]
["BRNVT","45GP","HLBU2102310","Nao","VMG NVT",{"$f":"VLOOKUP(E11466,'Padrão mensagem'!$A$3:$B$67,2,0)","v":"depot.nvt@elitecargas.com"}]
["BRIOA","45GP","FCIU7447433","Nao","DET IOA",{"$f":"VLOOKUP(E11497,'Padrão mensagem'!$A$3:$B$67,2,0)","v":"DET Itapoá - contato: planejamento@detterminal.com.br / (47)33057710 - 33057711"}]
["BRIOA","22GP","HLXU1272303","Nao","DET IOA",{"$f":"VLOOKUP(E11540,'Padrão mensagem'!$A$3:$B$67,2,0)","v":"DET Itapoá - contato: planejamento@detterminal.com.br / (47)33057710 - 33057711"}]
["BRIOA","45GP","HLBU3081422","Nao","DET IOA",{"$f":"VLOOKUP(E11583,'Padrão mensagem'!$A$3:$B$67,2,0)","v":"DET Itapoá - contato: planejamento@detterminal.com.br / (47)33057710 - 33057711"}]
["BRIOA","22GP","HLBU2342291","Nao","DET IOA",{"$f":"VLOOKUP(E11617,'Padrão mensagem'!$A$3:$B$67,2,0)","v":"DET Itapoá - contato: planejamento@detterminal.com.br / (47)33057710 - 33057711"}]
["BRIOA","22GP","CAAU2257023","Nao","DET IOA",{"$f":"VLOOKUP(E11627,'Padrão mensagem'!$A$3:$B$67,2,0)","v":"DET Itapoá - contato: planejamento@detterminal.com.br / (47)33057710 - 33057711"}]
["BRNVT","45UT","HLBU8024940","Nao","VMG NVT",{"$f":"VLOOKUP(E11666,'Padrão mensagem'!$A$3:$B$67,2,0)","v":"depot.nvt@elitecargas.com"}]
["BRIOA","45RT","HLBU9533176","Nao","DET IOA",{"$f":"VLOOKUP(E11686,'Padrão mensagem'!$A$3:$B$67,2,0)","v":"DET Itapoá - contato: planejamento@detterminal.com.br / (47)33057710 - 33057711"}]
["BRITJ","45GP","BSIU9866550","Nao","VMG NVT",{"$f":"VLOOKUP(E11747,'Padrão mensagem'!$A$3:$B$67,2,0)","v":"depot.nvt@elitecargas.com"}]
["BRITJ","45GP","HAMU1195107","Nao","VMG NVT",{"$f":"VLOOKUP(E11753,'Padrão mensagem'!$A$3:$B$67,2,0)","v":"depot.nvt@elitecargas.com"}]
["BRNVT","22GP","CAAU2388682","Nao","VMG NVT",{"$f":"VLOOKUP(E11803,'Padrão mensagem'!$A$3:$B$67,2,0)","v":"depot.nvt@elitecargas.com"}]
["BRIOA","45GP","HAMU2651454","Nao","DET IOA",{"$f":"VLOOKUP(E11834,'Padrão mensagem'!$A$3:$B$67,2,0)","v":"DET Itapoá - contato: planejamento@detterminal.com.br / (47)33057710 - 33057711"}]
["BRNVT","42GP","HLBU1268693","Nao","VMG NVT",{"$f":"VLOOKUP(E11873,'Padrão mensagem'!$A$3:$B$67,2,0)","v":"depot.nvt@elitecargas.com"}]
["BRIOA","22GP","GLDU5723092","Nao","DET IOA",{"$f":"VLOOKUP(E11883,'Padrão mensagem'!$A$3:$B$67,2,0)","v":"DET Itapoá - contato: planejamento@detterminal.com.br / (47)33057710 - 33057711"}]
["BRIOA","22GP","HLBU1179981","Nao","DET IOA",{"$f":"VLOOKUP(E11938,'Padrão mensagem'!$A$3:$B$67,2,0)","v":"DET Itapoá - contato: planejamento@detterminal.com.br / (47)33057710 - 33057711"}]
["BRIOA","22GP","CAIU2559978","Nao","DET IOA",{"$f":"VLOOKUP(E11964,'Padrão mensagem'!$A$3:$B$67,2,0)","v":"DET Itapoá - contato: planejamento@detterminal.com.br / (47)33057710 - 33057711"}]
["BRIOA","22GP","DAYU2156731","Nao","DET IOA",{"$f":"VLOOKUP(E12003,'Padrão mensagem'!$A$3:$B$67,2,0)","v":"DET Itapoá - contato: planejamento@detterminal.com.br / (47)33057710 - 33057711"}]
["BRIOA","45GP","GESU6434396","Nao","DET IOA",{"$f":"VLOOKUP(E12023,'Padrão mensagem'!$A$3:$B$67,2,0)","v":"DET Itapoá - contato: planejamento@detterminal.com.br / (47)33057710 - 33057711"}]
["BRIOA","45GP","CXDU1079696","Nao","DET IOA",{"$f":"VLOOKUP(E12051,'Padrão mensagem'!$A$3:$B$67,2,0)","v":"DET Itapoá - contato: planejamento@detterminal.com.br / (47)33057710 - 33057711"}]
["BRIOA","45GP","GESU6159925","Nao","DET IOA",{"$f":"VLOOKUP(E12090,'Padrão mensagem'!$A$3:$B$67,2,0)","v":"DET Itapoá - contato: planejamento@detterminal.com.br / (47)33057710 - 33057711"}]
["BRIOA","22GP","HLXU1324372","Nao","DET IOA",{"$f":"VLOOKUP(E12133,'Padrão mensagem'!$A$3:$B$67,2,0)","v":"DET Itapoá - contato: planejamento@detterminal.com.br / (47)33057710 - 33057711"}]
["BRNVT","42GP","XINU4051630","Nao","VMG NVT",{"$f":"VLOOKUP(E12158,'Padrão mensagem'!$A$3:$B$67,2,0)","v":"depot.nvt@elitecargas.com"}]
["BRNVT","45GP","BEAU5998460","Nao","VMG NVT",{"$f":"VLOOKUP(E12177,'Padrão mensagem'!$A$3:$B$67,2,0)","v":"depot.nvt@elitecargas.com"}]
["BRIOA","22GP","TEMU1386911","Nao","DET IOA",{"$f":"VLOOKUP(E12220,'Padrão mensagem'!$A$3:$B$67,2,0)","v":"DET Itapoá - contato: planejamento@detterminal.com.br / (47)33057710 - 33057711"}]
["BRIOA","45GP","HAMU1243530","Nao","DET IOA",{"$f":"VLOOKUP(E12243,'Padrão mensagem'!$A$3:$B$67,2,0)","v":"DET Itapoá - contato: planejamento@detterminal.com.br / (47)33057710 - 33057711"}]
["BRIOA","45GP","FANU1739877","Nao","DET IOA",{"$f":"VLOOKUP(E12297,'Padrão mensagem'!$A$3:$B$67,2,0)","v":"DET Itapoá - contato: planejamento@detterminal.com.br / (47)33057710 - 33057711"}]
["BRIOA","45GP","CAIU7994751","Nao","DET IOA",{"$f":"VLOOKUP(E12307,'Padrão mensagem'!$A$3:$B$67,2,0)","v":"DET Itapoá - contato: planejamento@detterminal.com.br / (47)33057710 - 33057711"}]
["BRIOA","45GP","GESU6162739","Nao","DET IOA",{"$f":"VLOOKUP(E12346,'Padrão mensagem'!$A$3:$B$67,2,0)","v":"DET Itapoá - contato: planejamento@detterminal.com.br / (47)33057710 - 33057711"}]
["BRIOA","42GP","HLXU5399446","Nao","DET IOA",{"$f":"VLOOKUP(E12378,'Padrão mensagem'!$A$3:$B$67,2,0)","v":"DET Itapoá - contato: planejamento@detterminal.com.br / (47)33057710 - 33057711"}]
["BRIOA","45GP","UETU6386206","Nao","DET IOA",{"$f":"VLOOKUP(E12427,'Padrão mensagem'!$A$3:$B$67,2,0)","v":"DET Itapoá - contato: planejamento@detterminal.com.br / (47)33057710 - 33057711"}]
["BRIOA","22GP","HAMU1006883","Nao","DET IOA",{"$f":"VLOOKUP(E12466,'Padrão mensagem'!$A$3:$B$67,2,0)","v":"DET Itapoá - contato: planejamento@detterminal.com.br / (47)33057710 - 33057711"}]
["BRIOA","45RT","HLBU9032071","Nao","DET IOA",{"$f":"VLOOKUP(E12495,'Padrão mensagem'!$A$3:$B$67,2,0)","v":"DET Itapoá - contato: planejamento@detterminal.com.br / (47)33057710 - 33057711"}]
["BRIOA","42GP","HLBU1410010","Nao","DET IOA",{"$f":"VLOOKUP(E12514,'Padrão mensagem'!$A$3:$B$67,2,0)","v":"DET Itapoá - contato: planejamento@detterminal.com.br / (47)33057710 - 33057711"}]
["BRNVT","45RT","SEGU9372040","Nao","Conexão",{"$f":"VLOOKUP(E12553,'Padrão mensagem'!$A$3:$B$67,2,0)","v":"Conexão Marítima        -        (47) 3405-2260  |  E-mail: atendimento.vazios@cmaritima.com.br "}]
["BRNVT","45RT","GESU9525191","Nao","Conexão",{"$f":"VLOOKUP(E12596,'Padrão mensagem'!$A$3:$B$67,2,0)","v":"Conexão Marítima        -        (47) 3405-2260  |  E-mail: atendimento.vazios@cmaritima.com.br "}]
["BRNVT","45RT","CXRU1518880","Nao","Conexão",{"$f":"VLOOKUP(E12630,'Padrão mensagem'!$A$3:$B$67,2,0)","v":"Conexão Marítima        -        (47) 3405-2260  |  E-mail: atendimento.vazios@cmaritima.com.br "}]
["BRNVT","45RT","UACU4798473","Nao","Conexão",{"$f":"VLOOKUP(E12644,'Padrão mensagem'!$A$3:$B$67,2,0)","v":"Conexão Marítima        -        (47) 3405-2260  |  E-mail: atendimento.vazios@cmaritima.com.br "}]
["BRNVT","45RT","HLBU9182045","Nao","Conexão",{"$f":"VLOOKUP(E12683,'Padrão mensagem'!$A$3:$B$67,2,0)","v":"Conexão Marítima        -        (47) 3405-2260  |  E-mail: atendimento.vazios@cmaritima.com.br "}]
["BRNVT","45RT","HLBU9152462","Nao","Conexão",{"$f":"VLOOKUP(E12722,'Padrão mensagem'!$A$3:$B$67,2,0)","v":"Conexão Marítima        -        (47) 3405-2260  |  E-mail: atendimento.vazios@cmaritima.com.br "}]
["BRNVT","45RT","HLBU9867770","Nao","Conexão",{"$f":"VLOOKUP(E12733,'Padrão mensagem'!$A$3:$B$67,2,0)","v":"Conexão Marítima        -        (47) 3405-2260  |  E-mail: atendimento.vazios@cmaritima.com.br "}]
["BRNVT","45RT","HLBU9447571","Nao","Conexão",{"$f":"VLOOKUP(E12770,'Padrão mensagem'!$A$3:$B$67,2,0)","v":"Conexão Marítima        -        (47) 3405-2260  |  E-mail: atendimento.vazios@cmaritima.com.br "}]
["BRIOA","45RT","HLBU9348943","Nao","DET IOA",{"$f":"VLOOKUP(E12813,'Padrão mensagem'!$A$3:$B$67,2,0)","v":"DET Itapoá - contato: planejamento@detterminal.com.br / (47)33057710 - 33057711"}]
["BRIOA","45RT","UAEU1251242","Nao","DET IOA",{"$f":"VLOOKUP(E12850,'Padrão mensagem'!$A$3:$B$67,2,0)","v":"DET Itapoá - contato: planejamento@detterminal.com.br / (47)33057710 - 33057711"}]
["BRIOA","45GP","HLXU8185448","Nao","DET IOA",{"$f":"VLOOKUP(E12890,'Padrão mensagem'!$A$3:$B$67,2,0)","v":"DET Itapoá - contato: planejamento@detterminal.com.br / (47)33057710 - 33057711"}]
["BRIOA","22GP","TEMU1778928","Nao","DET IOA",{"$f":"VLOOKUP(E12900,'Padrão mensagem'!$A$3:$B$67,2,0)","v":"DET Itapoá - contato: planejamento@detterminal.com.br / (47)33057710 - 33057711"}]
["BRIOA","22GP","FCIU6316070","Nao","DET IOA",{"$f":"VLOOKUP(E12939,'Padrão mensagem'!$A$3:$B$67,2,0)","v":"DET Itapoá - contato: planejamento@detterminal.com.br / (47)33057710 - 33057711"}]
["BRIOA","22GP","FCIU6291372","Nao","DET IOA",{"$f":"VLOOKUP(E12985,'Padrão mensagem'!$A$3:$B$67,2,0)","v":"DET Itapoá - contato: planejamento@detterminal.com.br / (47)33057710 - 33057711"}]
["BRNVT","22GP","HLXU1351399","Nao","VMG NVT",{"$f":"VLOOKUP(E13020,'Padrão mensagem'!$A$3:$B$67,2,0)","v":"depot.nvt@elitecargas.com"}]
["BRNVT","22GP","TCLU2824018","Nao","VMG NVT",{"$f":"VLOOKUP(E13026,'Padrão mensagem'!$A$3:$B$67,2,0)","v":"depot.nvt@elitecargas.com"}]
["BRNVT","45GP","SEGU4824255","Nao","VMG NVT",{"$f":"VLOOKUP(E13070,'Padrão mensagem'!$A$3:$B$67,2,0)","v":"depot.nvt@elitecargas.com"}]
["BRNVT","45GP","FFAU1235580","Nao","VMG NVT",{"$f":"VLOOKUP(E13107,'Padrão mensagem'!$A$3:$B$67,2,0)","v":"depot.nvt@elitecargas.com"}]
["BRNVT","45GP","HAMU2653056","Nao","VMG NVT",{"$f":"VLOOKUP(E13146,'Padrão mensagem'!$A$3:$B$67,2,0)","v":"depot.nvt@elitecargas.com"}]
["BRNVT","45RT","HLXU8779584","Nao","Conexão",{"$f":"VLOOKUP(E13189,'Padrão mensagem'!$A$3:$B$67,2,0)","v":"Conexão Marítima        -        (47) 3405-2260  |  E-mail: atendimento.vazios@cmaritima.com.br "}]
["BRNVT","45RT","HLXU8794790","Nao","Conexão",{"$f":"VLOOKUP(E13205,'Padrão mensagem'!$A$3:$B$67,2,0)","v":"Conexão Marítima        -        (47) 3405-2260  |  E-mail: atendimento.vazios@cmaritima.com.br "}]
["BRNVT","45RT","HLBU6144015","Nao","Conexão",{"$f":"VLOOKUP(E13237,'Padrão mensagem'!$A$3:$B$67,2,0)","v":"Conexão Marítima        -        (47) 3405-2260  |  E-mail: atendimento.vazios@cmaritima.com.br "}]
["BRNVT","45RT","HLBU6100260","Nao","Conexão",{"$f":"VLOOKUP(E13276,'Padrão mensagem'!$A$3:$B$67,2,0)","v":"Conexão Marítima        -        (47) 3405-2260  |  E-mail: atendimento.vazios@cmaritima.com.br "}]
["BRNVT","22GP","UACU3532658","Nao","VMG NVT",{"$f":"VLOOKUP(E13290,'Padrão mensagem'!$A$3:$B$67,2,0)","v":"depot.nvt@elitecargas.com"}]
["BRNVT","45RT","HLBU6065981","Nao","Conexão",{"$f":"VLOOKUP(E13324,'Padrão mensagem'!$A$3:$B$67,2,0)","v":"Conexão Marítima        -        (47) 3405-2260  |  E-mail: atendimento.vazios@cmaritima.com.br "}]
["BRNVT","45RT","HLBU9091855","Nao","Conexão",{"$f":"VLOOKUP(E13363,'Padrão mensagem'!$A$3:$B$67,2,0)","v":"Conexão Marítima        -        (47) 3405-2260  |  E-mail: atendimento.vazios@cmaritima.com.br "}]
["BRIOA","45GP","HAMU2714906","Nao","DET IOA",{"$f":"VLOOKUP(E13402,'Padrão mensagem'!$A$3:$B$67,2,0)","v":"DET Itapoá - contato: planejamento@detterminal.com.br / (47)33057710 - 33057711"}]
["BRIOA","45GP","FANU1561424","Nao","DET IOA",{"$f":"VLOOKUP(E13425,'Padrão mensagem'!$A$3:$B$67,2,0)","v":"DET Itapoá - contato: planejamento@detterminal.com.br / (47)33057710 - 33057711"}]
["BRIOA","45GP","SLSU8040021","Nao","DET IOA",{"$f":"VLOOKUP(E13483,'Padrão mensagem'!$A$3:$B$67,2,0)","v":"DET Itapoá - contato: planejamento@detterminal.com.br / (47)33057710 - 33057711"}]
["BRIOA","45GP","HLXU8607625","Nao","DET IOA",{"$f":"VLOOKUP(E13493,'Padrão mensagem'!$A$3:$B$67,2,0)","v":"DET Itapoá - contato: planejamento@detterminal.com.br / (47)33057710 - 33057711"}]
["BRIOA","22GP","TCKU2086088","Nao","DET IOA",{"$f":"VLOOKUP(E13542,'Padrão mensagem'!$A$3:$B$67,2,0)","v":"DET Itapoá - contato: planejamento@detterminal.com.br / (47)33057710 - 33057711"}]
["BRIOA","22GP","UACU3790610","Nao","DET IOA",{"$f":"VLOOKUP(E13570,'Padrão mensagem'!$A$3:$B$67,2,0)","v":"DET Itapoá - contato: planejamento@detterminal.com.br / (47)33057710 - 33057711"}]
["BRIOA","45RT","HLXU8767808","Nao","DET IOA",{"$f":"VLOOKUP(E13613,'Padrão mensagem'!$A$3:$B$67,2,0)","v":"DET Itapoá - contato: planejamento@detterminal.com.br / (47)33057710 - 33057711"}]
["BRIOA","45RT","HLBU9769454","Nao","DET IOA",{"$f":"VLOOKUP(E13619,'Padrão mensagem'!$A$3:$B$67,2,0)","v":"DET Itapoá - contato: planejamento@detterminal.com.br / (47)33057710 - 33057711"}]
["BRNVT","45GP","BEAU5990639","Nao","VMG NVT",{"$f":"VLOOKUP(E13677,'Padrão mensagem'!$A$3:$B$67,2,0)","v":"depot.nvt@elitecargas.com"}]
["BRNVT","45GP","HLXU8111872","Nao","VMG NVT",{"$f":"VLOOKUP(E13700,'Padrão mensagem'!$A$3:$B$67,2,0)","v":"depot.nvt@elitecargas.com"}]
["BRNVT","45GP","TXGU6977381","Nao","VMG NVT",{"$f":"VLOOKUP(E13739,'Padrão mensagem'!$A$3:$B$67,2,0)","v":"depot.nvt@elitecargas.com"}]
["BRNVT","45GP","HLBU2602233","Nao","VMG NVT",{"$f":"VLOOKUP(E13762,'Padrão mensagem'!$A$3:$B$67,2,0)","v":"depot.nvt@elitecargas.com"}]
["BRNVT","45GP","SLSU8042750","Nao","VMG NVT",{"$f":"VLOOKUP(E13787,'Padrão mensagem'!$A$3:$B$67,2,0)","v":"depot.nvt@elitecargas.com"}]
["BRNVT","45GP","SEKU6068887","Nao","VMG NVT",{"$f":"VLOOKUP(E13826,'Padrão mensagem'!$A$3:$B$67,2,0)","v":"depot.nvt@elitecargas.com"}]
["BRNVT","45GP","HAMU2187364","Nao","VMG NVT",{"$f":"VLOOKUP(E13869,'Padrão mensagem'!$A$3:$B$67,2,0)","v":"depot.nvt@elitecargas.com"}]
["BRNVT","45GP","FANU1487923","Nao","VMG NVT",{"$f":"VLOOKUP(E13897,'Padrão mensagem'!$A$3:$B$67,2,0)","v":"depot.nvt@elitecargas.com"}]
["BRNVT","42GP","HLBU1774541","Nao","VMG NVT",{"$f":"VLOOKUP(E13917,'Padrão mensagem'!$A$3:$B$67,2,0)","v":"depot.nvt@elitecargas.com"}]
["BRIOA","45RT","HLBU9526773","Nao","DET IOA",{"$f":"VLOOKUP(E13956,'Padrão mensagem'!$A$3:$B$67,2,0)","v":"DET Itapoá - contato: planejamento@detterminal.com.br / (47)33057710 - 33057711"}]
["BRNVT","45GP","FANU1670580","Nao","VMG NVT",{"$f":"VLOOKUP(E13982,'Padrão mensagem'!$A$3:$B$67,2,0)","v":"depot.nvt@elitecargas.com"}]
["BRNVT","45GP","HLBU2270627","Nao","VMG NVT",{"$f":"VLOOKUP(E14037,'Padrão mensagem'!$A$3:$B$67,2,0)","v":"depot.nvt@elitecargas.com"}]
["BRNVT","45GP","HLBU3157256","Nao","VMG NVT",{"$f":"VLOOKUP(E14043,'Padrão mensagem'!$A$3:$B$67,2,0)","v":"depot.nvt@elitecargas.com"}]
["BRIOA","22GP","UACU3819294","Nao","VMG ITAPOA",{"$f":"VLOOKUP(E14082,'Padrão mensagem'!$A$3:$B$67,2,0)","v":"depot.ioa@elitecargas.com"}]
["BRIOA","45GP","FANU1647003","Nao","VMG ITAPOA",{"$f":"VLOOKUP(E14117,'Padrão mensagem'!$A$3:$B$67,2,0)","v":"depot.ioa@elitecargas.com"}]
["BRIOA","45GP","FANU3434373","Nao","VMG ITAPOA",{"$f":"VLOOKUP(E14163,'Padrão mensagem'!$A$3:$B$67,2,0)","v":"depot.ioa@elitecargas.com"}]
["BRIOA","45RT","HLBU9174815","Nao","DET IOA",{"$f":"VLOOKUP(E14173,'Padrão mensagem'!$A$3:$B$67,2,0)","v":"DET Itapoá - contato: planejamento@detterminal.com.br / (47)33057710 - 33057711"}]
["BRIOA","45GP","UACU5422114","Nao","VMG ITAPOA",{"$f":"VLOOKUP(E14234,'Padrão mensagem'!$A$3:$B$67,2,0)","v":"depot.ioa@elitecargas.com"}]
["BRIOA","45GP","UACU5807477","Nao","VMG ITAPOA",{"$f":"VLOOKUP(E14250,'Padrão mensagem'!$A$3:$B$67,2,0)","v":"depot.ioa@elitecargas.com"}]
["BRIOA","45GP","FANU3011833","Nao","VMG ITAPOA",{"$f":"VLOOKUP(E14293,'Padrão mensagem'!$A$3:$B$67,2,0)","v":"depot.ioa@elitecargas.com"}]
["BRIOA","45RT","HLBU6073858","Nao","DET IOA",{"$f":"VLOOKUP(E14332,'Padrão mensagem'!$A$3:$B$67,2,0)","v":"DET Itapoá - contato: planejamento@detterminal.com.br / (47)33057710 - 33057711"}]
["BRNVT","42GP","TCLU4449929","Nao","VMG NVT",{"$f":"VLOOKUP(E14337,'Padrão mensagem'!$A$3:$B$67,2,0)","v":"depot.nvt@elitecargas.com"}]
["BRIOA","45GP","UACU5883348","Nao","VMG ITAPOA",{"$f":"VLOOKUP(E14380,'Padrão mensagem'!$A$3:$B$67,2,0)","v":"depot.ioa@elitecargas.com"}]
["BRIOA","45GP","HLXU8428790","Nao","VMG ITAPOA",{"$f":"VLOOKUP(E14419,'Padrão mensagem'!$A$3:$B$67,2,0)","v":"depot.ioa@elitecargas.com"}]
["BRIOA","22GP","UACU3720151","Nao","VMG ITAPOA",{"$f":"VLOOKUP(E14454,'Padrão mensagem'!$A$3:$B$67,2,0)","v":"depot.ioa@elitecargas.com"}]
["BRIOA","22GP","HLBU1511756","Nao","VMG ITAPOA",{"$f":"VLOOKUP(E14467,'Padrão mensagem'!$A$3:$B$67,2,0)","v":"depot.ioa@elitecargas.com"}]
["BRIOA","22GP","FCIU6581263","Nao","VMG ITAPOA",{"$f":"VLOOKUP(E14506,'Padrão mensagem'!$A$3:$B$67,2,0)","v":"depot.ioa@elitecargas.com"}]
["BRIOA","22GP","HLXU1250243","Nao","VMG ITAPOA",{"$f":"VLOOKUP(E14549,'Padrão mensagem'!$A$3:$B$67,2,0)","v":"depot.ioa@elitecargas.com"}]
["BRIOA","22GP","GCXU2489275","Nao","VMG ITAPOA",{"$f":"VLOOKUP(E14589,'Padrão mensagem'!$A$3:$B$67,2,0)","v":"depot.ioa@elitecargas.com"}]
["BRIOA","22GP","UETU2820356","Nao","VMG ITAPOA",{"$f":"VLOOKUP(E14597,'Padrão mensagem'!$A$3:$B$67,2,0)","v":"depot.ioa@elitecargas.com"}]
["BRIOA","45RT","HLBU9274199","Nao","DET IOA",{"$f":"VLOOKUP(E14636,'Padrão mensagem'!$A$3:$B$67,2,0)","v":"DET Itapoá - contato: planejamento@detterminal.com.br / (47)33057710 - 33057711"}]
["BRIOA","45GP","HLXU8181674","Nao","VMG ITAPOA",{"$f":"VLOOKUP(E14675,'Padrão mensagem'!$A$3:$B$67,2,0)","v":"depot.ioa@elitecargas.com"}]
["BRNVT","45GP","FANU3677603","Nao","VMG NVT",{"$f":"VLOOKUP(E14724,'Padrão mensagem'!$A$3:$B$67,2,0)","v":"depot.nvt@elitecargas.com"}]
["BRNVT","45RT","HLBU9405935","Nao","Conexão",{"$f":"VLOOKUP(E14756,'Padrão mensagem'!$A$3:$B$67,2,0)","v":"Conexão Marítima        -        (47) 3405-2260  |  E-mail: atendimento.vazios@cmaritima.com.br "}]
["BRNVT","45RT","HLBU9476292","Nao","Conexão",{"$f":"VLOOKUP(E14762,'Padrão mensagem'!$A$3:$B$67,2,0)","v":"Conexão Marítima        -        (47) 3405-2260  |  E-mail: atendimento.vazios@cmaritima.com.br "}]
["BRNVT","45RT","CXRU1529550","Nao","Conexão",{"$f":"VLOOKUP(E14809,'Padrão mensagem'!$A$3:$B$67,2,0)","v":"Conexão Marítima        -        (47) 3405-2260  |  E-mail: atendimento.vazios@cmaritima.com.br "}]
["BRNVT","45RT","HLBU9046814","Nao","Conexão",{"$f":"VLOOKUP(E14843,'Padrão mensagem'!$A$3:$B$67,2,0)","v":"Conexão Marítima        -        (47) 3405-2260  |  E-mail: atendimento.vazios@cmaritima.com.br "}]
["BRNVT","45RT","HLXU8793704","Nao","Conexão",{"$f":"VLOOKUP(E14886,'Padrão mensagem'!$A$3:$B$67,2,0)","v":"Conexão Marítima        -        (47) 3405-2260  |  E-mail: atendimento.vazios@cmaritima.com.br "}]
["BRNVT","45RT","HLBU6117386","Nao","Conexão",{"$f":"VLOOKUP(E14892,'Padrão mensagem'!$A$3:$B$67,2,0)","v":"Conexão Marítima        -        (47) 3405-2260  |  E-mail: atendimento.vazios@cmaritima.com.br "}]
["BRIOA","45GP","FANU1132311","Nao","VMG ITAPOA",{"$f":"VLOOKUP(E14944,'Padrão mensagem'!$A$3:$B$67,2,0)","v":"depot.ioa@elitecargas.com"}]
["BRIOA","22GP","UETU2828300","Nao","VMG ITAPOA",{"$f":"VLOOKUP(E14973,'Padrão mensagem'!$A$3:$B$67,2,0)","v":"depot.ioa@elitecargas.com"}]
["BRIOA","22GP","BMOU2900322","Nao","VMG ITAPOA",{"$f":"VLOOKUP(E15012,'Padrão mensagem'!$A$3:$B$67,2,0)","v":"depot.ioa@elitecargas.com"}]
["BRIOA","22GP","SEKU1084972","Nao","VMG ITAPOA",{"$f":"VLOOKUP(E15029,'Padrão mensagem'!$A$3:$B$67,2,0)","v":"depot.ioa@elitecargas.com"}]
["BRIOA","22GP","FCGU2255929","Nao","VMG ITAPOA",{"$f":"VLOOKUP(E15060,'Padrão mensagem'!$A$3:$B$67,2,0)","v":"depot.ioa@elitecargas.com"}]
["BRNVT","45GP","HAMU2717000","Nao","VMG NVT",{"$f":"VLOOKUP(E15099,'Padrão mensagem'!$A$3:$B$67,2,0)","v":"depot.nvt@elitecargas.com"}]
["BRNVT","45GP","TGHU6237276","Nao","VMG NVT",{"$f":"VLOOKUP(E15142,'Padrão mensagem'!$A$3:$B$67,2,0)","v":"depot.nvt@elitecargas.com"}]
["BRIOA","45RT","SEGU9096595","Nao","DET IOA",{"$f":"VLOOKUP(E15164,'Padrão mensagem'!$A$3:$B$67,2,0)","v":"DET Itapoá - contato: planejamento@detterminal.com.br / (47)33057710 - 33057711"}]
["BRIOA","22GP","TGBU2246200","Nao","VMG ITAPOA",{"$f":"VLOOKUP(E15186,'Padrão mensagem'!$A$3:$B$67,2,0)","v":"depot.ioa@elitecargas.com"}]
["BRNVT","45RT","HLBU9546980","Nao","Conexão",{"$f":"VLOOKUP(E15229,'Padrão mensagem'!$A$3:$B$67,2,0)","v":"Conexão Marítima        -        (47) 3405-2260  |  E-mail: atendimento.vazios@cmaritima.com.br "}]
["BRNVT","45RT","HLBU9977020","Nao","Conexão",{"$f":"VLOOKUP(E15281,'Padrão mensagem'!$A$3:$B$67,2,0)","v":"Conexão Marítima        -        (47) 3405-2260  |  E-mail: atendimento.vazios@cmaritima.com.br "}]
["BRNVT","45RT","TEMU9835080","Nao","Conexão",{"$f":"VLOOKUP(E15310,'Padrão mensagem'!$A$3:$B$67,2,0)","v":"Conexão Marítima        -        (47) 3405-2260  |  E-mail: atendimento.vazios@cmaritima.com.br "}]
["BRNVT","45RT","HLBU6102323","Nao","Conexão",{"$f":"VLOOKUP(E15316,'Padrão mensagem'!$A$3:$B$67,2,0)","v":"Conexão Marítima        -        (47) 3405-2260  |  E-mail: atendimento.vazios@cmaritima.com.br "}]
["BRNVT","45RT","HLBU9476754","Nao","Conexão",{"$f":"VLOOKUP(E15355,'Padrão mensagem'!$A$3:$B$67,2,0)","v":"Conexão Marítima        -        (47) 3405-2260  |  E-mail: atendimento.vazios@cmaritima.com.br "}]
["BRNVT","45RT","HLBU9050080","Nao","Conexão",{"$f":"VLOOKUP(E15384,'Padrão mensagem'!$A$3:$B$67,2,0)","v":"Conexão Marítima        -        (47) 3405-2260  |  E-mail: atendimento.vazios@cmaritima.com.br "}]
["BRNVT","45RT","HLBU6116780","Nao","Conexão",{"$f":"VLOOKUP(E15436,'Padrão mensagem'!$A$3:$B$67,2,0)","v":"Conexão Marítima        -        (47) 3405-2260  |  E-mail: atendimento.vazios@cmaritima.com.br "}]
["BRIOA","45GP","FANU3294332","Nao","VMG ITAPOA",{"$f":"VLOOKUP(E15475,'Padrão mensagem'!$A$3:$B$67,2,0)","v":"depot.ioa@elitecargas.com"}]
["BRNVT","45RT","GESU9580619","Nao","Conexão",{"$f":"VLOOKUP(E15501,'Padrão mensagem'!$A$3:$B$67,2,0)","v":"Conexão Marítima        -        (47) 3405-2260  |  E-mail: atendimento.vazios@cmaritima.com.br "}]
["BRNVT","45RT","HLBU6113668","Nao","Conexão",{"$f":"VLOOKUP(E15523,'Padrão mensagem'!$A$3:$B$67,2,0)","v":"Conexão Marítima        -        (47) 3405-2260  |  E-mail: atendimento.vazios@cmaritima.com.br "}]
["BRIOA","45GP","HAMU2981081","Nao","VMG ITAPOA",{"$f":"VLOOKUP(E15566,'Padrão mensagem'!$A$3:$B$67,2,0)","v":"depot.ioa@elitecargas.com"}]
["BRIOA","22GP","HLBU1109120","Nao","VMG ITAPOA",{"$f":"VLOOKUP(E15605,'Padrão mensagem'!$A$3:$B$67,2,0)","v":"depot.ioa@elitecargas.com"}]
["BRIOA","22GP","TEMU5751611","Nao","VMG ITAPOA",{"$f":"VLOOKUP(E15636,'Padrão mensagem'!$A$3:$B$67,2,0)","v":"depot.ioa@elitecargas.com"}]
["BRIOA","22GP","GCXU2320407","Nao","VMG ITAPOA",{"$f":"VLOOKUP(E15653,'Padrão mensagem'!$A$3:$B$67,2,0)","v":"depot.ioa@elitecargas.com"}]
["BRNVT","45GP","HAMU2884693","Nao","VMG NVT",{"$f":"VLOOKUP(E15692,'Padrão mensagem'!$A$3:$B$67,2,0)","v":"depot.nvt@elitecargas.com"}]
["BRNVT","45GP","FSCU9626864","Nao","VMG NVT",{"$f":"VLOOKUP(E15721,'Padrão mensagem'!$A$3:$B$67,2,0)","v":"depot.nvt@elitecargas.com"}]
["BRNVT","45GP","HLBU1656430","Nao","ALS ITAJAI ",{"$f":"VLOOKUP(E15773,'Padrão mensagem'!$A$3:$B$67,2,0)","v":"ALS - Avenida Governador Adolfo Konder, nº 2600, bairro São Vicente, Itajaí/SC, CEP 88308-004 (antigo Rogério Philippi ITJ)"}]
["BRNVT","45GP","UACU5975104","Nao","ALS ITAJAI ",{"$f":"VLOOKUP(E15779,'Padrão mensagem'!$A$3:$B$67,2,0)","v":"ALS - Avenida Governador Adolfo Konder, nº 2600, bairro São Vicente, Itajaí/SC, CEP 88308-004 (antigo Rogério Philippi ITJ)"}]
["BRNVT","45RT","HLBU9619984","Nao","Conexão",{"$f":"VLOOKUP(E15822,'Padrão mensagem'!$A$3:$B$67,2,0)","v":"Conexão Marítima        -        (47) 3405-2260  |  E-mail: atendimento.vazios@cmaritima.com.br "}]
["BRNVT","45RT","HLBU9377279","Nao","Conexão",{"$f":"VLOOKUP(E15856,'Padrão mensagem'!$A$3:$B$67,2,0)","v":"Conexão Marítima        -        (47) 3405-2260  |  E-mail: atendimento.vazios@cmaritima.com.br "}]
["BRNVT","45RT","HLBU9752030","Nao","Conexão",{"$f":"VLOOKUP(E15899,'Padrão mensagem'!$A$3:$B$67,2,0)","v":"Conexão Marítima        -        (47) 3405-2260  |  E-mail: atendimento.vazios@cmaritima.com.br "}]
["BRNVT","45RT","SEGU9418639","Nao","Conexão",{"$f":"VLOOKUP(E15909,'Padrão mensagem'!$A$3:$B$67,2,0)","v":"Conexão Marítima        -        (47) 3405-2260  |  E-mail: atendimento.vazios@cmaritima.com.br "}]
["BRNVT","22GP","HLXU3530937","Nao","ALS ITAJAI ",{"$f":"VLOOKUP(E15941,'Padrão mensagem'!$A$3:$B$67,2,0)","v":"ALS - Avenida Governador Adolfo Konder, nº 2600, bairro São Vicente, Itajaí/SC, CEP 88308-004 (antigo Rogério Philippi ITJ)"}]
["BRIOA","45GP","UETU6193491","Nao","VMG ITAPOA",{"$f":"VLOOKUP(E15990,'Padrão mensagem'!$A$3:$B$67,2,0)","v":"depot.ioa@elitecargas.com"}]
["BRNVT","45RT","HLBU9625800","Nao","Conexão",{"$f":"VLOOKUP(E16029,'Padrão mensagem'!$A$3:$B$67,2,0)","v":"Conexão Marítima        -        (47) 3405-2260  |  E-mail: atendimento.vazios@cmaritima.com.br "}]
["BRITJ","22GP","DAYU2164207","Nao","ALS ITAJAI ",{"$f":"VLOOKUP(E16068,'Padrão mensagem'!$A$3:$B$67,2,0)","v":"ALS - Avenida Governador Adolfo Konder, nº 2600, bairro São Vicente, Itajaí/SC, CEP 88308-004 (antigo Rogério Philippi ITJ)"}]
["BRITJ","22GP","UACU3711210","Nao","ALS ITAJAI ",{"$f":"VLOOKUP(E16076,'Padrão mensagem'!$A$3:$B$67,2,0)","v":"ALS - Avenida Governador Adolfo Konder, nº 2600, bairro São Vicente, Itajaí/SC, CEP 88308-004 (antigo Rogério Philippi ITJ)"}]
["BRNVT","45GP","UETU5212529","Nao","ALS ITAJAI ",{"$f":"VLOOKUP(E16116,'Padrão mensagem'!$A$3:$B$67,2,0)","v":"ALS - Avenida Governador Adolfo Konder, nº 2600, bairro São Vicente, Itajaí/SC, CEP 88308-004 (antigo Rogério Philippi ITJ)"}]
["BRNVT","45GP","TRHU4533753","Nao","ALS ITAJAI ",{"$f":"VLOOKUP(E16159,'Padrão mensagem'!$A$3:$B$67,2,0)","v":"ALS - Avenida Governador Adolfo Konder, nº 2600, bairro São Vicente, Itajaí/SC, CEP 88308-004 (antigo Rogério Philippi ITJ)"}]
["BRNVT","45GP","FCIU7102690","Nao","ALS ITAJAI ",{"$f":"VLOOKUP(E16193,'Padrão mensagem'!$A$3:$B$67,2,0)","v":"ALS - Avenida Governador Adolfo Konder, nº 2600, bairro São Vicente, Itajaí/SC, CEP 88308-004 (antigo Rogério Philippi ITJ)"}]
["BRNVT","45GP","CAIU4297877","Nao","ALS ITAJAI ",{"$f":"VLOOKUP(E16203,'Padrão mensagem'!$A$3:$B$67,2,0)","v":"ALS - Avenida Governador Adolfo Konder, nº 2600, bairro São Vicente, Itajaí/SC, CEP 88308-004 (antigo Rogério Philippi ITJ)"}]
["BRNVT","45GP","HLBU1298110","Nao","ALS ITAJAI ",{"$f":"VLOOKUP(E16246,'Padrão mensagem'!$A$3:$B$67,2,0)","v":"ALS - Avenida Governador Adolfo Konder, nº 2600, bairro São Vicente, Itajaí/SC, CEP 88308-004 (antigo Rogério Philippi ITJ)"}]
["BRNVT","45GP","FANU3416940","Nao","ALS ITAJAI ",{"$f":"VLOOKUP(E16285,'Padrão mensagem'!$A$3:$B$67,2,0)","v":"ALS - Avenida Governador Adolfo Konder, nº 2600, bairro São Vicente, Itajaí/SC, CEP 88308-004 (antigo Rogério Philippi ITJ)"}]
["BRIOA","45RT","GESU9502663","Nao","DET IOA",{"$f":"VLOOKUP(E16328,'Padrão mensagem'!$A$3:$B$67,2,0)","v":"DET Itapoá - contato: planejamento@detterminal.com.br / (47)33057710 - 33057711"}]
["BRIOA","45RT","HLXU8743679","Nao","DET IOA",{"$f":"VLOOKUP(E16333,'Padrão mensagem'!$A$3:$B$67,2,0)","v":"DET Itapoá - contato: planejamento@detterminal.com.br / (47)33057710 - 33057711"}]
["BRIOA","45GP","FANU3453938","Nao","VMG ITAPOA",{"$f":"VLOOKUP(E16372,'Padrão mensagem'!$A$3:$B$67,2,0)","v":"depot.ioa@elitecargas.com"}]
["BRIOA","45GP","TGBU5836447","Nao","VMG ITAPOA",{"$f":"VLOOKUP(E16413,'Padrão mensagem'!$A$3:$B$67,2,0)","v":"depot.ioa@elitecargas.com"}]
["BRNVT","45GP","FANU3412862","Offhire","ALS ITAJAI ",{"$f":"VLOOKUP(E16453,'Padrão mensagem'!$A$3:$B$67,2,0)","v":"ALS - Avenida Governador Adolfo Konder, nº 2600, bairro São Vicente, Itajaí/SC, CEP 88308-004 (antigo Rogério Philippi ITJ)"}]
["BRNVT","45GP","UACU5987656","Nao","ALS ITAJAI ",{"$f":"VLOOKUP(E16492,'Padrão mensagem'!$A$3:$B$67,2,0)","v":"ALS - Avenida Governador Adolfo Konder, nº 2600, bairro São Vicente, Itajaí/SC, CEP 88308-004 (antigo Rogério Philippi ITJ)"}]
["BRNVT","45GP","HAMU1554700","Nao","ALS ITAJAI ",{"$f":"VLOOKUP(E16502,'Padrão mensagem'!$A$3:$B$67,2,0)","v":"ALS - Avenida Governador Adolfo Konder, nº 2600, bairro São Vicente, Itajaí/SC, CEP 88308-004 (antigo Rogério Philippi ITJ)"}]
["BRNVT","45PC","HLXU6689537","Nao","ALS ITAJAI ",{"$f":"VLOOKUP(E16548,'Padrão mensagem'!$A$3:$B$67,2,0)","v":"ALS - Avenida Governador Adolfo Konder, nº 2600, bairro São Vicente, Itajaí/SC, CEP 88308-004 (antigo Rogério Philippi ITJ)"}]
["BRIOA","45RT","HLBU9314584","Nao","DET IOA",{"$f":"VLOOKUP(E16579,'Padrão mensagem'!$A$3:$B$67,2,0)","v":"DET Itapoá - contato: planejamento@detterminal.com.br / (47)33057710 - 33057711"}]
["BRIOA","22GP","HLXU1319355","Nao","VMG ITAPOA",{"$f":"VLOOKUP(E16622,'Padrão mensagem'!$A$3:$B$67,2,0)","v":"depot.ioa@elitecargas.com"}]
["BRIOA","22GP","HLBU1003117","Nao","VMG ITAPOA",{"$f":"VLOOKUP(E16633,'Padrão mensagem'!$A$3:$B$67,2,0)","v":"depot.ioa@elitecargas.com"}]
["BRIOA","22GP","UACU3475809","Nao","VMG ITAPOA",{"$f":"VLOOKUP(E16670,'Padrão mensagem'!$A$3:$B$67,2,0)","v":"depot.ioa@elitecargas.com"}]
["BRIOA","45RT","HLBU9414829","Nao","DET IOA",{"$f":"VLOOKUP(E16709,'Padrão mensagem'!$A$3:$B$67,2,0)","v":"DET Itapoá - contato: planejamento@detterminal.com.br / (47)33057710 - 33057711"}]
["BRIOA","45GP","TCLU5993768","Nao","VMG ITAPOA",{"$f":"VLOOKUP(E16748,'Padrão mensagem'!$A$3:$B$67,2,0)","v":"depot.ioa@elitecargas.com"}]
["BRIOA","45GP","TXGU7117907","Nao","VMG ITAPOA",{"$f":"VLOOKUP(E16768,'Padrão mensagem'!$A$3:$B$67,2,0)","v":"depot.ioa@elitecargas.com"}]
["BRNVT","45GP","CAAU8584234","Nao","ALS ITAJAI ",{"$f":"VLOOKUP(E16796,'Padrão mensagem'!$A$3:$B$67,2,0)","v":"ALS - Avenida Governador Adolfo Konder, nº 2600, bairro São Vicente, Itajaí/SC, CEP 88308-004 (antigo Rogério Philippi ITJ)"}]
["BRIOA","45RT","HLBU6063778","Nao","DET IOA",{"$f":"VLOOKUP(E16839,'Padrão mensagem'!$A$3:$B$67,2,0)","v":"DET Itapoá - contato: planejamento@detterminal.com.br / (47)33057710 - 33057711"}]
["BRITJ","22GP","TLLU2553547","Nao","ALS ITAJAI ",{"$f":"VLOOKUP(E16878,'Padrão mensagem'!$A$3:$B$67,2,0)","v":"ALS - Avenida Governador Adolfo Konder, nº 2600, bairro São Vicente, Itajaí/SC, CEP 88308-004 (antigo Rogério Philippi ITJ)"}]
["BRITJ","22GP","HLXU1232548","Nao","ALS ITAJAI ",{"$f":"VLOOKUP(E16903,'Padrão mensagem'!$A$3:$B$67,2,0)","v":"ALS - Avenida Governador Adolfo Konder, nº 2600, bairro São Vicente, Itajaí/SC, CEP 88308-004 (antigo Rogério Philippi ITJ)"}]
["BRITJ","22GP","HLBU1826780","Nao","ALS ITAJAI ",{"$f":"VLOOKUP(E16926,'Padrão mensagem'!$A$3:$B$67,2,0)","v":"ALS - Avenida Governador Adolfo Konder, nº 2600, bairro São Vicente, Itajaí/SC, CEP 88308-004 (antigo Rogério Philippi ITJ)"}]
["BRIOA","45GP","UETU6755198","Nao","VMG ITAPOA",{"$f":"VLOOKUP(E16965,'Padrão mensagem'!$A$3:$B$67,2,0)","v":"depot.ioa@elitecargas.com"}]
["BRIOA","45GP","FANU1820778","Nao","VMG ITAPOA",{"$f":"VLOOKUP(E16988,'Padrão mensagem'!$A$3:$B$67,2,0)","v":"depot.ioa@elitecargas.com"}]
["BRNVT","42GP","UACU8401856","Nao","ALS ITAJAI ",{"$f":"VLOOKUP(E17046,'Padrão mensagem'!$A$3:$B$67,2,0)","v":"ALS - Avenida Governador Adolfo Konder, nº 2600, bairro São Vicente, Itajaí/SC, CEP 88308-004 (antigo Rogério Philippi ITJ)"}]
["BRIOA","45RT","HLBU9374290","Nao","DET IOA",{"$f":"VLOOKUP(E17052,'Padrão mensagem'!$A$3:$B$67,2,0)","v":"DET Itapoá - contato: planejamento@detterminal.com.br / (47)33057710 - 33057711"}]
["BRNVT","45RT","BMOU9247689","Nao","Conexão",{"$f":"VLOOKUP(E17095,'Padrão mensagem'!$A$3:$B$67,2,0)","v":"Conexão Marítima        -        (47) 3405-2260  |  E-mail: atendimento.vazios@cmaritima.com.br "}]
["BRNVT","45RT","HLBU9562810","Nao","Conexão",{"$f":"VLOOKUP(E17123,'Padrão mensagem'!$A$3:$B$67,2,0)","v":"Conexão Marítima        -        (47) 3405-2260  |  E-mail: atendimento.vazios@cmaritima.com.br "}]
["BRIOA","45RT","HLBU9287576","Nao","DET IOA",{"$f":"VLOOKUP(E17172,'Padrão mensagem'!$A$3:$B$67,2,0)","v":"DET Itapoá - contato: planejamento@detterminal.com.br / (47)33057710 - 33057711"}]
["BRNVT","45RT","SEGU9381078","Nao","Conexão",{"$f":"VLOOKUP(E17182,'Padrão mensagem'!$A$3:$B$67,2,0)","v":"Conexão Marítima        -        (47) 3405-2260  |  E-mail: atendimento.vazios@cmaritima.com.br "}]
["BRNVT","22GP","HLBU3794969","Nao","ALS ITAJAI ",{"$f":"VLOOKUP(E17240,'Padrão mensagem'!$A$3:$B$67,2,0)","v":"ALS - Avenida Governador Adolfo Konder, nº 2600, bairro São Vicente, Itajaí/SC, CEP 88308-004 (antigo Rogério Philippi ITJ)"}]
["BRNVT","45RT","HLBU9595898","Nao","Conexão",{"$f":"VLOOKUP(E17259,'Padrão mensagem'!$A$3:$B$67,2,0)","v":"Conexão Marítima        -        (47) 3405-2260  |  E-mail: atendimento.vazios@cmaritima.com.br "}]
["BRNVT","45RT","HLBU9873643","Nao","Conexão",{"$f":"VLOOKUP(E17302,'Padrão mensagem'!$A$3:$B$67,2,0)","v":"Conexão Marítima        -        (47) 3405-2260  |  E-mail: atendimento.vazios@cmaritima.com.br "}]
["BRNVT","45RT","HLBU9624384","Nao","Conexão",{"$f":"VLOOKUP(E17341,'Padrão mensagem'!$A$3:$B$67,2,0)","v":"Conexão Marítima        -        (47) 3405-2260  |  E-mail: atendimento.vazios@cmaritima.com.br "}]
["BRITJ","45GP","FSCU7239090","Nao","ALS ITAJAI ",{"$f":"VLOOKUP(E17375,'Padrão mensagem'!$A$3:$B$67,2,0)","v":"ALS - Avenida Governador Adolfo Konder, nº 2600, bairro São Vicente, Itajaí/SC, CEP 88308-004 (antigo Rogério Philippi ITJ)"}]
["BRNVT","45GP","DFSU7045588","Nao","ALS ITAJAI ",{"$f":"VLOOKUP(E17389,'Padrão mensagem'!$A$3:$B$67,2,0)","v":"ALS - Avenida Governador Adolfo Konder, nº 2600, bairro São Vicente, Itajaí/SC, CEP 88308-004 (antigo Rogério Philippi ITJ)"}]
["BRIOA","45GP","FANU1941661","Nao","VMG ITAPOA",{"$f":"VLOOKUP(E17428,'Padrão mensagem'!$A$3:$B$67,2,0)","v":"depot.ioa@elitecargas.com"}]
["BRNVT","22GP","HAMU1052549","Nao","ALS ITAJAI ",{"$f":"VLOOKUP(E17460,'Padrão mensagem'!$A$3:$B$67,2,0)","v":"ALS - Avenida Governador Adolfo Konder, nº 2600, bairro São Vicente, Itajaí/SC, CEP 88308-004 (antigo Rogério Philippi ITJ)"}]
["BRNVT","45GP","HLBU2053576","Nao","ALS ITAJAI ",{"$f":"VLOOKUP(E17476,'Padrão mensagem'!$A$3:$B$67,2,0)","v":"ALS - Avenida Governador Adolfo Konder, nº 2600, bairro São Vicente, Itajaí/SC, CEP 88308-004 (antigo Rogério Philippi ITJ)"}]
["BRNVT","45GP","HLXU8075190","Nao","ALS ITAJAI ",{"$f":"VLOOKUP(E17519,'Padrão mensagem'!$A$3:$B$67,2,0)","v":"ALS - Avenida Governador Adolfo Konder, nº 2600, bairro São Vicente, Itajaí/SC, CEP 88308-004 (antigo Rogério Philippi ITJ)"}]
["BRNVT","45RT","HLBU6114540","Nao","Conexão",{"$f":"VLOOKUP(E17558,'Padrão mensagem'!$A$3:$B$67,2,0)","v":"Conexão Marítima        -        (47) 3405-2260  |  E-mail: atendimento.vazios@cmaritima.com.br "}]
["BRNVT","45RT","HLBU9323328","Nao","Conexão",{"$f":"VLOOKUP(E17595,'Padrão mensagem'!$A$3:$B$67,2,0)","v":"Conexão Marítima        -        (47) 3405-2260  |  E-mail: atendimento.vazios@cmaritima.com.br "}]
["BRNVT","45RT","HLXU8797382","Nao","Conexão",{"$f":"VLOOKUP(E17606,'Padrão mensagem'!$A$3:$B$67,2,0)","v":"Conexão Marítima        -        (47) 3405-2260  |  E-mail: atendimento.vazios@cmaritima.com.br "}]
["BRNVT","45RT","SZLU9172385","Nao","Conexão",{"$f":"VLOOKUP(E17645,'Padrão mensagem'!$A$3:$B$67,2,0)","v":"Conexão Marítima        -        (47) 3405-2260  |  E-mail: atendimento.vazios@cmaritima.com.br "}]
["BRNVT","45RT","GESU9533860","Nao","Conexão",{"$f":"VLOOKUP(E17680,'Padrão mensagem'!$A$3:$B$67,2,0)","v":"Conexão Marítima        -        (47) 3405-2260  |  E-mail: atendimento.vazios@cmaritima.com.br "}]
["BRIOA","22GP","RFCU2209000","Nao","VMG ITAPOA",{"$f":"VLOOKUP(E17726,'Padrão mensagem'!$A$3:$B$67,2,0)","v":"depot.ioa@elitecargas.com"}]
["BRNVT","45GP","HAMU1313299","Nao","ALS ITAJAI ",{"$f":"VLOOKUP(E17765,'Padrão mensagem'!$A$3:$B$67,2,0)","v":"ALS - Avenida Governador Adolfo Konder, nº 2600, bairro São Vicente, Itajaí/SC, CEP 88308-004 (antigo Rogério Philippi ITJ)"}]
["BRNVT","45GP","FFAU1188847","Nao","ALS ITAJAI ",{"$f":"VLOOKUP(E17775,'Padrão mensagem'!$A$3:$B$67,2,0)","v":"ALS - Avenida Governador Adolfo Konder, nº 2600, bairro São Vicente, Itajaí/SC, CEP 88308-004 (antigo Rogério Philippi ITJ)"}]
["BRNVT","45GP","TCNU3629902","Nao","ALS ITAJAI ",{"$f":"VLOOKUP(E17815,'Padrão mensagem'!$A$3:$B$67,2,0)","v":"ALS - Avenida Governador Adolfo Konder, nº 2600, bairro São Vicente, Itajaí/SC, CEP 88308-004 (antigo Rogério Philippi ITJ)"}]
["BRNVT","45GP","TGBU5866586","Nao","ALS ITAJAI ",{"$f":"VLOOKUP(E17852,'Padrão mensagem'!$A$3:$B$67,2,0)","v":"ALS - Avenida Governador Adolfo Konder, nº 2600, bairro São Vicente, Itajaí/SC, CEP 88308-004 (antigo Rogério Philippi ITJ)"}]
["BRIOA","45RT","HLBU9515629","Nao","DET IOA",{"$f":"VLOOKUP(E17895,'Padrão mensagem'!$A$3:$B$67,2,0)","v":"DET Itapoá - contato: planejamento@detterminal.com.br / (47)33057710 - 33057711"}]
["BRNVT","45GP","HAMU2377575","Nao","ALS ITAJAI ",{"$f":"VLOOKUP(E17932,'Padrão mensagem'!$A$3:$B$67,2,0)","v":"ALS - Avenida Governador Adolfo Konder, nº 2600, bairro São Vicente, Itajaí/SC, CEP 88308-004 (antigo Rogério Philippi ITJ)"}]
["BRNVT","45GP","HAMU2294439","Nao","ALS ITAJAI ",{"$f":"VLOOKUP(E17943,'Padrão mensagem'!$A$3:$B$67,2,0)","v":"ALS - Avenida Governador Adolfo Konder, nº 2600, bairro São Vicente, Itajaí/SC, CEP 88308-004 (antigo Rogério Philippi ITJ)"}]
["BRNVT","45GP","DFSU7501775","Nao","ALS ITAJAI ",{"$f":"VLOOKUP(E17982,'Padrão mensagem'!$A$3:$B$67,2,0)","v":"ALS - Avenida Governador Adolfo Konder, nº 2600, bairro São Vicente, Itajaí/SC, CEP 88308-004 (antigo Rogério Philippi ITJ)"}]
["BRNVT","45GP","TCNU3707440","Nao","ALS ITAJAI ",{"$f":"VLOOKUP(E18021,'Padrão mensagem'!$A$3:$B$67,2,0)","v":"ALS - Avenida Governador Adolfo Konder, nº 2600, bairro São Vicente, Itajaí/SC, CEP 88308-004 (antigo Rogério Philippi ITJ)"}]
["BRNVT","45GP","HLXU8252130","Nao","ALS ITAJAI ",{"$f":"VLOOKUP(E18035,'Padrão mensagem'!$A$3:$B$67,2,0)","v":"ALS - Avenida Governador Adolfo Konder, nº 2600, bairro São Vicente, Itajaí/SC, CEP 88308-004 (antigo Rogério Philippi ITJ)"}]
["BRNVT","45GP","TCNU4656190","Nao","ALS ITAJAI ",{"$f":"VLOOKUP(E18069,'Padrão mensagem'!$A$3:$B$67,2,0)","v":"ALS - Avenida Governador Adolfo Konder, nº 2600, bairro São Vicente, Itajaí/SC, CEP 88308-004 (antigo Rogério Philippi ITJ)"}]
["BRNVT","45GP","GESU6414131","Nao","ALS ITAJAI ",{"$f":"VLOOKUP(E18108,'Padrão mensagem'!$A$3:$B$67,2,0)","v":"ALS - Avenida Governador Adolfo Konder, nº 2600, bairro São Vicente, Itajaí/SC, CEP 88308-004 (antigo Rogério Philippi ITJ)"}]
["BRNVT","45GP","DAYU6112201","Nao","ALS ITAJAI ",{"$f":"VLOOKUP(E18152,'Padrão mensagem'!$A$3:$B$67,2,0)","v":"ALS - Avenida Governador Adolfo Konder, nº 2600, bairro São Vicente, Itajaí/SC, CEP 88308-004 (antigo Rogério Philippi ITJ)"}]
["BRNVT","45GP","HLBU3274313","Nao","ALS ITAJAI ",{"$f":"VLOOKUP(E18189,'Padrão mensagem'!$A$3:$B$67,2,0)","v":"ALS - Avenida Governador Adolfo Konder, nº 2600, bairro São Vicente, Itajaí/SC, CEP 88308-004 (antigo Rogério Philippi ITJ)"}]
["BRNVT","45GP","CAAU5500369","Nao","ALS ITAJAI ",{"$f":"VLOOKUP(E18199,'Padrão mensagem'!$A$3:$B$67,2,0)","v":"ALS - Avenida Governador Adolfo Konder, nº 2600, bairro São Vicente, Itajaí/SC, CEP 88308-004 (antigo Rogério Philippi ITJ)"}]
["BRNVT","45GP","TXGU7354977","Nao","ALS ITAJAI ",{"$f":"VLOOKUP(E18238,'Padrão mensagem'!$A$3:$B$67,2,0)","v":"ALS - Avenida Governador Adolfo Konder, nº 2600, bairro São Vicente, Itajaí/SC, CEP 88308-004 (antigo Rogério Philippi ITJ)"}]
["BRNVT","22GP","HLXU1415750","Nao","ALS ITAJAI ",{"$f":"VLOOKUP(E18287,'Padrão mensagem'!$A$3:$B$67,2,0)","v":"ALS - Avenida Governador Adolfo Konder, nº 2600, bairro São Vicente, Itajaí/SC, CEP 88308-004 (antigo Rogério Philippi ITJ)"}]
["BRIOA","22GP","GLDU5432775","Nao","VMG ITAPOA",{"$f":"VLOOKUP(E18319,'Padrão mensagem'!$A$3:$B$67,2,0)","v":"depot.ioa@elitecargas.com"}]
["BRNVT","45RT","BMOU9269517","Nao","Conexão",{"$f":"VLOOKUP(E18358,'Padrão mensagem'!$A$3:$B$67,2,0)","v":"Conexão Marítima        -        (47) 3405-2260  |  E-mail: atendimento.vazios@cmaritima.com.br "}]
["BRITJ","42GP","TCLU4136708","Nao","ALS ITAJAI ",{"$f":"VLOOKUP(E18372,'Padrão mensagem'!$A$3:$B$67,2,0)","v":"ALS - Avenida Governador Adolfo Konder, nº 2600, bairro São Vicente, Itajaí/SC, CEP 88308-004 (antigo Rogério Philippi ITJ)"}]
["BRNVT","45RT","HLBU6012615","Nao","Conexão",{"$f":"VLOOKUP(E18406,'Padrão mensagem'!$A$3:$B$67,2,0)","v":"Conexão Marítima        -        (47) 3405-2260  |  E-mail: atendimento.vazios@cmaritima.com.br "}]
["BRIOA","45GP","HAMU2097281","Nao","VMG ITAPOA",{"$f":"VLOOKUP(E18445,'Padrão mensagem'!$A$3:$B$67,2,0)","v":"depot.ioa@elitecargas.com"}]
["BRIOA","45RT","HLXU8766592","Nao","DET IOA",{"$f":"VLOOKUP(E18488,'Padrão mensagem'!$A$3:$B$67,2,0)","v":"DET Itapoá - contato: planejamento@detterminal.com.br / (47)33057710 - 33057711"}]
["BRIOA","45RT","HLBU9265767","Nao","DET IOA",{"$f":"VLOOKUP(E18507,'Padrão mensagem'!$A$3:$B$67,2,0)","v":"DET Itapoá - contato: planejamento@detterminal.com.br / (47)33057710 - 33057711"}]
["BRNVT","45GP","HAMU2771378","Nao","ALS ITAJAI ",{"$f":"VLOOKUP(E18532,'Padrão mensagem'!$A$3:$B$67,2,0)","v":"ALS - Avenida Governador Adolfo Konder, nº 2600, bairro São Vicente, Itajaí/SC, CEP 88308-004 (antigo Rogério Philippi ITJ)"}]
["BRIOA","45RT","HLBU9892999","Nao","DET IOA",{"$f":"VLOOKUP(E18575,'Padrão mensagem'!$A$3:$B$67,2,0)","v":"DET Itapoá - contato: planejamento@detterminal.com.br / (47)33057710 - 33057711"}]
["BRITJ","45GP","HAMU2500442","Nao","ALS ITAJAI ",{"$f":"VLOOKUP(E18592,'Padrão mensagem'!$A$3:$B$67,2,0)","v":"ALS - Avenida Governador Adolfo Konder, nº 2600, bairro São Vicente, Itajaí/SC, CEP 88308-004 (antigo Rogério Philippi ITJ)"}]
["BRIOA","45GP","FSCU7235475","Nao","VMG ITAPOA",{"$f":"VLOOKUP(E18623,'Padrão mensagem'!$A$3:$B$67,2,0)","v":"depot.ioa@elitecargas.com"}]
["BRNVT","22GP","GCXU2321424","Nao","ALS ITAJAI ",{"$f":"VLOOKUP(E18662,'Padrão mensagem'!$A$3:$B$67,2,0)","v":"ALS - Avenida Governador Adolfo Konder, nº 2600, bairro São Vicente, Itajaí/SC, CEP 88308-004 (antigo Rogério Philippi ITJ)"}]
["BRNVT","22GP","CAIU3461707","Nao","ALS ITAJAI ",{"$f":"VLOOKUP(E18701,'Padrão mensagem'!$A$3:$B$67,2,0)","v":"ALS - Avenida Governador Adolfo Konder, nº 2600, bairro São Vicente, Itajaí/SC, CEP 88308-004 (antigo Rogério Philippi ITJ)"}]
["BRIOA","22GP","CAAU2261152","Nao","VMG ITAPOA",{"$f":"VLOOKUP(E18727,'Padrão mensagem'!$A$3:$B$67,2,0)","v":"depot.ioa@elitecargas.com"}]
["BRNVT","45GP","FCIU7491626","Nao","ALS ITAJAI ",{"$f":"VLOOKUP(E18782,'Padrão mensagem'!$A$3:$B$67,2,0)","v":"ALS - Avenida Governador Adolfo Konder, nº 2600, bairro São Vicente, Itajaí/SC, CEP 88308-004 (antigo Rogério Philippi ITJ)"}]
["BRNVT","22GP","HAMU1032497","Nao","ALS ITAJAI ",{"$f":"VLOOKUP(E18788,'Padrão mensagem'!$A$3:$B$67,2,0)","v":"ALS - Avenida Governador Adolfo Konder, nº 2600, bairro São Vicente, Itajaí/SC, CEP 88308-004 (antigo Rogério Philippi ITJ)"}]
["BRNVT","45GP","UACU5647208","Nao","ALS ITAJAI ",{"$f":"VLOOKUP(E18844,'Padrão mensagem'!$A$3:$B$67,2,0)","v":"ALS - Avenida Governador Adolfo Konder, nº 2600, bairro São Vicente, Itajaí/SC, CEP 88308-004 (antigo Rogério Philippi ITJ)"}]
["BRRIO","45GP","TGBU9635857","Nao","GT Minas - Caju",{"$f":"VLOOKUP(E18869,'Padrão mensagem'!$A$3:$B$67,2,0)","v":"Depot GT Minas - (21) 99934-6219 | E-mail: depotrj@gtminas.com.br"}]
["BRRIO","45GP","FFAU1791887","Nao","GT Minas - Caju",{"$f":"VLOOKUP(E18912,'Padrão mensagem'!$A$3:$B$67,2,0)","v":"Depot GT Minas - (21) 99934-6219 | E-mail: depotrj@gtminas.com.br"}]
["BRRIO","45GP","HLBU2069192","Nao","GT Minas - Caju",{"$f":"VLOOKUP(E18918,'Padrão mensagem'!$A$3:$B$67,2,0)","v":"Depot GT Minas - (21) 99934-6219 | E-mail: depotrj@gtminas.com.br"}]
["BRRIO","22GP","SEGU3642657","Nao","GT Minas - Caju",{"$f":"VLOOKUP(E18979,'Padrão mensagem'!$A$3:$B$67,2,0)","v":"Depot GT Minas - (21) 99934-6219 | E-mail: depotrj@gtminas.com.br"}]
["BRRIO","45RT","HLBU6073591","Nao","Tracker",{"$f":"VLOOKUP(E18999,'Padrão mensagem'!$A$3:$B$67,2,0)","v":"Tracker Logística - (21) 96737 - 0922 / (21) 3889 - 7676 |  E-mails: depot@itracker.com.br"}]
["BRRIO","22GP","UACU3832681","Nao","GT Minas - Caju",{"$f":"VLOOKUP(E19038,'Padrão mensagem'!$A$3:$B$67,2,0)","v":"Depot GT Minas - (21) 99934-6219 | E-mail: depotrj@gtminas.com.br"}]
["BRRIO","22GP","UACU3801628","Nao","GT Minas - Caju",{"$f":"VLOOKUP(E19048,'Padrão mensagem'!$A$3:$B$67,2,0)","v":"Depot GT Minas - (21) 99934-6219 | E-mail: depotrj@gtminas.com.br"}]
["BRRIO","22GP","HLXU1105991","Nao","GT Minas - Caju",{"$f":"VLOOKUP(E19082,'Padrão mensagem'!$A$3:$B$67,2,0)","v":"Depot GT Minas - (21) 99934-6219 | E-mail: depotrj@gtminas.com.br"}]
["BRRIO","22GP","NYKU3317580","Nao","GT Minas - Caju",{"$f":"VLOOKUP(E19125,'Padrão mensagem'!$A$3:$B$67,2,0)","v":"Depot GT Minas - (21) 99934-6219 | E-mail: depotrj@gtminas.com.br"}]
["BRRIO","45RT","HLBU9947978","Nao","Tracker",{"$f":"VLOOKUP(E19168,'Padrão mensagem'!$A$3:$B$67,2,0)","v":"Tracker Logística - (21) 96737 - 0922 / (21) 3889 - 7676 |  E-mails: depot@itracker.com.br"}]
["BRRIO","45GP","HLBU2466841","Nao","GT Minas - Caju",{"$f":"VLOOKUP(E19199,'Padrão mensagem'!$A$3:$B$67,2,0)","v":"Depot GT Minas - (21) 99934-6219 | E-mail: depotrj@gtminas.com.br"}]
["BRRIO","45GP","TCLU5144797","Nao","GT Minas - Caju",{"$f":"VLOOKUP(E19212,'Padrão mensagem'!$A$3:$B$67,2,0)","v":"Depot GT Minas - (21) 99934-6219 | E-mail: depotrj@gtminas.com.br"}]
["BRRIO","45GP","HLXU8104338","Nao","GT Minas - Caju",{"$f":"VLOOKUP(E19255,'Padrão mensagem'!$A$3:$B$67,2,0)","v":"Depot GT Minas - (21) 99934-6219 | E-mail: depotrj@gtminas.com.br"}]
["BRRIO","22GP","HLBU1186635","Nao","GT Minas - Caju",{"$f":"VLOOKUP(E19294,'Padrão mensagem'!$A$3:$B$67,2,0)","v":"Depot GT Minas - (21) 99934-6219 | E-mail: depotrj@gtminas.com.br"}]
["BRRIO","22GP","UACU3826903","Nao","GT Minas - Caju",{"$f":"VLOOKUP(E19334,'Padrão mensagem'!$A$3:$B$67,2,0)","v":"Depot GT Minas - (21) 99934-6219 | E-mail: depotrj@gtminas.com.br"}]
["BRRIO","45GP","HLXU8009027","Nao","GT Minas - Caju",{"$f":"VLOOKUP(E19342,'Padrão mensagem'!$A$3:$B$67,2,0)","v":"Depot GT Minas - (21) 99934-6219 | E-mail: depotrj@gtminas.com.br"}]
["BRRIO","45RT","HLBU9318893","Nao","Tracker",{"$f":"VLOOKUP(E19381,'Padrão mensagem'!$A$3:$B$67,2,0)","v":"Tracker Logística - (21) 96737 - 0922 / (21) 3889 - 7676 |  E-mails: depot@itracker.com.br"}]
["BRRIO","22GP","BMOU2822981","Nao","GT Minas - Caju",{"$f":"VLOOKUP(E19419,'Padrão mensagem'!$A$3:$B$67,2,0)","v":"Depot GT Minas - (21) 99934-6219 | E-mail: depotrj@gtminas.com.br"}]
["BRRIO","45RT","HLBU9864955","Nao","Tracker",{"$f":"VLOOKUP(E19462,'Padrão mensagem'!$A$3:$B$67,2,0)","v":"Tracker Logística - (21) 96737 - 0922 / (21) 3889 - 7676 |  E-mails: depot@itracker.com.br"}]
["BRRIO","22GP","CAIU3678307","Nao","GT Minas - Caju",{"$f":"VLOOKUP(E19501,'Padrão mensagem'!$A$3:$B$67,2,0)","v":"Depot GT Minas - (21) 99934-6219 | E-mail: depotrj@gtminas.com.br"}]
["BRRIO","22GP","UETU2804340","Nao","GT Minas - Caju",{"$f":"VLOOKUP(E19511,'Padrão mensagem'!$A$3:$B$67,2,0)","v":"Depot GT Minas - (21) 99934-6219 | E-mail: depotrj@gtminas.com.br"}]
["BRRIO","22GP","CAIU3280859","Nao","GT Minas - Caju",{"$f":"VLOOKUP(E19554,'Padrão mensagem'!$A$3:$B$67,2,0)","v":"Depot GT Minas - (21) 99934-6219 | E-mail: depotrj@gtminas.com.br"}]
["BRRIO","42GP","UACU8486489","Nao","Klog",{"$f":"VLOOKUP(E19592,'Padrão mensagem'!$A$3:$B$67,2,0)","v":"Depot Klog - (21) 2018-4700 | E-mails : demilson.rosa@kloglogistica.com.br / controle@kloglogistica.com.br / gate@kloglogistica.com.br"}]
["BRRIO","45GP","FCIU7617150","Nao","GT Minas - Caju",{"$f":"VLOOKUP(E19631,'Padrão mensagem'!$A$3:$B$67,2,0)","v":"Depot GT Minas - (21) 99934-6219 | E-mail: depotrj@gtminas.com.br"}]
["BRRIO","22GP","UACU4157485","Nao","GT Minas - Caju",{"$f":"VLOOKUP(E19639,'Padrão mensagem'!$A$3:$B$67,2,0)","v":"Depot GT Minas - (21) 99934-6219 | E-mail: depotrj@gtminas.com.br"}]
["BRRIO","45GP","BEAU4162584","Nao","GT Minas - Caju",{"$f":"VLOOKUP(E19679,'Padrão mensagem'!$A$3:$B$67,2,0)","v":"Depot GT Minas - (21) 99934-6219 | E-mail: depotrj@gtminas.com.br"}]
["BRRIO","45GP","HLXU8339395","Nao","GT Minas - Caju",{"$f":"VLOOKUP(E19718,'Padrão mensagem'!$A$3:$B$67,2,0)","v":"Depot GT Minas - (21) 99934-6219 | E-mail: depotrj@gtminas.com.br"}]
["BRRIO","45RT","TEMU9056710","Nao","Tracker",{"$f":"VLOOKUP(E19761,'Padrão mensagem'!$A$3:$B$67,2,0)","v":"Tracker Logística - (21) 96737 - 0922 / (21) 3889 - 7676 |  E-mails: depot@itracker.com.br"}]
["BRRIO","22GP","CAIU3281238","Nao","GT Minas - Caju",{"$f":"VLOOKUP(E19774,'Padrão mensagem'!$A$3:$B$67,2,0)","v":"Depot GT Minas - (21) 99934-6219 | E-mail: depotrj@gtminas.com.br"}]
["BRRIO","22GP","FTAU1562698","Nao","GT Minas - Caju",{"$f":"VLOOKUP(E19805,'Padrão mensagem'!$A$3:$B$67,2,0)","v":"Depot GT Minas - (21) 99934-6219 | E-mail: depotrj@gtminas.com.br"}]
["BRRIO","22GP","BEAU2203832","Nao","GT Minas - Caju",{"$f":"VLOOKUP(E19848,'Padrão mensagem'!$A$3:$B$67,2,0)","v":"Depot GT Minas - (21) 99934-6219 | E-mail: depotrj@gtminas.com.br"}]
["BRRIO","45RT","HLXU8794378","Nao","Tracker",{"$f":"VLOOKUP(E19891,'Padrão mensagem'!$A$3:$B$67,2,0)","v":"Tracker Logística - (21) 96737 - 0922 / (21) 3889 - 7676 |  E-mails: depot@itracker.com.br"}]
["BRRIO","22GP","CAAU2339190","Nao","GT Minas - Caju",{"$f":"VLOOKUP(E19925,'Padrão mensagem'!$A$3:$B$67,2,0)","v":"Depot GT Minas - (21) 99934-6219 | E-mail: depotrj@gtminas.com.br"}]
["BRRIO","45GP","HLXU8525548","Nao","GT Minas - Caju",{"$f":"VLOOKUP(E19935,'Padrão mensagem'!$A$3:$B$67,2,0)","v":"Depot GT Minas - (21) 99934-6219 | E-mail: depotrj@gtminas.com.br"}]
["BRRIO","22GP","TGBU2161397","Nao","GT Minas - Caju",{"$f":"VLOOKUP(E19974,'Padrão mensagem'!$A$3:$B$67,2,0)","v":"Depot GT Minas - (21) 99934-6219 | E-mail: depotrj@gtminas.com.br"}]
["BRRIO","22GP","FCIU6290210","Nao","GT Minas - Caju",{"$f":"VLOOKUP(E20026,'Padrão mensagem'!$A$3:$B$67,2,0)","v":"Depot GT Minas - (21) 99934-6219 | E-mail: depotrj@gtminas.com.br"}]
["BRRIO","45GP","HLBU3220127","Nao","GT Minas - Caju",{"$f":"VLOOKUP(E20055,'Padrão mensagem'!$A$3:$B$67,2,0)","v":"Depot GT Minas - (21) 99934-6219 | E-mail: depotrj@gtminas.com.br"}]
["BRRIO","45GP","GCXU5984170","Nao","GT Minas - Caju",{"$f":"VLOOKUP(E20061,'Padrão mensagem'!$A$3:$B$67,2,0)","v":"Depot GT Minas - (21) 99934-6219 | E-mail: depotrj@gtminas.com.br"}]
["BRRIO","42GP","TCLU4384690","Nao","Klog",{"$f":"VLOOKUP(E20111,'Padrão mensagem'!$A$3:$B$67,2,0)","v":"Depot Klog - (21) 2018-4700 | E-mails : demilson.rosa@kloglogistica.com.br / controle@kloglogistica.com.br / gate@kloglogistica.com.br"}]
["BRRIO","45GP","UETU6391007","Nao","GT Minas - Caju",{"$f":"VLOOKUP(E20142,'Padrão mensagem'!$A$3:$B$67,2,0)","v":"Depot GT Minas - (21) 99934-6219 | E-mail: depotrj@gtminas.com.br"}]
["BRRIO","22GP","LBSU1530550","Nao","GT Minas - Caju",{"$f":"VLOOKUP(E20181,'Padrão mensagem'!$A$3:$B$67,2,0)","v":"Depot GT Minas - (21) 99934-6219 | E-mail: depotrj@gtminas.com.br"}]
["BRRIO","45GP","SEKU6417145","Nao","GT Minas - Caju",{"$f":"VLOOKUP(E20191,'Padrão mensagem'!$A$3:$B$67,2,0)","v":"Depot GT Minas - (21) 99934-6219 | E-mail: depotrj@gtminas.com.br"}]
["BRRIO","45GP","GESU6197951","Nao","GT Minas - Caju",{"$f":"VLOOKUP(E20246,'Padrão mensagem'!$A$3:$B$67,2,0)","v":"Depot GT Minas - (21) 99934-6219 | E-mail: depotrj@gtminas.com.br"}]
["BRRIO","45GP","HLBU3148357","Nao","GT Minas - Caju",{"$f":"VLOOKUP(E20272,'Padrão mensagem'!$A$3:$B$67,2,0)","v":"Depot GT Minas - (21) 99934-6219 | E-mail: depotrj@gtminas.com.br"}]
["BRRIO","45GP","HAMU1327179","Nao","GT Minas - Caju",{"$f":"VLOOKUP(E20311,'Padrão mensagem'!$A$3:$B$67,2,0)","v":"Depot GT Minas - (21) 99934-6219 | E-mail: depotrj@gtminas.com.br"}]
["BRRIO","22GP","SEGU3607379","Nao","GT Minas - Caju",{"$f":"VLOOKUP(E20331,'Padrão mensagem'!$A$3:$B$67,2,0)","v":"Depot GT Minas - (21) 99934-6219 | E-mail: depotrj@gtminas.com.br"}]
["BRRIO","22GP","FCIU6606844","Nao","GT Minas - Caju",{"$f":"VLOOKUP(E20359,'Padrão mensagem'!$A$3:$B$67,2,0)","v":"Depot GT Minas - (21) 99934-6219 | E-mail: depotrj@gtminas.com.br"}]
["BRRIO","22GP","TEMU1483362","Nao","GT Minas - Caju",{"$f":"VLOOKUP(E20398,'Padrão mensagem'!$A$3:$B$67,2,0)","v":"Depot GT Minas - (21) 99934-6219 | E-mail: depotrj@gtminas.com.br"}]
["BRVIX","45RT","HLBU9379184","Nao","Tracker",{"$f":"VLOOKUP(E20441,'Padrão mensagem'!$A$3:$B$67,2,0)","v":"Tracker Logística - (21) 96737 - 0922 / (21) 3889 - 7676 |  E-mails: depot@itracker.com.br"}]
["BRRIO","45GP","HLXU8050139","Nao","GT Minas - Caju",{"$f":"VLOOKUP(E20466,'Padrão mensagem'!$A$3:$B$67,2,0)","v":"Depot GT Minas - (21) 99934-6219 | E-mail: depotrj@gtminas.com.br"}]
["BRRIO","45GP","FANU3244199","Nao","GT Minas - Caju",{"$f":"VLOOKUP(E20485,'Padrão mensagem'!$A$3:$B$67,2,0)","v":"Depot GT Minas - (21) 99934-6219 | E-mail: depotrj@gtminas.com.br"}]
["BRRIO","22GP","HLBU2373672","Nao","GT Minas - Caju",{"$f":"VLOOKUP(E20528,'Padrão mensagem'!$A$3:$B$67,2,0)","v":"Depot GT Minas - (21) 99934-6219 | E-mail: depotrj@gtminas.com.br"}]
["BRRIO","45GP","CAIU4219107","Nao","GT Minas - Caju",{"$f":"VLOOKUP(E20551,'Padrão mensagem'!$A$3:$B$67,2,0)","v":"Depot GT Minas - (21) 99934-6219 | E-mail: depotrj@gtminas.com.br"}]
["BRRIO","45GP","FANU3736666","Nao","GT Minas - Caju",{"$f":"VLOOKUP(E20605,'Padrão mensagem'!$A$3:$B$67,2,0)","v":"Depot GT Minas - (21) 99934-6219 | E-mail: depotrj@gtminas.com.br"}]
["BRRIO","22GP","CAIU2675540","Nao","GT Minas - Caju",{"$f":"VLOOKUP(E20648,'Padrão mensagem'!$A$3:$B$67,2,0)","v":"Depot GT Minas - (21) 99934-6219 | E-mail: depotrj@gtminas.com.br"}]
["BRRIO","45GP","FANU1188590","Nao","GT Minas - Caju",{"$f":"VLOOKUP(E20654,'Padrão mensagem'!$A$3:$B$67,2,0)","v":"Depot GT Minas - (21) 99934-6219 | E-mail: depotrj@gtminas.com.br"}]
["BRRIO","22GP","BSIU2979596","Nao","GT Minas - Caju",{"$f":"VLOOKUP(E20686,'Padrão mensagem'!$A$3:$B$67,2,0)","v":"Depot GT Minas - (21) 99934-6219 | E-mail: depotrj@gtminas.com.br"}]
["BRRIO","22GP","FCIU2545550","Nao","GT Minas - Caju",{"$f":"VLOOKUP(E20735,'Padrão mensagem'!$A$3:$B$67,2,0)","v":"Depot GT Minas - (21) 99934-6219 | E-mail: depotrj@gtminas.com.br"}]
["BRRIO","22GP","XINU1426270","Nao","GT Minas - Caju",{"$f":"VLOOKUP(E20774,'Padrão mensagem'!$A$3:$B$67,2,0)","v":"Depot GT Minas - (21) 99934-6219 | E-mail: depotrj@gtminas.com.br"}]
["BRRIO","22GP","HLBU3754375","Nao","GT Minas - Caju",{"$f":"VLOOKUP(E20803,'Padrão mensagem'!$A$3:$B$67,2,0)","v":"Depot GT Minas - (21) 99934-6219 | E-mail: depotrj@gtminas.com.br"}]
["BRRIO","45RT","HLBU9127264","Nao","Tracker",{"$f":"VLOOKUP(E20822,'Padrão mensagem'!$A$3:$B$67,2,0)","v":"Tracker Logística - (21) 96737 - 0922 / (21) 3889 - 7676 |  E-mails: depot@itracker.com.br"}]
["BRRIO","45UT","HLBU8077554","Nao","Klog",{"$f":"VLOOKUP(E20865,'Padrão mensagem'!$A$3:$B$67,2,0)","v":"Depot Klog - (21) 2018-4700 | E-mails : demilson.rosa@kloglogistica.com.br / controle@kloglogistica.com.br / gate@kloglogistica.com.br"}]
["BRVIX","22GP","HLBU1822470","Nao","GT Minas - Caju",{"$f":"VLOOKUP(E20904,'Padrão mensagem'!$A$3:$B$67,2,0)","v":"Depot GT Minas - (21) 99934-6219 | E-mail: depotrj@gtminas.com.br"}]
["BRRIO","42UT","TEXU1536379","Nao","Klog",{"$f":"VLOOKUP(E20938,'Padrão mensagem'!$A$3:$B$67,2,0)","v":"Depot Klog - (21) 2018-4700 | E-mails : demilson.rosa@kloglogistica.com.br / controle@kloglogistica.com.br / gate@kloglogistica.com.br"}]
["BRSSZ","45GP","TCLU8560020","Nao","Transtec Sts",{"$f":"VLOOKUP(E20952,'Padrão mensagem'!$A$3:$B$67,2,0)","v":"Transtec Santos        -        (13) 3295-9595 / 4010-4316  |  operacional@transtecworld.com"}]
["BRSSZ","42GP","UACU8443511","Nao","Transtec Sts",{"$f":"VLOOKUP(E20991,'Padrão mensagem'!$A$3:$B$67,2,0)","v":"Transtec Santos        -        (13) 3295-9595 / 4010-4316  |  operacional@transtecworld.com"}]
["BRSSZ","45GP","UACU5799052","Nao","Transtec Sts",{"$f":"VLOOKUP(E21030,'Padrão mensagem'!$A$3:$B$67,2,0)","v":"Transtec Santos        -        (13) 3295-9595 / 4010-4316  |  operacional@transtecworld.com"}]
["BRSSZ","45GP","TLLU5347241","Nao","Transtec Sts",{"$f":"VLOOKUP(E21073,'Padrão mensagem'!$A$3:$B$67,2,0)","v":"Transtec Santos        -        (13) 3295-9595 / 4010-4316  |  operacional@transtecworld.com"}]
["BRSSZ","45GP","TCNU3765766","Nao","Transtec Sts",{"$f":"VLOOKUP(E21078,'Padrão mensagem'!$A$3:$B$67,2,0)","v":"Transtec Santos        -        (13) 3295-9595 / 4010-4316  |  operacional@transtecworld.com"}]
["BRSSZ","45GP","TLLU5344849","Nao","Transtec Sts",{"$f":"VLOOKUP(E21121,'Padrão mensagem'!$A$3:$B$67,2,0)","v":"Transtec Santos        -        (13) 3295-9595 / 4010-4316  |  operacional@transtecworld.com"}]
["BRSSZ","45GP","FANU1046830","Nao","Transtec Sts",{"$f":"VLOOKUP(E21158,'Padrão mensagem'!$A$3:$B$67,2,0)","v":"Transtec Santos        -        (13) 3295-9595 / 4010-4316  |  operacional@transtecworld.com"}]
["BRSSZ","22GP","TEMU4905245","Nao","Transtec Sts",{"$f":"VLOOKUP(E21198,'Padrão mensagem'!$A$3:$B$67,2,0)","v":"Transtec Santos        -        (13) 3295-9595 / 4010-4316  |  operacional@transtecworld.com"}]
["BRSSZ","45GP","FANU1038877","Nao","Transtec Sts",{"$f":"VLOOKUP(E21208,'Padrão mensagem'!$A$3:$B$67,2,0)","v":"Transtec Santos        -        (13) 3295-9595 / 4010-4316  |  operacional@transtecworld.com"}]
["BRSSZ","45GP","FSCU8420288","Nao","Transtec Sts",{"$f":"VLOOKUP(E21247,'Padrão mensagem'!$A$3:$B$67,2,0)","v":"Transtec Santos        -        (13) 3295-9595 / 4010-4316  |  operacional@transtecworld.com"}]
["BRSSZ","42GP","UACU8601031","Nao","Transtec Sts",{"$f":"VLOOKUP(E21293,'Padrão mensagem'!$A$3:$B$67,2,0)","v":"Transtec Santos        -        (13) 3295-9595 / 4010-4316  |  operacional@transtecworld.com"}]
["BRSSZ","45GP","HAMU1382010","Nao","Transtec Sts",{"$f":"VLOOKUP(E21328,'Padrão mensagem'!$A$3:$B$67,2,0)","v":"Transtec Santos        -        (13) 3295-9595 / 4010-4316  |  operacional@transtecworld.com"}]
["BRSSZ","45RT","SEGU9099660","Nao","Off Hire SZ",{"$f":"VLOOKUP(E21367,'Padrão mensagem'!$A$3:$B$67,2,0)","v":"Entrar em contato pelo email: logistic.santos@hlag.com "}]
["BRSSZ","22GP","HLBU1336015","Nao","Transtec Sts",{"$f":"VLOOKUP(E21378,'Padrão mensagem'!$A$3:$B$67,2,0)","v":"Transtec Santos        -        (13) 3295-9595 / 4010-4316  |  operacional@transtecworld.com"}]
["BRSSZ","45GP","HAMU2328740","Nao","Transtec Sts",{"$f":"VLOOKUP(E21415,'Padrão mensagem'!$A$3:$B$67,2,0)","v":"Transtec Santos        -        (13) 3295-9595 / 4010-4316  |  operacional@transtecworld.com"}]
["BRSSZ","25UT","QNNU1242960","Nao","Transtec Sts",{"$f":"VLOOKUP(E21454,'Padrão mensagem'!$A$3:$B$67,2,0)","v":"Transtec Santos        -        (13) 3295-9595 / 4010-4316  |  operacional@transtecworld.com"}]
["BRSSZ","45RT","HLBU9969684","Nao","Off Hire SZ",{"$f":"VLOOKUP(E21497,'Padrão mensagem'!$A$3:$B$67,2,0)","v":"Entrar em contato pelo email: logistic.santos@hlag.com "}]
["BRSSZ","45RT","HLBU9895724","Nao","Off Hire SZ",{"$f":"VLOOKUP(E21513,'Padrão mensagem'!$A$3:$B$67,2,0)","v":"Entrar em contato pelo email: logistic.santos@hlag.com "}]
["BRSSZ","45RT","HLBU6107140","Nao","Off Hire SZ",{"$f":"VLOOKUP(E21545,'Padrão mensagem'!$A$3:$B$67,2,0)","v":"Entrar em contato pelo email: logistic.santos@hlag.com "}]
["BRSSZ","45RT","HLBU6110231","Nao","Off Hire SZ",{"$f":"VLOOKUP(E21584,'Padrão mensagem'!$A$3:$B$67,2,0)","v":"Entrar em contato pelo email: logistic.santos@hlag.com "}]
["BRSSZ","45RT","UACU4795432","Nao","Off Hire SZ",{"$f":"VLOOKUP(E21598,'Padrão mensagem'!$A$3:$B$67,2,0)","v":"Entrar em contato pelo email: logistic.santos@hlag.com "}]
["BRSSZ","45RT","HLBU6084750","Nao","Off Hire SZ",{"$f":"VLOOKUP(E21632,'Padrão mensagem'!$A$3:$B$67,2,0)","v":"Entrar em contato pelo email: logistic.santos@hlag.com "}]
["BRSSZ","22GP","HLXU1254660","Nao","Transtec Sts",{"$f":"VLOOKUP(E21671,'Padrão mensagem'!$A$3:$B$67,2,0)","v":"Transtec Santos        -        (13) 3295-9595 / 4010-4316  |  operacional@transtecworld.com"}]
["BRSSZ","45GP","CAIU9422380","Nao","Transtec Sts",{"$f":"VLOOKUP(E21710,'Padrão mensagem'!$A$3:$B$67,2,0)","v":"Transtec Santos        -        (13) 3295-9595 / 4010-4316  |  operacional@transtecworld.com"}]
["BRSSZ","45GP","FANU1254048","Nao","Transtec Sts",{"$f":"VLOOKUP(E21733,'Padrão mensagem'!$A$3:$B$67,2,0)","v":"Transtec Santos        -        (13) 3295-9595 / 4010-4316  |  operacional@transtecworld.com"}]
["BRSSZ","45GP","HAMU2329129","Nao","Transtec Sts",{"$f":"VLOOKUP(E21791,'Padrão mensagem'!$A$3:$B$67,2,0)","v":"Transtec Santos        -        (13) 3295-9595 / 4010-4316  |  operacional@transtecworld.com"}]
["BRSSZ","45GP","HLBU2567770","Nao","Transtec Sts",{"$f":"VLOOKUP(E21801,'Padrão mensagem'!$A$3:$B$67,2,0)","v":"Transtec Santos        -        (13) 3295-9595 / 4010-4316  |  operacional@transtecworld.com"}]
["BRSSZ","45GP","GESU5928141","Nao","Off Hire SZ",{"$f":"VLOOKUP(E21850,'Padrão mensagem'!$A$3:$B$67,2,0)","v":"Entrar em contato pelo email: logistic.santos@hlag.com "}]
["BRSSZ","45GP","HLBU2679169","Nao","Transtec Sts",{"$f":"VLOOKUP(E21878,'Padrão mensagem'!$A$3:$B$67,2,0)","v":"Transtec Santos        -        (13) 3295-9595 / 4010-4316  |  operacional@transtecworld.com"}]
["BRSSZ","45GP","TGBU5805662","Nao","Transtec Sts",{"$f":"VLOOKUP(E21921,'Padrão mensagem'!$A$3:$B$67,2,0)","v":"Transtec Santos        -        (13) 3295-9595 / 4010-4316  |  operacional@transtecworld.com"}]
["BRSSZ","45GP","HLXU8020767","Nao","Transtec Sts",{"$f":"VLOOKUP(E21927,'Padrão mensagem'!$A$3:$B$67,2,0)","v":"Transtec Santos        -        (13) 3295-9595 / 4010-4316  |  operacional@transtecworld.com"}]
["BRSSZ","42GP","UACU8599438","Nao","Transtec Sts",{"$f":"VLOOKUP(E21985,'Padrão mensagem'!$A$3:$B$67,2,0)","v":"Transtec Santos        -        (13) 3295-9595 / 4010-4316  |  operacional@transtecworld.com"}]
["BRSSZ","45RT","HLBU6142012","Nao","Off Hire SZ",{"$f":"VLOOKUP(E22008,'Padrão mensagem'!$A$3:$B$67,2,0)","v":"Entrar em contato pelo email: logistic.santos@hlag.com "}]
["BRSSZ","45RT","HLBU6136426","Nao","Off Hire SZ",{"$f":"VLOOKUP(E22047,'Padrão mensagem'!$A$3:$B$67,2,0)","v":"Entrar em contato pelo email: logistic.santos@hlag.com "}]
["BRSSZ","45RT","HLBU9765211","Nao","Off Hire SZ",{"$f":"VLOOKUP(E22070,'Padrão mensagem'!$A$3:$B$67,2,0)","v":"Entrar em contato pelo email: logistic.santos@hlag.com "}]
["BRSSZ","45RT","GESU9505003","Nao","Off Hire SZ",{"$f":"VLOOKUP(E22095,'Padrão mensagem'!$A$3:$B$67,2,0)","v":"Entrar em contato pelo email: logistic.santos@hlag.com "}]
["BRSSZ","22GP","UACU3441305","Nao","Transtec Sts",{"$f":"VLOOKUP(E22134,'Padrão mensagem'!$A$3:$B$67,2,0)","v":"Transtec Santos        -        (13) 3295-9595 / 4010-4316  |  operacional@transtecworld.com"}]
["BRSSZ","45RT","HLBU9003643","Nao","Off Hire SZ",{"$f":"VLOOKUP(E22177,'Padrão mensagem'!$A$3:$B$67,2,0)","v":"Entrar em contato pelo email: logistic.santos@hlag.com "}]
["BRSSZ","45GP","FDCU0297624","Nao","Transtec Sts",{"$f":"VLOOKUP(E22205,'Padrão mensagem'!$A$3:$B$67,2,0)","v":"Transtec Santos        -        (13) 3295-9595 / 4010-4316  |  operacional@transtecworld.com"}]
["BRSSZ","45GP","HLXU6514020","Nao","Transtec Sts",{"$f":"VLOOKUP(E22225,'Padrão mensagem'!$A$3:$B$67,2,0)","v":"Transtec Santos        -        (13) 3295-9595 / 4010-4316  |  operacional@transtecworld.com"}]
["BRSSZ","45GP","HAMU2347858","Nao","Transtec Sts",{"$f":"VLOOKUP(E22264,'Padrão mensagem'!$A$3:$B$67,2,0)","v":"Transtec Santos        -        (13) 3295-9595 / 4010-4316  |  operacional@transtecworld.com"}]
["BRSSZ","45GP","BMOU4867250","Nao","Transtec Sts",{"$f":"VLOOKUP(E22290,'Padrão mensagem'!$A$3:$B$67,2,0)","v":"Transtec Santos        -        (13) 3295-9595 / 4010-4316  |  operacional@transtecworld.com"}]
["BRSSZ","45GP","UETU5862118","Nao","Transtec Sts",{"$f":"VLOOKUP(E22345,'Padrão mensagem'!$A$3:$B$67,2,0)","v":"Transtec Santos        -        (13) 3295-9595 / 4010-4316  |  operacional@transtecworld.com"}]
["BRSSZ","45GP","HLXU8485701","Nao","Transtec Sts",{"$f":"VLOOKUP(E22351,'Padrão mensagem'!$A$3:$B$67,2,0)","v":"Transtec Santos        -        (13) 3295-9595 / 4010-4316  |  operacional@transtecworld.com"}]
["BRSSZ","45GP","FANU1577930","Nao","Transtec Sts",{"$f":"VLOOKUP(E22390,'Padrão mensagem'!$A$3:$B$67,2,0)","v":"Transtec Santos        -        (13) 3295-9595 / 4010-4316  |  operacional@transtecworld.com"}]
["BRSSZ","22GP","HLBU3763870","Nao","Transtec Sts",{"$f":"VLOOKUP(E22425,'Padrão mensagem'!$A$3:$B$67,2,0)","v":"Transtec Santos        -        (13) 3295-9595 / 4010-4316  |  operacional@transtecworld.com"}]
["BRSSZ","45GP","TGHU8883510","Nao","Off Hire SZ",{"$f":"VLOOKUP(E22471,'Padrão mensagem'!$A$3:$B$67,2,0)","v":"Entrar em contato pelo email: logistic.santos@hlag.com "}]
["BRSSZ","45PC","HLBU8255738","Nao","Transtec Sts",{"$f":"VLOOKUP(E22481,'Padrão mensagem'!$A$3:$B$67,2,0)","v":"Transtec Santos        -        (13) 3295-9595 / 4010-4316  |  operacional@transtecworld.com"}]
["BRSSZ","45GP","HLBU1307146","Nao","Transtec Sts",{"$f":"VLOOKUP(E22542,'Padrão mensagem'!$A$3:$B$67,2,0)","v":"Transtec Santos        -        (13) 3295-9595 / 4010-4316  |  operacional@transtecworld.com"}]
["BRSSZ","42GP","HLXU5405615","Nao","Transtec Sts",{"$f":"VLOOKUP(E22558,'Padrão mensagem'!$A$3:$B$67,2,0)","v":"Transtec Santos        -        (13) 3295-9595 / 4010-4316  |  operacional@transtecworld.com"}]
["BRSSZ","45GP","CAIU8384753","Nao","Transtec Sts",{"$f":"VLOOKUP(E22601,'Padrão mensagem'!$A$3:$B$67,2,0)","v":"Transtec Santos        -        (13) 3295-9595 / 4010-4316  |  operacional@transtecworld.com"}]
["BRSSZ","45GP","FANU1586063","Nao","Transtec Sts",{"$f":"VLOOKUP(E22640,'Padrão mensagem'!$A$3:$B$67,2,0)","v":"Transtec Santos        -        (13) 3295-9595 / 4010-4316  |  operacional@transtecworld.com"}]
["BRSSZ","45GP","TGBU9609483","Nao","Transtec Sts",{"$f":"VLOOKUP(E22645,'Padrão mensagem'!$A$3:$B$67,2,0)","v":"Transtec Santos        -        (13) 3295-9595 / 4010-4316  |  operacional@transtecworld.com"}]
["BRSSZ","45GP","FANU1750900","Nao","Transtec Sts",{"$f":"VLOOKUP(E22688,'Padrão mensagem'!$A$3:$B$67,2,0)","v":"Transtec Santos        -        (13) 3295-9595 / 4010-4316  |  operacional@transtecworld.com"}]
["BRSSZ","45GP","HLBU3210514","Nao","Transtec Sts",{"$f":"VLOOKUP(E22727,'Padrão mensagem'!$A$3:$B$67,2,0)","v":"Transtec Santos        -        (13) 3295-9595 / 4010-4316  |  operacional@transtecworld.com"}]
["BRSSZ","45GP","TEMU6718198","Nao","Transtec Sts",{"$f":"VLOOKUP(E22762,'Padrão mensagem'!$A$3:$B$67,2,0)","v":"Transtec Santos        -        (13) 3295-9595 / 4010-4316  |  operacional@transtecworld.com"}]
["BRSSZ","45GP","HLBU1491156","Nao","Transtec Sts",{"$f":"VLOOKUP(E22775,'Padrão mensagem'!$A$3:$B$67,2,0)","v":"Transtec Santos        -        (13) 3295-9595 / 4010-4316  |  operacional@transtecworld.com"}]
["BRSSZ","45RT","TEMU9038126","Nao","Off Hire SZ",{"$f":"VLOOKUP(E22814,'Padrão mensagem'!$A$3:$B$67,2,0)","v":"Entrar em contato pelo email: logistic.santos@hlag.com "}]
["BRSSZ","45RT","HLBU6141470","Nao","Off Hire SZ",{"$f":"VLOOKUP(E22857,'Padrão mensagem'!$A$3:$B$67,2,0)","v":"Entrar em contato pelo email: logistic.santos@hlag.com "}]
["BRSSZ","45RT","HLBU9629684","Nao","Off Hire SZ",{"$f":"VLOOKUP(E22897,'Padrão mensagem'!$A$3:$B$67,2,0)","v":"Entrar em contato pelo email: logistic.santos@hlag.com "}]
["BRSSZ","45GP","UACU5624727","Nao","Transtec Sts",{"$f":"VLOOKUP(E22938,'Padrão mensagem'!$A$3:$B$67,2,0)","v":"Transtec Santos        -        (13) 3295-9595 / 4010-4316  |  operacional@transtecworld.com"}]
["BRSSZ","45GP","HAMU2664066","Nao","Transtec Sts",{"$f":"VLOOKUP(E22944,'Padrão mensagem'!$A$3:$B$67,2,0)","v":"Transtec Santos        -        (13) 3295-9595 / 4010-4316  |  operacional@transtecworld.com"}]
["BRSSZ","42GP","UACU8482354","Nao","Transtec Sts",{"$f":"VLOOKUP(E22982,'Padrão mensagem'!$A$3:$B$67,2,0)","v":"Transtec Santos        -        (13) 3295-9595 / 4010-4316  |  operacional@transtecworld.com"}]
["BRSSZ","45GP","TCLU5547215","Nao","Transtec Sts",{"$f":"VLOOKUP(E23025,'Padrão mensagem'!$A$3:$B$67,2,0)","v":"Transtec Santos        -        (13) 3295-9595 / 4010-4316  |  operacional@transtecworld.com"}]
["BRSSZ","45GP","FANU3386228","Nao","Transtec Sts",{"$f":"VLOOKUP(E23064,'Padrão mensagem'!$A$3:$B$67,2,0)","v":"Transtec Santos        -        (13) 3295-9595 / 4010-4316  |  operacional@transtecworld.com"}]
["BRSSZ","45GP","HPCU4717269","Nao","Transtec Sts",{"$f":"VLOOKUP(E23070,'Padrão mensagem'!$A$3:$B$67,2,0)","v":"Transtec Santos        -        (13) 3295-9595 / 4010-4316  |  operacional@transtecworld.com"}]
["BRSSZ","45GP","HAMU2663394","Nao","Transtec Sts",{"$f":"VLOOKUP(E23117,'Padrão mensagem'!$A$3:$B$67,2,0)","v":"Transtec Santos        -        (13) 3295-9595 / 4010-4316  |  operacional@transtecworld.com"}]
["BRSSZ","45GP","FCIU7106680","Nao","Transtec Sts",{"$f":"VLOOKUP(E23151,'Padrão mensagem'!$A$3:$B$67,2,0)","v":"Transtec Santos        -        (13) 3295-9595 / 4010-4316  |  operacional@transtecworld.com"}]
["BRSSZ","45GP","SEKU6358905","Nao","Transtec Sts",{"$f":"VLOOKUP(E23194,'Padrão mensagem'!$A$3:$B$67,2,0)","v":"Transtec Santos        -        (13) 3295-9595 / 4010-4316  |  operacional@transtecworld.com"}]
["BRSSZ","45GP","HLBU2063091","Nao","Transtec Sts",{"$f":"VLOOKUP(E23233,'Padrão mensagem'!$A$3:$B$67,2,0)","v":"Transtec Santos        -        (13) 3295-9595 / 4010-4316  |  operacional@transtecworld.com"}]
["BRSSZ","45GP","HAMU1681388","Nao","Transtec Sts",{"$f":"VLOOKUP(E23252,'Padrão mensagem'!$A$3:$B$67,2,0)","v":"Transtec Santos        -        (13) 3295-9595 / 4010-4316  |  operacional@transtecworld.com"}]
["BRSSZ","45GP","HAMU2024958","Nao","Transtec Sts",{"$f":"VLOOKUP(E23281,'Padrão mensagem'!$A$3:$B$67,2,0)","v":"Transtec Santos        -        (13) 3295-9595 / 4010-4316  |  operacional@transtecworld.com"}]
["BRSSZ","45GP","GCXU6150171","Nao","Transtec Sts",{"$f":"VLOOKUP(E23320,'Padrão mensagem'!$A$3:$B$67,2,0)","v":"Transtec Santos        -        (13) 3295-9595 / 4010-4316  |  operacional@transtecworld.com"}]
["BRSSZ","45GP","FANU1223767","Nao","Transtec Sts",{"$f":"VLOOKUP(E23337,'Padrão mensagem'!$A$3:$B$67,2,0)","v":"Transtec Santos        -        (13) 3295-9595 / 4010-4316  |  operacional@transtecworld.com"}]
["BRSSZ","22GP","HLXU1324876","Nao","Transtec Sts",{"$f":"VLOOKUP(E23368,'Padrão mensagem'!$A$3:$B$67,2,0)","v":"Transtec Santos        -        (13) 3295-9595 / 4010-4316  |  operacional@transtecworld.com"}]
["BRSSZ","22GP","BSIU2285276","Nao","Off Hire SZ",{"$f":"VLOOKUP(E23407,'Padrão mensagem'!$A$3:$B$67,2,0)","v":"Entrar em contato pelo email: logistic.santos@hlag.com "}]
["BRSSZ","22GP","BSIU3296228","Nao","Transtec Sts",{"$f":"VLOOKUP(E23450,'Padrão mensagem'!$A$3:$B$67,2,0)","v":"Transtec Santos        -        (13) 3295-9595 / 4010-4316  |  operacional@transtecworld.com"}]
["BRSSZ","22GP","UACU4002020","Nao","Transtec Sts",{"$f":"VLOOKUP(E23472,'Padrão mensagem'!$A$3:$B$67,2,0)","v":"Transtec Santos        -        (13) 3295-9595 / 4010-4316  |  operacional@transtecworld.com"}]
["BRSSZ","22GP","TCLU2742183","Nao","Transtec Sts",{"$f":"VLOOKUP(E23527,'Padrão mensagem'!$A$3:$B$67,2,0)","v":"Transtec Santos        -        (13) 3295-9595 / 4010-4316  |  operacional@transtecworld.com"}]
["BRSSZ","22GP","TRHU1915557","Nao","Transtec Sts",{"$f":"VLOOKUP(E23537,'Padrão mensagem'!$A$3:$B$67,2,0)","v":"Transtec Santos        -        (13) 3295-9595 / 4010-4316  |  operacional@transtecworld.com"}]
["BRSSZ","22GP","HLXU1414650","Nao","Transtec Sts",{"$f":"VLOOKUP(E23589,'Padrão mensagem'!$A$3:$B$67,2,0)","v":"Transtec Santos        -        (13) 3295-9595 / 4010-4316  |  operacional@transtecworld.com"}]
["BRSSZ","22GP","HLXU1333749","Nao","Transtec Sts",{"$f":"VLOOKUP(E23618,'Padrão mensagem'!$A$3:$B$67,2,0)","v":"Transtec Santos        -        (13) 3295-9595 / 4010-4316  |  operacional@transtecworld.com"}]
["BRSSZ","45RT","HLBU6057857","Nao","Off Hire SZ",{"$f":"VLOOKUP(E23657,'Padrão mensagem'!$A$3:$B$67,2,0)","v":"Entrar em contato pelo email: logistic.santos@hlag.com "}]
["BRSSZ","45RT","UAEU1263069","Nao","Off Hire SZ",{"$f":"VLOOKUP(E23663,'Padrão mensagem'!$A$3:$B$67,2,0)","v":"Entrar em contato pelo email: logistic.santos@hlag.com "}]
["BRSSZ","22GP","CAAU2081150","Nao","Transtec Sts",{"$f":"VLOOKUP(E23692,'Padrão mensagem'!$A$3:$B$67,2,0)","v":"Transtec Santos        -        (13) 3295-9595 / 4010-4316  |  operacional@transtecworld.com"}]
["BRSSZ","45GP","GESU6319406","Nao","Transtec Sts",{"$f":"VLOOKUP(E23744,'Padrão mensagem'!$A$3:$B$67,2,0)","v":"Transtec Santos        -        (13) 3295-9595 / 4010-4316  |  operacional@transtecworld.com"}]
["BRSSZ","45RT","UAEU1249029","Nao","Off Hire SZ",{"$f":"VLOOKUP(E23787,'Padrão mensagem'!$A$3:$B$67,2,0)","v":"Entrar em contato pelo email: logistic.santos@hlag.com "}]
["BRSSZ","45RT","HLBU9616645","Nao","Off Hire SZ",{"$f":"VLOOKUP(E23809,'Padrão mensagem'!$A$3:$B$67,2,0)","v":"Entrar em contato pelo email: logistic.santos@hlag.com "}]
["BRSSZ","45PC","HLBU8159689","Nao","Transtec Sts",{"$f":"VLOOKUP(E23831,'Padrão mensagem'!$A$3:$B$67,2,0)","v":"Transtec Santos        -        (13) 3295-9595 / 4010-4316  |  operacional@transtecworld.com"}]
["BRSSZ","22GP","TCKU3764092","Nao","Transtec Sts",{"$f":"VLOOKUP(E23874,'Padrão mensagem'!$A$3:$B$67,2,0)","v":"Transtec Santos        -        (13) 3295-9595 / 4010-4316  |  operacional@transtecworld.com"}]
["BRSSZ","22GP","TCKU2668258","Nao","Off Hire SZ",{"$f":"VLOOKUP(E23913,'Padrão mensagem'!$A$3:$B$67,2,0)","v":"Entrar em contato pelo email: logistic.santos@hlag.com "}]
["BRSSZ","22GP","BSIU2286668","Nao","Off Hire SZ",{"$f":"VLOOKUP(E23944,'Padrão mensagem'!$A$3:$B$67,2,0)","v":"Entrar em contato pelo email: logistic.santos@hlag.com "}]
["BRSSZ","22GP","TGBU2224427","Nao","Transtec Sts",{"$f":"VLOOKUP(E23961,'Padrão mensagem'!$A$3:$B$67,2,0)","v":"Transtec Santos        -        (13) 3295-9595 / 4010-4316  |  operacional@transtecworld.com"}]
["BRSSZ","22GP","CAIU2651467","Nao","Transtec Sts",{"$f":"VLOOKUP(E24000,'Padrão mensagem'!$A$3:$B$67,2,0)","v":"Transtec Santos        -        (13) 3295-9595 / 4010-4316  |  operacional@transtecworld.com"}]
["BRSSZ","22GP","FCIU4713150","Nao","Transtec Sts",{"$f":"VLOOKUP(E24029,'Padrão mensagem'!$A$3:$B$67,2,0)","v":"Transtec Santos        -        (13) 3295-9595 / 4010-4316  |  operacional@transtecworld.com"}]
["BRSSZ","45GP","HAMU1226065","Nao","Transtec Sts",{"$f":"VLOOKUP(E24081,'Padrão mensagem'!$A$3:$B$67,2,0)","v":"Transtec Santos        -        (13) 3295-9595 / 4010-4316  |  operacional@transtecworld.com"}]
["BRSSZ","45GP","FFAU5447360","Nao","Transtec Sts",{"$f":"VLOOKUP(E24087,'Padrão mensagem'!$A$3:$B$67,2,0)","v":"Transtec Santos        -        (13) 3295-9595 / 4010-4316  |  operacional@transtecworld.com"}]
["BRSSZ","45GP","UETU5741266","Nao","Transtec Sts",{"$f":"VLOOKUP(E24130,'Padrão mensagem'!$A$3:$B$67,2,0)","v":"Transtec Santos        -        (13) 3295-9595 / 4010-4316  |  operacional@transtecworld.com"}]
["BRSSZ","45GP","FANU3199931","Nao","Transtec Sts",{"$f":"VLOOKUP(E24164,'Padrão mensagem'!$A$3:$B$67,2,0)","v":"Transtec Santos        -        (13) 3295-9595 / 4010-4316  |  operacional@transtecworld.com"}]
["BRSSZ","45GP","TEMU8958639","Nao","Transtec Sts",{"$f":"VLOOKUP(E24207,'Padrão mensagem'!$A$3:$B$67,2,0)","v":"Transtec Santos        -        (13) 3295-9595 / 4010-4316  |  operacional@transtecworld.com"}]
["BRSSZ","45GP","TCNU5835630","Nao","Transtec Sts",{"$f":"VLOOKUP(E24217,'Padrão mensagem'!$A$3:$B$67,2,0)","v":"Transtec Santos        -        (13) 3295-9595 / 4010-4316  |  operacional@transtecworld.com"}]
["BRSSZ","45GP","HAMU1391352","Nao","Transtec Sts",{"$f":"VLOOKUP(E24249,'Padrão mensagem'!$A$3:$B$67,2,0)","v":"Transtec Santos        -        (13) 3295-9595 / 4010-4316  |  operacional@transtecworld.com"}]
["BRSSZ","45GP","HAMU2304223","Nao","Transtec Sts",{"$f":"VLOOKUP(E24298,'Padrão mensagem'!$A$3:$B$67,2,0)","v":"Transtec Santos        -        (13) 3295-9595 / 4010-4316  |  operacional@transtecworld.com"}]
["BRSSZ","42GP","UACU8576324","Nao","Transtec Sts",{"$f":"VLOOKUP(E24337,'Padrão mensagem'!$A$3:$B$67,2,0)","v":"Transtec Santos        -        (13) 3295-9595 / 4010-4316  |  operacional@transtecworld.com"}]
["BRSSZ","45GP","FANU3824263","Nao","Transtec Sts",{"$f":"VLOOKUP(E24376,'Padrão mensagem'!$A$3:$B$67,2,0)","v":"Transtec Santos        -        (13) 3295-9595 / 4010-4316  |  operacional@transtecworld.com"}]
["BRSSZ","45GP","UASU1018852","Nao","Transtec Sts",{"$f":"VLOOKUP(E24384,'Padrão mensagem'!$A$3:$B$67,2,0)","v":"Transtec Santos        -        (13) 3295-9595 / 4010-4316  |  operacional@transtecworld.com"}]
["BRSSZ","45GP","FFAU1530944","Nao","Transtec Sts",{"$f":"VLOOKUP(E24424,'Padrão mensagem'!$A$3:$B$67,2,0)","v":"Transtec Santos        -        (13) 3295-9595 / 4010-4316  |  operacional@transtecworld.com"}]
["BRSSZ","45GP","HLBU1952411","Nao","Transtec Sts",{"$f":"VLOOKUP(E24467,'Padrão mensagem'!$A$3:$B$67,2,0)","v":"Transtec Santos        -        (13) 3295-9595 / 4010-4316  |  operacional@transtecworld.com"}]
["BRSSZ","45GP","HAMU2026061","Nao","Transtec Sts",{"$f":"VLOOKUP(E24501,'Padrão mensagem'!$A$3:$B$67,2,0)","v":"Transtec Santos        -        (13) 3295-9595 / 4010-4316  |  operacional@transtecworld.com"}]
["BRSSZ","45GP","GESU6500733","Nao","Transtec Sts",{"$f":"VLOOKUP(E24511,'Padrão mensagem'!$A$3:$B$67,2,0)","v":"Transtec Santos        -        (13) 3295-9595 / 4010-4316  |  operacional@transtecworld.com"}]
["BRSSZ","22GP","UACU3832146","Nao","Transtec Sts",{"$f":"VLOOKUP(E24554,'Padrão mensagem'!$A$3:$B$67,2,0)","v":"Transtec Santos        -        (13) 3295-9595 / 4010-4316  |  operacional@transtecworld.com"}]
["BRSSZ","45GP","FANU3877535","Nao","Transtec Sts",{"$f":"VLOOKUP(E24593,'Padrão mensagem'!$A$3:$B$67,2,0)","v":"Transtec Santos        -        (13) 3295-9595 / 4010-4316  |  operacional@transtecworld.com"}]
["BRSSZ","45GP","TCKU6087185","Nao","Transtec Sts",{"$f":"VLOOKUP(E24636,'Padrão mensagem'!$A$3:$B$67,2,0)","v":"Transtec Santos        -        (13) 3295-9595 / 4010-4316  |  operacional@transtecworld.com"}]
["BRSSZ","45GP","FDCU0194760","Nao","Transtec Sts",{"$f":"VLOOKUP(E24641,'Padrão mensagem'!$A$3:$B$67,2,0)","v":"Transtec Santos        -        (13) 3295-9595 / 4010-4316  |  operacional@transtecworld.com"}]
["BRSSZ","42GP","HLBU1250890","Nao","Transtec Sts",{"$f":"VLOOKUP(E24680,'Padrão mensagem'!$A$3:$B$67,2,0)","v":"Transtec Santos        -        (13) 3295-9595 / 4010-4316  |  operacional@transtecworld.com"}]
["BRSSZ","22GP","HLBU2967421","Nao","Transtec Sts",{"$f":"VLOOKUP(E24721,'Padrão mensagem'!$A$3:$B$67,2,0)","v":"Transtec Santos        -        (13) 3295-9595 / 4010-4316  |  operacional@transtecworld.com"}]
["BRSSZ","22GP","CAAU2396306","Nao","Transtec Sts",{"$f":"VLOOKUP(E24761,'Padrão mensagem'!$A$3:$B$67,2,0)","v":"Transtec Santos        -        (13) 3295-9595 / 4010-4316  |  operacional@transtecworld.com"}]
["BRSSZ","22GP","HLXU1202008","Nao","Transtec Sts",{"$f":"VLOOKUP(E24800,'Padrão mensagem'!$A$3:$B$67,2,0)","v":"Transtec Santos        -        (13) 3295-9595 / 4010-4316  |  operacional@transtecworld.com"}]
["BRSSZ","22GP","DFSU2801131","Nao","Transtec Sts",{"$f":"VLOOKUP(E24810,'Padrão mensagem'!$A$3:$B$67,2,0)","v":"Transtec Santos        -        (13) 3295-9595 / 4010-4316  |  operacional@transtecworld.com"}]
["BRSSZ","45RT","HLBU9268982","Nao","Off Hire SZ",{"$f":"VLOOKUP(E24856,'Padrão mensagem'!$A$3:$B$67,2,0)","v":"Entrar em contato pelo email: logistic.santos@hlag.com "}]
["BRSSZ","45RT","HLBU9492523","Nao","Off Hire SZ",{"$f":"VLOOKUP(E24887,'Padrão mensagem'!$A$3:$B$67,2,0)","v":"Entrar em contato pelo email: logistic.santos@hlag.com "}]
["BRSSZ","45RT","HLBU6062344","Nao","Off Hire SZ",{"$f":"VLOOKUP(E24930,'Padrão mensagem'!$A$3:$B$67,2,0)","v":"Entrar em contato pelo email: logistic.santos@hlag.com "}]
["BRSSZ","45RT","HLBU9528858","Nao","Off Hire SZ",{"$f":"VLOOKUP(E24941,'Padrão mensagem'!$A$3:$B$67,2,0)","v":"Entrar em contato pelo email: logistic.santos@hlag.com "}]
["BRSSZ","45RT","HLXU8792396","Nao","Off Hire SZ",{"$f":"VLOOKUP(E24978,'Padrão mensagem'!$A$3:$B$67,2,0)","v":"Entrar em contato pelo email: logistic.santos@hlag.com "}]
["BRSSZ","22GP","FBIU0435402","Nao","Transtec Sts",{"$f":"VLOOKUP(E25017,'Padrão mensagem'!$A$3:$B$67,2,0)","v":"Transtec Santos        -        (13) 3295-9595 / 4010-4316  |  operacional@transtecworld.com"}]
["BRSSZ","22GP","HLBU1505645","Nao","Transtec Sts",{"$f":"VLOOKUP(E25056,'Padrão mensagem'!$A$3:$B$67,2,0)","v":"Transtec Santos        -        (13) 3295-9595 / 4010-4316  |  operacional@transtecworld.com"}]
["BRSSZ","22GP","FCIU6508621","Nao","Transtec Sts",{"$f":"VLOOKUP(E25076,'Padrão mensagem'!$A$3:$B$67,2,0)","v":"Transtec Santos        -        (13) 3295-9595 / 4010-4316  |  operacional@transtecworld.com"}]
["BRSSZ","22GP","HLXU1252380","Nao","Transtec Sts",{"$f":"VLOOKUP(E25104,'Padrão mensagem'!$A$3:$B$67,2,0)","v":"Transtec Santos        -        (13) 3295-9595 / 4010-4316  |  operacional@transtecworld.com"}]
["BRSSZ","45GP","HAMU2984286","Nao","Transtec Sts",{"$f":"VLOOKUP(E25147,'Padrão mensagem'!$A$3:$B$67,2,0)","v":"Transtec Santos        -        (13) 3295-9595 / 4010-4316  |  operacional@transtecworld.com"}]
["BRSSZ","45GP","HLBU3402190","Nao","Transtec Sts",{"$f":"VLOOKUP(E25193,'Padrão mensagem'!$A$3:$B$67,2,0)","v":"Transtec Santos        -        (13) 3295-9595 / 4010-4316  |  operacional@transtecworld.com"}]
["BRSSZ","42GP","UACU8391892","Nao","Transtec Sts",{"$f":"VLOOKUP(E25224,'Padrão mensagem'!$A$3:$B$67,2,0)","v":"Transtec Santos        -        (13) 3295-9595 / 4010-4316  |  operacional@transtecworld.com"}]
["BRSSZ","45GP","TCLU9691750","Nao","Transtec Sts",{"$f":"VLOOKUP(E25234,'Padrão mensagem'!$A$3:$B$67,2,0)","v":"Transtec Santos        -        (13) 3295-9595 / 4010-4316  |  operacional@transtecworld.com"}]
["BRSSZ","45GP","HAMU2670921","Nao","Transtec Sts",{"$f":"VLOOKUP(E25273,'Padrão mensagem'!$A$3:$B$67,2,0)","v":"Transtec Santos        -        (13) 3295-9595 / 4010-4316  |  operacional@transtecworld.com"}]
["BRSSZ","45GP","SEGU5651370","Nao","Transtec Sts",{"$f":"VLOOKUP(E25296,'Padrão mensagem'!$A$3:$B$67,2,0)","v":"Transtec Santos        -        (13) 3295-9595 / 4010-4316  |  operacional@transtecworld.com"}]
["BRSSZ","42GP","HLBU1059820","Nao","Transtec Sts",{"$f":"VLOOKUP(E25354,'Padrão mensagem'!$A$3:$B$67,2,0)","v":"Transtec Santos        -        (13) 3295-9595 / 4010-4316  |  operacional@transtecworld.com"}]
["BRSSZ","45GP","UACU6008198","Nao","Transtec Sts",{"$f":"VLOOKUP(E25360,'Padrão mensagem'!$A$3:$B$67,2,0)","v":"Transtec Santos        -        (13) 3295-9595 / 4010-4316  |  operacional@transtecworld.com"}]
["BRSSZ","45GP","HAMU1168170","Nao","Transtec Sts",{"$f":"VLOOKUP(E25403,'Padrão mensagem'!$A$3:$B$67,2,0)","v":"Transtec Santos        -        (13) 3295-9595 / 4010-4316  |  operacional@transtecworld.com"}]
["BRSSZ","45RT","CAIU5651814","Nao","Off Hire SZ",{"$f":"VLOOKUP(E25431,'Padrão mensagem'!$A$3:$B$67,2,0)","v":"Entrar em contato pelo email: logistic.santos@hlag.com "}]
["BRSSZ","22GP","BMOU2780490","Nao","Transtec Sts",{"$f":"VLOOKUP(E25480,'Padrão mensagem'!$A$3:$B$67,2,0)","v":"Transtec Santos        -        (13) 3295-9595 / 4010-4316  |  operacional@transtecworld.com"}]
["BRSSZ","45RT","HLXU8735992","Nao","Off Hire SZ",{"$f":"VLOOKUP(E25523,'Padrão mensagem'!$A$3:$B$67,2,0)","v":"Entrar em contato pelo email: logistic.santos@hlag.com "}]
["BRSSZ","45RT","GESU9483120","Nao","Off Hire SZ",{"$f":"VLOOKUP(E25548,'Padrão mensagem'!$A$3:$B$67,2,0)","v":"Entrar em contato pelo email: logistic.santos@hlag.com "}]
["BRSSZ","45RT","HLBU9471834","Nao","Off Hire SZ",{"$f":"VLOOKUP(E25571,'Padrão mensagem'!$A$3:$B$67,2,0)","v":"Entrar em contato pelo email: logistic.santos@hlag.com "}]
["BRSSZ","45RT","HLBU9714699","Nao","Off Hire SZ",{"$f":"VLOOKUP(E25610,'Padrão mensagem'!$A$3:$B$67,2,0)","v":"Entrar em contato pelo email: logistic.santos@hlag.com "}]
["BRSSZ","22GP","TRHU1330027","Nao","Transtec Sts",{"$f":"VLOOKUP(E25649,'Padrão mensagem'!$A$3:$B$67,2,0)","v":"Transtec Santos        -        (13) 3295-9595 / 4010-4316  |  operacional@transtecworld.com"}]
["BRSSZ","22GP","BEAU2268089","Nao","Transtec Sts",{"$f":"VLOOKUP(E25683,'Padrão mensagem'!$A$3:$B$67,2,0)","v":"Transtec Santos        -        (13) 3295-9595 / 4010-4316  |  operacional@transtecworld.com"}]
["BRSSZ","22GP","UACU3872200","Nao","Transtec Sts",{"$f":"VLOOKUP(E25697,'Padrão mensagem'!$A$3:$B$67,2,0)","v":"Transtec Santos        -        (13) 3295-9595 / 4010-4316  |  operacional@transtecworld.com"}]
["BRSSZ","45GP","HLXU8033677","Nao","Transtec Sts",{"$f":"VLOOKUP(E25736,'Padrão mensagem'!$A$3:$B$67,2,0)","v":"Transtec Santos        -        (13) 3295-9595 / 4010-4316  |  operacional@transtecworld.com"}]
["BRSSZ","45GP","BMOU6574121","Nao","Transtec Sts",{"$f":"VLOOKUP(E25768,'Padrão mensagem'!$A$3:$B$67,2,0)","v":"Transtec Santos        -        (13) 3295-9595 / 4010-4316  |  operacional@transtecworld.com"}]
["BRSSZ","45GP","HLBU1755330","Nao","Transtec Sts",{"$f":"VLOOKUP(E25817,'Padrão mensagem'!$A$3:$B$67,2,0)","v":"Transtec Santos        -        (13) 3295-9595 / 4010-4316  |  operacional@transtecworld.com"}]
["BRSSZ","45GP","FANU3644702","Nao","Transtec Sts",{"$f":"VLOOKUP(E25827,'Padrão mensagem'!$A$3:$B$67,2,0)","v":"Transtec Santos        -        (13) 3295-9595 / 4010-4316  |  operacional@transtecworld.com"}]
["BRSSZ","45GP","FSCU7141925","Nao","Transtec Sts",{"$f":"VLOOKUP(E25866,'Padrão mensagem'!$A$3:$B$67,2,0)","v":"Transtec Santos        -        (13) 3295-9595 / 4010-4316  |  operacional@transtecworld.com"}]
["BRSSZ","45GP","CAAU5690720","Nao","Transtec Sts",{"$f":"VLOOKUP(E25903,'Padrão mensagem'!$A$3:$B$67,2,0)","v":"Transtec Santos        -        (13) 3295-9595 / 4010-4316  |  operacional@transtecworld.com"}]
["BRSSZ","45GP","GAOU6483273","Nao","Transtec Sts",{"$f":"VLOOKUP(E25947,'Padrão mensagem'!$A$3:$B$67,2,0)","v":"Transtec Santos        -        (13) 3295-9595 / 4010-4316  |  operacional@transtecworld.com"}]
["BRSSZ","45GP","FANU3292598","Nao","Transtec Sts",{"$f":"VLOOKUP(E25953,'Padrão mensagem'!$A$3:$B$67,2,0)","v":"Transtec Santos        -        (13) 3295-9595 / 4010-4316  |  operacional@transtecworld.com"}]
["BRSSZ","42GP","UACU8518760","Nao","Transtec Sts",{"$f":"VLOOKUP(E25988,'Padrão mensagem'!$A$3:$B$67,2,0)","v":"Transtec Santos        -        (13) 3295-9595 / 4010-4316  |  operacional@transtecworld.com"}]
["BRSSZ","45GP","BMOU5558620","Nao","Transtec Sts",{"$f":"VLOOKUP(E26034,'Padrão mensagem'!$A$3:$B$67,2,0)","v":"Transtec Santos        -        (13) 3295-9595 / 4010-4316  |  operacional@transtecworld.com"}]
["BRSSZ","45RT","HLBU9319734","Nao","Off Hire SZ",{"$f":"VLOOKUP(E26073,'Padrão mensagem'!$A$3:$B$67,2,0)","v":"Entrar em contato pelo email: logistic.santos@hlag.com "}]
["BRSSZ","45RT","HLBU9103180","Nao","Off Hire SZ",{"$f":"VLOOKUP(E26083,'Padrão mensagem'!$A$3:$B$67,2,0)","v":"Entrar em contato pelo email: logistic.santos@hlag.com "}]
["BRSSZ","45GP","TCLU1463590","Nao","Transtec Sts",{"$f":"VLOOKUP(E26123,'Padrão mensagem'!$A$3:$B$67,2,0)","v":"Transtec Santos        -        (13) 3295-9595 / 4010-4316  |  operacional@transtecworld.com"}]
["BRSSZ","45GP","WBPU7084395","Nao","Transtec Sts",{"$f":"VLOOKUP(E26160,'Padrão mensagem'!$A$3:$B$67,2,0)","v":"Transtec Santos        -        (13) 3295-9595 / 4010-4316  |  operacional@transtecworld.com"}]
["BRSSZ","22GP","TEMU1455118","Nao","Transtec Sts",{"$f":"VLOOKUP(E26203,'Padrão mensagem'!$A$3:$B$67,2,0)","v":"Transtec Santos        -        (13) 3295-9595 / 4010-4316  |  operacional@transtecworld.com"}]
["BRSSZ","22GP","BEAU2098697","Nao","Transtec Sts",{"$f":"VLOOKUP(E26240,'Padrão mensagem'!$A$3:$B$67,2,0)","v":"Transtec Santos        -        (13) 3295-9595 / 4010-4316  |  operacional@transtecworld.com"}]
["BRSSZ","22UT","HLBU8014664","Nao","Transtec Sts",{"$f":"VLOOKUP(E26251,'Padrão mensagem'!$A$3:$B$67,2,0)","v":"Transtec Santos        -        (13) 3295-9595 / 4010-4316  |  operacional@transtecworld.com"}]
["BRSSZ","45GP","FCIU7499761","Nao","Transtec Sts",{"$f":"VLOOKUP(E26290,'Padrão mensagem'!$A$3:$B$67,2,0)","v":"Transtec Santos        -        (13) 3295-9595 / 4010-4316  |  operacional@transtecworld.com"}]
["BRSSZ","45RT","HLBU6022383","Nao","Off Hire SZ",{"$f":"VLOOKUP(E26329,'Padrão mensagem'!$A$3:$B$67,2,0)","v":"Entrar em contato pelo email: logistic.santos@hlag.com "}]
["BRSSZ","22GP","FCIU6295634","Nao","Transtec Sts",{"$f":"VLOOKUP(E26343,'Padrão mensagem'!$A$3:$B$67,2,0)","v":"Transtec Santos        -        (13) 3295-9595 / 4010-4316  |  operacional@transtecworld.com"}]
["BRSSZ","22GP","TLLU2573137","Nao","Transtec Sts",{"$f":"VLOOKUP(E26377,'Padrão mensagem'!$A$3:$B$67,2,0)","v":"Transtec Santos        -        (13) 3295-9595 / 4010-4316  |  operacional@transtecworld.com"}]
["BRSSZ","45RT","HLBU9344803","Nao","Off Hire SZ",{"$f":"VLOOKUP(E26416,'Padrão mensagem'!$A$3:$B$67,2,0)","v":"Entrar em contato pelo email: logistic.santos@hlag.com "}]
["BRSSZ","45RT","HLBU9165979","Nao","Off Hire SZ",{"$f":"VLOOKUP(E26460,'Padrão mensagem'!$A$3:$B$67,2,0)","v":"Entrar em contato pelo email: logistic.santos@hlag.com "}]
["BRSSZ","45RT","HLBU6066231","Nao","Off Hire SZ",{"$f":"VLOOKUP(E26497,'Padrão mensagem'!$A$3:$B$67,2,0)","v":"Entrar em contato pelo email: logistic.santos@hlag.com "}]
["BRSSZ","45RT","NIDU6207608","Nao","Off Hire SZ",{"$f":"VLOOKUP(E26507,'Padrão mensagem'!$A$3:$B$67,2,0)","v":"Entrar em contato pelo email: logistic.santos@hlag.com "}]
["BRSSZ","45RT","HLBU9560443","Nao","Off Hire SZ",{"$f":"VLOOKUP(E26546,'Padrão mensagem'!$A$3:$B$67,2,0)","v":"Entrar em contato pelo email: logistic.santos@hlag.com "}]
["BRSSZ","42GP","TCLU9178408","Nao","Off Hire SZ",{"$f":"VLOOKUP(E26595,'Padrão mensagem'!$A$3:$B$67,2,0)","v":"Entrar em contato pelo email: logistic.santos@hlag.com "}]
["BRSSZ","42GP","TCLU4151960","Nao","Transtec Sts",{"$f":"VLOOKUP(E26627,'Padrão mensagem'!$A$3:$B$67,2,0)","v":"Transtec Santos        -        (13) 3295-9595 / 4010-4316  |  operacional@transtecworld.com"}]
["BRSSZ","45GP","HAMU2696778","Nao","Transtec Sts",{"$f":"VLOOKUP(E26666,'Padrão mensagem'!$A$3:$B$67,2,0)","v":"Transtec Santos        -        (13) 3295-9595 / 4010-4316  |  operacional@transtecworld.com"}]
["BRSSZ","45GP","HAMU2694775","Nao","Transtec Sts",{"$f":"VLOOKUP(E26680,'Padrão mensagem'!$A$3:$B$67,2,0)","v":"Transtec Santos        -        (13) 3295-9595 / 4010-4316  |  operacional@transtecworld.com"}]
["BRSSZ","42GP","HLXU5357667","Nao","Transtec Sts",{"$f":"VLOOKUP(E26714,'Padrão mensagem'!$A$3:$B$67,2,0)","v":"Transtec Santos        -        (13) 3295-9595 / 4010-4316  |  operacional@transtecworld.com"}]
["BRSSZ","45GP","CAAU5500836","Nao","Transtec Sts",{"$f":"VLOOKUP(E26753,'Padrão mensagem'!$A$3:$B$67,2,0)","v":"Transtec Santos        -        (13) 3295-9595 / 4010-4316  |  operacional@transtecworld.com"}]
["BRSSZ","45GP","CAIU9022316","Nao","Transtec Sts",{"$f":"VLOOKUP(E26796,'Padrão mensagem'!$A$3:$B$67,2,0)","v":"Transtec Santos        -        (13) 3295-9595 / 4010-4316  |  operacional@transtecworld.com"}]
["BRSSZ","45GP","NIDU5233520","Nao","Transtec Sts",{"$f":"VLOOKUP(E26815,'Padrão mensagem'!$A$3:$B$67,2,0)","v":"Transtec Santos        -        (13) 3295-9595 / 4010-4316  |  operacional@transtecworld.com"}]
["BRSSZ","45GP","FANU3512239","Nao","Transtec Sts",{"$f":"VLOOKUP(E26840,'Padrão mensagem'!$A$3:$B$67,2,0)","v":"Transtec Santos        -        (13) 3295-9595 / 4010-4316  |  operacional@transtecworld.com"}]
["BRSSZ","45GP","HLBU2388970","Nao","Transtec Sts",{"$f":"VLOOKUP(E26883,'Padrão mensagem'!$A$3:$B$67,2,0)","v":"Transtec Santos        -        (13) 3295-9595 / 4010-4316  |  operacional@transtecworld.com"}]
["BRSSZ","22GP","DFSU1424331","Nao","Transtec Sts",{"$f":"VLOOKUP(E26900,'Padrão mensagem'!$A$3:$B$67,2,0)","v":"Transtec Santos        -        (13) 3295-9595 / 4010-4316  |  operacional@transtecworld.com"}]
["BRSSZ","22GP","NIDU2337239","Nao","Transtec Sts",{"$f":"VLOOKUP(E26931,'Padrão mensagem'!$A$3:$B$67,2,0)","v":"Transtec Santos        -        (13) 3295-9595 / 4010-4316  |  operacional@transtecworld.com"}]
["BRSSZ","22GP","TLLU2521468","Nao","Transtec Sts",{"$f":"VLOOKUP(E26970,'Padrão mensagem'!$A$3:$B$67,2,0)","v":"Transtec Santos        -        (13) 3295-9595 / 4010-4316  |  operacional@transtecworld.com"}]
["BRSSZ","22GP","HLBU3733006","Nao","Transtec Sts",{"$f":"VLOOKUP(E27009,'Padrão mensagem'!$A$3:$B$67,2,0)","v":"Transtec Santos        -        (13) 3295-9595 / 4010-4316  |  operacional@transtecworld.com"}]
["BRSSZ","22GP","HLXU3352882","Nao","Transtec Sts",{"$f":"VLOOKUP(E27035,'Padrão mensagem'!$A$3:$B$67,2,0)","v":"Transtec Santos        -        (13) 3295-9595 / 4010-4316  |  operacional@transtecworld.com"}]
["BRSSZ","22GP","BMOU1427010","Nao","Transtec Sts",{"$f":"VLOOKUP(E27090,'Padrão mensagem'!$A$3:$B$67,2,0)","v":"Transtec Santos        -        (13) 3295-9595 / 4010-4316  |  operacional@transtecworld.com"}]
["BRSSZ","22GP","FANU1341456","Nao","Transtec Sts",{"$f":"VLOOKUP(E27096,'Padrão mensagem'!$A$3:$B$67,2,0)","v":"Transtec Santos        -        (13) 3295-9595 / 4010-4316  |  operacional@transtecworld.com"}]
["BRSSZ","45RT","GESU9585251","Nao","Off Hire SZ",{"$f":"VLOOKUP(E27152,'Padrão mensagem'!$A$3:$B$67,2,0)","v":"Entrar em contato pelo email: logistic.santos@hlag.com "}]
["BRSSZ","45RT","CXRU1221110","Nao","Off Hire SZ",{"$f":"VLOOKUP(E27177,'Padrão mensagem'!$A$3:$B$67,2,0)","v":"Entrar em contato pelo email: logistic.santos@hlag.com "}]
["BRSSZ","45GP","TCLU6685482","Nao","Transtec Sts",{"$f":"VLOOKUP(E27220,'Padrão mensagem'!$A$3:$B$67,2,0)","v":"Transtec Santos        -        (13) 3295-9595 / 4010-4316  |  operacional@transtecworld.com"}]
["BRSSZ","45GP","FANU3404661","Nao","Transtec Sts",{"$f":"VLOOKUP(E27226,'Padrão mensagem'!$A$3:$B$67,2,0)","v":"Transtec Santos        -        (13) 3295-9595 / 4010-4316  |  operacional@transtecworld.com"}]
["BRSSZ","45GP","CAIU9348431","Nao","Transtec Sts",{"$f":"VLOOKUP(E27287,'Padrão mensagem'!$A$3:$B$67,2,0)","v":"Transtec Santos        -        (13) 3295-9595 / 4010-4316  |  operacional@transtecworld.com"}]
["BRSSZ","45GP","FANU1257999","Nao","Transtec Sts",{"$f":"VLOOKUP(E27307,'Padrão mensagem'!$A$3:$B$67,2,0)","v":"Transtec Santos        -        (13) 3295-9595 / 4010-4316  |  operacional@transtecworld.com"}]
["BRSSZ","45GP","FANU1179031","Nao","Transtec Sts",{"$f":"VLOOKUP(E27346,'Padrão mensagem'!$A$3:$B$67,2,0)","v":"Transtec Santos        -        (13) 3295-9595 / 4010-4316  |  operacional@transtecworld.com"}]
["BRSSZ","45GP","HLBU2065577","Nao","Transtec Sts",{"$f":"VLOOKUP(E27356,'Padrão mensagem'!$A$3:$B$67,2,0)","v":"Transtec Santos        -        (13) 3295-9595 / 4010-4316  |  operacional@transtecworld.com"}]
["BRSSZ","45GP","HLBU1927907","Nao","Transtec Sts",{"$f":"VLOOKUP(E27390,'Padrão mensagem'!$A$3:$B$67,2,0)","v":"Transtec Santos        -        (13) 3295-9595 / 4010-4316  |  operacional@transtecworld.com"}]
["BRSSZ","45GP","FCIU9103587","Nao","Transtec Sts",{"$f":"VLOOKUP(E27433,'Padrão mensagem'!$A$3:$B$67,2,0)","v":"Transtec Santos        -        (13) 3295-9595 / 4010-4316  |  operacional@transtecworld.com"}]
["BRSSZ","45GP","BMOU5630534","Nao","Transtec Sts",{"$f":"VLOOKUP(E27476,'Padrão mensagem'!$A$3:$B$67,2,0)","v":"Transtec Santos        -        (13) 3295-9595 / 4010-4316  |  operacional@transtecworld.com"}]
["BRSSZ","45RT","HLXU8796540","Nao","Off Hire SZ",{"$f":"VLOOKUP(E27507,'Padrão mensagem'!$A$3:$B$67,2,0)","v":"Entrar em contato pelo email: logistic.santos@hlag.com "}]
["BRSSZ","45RT","UAEU1237861","Nao","Off Hire SZ",{"$f":"VLOOKUP(E27520,'Padrão mensagem'!$A$3:$B$67,2,0)","v":"Entrar em contato pelo email: logistic.santos@hlag.com "}]
["BRSSZ","45RT","HLBU9291982","Nao","Off Hire SZ",{"$f":"VLOOKUP(E27563,'Padrão mensagem'!$A$3:$B$67,2,0)","v":"Entrar em contato pelo email: logistic.santos@hlag.com "}]
["BRSSZ","22GP","SEGU1230835","Nao","Transtec Sts",{"$f":"VLOOKUP(E27602,'Padrão mensagem'!$A$3:$B$67,2,0)","v":"Transtec Santos        -        (13) 3295-9595 / 4010-4316  |  operacional@transtecworld.com"}]
["BRSSZ","45GP","FANU3308159","Nao","Transtec Sts",{"$f":"VLOOKUP(E27642,'Padrão mensagem'!$A$3:$B$67,2,0)","v":"Transtec Santos        -        (13) 3295-9595 / 4010-4316  |  operacional@transtecworld.com"}]
["BRSSZ","45GP","TCKU6545776","Nao","Transtec Sts",{"$f":"VLOOKUP(E27650,'Padrão mensagem'!$A$3:$B$67,2,0)","v":"Transtec Santos        -        (13) 3295-9595 / 4010-4316  |  operacional@transtecworld.com"}]
["BRSSZ","45GP","TCKU6451070","Nao","Transtec Sts",{"$f":"VLOOKUP(E27689,'Padrão mensagem'!$A$3:$B$67,2,0)","v":"Transtec Santos        -        (13) 3295-9595 / 4010-4316  |  operacional@transtecworld.com"}]
["BRSSZ","45GP","TCNU4405189","Nao","Transtec Sts",{"$f":"VLOOKUP(E27727,'Padrão mensagem'!$A$3:$B$67,2,0)","v":"Transtec Santos        -        (13) 3295-9595 / 4010-4316  |  operacional@transtecworld.com"}]
["BRSSZ","45GP","BEAU4192450","Nao","Transtec Sts",{"$f":"VLOOKUP(E27770,'Padrão mensagem'!$A$3:$B$67,2,0)","v":"Transtec Santos        -        (13) 3295-9595 / 4010-4316  |  operacional@transtecworld.com"}]
["BRSSZ","45GP","FANU1882506","Nao","Transtec Sts",{"$f":"VLOOKUP(E27809,'Padrão mensagem'!$A$3:$B$67,2,0)","v":"Transtec Santos        -        (13) 3295-9595 / 4010-4316  |  operacional@transtecworld.com"}]
["BRSSZ","45GP","FCIU7043370","Nao","Transtec Sts",{"$f":"VLOOKUP(E27819,'Padrão mensagem'!$A$3:$B$67,2,0)","v":"Transtec Santos        -        (13) 3295-9595 / 4010-4316  |  operacional@transtecworld.com"}]
["BRSSZ","22GP","HLXU1070787","Nao","Transtec Sts",{"$f":"VLOOKUP(E27862,'Padrão mensagem'!$A$3:$B$67,2,0)","v":"Transtec Santos        -        (13) 3295-9595 / 4010-4316  |  operacional@transtecworld.com"}]
["BRSSZ","22GP","HLBU1336252","Nao","Transtec Sts",{"$f":"VLOOKUP(E27900,'Padrão mensagem'!$A$3:$B$67,2,0)","v":"Transtec Santos        -        (13) 3295-9595 / 4010-4316  |  operacional@transtecworld.com"}]
["BRSSZ","45GP","FANU3064140","Nao","Transtec Sts",{"$f":"VLOOKUP(E27939,'Padrão mensagem'!$A$3:$B$67,2,0)","v":"Transtec Santos        -        (13) 3295-9595 / 4010-4316  |  operacional@transtecworld.com"}]
["BRSSZ","45GP","FANU3047137","Nao","Transtec Sts",{"$f":"VLOOKUP(E27947,'Padrão mensagem'!$A$3:$B$67,2,0)","v":"Transtec Santos        -        (13) 3295-9595 / 4010-4316  |  operacional@transtecworld.com"}]
["BRSSZ","22GP","HLXU1016240","Nao","Transtec Sts",{"$f":"VLOOKUP(E27987,'Padrão mensagem'!$A$3:$B$67,2,0)","v":"Transtec Santos        -        (13) 3295-9595 / 4010-4316  |  operacional@transtecworld.com"}]
["BRSSZ","22GP","NIDU2343490","Nao","Transtec Sts",{"$f":"VLOOKUP(E28026,'Padrão mensagem'!$A$3:$B$67,2,0)","v":"Transtec Santos        -        (13) 3295-9595 / 4010-4316  |  operacional@transtecworld.com"}]
["BRSSZ","45GP","FANU1144462","Nao","Transtec Sts",{"$f":"VLOOKUP(E28069,'Padrão mensagem'!$A$3:$B$67,2,0)","v":"Transtec Santos        -        (13) 3295-9595 / 4010-4316  |  operacional@transtecworld.com"}]
["BRSSZ","45GP","CAIU9023647","Nao","Transtec Sts",{"$f":"VLOOKUP(E28082,'Padrão mensagem'!$A$3:$B$67,2,0)","v":"Transtec Santos        -        (13) 3295-9595 / 4010-4316  |  operacional@transtecworld.com"}]
["BRSSZ","42GP","TCKU4760403","Nao","Transtec Sts",{"$f":"VLOOKUP(E28113,'Padrão mensagem'!$A$3:$B$67,2,0)","v":"Transtec Santos        -        (13) 3295-9595 / 4010-4316  |  operacional@transtecworld.com"}]
["BRSSZ","45GP","HAMU2640655","Nao","Transtec Sts",{"$f":"VLOOKUP(E28156,'Padrão mensagem'!$A$3:$B$67,2,0)","v":"Transtec Santos        -        (13) 3295-9595 / 4010-4316  |  operacional@transtecworld.com"}]
["BRSSZ","45GP","FANU3136954","Nao","Transtec Sts",{"$f":"VLOOKUP(E28199,'Padrão mensagem'!$A$3:$B$67,2,0)","v":"Transtec Santos        -        (13) 3295-9595 / 4010-4316  |  operacional@transtecworld.com"}]
["BRSSZ","42GP","UACU8489209","Nao","Transtec Sts",{"$f":"VLOOKUP(E28233,'Padrão mensagem'!$A$3:$B$67,2,0)","v":"Transtec Santos        -        (13) 3295-9595 / 4010-4316  |  operacional@transtecworld.com"}]
["BRSSZ","45GP","BEAU4936926","Nao","Transtec Sts",{"$f":"VLOOKUP(E28243,'Padrão mensagem'!$A$3:$B$67,2,0)","v":"Transtec Santos        -        (13) 3295-9595 / 4010-4316  |  operacional@transtecworld.com"}]
["BRSSZ","45GP","FSCU8237132","Nao","Transtec Sts",{"$f":"VLOOKUP(E28282,'Padrão mensagem'!$A$3:$B$67,2,0)","v":"Transtec Santos        -        (13) 3295-9595 / 4010-4316  |  operacional@transtecworld.com"}]
["BRSSZ","45GP","SLSU8027014","Nao","Transtec Sts",{"$f":"VLOOKUP(E28334,'Padrão mensagem'!$A$3:$B$67,2,0)","v":"Transtec Santos        -        (13) 3295-9595 / 4010-4316  |  operacional@transtecworld.com"}]
["BRSSZ","45GP","GCXU6127490","Nao","Transtec Sts",{"$f":"VLOOKUP(E28363,'Padrão mensagem'!$A$3:$B$67,2,0)","v":"Transtec Santos        -        (13) 3295-9595 / 4010-4316  |  operacional@transtecworld.com"}]
["BRSSZ","45GP","BEAU4727103","Não ","Transtec Sts",{"$f":"VLOOKUP(E28402,'Padrão mensagem'!$A$3:$B$67,2,0)","v":"Transtec Santos        -        (13) 3295-9595 / 4010-4316  |  operacional@transtecworld.com"}]
["BRSSZ","45GP","UACU6047276","Não ","Transtec Sts",{"$f":"VLOOKUP(E28419,'Padrão mensagem'!$A$3:$B$67,2,0)","v":"Transtec Santos        -        (13) 3295-9595 / 4010-4316  |  operacional@transtecworld.com"}]
["BRSSZ","45GP","TCLU9481836","Não ","Transtec Sts",{"$f":"VLOOKUP(E28450,'Padrão mensagem'!$A$3:$B$67,2,0)","v":"Transtec Santos        -        (13) 3295-9595 / 4010-4316  |  operacional@transtecworld.com"}]
["BRSSZ","45GP","DRYU9777308","Não ","Transtec Sts",{"$f":"VLOOKUP(E28493,'Padrão mensagem'!$A$3:$B$67,2,0)","v":"Transtec Santos        -        (13) 3295-9595 / 4010-4316  |  operacional@transtecworld.com"}]
["BRSSZ","45GP","HLXU8493163","Não ","Transtec Sts",{"$f":"VLOOKUP(E28532,'Padrão mensagem'!$A$3:$B$67,2,0)","v":"Transtec Santos        -        (13) 3295-9595 / 4010-4316  |  operacional@transtecworld.com"}]
["BRSSZ","45GP","CAIU8548564","Não ","Transtec Sts",{"$f":"VLOOKUP(E28554,'Padrão mensagem'!$A$3:$B$67,2,0)","v":"Transtec Santos        -        (13) 3295-9595 / 4010-4316  |  operacional@transtecworld.com"}]
["BRSSZ","45GP","SEKU6362700","Não ","Transtec Sts",{"$f":"VLOOKUP(E28580,'Padrão mensagem'!$A$3:$B$67,2,0)","v":"Transtec Santos        -        (13) 3295-9595 / 4010-4316  |  operacional@transtecworld.com"}]
["BRSSZ","45GP","HLBU2463816","Não ","Transtec Sts",{"$f":"VLOOKUP(E28619,'Padrão mensagem'!$A$3:$B$67,2,0)","v":"Transtec Santos        -        (13) 3295-9595 / 4010-4316  |  operacional@transtecworld.com"}]
["BRSSZ","45GP","HLBU1858350","Não ","Transtec Sts",{"$f":"VLOOKUP(E28639,'Padrão mensagem'!$A$3:$B$67,2,0)","v":"Transtec Santos        -        (13) 3295-9595 / 4010-4316  |  operacional@transtecworld.com"}]
["BRSSZ","45RT","HLBU9935010","Não ","Off Hire SZ",{"$f":"VLOOKUP(E28667,'Padrão mensagem'!$A$3:$B$67,2,0)","v":"Entrar em contato pelo email: logistic.santos@hlag.com "}]
["BRSSZ","45RT","HLBU6005560","Não ","Off Hire SZ",{"$f":"VLOOKUP(E28706,'Padrão mensagem'!$A$3:$B$67,2,0)","v":"Entrar em contato pelo email: logistic.santos@hlag.com "}]
["BRSSZ","22GP","SEGU3611450","Não ","Transtec Sts",{"$f":"VLOOKUP(E28749,'Padrão mensagem'!$A$3:$B$67,2,0)","v":"Transtec Santos        -        (13) 3295-9595 / 4010-4316  |  operacional@transtecworld.com"}]
["BRSSZ","45RT","HLBU9514962","Não ","Off Hire SZ",{"$f":"VLOOKUP(E28774,'Padrão mensagem'!$A$3:$B$67,2,0)","v":"Entrar em contato pelo email: logistic.santos@hlag.com "}]
["BRSSZ","22GP","CAIU6995244","Não ","Transtec Sts",{"$f":"VLOOKUP(E28826,'Padrão mensagem'!$A$3:$B$67,2,0)","v":"Transtec Santos        -        (13) 3295-9595 / 4010-4316  |  operacional@transtecworld.com"}]
["BRSSZ","22GP","HLBU1740500","Não ","Transtec Sts",{"$f":"VLOOKUP(E28836,'Padrão mensagem'!$A$3:$B$67,2,0)","v":"Transtec Santos        -        (13) 3295-9595 / 4010-4316  |  operacional@transtecworld.com"}]
["BRSSZ","22GP","BEAU2267014","Não ","Transtec Sts",{"$f":"VLOOKUP(E28891,'Padrão mensagem'!$A$3:$B$67,2,0)","v":"Transtec Santos        -        (13) 3295-9595 / 4010-4316  |  operacional@transtecworld.com"}]
["BRSSZ","22GP","HLXU1143585","Não ","Transtec Sts",{"$f":"VLOOKUP(E28913,'Padrão mensagem'!$A$3:$B$67,2,0)","v":"Transtec Santos        -        (13) 3295-9595 / 4010-4316  |  operacional@transtecworld.com"}]
["BRSSZ","45GP","TGBU6119311","Não ","Transtec Sts",{"$f":"VLOOKUP(E28956,'Padrão mensagem'!$A$3:$B$67,2,0)","v":"Transtec Santos        -        (13) 3295-9595 / 4010-4316  |  operacional@transtecworld.com"}]
["BRSSZ","45GP","TCNU7109920","Não ","Transtec Sts",{"$f":"VLOOKUP(E28962,'Padrão mensagem'!$A$3:$B$67,2,0)","v":"Transtec Santos        -        (13) 3295-9595 / 4010-4316  |  operacional@transtecworld.com"}]
["BRSSZ","45GP","TEMU6712728","Não ","Transtec Sts",{"$f":"VLOOKUP(E28994,'Padrão mensagem'!$A$3:$B$67,2,0)","v":"Transtec Santos        -        (13) 3295-9595 / 4010-4316  |  operacional@transtecworld.com"}]
["BRSSZ","45GP","DFSU7315214","Não ","Transtec Sts",{"$f":"VLOOKUP(E29043,'Padrão mensagem'!$A$3:$B$67,2,0)","v":"Transtec Santos        -        (13) 3295-9595 / 4010-4316  |  operacional@transtecworld.com"}]
["BRSSZ","45GP","FANU1012260","Não ","Transtec Sts",{"$f":"VLOOKUP(E29082,'Padrão mensagem'!$A$3:$B$67,2,0)","v":"Transtec Santos        -        (13) 3295-9595 / 4010-4316  |  operacional@transtecworld.com"}]
["BRSSZ","45GP","BMOU6543075","Não ","Lechman Guaruja",{"$f":"VLOOKUP(E29111,'Padrão mensagem'!$A$3:$B$67,2,0)","v":"Lechman Guarujá        -        (13) 3347-9406  |  E-mail: lechmandepot@lechman.com.br"}]
["BRSSZ","45GP","HLXU8524243","Não ","Lechman Guaruja",{"$f":"VLOOKUP(E29130,'Padrão mensagem'!$A$3:$B$67,2,0)","v":"Lechman Guarujá        -        (13) 3347-9406  |  E-mail: lechmandepot@lechman.com.br"}]
["BRSSZ","45GP","HLBU3257609","Não ","Lechman Guaruja",{"$f":"VLOOKUP(E29173,'Padrão mensagem'!$A$3:$B$67,2,0)","v":"Lechman Guarujá        -        (13) 3347-9406  |  E-mail: lechmandepot@lechman.com.br"}]
["BRSSZ","45GP","TGBU5458917","Não ","Lechman Guaruja",{"$f":"VLOOKUP(E29212,'Padrão mensagem'!$A$3:$B$67,2,0)","v":"Lechman Guarujá        -        (13) 3347-9406  |  E-mail: lechmandepot@lechman.com.br"}]
["BRSSZ","45GP","HLXU8397827","Não ","Lechman Guaruja",{"$f":"VLOOKUP(E29246,'Padrão mensagem'!$A$3:$B$67,2,0)","v":"Lechman Guarujá        -        (13) 3347-9406  |  E-mail: lechmandepot@lechman.com.br"}]
["BRSSZ","45GP","UETU6879394","Não ","Lechman Guaruja",{"$f":"VLOOKUP(E29260,'Padrão mensagem'!$A$3:$B$67,2,0)","v":"Lechman Guarujá        -        (13) 3347-9406  |  E-mail: lechmandepot@lechman.com.br"}]
["BRSSZ","45GP","HAMU1489061","Não ","Lechman Guaruja",{"$f":"VLOOKUP(E29299,'Padrão mensagem'!$A$3:$B$67,2,0)","v":"Lechman Guarujá        -        (13) 3347-9406  |  E-mail: lechmandepot@lechman.com.br"}]
["BRSSZ","45GP","BMOU4271255","Não ","Lechman Guaruja",{"$f":"VLOOKUP(E29331,'Padrão mensagem'!$A$3:$B$67,2,0)","v":"Lechman Guarujá        -        (13) 3347-9406  |  E-mail: lechmandepot@lechman.com.br"}]
["BRSSZ","42GP","HLXU5411515","Não ","Transtec Sts",{"$f":"VLOOKUP(E29380,'Padrão mensagem'!$A$3:$B$67,2,0)","v":"Transtec Santos        -        (13) 3295-9595 / 4010-4316  |  operacional@transtecworld.com"}]
["BRSSZ","45GP","FANU3034551","Não ","Lechman Guaruja",{"$f":"VLOOKUP(E29386,'Padrão mensagem'!$A$3:$B$67,2,0)","v":"Lechman Guarujá        -        (13) 3347-9406  |  E-mail: lechmandepot@lechman.com.br"}]
["BRSSZ","22GP","TLLU2559735","Não ","Transtec Sts",{"$f":"VLOOKUP(E29429,'Padrão mensagem'!$A$3:$B$67,2,0)","v":"Transtec Santos        -        (13) 3295-9595 / 4010-4316  |  operacional@transtecworld.com"}]
["BRSSZ","22GP","HLBU2346912","Não ","Transtec Sts",{"$f":"VLOOKUP(E29466,'Padrão mensagem'!$A$3:$B$67,2,0)","v":"Transtec Santos        -        (13) 3295-9595 / 4010-4316  |  operacional@transtecworld.com"}]
["BRSSZ","45GP","HAMU1305441","Não ","Lechman Guaruja",{"$f":"VLOOKUP(E29506,'Padrão mensagem'!$A$3:$B$67,2,0)","v":"Lechman Guarujá        -        (13) 3347-9406  |  E-mail: lechmandepot@lechman.com.br"}]
["BRSSZ","45GP","TCNU4655552","Não ","Lechman Guaruja",{"$f":"VLOOKUP(E29516,'Padrão mensagem'!$A$3:$B$67,2,0)","v":"Lechman Guarujá        -        (13) 3347-9406  |  E-mail: lechmandepot@lechman.com.br"}]
["BRSSZ","22GP","UACU4094371","Não ","Transtec Sts",{"$f":"VLOOKUP(E29555,'Padrão mensagem'!$A$3:$B$67,2,0)","v":"Transtec Santos        -        (13) 3295-9595 / 4010-4316  |  operacional@transtecworld.com"}]
["BRSSZ","22GP","GESU1152065","Não ","Transtec Sts",{"$f":"VLOOKUP(E29601,'Padrão mensagem'!$A$3:$B$67,2,0)","v":"Transtec Santos        -        (13) 3295-9595 / 4010-4316  |  operacional@transtecworld.com"}]
["BRSSZ","22GP","BMOU1428124","Não ","Transtec Sts",{"$f":"VLOOKUP(E29636,'Padrão mensagem'!$A$3:$B$67,2,0)","v":"Transtec Santos        -        (13) 3295-9595 / 4010-4316  |  operacional@transtecworld.com"}]
["BRSSZ","22GP","FCIU6502520","Não ","Transtec Sts",{"$f":"VLOOKUP(E29675,'Padrão mensagem'!$A$3:$B$67,2,0)","v":"Transtec Santos        -        (13) 3295-9595 / 4010-4316  |  operacional@transtecworld.com"}]
["BRSSZ","22GP","UACU3996556","Não ","Transtec Sts",{"$f":"VLOOKUP(E29686,'Padrão mensagem'!$A$3:$B$67,2,0)","v":"Transtec Santos        -        (13) 3295-9595 / 4010-4316  |  operacional@transtecworld.com"}]
["BRSSZ","22GP","TCLU7308647","Não ","Transtec Sts",{"$f":"VLOOKUP(E29723,'Padrão mensagem'!$A$3:$B$67,2,0)","v":"Transtec Santos        -        (13) 3295-9595 / 4010-4316  |  operacional@transtecworld.com"}]
["BRSSZ","22GP","KBRU2412182","Não ","Transtec Sts",{"$f":"VLOOKUP(E29762,'Padrão mensagem'!$A$3:$B$67,2,0)","v":"Transtec Santos        -        (13) 3295-9595 / 4010-4316  |  operacional@transtecworld.com"}]
["BRSSZ","22GP","CAIU6649956","Não ","Transtec Sts",{"$f":"VLOOKUP(E29805,'Padrão mensagem'!$A$3:$B$67,2,0)","v":"Transtec Santos        -        (13) 3295-9595 / 4010-4316  |  operacional@transtecworld.com"}]
["BRSSZ","22GP","UACU3836394","Não ","Transtec Sts",{"$f":"VLOOKUP(E29821,'Padrão mensagem'!$A$3:$B$67,2,0)","v":"Transtec Santos        -        (13) 3295-9595 / 4010-4316  |  operacional@transtecworld.com"}]
["BRSSZ","22GP","TCKU2285829","Não ","Transtec Sts",{"$f":"VLOOKUP(E29853,'Padrão mensagem'!$A$3:$B$67,2,0)","v":"Transtec Santos        -        (13) 3295-9595 / 4010-4316  |  operacional@transtecworld.com"}]
["BRSSZ","22GP","UACU3912004","Não ","Transtec Sts",{"$f":"VLOOKUP(E29892,'Padrão mensagem'!$A$3:$B$67,2,0)","v":"Transtec Santos        -        (13) 3295-9595 / 4010-4316  |  operacional@transtecworld.com"}]
["BRSSZ","45RT","SEGU9340063","Não ","Off Hire SZ",{"$f":"VLOOKUP(E29938,'Padrão mensagem'!$A$3:$B$67,2,0)","v":"Entrar em contato pelo email: logistic.santos@hlag.com "}]
["BRSSZ","45RT","HLBU9217537","Não ","Off Hire SZ",{"$f":"VLOOKUP(E29940,'Padrão mensagem'!$A$3:$B$67,2,0)","v":"Entrar em contato pelo email: logistic.santos@hlag.com "}]
["BRSSZ","45RT","HLBU9231772","Não ","Off Hire SZ",{"$f":"VLOOKUP(E29979,'Padrão mensagem'!$A$3:$B$67,2,0)","v":"Entrar em contato pelo email: logistic.santos@hlag.com "}]
["BRSSZ","45GP","CAAU6831633","Não ","Lechman Guaruja",{"$f":"VLOOKUP(E30018,'Padrão mensagem'!$A$3:$B$67,2,0)","v":"Lechman Guarujá        -        (13) 3347-9406  |  E-mail: lechmandepot@lechman.com.br"}]
["BRSSZ","45GP","UACU5917659","Não ","Lechman Guaruja",{"$f":"VLOOKUP(E30041,'Padrão mensagem'!$A$3:$B$67,2,0)","v":"Lechman Guarujá        -        (13) 3347-9406  |  E-mail: lechmandepot@lechman.com.br"}]
["BRSSZ","45GP","SEGU6945560","Não ","Lechman Guaruja",{"$f":"VLOOKUP(E30099,'Padrão mensagem'!$A$3:$B$67,2,0)","v":"Lechman Guarujá        -        (13) 3347-9406  |  E-mail: lechmandepot@lechman.com.br"}]
["BRSSZ","45GP","FANU1188558","Não ","Lechman Guaruja",{"$f":"VLOOKUP(E30109,'Padrão mensagem'!$A$3:$B$67,2,0)","v":"Lechman Guarujá        -        (13) 3347-9406  |  E-mail: lechmandepot@lechman.com.br"}]
["BRSSZ","45GP","TCLU9705010","Não ","Lechman Guaruja",{"$f":"VLOOKUP(E30158,'Padrão mensagem'!$A$3:$B$67,2,0)","v":"Lechman Guarujá        -        (13) 3347-9406  |  E-mail: lechmandepot@lechman.com.br"}]
["BRSSZ","45GP","TXGU6978325","Não ","Lechman Guaruja",{"$f":"VLOOKUP(E30186,'Padrão mensagem'!$A$3:$B$67,2,0)","v":"Lechman Guarujá        -        (13) 3347-9406  |  E-mail: lechmandepot@lechman.com.br"}]
["BRSSZ","45GP","FANU1426419","Não ","Lechman Guaruja",{"$f":"VLOOKUP(E30229,'Padrão mensagem'!$A$3:$B$67,2,0)","v":"Lechman Guarujá        -        (13) 3347-9406  |  E-mail: lechmandepot@lechman.com.br"}]
["BRSSZ","45GP","BMOU4877392","Não ","Lechman Guaruja",{"$f":"VLOOKUP(E30235,'Padrão mensagem'!$A$3:$B$67,2,0)","v":"Lechman Guarujá        -        (13) 3347-9406  |  E-mail: lechmandepot@lechman.com.br"}]
["BRSSZ","45GP","TGBU5941118","Não ","Lechman Guaruja",{"$f":"VLOOKUP(E30293,'Padrão mensagem'!$A$3:$B$67,2,0)","v":"Lechman Guarujá        -        (13) 3347-9406  |  E-mail: lechmandepot@lechman.com.br"}]
["BRSSZ","45GP","TRHU4530380","Não ","Lechman Guaruja",{"$f":"VLOOKUP(E30316,'Padrão mensagem'!$A$3:$B$67,2,0)","v":"Lechman Guarujá        -        (13) 3347-9406  |  E-mail: lechmandepot@lechman.com.br"}]
["BRSSZ","45GP","FCIU7341837","Não ","Lechman Guaruja",{"$f":"VLOOKUP(E30355,'Padrão mensagem'!$A$3:$B$67,2,0)","v":"Lechman Guarujá        -        (13) 3347-9406  |  E-mail: lechmandepot@lechman.com.br"}]
["BRSSZ","45GP","FANU3640857","Não ","Lechman Guaruja",{"$f":"VLOOKUP(E30378,'Padrão mensagem'!$A$3:$B$67,2,0)","v":"Lechman Guarujá        -        (13) 3347-9406  |  E-mail: lechmandepot@lechman.com.br"}]
["BRSSZ","45GP","AMFU8908030","Não ","Lechman Guaruja",{"$f":"VLOOKUP(E30403,'Padrão mensagem'!$A$3:$B$67,2,0)","v":"Lechman Guarujá        -        (13) 3347-9406  |  E-mail: lechmandepot@lechman.com.br"}]
["BRSSZ","45GP","HAMU2102120","Não ","Lechman Guaruja",{"$f":"VLOOKUP(E30442,'Padrão mensagem'!$A$3:$B$67,2,0)","v":"Lechman Guarujá        -        (13) 3347-9406  |  E-mail: lechmandepot@lechman.com.br"}]
["BRSSZ","45GP","HLXU8256346","Offhire","Lechman Guaruja",{"$f":"VLOOKUP(E30485,'Padrão mensagem'!$A$3:$B$67,2,0)","v":"Lechman Guarujá        -        (13) 3347-9406  |  E-mail: lechmandepot@lechman.com.br"}]
["BRSSZ","22GP","HLBU1445926","Nao","Transtec Sts",{"$f":"VLOOKUP(E30513,'Padrão mensagem'!$A$3:$B$67,2,0)","v":"Transtec Santos        -        (13) 3295-9595 / 4010-4316  |  operacional@transtecworld.com"}]
["BRSSZ","22GP","HLXU3548622","Nao","Transtec Sts",{"$f":"VLOOKUP(E30533,'Padrão mensagem'!$A$3:$B$67,2,0)","v":"Transtec Santos        -        (13) 3295-9595 / 4010-4316  |  operacional@transtecworld.com"}]
["BRSSZ","22GP","HLXU1224347","Nao","Transtec Sts",{"$f":"VLOOKUP(E30572,'Padrão mensagem'!$A$3:$B$67,2,0)","v":"Transtec Santos        -        (13) 3295-9595 / 4010-4316  |  operacional@transtecworld.com"}]
["BRSSZ","22GP","SEGU2611857","Nao","Transtec Sts",{"$f":"VLOOKUP(E30598,'Padrão mensagem'!$A$3:$B$67,2,0)","v":"Transtec Santos        -        (13) 3295-9595 / 4010-4316  |  operacional@transtecworld.com"}]
["BRSSZ","45GP","CAAU5554046","Nao","Lechman Guaruja",{"$f":"VLOOKUP(E30653,'Padrão mensagem'!$A$3:$B$67,2,0)","v":"Lechman Guarujá        -        (13) 3347-9406  |  E-mail: lechmandepot@lechman.com.br"}]
["BRSSZ","45RT","HLBU9817043","Nao","Off Hire SZ",{"$f":"VLOOKUP(E30692,'Padrão mensagem'!$A$3:$B$67,2,0)","v":"Entrar em contato pelo email: logistic.santos@hlag.com "}]
["BRSSZ","45RT","HLBU9228085","Nao","Off Hire SZ",{"$f":"VLOOKUP(E30698,'Padrão mensagem'!$A$3:$B$67,2,0)","v":"Entrar em contato pelo email: logistic.santos@hlag.com "}]
["BRSSZ","45RT","HLBU6117278","Nao","Off Hire SZ",{"$f":"VLOOKUP(E30733,'Padrão mensagem'!$A$3:$B$67,2,0)","v":"Entrar em contato pelo email: logistic.santos@hlag.com "}]
["BRSSZ","22UT","HLXU3604412","Nao","Transtec Sts",{"$f":"VLOOKUP(E30779,'Padrão mensagem'!$A$3:$B$67,2,0)","v":"Transtec Santos        -        (13) 3295-9595 / 4010-4316  |  operacional@transtecworld.com"}]
["BRSSZ","45GP","TCLU5355207","Nao","Lechman Guaruja",{"$f":"VLOOKUP(E30822,'Padrão mensagem'!$A$3:$B$67,2,0)","v":"Lechman Guarujá        -        (13) 3347-9406  |  E-mail: lechmandepot@lechman.com.br"}]
["BRSSZ","45GP","FANU3072314","Nao","Lechman Guaruja",{"$f":"VLOOKUP(E30850,'Padrão mensagem'!$A$3:$B$67,2,0)","v":"Lechman Guarujá        -        (13) 3347-9406  |  E-mail: lechmandepot@lechman.com.br"}]
["BRSSZ","42GP","HLXU5406226","Nao","Transtec Sts",{"$f":"VLOOKUP(E30866,'Padrão mensagem'!$A$3:$B$67,2,0)","v":"Transtec Santos        -        (13) 3295-9595 / 4010-4316  |  operacional@transtecworld.com"}]
["BRSSZ","45GP","TCLU8944495","Nao","Lechman Guaruja",{"$f":"VLOOKUP(E30909,'Padrão mensagem'!$A$3:$B$67,2,0)","v":"Lechman Guarujá        -        (13) 3347-9406  |  E-mail: lechmandepot@lechman.com.br"}]
["BRSSZ","42GP","UACU8146128","Nao","Transtec Sts",{"$f":"VLOOKUP(E30948,'Padrão mensagem'!$A$3:$B$67,2,0)","v":"Transtec Santos        -        (13) 3295-9595 / 4010-4316  |  operacional@transtecworld.com"}]
["BRSSZ","45GP","TCNU3413615","Nao","Lechman Guaruja",{"$f":"VLOOKUP(E30985,'Padrão mensagem'!$A$3:$B$67,2,0)","v":"Lechman Guarujá        -        (13) 3347-9406  |  E-mail: lechmandepot@lechman.com.br"}]
["BRSSZ","45GP","UASU1043285","Nao","Lechman Guaruja",{"$f":"VLOOKUP(E30996,'Padrão mensagem'!$A$3:$B$67,2,0)","v":"Lechman Guarujá        -        (13) 3347-9406  |  E-mail: lechmandepot@lechman.com.br"}]
["BRSSZ","22GP","UACU3890374","Nao","Transtec Sts",{"$f":"VLOOKUP(E31035,'Padrão mensagem'!$A$3:$B$67,2,0)","v":"Transtec Santos        -        (13) 3295-9595 / 4010-4316  |  operacional@transtecworld.com"}]
["BRSSZ","22GP","TEMU1615406","Nao","Transtec Sts",{"$f":"VLOOKUP(E31070,'Padrão mensagem'!$A$3:$B$67,2,0)","v":"Transtec Santos        -        (13) 3295-9595 / 4010-4316  |  operacional@transtecworld.com"}]
["BRSSZ","22GP","HLXU1232070","Nao","Transtec Sts",{"$f":"VLOOKUP(E31116,'Padrão mensagem'!$A$3:$B$67,2,0)","v":"Transtec Santos        -        (13) 3295-9595 / 4010-4316  |  operacional@transtecworld.com"}]
["BRSSZ","22GP","FBIU0486185","Nao","Transtec Sts",{"$f":"VLOOKUP(E31122,'Padrão mensagem'!$A$3:$B$67,2,0)","v":"Transtec Santos        -        (13) 3295-9595 / 4010-4316  |  operacional@transtecworld.com"}]
["BRSSZ","45GP","FANU1180789","Nao","Lechman Guaruja",{"$f":"VLOOKUP(E31165,'Padrão mensagem'!$A$3:$B$67,2,0)","v":"Lechman Guarujá        -        (13) 3347-9406  |  E-mail: lechmandepot@lechman.com.br"}]
["BRSSZ","42GP","BMOU3074689","Nao","Transtec Sts",{"$f":"VLOOKUP(E31205,'Padrão mensagem'!$A$3:$B$67,2,0)","v":"Transtec Santos        -        (13) 3295-9595 / 4010-4316  |  operacional@transtecworld.com"}]
["BRSSZ","45GP","HLBU2098415","Nao","Lechman Guaruja",{"$f":"VLOOKUP(E31246,'Padrão mensagem'!$A$3:$B$67,2,0)","v":"Lechman Guarujá        -        (13) 3347-9406  |  E-mail: lechmandepot@lechman.com.br"}]
["BRSSZ","45GP","TXGU6766516","Nao","Lechman Guaruja",{"$f":"VLOOKUP(E31252,'Padrão mensagem'!$A$3:$B$67,2,0)","v":"Lechman Guarujá        -        (13) 3347-9406  |  E-mail: lechmandepot@lechman.com.br"}]
["BRSSZ","45GP","HAMU2773051","Nao","Lechman Guaruja",{"$f":"VLOOKUP(E31290,'Padrão mensagem'!$A$3:$B$67,2,0)","v":"Lechman Guarujá        -        (13) 3347-9406  |  E-mail: lechmandepot@lechman.com.br"}]
["BRSSZ","45GP","TEMU6721186","Nao","Lechman Guaruja",{"$f":"VLOOKUP(E31333,'Padrão mensagem'!$A$3:$B$67,2,0)","v":"Lechman Guarujá        -        (13) 3347-9406  |  E-mail: lechmandepot@lechman.com.br"}]
["BRSSZ","22GP","HLBU3008421","Nao","Transtec Sts",{"$f":"VLOOKUP(E31372,'Padrão mensagem'!$A$3:$B$67,2,0)","v":"Transtec Santos        -        (13) 3295-9595 / 4010-4316  |  operacional@transtecworld.com"}]
["BRSSZ","22GP","GCXU2416936","Nao","Transtec Sts",{"$f":"VLOOKUP(E31382,'Padrão mensagem'!$A$3:$B$67,2,0)","v":"Transtec Santos        -        (13) 3295-9595 / 4010-4316  |  operacional@transtecworld.com"}]
["BRSSZ","22GP","GESU1216724","Nao","Transtec Sts",{"$f":"VLOOKUP(E31425,'Padrão mensagem'!$A$3:$B$67,2,0)","v":"Transtec Santos        -        (13) 3295-9595 / 4010-4316  |  operacional@transtecworld.com"}]
["BRSSZ","22GP","HLBU3697887","Nao","Transtec Sts",{"$f":"VLOOKUP(E31459,'Padrão mensagem'!$A$3:$B$67,2,0)","v":"Transtec Santos        -        (13) 3295-9595 / 4010-4316  |  operacional@transtecworld.com"}]
["BRSSZ","22GP","UACU4003638","Nao","Transtec Sts",{"$f":"VLOOKUP(E31502,'Padrão mensagem'!$A$3:$B$67,2,0)","v":"Transtec Santos        -        (13) 3295-9595 / 4010-4316  |  operacional@transtecworld.com"}]
["BRSSZ","22GP","HLBU3725021","Nao","Transtec Sts",{"$f":"VLOOKUP(E31542,'Padrão mensagem'!$A$3:$B$67,2,0)","v":"Transtec Santos        -        (13) 3295-9595 / 4010-4316  |  operacional@transtecworld.com"}]
["BRSSZ","22GP","UACU4013301","Nao","Transtec Sts",{"$f":"VLOOKUP(E31546,'Padrão mensagem'!$A$3:$B$67,2,0)","v":"Transtec Santos        -        (13) 3295-9595 / 4010-4316  |  operacional@transtecworld.com"}]
["BRSSZ","42GP","UACU8469645","Nao","Transtec Sts",{"$f":"VLOOKUP(E31589,'Padrão mensagem'!$A$3:$B$67,2,0)","v":"Transtec Santos        -        (13) 3295-9595 / 4010-4316  |  operacional@transtecworld.com"}]
["BRSSZ","45GP","HAMU2132886","Nao","Lechman Guaruja",{"$f":"VLOOKUP(E31628,'Padrão mensagem'!$A$3:$B$67,2,0)","v":"Lechman Guarujá        -        (13) 3347-9406  |  E-mail: lechmandepot@lechman.com.br"}]
["BRSSZ","45GP","HLXU8317797","Nao","Lechman Guaruja",{"$f":"VLOOKUP(E31645,'Padrão mensagem'!$A$3:$B$67,2,0)","v":"Lechman Guarujá        -        (13) 3347-9406  |  E-mail: lechmandepot@lechman.com.br"}]
["BRSSZ","42GP","UACU8424532","Nao","Transtec Sts",{"$f":"VLOOKUP(E31676,'Padrão mensagem'!$A$3:$B$67,2,0)","v":"Transtec Santos        -        (13) 3295-9595 / 4010-4316  |  operacional@transtecworld.com"}]
["BRSSZ","22GP","BMOU1400261","Não ","Transtec Sts",{"$f":"VLOOKUP(E31715,'Padrão mensagem'!$A$3:$B$67,2,0)","v":"Transtec Santos        -        (13) 3295-9595 / 4010-4316  |  operacional@transtecworld.com"}]
["BRSSZ","42GP","UACU8375166","Não ","Transtec Sts",{"$f":"VLOOKUP(E31758,'Padrão mensagem'!$A$3:$B$67,2,0)","v":"Transtec Santos        -        (13) 3295-9595 / 4010-4316  |  operacional@transtecworld.com"}]
["BRSSZ","45GP","GCXU5929906","Não ","Lechman Guaruja",{"$f":"VLOOKUP(E31780,'Padrão mensagem'!$A$3:$B$67,2,0)","v":"Lechman Guarujá        -        (13) 3347-9406  |  E-mail: lechmandepot@lechman.com.br"}]
["BRSSZ","45GP","UACU5627449","Não ","Lechman Guaruja",{"$f":"VLOOKUP(E31835,'Padrão mensagem'!$A$3:$B$67,2,0)","v":"Lechman Guarujá        -        (13) 3347-9406  |  E-mail: lechmandepot@lechman.com.br"}]
["BRSSZ","45GP","HLBU2229520","Não ","Lechman Guaruja",{"$f":"VLOOKUP(E31845,'Padrão mensagem'!$A$3:$B$67,2,0)","v":"Lechman Guarujá        -        (13) 3347-9406  |  E-mail: lechmandepot@lechman.com.br"}]
["BRSSZ","22GP","TCKU3535877","Não ","Transtec Sts",{"$f":"VLOOKUP(E31897,'Padrão mensagem'!$A$3:$B$67,2,0)","v":"Transtec Santos        -        (13) 3295-9595 / 4010-4316  |  operacional@transtecworld.com"}]
["BRSSZ","22GP","HLXU1145588","Não ","Transtec Sts",{"$f":"VLOOKUP(E31926,'Padrão mensagem'!$A$3:$B$67,2,0)","v":"Transtec Santos        -        (13) 3295-9595 / 4010-4316  |  operacional@transtecworld.com"}]
["BRSSZ","45RT","HLBU9840906","Não ","Off Hire SZ",{"$f":"VLOOKUP(E31965,'Padrão mensagem'!$A$3:$B$67,2,0)","v":"Entrar em contato pelo email: logistic.santos@hlag.com "}]
["BRSSZ","45RT","HLBU9152312","Não ","Off Hire SZ",{"$f":"VLOOKUP(E31971,'Padrão mensagem'!$A$3:$B$67,2,0)","v":"Entrar em contato pelo email: logistic.santos@hlag.com "}]
["BRSSZ","45RT","HLBU9086606","Não ","Off Hire SZ",{"$f":"VLOOKUP(E32032,'Padrão mensagem'!$A$3:$B$67,2,0)","v":"Entrar em contato pelo email: logistic.santos@hlag.com "}]
["BRSSZ","45RT","HLBU9403254","Não ","Off Hire SZ",{"$f":"VLOOKUP(E32052,'Padrão mensagem'!$A$3:$B$67,2,0)","v":"Entrar em contato pelo email: logistic.santos@hlag.com "}]
["BRSSZ","22GP","BSIU3315673","Não ","Transtec Sts",{"$f":"VLOOKUP(E32095,'Padrão mensagem'!$A$3:$B$67,2,0)","v":"Transtec Santos        -        (13) 3295-9595 / 4010-4316  |  operacional@transtecworld.com"}]
["BRSSZ","45RT","HLBU6119326","Não ","Off Hire SZ",{"$f":"VLOOKUP(E32117,'Padrão mensagem'!$A$3:$B$67,2,0)","v":"Entrar em contato pelo email: logistic.santos@hlag.com "}]
["BRSSZ","45GP","FANU1917618","Não ","Transtec Sts",{"$f":"VLOOKUP(E32139,'Padrão mensagem'!$A$3:$B$67,2,0)","v":"Transtec Santos        -        (13) 3295-9595 / 4010-4316  |  operacional@transtecworld.com"}]
["BRSSZ","45GP","HLBU2830378","Não ","Transtec Sts",{"$f":"VLOOKUP(E32182,'Padrão mensagem'!$A$3:$B$67,2,0)","v":"Transtec Santos        -        (13) 3295-9595 / 4010-4316  |  operacional@transtecworld.com"}]
["BRSSZ","45GP","FANU1213202","Não ","Transtec Sts",{"$f":"VLOOKUP(E32221,'Padrão mensagem'!$A$3:$B$67,2,0)","v":"Transtec Santos        -        (13) 3295-9595 / 4010-4316  |  operacional@transtecworld.com"}]
["BRSSZ","45GP","HAMU1559467","Não ","Transtec Sts",{"$f":"VLOOKUP(E32252,'Padrão mensagem'!$A$3:$B$67,2,0)","v":"Transtec Santos        -        (13) 3295-9595 / 4010-4316  |  operacional@transtecworld.com"}]
["BRSSZ","45GP","GCXU5954299","Não ","Transtec Sts",{"$f":"VLOOKUP(E32269,'Padrão mensagem'!$A$3:$B$67,2,0)","v":"Transtec Santos        -        (13) 3295-9595 / 4010-4316  |  operacional@transtecworld.com"}]
["BRSSZ","45GP","FANU3229893","Não ","Transtec Sts",{"$f":"VLOOKUP(E32308,'Padrão mensagem'!$A$3:$B$67,2,0)","v":"Transtec Santos        -        (13) 3295-9595 / 4010-4316  |  operacional@transtecworld.com"}]
["BRSSZ","45GP","HLBU1983449","Não ","Transtec Sts",{"$f":"VLOOKUP(E32337,'Padrão mensagem'!$A$3:$B$67,2,0)","v":"Transtec Santos        -        (13) 3295-9595 / 4010-4316  |  operacional@transtecworld.com"}]
["BRSSZ","45GP","FANU1930395","Não ","Transtec Sts",{"$f":"VLOOKUP(E32389,'Padrão mensagem'!$A$3:$B$67,2,0)","v":"Transtec Santos        -        (13) 3295-9595 / 4010-4316  |  operacional@transtecworld.com"}]
["BRSSZ","45GP","SEKU6736760","Não ","Transtec Sts",{"$f":"VLOOKUP(E32395,'Padrão mensagem'!$A$3:$B$67,2,0)","v":"Transtec Santos        -        (13) 3295-9595 / 4010-4316  |  operacional@transtecworld.com"}]
["BRSSZ","45GP","HLBU3192447","Não ","Transtec Sts",{"$f":"VLOOKUP(E32438,'Padrão mensagem'!$A$3:$B$67,2,0)","v":"Transtec Santos        -        (13) 3295-9595 / 4010-4316  |  operacional@transtecworld.com"}]
["BRSSZ","45GP","FANU3869674","Não ","Transtec Sts",{"$f":"VLOOKUP(E32472,'Padrão mensagem'!$A$3:$B$67,2,0)","v":"Transtec Santos        -        (13) 3295-9595 / 4010-4316  |  operacional@transtecworld.com"}]
["BRSSZ","45GP","HLBU2890818","Não ","Transtec Sts",{"$f":"VLOOKUP(E32515,'Padrão mensagem'!$A$3:$B$67,2,0)","v":"Transtec Santos        -        (13) 3295-9595 / 4010-4316  |  operacional@transtecworld.com"}]
["BRSSZ","45GP","FANU1052427","Não ","Transtec Sts",{"$f":"VLOOKUP(E32525,'Padrão mensagem'!$A$3:$B$67,2,0)","v":"Transtec Santos        -        (13) 3295-9595 / 4010-4316  |  operacional@transtecworld.com"}]
["BRSSZ","45GP","FFAU5452686","Não ","Transtec Sts",{"$f":"VLOOKUP(E32589,'Padrão mensagem'!$A$3:$B$67,2,0)","v":"Transtec Santos        -        (13) 3295-9595 / 4010-4316  |  operacional@transtecworld.com"}]
["BRSSZ","45GP","UETU6735099","Não ","Transtec Sts",{"$f":"VLOOKUP(E32606,'Padrão mensagem'!$A$3:$B$67,2,0)","v":"Transtec Santos        -        (13) 3295-9595 / 4010-4316  |  operacional@transtecworld.com"}]
["BRSSZ","45GP","UETU6894980","Não ","Transtec Sts",{"$f":"VLOOKUP(E32645,'Padrão mensagem'!$A$3:$B$67,2,0)","v":"Transtec Santos        -        (13) 3295-9595 / 4010-4316  |  operacional@transtecworld.com"}]
["BRSSZ","45GP","CAAU5565210","Não ","Transtec Sts",{"$f":"VLOOKUP(E32684,'Padrão mensagem'!$A$3:$B$67,2,0)","v":"Transtec Santos        -        (13) 3295-9595 / 4010-4316  |  operacional@transtecworld.com"}]
["BRSSZ","45GP","HLBU1849189","Não ","Transtec Sts",{"$f":"VLOOKUP(E32692,'Padrão mensagem'!$A$3:$B$67,2,0)","v":"Transtec Santos        -        (13) 3295-9595 / 4010-4316  |  operacional@transtecworld.com"}]
["BRSSZ","45GP","FANU1295200","Não ","Transtec Sts",{"$f":"VLOOKUP(E32732,'Padrão mensagem'!$A$3:$B$67,2,0)","v":"Transtec Santos        -        (13) 3295-9595 / 4010-4316  |  operacional@transtecworld.com"}]
["BRSSZ","22GP","FCIU6284563","Não ","Transtec Sts",{"$f":"VLOOKUP(E32775,'Padrão mensagem'!$A$3:$B$67,2,0)","v":"Transtec Santos        -        (13) 3295-9595 / 4010-4316  |  operacional@transtecworld.com"}]
["BRSSZ","22GP","TCLU2816630","Não ","Transtec Sts",{"$f":"VLOOKUP(E32809,'Padrão mensagem'!$A$3:$B$67,2,0)","v":"Transtec Santos        -        (13) 3295-9595 / 4010-4316  |  operacional@transtecworld.com"}]
["BRSSZ","22GP","HLXU1419056","Não ","Transtec Sts",{"$f":"VLOOKUP(E32819,'Padrão mensagem'!$A$3:$B$67,2,0)","v":"Transtec Santos        -        (13) 3295-9595 / 4010-4316  |  operacional@transtecworld.com"}]
["BRSSZ","22GP","UACU3853508","Não ","Transtec Sts",{"$f":"VLOOKUP(E32862,'Padrão mensagem'!$A$3:$B$67,2,0)","v":"Transtec Santos        -        (13) 3295-9595 / 4010-4316  |  operacional@transtecworld.com"}]
["BRSSZ","22GP","UETU2826138","Não ","Transtec Sts",{"$f":"VLOOKUP(E32901,'Padrão mensagem'!$A$3:$B$67,2,0)","v":"Transtec Santos        -        (13) 3295-9595 / 4010-4316  |  operacional@transtecworld.com"}]
["BRSSZ","45GP","HAMU1472407","Não ","Transtec Sts",{"$f":"VLOOKUP(E32944,'Padrão mensagem'!$A$3:$B$67,2,0)","v":"Transtec Santos        -        (13) 3295-9595 / 4010-4316  |  operacional@transtecworld.com"}]
["BRSSZ","45GP","HAMU2098082","Não ","Transtec Sts",{"$f":"VLOOKUP(E32982,'Padrão mensagem'!$A$3:$B$67,2,0)","v":"Transtec Santos        -        (13) 3295-9595 / 4010-4316  |  operacional@transtecworld.com"}]
["BRSSZ","45GP","CAAU5513807","Não ","Transtec Sts",{"$f":"VLOOKUP(E32988,'Padrão mensagem'!$A$3:$B$67,2,0)","v":"Transtec Santos        -        (13) 3295-9595 / 4010-4316  |  operacional@transtecworld.com"}]
["BRSSZ","22GP","UACU4119762","Não ","Transtec Sts",{"$f":"VLOOKUP(E33029,'Padrão mensagem'!$A$3:$B$67,2,0)","v":"Transtec Santos        -        (13) 3295-9595 / 4010-4316  |  operacional@transtecworld.com"}]
["BRSSZ","22GP","TCKU1756800","Não ","Transtec Sts",{"$f":"VLOOKUP(E33069,'Padrão mensagem'!$A$3:$B$67,2,0)","v":"Transtec Santos        -        (13) 3295-9595 / 4010-4316  |  operacional@transtecworld.com"}]
["BRSSZ","45GP","HAMU1313998","Não ","Transtec Sts",{"$f":"VLOOKUP(E33108,'Padrão mensagem'!$A$3:$B$67,2,0)","v":"Transtec Santos        -        (13) 3295-9595 / 4010-4316  |  operacional@transtecworld.com"}]
["BRSSZ","45GP","HAMU2116400","Não ","Transtec Sts",{"$f":"VLOOKUP(E33118,'Padrão mensagem'!$A$3:$B$67,2,0)","v":"Transtec Santos        -        (13) 3295-9595 / 4010-4316  |  operacional@transtecworld.com"}]
["BRSSZ","45RT","HLBU9118004","Não ","Off Hire SZ",{"$f":"VLOOKUP(E33164,'Padrão mensagem'!$A$3:$B$67,2,0)","v":"Entrar em contato pelo email: logistic.santos@hlag.com "}]
["BRSSZ","22GP","HLXU3524929","Não ","Transtec Sts",{"$f":"VLOOKUP(E33199,'Padrão mensagem'!$A$3:$B$67,2,0)","v":"Transtec Santos        -        (13) 3295-9595 / 4010-4316  |  operacional@transtecworld.com"}]
["BRSSZ","22GP","FANU1354089","Não ","Transtec Sts",{"$f":"VLOOKUP(E33238,'Padrão mensagem'!$A$3:$B$67,2,0)","v":"Transtec Santos        -        (13) 3295-9595 / 4010-4316  |  operacional@transtecworld.com"}]
["BRSSZ","22GP","TEMU1614837","Nao","Transtec Sts",{"$f":"VLOOKUP(E33249,'Padrão mensagem'!$A$3:$B$67,2,0)","v":"Transtec Santos        -        (13) 3295-9595 / 4010-4316  |  operacional@transtecworld.com"}]
["BRSSZ","45GP","UACU5873674","Nao","Transtec Sts",{"$f":"VLOOKUP(E33286,'Padrão mensagem'!$A$3:$B$67,2,0)","v":"Transtec Santos        -        (13) 3295-9595 / 4010-4316  |  operacional@transtecworld.com"}]
["BRSSZ","22GP","HLXU1210981","Nao","Transtec Sts",{"$f":"VLOOKUP(E33325,'Padrão mensagem'!$A$3:$B$67,2,0)","v":"Transtec Santos        -        (13) 3295-9595 / 4010-4316  |  operacional@transtecworld.com"}]
["BRSSZ","45GP","UETU6732335","Nao","Transtec Sts",{"$f":"VLOOKUP(E33364,'Padrão mensagem'!$A$3:$B$67,2,0)","v":"Transtec Santos        -        (13) 3295-9595 / 4010-4316  |  operacional@transtecworld.com"}]
["BRSSZ","22GP","BSIU3227910","Nao","Transtec Sts",{"$f":"VLOOKUP(E33384,'Padrão mensagem'!$A$3:$B$67,2,0)","v":"Transtec Santos        -        (13) 3295-9595 / 4010-4316  |  operacional@transtecworld.com"}]
["BRSSZ","45GP","FFAU1149943","Nao","Transtec Sts",{"$f":"VLOOKUP(E33412,'Padrão mensagem'!$A$3:$B$67,2,0)","v":"Transtec Santos        -        (13) 3295-9595 / 4010-4316  |  operacional@transtecworld.com"}]
["BRSSZ","45RT","HLBU9756009","Nao","Off Hire SZ",{"$f":"VLOOKUP(E33455,'Padrão mensagem'!$A$3:$B$67,2,0)","v":"Entrar em contato pelo email: logistic.santos@hlag.com "}]
["BRSSZ","45GP","FANU1764890","Nao","Transtec Sts",{"$f":"VLOOKUP(E33501,'Padrão mensagem'!$A$3:$B$67,2,0)","v":"Transtec Santos        -        (13) 3295-9595 / 4010-4316  |  operacional@transtecworld.com"}]
["BRSSZ","45GP","HAMU2770284","Nao","Transtec Sts",{"$f":"VLOOKUP(E33532,'Padrão mensagem'!$A$3:$B$67,2,0)","v":"Transtec Santos        -        (13) 3295-9595 / 4010-4316  |  operacional@transtecworld.com"}]
["BRSSZ","45GP","BMOU5619242","Nao","Transtec Sts",{"$f":"VLOOKUP(E33542,'Padrão mensagem'!$A$3:$B$67,2,0)","v":"Transtec Santos        -        (13) 3295-9595 / 4010-4316  |  operacional@transtecworld.com"}]
["BRSSZ","45GP","UETU6006610","Nao","Transtec Sts",{"$f":"VLOOKUP(E33581,'Padrão mensagem'!$A$3:$B$67,2,0)","v":"Transtec Santos        -        (13) 3295-9595 / 4010-4316  |  operacional@transtecworld.com"}]
["BRSSZ","22GP","SEGU3579261","Nao","Transtec Sts",{"$f":"VLOOKUP(E33636,'Padrão mensagem'!$A$3:$B$67,2,0)","v":"Transtec Santos        -        (13) 3295-9595 / 4010-4316  |  operacional@transtecworld.com"}]
["BRSSZ","45RT","HLBU9832217","Nao","Off Hire SZ",{"$f":"VLOOKUP(E33662,'Padrão mensagem'!$A$3:$B$67,2,0)","v":"Entrar em contato pelo email: logistic.santos@hlag.com "}]
["BRSSZ","45GP","HLBU2034703","Nao","Transtec Sts",{"$f":"VLOOKUP(E33701,'Padrão mensagem'!$A$3:$B$67,2,0)","v":"Transtec Santos        -        (13) 3295-9595 / 4010-4316  |  operacional@transtecworld.com"}]
["BRSSZ","45GP","HLXU8225983","Nao","Transtec Sts",{"$f":"VLOOKUP(E33711,'Padrão mensagem'!$A$3:$B$67,2,0)","v":"Transtec Santos        -        (13) 3295-9595 / 4010-4316  |  operacional@transtecworld.com"}]
["BRSSZ","45GP","FANU3179869","Nao","Transtec Sts",{"$f":"VLOOKUP(E33739,'Padrão mensagem'!$A$3:$B$67,2,0)","v":"Transtec Santos        -        (13) 3295-9595 / 4010-4316  |  operacional@transtecworld.com"}]
["BRSSZ","45RT","HLBU9234405","Nao","Off Hire SZ",{"$f":"VLOOKUP(E33788,'Padrão mensagem'!$A$3:$B$67,2,0)","v":"Entrar em contato pelo email: logistic.santos@hlag.com "}]
["BRSSZ","45GP","TGBU6116502","Nao","Transtec Sts",{"$f":"VLOOKUP(E33831,'Padrão mensagem'!$A$3:$B$67,2,0)","v":"Transtec Santos        -        (13) 3295-9595 / 4010-4316  |  operacional@transtecworld.com"}]
["BRSSZ","45RT","HLBU9438749","Nao","Off Hire SZ",{"$f":"VLOOKUP(E33856,'Padrão mensagem'!$A$3:$B$67,2,0)","v":"Entrar em contato pelo email: logistic.santos@hlag.com "}]
["BRSSZ","45RT","UACU4785373","Nao","Off Hire SZ",{"$f":"VLOOKUP(E33879,'Padrão mensagem'!$A$3:$B$67,2,0)","v":"Entrar em contato pelo email: logistic.santos@hlag.com "}]
["BRSSZ","45RT","HLBU9622714","Nao","Off Hire SZ",{"$f":"VLOOKUP(E33918,'Padrão mensagem'!$A$3:$B$67,2,0)","v":"Entrar em contato pelo email: logistic.santos@hlag.com "}]
["BRSSZ","45GP","FBLU0112050","Nao","Transtec Sts",{"$f":"VLOOKUP(E33957,'Padrão mensagem'!$A$3:$B$67,2,0)","v":"Transtec Santos        -        (13) 3295-9595 / 4010-4316  |  operacional@transtecworld.com"}]
["BRSSZ","45GP","TGBU5799981","Nao","Transtec Sts",{"$f":"VLOOKUP(E33991,'Padrão mensagem'!$A$3:$B$67,2,0)","v":"Transtec Santos        -        (13) 3295-9595 / 4010-4316  |  operacional@transtecworld.com"}]
["BRSSZ","45GP","FSCU7161602","Nao","Transtec Sts",{"$f":"VLOOKUP(E34005,'Padrão mensagem'!$A$3:$B$67,2,0)","v":"Transtec Santos        -        (13) 3295-9595 / 4010-4316  |  operacional@transtecworld.com"}]
["BRSSZ","45GP","HLXU8572030","Nao","Transtec Sts",{"$f":"VLOOKUP(E34044,'Padrão mensagem'!$A$3:$B$67,2,0)","v":"Transtec Santos        -        (13) 3295-9595 / 4010-4316  |  operacional@transtecworld.com"}]
["BRSSZ","45GP","BMOU5539445","Nao","Transtec Sts",{"$f":"VLOOKUP(E34076,'Padrão mensagem'!$A$3:$B$67,2,0)","v":"Transtec Santos        -        (13) 3295-9595 / 4010-4316  |  operacional@transtecworld.com"}]
["BRSSZ","45GP","HLXU8626800","Nao","Transtec Sts",{"$f":"VLOOKUP(E34125,'Padrão mensagem'!$A$3:$B$67,2,0)","v":"Transtec Santos        -        (13) 3295-9595 / 4010-4316  |  operacional@transtecworld.com"}]
["BRSSZ","42GP","UACU8562418","Nao","Transtec Sts",{"$f":"VLOOKUP(E34135,'Padrão mensagem'!$A$3:$B$67,2,0)","v":"Transtec Santos        -        (13) 3295-9595 / 4010-4316  |  operacional@transtecworld.com"}]
["BRSSZ","22GP","SEKU1076046","Nao","Transtec Sts",{"$f":"VLOOKUP(E34174,'Padrão mensagem'!$A$3:$B$67,2,0)","v":"Transtec Santos        -        (13) 3295-9595 / 4010-4316  |  operacional@transtecworld.com"}]
["BRSSZ","45GP","HLXU8616674","Nao","Transtec Sts",{"$f":"VLOOKUP(E34211,'Padrão mensagem'!$A$3:$B$67,2,0)","v":"Transtec Santos        -        (13) 3295-9595 / 4010-4316  |  operacional@transtecworld.com"}]
["BRSSZ","22GP","FCIU4713695","Nao","Transtec Sts",{"$f":"VLOOKUP(E34255,'Padrão mensagem'!$A$3:$B$67,2,0)","v":"Transtec Santos        -        (13) 3295-9595 / 4010-4316  |  operacional@transtecworld.com"}]
["BRSSZ","22GP","HLBU2734353","Nao","Transtec Sts",{"$f":"VLOOKUP(E34261,'Padrão mensagem'!$A$3:$B$67,2,0)","v":"Transtec Santos        -        (13) 3295-9595 / 4010-4316  |  operacional@transtecworld.com"}]
["BRSSZ","22GP","HLBU3957990","Nao","Transtec Sts",{"$f":"VLOOKUP(E34296,'Padrão mensagem'!$A$3:$B$67,2,0)","v":"Transtec Santos        -        (13) 3295-9595 / 4010-4316  |  operacional@transtecworld.com"}]
["BRSSZ","22GP","BMOU2930538","Nao","Transtec Sts",{"$f":"VLOOKUP(E34342,'Padrão mensagem'!$A$3:$B$67,2,0)","v":"Transtec Santos        -        (13) 3295-9595 / 4010-4316  |  operacional@transtecworld.com"}]
["BRSSZ","22GP","HLBU3768403","Nao","Transtec Sts",{"$f":"VLOOKUP(E34381,'Padrão mensagem'!$A$3:$B$67,2,0)","v":"Transtec Santos        -        (13) 3295-9595 / 4010-4316  |  operacional@transtecworld.com"}]
["BRSSZ","22GP","HLBU2746884","Nao","Transtec Sts",{"$f":"VLOOKUP(E34391,'Padrão mensagem'!$A$3:$B$67,2,0)","v":"Transtec Santos        -        (13) 3295-9595 / 4010-4316  |  operacional@transtecworld.com"}]
["BRSSZ","45RT","CRTU5003960","Nao","Off Hire SZ",{"$f":"VLOOKUP(E34431,'Padrão mensagem'!$A$3:$B$67,2,0)","v":"Entrar em contato pelo email: logistic.santos@hlag.com "}]
["BRSSZ","45GP","HAMU1627638","Nao","Transtec Sts",{"$f":"VLOOKUP(E34468,'Padrão mensagem'!$A$3:$B$67,2,0)","v":"Transtec Santos        -        (13) 3295-9595 / 4010-4316  |  operacional@transtecworld.com"}]
["BRSSZ","22GP","CLHU3465997","Nao","Transtec Sts",{"$f":"VLOOKUP(E34511,'Padrão mensagem'!$A$3:$B$67,2,0)","v":"Transtec Santos        -        (13) 3295-9595 / 4010-4316  |  operacional@transtecworld.com"}]
["BRSSZ","22GP","FCIU4594955","Nao","Transtec Sts",{"$f":"VLOOKUP(E34548,'Padrão mensagem'!$A$3:$B$67,2,0)","v":"Transtec Santos        -        (13) 3295-9595 / 4010-4316  |  operacional@transtecworld.com"}]
["BRSSZ","22GP","CAIU6974684","Nao","Transtec Sts",{"$f":"VLOOKUP(E34559,'Padrão mensagem'!$A$3:$B$67,2,0)","v":"Transtec Santos        -        (13) 3295-9595 / 4010-4316  |  operacional@transtecworld.com"}]
["BRSSZ","45GP","HLXU8376613","Nao","Transtec Sts",{"$f":"VLOOKUP(E34598,'Padrão mensagem'!$A$3:$B$67,2,0)","v":"Transtec Santos        -        (13) 3295-9595 / 4010-4316  |  operacional@transtecworld.com"}]
["BRSSZ","45GP","HAMU2250786","Nao","Transtec Sts",{"$f":"VLOOKUP(E34637,'Padrão mensagem'!$A$3:$B$67,2,0)","v":"Transtec Santos        -        (13) 3295-9595 / 4010-4316  |  operacional@transtecworld.com"}]
["BRSSZ","22GP","UACU4108813","Nao","Transtec Sts",{"$f":"VLOOKUP(E34683,'Padrão mensagem'!$A$3:$B$67,2,0)","v":"Transtec Santos        -        (13) 3295-9595 / 4010-4316  |  operacional@transtecworld.com"}]
["BRSSZ","45RT","HLBU9740091","Nao","Off Hire SZ",{"$f":"VLOOKUP(E34685,'Padrão mensagem'!$A$3:$B$67,2,0)","v":"Entrar em contato pelo email: logistic.santos@hlag.com "}]
["BRSSZ","22GP","HLBU2336072","Nao","Transtec Sts",{"$f":"VLOOKUP(E34724,'Padrão mensagem'!$A$3:$B$67,2,0)","v":"Transtec Santos        -        (13) 3295-9595 / 4010-4316  |  operacional@transtecworld.com"}]
["BRSSZ","45GP","CAAU8393855","Nao","Transtec Sts",{"$f":"VLOOKUP(E34768,'Padrão mensagem'!$A$3:$B$67,2,0)","v":"Transtec Santos        -        (13) 3295-9595 / 4010-4316  |  operacional@transtecworld.com"}]
["BRSSZ","45GP","TGBU9631893","Nao","Transtec Sts",{"$f":"VLOOKUP(E34805,'Padrão mensagem'!$A$3:$B$67,2,0)","v":"Transtec Santos        -        (13) 3295-9595 / 4010-4316  |  operacional@transtecworld.com"}]
[null,null,null,"Nao",null,{"$f":"VLOOKUP(E34815,'Padrão mensagem'!$A$3:$B$67,2,0)","v":{"$error":"#N/A"}}]
[null,null,null,"Nao",null,{"$f":"VLOOKUP(E34854,'Padrão mensagem'!$A$3:$B$67,2,0)","v":{"$error":"#N/A"}}]
[null,null,null,"Nao",null,{"$f":"VLOOKUP(E34903,'Padrão mensagem'!$A$3:$B$67,2,0)","v":{"$error":"#N/A"}}]
[null,null,null,"Nao",null,{"$f":"VLOOKUP(E34935,'Padrão mensagem'!$A$3:$B$67,2,0)","v":{"$error":"#N/A"}}]
[null,null,null,"Nao",null,{"$f":"VLOOKUP(E34974,'Padrão mensagem'!$A$3:$B$67,2,0)","v":{"$error":"#N/A"}}]
[null,null,null,"Nao",null,{"$f":"VLOOKUP(E34988,'Padrão mensagem'!$A$3:$B$67,2,0)","v":{"$error":"#N/A"}}]
[null,null,null,"Nao",null,{"$f":"VLOOKUP(E35022,'Padrão mensagem'!$A$3:$B$67,2,0)","v":{"$error":"#N/A"}}]
[null,null,null,"Nao",null,{"$f":"VLOOKUP(E35061,'Padrão mensagem'!$A$3:$B$67,2,0)","v":{"$error":"#N/A"}}]
[null,null,null,"Nao",null,{"$f":"VLOOKUP(E35104,'Padrão mensagem'!$A$3:$B$67,2,0)","v":{"$error":"#N/A"}}]
[null,null,null,"Nao",null,{"$f":"VLOOKUP(E35123,'Padrão mensagem'!$A$3:$B$67,2,0)","v":{"$error":"#N/A"}}]
[null,null,null,"Nao",null,{"$f":"VLOOKUP(E35148,'Padrão mensagem'!$A$3:$B$67,2,0)","v":{"$error":"#N/A"}}]
[null,null,null,"Nao",null,{"$f":"VLOOKUP(E35191,'Padrão mensagem'!$A$3:$B$67,2,0)","v":{"$error":"#N/A"}}]
[null,null,null,"Nao",null,{"$f":"VLOOKUP(E35208,'Padrão mensagem'!$A$3:$B$67,2,0)","v":{"$error":"#N/A"}}]
[null,null,null,"Nao",null,{"$f":"VLOOKUP(E35272,'Padrão mensagem'!$A$3:$B$67,2,0)","v":{"$error":"#N/A"}}]
[null,null,null,"Nao",null,{"$f":"VLOOKUP(E35278,'Padrão mensagem'!$A$3:$B$67,2,0)","v":{"$error":"#N/A"}}]
[null,null,null,"Nao",null,{"$f":"VLOOKUP(E35317,'Padrão mensagem'!$A$3:$B$67,2,0)","v":{"$error":"#N/A"}}]
[null,null,null,"Nao",null,{"$f":"VLOOKUP(E35343,'Padrão mensagem'!$A$3:$B$67,2,0)","v":{"$error":"#N/A"}}]
[null,null,null,"Nao",null,{"$f":"VLOOKUP(E35398,'Padrão mensagem'!$A$3:$B$67,2,0)","v":{"$error":"#N/A"}}]
[null,null,null,"Nao",null,{"$f":"VLOOKUP(E35404,'Padrão mensagem'!$A$3:$B$67,2,0)","v":{"$error":"#N/A"}}]
[null,null,null,"Nao",null,{"$f":"VLOOKUP(E35460,'Padrão mensagem'!$A$3:$B$67,2,0)","v":{"$error":"#N/A"}}]
[null,null,null,"Nao",null,{"$f":"VLOOKUP(E35485,'Padrão mensagem'!$A$3:$B$67,2,0)","v":{"$error":"#N/A"}}]
[null,null,null,"Nao",null,{"$f":"VLOOKUP(E35528,'Padrão mensagem'!$A$3:$B$67,2,0)","v":{"$error":"#N/A"}}]
[null,null,null,"Nao",null,{"$f":"VLOOKUP(E35567,'Padrão mensagem'!$A$3:$B$67,2,0)","v":{"$error":"#N/A"}}]
[null,null,null,"Nao",null,{"$f":"VLOOKUP(E35595,'Padrão mensagem'!$A$3:$B$67,2,0)","v":{"$error":"#N/A"}}]
[null,null,null,"Nao",null,{"$f":"VLOOKUP(E35615,'Padrão mensagem'!$A$3:$B$67,2,0)","v":{"$error":"#N/A"}}]
[null,null,null,"Nao",null,{"$f":"VLOOKUP(E35654,'Padrão mensagem'!$A$3:$B$67,2,0)","v":{"$error":"#N/A"}}]
[null,null,null,"Nao",null,{"$f":"VLOOKUP(E35680,'Padrão mensagem'!$A$3:$B$67,2,0)","v":{"$error":"#N/A"}}]
[null,null,null,"Nao",null,{"$f":"VLOOKUP(E35702,'Padrão mensagem'!$A$3:$B$67,2,0)","v":{"$error":"#N/A"}}]
[null,null,null,"Nao",null,{"$f":"VLOOKUP(E35741,'Padrão mensagem'!$A$3:$B$67,2,0)","v":{"$error":"#N/A"}}]
[null,null,null,"Nao",null,{"$f":"VLOOKUP(E35784,'Padrão mensagem'!$A$3:$B$67,2,0)","v":{"$error":"#N/A"}}]
[null,null,null,"Nao",null,{"$f":"VLOOKUP(E35815,'Padrão mensagem'!$A$3:$B$67,2,0)","v":{"$error":"#N/A"}}]
[null,null,null,"Nao",null,{"$f":"VLOOKUP(E35861,'Padrão mensagem'!$A$3:$B$67,2,0)","v":{"$error":"#N/A"}}]
[null,null,null,"Nao",null,{"$f":"VLOOKUP(E35871,'Padrão mensagem'!$A$3:$B$67,2,0)","v":{"$error":"#N/A"}}]
[null,null,null,"Nao",null,{"$f":"VLOOKUP(E35910,'Padrão mensagem'!$A$3:$B$67,2,0)","v":{"$error":"#N/A"}}]
[null,null,null,"Nao",null,{"$f":"VLOOKUP(E35950,'Padrão mensagem'!$A$3:$B$67,2,0)","v":{"$error":"#N/A"}}]
[null,null,null,"Nao",null,{"$f":"VLOOKUP(E35991,'Padrão mensagem'!$A$3:$B$67,2,0)","v":{"$error":"#N/A"}}]
[null,null,null,"Nao",null,{"$f":"VLOOKUP(E35997,'Padrão mensagem'!$A$3:$B$67,2,0)","v":{"$error":"#N/A"}}]
[null,null,null,"Nao",null,{"$f":"VLOOKUP(E36035,'Padrão mensagem'!$A$3:$B$67,2,0)","v":{"$error":"#N/A"}}]
[null,null,null,"Nao",null,{"$f":"VLOOKUP(E36078,'Padrão mensagem'!$A$3:$B$67,2,0)","v":{"$error":"#N/A"}}]
[null,null,null,"Nao",null,{"$f":"VLOOKUP(E36121,'Padrão mensagem'!$A$3:$B$67,2,0)","v":{"$error":"#N/A"}}]
[null,null,null,"Nao",null,{"$f":"VLOOKUP(E36127,'Padrão mensagem'!$A$3:$B$67,2,0)","v":{"$error":"#N/A"}}]
[null,null,null,"Nao",null,{"$f":"VLOOKUP(E36170,'Padrão mensagem'!$A$3:$B$67,2,0)","v":{"$error":"#N/A"}}]
[null,null,null,"Nao",null,{"$f":"VLOOKUP(E36208,'Padrão mensagem'!$A$3:$B$67,2,0)","v":{"$error":"#N/A"}}]
[null,null,null,"Nao",null,{"$f":"VLOOKUP(E36247,'Padrão mensagem'!$A$3:$B$67,2,0)","v":{"$error":"#N/A"}}]
[null,null,null,"Nao",null,{"$f":"VLOOKUP(E36255,'Padrão mensagem'!$A$3:$B$67,2,0)","v":{"$error":"#N/A"}}]
[null,null,null,"Nao",null,{"$f":"VLOOKUP(E36295,'Padrão mensagem'!$A$3:$B$67,2,0)","v":{"$error":"#N/A"}}]
[null,null,null,"Nao",null,{"$f":"VLOOKUP(E36334,'Padrão mensagem'!$A$3:$B$67,2,0)","v":{"$error":"#N/A"}}]
[null,null,null,"Nao",null,{"$f":"VLOOKUP(E36377,'Padrão mensagem'!$A$3:$B$67,2,0)","v":{"$error":"#N/A"}}]
[null,null,null,"Nao",null,{"$f":"VLOOKUP(E36390,'Padrão mensagem'!$A$3:$B$67,2,0)","v":{"$error":"#N/A"}}]
[null,null,null,"Nao",null,{"$f":"VLOOKUP(E36421,'Padrão mensagem'!$A$3:$B$67,2,0)","v":{"$error":"#N/A"}}]
[null,null,null,"Nao",null,{"$f":"VLOOKUP(E36464,'Padrão mensagem'!$A$3:$B$67,2,0)","v":{"$error":"#N/A"}}]
[null,null,null,"Nao",null,{"$f":"VLOOKUP(E36507,'Padrão mensagem'!$A$3:$B$67,2,0)","v":{"$error":"#N/A"}}]
[null,null,null,"Nao",null,{"$f":"VLOOKUP(E36541,'Padrão mensagem'!$A$3:$B$67,2,0)","v":{"$error":"#N/A"}}]
[null,null,null,"Nao",null,{"$f":"VLOOKUP(E36551,'Padrão mensagem'!$A$3:$B$67,2,0)","v":{"$error":"#N/A"}}]
[null,null,null,"Nao",null,{"$f":"VLOOKUP(E36590,'Padrão mensagem'!$A$3:$B$67,2,0)","v":{"$error":"#N/A"}}]
[null,null,null,"Nao",null,{"$f":"VLOOKUP(E36642,'Padrão mensagem'!$A$3:$B$67,2,0)","v":{"$error":"#N/A"}}]
[null,null,null,"Nao",null,{"$f":"VLOOKUP(E36671,'Padrão mensagem'!$A$3:$B$67,2,0)","v":{"$error":"#N/A"}}]
[null,null,null,"Nao",null,{"$f":"VLOOKUP(E36710,'Padrão mensagem'!$A$3:$B$67,2,0)","v":{"$error":"#N/A"}}]
[null,null,null,"Nao",null,{"$f":"VLOOKUP(E36727,'Padrão mensagem'!$A$3:$B$67,2,0)","v":{"$error":"#N/A"}}]
[null,null,null,"Nao",null,{"$f":"VLOOKUP(E36758,'Padrão mensagem'!$A$3:$B$67,2,0)","v":{"$error":"#N/A"}}]
[null,null,null,"Nao",null,{"$f":"VLOOKUP(E36801,'Padrão mensagem'!$A$3:$B$67,2,0)","v":{"$error":"#N/A"}}]
[null,null,null,"Nao",null,{"$f":"VLOOKUP(E36840,'Padrão mensagem'!$A$3:$B$67,2,0)","v":{"$error":"#N/A"}}]
[null,null,null,"Nao",null,{"$f":"VLOOKUP(E36862,'Padrão mensagem'!$A$3:$B$67,2,0)","v":{"$error":"#N/A"}}]
[null,null,null,"Nao",null,{"$f":"VLOOKUP(E36888,'Padrão mensagem'!$A$3:$B$67,2,0)","v":{"$error":"#N/A"}}]
[null,null,null,"Nao",null,{"$f":"VLOOKUP(E36927,'Padrão mensagem'!$A$3:$B$67,2,0)","v":{"$error":"#N/A"}}]
[null,null,null,"Nao",null,{"$f":"VLOOKUP(E36947,'Padrão mensagem'!$A$3:$B$67,2,0)","v":{"$error":"#N/A"}}]
[null,null,null,"Nao",null,{"$f":"VLOOKUP(E36975,'Padrão mensagem'!$A$3:$B$67,2,0)","v":{"$error":"#N/A"}}]
[null,null,null,"Nao",null,{"$f":"VLOOKUP(E37014,'Padrão mensagem'!$A$3:$B$67,2,0)","v":{"$error":"#N/A"}}]
[null,null,null,"Nao",null,{"$f":"VLOOKUP(E37057,'Padrão mensagem'!$A$3:$B$67,2,0)","v":{"$error":"#N/A"}}]
[null,null,null,"Nao",null,{"$f":"VLOOKUP(E37082,'Padrão mensagem'!$A$3:$B$67,2,0)","v":{"$error":"#N/A"}}]
[null,null,null,"Nao",null,{"$f":"VLOOKUP(E37134,'Padrão mensagem'!$A$3:$B$67,2,0)","v":{"$error":"#N/A"}}]
[null,null,null,"Nao",null,{"$f":"VLOOKUP(E37144,'Padrão mensagem'!$A$3:$B$67,2,0)","v":{"$error":"#N/A"}}]
[null,null,null,"Nao",null,{"$f":"VLOOKUP(E37199,'Padrão mensagem'!$A$3:$B$67,2,0)","v":{"$error":"#N/A"}}]
[null,null,null,"Nao",null,{"$f":"VLOOKUP(E37221,'Padrão mensagem'!$A$3:$B$67,2,0)","v":{"$error":"#N/A"}}]
[null,null,null,"Nao",null,{"$f":"VLOOKUP(E37264,'Padrão mensagem'!$A$3:$B$67,2,0)","v":{"$error":"#N/A"}}]
[null,null,null,"Nao",null,{"$f":"VLOOKUP(E37270,'Padrão mensagem'!$A$3:$B$67,2,0)","v":{"$error":"#N/A"}}]
[null,null,null,"Nao",null,{"$f":"VLOOKUP(E37302,'Padrão mensagem'!$A$3:$B$67,2,0)","v":{"$error":"#N/A"}}]
[null,null,null,"Nao",null,{"$f":"VLOOKUP(E37351,'Padrão mensagem'!$A$3:$B$67,2,0)","v":{"$error":"#N/A"}}]
[null,null,null,"Nao",null,{"$f":"VLOOKUP(E37390,'Padrão mensagem'!$A$3:$B$67,2,0)","v":{"$error":"#N/A"}}]
[null,null,null,"Nao",null,{"$f":"VLOOKUP(E37419,'Padrão mensagem'!$A$3:$B$67,2,0)","v":{"$error":"#N/A"}}]
[null,null,null,"Nao",null,{"$f":"VLOOKUP(E37438,'Padrão mensagem'!$A$3:$B$67,2,0)","v":{"$error":"#N/A"}}]
[null,null,null,"Nao",null,{"$f":"VLOOKUP(E37481,'Padrão mensagem'!$A$3:$B$67,2,0)","v":{"$error":"#N/A"}}]
[null,null,null,"Nao",null,{"$f":"VLOOKUP(E37520,'Padrão mensagem'!$A$3:$B$67,2,0)","v":{"$error":"#N/A"}}]
[null,null,null,"Nao",null,{"$f":"VLOOKUP(E37554,'Padrão mensagem'!$A$3:$B$67,2,0)","v":{"$error":"#N/A"}}]
[null,null,null,"Nao",null,{"$f":"VLOOKUP(E37568,'Padrão mensagem'!$A$3:$B$67,2,0)","v":{"$error":"#N/A"}}]
[null,null,null,"Nao",null,{"$f":"VLOOKUP(E37607,'Padrão mensagem'!$A$3:$B$67,2,0)","v":{"$error":"#N/A"}}]
[null,null,null,"Nao",null,{"$f":"VLOOKUP(E37639,'Padrão mensagem'!$A$3:$B$67,2,0)","v":{"$error":"#N/A"}}]
[null,null,null,"Nao",null,{"$f":"VLOOKUP(E37688,'Padrão mensagem'!$A$3:$B$67,2,0)","v":{"$error":"#N/A"}}]
[null,null,null,"Nao",null,{"$f":"VLOOKUP(E37694,'Padrão mensagem'!$A$3:$B$67,2,0)","v":{"$error":"#N/A"}}]
[null,null,null,"Nao",null,{"$f":"VLOOKUP(E37737,'Padrão mensagem'!$A$3:$B$67,2,0)","v":{"$error":"#N/A"}}]
[null,null,null,"Nao",null,{"$f":"VLOOKUP(E37774,'Padrão mensagem'!$A$3:$B$67,2,0)","v":{"$error":"#N/A"}}]
[null,null,null,"Nao",null,{"$f":"VLOOKUP(E37814,'Padrão mensagem'!$A$3:$B$67,2,0)","v":{"$error":"#N/A"}}]
[null,null,null,"Nao",null,{"$f":"VLOOKUP(E37857,'Padrão mensagem'!$A$3:$B$67,2,0)","v":{"$error":"#N/A"}}]
[null,null,null,"Nao",null,{"$f":"VLOOKUP(E37863,'Padrão mensagem'!$A$3:$B$67,2,0)","v":{"$error":"#N/A"}}]
[null,null,null,"Nao",null,{"$f":"VLOOKUP(E37909,'Padrão mensagem'!$A$3:$B$67,2,0)","v":{"$error":"#N/A"}}]
[null,null,null,"Nao",null,{"$f":"VLOOKUP(E37944,'Padrão mensagem'!$A$3:$B$67,2,0)","v":{"$error":"#N/A"}}]
[null,null,null,"Nao",null,{"$f":"VLOOKUP(E37983,'Padrão mensagem'!$A$3:$B$67,2,0)","v":{"$error":"#N/A"}}]
[null,null,null,"Nao",null,{"$f":"VLOOKUP(E37994,'Padrão mensagem'!$A$3:$B$67,2,0)","v":{"$error":"#N/A"}}]
[null,null,null,"Nao",null,{"$f":"VLOOKUP(E38031,'Padrão mensagem'!$A$3:$B$67,2,0)","v":{"$error":"#N/A"}}]
[null,null,null,"Nao",null,{"$f":"VLOOKUP(E38070,'Padrão mensagem'!$A$3:$B$67,2,0)","v":{"$error":"#N/A"}}]
[null,null,null,"Nao",null,{"$f":"VLOOKUP(E38113,'Padrão mensagem'!$A$3:$B$67,2,0)","v":{"$error":"#N/A"}}]
[null,null,null,"Nao",null,{"$f":"VLOOKUP(E38129,'Padrão mensagem'!$A$3:$B$67,2,0)","v":{"$error":"#N/A"}}]
[null,null,null,"Nao",null,{"$f":"VLOOKUP(E38161,'Padrão mensagem'!$A$3:$B$67,2,0)","v":{"$error":"#N/A"}}]
[null,null,null,"Nao",null,{"$f":"VLOOKUP(E38200,'Padrão mensagem'!$A$3:$B$67,2,0)","v":{"$error":"#N/A"}}]
[null,null,null,"Nao",null,{"$f":"VLOOKUP(E38246,'Padrão mensagem'!$A$3:$B$67,2,0)","v":{"$error":"#N/A"}}]
[null,null,null,"Nao",null,{"$f":"VLOOKUP(E38281,'Padrão mensagem'!$A$3:$B$67,2,0)","v":{"$error":"#N/A"}}]
[null,null,null,"Nao",null,{"$f":"VLOOKUP(E38287,'Padrão mensagem'!$A$3:$B$67,2,0)","v":{"$error":"#N/A"}}]
[null,null,null,"Nao",null,{"$f":"VLOOKUP(E38326,'Padrão mensagem'!$A$3:$B$67,2,0)","v":{"$error":"#N/A"}}]
[null,null,null,"Nao",null,{"$f":"VLOOKUP(E38349,'Padrão mensagem'!$A$3:$B$67,2,0)","v":{"$error":"#N/A"}}]
[null,null,null,"Nao",null,{"$f":"VLOOKUP(E38407,'Padrão mensagem'!$A$3:$B$67,2,0)","v":{"$error":"#N/A"}}]
[null,null,null,"Nao",null,{"$f":"VLOOKUP(E38417,'Padrão mensagem'!$A$3:$B$67,2,0)","v":{"$error":"#N/A"}}]
[null,null,null,"Nao",null,{"$f":"VLOOKUP(E38466,'Padrão mensagem'!$A$3:$B$67,2,0)","v":{"$error":"#N/A"}}]
[null,null,null,"Nao",null,{"$f":"VLOOKUP(E38494,'Padrão mensagem'!$A$3:$B$67,2,0)","v":{"$error":"#N/A"}}]
[null,null,null,"Nao",null,{"$f":"VLOOKUP(E38537,'Padrão mensagem'!$A$3:$B$67,2,0)","v":{"$error":"#N/A"}}]
[null,null,null,"Nao",null,{"$f":"VLOOKUP(E38576,'Padrão mensagem'!$A$3:$B$67,2,0)","v":{"$error":"#N/A"}}]
[null,null,null,"Nao",null,{"$f":"VLOOKUP(E38601,'Padrão mensagem'!$A$3:$B$67,2,0)","v":{"$error":"#N/A"}}]
[null,null,null,"Nao",null,{"$f":"VLOOKUP(E38624,'Padrão mensagem'!$A$3:$B$67,2,0)","v":{"$error":"#N/A"}}]
[null,null,null,"Nao",null,{"$f":"VLOOKUP(E38663,'Padrão mensagem'!$A$3:$B$67,2,0)","v":{"$error":"#N/A"}}]
[null,null,null,"Nao",null,{"$f":"VLOOKUP(E38686,'Padrão mensagem'!$A$3:$B$67,2,0)","v":{"$error":"#N/A"}}]
[null,null,null,"Nao",null,{"$f":"VLOOKUP(E38711,'Padrão mensagem'!$A$3:$B$67,2,0)","v":{"$error":"#N/A"}}]
[null,null,null,"Nao",null,{"$f":"VLOOKUP(E38750,'Padrão mensagem'!$A$3:$B$67,2,0)","v":{"$error":"#N/A"}}]
[null,null,null,"Nao",null,{"$f":"VLOOKUP(E38793,'Padrão mensagem'!$A$3:$B$67,2,0)","v":{"$error":"#N/A"}}]
[null,null,null,"Nao",null,{"$f":"VLOOKUP(E38821,'Padrão mensagem'!$A$3:$B$67,2,0)","v":{"$error":"#N/A"}}]
[null,null,null,"Nao",null,{"$f":"VLOOKUP(E38841,'Padrão mensagem'!$A$3:$B$67,2,0)","v":{"$error":"#N/A"}}]
[null,null,null,"Nao",null,{"$f":"VLOOKUP(E38880,'Padrão mensagem'!$A$3:$B$67,2,0)","v":{"$error":"#N/A"}}]
[null,null,null,"Nao",null,{"$f":"VLOOKUP(E38906,'Padrão mensagem'!$A$3:$B$67,2,0)","v":{"$error":"#N/A"}}]
[null,null,null,"Nao",null,{"$f":"VLOOKUP(E38961,'Padrão mensagem'!$A$3:$B$67,2,0)","v":{"$error":"#N/A"}}]
[null,null,null,"Nao",null,{"$f":"VLOOKUP(E39000,'Padrão mensagem'!$A$3:$B$67,2,0)","v":{"$error":"#N/A"}}]
[null,null,null,"Nao",null,{"$f":"VLOOKUP(E39010,'Padrão mensagem'!$A$3:$B$67,2,0)","v":{"$error":"#N/A"}}]
[null,null,null,"Nao",null,{"$f":"VLOOKUP(E39041,'Padrão mensagem'!$A$3:$B$67,2,0)","v":{"$error":"#N/A"}}]
[null,null,null,"Nao",null,{"$f":"VLOOKUP(E39087,'Padrão mensagem'!$A$3:$B$67,2,0)","v":{"$error":"#N/A"}}]
[null,null,null,"Nao",null,{"$f":"VLOOKUP(E39130,'Padrão mensagem'!$A$3:$B$67,2,0)","v":{"$error":"#N/A"}}]
[null,null,null,"Nao",null,{"$f":"VLOOKUP(E39158,'Padrão mensagem'!$A$3:$B$67,2,0)","v":{"$error":"#N/A"}}]
[null,null,null,"Nao",null,{"$f":"VLOOKUP(E39174,'Padrão mensagem'!$A$3:$B$67,2,0)","v":{"$error":"#N/A"}}]
[null,null,null,"Nao",null,{"$f":"VLOOKUP(E39217,'Padrão mensagem'!$A$3:$B$67,2,0)","v":{"$error":"#N/A"}}]
[null,null,null,"Nao",null,{"$f":"VLOOKUP(E39256,'Padrão mensagem'!$A$3:$B$67,2,0)","v":{"$error":"#N/A"}}]
[null,null,null,"Nao",null,{"$f":"VLOOKUP(E39293,'Padrão mensagem'!$A$3:$B$67,2,0)","v":{"$error":"#N/A"}}]
[null,null,null,"Nao",null,{"$f":"VLOOKUP(E39304,'Padrão mensagem'!$A$3:$B$67,2,0)","v":{"$error":"#N/A"}}]
[null,null,null,"Nao",null,{"$f":"VLOOKUP(E39343,'Padrão mensagem'!$A$3:$B$67,2,0)","v":{"$error":"#N/A"}}]
[null,null,null,"Nao",null,{"$f":"VLOOKUP(E39378,'Padrão mensagem'!$A$3:$B$67,2,0)","v":{"$error":"#N/A"}}]
[null,null,null,"Nao",null,{"$f":"VLOOKUP(E39424,'Padrão mensagem'!$A$3:$B$67,2,0)","v":{"$error":"#N/A"}}]
[null,null,null,"Nao",null,{"$f":"VLOOKUP(E39430,'Padrão mensagem'!$A$3:$B$67,2,0)","v":{"$error":"#N/A"}}]
[null,null,null,"Nao",null,{"$f":"VLOOKUP(E39473,'Padrão mensagem'!$A$3:$B$67,2,0)","v":{"$error":"#N/A"}}]
[null,null,null,"Nao",null,{"$f":"VLOOKUP(E39513,'Padrão mensagem'!$A$3:$B$67,2,0)","v":{"$error":"#N/A"}}]
[null,null,null,"Nao",null,{"$f":"VLOOKUP(E39554,'Padrão mensagem'!$A$3:$B$67,2,0)","v":{"$error":"#N/A"}}]
[null,null,null,"Nao",null,{"$f":"VLOOKUP(E39560,'Padrão mensagem'!$A$3:$B$67,2,0)","v":{"$error":"#N/A"}}]
[null,null,null,"Nao",null,{"$f":"VLOOKUP(E39598,'Padrão mensagem'!$A$3:$B$67,2,0)","v":{"$error":"#N/A"}}]
[null,null,null,"Nao",null,{"$f":"VLOOKUP(E39641,'Padrão mensagem'!$A$3:$B$67,2,0)","v":{"$error":"#N/A"}}]
[null,null,null,"Nao",null,{"$f":"VLOOKUP(E39680,'Padrão mensagem'!$A$3:$B$67,2,0)","v":{"$error":"#N/A"}}]
[null,null,null,"Nao",null,{"$f":"VLOOKUP(E39690,'Padrão mensagem'!$A$3:$B$67,2,0)","v":{"$error":"#N/A"}}]
[null,null,null,"Nao",null,{"$f":"VLOOKUP(E39733,'Padrão mensagem'!$A$3:$B$67,2,0)","v":{"$error":"#N/A"}}]
[null,null,null,"Nao",null,{"$f":"VLOOKUP(E39767,'Padrão mensagem'!$A$3:$B$67,2,0)","v":{"$error":"#N/A"}}]
[null,null,null,"Nao",null,{"$f":"VLOOKUP(E39810,'Padrão mensagem'!$A$3:$B$67,2,0)","v":{"$error":"#N/A"}}]
[null,null,null,"Nao",null,{"$f":"VLOOKUP(E39850,'Padrão mensagem'!$A$3:$B$67,2,0)","v":{"$error":"#N/A"}}]
[null,null,null,"Nao",null,{"$f":"VLOOKUP(E39854,'Padrão mensagem'!$A$3:$B$67,2,0)","v":{"$error":"#N/A"}}]
[null,null,null,"Nao",null,{"$f":"VLOOKUP(E39897,'Padrão mensagem'!$A$3:$B$67,2,0)","v":{"$error":"#N/A"}}]
[null,null,null,"Nao",null,{"$f":"VLOOKUP(E39936,'Padrão mensagem'!$A$3:$B$67,2,0)","v":{"$error":"#N/A"}}]
[null,null,null,"Nao",null,{"$f":"VLOOKUP(E39953,'Padrão mensagem'!$A$3:$B$67,2,0)","v":{"$error":"#N/A"}}]
[null,null,null,"Nao",null,{"$f":"VLOOKUP(E39984,'Padrão mensagem'!$A$3:$B$67,2,0)","v":{"$error":"#N/A"}}]
[null,null,null,"Nao",null,{"$f":"VLOOKUP(E40023,'Padrão mensagem'!$A$3:$B$67,2,0)","v":{"$error":"#N/A"}}]
[null,null,null,"Nao",null,{"$f":"VLOOKUP(E40066,'Padrão mensagem'!$A$3:$B$67,2,0)","v":{"$error":"#N/A"}}]
[null,null,null,"Nao",null,{"$f":"VLOOKUP(E40088,'Padrão mensagem'!$A$3:$B$67,2,0)","v":{"$error":"#N/A"}}]
[null,null,null,"Nao",null,{"$f":"VLOOKUP(E40143,'Padrão mensagem'!$A$3:$B$67,2,0)","v":{"$error":"#N/A"}}]
[null,null,null,"Nao",null,{"$f":"VLOOKUP(E40153,'Padrão mensagem'!$A$3:$B$67,2,0)","v":{"$error":"#N/A"}}]
[null,null,null,"Nao",null,{"$f":"VLOOKUP(E40205,'Padrão mensagem'!$A$3:$B$67,2,0)","v":{"$error":"#N/A"}}]
[null,null,null,"Nao",null,{"$f":"VLOOKUP(E40234,'Padrão mensagem'!$A$3:$B$67,2,0)","v":{"$error":"#N/A"}}]
[null,null,null,"Nao",null,{"$f":"VLOOKUP(E40273,'Padrão mensagem'!$A$3:$B$67,2,0)","v":{"$error":"#N/A"}}]
[null,null,null,"Nao",null,{"$f":"VLOOKUP(E40279,'Padrão mensagem'!$A$3:$B$67,2,0)","v":{"$error":"#N/A"}}]
[null,null,null,"Nao",null,{"$f":"VLOOKUP(E40340,'Padrão mensagem'!$A$3:$B$67,2,0)","v":{"$error":"#N/A"}}]
[null,null,null,"Nao",null,{"$f":"VLOOKUP(E40360,'Padrão mensagem'!$A$3:$B$67,2,0)","v":{"$error":"#N/A"}}]
[null,null,null,"Nao",null,{"$f":"VLOOKUP(E40403,'Padrão mensagem'!$A$3:$B$67,2,0)","v":{"$error":"#N/A"}}]
[null,null,null,"Nao",null,{"$f":"VLOOKUP(E40425,'Padrão mensagem'!$A$3:$B$67,2,0)","v":{"$error":"#N/A"}}]
[null,null,null,"Nao",null,{"$f":"VLOOKUP(E40447,'Padrão mensagem'!$A$3:$B$67,2,0)","v":{"$error":"#N/A"}}]
[null,null,null,"Nao",null,{"$f":"VLOOKUP(E40490,'Padrão mensagem'!$A$3:$B$67,2,0)","v":{"$error":"#N/A"}}]
[null,null,null,"Nao",null,{"$f":"VLOOKUP(E40529,'Padrão mensagem'!$A$3:$B$67,2,0)","v":{"$error":"#N/A"}}]
[null,null,null,"Nao",null,{"$f":"VLOOKUP(E40560,'Padrão mensagem'!$A$3:$B$67,2,0)","v":{"$error":"#N/A"}}]
[null,null,null,"Nao",null,{"$f":"VLOOKUP(E40577,'Padrão mensagem'!$A$3:$B$67,2,0)","v":{"$error":"#N/A"}}]
[null,null,null,"Nao",null,{"$f":"VLOOKUP(E40616,'Padrão mensagem'!$A$3:$B$67,2,0)","v":{"$error":"#N/A"}}]
[null,null,null,"Nao",null,{"$f":"VLOOKUP(E40645,'Padrão mensagem'!$A$3:$B$67,2,0)","v":{"$error":"#N/A"}}]
[null,null,null,"Nao",null,{"$f":"VLOOKUP(E40697,'Padrão mensagem'!$A$3:$B$67,2,0)","v":{"$error":"#N/A"}}]
[null,null,null,"Nao",null,{"$f":"VLOOKUP(E40736,'Padrão mensagem'!$A$3:$B$67,2,0)","v":{"$error":"#N/A"}}]
[null,null,null,"Nao",null,{"$f":"VLOOKUP(E40746,'Padrão mensagem'!$A$3:$B$67,2,0)","v":{"$error":"#N/A"}}]
[null,null,null,"Nao",null,{"$f":"VLOOKUP(E40780,'Padrão mensagem'!$A$3:$B$67,2,0)","v":{"$error":"#N/A"}}]
[null,null,null,"Nao",null,{"$f":"VLOOKUP(E40827,'Padrão mensagem'!$A$3:$B$67,2,0)","v":{"$error":"#N/A"}}]
[null,null,null,"Nao",null,{"$f":"VLOOKUP(E40866,'Padrão mensagem'!$A$3:$B$67,2,0)","v":{"$error":"#N/A"}}]
[null,null,null,"Nao",null,{"$f":"VLOOKUP(E40897,'Padrão mensagem'!$A$3:$B$67,2,0)","v":{"$error":"#N/A"}}]
[null,null,null,"Nao",null,{"$f":"VLOOKUP(E40914,'Padrão mensagem'!$A$3:$B$67,2,0)","v":{"$error":"#N/A"}}]
[null,null,null,"Nao",null,{"$f":"VLOOKUP(E40953,'Padrão mensagem'!$A$3:$B$67,2,0)","v":{"$error":"#N/A"}}]
[null,null,null,"Nao",null,{"$f":"VLOOKUP(E40992,'Padrão mensagem'!$A$3:$B$67,2,0)","v":{"$error":"#N/A"}}]
[null,null,null,"Nao",null,{"$f":"VLOOKUP(E41000,'Padrão mensagem'!$A$3:$B$67,2,0)","v":{"$error":"#N/A"}}]
[null,null,null,"Nao",null,{"$f":"VLOOKUP(E41040,'Padrão mensagem'!$A$3:$B$67,2,0)","v":{"$error":"#N/A"}}]
[null,null,null,"Nao",null,{"$f":"VLOOKUP(E41083,'Padrão mensagem'!$A$3:$B$67,2,0)","v":{"$error":"#N/A"}}]
[null,null,null,"Nao",null,{"$f":"VLOOKUP(E41117,'Padrão mensagem'!$A$3:$B$67,2,0)","v":{"$error":"#N/A"}}]
[null,null,null,"Nao",null,{"$f":"VLOOKUP(E41160,'Padrão mensagem'!$A$3:$B$67,2,0)","v":{"$error":"#N/A"}}]
[null,null,null,"Nao",null,{"$f":"VLOOKUP(E41170,'Padrão mensagem'!$A$3:$B$67,2,0)","v":{"$error":"#N/A"}}]
[null,null,null,"Nao",null,{"$f":"VLOOKUP(E41209,'Padrão mensagem'!$A$3:$B$67,2,0)","v":{"$error":"#N/A"}}]
[null,null,null,"Nao",null,{"$f":"VLOOKUP(E41252,'Padrão mensagem'!$A$3:$B$67,2,0)","v":{"$error":"#N/A"}}]
[null,null,null,"Nao",null,{"$f":"VLOOKUP(E41290,'Padrão mensagem'!$A$3:$B$67,2,0)","v":{"$error":"#N/A"}}]
[null,null,null,"Nao",null,{"$f":"VLOOKUP(E41296,'Padrão mensagem'!$A$3:$B$67,2,0)","v":{"$error":"#N/A"}}]
[null,null,null,"Nao",null,{"$f":"VLOOKUP(E41337,'Padrão mensagem'!$A$3:$B$67,2,0)","v":{"$error":"#N/A"}}]
[null,null,null,"Nao",null,{"$f":"VLOOKUP(E41377,'Padrão mensagem'!$A$3:$B$67,2,0)","v":{"$error":"#N/A"}}]
[null,null,null,"Nao",null,{"$f":"VLOOKUP(E41416,'Padrão mensagem'!$A$3:$B$67,2,0)","v":{"$error":"#N/A"}}]
[null,null,null,"Nao",null,{"$f":"VLOOKUP(E41426,'Padrão mensagem'!$A$3:$B$67,2,0)","v":{"$error":"#N/A"}}]
[null,null,null,"Nao",null,{"$f":"VLOOKUP(E41472,'Padrão mensagem'!$A$3:$B$67,2,0)","v":{"$error":"#N/A"}}]
[null,null,null,"Nao",null,{"$f":"VLOOKUP(E41507,'Padrão mensagem'!$A$3:$B$67,2,0)","v":{"$error":"#N/A"}}]
[null,null,null,"Nao",null,{"$f":"VLOOKUP(E41546,'Padrão mensagem'!$A$3:$B$67,2,0)","v":{"$error":"#N/A"}}]
[null,null,null,"Nao",null,{"$f":"VLOOKUP(E41557,'Padrão mensagem'!$A$3:$B$67,2,0)","v":{"$error":"#N/A"}}]
[null,null,null,"Nao",null,{"$f":"VLOOKUP(E41594,'Padrão mensagem'!$A$3:$B$67,2,0)","v":{"$error":"#N/A"}}]
[null,null,null,"Nao",null,{"$f":"VLOOKUP(E41633,'Padrão mensagem'!$A$3:$B$67,2,0)","v":{"$error":"#N/A"}}]
[null,null,null,"Nao",null,{"$f":"VLOOKUP(E41672,'Padrão mensagem'!$A$3:$B$67,2,0)","v":{"$error":"#N/A"}}]
[null,null,null,"Nao",null,{"$f":"VLOOKUP(E41692,'Padrão mensagem'!$A$3:$B$67,2,0)","v":{"$error":"#N/A"}}]
[null,null,null,"Nao",null,{"$f":"VLOOKUP(E41720,'Padrão mensagem'!$A$3:$B$67,2,0)","v":{"$error":"#N/A"}}]
[null,null,null,"Nao",null,{"$f":"VLOOKUP(E41763,'Padrão mensagem'!$A$3:$B$67,2,0)","v":{"$error":"#N/A"}}]
[null,null,null,"Nao",null,{"$f":"VLOOKUP(E41809,'Padrão mensagem'!$A$3:$B$67,2,0)","v":{"$error":"#N/A"}}]
[null,null,null,"Nao",null,{"$f":"VLOOKUP(E41840,'Padrão mensagem'!$A$3:$B$67,2,0)","v":{"$error":"#N/A"}}]
[null,null,null,"Nao",null,{"$f":"VLOOKUP(E41850,'Padrão mensagem'!$A$3:$B$67,2,0)","v":{"$error":"#N/A"}}]
[null,null,null,"Nao",null,{"$f":"VLOOKUP(E41889,'Padrão mensagem'!$A$3:$B$67,2,0)","v":{"$error":"#N/A"}}]
[null,null,null,"Nao",null,{"$f":"VLOOKUP(E41944,'Padrão mensagem'!$A$3:$B$67,2,0)","v":{"$error":"#N/A"}}]
[null,null,null,"Nao",null,{"$f":"VLOOKUP(E41970,'Padrão mensagem'!$A$3:$B$67,2,0)","v":{"$error":"#N/A"}}]
[null,null,null,"Nao",null,{"$f":"VLOOKUP(E42009,'Padrão mensagem'!$A$3:$B$67,2,0)","v":{"$error":"#N/A"}}]
[null,null,null,"Nao",null,{"$f":"VLOOKUP(E42029,'Padrão mensagem'!$A$3:$B$67,2,0)","v":{"$error":"#N/A"}}]
[null,null,null,"Nao",null,{"$f":"VLOOKUP(E42057,'Padrão mensagem'!$A$3:$B$67,2,0)","v":{"$error":"#N/A"}}]
[null,null,null,"Nao",null,{"$f":"VLOOKUP(E42096,'Padrão mensagem'!$A$3:$B$67,2,0)","v":{"$error":"#N/A"}}]
[null,null,null,"Nao",null,{"$f":"VLOOKUP(E42139,'Padrão mensagem'!$A$3:$B$67,2,0)","v":{"$error":"#N/A"}}]
[null,null,null,"Nao",null,{"$f":"VLOOKUP(E42164,'Padrão mensagem'!$A$3:$B$67,2,0)","v":{"$error":"#N/A"}}]
[null,null,null,"Nao",null,{"$f":"VLOOKUP(E42187,'Padrão mensagem'!$A$3:$B$67,2,0)","v":{"$error":"#N/A"}}]
[null,null,null,"Nao",null,{"$f":"VLOOKUP(E42226,'Padrão mensagem'!$A$3:$B$67,2,0)","v":{"$error":"#N/A"}}]
[null,null,null,"Nao",null,{"$f":"VLOOKUP(E42265,'Padrão mensagem'!$A$3:$B$67,2,0)","v":{"$error":"#N/A"}}]
[null,null,null,"Nao",null,{"$f":"VLOOKUP(E42299,'Padrão mensagem'!$A$3:$B$67,2,0)","v":{"$error":"#N/A"}}]
[null,null,null,"Nao",null,{"$f":"VLOOKUP(E42313,'Padrão mensagem'!$A$3:$B$67,2,0)","v":{"$error":"#N/A"}}]
[null,null,null,"Nao",null,{"$f":"VLOOKUP(E42352,'Padrão mensagem'!$A$3:$B$67,2,0)","v":{"$error":"#N/A"}}]
[null,null,null,"Nao",null,{"$f":"VLOOKUP(E42384,'Padrão mensagem'!$A$3:$B$67,2,0)","v":{"$error":"#N/A"}}]
[null,null,null,"Nao",null,{"$f":"VLOOKUP(E42433,'Padrão mensagem'!$A$3:$B$67,2,0)","v":{"$error":"#N/A"}}]
[null,null,null,"Nao",null,{"$f":"VLOOKUP(E42443,'Padrão mensagem'!$A$3:$B$67,2,0)","v":{"$error":"#N/A"}}]
[null,null,null,"Nao",null,{"$f":"VLOOKUP(E42482,'Padrão mensagem'!$A$3:$B$67,2,0)","v":{"$error":"#N/A"}}]
[null,null,null,"Nao",null,{"$f":"VLOOKUP(E42519,'Padrão mensagem'!$A$3:$B$67,2,0)","v":{"$error":"#N/A"}}]
[null,null,null,"Nao",null,{"$f":"VLOOKUP(E42563,'Padrão mensagem'!$A$3:$B$67,2,0)","v":{"$error":"#N/A"}}]
[null,null,null,"Nao",null,{"$f":"VLOOKUP(E42569,'Padrão mensagem'!$A$3:$B$67,2,0)","v":{"$error":"#N/A"}}]
[null,null,null,"Nao",null,{"$f":"VLOOKUP(E42604,'Padrão mensagem'!$A$3:$B$67,2,0)","v":{"$error":"#N/A"}}]
[null,null,null,"Nao",null,{"$f":"VLOOKUP(E42650,'Padrão mensagem'!$A$3:$B$67,2,0)","v":{"$error":"#N/A"}}]
[null,null,null,"Nao",null,{"$f":"VLOOKUP(E42689,'Padrão mensagem'!$A$3:$B$67,2,0)","v":{"$error":"#N/A"}}]
[null,null,null,"Nao",null,{"$f":"VLOOKUP(E42732,'Padrão mensagem'!$A$3:$B$67,2,0)","v":{"$error":"#N/A"}}]
[null,null,null,"Nao",null,{"$f":"VLOOKUP(E42739,'Padrão mensagem'!$A$3:$B$67,2,0)","v":{"$error":"#N/A"}}]
[null,null,null,"Nao",null,{"$f":"VLOOKUP(E42776,'Padrão mensagem'!$A$3:$B$67,2,0)","v":{"$error":"#N/A"}}]
[null,null,null,"Nao",null,{"$f":"VLOOKUP(E42819,'Padrão mensagem'!$A$3:$B$67,2,0)","v":{"$error":"#N/A"}}]
[null,null,null,"Nao",null,{"$f":"VLOOKUP(E42856,'Padrão mensagem'!$A$3:$B$67,2,0)","v":{"$error":"#N/A"}}]
[null,null,null,"Nao",null,{"$f":"VLOOKUP(E42867,'Padrão mensagem'!$A$3:$B$67,2,0)","v":{"$error":"#N/A"}}]
[null,null,null,"Nao",null,{"$f":"VLOOKUP(E42906,'Padrão mensagem'!$A$3:$B$67,2,0)","v":{"$error":"#N/A"}}]
[null,null,null,"Nao",null,{"$f":"VLOOKUP(E42945,'Padrão mensagem'!$A$3:$B$67,2,0)","v":{"$error":"#N/A"}}]
[null,null,null,"Nao",null,{"$f":"VLOOKUP(E42991,'Padrão mensagem'!$A$3:$B$67,2,0)","v":{"$error":"#N/A"}}]
[null,null,null,"Nao",null,{"$f":"VLOOKUP(E43026,'Padrão mensagem'!$A$3:$B$67,2,0)","v":{"$error":"#N/A"}}]
[null,null,null,"Nao",null,{"$f":"VLOOKUP(E43032,'Padrão mensagem'!$A$3:$B$67,2,0)","v":{"$error":"#N/A"}}]
[null,null,null,"Nao",null,{"$f":"VLOOKUP(E43076,'Padrão mensagem'!$A$3:$B$67,2,0)","v":{"$error":"#N/A"}}]
[null,null,null,"Nao",null,{"$f":"VLOOKUP(E43113,'Padrão mensagem'!$A$3:$B$67,2,0)","v":{"$error":"#N/A"}}]
[null,null,null,"Nao",null,{"$f":"VLOOKUP(E43156,'Padrão mensagem'!$A$3:$B$67,2,0)","v":{"$error":"#N/A"}}]
[null,null,null,"Nao",null,{"$f":"VLOOKUP(E43162,'Padrão mensagem'!$A$3:$B$67,2,0)","v":{"$error":"#N/A"}}]
[null,null,null,"Nao",null,{"$f":"VLOOKUP(E43211,'Padrão mensagem'!$A$3:$B$67,2,0)","v":{"$error":"#N/A"}}]
[null,null,null,"Nao",null,{"$f":"VLOOKUP(E43243,'Padrão mensagem'!$A$3:$B$67,2,0)","v":{"$error":"#N/A"}}]
[null,null,null,"Nao",null,{"$f":"VLOOKUP(E43282,'Padrão mensagem'!$A$3:$B$67,2,0)","v":{"$error":"#N/A"}}]
[null,null,null,"Nao",null,{"$f":"VLOOKUP(E43296,'Padrão mensagem'!$A$3:$B$67,2,0)","v":{"$error":"#N/A"}}]
[null,null,null,"Nao",null,{"$f":"VLOOKUP(E43330,'Padrão mensagem'!$A$3:$B$67,2,0)","v":{"$error":"#N/A"}}]
[null,null,null,"Nao",null,{"$f":"VLOOKUP(E43369,'Padrão mensagem'!$A$3:$B$67,2,0)","v":{"$error":"#N/A"}}]
[null,null,null,"Nao",null,{"$f":"VLOOKUP(E43412,'Padrão mensagem'!$A$3:$B$67,2,0)","v":{"$error":"#N/A"}}]
[null,null,null,"Nao",null,{"$f":"VLOOKUP(E43431,'Padrão mensagem'!$A$3:$B$67,2,0)","v":{"$error":"#N/A"}}]
[null,null,null,"Nao",null,{"$f":"VLOOKUP(E43456,'Padrão mensagem'!$A$3:$B$67,2,0)","v":{"$error":"#N/A"}}]
[null,null,null,"Nao",null,{"$f":"VLOOKUP(E43499,'Padrão mensagem'!$A$3:$B$67,2,0)","v":{"$error":"#N/A"}}]
[null,null,null,"Nao",null,{"$f":"VLOOKUP(E43548,'Padrão mensagem'!$A$3:$B$67,2,0)","v":{"$error":"#N/A"}}]
[null,null,null,"Nao",null,{"$f":"VLOOKUP(E43580,'Padrão mensagem'!$A$3:$B$67,2,0)","v":{"$error":"#N/A"}}]
[null,null,null,"Nao",null,{"$f":"VLOOKUP(E43586,'Padrão mensagem'!$A$3:$B$67,2,0)","v":{"$error":"#N/A"}}]
[null,null,null,"Nao",null,{"$f":"VLOOKUP(E43625,'Padrão mensagem'!$A$3:$B$67,2,0)","v":{"$error":"#N/A"}}]
[null,null,null,"Nao",null,{"$f":"VLOOKUP(E43651,'Padrão mensagem'!$A$3:$B$67,2,0)","v":{"$error":"#N/A"}}]
[null,null,null,"Nao",null,{"$f":"VLOOKUP(E43706,'Padrão mensagem'!$A$3:$B$67,2,0)","v":{"$error":"#N/A"}}]
[null,null,null,"Nao",null,{"$f":"VLOOKUP(E43716,'Padrão mensagem'!$A$3:$B$67,2,0)","v":{"$error":"#N/A"}}]
[null,null,null,"Nao",null,{"$f":"VLOOKUP(E43768,'Padrão mensagem'!$A$3:$B$67,2,0)","v":{"$error":"#N/A"}}]
[null,null,null,"Nao",null,{"$f":"VLOOKUP(E43793,'Padrão mensagem'!$A$3:$B$67,2,0)","v":{"$error":"#N/A"}}]
[null,null,null,"Nao",null,{"$f":"VLOOKUP(E43836,'Padrão mensagem'!$A$3:$B$67,2,0)","v":{"$error":"#N/A"}}]
[null,null,null,"Nao",null,{"$f":"VLOOKUP(E43875,'Padrão mensagem'!$A$3:$B$67,2,0)","v":{"$error":"#N/A"}}]
[null,null,null,"Nao",null,{"$f":"VLOOKUP(E43903,'Padrão mensagem'!$A$3:$B$67,2,0)","v":{"$error":"#N/A"}}]
[null,null,null,"Nao",null,{"$f":"VLOOKUP(E43923,'Padrão mensagem'!$A$3:$B$67,2,0)","v":{"$error":"#N/A"}}]
[null,null,null,"Nao",null,{"$f":"VLOOKUP(E43962,'Padrão mensagem'!$A$3:$B$67,2,0)","v":{"$error":"#N/A"}}]
[null,null,null,"Nao",null,{"$f":"VLOOKUP(E43988,'Padrão mensagem'!$A$3:$B$67,2,0)","v":{"$error":"#N/A"}}]
[null,null,null,"Nao",null,{"$f":"VLOOKUP(E44010,'Padrão mensagem'!$A$3:$B$67,2,0)","v":{"$error":"#N/A"}}]
[null,null,null,"Nao",null,{"$f":"VLOOKUP(E44049,'Padrão mensagem'!$A$3:$B$67,2,0)","v":{"$error":"#N/A"}}]
[null,null,null,"Nao",null,{"$f":"VLOOKUP(E44092,'Padrão mensagem'!$A$3:$B$67,2,0)","v":{"$error":"#N/A"}}]
[null,null,null,"Nao",null,{"$f":"VLOOKUP(E44123,'Padrão mensagem'!$A$3:$B$67,2,0)","v":{"$error":"#N/A"}}]
[null,null,null,"Nao",null,{"$f":"VLOOKUP(E44169,'Padrão mensagem'!$A$3:$B$67,2,0)","v":{"$error":"#N/A"}}]
[null,null,null,"Nao",null,{"$f":"VLOOKUP(E44179,'Padrão mensagem'!$A$3:$B$67,2,0)","v":{"$error":"#N/A"}}]
[null,null,null,"Nao",null,{"$f":"VLOOKUP(E44218,'Padrão mensagem'!$A$3:$B$67,2,0)","v":{"$error":"#N/A"}}]
[null,null,null,"Nao",null,{"$f":"VLOOKUP(E44258,'Padrão mensagem'!$A$3:$B$67,2,0)","v":{"$error":"#N/A"}}]
[null,null,null,"Nao",null,{"$f":"VLOOKUP(E44299,'Padrão mensagem'!$A$3:$B$67,2,0)","v":{"$error":"#N/A"}}]
[null,null,null,"Nao",null,{"$f":"VLOOKUP(E44305,'Padrão mensagem'!$A$3:$B$67,2,0)","v":{"$error":"#N/A"}}]
[null,null,null,"Nao",null,{"$f":"VLOOKUP(E44343,'Padrão mensagem'!$A$3:$B$67,2,0)","v":{"$error":"#N/A"}}]
[null,null,null,"Nao",null,{"$f":"VLOOKUP(E44386,'Padrão mensagem'!$A$3:$B$67,2,0)","v":{"$error":"#N/A"}}]
[null,null,null,"Nao",null,{"$f":"VLOOKUP(E44429,'Padrão mensagem'!$A$3:$B$67,2,0)","v":{"$error":"#N/A"}}]
[null,null,null,"Nao",null,{"$f":"VLOOKUP(E44435,'Padrão mensagem'!$A$3:$B$67,2,0)","v":{"$error":"#N/A"}}]
[null,null,null,"Nao",null,{"$f":"VLOOKUP(E44478,'Padrão mensagem'!$A$3:$B$67,2,0)","v":{"$error":"#N/A"}}]
[null,null,null,"Nao",null,{"$f":"VLOOKUP(E44516,'Padrão mensagem'!$A$3:$B$67,2,0)","v":{"$error":"#N/A"}}]
[null,null,null,"Nao",null,{"$f":"VLOOKUP(E44555,'Padrão mensagem'!$A$3:$B$67,2,0)","v":{"$error":"#N/A"}}]
[null,null,null,"Nao",null,{"$f":"VLOOKUP(E44595,'Padrão mensagem'!$A$3:$B$67,2,0)","v":{"$error":"#N/A"}}]
[null,null,null,"Nao",null,{"$f":"VLOOKUP(E44603,'Padrão mensagem'!$A$3:$B$67,2,0)","v":{"$error":"#N/A"}}]
[null,null,null,"Nao",null,{"$f":"VLOOKUP(E44642,'Padrão mensagem'!$A$3:$B$67,2,0)","v":{"$error":"#N/A"}}]
[null,null,null,"Nao",null,{"$f":"VLOOKUP(E44685,'Padrão mensagem'!$A$3:$B$67,2,0)","v":{"$error":"#N/A"}}]
[null,null,null,"Nao",null,{"$f":"VLOOKUP(E44698,'Padrão mensagem'!$A$3:$B$67,2,0)","v":{"$error":"#N/A"}}]
[null,null,null,"Nao",null,{"$f":"VLOOKUP(E44729,'Padrão mensagem'!$A$3:$B$67,2,0)","v":{"$error":"#N/A"}}]
[null,null,null,"Nao",null,{"$f":"VLOOKUP(E44772,'Padrão mensagem'!$A$3:$B$67,2,0)","v":{"$error":"#N/A"}}]
[null,null,null,"Nao",null,{"$f":"VLOOKUP(E44815,'Padrão mensagem'!$A$3:$B$67,2,0)","v":{"$error":"#N/A"}}]
[null,null,null,"Nao",null,{"$f":"VLOOKUP(E44849,'Padrão mensagem'!$A$3:$B$67,2,0)","v":{"$error":"#N/A"}}]
[null,null,null,"Nao",null,{"$f":"VLOOKUP(E44859,'Padrão mensagem'!$A$3:$B$67,2,0)","v":{"$error":"#N/A"}}]
[null,null,null,"Nao",null,{"$f":"VLOOKUP(E44898,'Padrão mensagem'!$A$3:$B$67,2,0)","v":{"$error":"#N/A"}}]
[null,null,null,"Nao",null,{"$f":"VLOOKUP(E44950,'Padrão mensagem'!$A$3:$B$67,2,0)","v":{"$error":"#N/A"}}]
[null,null,null,"Nao",null,{"$f":"VLOOKUP(E44979,'Padrão mensagem'!$A$3:$B$67,2,0)","v":{"$error":"#N/A"}}]
[null,null,null,"Nao",null,{"$f":"VLOOKUP(E45018,'Padrão mensagem'!$A$3:$B$67,2,0)","v":{"$error":"#N/A"}}]
[null,null,null,"Nao",null,{"$f":"VLOOKUP(E45035,'Padrão mensagem'!$A$3:$B$67,2,0)","v":{"$error":"#N/A"}}]
[null,null,null,"Nao",null,{"$f":"VLOOKUP(E45066,'Padrão mensagem'!$A$3:$B$67,2,0)","v":{"$error":"#N/A"}}]
[null,null,null,"Nao",null,{"$f":"VLOOKUP(E45109,'Padrão mensagem'!$A$3:$B$67,2,0)","v":{"$error":"#N/A"}}]
[null,null,null,"Nao",null,{"$f":"VLOOKUP(E45148,'Padrão mensagem'!$A$3:$B$67,2,0)","v":{"$error":"#N/A"}}]
[null,null,null,"Nao",null,{"$f":"VLOOKUP(E45170,'Padrão mensagem'!$A$3:$B$67,2,0)","v":{"$error":"#N/A"}}]
[null,null,null,"Nao",null,{"$f":"VLOOKUP(E45196,'Padrão mensagem'!$A$3:$B$67,2,0)","v":{"$error":"#N/A"}}]
[null,null,null,"Nao",null,{"$f":"VLOOKUP(E45235,'Padrão mensagem'!$A$3:$B$67,2,0)","v":{"$error":"#N/A"}}]
[null,null,null,"Nao",null,{"$f":"VLOOKUP(E45255,'Padrão mensagem'!$A$3:$B$67,2,0)","v":{"$error":"#N/A"}}]
[null,null,null,"Nao",null,{"$f":"VLOOKUP(E45316,'Padrão mensagem'!$A$3:$B$67,2,0)","v":{"$error":"#N/A"}}]
[null,null,null,"Nao",null,{"$f":"VLOOKUP(E45322,'Padrão mensagem'!$A$3:$B$67,2,0)","v":{"$error":"#N/A"}}]
[null,null,null,"Nao",null,{"$f":"VLOOKUP(E45365,'Padrão mensagem'!$A$3:$B$67,2,0)","v":{"$error":"#N/A"}}]
[null,null,null,"Nao",null,{"$f":"VLOOKUP(E45390,'Padrão mensagem'!$A$3:$B$67,2,0)","v":{"$error":"#N/A"}}]
[null,null,null,"Nao",null,{"$f":"VLOOKUP(E45442,'Padrão mensagem'!$A$3:$B$67,2,0)","v":{"$error":"#N/A"}}]
[null,null,null,"Nao",null,{"$f":"VLOOKUP(E45452,'Padrão mensagem'!$A$3:$B$67,2,0)","v":{"$error":"#N/A"}}]
[null,null,null,"Nao",null,{"$f":"VLOOKUP(E45507,'Padrão mensagem'!$A$3:$B$67,2,0)","v":{"$error":"#N/A"}}]
[null,null,null,"Nao",null,{"$f":"VLOOKUP(E45533,'Padrão mensagem'!$A$3:$B$67,2,0)","v":{"$error":"#N/A"}}]
[null,null,null,"Nao",null,{"$f":"VLOOKUP(E45572,'Padrão mensagem'!$A$3:$B$67,2,0)","v":{"$error":"#N/A"}}]
[null,null,null,"Nao",null,{"$f":"VLOOKUP(E45611,'Padrão mensagem'!$A$3:$B$67,2,0)","v":{"$error":"#N/A"}}]
[null,null,null,"Nao",null,{"$f":"VLOOKUP(E45642,'Padrão mensagem'!$A$3:$B$67,2,0)","v":{"$error":"#N/A"}}]
[null,null,null,"Nao",null,{"$f":"VLOOKUP(E45659,'Padrão mensagem'!$A$3:$B$67,2,0)","v":{"$error":"#N/A"}}]
[null,null,null,"Nao",null,{"$f":"VLOOKUP(E45698,'Padrão mensagem'!$A$3:$B$67,2,0)","v":{"$error":"#N/A"}}]
[null,null,null,"Nao",null,{"$f":"VLOOKUP(E45727,'Padrão mensagem'!$A$3:$B$67,2,0)","v":{"$error":"#N/A"}}]
[null,null,null,"Nao",null,{"$f":"VLOOKUP(E45746,'Padrão mensagem'!$A$3:$B$67,2,0)","v":{"$error":"#N/A"}}]
[null,null,null,"Nao",null,{"$f":"VLOOKUP(E45789,'Padrão mensagem'!$A$3:$B$67,2,0)","v":{"$error":"#N/A"}}]
[null,null,null,"Nao",null,{"$f":"VLOOKUP(E45828,'Padrão mensagem'!$A$3:$B$67,2,0)","v":{"$error":"#N/A"}}]
[null,null,null,"Nao",null,{"$f":"VLOOKUP(E45862,'Padrão mensagem'!$A$3:$B$67,2,0)","v":{"$error":"#N/A"}}]
[null,null,null,"Nao",null,{"$f":"VLOOKUP(E45876,'Padrão mensagem'!$A$3:$B$67,2,0)","v":{"$error":"#N/A"}}]
[null,null,null,"Nao",null,{"$f":"VLOOKUP(E45915,'Padrão mensagem'!$A$3:$B$67,2,0)","v":{"$error":"#N/A"}}]
[null,null,null,"Nao",null,{"$f":"VLOOKUP(E45947,'Padrão mensagem'!$A$3:$B$67,2,0)","v":{"$error":"#N/A"}}]
[null,null,null,"Nao",null,{"$f":"VLOOKUP(E45996,'Padrão mensagem'!$A$3:$B$67,2,0)","v":{"$error":"#N/A"}}]
[null,null,null,"Nao",null,{"$f":"VLOOKUP(E46035,'Padrão mensagem'!$A$3:$B$67,2,0)","v":{"$error":"#N/A"}}]
[null,null,null,"Nao",null,{"$f":"VLOOKUP(E46045,'Padrão mensagem'!$A$3:$B$67,2,0)","v":{"$error":"#N/A"}}]
[null,null,null,"Nao",null,{"$f":"VLOOKUP(E46082,'Padrão mensagem'!$A$3:$B$67,2,0)","v":{"$error":"#N/A"}}]
[null,null,null,"Nao",null,{"$f":"VLOOKUP(E46122,'Padrão mensagem'!$A$3:$B$67,2,0)","v":{"$error":"#N/A"}}]
[null,null,null,"Nao",null,{"$f":"VLOOKUP(E46165,'Padrão mensagem'!$A$3:$B$67,2,0)","v":{"$error":"#N/A"}}]
[null,null,null,"Nao",null,{"$f":"VLOOKUP(E46199,'Padrão mensagem'!$A$3:$B$67,2,0)","v":{"$error":"#N/A"}}]
[null,null,null,"Nao",null,{"$f":"VLOOKUP(E46213,'Padrão mensagem'!$A$3:$B$67,2,0)","v":{"$error":"#N/A"}}]
[null,null,null,"Nao",null,{"$f":"VLOOKUP(E46252,'Padrão mensagem'!$A$3:$B$67,2,0)","v":{"$error":"#N/A"}}]
[null,null,null,"Nao",null,{"$f":"VLOOKUP(E46291,'Padrão mensagem'!$A$3:$B$67,2,0)","v":{"$error":"#N/A"}}]
[null,null,null,"Nao",null,{"$f":"VLOOKUP(E46302,'Padrão mensagem'!$A$3:$B$67,2,0)","v":{"$error":"#N/A"}}]
[null,null,null,"Nao",null,{"$f":"VLOOKUP(E46339,'Padrão mensagem'!$A$3:$B$67,2,0)","v":{"$error":"#N/A"}}]
[null,null,null,"Nao",null,{"$f":"VLOOKUP(E46378,'Padrão mensagem'!$A$3:$B$67,2,0)","v":{"$error":"#N/A"}}]
[null,null,null,"Nao",null,{"$f":"VLOOKUP(E46421,'Padrão mensagem'!$A$3:$B$67,2,0)","v":{"$error":"#N/A"}}]
[null,null,null,"Nao",null,{"$f":"VLOOKUP(E46437,'Padrão mensagem'!$A$3:$B$67,2,0)","v":{"$error":"#N/A"}}]
[null,null,null,"Nao",null,{"$f":"VLOOKUP(E46469,'Padrão mensagem'!$A$3:$B$67,2,0)","v":{"$error":"#N/A"}}]
[null,null,null,"Nao",null,{"$f":"VLOOKUP(E46508,'Padrão mensagem'!$A$3:$B$67,2,0)","v":{"$error":"#N/A"}}]
[null,null,null,"Nao",null,{"$f":"VLOOKUP(E46554,'Padrão mensagem'!$A$3:$B$67,2,0)","v":{"$error":"#N/A"}}]
[null,null,null,"Nao",null,{"$f":"VLOOKUP(E46589,'Padrão mensagem'!$A$3:$B$67,2,0)","v":{"$error":"#N/A"}}]
[null,null,null,"Nao",null,{"$f":"VLOOKUP(E46595,'Padrão mensagem'!$A$3:$B$67,2,0)","v":{"$error":"#N/A"}}]
[null,null,null,"Nao",null,{"$f":"VLOOKUP(E46638,'Padrão mensagem'!$A$3:$B$67,2,0)","v":{"$error":"#N/A"}}]
[null,null,null,"Nao",null,{"$f":"VLOOKUP(E46689,'Padrão mensagem'!$A$3:$B$67,2,0)","v":{"$error":"#N/A"}}]
[null,null,null,"Nao",null,{"$f":"VLOOKUP(E46715,'Padrão mensagem'!$A$3:$B$67,2,0)","v":{"$error":"#N/A"}}]
[null,null,null,"Nao",null,{"$f":"VLOOKUP(E46725,'Padrão mensagem'!$A$3:$B$67,2,0)","v":{"$error":"#N/A"}}]
[null,null,null,"Nao",null,{"$f":"VLOOKUP(E46774,'Padrão mensagem'!$A$3:$B$67,2,0)","v":{"$error":"#N/A"}}]
[null,null,null,"Nao",null,{"$f":"VLOOKUP(E46802,'Padrão mensagem'!$A$3:$B$67,2,0)","v":{"$error":"#N/A"}}]
[null,null,null,"Nao",null,{"$f":"VLOOKUP(E46845,'Padrão mensagem'!$A$3:$B$67,2,0)","v":{"$error":"#N/A"}}]
[null,null,null,"Nao",null,{"$f":"VLOOKUP(E46884,'Padrão mensagem'!$A$3:$B$67,2,0)","v":{"$error":"#N/A"}}]
[null,null,null,"Nao",null,{"$f":"VLOOKUP(E46909,'Padrão mensagem'!$A$3:$B$67,2,0)","v":{"$error":"#N/A"}}]
[null,null,null,"Nao",null,{"$f":"VLOOKUP(E46932,'Padrão mensagem'!$A$3:$B$67,2,0)","v":{"$error":"#N/A"}}]
[null,null,null,"Nao",null,{"$f":"VLOOKUP(E46971,'Padrão mensagem'!$A$3:$B$67,2,0)","v":{"$error":"#N/A"}}]
[null,null,null,"Nao",null,{"$f":"VLOOKUP(E46994,'Padrão mensagem'!$A$3:$B$67,2,0)","v":{"$error":"#N/A"}}]
[null,null,null,"Nao",null,{"$f":"VLOOKUP(E47019,'Padrão mensagem'!$A$3:$B$67,2,0)","v":{"$error":"#N/A"}}]
[null,null,null,"Nao",null,{"$f":"VLOOKUP(E47058,'Padrão mensagem'!$A$3:$B$67,2,0)","v":{"$error":"#N/A"}}]
[null,null,null,"Nao",null,{"$f":"VLOOKUP(E47101,'Padrão mensagem'!$A$3:$B$67,2,0)","v":{"$error":"#N/A"}}]
[null,null,null,"Nao",null,{"$f":"VLOOKUP(E47129,'Padrão mensagem'!$A$3:$B$67,2,0)","v":{"$error":"#N/A"}}]
[null,null,null,"Nao",null,{"$f":"VLOOKUP(E47149,'Padrão mensagem'!$A$3:$B$67,2,0)","v":{"$error":"#N/A"}}]
[null,null,null,"Nao",null,{"$f":"VLOOKUP(E47188,'Padrão mensagem'!$A$3:$B$67,2,0)","v":{"$error":"#N/A"}}]
[null,null,null,"Nao",null,{"$f":"VLOOKUP(E47246,'Padrão mensagem'!$A$3:$B$67,2,0)","v":{"$error":"#N/A"}}]
[null,null,null,"Nao",null,{"$f":"VLOOKUP(E47269,'Padrão mensagem'!$A$3:$B$67,2,0)","v":{"$error":"#N/A"}}]
[null,null,null,"Nao",null,{"$f":"VLOOKUP(E47308,'Padrão mensagem'!$A$3:$B$67,2,0)","v":{"$error":"#N/A"}}]
[null,null,null,"Nao",null,{"$f":"VLOOKUP(E47318,'Padrão mensagem'!$A$3:$B$67,2,0)","v":{"$error":"#N/A"}}]
[null,null,null,"Nao",null,{"$f":"VLOOKUP(E47349,'Padrão mensagem'!$A$3:$B$67,2,0)","v":{"$error":"#N/A"}}]
[null,null,null,"Nao",null,{"$f":"VLOOKUP(E47395,'Padrão mensagem'!$A$3:$B$67,2,0)","v":{"$error":"#N/A"}}]
[null,null,null,"Nao",null,{"$f":"VLOOKUP(E47438,'Padrão mensagem'!$A$3:$B$67,2,0)","v":{"$error":"#N/A"}}]
[null,null,null,"Nao",null,{"$f":"VLOOKUP(E47466,'Padrão mensagem'!$A$3:$B$67,2,0)","v":{"$error":"#N/A"}}]
[null,null,null,"Nao",null,{"$f":"VLOOKUP(E47482,'Padrão mensagem'!$A$3:$B$67,2,0)","v":{"$error":"#N/A"}}]
[null,null,null,"Nao",null,{"$f":"VLOOKUP(E47525,'Padrão mensagem'!$A$3:$B$67,2,0)","v":{"$error":"#N/A"}}]
[null,null,null,"Nao",null,{"$f":"VLOOKUP(E47564,'Padrão mensagem'!$A$3:$B$67,2,0)","v":{"$error":"#N/A"}}]
[null,null,null,"Nao",null,{"$f":"VLOOKUP(E47601,'Padrão mensagem'!$A$3:$B$67,2,0)","v":{"$error":"#N/A"}}]
[null,null,null,"Nao",null,{"$f":"VLOOKUP(E47612,'Padrão mensagem'!$A$3:$B$67,2,0)","v":{"$error":"#N/A"}}]
[null,null,null,"Nao",null,{"$f":"VLOOKUP(E47651,'Padrão mensagem'!$A$3:$B$67,2,0)","v":{"$error":"#N/A"}}]
[null,null,null,"Nao",null,{"$f":"VLOOKUP(E47686,'Padrão mensagem'!$A$3:$B$67,2,0)","v":{"$error":"#N/A"}}]
[null,null,null,"Nao",null,{"$f":"VLOOKUP(E47732,'Padrão mensagem'!$A$3:$B$67,2,0)","v":{"$error":"#N/A"}}]
[null,null,null,"Nao",null,{"$f":"VLOOKUP(E47738,'Padrão mensagem'!$A$3:$B$67,2,0)","v":{"$error":"#N/A"}}]
[null,null,null,"Nao",null,{"$f":"VLOOKUP(E47781,'Padrão mensagem'!$A$3:$B$67,2,0)","v":{"$error":"#N/A"}}]
[null,null,null,"Nao",null,{"$f":"VLOOKUP(E47821,'Padrão mensagem'!$A$3:$B$67,2,0)","v":{"$error":"#N/A"}}]
[null,null,null,"Nao",null,{"$f":"VLOOKUP(E47862,'Padrão mensagem'!$A$3:$B$67,2,0)","v":{"$error":"#N/A"}}]
[null,null,null,"Nao",null,{"$f":"VLOOKUP(E47901,'Padrão mensagem'!$A$3:$B$67,2,0)","v":{"$error":"#N/A"}}]
[null,null,null,"Nao",null,{"$f":"VLOOKUP(E47906,'Padrão mensagem'!$A$3:$B$67,2,0)","v":{"$error":"#N/A"}}]
[null,null,null,"Nao",null,{"$f":"VLOOKUP(E47949,'Padrão mensagem'!$A$3:$B$67,2,0)","v":{"$error":"#N/A"}}]
[null,null,null,"Nao",null,{"$f":"VLOOKUP(E47988,'Padrão mensagem'!$A$3:$B$67,2,0)","v":{"$error":"#N/A"}}]
[null,null,null,"Nao",null,{"$f":"VLOOKUP(E48031,'Padrão mensagem'!$A$3:$B$67,2,0)","v":{"$error":"#N/A"}}]
[null,null,null,"Nao",null,{"$f":"VLOOKUP(E48041,'Padrão mensagem'!$A$3:$B$67,2,0)","v":{"$error":"#N/A"}}]
[null,null,null,"Nao",null,{"$f":"VLOOKUP(E48075,'Padrão mensagem'!$A$3:$B$67,2,0)","v":{"$error":"#N/A"}}]
[null,null,null,"Nao",null,{"$f":"VLOOKUP(E48118,'Padrão mensagem'!$A$3:$B$67,2,0)","v":{"$error":"#N/A"}}]
[null,null,null,"Nao",null,{"$f":"VLOOKUP(E48158,'Padrão mensagem'!$A$3:$B$67,2,0)","v":{"$error":"#N/A"}}]
[null,null,null,"Nao",null,{"$f":"VLOOKUP(E48195,'Padrão mensagem'!$A$3:$B$67,2,0)","v":{"$error":"#N/A"}}]
[null,null,null,"Nao",null,{"$f":"VLOOKUP(E48205,'Padrão mensagem'!$A$3:$B$67,2,0)","v":{"$error":"#N/A"}}]
[null,null,null,"Nao",null,{"$f":"VLOOKUP(E48244,'Padrão mensagem'!$A$3:$B$67,2,0)","v":{"$error":"#N/A"}}]
[null,null,null,"Nao",null,{"$f":"VLOOKUP(E48293,'Padrão mensagem'!$A$3:$B$67,2,0)","v":{"$error":"#N/A"}}]
[null,null,null,"Nao",null,{"$f":"VLOOKUP(E48325,'Padrão mensagem'!$A$3:$B$67,2,0)","v":{"$error":"#N/A"}}]
[null,null,null,"Nao",null,{"$f":"VLOOKUP(E48331,'Padrão mensagem'!$A$3:$B$67,2,0)","v":{"$error":"#N/A"}}]
[null,null,null,"Nao",null,{"$f":"VLOOKUP(E48378,'Padrão mensagem'!$A$3:$B$67,2,0)","v":{"$error":"#N/A"}}]
[null,null,null,"Nao",null,{"$f":"VLOOKUP(E48412,'Padrão mensagem'!$A$3:$B$67,2,0)","v":{"$error":"#N/A"}}]
[null,null,null,"Nao",null,{"$f":"VLOOKUP(E48455,'Padrão mensagem'!$A$3:$B$67,2,0)","v":{"$error":"#N/A"}}]
[null,null,null,"Nao",null,{"$f":"VLOOKUP(E48461,'Padrão mensagem'!$A$3:$B$67,2,0)","v":{"$error":"#N/A"}}]
[null,null,null,"Nao",null,{"$f":"VLOOKUP(E48513,'Padrão mensagem'!$A$3:$B$67,2,0)","v":{"$error":"#N/A"}}]
[null,null,null,"Nao",null,{"$f":"VLOOKUP(E48542,'Padrão mensagem'!$A$3:$B$67,2,0)","v":{"$error":"#N/A"}}]
[null,null,null,"Nao",null,{"$f":"VLOOKUP(E48581,'Padrão mensagem'!$A$3:$B$67,2,0)","v":{"$error":"#N/A"}}]
[null,null,null,"Nao",null,{"$f":"VLOOKUP(E48620,'Padrão mensagem'!$A$3:$B$67,2,0)","v":{"$error":"#N/A"}}]
[null,null,null,"Nao",null,{"$f":"VLOOKUP(E48648,'Padrão mensagem'!$A$3:$B$67,2,0)","v":{"$error":"#N/A"}}]
[null,null,null,"Nao",null,{"$f":"VLOOKUP(E48668,'Padrão mensagem'!$A$3:$B$67,2,0)","v":{"$error":"#N/A"}}]
[null,null,null,"Nao",null,{"$f":"VLOOKUP(E48711,'Padrão mensagem'!$A$3:$B$67,2,0)","v":{"$error":"#N/A"}}]
[null,null,null,"Nao",null,{"$f":"VLOOKUP(E48733,'Padrão mensagem'!$A$3:$B$67,2,0)","v":{"$error":"#N/A"}}]
[null,null,null,"Nao",null,{"$f":"VLOOKUP(E48755,'Padrão mensagem'!$A$3:$B$67,2,0)","v":{"$error":"#N/A"}}]
[null,null,null,"Nao",null,{"$f":"VLOOKUP(E48798,'Padrão mensagem'!$A$3:$B$67,2,0)","v":{"$error":"#N/A"}}]
[null,null,null,"Nao",null,{"$f":"VLOOKUP(E48837,'Padrão mensagem'!$A$3:$B$67,2,0)","v":{"$error":"#N/A"}}]
[null,null,null,"Nao",null,{"$f":"VLOOKUP(E48868,'Padrão mensagem'!$A$3:$B$67,2,0)","v":{"$error":"#N/A"}}]
[null,null,null,"Nao",null,{"$f":"VLOOKUP(E48885,'Padrão mensagem'!$A$3:$B$67,2,0)","v":{"$error":"#N/A"}}]
[null,null,null,"Nao",null,{"$f":"VLOOKUP(E48924,'Padrão mensagem'!$A$3:$B$67,2,0)","v":{"$error":"#N/A"}}]
[null,null,null,"Nao",null,{"$f":"VLOOKUP(E48953,'Padrão mensagem'!$A$3:$B$67,2,0)","v":{"$error":"#N/A"}}]
[null,null,null,"Nao",null,{"$f":"VLOOKUP(E49005,'Padrão mensagem'!$A$3:$B$67,2,0)","v":{"$error":"#N/A"}}]
[null,null,null,"Nao",null,{"$f":"VLOOKUP(E49044,'Padrão mensagem'!$A$3:$B$67,2,0)","v":{"$error":"#N/A"}}]
[null,null,null,"Nao",null,{"$f":"VLOOKUP(E49054,'Padrão mensagem'!$A$3:$B$67,2,0)","v":{"$error":"#N/A"}}]
[null,null,null,"Nao",null,{"$f":"VLOOKUP(E49088,'Padrão mensagem'!$A$3:$B$67,2,0)","v":{"$error":"#N/A"}}]
[null,null,null,"Nao",null,{"$f":"VLOOKUP(E49135,'Padrão mensagem'!$A$3:$B$67,2,0)","v":{"$error":"#N/A"}}]
[null,null,null,"Nao",null,{"$f":"VLOOKUP(E49174,'Padrão mensagem'!$A$3:$B$67,2,0)","v":{"$error":"#N/A"}}]
[null,null,null,"Nao",null,{"$f":"VLOOKUP(E49205,'Padrão mensagem'!$A$3:$B$67,2,0)","v":{"$error":"#N/A"}}]
[null,null,null,"Nao",null,{"$f":"VLOOKUP(E49222,'Padrão mensagem'!$A$3:$B$67,2,0)","v":{"$error":"#N/A"}}]
[null,null,null,"Nao",null,{"$f":"VLOOKUP(E49261,'Padrão mensagem'!$A$3:$B$67,2,0)","v":{"$error":"#N/A"}}]
[null,null,null,"Nao",null,{"$f":"VLOOKUP(E49300,'Padrão mensagem'!$A$3:$B$67,2,0)","v":{"$error":"#N/A"}}]
[null,null,null,"Nao",null,{"$f":"VLOOKUP(E49340,'Padrão mensagem'!$A$3:$B$67,2,0)","v":{"$error":"#N/A"}}]
[null,null,null,"Nao",null,{"$f":"VLOOKUP(E49348,'Padrão mensagem'!$A$3:$B$67,2,0)","v":{"$error":"#N/A"}}]
[null,null,null,"Nao",null,{"$f":"VLOOKUP(E49391,'Padrão mensagem'!$A$3:$B$67,2,0)","v":{"$error":"#N/A"}}]
[null,null,null,"Nao",null,{"$f":"VLOOKUP(E49425,'Padrão mensagem'!$A$3:$B$67,2,0)","v":{"$error":"#N/A"}}]
[null,null,null,"Nao",null,{"$f":"VLOOKUP(E49468,'Padrão mensagem'!$A$3:$B$67,2,0)","v":{"$error":"#N/A"}}]
[null,null,null,"Nao",null,{"$f":"VLOOKUP(E49478,'Padrão mensagem'!$A$3:$B$67,2,0)","v":{"$error":"#N/A"}}]
[null,null,null,"Nao",null,{"$f":"VLOOKUP(E49517,'Padrão mensagem'!$A$3:$B$67,2,0)","v":{"$error":"#N/A"}}]
[null,null,null,"Nao",null,{"$f":"VLOOKUP(E49560,'Padrão mensagem'!$A$3:$B$67,2,0)","v":{"$error":"#N/A"}}]
[null,null,null,"Nao",null,{"$f":"VLOOKUP(E49598,'Padrão mensagem'!$A$3:$B$67,2,0)","v":{"$error":"#N/A"}}]
[null,null,null,"Nao",null,{"$f":"VLOOKUP(E49604,'Padrão mensagem'!$A$3:$B$67,2,0)","v":{"$error":"#N/A"}}]
[null,null,null,"Nao",null,{"$f":"VLOOKUP(E49645,'Padrão mensagem'!$A$3:$B$67,2,0)","v":{"$error":"#N/A"}}]
[null,null,null,"Nao",null,{"$f":"VLOOKUP(E49685,'Padrão mensagem'!$A$3:$B$67,2,0)","v":{"$error":"#N/A"}}]
[null,null,null,"Nao",null,{"$f":"VLOOKUP(E49724,'Padrão mensagem'!$A$3:$B$67,2,0)","v":{"$error":"#N/A"}}]
[null,null,null,"Nao",null,{"$f":"VLOOKUP(E49734,'Padrão mensagem'!$A$3:$B$67,2,0)","v":{"$error":"#N/A"}}]
[null,null,null,"Nao",null,{"$f":"VLOOKUP(E49780,'Padrão mensagem'!$A$3:$B$67,2,0)","v":{"$error":"#N/A"}}]
[null,null,null,"Nao",null,{"$f":"VLOOKUP(E49815,'Padrão mensagem'!$A$3:$B$67,2,0)","v":{"$error":"#N/A"}}]
[null,null,null,"Nao",null,{"$f":"VLOOKUP(E49854,'Padrão mensagem'!$A$3:$B$67,2,0)","v":{"$error":"#N/A"}}]
[null,null,null,"Nao",null,{"$f":"VLOOKUP(E49865,'Padrão mensagem'!$A$3:$B$67,2,0)","v":{"$error":"#N/A"}}]
[null,null,null,"Nao",null,{"$f":"VLOOKUP(E49902,'Padrão mensagem'!$A$3:$B$67,2,0)","v":{"$error":"#N/A"}}]
[null,null,null,"Nao",null,{"$f":"VLOOKUP(E49941,'Padrão mensagem'!$A$3:$B$67,2,0)","v":{"$error":"#N/A"}}]
[null,null,null,"Nao",null,{"$f":"VLOOKUP(E49980,'Padrão mensagem'!$A$3:$B$67,2,0)","v":{"$error":"#N/A"}}]
[null,null,null,"Nao",null,{"$f":"VLOOKUP(E50000,'Padrão mensagem'!$A$3:$B$67,2,0)","v":{"$error":"#N/A"}}]
[null,null,null,"Nao",null,{"$f":"VLOOKUP(E50028,'Padrão mensagem'!$A$3:$B$67,2,0)","v":{"$error":"#N/A"}}]
[null,null,null,"Nao",null,{"$f":"VLOOKUP(E50071,'Padrão mensagem'!$A$3:$B$67,2,0)","v":{"$error":"#N/A"}}]
[null,null,null,"Nao",null,{"$f":"VLOOKUP(E50117,'Padrão mensagem'!$A$3:$B$67,2,0)","v":{"$error":"#N/A"}}]
[null,null,null,"Nao",null,{"$f":"VLOOKUP(E50148,'Padrão mensagem'!$A$3:$B$67,2,0)","v":{"$error":"#N/A"}}]
[null,null,null,"Nao",null,{"$f":"VLOOKUP(E50191,'Padrão mensagem'!$A$3:$B$67,2,0)","v":{"$error":"#N/A"}}]
[null,null,null,"Nao",null,{"$f":"VLOOKUP(E50197,'Padrão mensagem'!$A$3:$B$67,2,0)","v":{"$error":"#N/A"}}]
[null,null,null,"Nao",null,{"$f":"VLOOKUP(E50252,'Padrão mensagem'!$A$3:$B$67,2,0)","v":{"$error":"#N/A"}}]
[null,null,null,"Nao",null,{"$f":"VLOOKUP(E50278,'Padrão mensagem'!$A$3:$B$67,2,0)","v":{"$error":"#N/A"}}]
[null,null,null,"Nao",null,{"$f":"VLOOKUP(E50317,'Padrão mensagem'!$A$3:$B$67,2,0)","v":{"$error":"#N/A"}}]
[null,null,null,"Nao",null,{"$f":"VLOOKUP(E50337,'Padrão mensagem'!$A$3:$B$67,2,0)","v":{"$error":"#N/A"}}]
[null,null,null,"Nao",null,{"$f":"VLOOKUP(E50365,'Padrão mensagem'!$A$3:$B$67,2,0)","v":{"$error":"#N/A"}}]
[null,null,null,"Nao",null,{"$f":"VLOOKUP(E50404,'Padrão mensagem'!$A$3:$B$67,2,0)","v":{"$error":"#N/A"}}]
[null,null,null,"Nao",null,{"$f":"VLOOKUP(E50447,'Padrão mensagem'!$A$3:$B$67,2,0)","v":{"$error":"#N/A"}}]
[null,null,null,"Nao",null,{"$f":"VLOOKUP(E50472,'Padrão mensagem'!$A$3:$B$67,2,0)","v":{"$error":"#N/A"}}]
[null,null,null,"Nao",null,{"$f":"VLOOKUP(E50495,'Padrão mensagem'!$A$3:$B$67,2,0)","v":{"$error":"#N/A"}}]
[null,null,null,"Nao",null,{"$f":"VLOOKUP(E50534,'Padrão mensagem'!$A$3:$B$67,2,0)","v":{"$error":"#N/A"}}]
[null,null,null,"Nao",null,{"$f":"VLOOKUP(E50573,'Padrão mensagem'!$A$3:$B$67,2,0)","v":{"$error":"#N/A"}}]
[null,null,null,"Nao",null,{"$f":"VLOOKUP(E50607,'Padrão mensagem'!$A$3:$B$67,2,0)","v":{"$error":"#N/A"}}]
[null,null,null,"Nao",null,{"$f":"VLOOKUP(E50621,'Padrão mensagem'!$A$3:$B$67,2,0)","v":{"$error":"#N/A"}}]
[null,null,null,"Nao",null,{"$f":"VLOOKUP(E50660,'Padrão mensagem'!$A$3:$B$67,2,0)","v":{"$error":"#N/A"}}]
[null,null,null,"Nao",null,{"$f":"VLOOKUP(E50692,'Padrão mensagem'!$A$3:$B$67,2,0)","v":{"$error":"#N/A"}}]
[null,null,null,"Nao",null,{"$f":"VLOOKUP(E50741,'Padrão mensagem'!$A$3:$B$67,2,0)","v":{"$error":"#N/A"}}]
[null,null,null,"Nao",null,{"$f":"VLOOKUP(E50751,'Padrão mensagem'!$A$3:$B$67,2,0)","v":{"$error":"#N/A"}}]
[null,null,null,"Nao",null,{"$f":"VLOOKUP(E50790,'Padrão mensagem'!$A$3:$B$67,2,0)","v":{"$error":"#N/A"}}]
[null,null,null,"Nao",null,{"$f":"VLOOKUP(E50827,'Padrão mensagem'!$A$3:$B$67,2,0)","v":{"$error":"#N/A"}}]
[null,null,null,"Nao",null,{"$f":"VLOOKUP(E50871,'Padrão mensagem'!$A$3:$B$67,2,0)","v":{"$error":"#N/A"}}]
[null,null,null,"Nao",null,{"$f":"VLOOKUP(E50910,'Padrão mensagem'!$A$3:$B$67,2,0)","v":{"$error":"#N/A"}}]
[null,null,null,"Nao",null,{"$f":"VLOOKUP(E50912,'Padrão mensagem'!$A$3:$B$67,2,0)","v":{"$error":"#N/A"}}]
[null,null,null,"Nao",null,{"$f":"VLOOKUP(E50958,'Padrão mensagem'!$A$3:$B$67,2,0)","v":{"$error":"#N/A"}}]
[null,null,null,"Nao",null,{"$f":"VLOOKUP(E50997,'Padrão mensagem'!$A$3:$B$67,2,0)","v":{"$error":"#N/A"}}]
[null,null,null,"Nao",null,{"$f":"VLOOKUP(E51040,'Padrão mensagem'!$A$3:$B$67,2,0)","v":{"$error":"#N/A"}}]
[null,null,null,"Nao",null,{"$f":"VLOOKUP(E51047,'Padrão mensagem'!$A$3:$B$67,2,0)","v":{"$error":"#N/A"}}]
[null,null,null,"Nao",null,{"$f":"VLOOKUP(E51084,'Padrão mensagem'!$A$3:$B$67,2,0)","v":{"$error":"#N/A"}}]
[null,null,null,"Nao",null,{"$f":"VLOOKUP(E51127,'Padrão mensagem'!$A$3:$B$67,2,0)","v":{"$error":"#N/A"}}]
[null,null,null,"Nao",null,{"$f":"VLOOKUP(E51164,'Padrão mensagem'!$A$3:$B$67,2,0)","v":{"$error":"#N/A"}}]
[null,null,null,"Nao",null,{"$f":"VLOOKUP(E51175,'Padrão mensagem'!$A$3:$B$67,2,0)","v":{"$error":"#N/A"}}]
[null,null,null,"Nao",null,{"$f":"VLOOKUP(E51214,'Padrão mensagem'!$A$3:$B$67,2,0)","v":{"$error":"#N/A"}}]
[null,null,null,"Nao",null,{"$f":"VLOOKUP(E51253,'Padrão mensagem'!$A$3:$B$67,2,0)","v":{"$error":"#N/A"}}]
[null,null,null,"Nao",null,{"$f":"VLOOKUP(E51299,'Padrão mensagem'!$A$3:$B$67,2,0)","v":{"$error":"#N/A"}}]
[null,null,null,"Nao",null,{"$f":"VLOOKUP(E51334,'Padrão mensagem'!$A$3:$B$67,2,0)","v":{"$error":"#N/A"}}]
[null,null,null,"Nao",null,{"$f":"VLOOKUP(E51344,'Padrão mensagem'!$A$3:$B$67,2,0)","v":{"$error":"#N/A"}}]
[null,null,null,"Nao",null,{"$f":"VLOOKUP(E51384,'Padrão mensagem'!$A$3:$B$67,2,0)","v":{"$error":"#N/A"}}]
[null,null,null,"Nao",null,{"$f":"VLOOKUP(E51421,'Padrão mensagem'!$A$3:$B$67,2,0)","v":{"$error":"#N/A"}}]
[null,null,null,"Nao",null,{"$f":"VLOOKUP(E51464,'Padrão mensagem'!$A$3:$B$67,2,0)","v":{"$error":"#N/A"}}]
[null,null,null,"Nao",null,{"$f":"VLOOKUP(E51470,'Padrão mensagem'!$A$3:$B$67,2,0)","v":{"$error":"#N/A"}}]
[null,null,null,"Nao",null,{"$f":"VLOOKUP(E51519,'Padrão mensagem'!$A$3:$B$67,2,0)","v":{"$error":"#N/A"}}]
[null,null,null,"Nao",null,{"$f":"VLOOKUP(E51551,'Padrão mensagem'!$A$3:$B$67,2,0)","v":{"$error":"#N/A"}}]
[null,null,null,"Nao",null,{"$f":"VLOOKUP(E51590,'Padrão mensagem'!$A$3:$B$67,2,0)","v":{"$error":"#N/A"}}]
[null,null,null,"Nao",null,{"$f":"VLOOKUP(E51604,'Padrão mensagem'!$A$3:$B$67,2,0)","v":{"$error":"#N/A"}}]
[null,null,null,"Nao",null,{"$f":"VLOOKUP(E51638,'Padrão mensagem'!$A$3:$B$67,2,0)","v":{"$error":"#N/A"}}]
[null,null,null,"Nao",null,{"$f":"VLOOKUP(E51677,'Padrão mensagem'!$A$3:$B$67,2,0)","v":{"$error":"#N/A"}}]
[null,null,null,"Nao",null,{"$f":"VLOOKUP(E51720,'Padrão mensagem'!$A$3:$B$67,2,0)","v":{"$error":"#N/A"}}]
[null,null,null,"Nao",null,{"$f":"VLOOKUP(E51739,'Padrão mensagem'!$A$3:$B$67,2,0)","v":{"$error":"#N/A"}}]
[null,null,null,"Nao",null,{"$f":"VLOOKUP(E51764,'Padrão mensagem'!$A$3:$B$67,2,0)","v":{"$error":"#N/A"}}]
[null,null,null,"Nao",null,{"$f":"VLOOKUP(E51807,'Padrão mensagem'!$A$3:$B$67,2,0)","v":{"$error":"#N/A"}}]
[null,null,null,"Nao",null,{"$f":"VLOOKUP(E51856,'Padrão mensagem'!$A$3:$B$67,2,0)","v":{"$error":"#N/A"}}]
[null,null,null,"Nao",null,{"$f":"VLOOKUP(E51888,'Padrão mensagem'!$A$3:$B$67,2,0)","v":{"$error":"#N/A"}}]
[null,null,null,"Nao",null,{"$f":"VLOOKUP(E51894,'Padrão mensagem'!$A$3:$B$67,2,0)","v":{"$error":"#N/A"}}]
[null,null,null,"Nao",null,{"$f":"VLOOKUP(E51933,'Padrão mensagem'!$A$3:$B$67,2,0)","v":{"$error":"#N/A"}}]
[null,null,null,"Nao",null,{"$f":"VLOOKUP(E51959,'Padrão mensagem'!$A$3:$B$67,2,0)","v":{"$error":"#N/A"}}]
[null,null,null,"Nao",null,{"$f":"VLOOKUP(E52014,'Padrão mensagem'!$A$3:$B$67,2,0)","v":{"$error":"#N/A"}}]
[null,null,null,"Nao",null,{"$f":"VLOOKUP(E52024,'Padrão mensagem'!$A$3:$B$67,2,0)","v":{"$error":"#N/A"}}]
[null,null,null,"Nao",null,{"$f":"VLOOKUP(E52076,'Padrão mensagem'!$A$3:$B$67,2,0)","v":{"$error":"#N/A"}}]
[null,null,null,"Nao",null,{"$f":"VLOOKUP(E52101,'Padrão mensagem'!$A$3:$B$67,2,0)","v":{"$error":"#N/A"}}]
[null,null,null,"Nao",null,{"$f":"VLOOKUP(E52144,'Padrão mensagem'!$A$3:$B$67,2,0)","v":{"$error":"#N/A"}}]
[null,null,null,"Nao",null,{"$f":"VLOOKUP(E52183,'Padrão mensagem'!$A$3:$B$67,2,0)","v":{"$error":"#N/A"}}]
[null,null,null,"Nao",null,{"$f":"VLOOKUP(E52211,'Padrão mensagem'!$A$3:$B$67,2,0)","v":{"$error":"#N/A"}}]
[null,null,null,"Nao",null,{"$f":"VLOOKUP(E52231,'Padrão mensagem'!$A$3:$B$67,2,0)","v":{"$error":"#N/A"}}]
[null,null,null,"Nao",null,{"$f":"VLOOKUP(E52270,'Padrão mensagem'!$A$3:$B$67,2,0)","v":{"$error":"#N/A"}}]
[null,null,null,"Nao",null,{"$f":"VLOOKUP(E52296,'Padrão mensagem'!$A$3:$B$67,2,0)","v":{"$error":"#N/A"}}]
[null,null,null,"Nao",null,{"$f":"VLOOKUP(E52318,'Padrão mensagem'!$A$3:$B$67,2,0)","v":{"$error":"#N/A"}}]
[null,null,null,"Nao",null,{"$f":"VLOOKUP(E52357,'Padrão mensagem'!$A$3:$B$67,2,0)","v":{"$error":"#N/A"}}]
[null,null,null,"Nao",null,{"$f":"VLOOKUP(E52400,'Padrão mensagem'!$A$3:$B$67,2,0)","v":{"$error":"#N/A"}}]
[null,null,null,"Nao",null,{"$f":"VLOOKUP(E52431,'Padrão mensagem'!$A$3:$B$67,2,0)","v":{"$error":"#N/A"}}]
[null,null,null,"Nao",null,{"$f":"VLOOKUP(E52477,'Padrão mensagem'!$A$3:$B$67,2,0)","v":{"$error":"#N/A"}}]
[null,null,null,"Nao",null,{"$f":"VLOOKUP(E52487,'Padrão mensagem'!$A$3:$B$67,2,0)","v":{"$error":"#N/A"}}]
[null,null,null,"Nao",null,{"$f":"VLOOKUP(E52516,'Padrão mensagem'!$A$3:$B$67,2,0)","v":{"$error":"#N/A"}}]
[null,null,null,"Nao",null,{"$f":"VLOOKUP(E52568,'Padrão mensagem'!$A$3:$B$67,2,0)","v":{"$error":"#N/A"}}]
[null,null,null,"Nao",null,{"$f":"VLOOKUP(E52607,'Padrão mensagem'!$A$3:$B$67,2,0)","v":{"$error":"#N/A"}}]
[null,null,null,"Nao",null,{"$f":"VLOOKUP(E52613,'Padrão mensagem'!$A$3:$B$67,2,0)","v":{"$error":"#N/A"}}]
[null,null,null,"Nao",null,{"$f":"VLOOKUP(E52651,'Padrão mensagem'!$A$3:$B$67,2,0)","v":{"$error":"#N/A"}}]
[null,null,null,"Nao",null,{"$f":"VLOOKUP(E52694,'Padrão mensagem'!$A$3:$B$67,2,0)","v":{"$error":"#N/A"}}]
[null,null,null,"Nao",null,{"$f":"VLOOKUP(E52737,'Padrão mensagem'!$A$3:$B$67,2,0)","v":{"$error":"#N/A"}}]
[null,null,null,"Nao",null,{"$f":"VLOOKUP(E52776,'Padrão mensagem'!$A$3:$B$67,2,0)","v":{"$error":"#N/A"}}]
[null,null,null,"Nao",null,{"$f":"VLOOKUP(E52786,'Padrão mensagem'!$A$3:$B$67,2,0)","v":{"$error":"#N/A"}}]
[null,null,null,"Nao",null,{"$f":"VLOOKUP(E52824,'Padrão mensagem'!$A$3:$B$67,2,0)","v":{"$error":"#N/A"}}]
[null,null,null,"Nao",null,{"$f":"VLOOKUP(E52863,'Padrão mensagem'!$A$3:$B$67,2,0)","v":{"$error":"#N/A"}}]
[null,null,null,"Nao",null,{"$f":"VLOOKUP(E52903,'Padrão mensagem'!$A$3:$B$67,2,0)","v":{"$error":"#N/A"}}]
[null,null,null,"Nao",null,{"$f":"VLOOKUP(E52911,'Padrão mensagem'!$A$3:$B$67,2,0)","v":{"$error":"#N/A"}}]
[null,null,null,"Nao",null,{"$f":"VLOOKUP(E52950,'Padrão mensagem'!$A$3:$B$67,2,0)","v":{"$error":"#N/A"}}]
[null,null,null,"Nao",null,{"$f":"VLOOKUP(E52993,'Padrão mensagem'!$A$3:$B$67,2,0)","v":{"$error":"#N/A"}}]
[null,null,null,"Nao",null,{"$f":"VLOOKUP(E53006,'Padrão mensagem'!$A$3:$B$67,2,0)","v":{"$error":"#N/A"}}]
[null,null,null,"Nao",null,{"$f":"VLOOKUP(E53070,'Padrão mensagem'!$A$3:$B$67,2,0)","v":{"$error":"#N/A"}}]
[null,null,null,"Nao",null,{"$f":"VLOOKUP(E53080,'Padrão mensagem'!$A$3:$B$67,2,0)","v":{"$error":"#N/A"}}]
[null,null,null,"Nao",null,{"$f":"VLOOKUP(E53123,'Padrão mensagem'!$A$3:$B$67,2,0)","v":{"$error":"#N/A"}}]
[null,null,null,"Nao",null,{"$f":"VLOOKUP(E53161,'Padrão mensagem'!$A$3:$B$67,2,0)","v":{"$error":"#N/A"}}]
[null,null,null,"Nao",null,{"$f":"VLOOKUP(E53200,'Padrão mensagem'!$A$3:$B$67,2,0)","v":{"$error":"#N/A"}}]
[null,null,null,"Nao",null,{"$f":"VLOOKUP(E53206,'Padrão mensagem'!$A$3:$B$67,2,0)","v":{"$error":"#N/A"}}]
[null,null,null,"Nao",null,{"$f":"VLOOKUP(E53258,'Padrão mensagem'!$A$3:$B$67,2,0)","v":{"$error":"#N/A"}}]
[null,null,null,"Nao",null,{"$f":"VLOOKUP(E53287,'Padrão mensagem'!$A$3:$B$67,2,0)","v":{"$error":"#N/A"}}]
[null,null,null,"Nao",null,{"$f":"VLOOKUP(E53326,'Padrão mensagem'!$A$3:$B$67,2,0)","v":{"$error":"#N/A"}}]
[null,null,null,"Nao",null,{"$f":"VLOOKUP(E53343,'Padrão mensagem'!$A$3:$B$67,2,0)","v":{"$error":"#N/A"}}]
[null,null,null,"Nao",null,{"$f":"VLOOKUP(E53374,'Padrão mensagem'!$A$3:$B$67,2,0)","v":{"$error":"#N/A"}}]
[null,null,null,"Nao",null,{"$f":"VLOOKUP(E53417,'Padrão mensagem'!$A$3:$B$67,2,0)","v":{"$error":"#N/A"}}]
[null,null,null,"Nao",null,{"$f":"VLOOKUP(E53456,'Padrão mensagem'!$A$3:$B$67,2,0)","v":{"$error":"#N/A"}}]
[null,null,null,"Nao",null,{"$f":"VLOOKUP(E53478,'Padrão mensagem'!$A$3:$B$67,2,0)","v":{"$error":"#N/A"}}]
[null,null,null,"Nao",null,{"$f":"VLOOKUP(E53504,'Padrão mensagem'!$A$3:$B$67,2,0)","v":{"$error":"#N/A"}}]
[null,null,null,"Nao",null,{"$f":"VLOOKUP(E53543,'Padrão mensagem'!$A$3:$B$67,2,0)","v":{"$error":"#N/A"}}]
[null,null,null,"Nao",null,{"$f":"VLOOKUP(E53563,'Padrão mensagem'!$A$3:$B$67,2,0)","v":{"$error":"#N/A"}}]
[null,null,null,"Nao",null,{"$f":"VLOOKUP(E53624,'Padrão mensagem'!$A$3:$B$67,2,0)","v":{"$error":"#N/A"}}]
[null,null,null,"Nao",null,{"$f":"VLOOKUP(E53630,'Padrão mensagem'!$A$3:$B$67,2,0)","v":{"$error":"#N/A"}}]
[null,null,null,"Nao",null,{"$f":"VLOOKUP(E53673,'Padrão mensagem'!$A$3:$B$67,2,0)","v":{"$error":"#N/A"}}]
[null,null,null,"Nao",null,{"$f":"VLOOKUP(E53698,'Padrão mensagem'!$A$3:$B$67,2,0)","v":{"$error":"#N/A"}}]
[null,null,null,"Nao",null,{"$f":"VLOOKUP(E53750,'Padrão mensagem'!$A$3:$B$67,2,0)","v":{"$error":"#N/A"}}]
[null,null,null,"Nao",null,{"$f":"VLOOKUP(E53760,'Padrão mensagem'!$A$3:$B$67,2,0)","v":{"$error":"#N/A"}}]
[null,null,null,"Nao",null,{"$f":"VLOOKUP(E53815,'Padrão mensagem'!$A$3:$B$67,2,0)","v":{"$error":"#N/A"}}]
[null,null,null,"Nao",null,{"$f":"VLOOKUP(E53841,'Padrão mensagem'!$A$3:$B$67,2,0)","v":{"$error":"#N/A"}}]
[null,null,null,"Nao",null,{"$f":"VLOOKUP(E53880,'Padrão mensagem'!$A$3:$B$67,2,0)","v":{"$error":"#N/A"}}]
[null,null,null,"Nao",null,{"$f":"VLOOKUP(E53919,'Padrão mensagem'!$A$3:$B$67,2,0)","v":{"$error":"#N/A"}}]
[null,null,null,"Nao",null,{"$f":"VLOOKUP(E53950,'Padrão mensagem'!$A$3:$B$67,2,0)","v":{"$error":"#N/A"}}]
[null,null,null,"Nao",null,{"$f":"VLOOKUP(E53967,'Padrão mensagem'!$A$3:$B$67,2,0)","v":{"$error":"#N/A"}}]
[null,null,null,"Nao",null,{"$f":"VLOOKUP(E54006,'Padrão mensagem'!$A$3:$B$67,2,0)","v":{"$error":"#N/A"}}]
[null,null,null,"Nao",null,{"$f":"VLOOKUP(E54035,'Padrão mensagem'!$A$3:$B$67,2,0)","v":{"$error":"#N/A"}}]
[null,null,null,"Nao",null,{"$f":"VLOOKUP(E54054,'Padrão mensagem'!$A$3:$B$67,2,0)","v":{"$error":"#N/A"}}]
[null,null,null,"Nao",null,{"$f":"VLOOKUP(E54097,'Padrão mensagem'!$A$3:$B$67,2,0)","v":{"$error":"#N/A"}}]
[null,null,null,"Nao",null,{"$f":"VLOOKUP(E54136,'Padrão mensagem'!$A$3:$B$67,2,0)","v":{"$error":"#N/A"}}]
[null,null,null,"Nao",null,{"$f":"VLOOKUP(E54170,'Padrão mensagem'!$A$3:$B$67,2,0)","v":{"$error":"#N/A"}}]
[null,null,null,"Nao",null,{"$f":"VLOOKUP(E54184,'Padrão mensagem'!$A$3:$B$67,2,0)","v":{"$error":"#N/A"}}]
[null,null,null,"Nao",null,{"$f":"VLOOKUP(E54223,'Padrão mensagem'!$A$3:$B$67,2,0)","v":{"$error":"#N/A"}}]
[null,null,null,"Nao",null,{"$f":"VLOOKUP(E54255,'Padrão mensagem'!$A$3:$B$67,2,0)","v":{"$error":"#N/A"}}]
[null,null,null,"Nao",null,{"$f":"VLOOKUP(E54304,'Padrão mensagem'!$A$3:$B$67,2,0)","v":{"$error":"#N/A"}}]
[null,null,null,"Nao",null,{"$f":"VLOOKUP(E54343,'Padrão mensagem'!$A$3:$B$67,2,0)","v":{"$error":"#N/A"}}]
[null,null,null,"Nao",null,{"$f":"VLOOKUP(E54353,'Padrão mensagem'!$A$3:$B$67,2,0)","v":{"$error":"#N/A"}}]
[null,null,null,"Nao",null,{"$f":"VLOOKUP(E54390,'Padrão mensagem'!$A$3:$B$67,2,0)","v":{"$error":"#N/A"}}]
[null,null,null,"Nao",null,{"$f":"VLOOKUP(E54430,'Padrão mensagem'!$A$3:$B$67,2,0)","v":{"$error":"#N/A"}}]
[null,null,null,"Nao",null,{"$f":"VLOOKUP(E54473,'Padrão mensagem'!$A$3:$B$67,2,0)","v":{"$error":"#N/A"}}]
[null,null,null,"Nao",null,{"$f":"VLOOKUP(E54507,'Padrão mensagem'!$A$3:$B$67,2,0)","v":{"$error":"#N/A"}}]
[null,null,null,"Nao",null,{"$f":"VLOOKUP(E54521,'Padrão mensagem'!$A$3:$B$67,2,0)","v":{"$error":"#N/A"}}]
[null,null,null,"Nao",null,{"$f":"VLOOKUP(E54560,'Padrão mensagem'!$A$3:$B$67,2,0)","v":{"$error":"#N/A"}}]
[null,null,null,"Nao",null,{"$f":"VLOOKUP(E54599,'Padrão mensagem'!$A$3:$B$67,2,0)","v":{"$error":"#N/A"}}]
[null,null,null,"Nao",null,{"$f":"VLOOKUP(E54610,'Padrão mensagem'!$A$3:$B$67,2,0)","v":{"$error":"#N/A"}}]
[null,null,null,"Nao",null,{"$f":"VLOOKUP(E54647,'Padrão mensagem'!$A$3:$B$67,2,0)","v":{"$error":"#N/A"}}]
[null,null,null,"Nao",null,{"$f":"VLOOKUP(E54686,'Padrão mensagem'!$A$3:$B$67,2,0)","v":{"$error":"#N/A"}}]
[null,null,null,"Nao",null,{"$f":"VLOOKUP(E54727,'Padrão mensagem'!$A$3:$B$67,2,0)","v":{"$error":"#N/A"}}]
[null,null,null,"Nao",null,{"$f":"VLOOKUP(E54767,'Padrão mensagem'!$A$3:$B$67,2,0)","v":{"$error":"#N/A"}}]
[null,null,null,"Nao",null,{"$f":"VLOOKUP(E54777,'Padrão mensagem'!$A$3:$B$67,2,0)","v":{"$error":"#N/A"}}]
[null,null,null,"Nao",null,{"$f":"VLOOKUP(E54816,'Padrão mensagem'!$A$3:$B$67,2,0)","v":{"$error":"#N/A"}}]
[null,null,null,"Nao",null,{"$f":"VLOOKUP(E54862,'Padrão mensagem'!$A$3:$B$67,2,0)","v":{"$error":"#N/A"}}]
[null,null,null,"Nao",null,{"$f":"VLOOKUP(E54897,'Padrão mensagem'!$A$3:$B$67,2,0)","v":{"$error":"#N/A"}}]
[null,null,null,"Nao",null,{"$f":"VLOOKUP(E54903,'Padrão mensagem'!$A$3:$B$67,2,0)","v":{"$error":"#N/A"}}]
[null,null,null,"Nao",null,{"$f":"VLOOKUP(E54946,'Padrão mensagem'!$A$3:$B$67,2,0)","v":{"$error":"#N/A"}}]
[null,null,null,"Nao",null,{"$f":"VLOOKUP(E54997,'Padrão mensagem'!$A$3:$B$67,2,0)","v":{"$error":"#N/A"}}]
[null,null,null,"Nao",null,{"$f":"VLOOKUP(E55023,'Padrão mensagem'!$A$3:$B$67,2,0)","v":{"$error":"#N/A"}}]
[null,null,null,"Nao",null,{"$f":"VLOOKUP(E55066,'Padrão mensagem'!$A$3:$B$67,2,0)","v":{"$error":"#N/A"}}]
[null,null,null,"Nao",null,{"$f":"VLOOKUP(E55082,'Padrão mensagem'!$A$3:$B$67,2,0)","v":{"$error":"#N/A"}}]
[null,null,null,"Nao",null,{"$f":"VLOOKUP(E55110,'Padrão mensagem'!$A$3:$B$67,2,0)","v":{"$error":"#N/A"}}]
[null,null,null,"Nao",null,{"$f":"VLOOKUP(E55153,'Padrão mensagem'!$A$3:$B$67,2,0)","v":{"$error":"#N/A"}}]
[null,null,null,"Nao",null,{"$f":"VLOOKUP(E55192,'Padrão mensagem'!$A$3:$B$67,2,0)","v":{"$error":"#N/A"}}]
[null,null,null,"Nao",null,{"$f":"VLOOKUP(E55217,'Padrão mensagem'!$A$3:$B$67,2,0)","v":{"$error":"#N/A"}}]
[null,null,null,"Nao",null,{"$f":"VLOOKUP(E55240,'Padrão mensagem'!$A$3:$B$67,2,0)","v":{"$error":"#N/A"}}]
[null,null,null,"Nao",null,{"$f":"VLOOKUP(E55279,'Padrão mensagem'!$A$3:$B$67,2,0)","v":{"$error":"#N/A"}}]
[null,null,null,"Nao",null,{"$f":"VLOOKUP(E55302,'Padrão mensagem'!$A$3:$B$67,2,0)","v":{"$error":"#N/A"}}]
[null,null,null,"Nao",null,{"$f":"VLOOKUP(E55360,'Padrão mensagem'!$A$3:$B$67,2,0)","v":{"$error":"#N/A"}}]
[null,null,null,"Nao",null,{"$f":"VLOOKUP(E55366,'Padrão mensagem'!$A$3:$B$67,2,0)","v":{"$error":"#N/A"}}]
[null,null,null,"Nao",null,{"$f":"VLOOKUP(E55409,'Padrão mensagem'!$A$3:$B$67,2,0)","v":{"$error":"#N/A"}}]
[null,null,null,"Nao",null,{"$f":"VLOOKUP(E55437,'Padrão mensagem'!$A$3:$B$67,2,0)","v":{"$error":"#N/A"}}]
[null,null,null,"Nao",null,{"$f":"VLOOKUP(E55490,'Padrão mensagem'!$A$3:$B$67,2,0)","v":{"$error":"#N/A"}}]
[null,null,null,"Nao",null,{"$f":"VLOOKUP(E55496,'Padrão mensagem'!$A$3:$B$67,2,0)","v":{"$error":"#N/A"}}]
[null,null,null,"Nao",null,{"$f":"VLOOKUP(E55554,'Padrão mensagem'!$A$3:$B$67,2,0)","v":{"$error":"#N/A"}}]
[null,null,null,"Nao",null,{"$f":"VLOOKUP(E55577,'Padrão mensagem'!$A$3:$B$67,2,0)","v":{"$error":"#N/A"}}]
[null,null,null,"Nao",null,{"$f":"VLOOKUP(E55616,'Padrão mensagem'!$A$3:$B$67,2,0)","v":{"$error":"#N/A"}}]
[null,null,null,"Nao",null,{"$f":"VLOOKUP(E55626,'Padrão mensagem'!$A$3:$B$67,2,0)","v":{"$error":"#N/A"}}]
[null,null,null,"Nao",null,{"$f":"VLOOKUP(E55657,'Padrão mensagem'!$A$3:$B$67,2,0)","v":{"$error":"#N/A"}}]
[null,null,null,"Nao",null,{"$f":"VLOOKUP(E55703,'Padrão mensagem'!$A$3:$B$67,2,0)","v":{"$error":"#N/A"}}]
[null,null,null,"Nao",null,{"$f":"VLOOKUP(E55746,'Padrão mensagem'!$A$3:$B$67,2,0)","v":{"$error":"#N/A"}}]
[null,null,null,"Nao",null,{"$f":"VLOOKUP(E55774,'Padrão mensagem'!$A$3:$B$67,2,0)","v":{"$error":"#N/A"}}]
[null,null,null,"Nao",null,{"$f":"VLOOKUP(E55790,'Padrão mensagem'!$A$3:$B$67,2,0)","v":{"$error":"#N/A"}}]
[null,null,null,"Nao",null,{"$f":"VLOOKUP(E55833,'Padrão mensagem'!$A$3:$B$67,2,0)","v":{"$error":"#N/A"}}]
[null,null,null,"Nao",null,{"$f":"VLOOKUP(E55872,'Padrão mensagem'!$A$3:$B$67,2,0)","v":{"$error":"#N/A"}}]
[null,null,null,"Nao",null,{"$f":"VLOOKUP(E55909,'Padrão mensagem'!$A$3:$B$67,2,0)","v":{"$error":"#N/A"}}]
[null,null,null,"Nao",null,{"$f":"VLOOKUP(E55920,'Padrão mensagem'!$A$3:$B$67,2,0)","v":{"$error":"#N/A"}}]
[null,null,null,"Nao",null,{"$f":"VLOOKUP(E55959,'Padrão mensagem'!$A$3:$B$67,2,0)","v":{"$error":"#N/A"}}]
[null,null,null,"Nao",null,{"$f":"VLOOKUP(E55994,'Padrão mensagem'!$A$3:$B$67,2,0)","v":{"$error":"#N/A"}}]
[null,null,null,"Nao",null,{"$f":"VLOOKUP(E56040,'Padrão mensagem'!$A$3:$B$67,2,0)","v":{"$error":"#N/A"}}]
[null,null,null,"Nao",null,{"$f":"VLOOKUP(E56050,'Padrão mensagem'!$A$3:$B$67,2,0)","v":{"$error":"#N/A"}}]
[null,null,null,"Nao",null,{"$f":"VLOOKUP(E56089,'Padrão mensagem'!$A$3:$B$67,2,0)","v":{"$error":"#N/A"}}]
[null,null,null,"Nao",null,{"$f":"VLOOKUP(E56129,'Padrão mensagem'!$A$3:$B$67,2,0)","v":{"$error":"#N/A"}}]
[null,null,null,"Nao",null,{"$f":"VLOOKUP(E56170,'Padrão mensagem'!$A$3:$B$67,2,0)","v":{"$error":"#N/A"}}]
[null,null,null,"Nao",null,{"$f":"VLOOKUP(E56209,'Padrão mensagem'!$A$3:$B$67,2,0)","v":{"$error":"#N/A"}}]
[null,null,null,"Nao",null,{"$f":"VLOOKUP(E56214,'Padrão mensagem'!$A$3:$B$67,2,0)","v":{"$error":"#N/A"}}]
[null,null,null,"Nao",null,{"$f":"VLOOKUP(E56257,'Padrão mensagem'!$A$3:$B$67,2,0)","v":{"$error":"#N/A"}}]
[null,null,null,"Nao",null,{"$f":"VLOOKUP(E56296,'Padrão mensagem'!$A$3:$B$67,2,0)","v":{"$error":"#N/A"}}]
[null,null,null,"Nao",null,{"$f":"VLOOKUP(E56339,'Padrão mensagem'!$A$3:$B$67,2,0)","v":{"$error":"#N/A"}}]
[null,null,null,"Nao",null,{"$f":"VLOOKUP(E56349,'Padrão mensagem'!$A$3:$B$67,2,0)","v":{"$error":"#N/A"}}]
[null,null,null,"Nao",null,{"$f":"VLOOKUP(E56383,'Padrão mensagem'!$A$3:$B$67,2,0)","v":{"$error":"#N/A"}}]
[null,null,null,"Nao",null,{"$f":"VLOOKUP(E56426,'Padrão mensagem'!$A$3:$B$67,2,0)","v":{"$error":"#N/A"}}]
[null,null,null,"Nao",null,{"$f":"VLOOKUP(E56466,'Padrão mensagem'!$A$3:$B$67,2,0)","v":{"$error":"#N/A"}}]
[null,null,null,"Nao",null,{"$f":"VLOOKUP(E56503,'Padrão mensagem'!$A$3:$B$67,2,0)","v":{"$error":"#N/A"}}]
[null,null,null,"Nao",null,{"$f":"VLOOKUP(E56513,'Padrão mensagem'!$A$3:$B$67,2,0)","v":{"$error":"#N/A"}}]
[null,null,null,"Nao",null,{"$f":"VLOOKUP(E56552,'Padrão mensagem'!$A$3:$B$67,2,0)","v":{"$error":"#N/A"}}]
[null,null,null,"Nao",null,{"$f":"VLOOKUP(E56601,'Padrão mensagem'!$A$3:$B$67,2,0)","v":{"$error":"#N/A"}}]
[null,null,null,"Nao",null,{"$f":"VLOOKUP(E56633,'Padrão mensagem'!$A$3:$B$67,2,0)","v":{"$error":"#N/A"}}]
[null,null,null,"Nao",null,{"$f":"VLOOKUP(E56639,'Padrão mensagem'!$A$3:$B$67,2,0)","v":{"$error":"#N/A"}}]
[null,null,null,"Nao",null,{"$f":"VLOOKUP(E56686,'Padrão mensagem'!$A$3:$B$67,2,0)","v":{"$error":"#N/A"}}]
[null,null,null,"Nao",null,{"$f":"VLOOKUP(E56720,'Padrão mensagem'!$A$3:$B$67,2,0)","v":{"$error":"#N/A"}}]
[null,null,null,"Nao",null,{"$f":"VLOOKUP(E56763,'Padrão mensagem'!$A$3:$B$67,2,0)","v":{"$error":"#N/A"}}]
[null,null,null,"Nao",null,{"$f":"VLOOKUP(E56769,'Padrão mensagem'!$A$3:$B$67,2,0)","v":{"$error":"#N/A"}}]
[null,null,null,"Nao",null,{"$f":"VLOOKUP(E56821,'Padrão mensagem'!$A$3:$B$67,2,0)","v":{"$error":"#N/A"}}]
[null,null,null,"Nao",null,{"$f":"VLOOKUP(E56850,'Padrão mensagem'!$A$3:$B$67,2,0)","v":{"$error":"#N/A"}}]
[null,null,null,"Nao",null,{"$f":"VLOOKUP(E56889,'Padrão mensagem'!$A$3:$B$67,2,0)","v":{"$error":"#N/A"}}]
[null,null,null,"Nao",null,{"$f":"VLOOKUP(E56928,'Padrão mensagem'!$A$3:$B$67,2,0)","v":{"$error":"#N/A"}}]
[null,null,null,"Nao",null,{"$f":"VLOOKUP(E56956,'Padrão mensagem'!$A$3:$B$67,2,0)","v":{"$error":"#N/A"}}]
[null,null,null,"Nao",null,{"$f":"VLOOKUP(E56976,'Padrão mensagem'!$A$3:$B$67,2,0)","v":{"$error":"#N/A"}}]
[null,null,null,"Nao",null,{"$f":"VLOOKUP(E57019,'Padrão mensagem'!$A$3:$B$67,2,0)","v":{"$error":"#N/A"}}]
[null,null,null,"Nao",null,{"$f":"VLOOKUP(E57041,'Padrão mensagem'!$A$3:$B$67,2,0)","v":{"$error":"#N/A"}}]
[null,null,null,"Nao",null,{"$f":"VLOOKUP(E57063,'Padrão mensagem'!$A$3:$B$67,2,0)","v":{"$error":"#N/A"}}]
[null,null,null,"Nao",null,{"$f":"VLOOKUP(E57106,'Padrão mensagem'!$A$3:$B$67,2,0)","v":{"$error":"#N/A"}}]
[null,null,null,"Nao",null,{"$f":"VLOOKUP(E57145,'Padrão mensagem'!$A$3:$B$67,2,0)","v":{"$error":"#N/A"}}]
[null,null,null,"Nao",null,{"$f":"VLOOKUP(E57176,'Padrão mensagem'!$A$3:$B$67,2,0)","v":{"$error":"#N/A"}}]
[null,null,null,"Nao",null,{"$f":"VLOOKUP(E57193,'Padrão mensagem'!$A$3:$B$67,2,0)","v":{"$error":"#N/A"}}]
[null,null,null,"Nao",null,{"$f":"VLOOKUP(E57232,'Padrão mensagem'!$A$3:$B$67,2,0)","v":{"$error":"#N/A"}}]
[null,null,null,"Nao",null,{"$f":"VLOOKUP(E57261,'Padrão mensagem'!$A$3:$B$67,2,0)","v":{"$error":"#N/A"}}]
[null,null,null,"Nao",null,{"$f":"VLOOKUP(E57313,'Padrão mensagem'!$A$3:$B$67,2,0)","v":{"$error":"#N/A"}}]
[null,null,null,"Nao",null,{"$f":"VLOOKUP(E57352,'Padrão mensagem'!$A$3:$B$67,2,0)","v":{"$error":"#N/A"}}]
[null,null,null,"Nao",null,{"$f":"VLOOKUP(E57362,'Padrão mensagem'!$A$3:$B$67,2,0)","v":{"$error":"#N/A"}}]
[null,null,null,"Nao",null,{"$f":"VLOOKUP(E57396,'Padrão mensagem'!$A$3:$B$67,2,0)","v":{"$error":"#N/A"}}]
[null,null,null,"Nao",null,{"$f":"VLOOKUP(E57443,'Padrão mensagem'!$A$3:$B$67,2,0)","v":{"$error":"#N/A"}}]
[null,null,null,"Nao",null,{"$f":"VLOOKUP(E57482,'Padrão mensagem'!$A$3:$B$67,2,0)","v":{"$error":"#N/A"}}]
[null,null,null,"Nao",null,{"$f":"VLOOKUP(E57513,'Padrão mensagem'!$A$3:$B$67,2,0)","v":{"$error":"#N/A"}}]
[null,null,null,"Nao",null,{"$f":"VLOOKUP(E57530,'Padrão mensagem'!$A$3:$B$67,2,0)","v":{"$error":"#N/A"}}]
[null,null,null,"Nao",null,{"$f":"VLOOKUP(E57569,'Padrão mensagem'!$A$3:$B$67,2,0)","v":{"$error":"#N/A"}}]
[null,null,null,"Nao",null,{"$f":"VLOOKUP(E57608,'Padrão mensagem'!$A$3:$B$67,2,0)","v":{"$error":"#N/A"}}]
[null,null,null,"Nao",null,{"$f":"VLOOKUP(E57648,'Padrão mensagem'!$A$3:$B$67,2,0)","v":{"$error":"#N/A"}}]
[null,null,null,"Nao",null,{"$f":"VLOOKUP(E57656,'Padrão mensagem'!$A$3:$B$67,2,0)","v":{"$error":"#N/A"}}]
[null,null,null,"Nao",null,{"$f":"VLOOKUP(E57699,'Padrão mensagem'!$A$3:$B$67,2,0)","v":{"$error":"#N/A"}}]
[null,null,null,"Nao",null,{"$f":"VLOOKUP(E57733,'Padrão mensagem'!$A$3:$B$67,2,0)","v":{"$error":"#N/A"}}]
[null,null,null,"Nao",null,{"$f":"VLOOKUP(E57776,'Padrão mensagem'!$A$3:$B$67,2,0)","v":{"$error":"#N/A"}}]
[null,null,null,"Nao",null,{"$f":"VLOOKUP(E57786,'Padrão mensagem'!$A$3:$B$67,2,0)","v":{"$error":"#N/A"}}]
[null,null,null,"Nao",null,{"$f":"VLOOKUP(E57825,'Padrão mensagem'!$A$3:$B$67,2,0)","v":{"$error":"#N/A"}}]
[null,null,null,"Nao",null,{"$f":"VLOOKUP(E57868,'Padrão mensagem'!$A$3:$B$67,2,0)","v":{"$error":"#N/A"}}]
[null,null,null,"Nao",null,{"$f":"VLOOKUP(E57906,'Padrão mensagem'!$A$3:$B$67,2,0)","v":{"$error":"#N/A"}}]
[null,null,null,"Nao",null,{"$f":"VLOOKUP(E57945,'Padrão mensagem'!$A$3:$B$67,2,0)","v":{"$error":"#N/A"}}]
[null,null,null,"Nao",null,{"$f":"VLOOKUP(E57953,'Padrão mensagem'!$A$3:$B$67,2,0)","v":{"$error":"#N/A"}}]
[null,null,null,"Nao",null,{"$f":"VLOOKUP(E57993,'Padrão mensagem'!$A$3:$B$67,2,0)","v":{"$error":"#N/A"}}]
[null,null,null,"Nao",null,{"$f":"VLOOKUP(E58032,'Padrão mensagem'!$A$3:$B$67,2,0)","v":{"$error":"#N/A"}}]
[null,null,null,"Nao",null,{"$f":"VLOOKUP(E58075,'Padrão mensagem'!$A$3:$B$67,2,0)","v":{"$error":"#N/A"}}]
[null,null,null,"Nao",null,{"$f":"VLOOKUP(E58088,'Padrão mensagem'!$A$3:$B$67,2,0)","v":{"$error":"#N/A"}}]
[null,null,null,"Nao",null,{"$f":"VLOOKUP(E58123,'Padrão mensagem'!$A$3:$B$67,2,0)","v":{"$error":"#N/A"}}]
[null,null,null,"Nao",null,{"$f":"VLOOKUP(E58162,'Padrão mensagem'!$A$3:$B$67,2,0)","v":{"$error":"#N/A"}}]
[null,null,null,"Nao",null,{"$f":"VLOOKUP(E58205,'Padrão mensagem'!$A$3:$B$67,2,0)","v":{"$error":"#N/A"}}]
[null,null,null,"Nao",null,{"$f":"VLOOKUP(E58210,'Padrão mensagem'!$A$3:$B$67,2,0)","v":{"$error":"#N/A"}}]
[null,null,null,"Nao",null,{"$f":"VLOOKUP(E58249,'Padrão mensagem'!$A$3:$B$67,2,0)","v":{"$error":"#N/A"}}]
[null,null,null,"Nao",null,{"$f":"VLOOKUP(E58288,'Padrão mensagem'!$A$3:$B$67,2,0)","v":{"$error":"#N/A"}}]
[null,null,null,"Nao",null,{"$f":"VLOOKUP(E58308,'Padrão mensagem'!$A$3:$B$67,2,0)","v":{"$error":"#N/A"}}]
[null,null,null,"Nao",null,{"$f":"VLOOKUP(E58369,'Padrão mensagem'!$A$3:$B$67,2,0)","v":{"$error":"#N/A"}}]
[null,null,null,"Nao",null,{"$f":"VLOOKUP(E58379,'Padrão mensagem'!$A$3:$B$67,2,0)","v":{"$error":"#N/A"}}]
[null,null,null,"Nao",null,{"$f":"VLOOKUP(E58425,'Padrão mensagem'!$A$3:$B$67,2,0)","v":{"$error":"#N/A"}}]
[null,null,null,"Nao",null,{"$f":"VLOOKUP(E58456,'Padrão mensagem'!$A$3:$B$67,2,0)","v":{"$error":"#N/A"}}]
[null,null,null,"Nao",null,{"$f":"VLOOKUP(E58499,'Padrão mensagem'!$A$3:$B$67,2,0)","v":{"$error":"#N/A"}}]
[null,null,null,"Nao",null,{"$f":"VLOOKUP(E58505,'Padrão mensagem'!$A$3:$B$67,2,0)","v":{"$error":"#N/A"}}]
[null,null,null,"Nao",null,{"$f":"VLOOKUP(E58560,'Padrão mensagem'!$A$3:$B$67,2,0)","v":{"$error":"#N/A"}}]
[null,null,null,"Nao",null,{"$f":"VLOOKUP(E58586,'Padrão mensagem'!$A$3:$B$67,2,0)","v":{"$error":"#N/A"}}]
[null,null,null,"Nao",null,{"$f":"VLOOKUP(E58625,'Padrão mensagem'!$A$3:$B$67,2,0)","v":{"$error":"#N/A"}}]
[null,null,null,"Nao",null,{"$f":"VLOOKUP(E58645,'Padrão mensagem'!$A$3:$B$67,2,0)","v":{"$error":"#N/A"}}]
[null,null,null,"Nao",null,{"$f":"VLOOKUP(E58673,'Padrão mensagem'!$A$3:$B$67,2,0)","v":{"$error":"#N/A"}}]
[null,null,null,"Nao",null,{"$f":"VLOOKUP(E58712,'Padrão mensagem'!$A$3:$B$67,2,0)","v":{"$error":"#N/A"}}]
[null,null,null,"Nao",null,{"$f":"VLOOKUP(E58755,'Padrão mensagem'!$A$3:$B$67,2,0)","v":{"$error":"#N/A"}}]
[null,null,null,"Nao",null,{"$f":"VLOOKUP(E58780,'Padrão mensagem'!$A$3:$B$67,2,0)","v":{"$error":"#N/A"}}]
[null,null,null,"Nao",null,{"$f":"VLOOKUP(E58803,'Padrão mensagem'!$A$3:$B$67,2,0)","v":{"$error":"#N/A"}}]
[null,null,null,"Nao",null,{"$f":"VLOOKUP(E58842,'Padrão mensagem'!$A$3:$B$67,2,0)","v":{"$error":"#N/A"}}]
[null,null,null,"Nao",null,{"$f":"VLOOKUP(E58865,'Padrão mensagem'!$A$3:$B$67,2,0)","v":{"$error":"#N/A"}}]
[null,null,null,"Nao",null,{"$f":"VLOOKUP(E58923,'Padrão mensagem'!$A$3:$B$67,2,0)","v":{"$error":"#N/A"}}]
[null,null,null,"Nao",null,{"$f":"VLOOKUP(E58929,'Padrão mensagem'!$A$3:$B$67,2,0)","v":{"$error":"#N/A"}}]
[null,null,null,"Nao",null,{"$f":"VLOOKUP(E58972,'Padrão mensagem'!$A$3:$B$67,2,0)","v":{"$error":"#N/A"}}]
[null,null,null,"Nao",null,{"$f":"VLOOKUP(E59000,'Padrão mensagem'!$A$3:$B$67,2,0)","v":{"$error":"#N/A"}}]
[null,null,null,"Nao",null,{"$f":"VLOOKUP(E59049,'Padrão mensagem'!$A$3:$B$67,2,0)","v":{"$error":"#N/A"}}]
[null,null,null,"Nao",null,{"$f":"VLOOKUP(E59059,'Padrão mensagem'!$A$3:$B$67,2,0)","v":{"$error":"#N/A"}}]
[null,null,null,"Nao",null,{"$f":"VLOOKUP(E59098,'Padrão mensagem'!$A$3:$B$67,2,0)","v":{"$error":"#N/A"}}]
[null,null,null,"Nao",null,{"$f":"VLOOKUP(E59135,'Padrão mensagem'!$A$3:$B$67,2,0)","v":{"$error":"#N/A"}}]
[null,null,null,"Nao",null,{"$f":"VLOOKUP(E59179,'Padrão mensagem'!$A$3:$B$67,2,0)","v":{"$error":"#N/A"}}]
[null,null,null,"Nao",null,{"$f":"VLOOKUP(E59218,'Padrão mensagem'!$A$3:$B$67,2,0)","v":{"$error":"#N/A"}}]
[null,null,null,"Nao",null,{"$f":"VLOOKUP(E59252,'Padrão mensagem'!$A$3:$B$67,2,0)","v":{"$error":"#N/A"}}]
[null,null,null,"Nao",null,{"$f":"VLOOKUP(E59266,'Padrão mensagem'!$A$3:$B$67,2,0)","v":{"$error":"#N/A"}}]
[null,null,null,"Nao",null,{"$f":"VLOOKUP(E59305,'Padrão mensagem'!$A$3:$B$67,2,0)","v":{"$error":"#N/A"}}]
[null,null,null,"Nao",null,{"$f":"VLOOKUP(E59348,'Padrão mensagem'!$A$3:$B$67,2,0)","v":{"$error":"#N/A"}}]
[null,null,null,"Nao",null,{"$f":"VLOOKUP(E59355,'Padrão mensagem'!$A$3:$B$67,2,0)","v":{"$error":"#N/A"}}]
[null,null,null,"Nao",null,{"$f":"VLOOKUP(E59392,'Padrão mensagem'!$A$3:$B$67,2,0)","v":{"$error":"#N/A"}}]
[null,null,null,"Nao",null,{"$f":"VLOOKUP(E59435,'Padrão mensagem'!$A$3:$B$67,2,0)","v":{"$error":"#N/A"}}]
[null,null,null,"Nao",null,{"$f":"VLOOKUP(E59472,'Padrão mensagem'!$A$3:$B$67,2,0)","v":{"$error":"#N/A"}}]
[null,null,null,"Nao",null,{"$f":"VLOOKUP(E59483,'Padrão mensagem'!$A$3:$B$67,2,0)","v":{"$error":"#N/A"}}]
[null,null,null,"Nao",null,{"$f":"VLOOKUP(E59522,'Padrão mensagem'!$A$3:$B$67,2,0)","v":{"$error":"#N/A"}}]
[null,null,null,"Nao",null,{"$f":"VLOOKUP(E59561,'Padrão mensagem'!$A$3:$B$67,2,0)","v":{"$error":"#N/A"}}]
[null,null,null,"Nao",null,{"$f":"VLOOKUP(E59607,'Padrão mensagem'!$A$3:$B$67,2,0)","v":{"$error":"#N/A"}}]
[null,null,null,"Nao",null,{"$f":"VLOOKUP(E59642,'Padrão mensagem'!$A$3:$B$67,2,0)","v":{"$error":"#N/A"}}]
[null,null,null,"Nao",null,{"$f":"VLOOKUP(E59652,'Padrão mensagem'!$A$3:$B$67,2,0)","v":{"$error":"#N/A"}}]
[null,null,null,"Nao",null,{"$f":"VLOOKUP(E59692,'Padrão mensagem'!$A$3:$B$67,2,0)","v":{"$error":"#N/A"}}]
[null,null,null,"Nao",null,{"$f":"VLOOKUP(E59729,'Padrão mensagem'!$A$3:$B$67,2,0)","v":{"$error":"#N/A"}}]
[null,null,null,"Nao",null,{"$f":"VLOOKUP(E59772,'Padrão mensagem'!$A$3:$B$67,2,0)","v":{"$error":"#N/A"}}]
[null,null,null,"Nao",null,{"$f":"VLOOKUP(E59778,'Padrão mensagem'!$A$3:$B$67,2,0)","v":{"$error":"#N/A"}}]
[null,null,null,"Nao",null,{"$f":"VLOOKUP(E59827,'Padrão mensagem'!$A$3:$B$67,2,0)","v":{"$error":"#N/A"}}]
[null,null,null,"Nao",null,{"$f":"VLOOKUP(E59859,'Padrão mensagem'!$A$3:$B$67,2,0)","v":{"$error":"#N/A"}}]
[null,null,null,"Nao",null,{"$f":"VLOOKUP(E59898,'Padrão mensagem'!$A$3:$B$67,2,0)","v":{"$error":"#N/A"}}]
[null,null,null,"Nao",null,{"$f":"VLOOKUP(E59912,'Padrão mensagem'!$A$3:$B$67,2,0)","v":{"$error":"#N/A"}}]
[null,null,null,"Nao",null,{"$f":"VLOOKUP(E59946,'Padrão mensagem'!$A$3:$B$67,2,0)","v":{"$error":"#N/A"}}]
[null,null,null,"Nao",null,{"$f":"VLOOKUP(E59985,'Padrão mensagem'!$A$3:$B$67,2,0)","v":{"$error":"#N/A"}}]
[null,null,null,"Nao",null,{"$f":"VLOOKUP(E60028,'Padrão mensagem'!$A$3:$B$67,2,0)","v":{"$error":"#N/A"}}]
[null,null,null,"Nao",null,{"$f":"VLOOKUP(E60047,'Padrão mensagem'!$A$3:$B$67,2,0)","v":{"$error":"#N/A"}}]
[null,null,null,"Nao",null,{"$f":"VLOOKUP(E60072,'Padrão mensagem'!$A$3:$B$67,2,0)","v":{"$error":"#N/A"}}]
[null,null,null,"Nao",null,{"$f":"VLOOKUP(E60115,'Padrão mensagem'!$A$3:$B$67,2,0)","v":{"$error":"#N/A"}}]
[null,null,null,"Nao",null,{"$f":"VLOOKUP(E60164,'Padrão mensagem'!$A$3:$B$67,2,0)","v":{"$error":"#N/A"}}]
[null,null,null,"Nao",null,{"$f":"VLOOKUP(E60196,'Padrão mensagem'!$A$3:$B$67,2,0)","v":{"$error":"#N/A"}}]
[null,null,null,"Nao",null,{"$f":"VLOOKUP(E60235,'Padrão mensagem'!$A$3:$B$67,2,0)","v":{"$error":"#N/A"}}]
[null,null,null,"Nao",null,{"$f":"VLOOKUP(E60241,'Padrão mensagem'!$A$3:$B$67,2,0)","v":{"$error":"#N/A"}}]
[null,null,null,"Nao",null,{"$f":"VLOOKUP(E60299,'Padrão mensagem'!$A$3:$B$67,2,0)","v":{"$error":"#N/A"}}]
[null,null,null,"Nao",null,{"$f":"VLOOKUP(E60322,'Padrão mensagem'!$A$3:$B$67,2,0)","v":{"$error":"#N/A"}}]
[null,null,null,"Nao",null,{"$f":"VLOOKUP(E60365,'Padrão mensagem'!$A$3:$B$67,2,0)","v":{"$error":"#N/A"}}]
[null,null,null,"Nao",null,{"$f":"VLOOKUP(E60384,'Padrão mensagem'!$A$3:$B$67,2,0)","v":{"$error":"#N/A"}}]
[null,null,null,"Nao",null,{"$f":"VLOOKUP(E60409,'Padrão mensagem'!$A$3:$B$67,2,0)","v":{"$error":"#N/A"}}]
[null,null,null,"Nao",null,{"$f":"VLOOKUP(E60452,'Padrão mensagem'!$A$3:$B$67,2,0)","v":{"$error":"#N/A"}}]
[null,null,null,"Nao",null,{"$f":"VLOOKUP(E60491,'Padrão mensagem'!$A$3:$B$67,2,0)","v":{"$error":"#N/A"}}]
[null,null,null,"Nao",null,{"$f":"VLOOKUP(E60519,'Padrão mensagem'!$A$3:$B$67,2,0)","v":{"$error":"#N/A"}}]
[null,null,null,"Nao",null,{"$f":"VLOOKUP(E60539,'Padrão mensagem'!$A$3:$B$67,2,0)","v":{"$error":"#N/A"}}]
[null,null,null,"Nao",null,{"$f":"VLOOKUP(E60578,'Padrão mensagem'!$A$3:$B$67,2,0)","v":{"$error":"#N/A"}}]
[null,null,null,"Nao",null,{"$f":"VLOOKUP(E60604,'Padrão mensagem'!$A$3:$B$67,2,0)","v":{"$error":"#N/A"}}]
[null,null,null,"Nao",null,{"$f":"VLOOKUP(E60659,'Padrão mensagem'!$A$3:$B$67,2,0)","v":{"$error":"#N/A"}}]
[null,null,null,"Nao",null,{"$f":"VLOOKUP(E60665,'Padrão mensagem'!$A$3:$B$67,2,0)","v":{"$error":"#N/A"}}]
[null,null,null,"Nao",null,{"$f":"VLOOKUP(E60708,'Padrão mensagem'!$A$3:$B$67,2,0)","v":{"$error":"#N/A"}}]
[null,null,null,"Nao",null,{"$f":"VLOOKUP(E60739,'Padrão mensagem'!$A$3:$B$67,2,0)","v":{"$error":"#N/A"}}]
[null,null,null,"Nao",null,{"$f":"VLOOKUP(E60789,'Padrão mensagem'!$A$3:$B$67,2,0)","v":{"$error":"#N/A"}}]
[null,null,null,"Nao",null,{"$f":"VLOOKUP(E60795,'Padrão mensagem'!$A$3:$B$67,2,0)","v":{"$error":"#N/A"}}]
[null,null,null,"Nao",null,{"$f":"VLOOKUP(E60856,'Padrão mensagem'!$A$3:$B$67,2,0)","v":{"$error":"#N/A"}}]
[null,null,null,"Nao",null,{"$f":"VLOOKUP(E60876,'Padrão mensagem'!$A$3:$B$67,2,0)","v":{"$error":"#N/A"}}]
[null,null,null,"Nao",null,{"$f":"VLOOKUP(E60915,'Padrão mensagem'!$A$3:$B$67,2,0)","v":{"$error":"#N/A"}}]
[null,null,null,"Nao",null,{"$f":"VLOOKUP(E60954,'Padrão mensagem'!$A$3:$B$67,2,0)","v":{"$error":"#N/A"}}]
[null,null,null,"Nao",null,{"$f":"VLOOKUP(E60959,'Padrão mensagem'!$A$3:$B$67,2,0)","v":{"$error":"#N/A"}}]
[null,null,null,"Nao",null,{"$f":"VLOOKUP(E61002,'Padrão mensagem'!$A$3:$B$67,2,0)","v":{"$error":"#N/A"}}]
[null,null,null,"Nao",null,{"$f":"VLOOKUP(E61045,'Padrão mensagem'!$A$3:$B$67,2,0)","v":{"$error":"#N/A"}}]
[null,null,null,"Nao",null,{"$f":"VLOOKUP(E61076,'Padrão mensagem'!$A$3:$B$67,2,0)","v":{"$error":"#N/A"}}]
[null,null,null,"Nao",null,{"$f":"VLOOKUP(E61089,'Padrão mensagem'!$A$3:$B$67,2,0)","v":{"$error":"#N/A"}}]
[null,null,null,"Nao",null,{"$f":"VLOOKUP(E61132,'Padrão mensagem'!$A$3:$B$67,2,0)","v":{"$error":"#N/A"}}]
[null,null,null,"Nao",null,{"$f":"VLOOKUP(E61171,'Padrão mensagem'!$A$3:$B$67,2,0)","v":{"$error":"#N/A"}}]
[null,null,null,"Nao",null,{"$f":"VLOOKUP(E61211,'Padrão mensagem'!$A$3:$B$67,2,0)","v":{"$error":"#N/A"}}]
[null,null,null,"Nao",null,{"$f":"VLOOKUP(E61219,'Padrão mensagem'!$A$3:$B$67,2,0)","v":{"$error":"#N/A"}}]
[null,null,null,"Nao",null,{"$f":"VLOOKUP(E61258,'Padrão mensagem'!$A$3:$B$67,2,0)","v":{"$error":"#N/A"}}]
[null,null,null,"Nao",null,{"$f":"VLOOKUP(E61301,'Padrão mensagem'!$A$3:$B$67,2,0)","v":{"$error":"#N/A"}}]
[null,null,null,"Nao",null,{"$f":"VLOOKUP(E61346,'Padrão mensagem'!$A$3:$B$67,2,0)","v":{"$error":"#N/A"}}]
[null,null,null,"Nao",null,{"$f":"VLOOKUP(E61378,'Padrão mensagem'!$A$3:$B$67,2,0)","v":{"$error":"#N/A"}}]
[null,null,null,"Nao",null,{"$f":"VLOOKUP(E61388,'Padrão mensagem'!$A$3:$B$67,2,0)","v":{"$error":"#N/A"}}]
[null,null,null,"Nao",null,{"$f":"VLOOKUP(E61431,'Padrão mensagem'!$A$3:$B$67,2,0)","v":{"$error":"#N/A"}}]
[null,null,null,"Nao",null,{"$f":"VLOOKUP(E61469,'Padrão mensagem'!$A$3:$B$67,2,0)","v":{"$error":"#N/A"}}]
[null,null,null,"Nao",null,{"$f":"VLOOKUP(E61508,'Padrão mensagem'!$A$3:$B$67,2,0)","v":{"$error":"#N/A"}}]
[null,null,null,"Nao",null,{"$f":"VLOOKUP(E61514,'Padrão mensagem'!$A$3:$B$67,2,0)","v":{"$error":"#N/A"}}]
[null,null,null,"Nao",null,{"$f":"VLOOKUP(E61566,'Padrão mensagem'!$A$3:$B$67,2,0)","v":{"$error":"#N/A"}}]
[null,null,null,"Nao",null,{"$f":"VLOOKUP(E61595,'Padrão mensagem'!$A$3:$B$67,2,0)","v":{"$error":"#N/A"}}]
[null,null,null,"Nao",null,{"$f":"VLOOKUP(E61634,'Padrão mensagem'!$A$3:$B$67,2,0)","v":{"$error":"#N/A"}}]
[null,null,null,"Nao",null,{"$f":"VLOOKUP(E61651,'Padrão mensagem'!$A$3:$B$67,2,0)","v":{"$error":"#N/A"}}]
[null,null,null,"Nao",null,{"$f":"VLOOKUP(E61682,'Padrão mensagem'!$A$3:$B$67,2,0)","v":{"$error":"#N/A"}}]
[null,null,null,"Nao",null,{"$f":"VLOOKUP(E61725,'Padrão mensagem'!$A$3:$B$67,2,0)","v":{"$error":"#N/A"}}]
[null,null,null,"Nao",null,{"$f":"VLOOKUP(E61764,'Padrão mensagem'!$A$3:$B$67,2,0)","v":{"$error":"#N/A"}}]
[null,null,null,"Nao",null,{"$f":"VLOOKUP(E61786,'Padrão mensagem'!$A$3:$B$67,2,0)","v":{"$error":"#N/A"}}]
[null,null,null,"Nao",null,{"$f":"VLOOKUP(E61812,'Padrão mensagem'!$A$3:$B$67,2,0)","v":{"$error":"#N/A"}}]
[null,null,null,"Nao",null,{"$f":"VLOOKUP(E61851,'Padrão mensagem'!$A$3:$B$67,2,0)","v":{"$error":"#N/A"}}]
[null,null,null,"Nao",null,{"$f":"VLOOKUP(E61903,'Padrão mensagem'!$A$3:$B$67,2,0)","v":{"$error":"#N/A"}}]
[null,null,null,"Nao",null,{"$f":"VLOOKUP(E61932,'Padrão mensagem'!$A$3:$B$67,2,0)","v":{"$error":"#N/A"}}]
[null,null,null,"Nao",null,{"$f":"VLOOKUP(E61938,'Padrão mensagem'!$A$3:$B$67,2,0)","v":{"$error":"#N/A"}}]
[null,null,null,"Nao",null,{"$f":"VLOOKUP(E61981,'Padrão mensagem'!$A$3:$B$67,2,0)","v":{"$error":"#N/A"}}]
[null,null,null,"Nao",null,{"$f":"VLOOKUP(E62006,'Padrão mensagem'!$A$3:$B$67,2,0)","v":{"$error":"#N/A"}}]
[null,null,null,"Nao",null,{"$f":"VLOOKUP(E62058,'Padrão mensagem'!$A$3:$B$67,2,0)","v":{"$error":"#N/A"}}]
[null,null,null,"Nao",null,{"$f":"VLOOKUP(E62068,'Padrão mensagem'!$A$3:$B$67,2,0)","v":{"$error":"#N/A"}}]
[null,null,null,"Nao",null,{"$f":"VLOOKUP(E62123,'Padrão mensagem'!$A$3:$B$67,2,0)","v":{"$error":"#N/A"}}]
[null,null,null,"Nao",null,{"$f":"VLOOKUP(E62149,'Padrão mensagem'!$A$3:$B$67,2,0)","v":{"$error":"#N/A"}}]
[null,null,null,"Nao",null,{"$f":"VLOOKUP(E62188,'Padrão mensagem'!$A$3:$B$67,2,0)","v":{"$error":"#N/A"}}]
[null,null,null,"Nao",null,{"$f":"VLOOKUP(E62227,'Padrão mensagem'!$A$3:$B$67,2,0)","v":{"$error":"#N/A"}}]
[null,null,null,"Nao",null,{"$f":"VLOOKUP(E62258,'Padrão mensagem'!$A$3:$B$67,2,0)","v":{"$error":"#N/A"}}]
[null,null,null,"Nao",null,{"$f":"VLOOKUP(E62275,'Padrão mensagem'!$A$3:$B$67,2,0)","v":{"$error":"#N/A"}}]
[null,null,null,"Nao",null,{"$f":"VLOOKUP(E62314,'Padrão mensagem'!$A$3:$B$67,2,0)","v":{"$error":"#N/A"}}]
[null,null,null,"Nao",null,{"$f":"VLOOKUP(E62343,'Padrão mensagem'!$A$3:$B$67,2,0)","v":{"$error":"#N/A"}}]
[null,null,null,"Nao",null,{"$f":"VLOOKUP(E62362,'Padrão mensagem'!$A$3:$B$67,2,0)","v":{"$error":"#N/A"}}]
[null,null,null,"Nao",null,{"$f":"VLOOKUP(E62405,'Padrão mensagem'!$A$3:$B$67,2,0)","v":{"$error":"#N/A"}}]
[null,null,null,"Nao",null,{"$f":"VLOOKUP(E62444,'Padrão mensagem'!$A$3:$B$67,2,0)","v":{"$error":"#N/A"}}]
[null,null,null,"Nao",null,{"$f":"VLOOKUP(E62478,'Padrão mensagem'!$A$3:$B$67,2,0)","v":{"$error":"#N/A"}}]
[null,null,null,"Nao",null,{"$f":"VLOOKUP(E62525,'Padrão mensagem'!$A$3:$B$67,2,0)","v":{"$error":"#N/A"}}]
[null,null,null,"Nao",null,{"$f":"VLOOKUP(E62531,'Padrão mensagem'!$A$3:$B$67,2,0)","v":{"$error":"#N/A"}}]
[null,null,null,"Nao",null,{"$f":"VLOOKUP(E62563,'Padrão mensagem'!$A$3:$B$67,2,0)","v":{"$error":"#N/A"}}]
[null,null,null,"Nao",null,{"$f":"VLOOKUP(E62612,'Padrão mensagem'!$A$3:$B$67,2,0)","v":{"$error":"#N/A"}}]
[null,null,null,"Nao",null,{"$f":"VLOOKUP(E62651,'Padrão mensagem'!$A$3:$B$67,2,0)","v":{"$error":"#N/A"}}]
[null,null,null,"Nao",null,{"$f":"VLOOKUP(E62661,'Padrão mensagem'!$A$3:$B$67,2,0)","v":{"$error":"#N/A"}}]
[null,null,null,"Nao",null,{"$f":"VLOOKUP(E62698,'Padrão mensagem'!$A$3:$B$67,2,0)","v":{"$error":"#N/A"}}]
[null,null,null,"Nao",null,{"$f":"VLOOKUP(E62738,'Padrão mensagem'!$A$3:$B$67,2,0)","v":{"$error":"#N/A"}}]
[null,null,null,"Nao",null,{"$f":"VLOOKUP(E62781,'Padrão mensagem'!$A$3:$B$67,2,0)","v":{"$error":"#N/A"}}]
[null,null,null,"Nao",null,{"$f":"VLOOKUP(E62815,'Padrão mensagem'!$A$3:$B$67,2,0)","v":{"$error":"#N/A"}}]
[null,null,null,"Nao",null,{"$f":"VLOOKUP(E62829,'Padrão mensagem'!$A$3:$B$67,2,0)","v":{"$error":"#N/A"}}]
[null,null,null,"Nao",null,{"$f":"VLOOKUP(E62868,'Padrão mensagem'!$A$3:$B$67,2,0)","v":{"$error":"#N/A"}}]
[null,null,null,"Nao",null,{"$f":"VLOOKUP(E62907,'Padrão mensagem'!$A$3:$B$67,2,0)","v":{"$error":"#N/A"}}]
[null,null,null,"Nao",null,{"$f":"VLOOKUP(E62950,'Padrão mensagem'!$A$3:$B$67,2,0)","v":{"$error":"#N/A"}}]
[null,null,null,"Nao",null,{"$f":"VLOOKUP(E62955,'Padrão mensagem'!$A$3:$B$67,2,0)","v":{"$error":"#N/A"}}]
[null,null,null,"Nao",null,{"$f":"VLOOKUP(E62994,'Padrão mensagem'!$A$3:$B$67,2,0)","v":{"$error":"#N/A"}}]
[null,null,null,"Nao",null,{"$f":"VLOOKUP(E63035,'Padrão mensagem'!$A$3:$B$67,2,0)","v":{"$error":"#N/A"}}]
[null,null,null,"Nao",null,{"$f":"VLOOKUP(E63075,'Padrão mensagem'!$A$3:$B$67,2,0)","v":{"$error":"#N/A"}}]
[null,null,null,"Nao",null,{"$f":"VLOOKUP(E63085,'Padrão mensagem'!$A$3:$B$67,2,0)","v":{"$error":"#N/A"}}]
[null,null,null,"Nao",null,{"$f":"VLOOKUP(E63124,'Padrão mensagem'!$A$3:$B$67,2,0)","v":{"$error":"#N/A"}}]
[null,null,null,"Nao",null,{"$f":"VLOOKUP(E63170,'Padrão mensagem'!$A$3:$B$67,2,0)","v":{"$error":"#N/A"}}]
[null,null,null,"Nao",null,{"$f":"VLOOKUP(E63205,'Padrão mensagem'!$A$3:$B$67,2,0)","v":{"$error":"#N/A"}}]
[null,null,null,"Nao",null,{"$f":"VLOOKUP(E63244,'Padrão mensagem'!$A$3:$B$67,2,0)","v":{"$error":"#N/A"}}]
[null,null,null,"Nao",null,{"$f":"VLOOKUP(E63254,'Padrão mensagem'!$A$3:$B$67,2,0)","v":{"$error":"#N/A"}}]
[null,null,null,"Nao",null,{"$f":"VLOOKUP(E63305,'Padrão mensagem'!$A$3:$B$67,2,0)","v":{"$error":"#N/A"}}]
[null,null,null,"Nao",null,{"$f":"VLOOKUP(E63331,'Padrão mensagem'!$A$3:$B$67,2,0)","v":{"$error":"#N/A"}}]
[null,null,null,"Nao",null,{"$f":"VLOOKUP(E63374,'Padrão mensagem'!$A$3:$B$67,2,0)","v":{"$error":"#N/A"}}]
[null,null,null,"Nao",null,{"$f":"VLOOKUP(E63390,'Padrão mensagem'!$A$3:$B$67,2,0)","v":{"$error":"#N/A"}}]
[null,null,null,"Nao",null,{"$f":"VLOOKUP(E63418,'Padrão mensagem'!$A$3:$B$67,2,0)","v":{"$error":"#N/A"}}]
[null,null,null,"Nao",null,{"$f":"VLOOKUP(E63461,'Padrão mensagem'!$A$3:$B$67,2,0)","v":{"$error":"#N/A"}}]
[null,null,null,"Nao",null,{"$f":"VLOOKUP(E63500,'Padrão mensagem'!$A$3:$B$67,2,0)","v":{"$error":"#N/A"}}]
[null,null,null,"Nao",null,{"$f":"VLOOKUP(E63525,'Padrão mensagem'!$A$3:$B$67,2,0)","v":{"$error":"#N/A"}}]
[null,null,null,"Nao",null,{"$f":"VLOOKUP(E63548,'Padrão mensagem'!$A$3:$B$67,2,0)","v":{"$error":"#N/A"}}]
[null,null,null,"Nao",null,{"$f":"VLOOKUP(E63587,'Padrão mensagem'!$A$3:$B$67,2,0)","v":{"$error":"#N/A"}}]
[null,null,null,"Nao",null,{"$f":"VLOOKUP(E63610,'Padrão mensagem'!$A$3:$B$67,2,0)","v":{"$error":"#N/A"}}]
[null,null,null,"Nao",null,{"$f":"VLOOKUP(E63668,'Padrão mensagem'!$A$3:$B$67,2,0)","v":{"$error":"#N/A"}}]
[null,null,null,"Nao",null,{"$f":"VLOOKUP(E63678,'Padrão mensagem'!$A$3:$B$67,2,0)","v":{"$error":"#N/A"}}]
[null,null,null,"Nao",null,{"$f":"VLOOKUP(E63717,'Padrão mensagem'!$A$3:$B$67,2,0)","v":{"$error":"#N/A"}}]
[null,null,null,"Nao",null,{"$f":"VLOOKUP(E63745,'Padrão mensagem'!$A$3:$B$67,2,0)","v":{"$error":"#N/A"}}]
[null,null,null,"Nao",null,{"$f":"VLOOKUP(E63798,'Padrão mensagem'!$A$3:$B$67,2,0)","v":{"$error":"#N/A"}}]
[null,null,null,"Nao",null,{"$f":"VLOOKUP(E63804,'Padrão mensagem'!$A$3:$B$67,2,0)","v":{"$error":"#N/A"}}]
[null,null,null,"Nao",null,{"$f":"VLOOKUP(E63862,'Padrão mensagem'!$A$3:$B$67,2,0)","v":{"$error":"#N/A"}}]
[null,null,null,"Nao",null,{"$f":"VLOOKUP(E63885,'Padrão mensagem'!$A$3:$B$67,2,0)","v":{"$error":"#N/A"}}]
[null,null,null,"Nao",null,{"$f":"VLOOKUP(E63924,'Padrão mensagem'!$A$3:$B$67,2,0)","v":{"$error":"#N/A"}}]
[null,null,null,"Nao",null,{"$f":"VLOOKUP(E63934,'Padrão mensagem'!$A$3:$B$67,2,0)","v":{"$error":"#N/A"}}]
[null,null,null,"Nao",null,{"$f":"VLOOKUP(E63997,'Padrão mensagem'!$A$3:$B$67,2,0)","v":{"$error":"#N/A"}}]
[null,null,null,"Nao",null,{"$f":"VLOOKUP(E64011,'Padrão mensagem'!$A$3:$B$67,2,0)","v":{"$error":"#N/A"}}]
[null,null,null,"Nao",null,{"$f":"VLOOKUP(E64054,'Padrão mensagem'!$A$3:$B$67,2,0)","v":{"$error":"#N/A"}}]
[null,null,null,"Nao",null,{"$f":"VLOOKUP(E64082,'Padrão mensagem'!$A$3:$B$67,2,0)","v":{"$error":"#N/A"}}]
[null,null,null,"Nao",null,{"$f":"VLOOKUP(E64098,'Padrão mensagem'!$A$3:$B$67,2,0)","v":{"$error":"#N/A"}}]
[null,null,null,"Nao",null,{"$f":"VLOOKUP(E64141,'Padrão mensagem'!$A$3:$B$67,2,0)","v":{"$error":"#N/A"}}]
[null,null,null,"Nao",null,{"$f":"VLOOKUP(E64180,'Padrão mensagem'!$A$3:$B$67,2,0)","v":{"$error":"#N/A"}}]
[null,null,null,"Nao",null,{"$f":"VLOOKUP(E64217,'Padrão mensagem'!$A$3:$B$67,2,0)","v":{"$error":"#N/A"}}]
[null,null,null,"Nao",null,{"$f":"VLOOKUP(E64228,'Padrão mensagem'!$A$3:$B$67,2,0)","v":{"$error":"#N/A"}}]
[null,null,null,"Nao",null,{"$f":"VLOOKUP(E64267,'Padrão mensagem'!$A$3:$B$67,2,0)","v":{"$error":"#N/A"}}]
[null,null,null,"Nao",null,{"$f":"VLOOKUP(E64302,'Padrão mensagem'!$A$3:$B$67,2,0)","v":{"$error":"#N/A"}}]
[null,null,null,"Nao",null,{"$f":"VLOOKUP(E64348,'Padrão mensagem'!$A$3:$B$67,2,0)","v":{"$error":"#N/A"}}]
[null,null,null,"Nao",null,{"$f":"VLOOKUP(E64358,'Padrão mensagem'!$A$3:$B$67,2,0)","v":{"$error":"#N/A"}}]
[null,null,null,"Nao",null,{"$f":"VLOOKUP(E64397,'Padrão mensagem'!$A$3:$B$67,2,0)","v":{"$error":"#N/A"}}]
[null,null,null,"Nao",null,{"$f":"VLOOKUP(E64437,'Padrão mensagem'!$A$3:$B$67,2,0)","v":{"$error":"#N/A"}}]
[null,null,null,"Nao",null,{"$f":"VLOOKUP(E64478,'Padrão mensagem'!$A$3:$B$67,2,0)","v":{"$error":"#N/A"}}]
[null,null,null,"Nao",null,{"$f":"VLOOKUP(E64517,'Padrão mensagem'!$A$3:$B$67,2,0)","v":{"$error":"#N/A"}}]
[null,null,null,"Nao",null,{"$f":"VLOOKUP(E64522,'Padrão mensagem'!$A$3:$B$67,2,0)","v":{"$error":"#N/A"}}]
[null,null,null,"Nao",null,{"$f":"VLOOKUP(E64565,'Padrão mensagem'!$A$3:$B$67,2,0)","v":{"$error":"#N/A"}}]
[null,null,null,"Nao",null,{"$f":"VLOOKUP(E64604,'Padrão mensagem'!$A$3:$B$67,2,0)","v":{"$error":"#N/A"}}]
[null,null,null,"Nao",null,{"$f":"VLOOKUP(E64647,'Padrão mensagem'!$A$3:$B$67,2,0)","v":{"$error":"#N/A"}}]
[null,null,null,"Nao",null,{"$f":"VLOOKUP(E64657,'Padrão mensagem'!$A$3:$B$67,2,0)","v":{"$error":"#N/A"}}]
[null,null,null,"Nao",null,{"$f":"VLOOKUP(E64691,'Padrão mensagem'!$A$3:$B$67,2,0)","v":{"$error":"#N/A"}}]
[null,null,null,"Nao",null,{"$f":"VLOOKUP(E64734,'Padrão mensagem'!$A$3:$B$67,2,0)","v":{"$error":"#N/A"}}]
[null,null,null,"Nao",null,{"$f":"VLOOKUP(E64774,'Padrão mensagem'!$A$3:$B$67,2,0)","v":{"$error":"#N/A"}}]
[null,null,null,"Nao",null,{"$f":"VLOOKUP(E64811,'Padrão mensagem'!$A$3:$B$67,2,0)","v":{"$error":"#N/A"}}]
[null,null,null,"Nao",null,{"$f":"VLOOKUP(E64821,'Padrão mensagem'!$A$3:$B$67,2,0)","v":{"$error":"#N/A"}}]
[null,null,null,"Nao",null,{"$f":"VLOOKUP(E64860,'Padrão mensagem'!$A$3:$B$67,2,0)","v":{"$error":"#N/A"}}]
[null,null,null,"Nao",null,{"$f":"VLOOKUP(E64909,'Padrão mensagem'!$A$3:$B$67,2,0)","v":{"$error":"#N/A"}}]
[null,null,null,"Nao",null,{"$f":"VLOOKUP(E64941,'Padrão mensagem'!$A$3:$B$67,2,0)","v":{"$error":"#N/A"}}]
[null,null,null,"Nao",null,{"$f":"VLOOKUP(E64947,'Padrão mensagem'!$A$3:$B$67,2,0)","v":{"$error":"#N/A"}}]
[null,null,null,"Nao",null,{"$f":"VLOOKUP(E64994,'Padrão mensagem'!$A$3:$B$67,2,0)","v":{"$error":"#N/A"}}]
[null,null,null,"Nao",null,{"$f":"VLOOKUP(E65028,'Padrão mensagem'!$A$3:$B$67,2,0)","v":{"$error":"#N/A"}}]
[null,null,null,"Nao",null,{"$f":"VLOOKUP(E65071,'Padrão mensagem'!$A$3:$B$67,2,0)","v":{"$error":"#N/A"}}]
[null,null,null,"Nao",null,{"$f":"VLOOKUP(E65110,'Padrão mensagem'!$A$3:$B$67,2,0)","v":{"$error":"#N/A"}}]
[null,null,null,"Nao",null,{"$f":"VLOOKUP(E65129,'Padrão mensagem'!$A$3:$B$67,2,0)","v":{"$error":"#N/A"}}]
[null,null,null,"Nao",null,{"$f":"VLOOKUP(E65158,'Padrão mensagem'!$A$3:$B$67,2,0)","v":{"$error":"#N/A"}}]
[null,null,null,"Nao",null,{"$f":"VLOOKUP(E65197,'Padrão mensagem'!$A$3:$B$67,2,0)","v":{"$error":"#N/A"}}]
[null,null,null,"Nao",null,{"$f":"VLOOKUP(E65214,'Padrão mensagem'!$A$3:$B$67,2,0)","v":{"$error":"#N/A"}}]
[null,null,null,"Nao",null,{"$f":"VLOOKUP(E65245,'Padrão mensagem'!$A$3:$B$67,2,0)","v":{"$error":"#N/A"}}]
[null,null,null,"Nao",null,{"$f":"VLOOKUP(E65284,'Padrão mensagem'!$A$3:$B$67,2,0)","v":{"$error":"#N/A"}}]
[null,null,null,"Nao",null,{"$f":"VLOOKUP(E65327,'Padrão mensagem'!$A$3:$B$67,2,0)","v":{"$error":"#N/A"}}]
[null,null,null,"Nao",null,{"$f":"VLOOKUP(E65349,'Padrão mensagem'!$A$3:$B$67,2,0)","v":{"$error":"#N/A"}}]
[null,null,null,"Nao",null,{"$f":"VLOOKUP(E65404,'Padrão mensagem'!$A$3:$B$67,2,0)","v":{"$error":"#N/A"}}]
[null,null,null,"Nao",null,{"$f":"VLOOKUP(E65414,'Padrão mensagem'!$A$3:$B$67,2,0)","v":{"$error":"#N/A"}}]
[null,null,null,"Nao",null,{"$f":"VLOOKUP(E65453,'Padrão mensagem'!$A$3:$B$67,2,0)","v":{"$error":"#N/A"}}]
[null,null,null,"Nao",null,{"$f":"VLOOKUP(E65484,'Padrão mensagem'!$A$3:$B$67,2,0)","v":{"$error":"#N/A"}}]
[null,null,null,"Nao",null,{"$f":"VLOOKUP(E65534,'Padrão mensagem'!$A$3:$B$67,2,0)","v":{"$error":"#N/A"}}]
[null,null,null,"Nao",null,{"$f":"VLOOKUP(E65540,'Padrão mensagem'!$A$3:$B$67,2,0)","v":{"$error":"#N/A"}}]
[null,null,null,"Nao",null,{"$f":"VLOOKUP(E65569,'Padrão mensagem'!$A$3:$B$67,2,0)","v":{"$error":"#N/A"}}]
[null,null,null,"Nao",null,{"$f":"VLOOKUP(E65621,'Padrão mensagem'!$A$3:$B$67,2,0)","v":{"$error":"#N/A"}}]
[null,null,null,"Nao",null,{"$f":"VLOOKUP(E65660,'Padrão mensagem'!$A$3:$B$67,2,0)","v":{"$error":"#N/A"}}]
[null,null,null,"Nao",null,{"$f":"VLOOKUP(E65670,'Padrão mensagem'!$A$3:$B$67,2,0)","v":{"$error":"#N/A"}}]
[null,null,null,"Nao",null,{"$f":"VLOOKUP(E65704,'Padrão mensagem'!$A$3:$B$67,2,0)","v":{"$error":"#N/A"}}]
[null,null,null,"Nao",null,{"$f":"VLOOKUP(E65751,'Padrão mensagem'!$A$3:$B$67,2,0)","v":{"$error":"#N/A"}}]
[null,null,null,"Nao",null,{"$f":"VLOOKUP(E65790,'Padrão mensagem'!$A$3:$B$67,2,0)","v":{"$error":"#N/A"}}]
[null,null,null,"Nao",null,{"$f":"VLOOKUP(E65821,'Padrão mensagem'!$A$3:$B$67,2,0)","v":{"$error":"#N/A"}}]
[null,null,null,"Nao",null,{"$f":"VLOOKUP(E65838,'Padrão mensagem'!$A$3:$B$67,2,0)","v":{"$error":"#N/A"}}]
[null,null,null,"Nao",null,{"$f":"VLOOKUP(E65877,'Padrão mensagem'!$A$3:$B$67,2,0)","v":{"$error":"#N/A"}}]
[null,null,null,"Nao",null,{"$f":"VLOOKUP(E65916,'Padrão mensagem'!$A$3:$B$67,2,0)","v":{"$error":"#N/A"}}]
[null,null,null,"Nao",null,{"$f":"VLOOKUP(E65956,'Padrão mensagem'!$A$3:$B$67,2,0)","v":{"$error":"#N/A"}}]
[null,null,null,"Nao",null,{"$f":"VLOOKUP(E65964,'Padrão mensagem'!$A$3:$B$67,2,0)","v":{"$error":"#N/A"}}]
[null,null,null,"Nao",null,{"$f":"VLOOKUP(E66007,'Padrão mensagem'!$A$3:$B$67,2,0)","v":{"$error":"#N/A"}}]
[null,null,null,"Nao",null,{"$f":"VLOOKUP(E66041,'Padrão mensagem'!$A$3:$B$67,2,0)","v":{"$error":"#N/A"}}]
[null,null,null,"Nao",null,{"$f":"VLOOKUP(E66084,'Padrão mensagem'!$A$3:$B$67,2,0)","v":{"$error":"#N/A"}}]
[null,null,null,"Nao",null,{"$f":"VLOOKUP(E66094,'Padrão mensagem'!$A$3:$B$67,2,0)","v":{"$error":"#N/A"}}]
[null,null,null,"Nao",null,{"$f":"VLOOKUP(E66133,'Padrão mensagem'!$A$3:$B$67,2,0)","v":{"$error":"#N/A"}}]
[null,null,null,"Nao",null,{"$f":"VLOOKUP(E66176,'Padrão mensagem'!$A$3:$B$67,2,0)","v":{"$error":"#N/A"}}]
[null,null,null,"Nao",null,{"$f":"VLOOKUP(E66214,'Padrão mensagem'!$A$3:$B$67,2,0)","v":{"$error":"#N/A"}}]
[null,null,null,"Nao",null,{"$f":"VLOOKUP(E66253,'Padrão mensagem'!$A$3:$B$67,2,0)","v":{"$error":"#N/A"}}]
[null,null,null,"Nao",null,{"$f":"VLOOKUP(E66261,'Padrão mensagem'!$A$3:$B$67,2,0)","v":{"$error":"#N/A"}}]
[null,null,null,"Nao",null,{"$f":"VLOOKUP(E66301,'Padrão mensagem'!$A$3:$B$67,2,0)","v":{"$error":"#N/A"}}]
[null,null,null,"Nao",null,{"$f":"VLOOKUP(E66340,'Padrão mensagem'!$A$3:$B$67,2,0)","v":{"$error":"#N/A"}}]
[null,null,null,"Nao",null,{"$f":"VLOOKUP(E66383,'Padrão mensagem'!$A$3:$B$67,2,0)","v":{"$error":"#N/A"}}]
[null,null,null,"Nao",null,{"$f":"VLOOKUP(E66396,'Padrão mensagem'!$A$3:$B$67,2,0)","v":{"$error":"#N/A"}}]
[null,null,null,"Nao",null,{"$f":"VLOOKUP(E66431,'Padrão mensagem'!$A$3:$B$67,2,0)","v":{"$error":"#N/A"}}]
[null,null,null,"Nao",null,{"$f":"VLOOKUP(E66470,'Padrão mensagem'!$A$3:$B$67,2,0)","v":{"$error":"#N/A"}}]
[null,null,null,"Nao",null,{"$f":"VLOOKUP(E66513,'Padrão mensagem'!$A$3:$B$67,2,0)","v":{"$error":"#N/A"}}]
[null,null,null,"Nao",null,{"$f":"VLOOKUP(E66518,'Padrão mensagem'!$A$3:$B$67,2,0)","v":{"$error":"#N/A"}}]
[null,null,null,"Nao",null,{"$f":"VLOOKUP(E66557,'Padrão mensagem'!$A$3:$B$67,2,0)","v":{"$error":"#N/A"}}]
[null,null,null,"Nao",null,{"$f":"VLOOKUP(E66600,'Padrão mensagem'!$A$3:$B$67,2,0)","v":{"$error":"#N/A"}}]
[null,null,null,"Nao",null,{"$f":"VLOOKUP(E66616,'Padrão mensagem'!$A$3:$B$67,2,0)","v":{"$error":"#N/A"}}]
[null,null,null,"Nao",null,{"$f":"VLOOKUP(E66677,'Padrão mensagem'!$A$3:$B$67,2,0)","v":{"$error":"#N/A"}}]
[null,null,null,"Nao",null,{"$f":"VLOOKUP(E66687,'Padrão mensagem'!$A$3:$B$67,2,0)","v":{"$error":"#N/A"}}]
[null,null,null,"Nao",null,{"$f":"VLOOKUP(E66733,'Padrão mensagem'!$A$3:$B$67,2,0)","v":{"$error":"#N/A"}}]
[null,null,null,"Nao",null,{"$f":"VLOOKUP(E66764,'Padrão mensagem'!$A$3:$B$67,2,0)","v":{"$error":"#N/A"}}]
[null,null,null,"Nao",null,{"$f":"VLOOKUP(E66807,'Padrão mensagem'!$A$3:$B$67,2,0)","v":{"$error":"#N/A"}}]
[null,null,null,"Nao",null,{"$f":"VLOOKUP(E66813,'Padrão mensagem'!$A$3:$B$67,2,0)","v":{"$error":"#N/A"}}]
[null,null,null,"Nao",null,{"$f":"VLOOKUP(E66868,'Padrão mensagem'!$A$3:$B$67,2,0)","v":{"$error":"#N/A"}}]
[null,null,null,"Nao",null,{"$f":"VLOOKUP(E66894,'Padrão mensagem'!$A$3:$B$67,2,0)","v":{"$error":"#N/A"}}]
[null,null,null,"Nao",null,{"$f":"VLOOKUP(E66933,'Padrão mensagem'!$A$3:$B$67,2,0)","v":{"$error":"#N/A"}}]
[null,null,null,"Nao",null,{"$f":"VLOOKUP(E66953,'Padrão mensagem'!$A$3:$B$67,2,0)","v":{"$error":"#N/A"}}]
[null,null,null,"Nao",null,{"$f":"VLOOKUP(E66981,'Padrão mensagem'!$A$3:$B$67,2,0)","v":{"$error":"#N/A"}}]
[null,null,null,"Nao",null,{"$f":"VLOOKUP(E67020,'Padrão mensagem'!$A$3:$B$67,2,0)","v":{"$error":"#N/A"}}]
[null,null,null,"Nao",null,{"$f":"VLOOKUP(E67063,'Padrão mensagem'!$A$3:$B$67,2,0)","v":{"$error":"#N/A"}}]
[null,null,null,"Nao",null,{"$f":"VLOOKUP(E67088,'Padrão mensagem'!$A$3:$B$67,2,0)","v":{"$error":"#N/A"}}]
[null,null,null,"Nao",null,{"$f":"VLOOKUP(E67111,'Padrão mensagem'!$A$3:$B$67,2,0)","v":{"$error":"#N/A"}}]
[null,null,null,"Nao",null,{"$f":"VLOOKUP(E67150,'Padrão mensagem'!$A$3:$B$67,2,0)","v":{"$error":"#N/A"}}]
[null,null,null,"Nao",null,{"$f":"VLOOKUP(E67173,'Padrão mensagem'!$A$3:$B$67,2,0)","v":{"$error":"#N/A"}}]
[null,null,null,"Nao",null,{"$f":"VLOOKUP(E67231,'Padrão mensagem'!$A$3:$B$67,2,0)","v":{"$error":"#N/A"}}]
[null,null,null,"Nao",null,{"$f":"VLOOKUP(E67237,'Padrão mensagem'!$A$3:$B$67,2,0)","v":{"$error":"#N/A"}}]
[null,null,null,"Nao",null,{"$f":"VLOOKUP(E67280,'Padrão mensagem'!$A$3:$B$67,2,0)","v":{"$error":"#N/A"}}]
[null,null,null,"Nao",null,{"$f":"VLOOKUP(E67308,'Padrão mensagem'!$A$3:$B$67,2,0)","v":{"$error":"#N/A"}}]
[null,null,null,"Nao",null,{"$f":"VLOOKUP(E67357,'Padrão mensagem'!$A$3:$B$67,2,0)","v":{"$error":"#N/A"}}]
[null,null,null,"Nao",null,{"$f":"VLOOKUP(E67400,'Padrão mensagem'!$A$3:$B$67,2,0)","v":{"$error":"#N/A"}}]
[null,null,null,"Nao",null,{"$f":"VLOOKUP(E67406,'Padrão mensagem'!$A$3:$B$67,2,0)","v":{"$error":"#N/A"}}]
[null,null,null,"Nao",null,{"$f":"VLOOKUP(E67434,'Padrão mensagem'!$A$3:$B$67,2,0)","v":{"$error":"#N/A"}}]
[null,null,null,"Nao",null,{"$f":"VLOOKUP(E67435,'Padrão mensagem'!$A$3:$B$67,2,0)","v":{"$error":"#N/A"}}]
[null,null,null,"Nao",null,{"$f":"VLOOKUP(E67436,'Padrão mensagem'!$A$3:$B$67,2,0)","v":{"$error":"#N/A"}}]
[null,null,null,"Nao",null,{"$f":"VLOOKUP(E67437,'Padrão mensagem'!$A$3:$B$67,2,0)","v":{"$error":"#N/A"}}]
[null,null,null,"Nao",null,{"$f":"VLOOKUP(E67438,'Padrão mensagem'!$A$3:$B$67,2,0)","v":{"$error":"#N/A"}}]
[null,null,null,"Nao",null,{"$f":"VLOOKUP(E67439,'Padrão mensagem'!$A$3:$B$67,2,0)","v":{"$error":"#N/A"}}]
[null,null,null,"Nao",null,{"$f":"VLOOKUP(E67440,'Padrão mensagem'!$A$3:$B$67,2,0)","v":{"$error":"#N/A"}}]
[null,null,null,"Nao",null,{"$f":"VLOOKUP(E67441,'Padrão mensagem'!$A$3:$B$67,2,0)","v":{"$error":"#N/A"}}]
[null,null,null,"Nao",null,{"$f":"VLOOKUP(E67442,'Padrão mensagem'!$A$3:$B$67,2,0)","v":{"$error":"#N/A"}}]
[null,null,null,"Nao",null,{"$f":"VLOOKUP(E67443,'Padrão mensagem'!$A$3:$B$67,2,0)","v":{"$error":"#N/A"}}]
[null,null,null,"Nao",null,{"$f":"VLOOKUP(E67444,'Padrão mensagem'!$A$3:$B$67,2,0)","v":{"$error":"#N/A"}}]
[null,null,null,"Nao",null,{"$f":"VLOOKUP(E67445,'Padrão mensagem'!$A$3:$B$67,2,0)","v":{"$error":"#N/A"}}]
[null,null,null,"Nao",null,{"$f":"VLOOKUP(E67446,'Padrão mensagem'!$A$3:$B$67,2,0)","v":{"$error":"#N/A"}}]
[null,null,null,"Nao",null,{"$f":"VLOOKUP(E67447,'Padrão mensagem'!$A$3:$B$67,2,0)","v":{"$error":"#N/A"}}]
[null,null,null,"Nao",null,{"$f":"VLOOKUP(E67448,'Padrão mensagem'!$A$3:$B$67,2,0)","v":{"$error":"#N/A"}}]
[null,null,null,"Nao",null,{"$f":"VLOOKUP(E67449,'Padrão mensagem'!$A$3:$B$67,2,0)","v":{"$error":"#N/A"}}]
[null,null,null,"Nao",null,{"$f":"VLOOKUP(E67450,'Padrão mensagem'!$A$3:$B$67,2,0)","v":{"$error":"#N/A"}}]
[null,null,null,"Nao",null,{"$f":"VLOOKUP(E67451,'Padrão mensagem'!$A$3:$B$67,2,0)","v":{"$error":"#N/A"}}]
[null,null,null,"Nao",null,{"$f":"VLOOKUP(E67452,'Padrão mensagem'!$A$3:$B$67,2,0)","v":{"$error":"#N/A"}}]
[null,null,null,"Nao",null,{"$f":"VLOOKUP(E67453,'Padrão mensagem'!$A$3:$B$67,2,0)","v":{"$error":"#N/A"}}]
[null,null,null,"Nao",null,{"$f":"VLOOKUP(E67454,'Padrão mensagem'!$A$3:$B$67,2,0)","v":{"$error":"#N/A"}}]
[null,null,null,"Nao",null,{"$f":"VLOOKUP(E67455,'Padrão mensagem'!$A$3:$B$67,2,0)","v":{"$error":"#N/A"}}]
[null,null,null,"Nao",null,{"$f":"VLOOKUP(E67456,'Padrão mensagem'!$A$3:$B$67,2,0)","v":{"$error":"#N/A"}}]
[null,null,null,"Nao",null,{"$f":"VLOOKUP(E67457,'Padrão mensagem'!$A$3:$B$67,2,0)","v":{"$error":"#N/A"}}]
[null,null,null,"Nao",null,{"$f":"VLOOKUP(E67458,'Padrão mensagem'!$A$3:$B$67,2,0)","v":{"$error":"#N/A"}}]
[null,null,null,"Nao",null,{"$f":"VLOOKUP(E67459,'Padrão mensagem'!$A$3:$B$67,2,0)","v":{"$error":"#N/A"}}]
[null,null,null,"Nao",null,{"$f":"VLOOKUP(E67460,'Padrão mensagem'!$A$3:$B$67,2,0)","v":{"$error":"#N/A"}}]
[null,null,null,"Nao",null,{"$f":"VLOOKUP(E67461,'Padrão mensagem'!$A$3:$B$67,2,0)","v":{"$error":"#N/A"}}]
[null,null,null,"Nao",null,{"$f":"VLOOKUP(E67462,'Padrão mensagem'!$A$3:$B$67,2,0)","v":{"$error":"#N/A"}}]
[null,null,null,"Nao",null,{"$f":"VLOOKUP(E67463,'Padrão mensagem'!$A$3:$B$67,2,0)","v":{"$error":"#N/A"}}]
[null,null,null,"Nao",null,{"$f":"VLOOKUP(E67464,'Padrão mensagem'!$A$3:$B$67,2,0)","v":{"$error":"#N/A"}}]
[null,null,null,"Nao",null,{"$f":"VLOOKUP(E67465,'Padrão mensagem'!$A$3:$B$67,2,0)","v":{"$error":"#N/A"}}]
[null,null,null,"Nao",null,{"$f":"VLOOKUP(E67466,'Padrão mensagem'!$A$3:$B$67,2,0)","v":{"$error":"#N/A"}}]
[null,null,null,"Nao",null,{"$f":"VLOOKUP(E67467,'Padrão mensagem'!$A$3:$B$67,2,0)","v":{"$error":"#N/A"}}]
[null,null,null,"Nao",null,{"$f":"VLOOKUP(E67468,'Padrão mensagem'!$A$3:$B$67,2,0)","v":{"$error":"#N/A"}}]
[null,null,null,"Nao",null,{"$f":"VLOOKUP(E67469,'Padrão mensagem'!$A$3:$B$67,2,0)","v":{"$error":"#N/A"}}]
[null,null,null,"Nao",null,{"$f":"VLOOKUP(E67470,'Padrão mensagem'!$A$3:$B$67,2,0)","v":{"$error":"#N/A"}}]
[null,null,null,"Nao",null,{"$f":"VLOOKUP(E67471,'Padrão mensagem'!$A$3:$B$67,2,0)","v":{"$error":"#N/A"}}]
[null,null,null,"Nao",null,{"$f":"VLOOKUP(E67472,'Padrão mensagem'!$A$3:$B$67,2,0)","v":{"$error":"#N/A"}}]
[null,null,null,"Nao",null,{"$f":"VLOOKUP(E67473,'Padrão mensagem'!$A$3:$B$67,2,0)","v":{"$error":"#N/A"}}]
[null,null,null,"Nao",null,{"$f":"VLOOKUP(E67474,'Padrão mensagem'!$A$3:$B$67,2,0)","v":{"$error":"#N/A"}}]
[null,null,null,"Nao",null,{"$f":"VLOOKUP(E67475,'Padrão mensagem'!$A$3:$B$67,2,0)","v":{"$error":"#N/A"}}]
[null,null,null,"Nao",null,{"$f":"VLOOKUP(E67476,'Padrão mensagem'!$A$3:$B$67,2,0)","v":{"$error":"#N/A"}}]
[null,null,null,"Nao",null,{"$f":"VLOOKUP(E67477,'Padrão mensagem'!$A$3:$B$67,2,0)","v":{"$error":"#N/A"}}]
[null,null,null,"Nao",null,{"$f":"VLOOKUP(E67478,'Padrão mensagem'!$A$3:$B$67,2,0)","v":{"$error":"#N/A"}}]
[null,null,null,"Nao",null,{"$f":"VLOOKUP(E67479,'Padrão mensagem'!$A$3:$B$67,2,0)","v":{"$error":"#N/A"}}]
[null,null,null,"Nao",null,{"$f":"VLOOKUP(E67480,'Padrão mensagem'!$A$3:$B$67,2,0)","v":{"$error":"#N/A"}}]
[null,null,null,"Nao",null,{"$f":"VLOOKUP(E67481,'Padrão mensagem'!$A$3:$B$67,2,0)","v":{"$error":"#N/A"}}]
[null,null,null,"Nao",null,{"$f":"VLOOKUP(E67482,'Padrão mensagem'!$A$3:$B$67,2,0)","v":{"$error":"#N/A"}}]
[null,null,null,"Nao",null,{"$f":"VLOOKUP(E67483,'Padrão mensagem'!$A$3:$B$67,2,0)","v":{"$error":"#N/A"}}]
[null,null,null,"Nao",null,{"$f":"VLOOKUP(E67484,'Padrão mensagem'!$A$3:$B$67,2,0)","v":{"$error":"#N/A"}}]
[null,null,null,"Nao",null,{"$f":"VLOOKUP(E67485,'Padrão mensagem'!$A$3:$B$67,2,0)","v":{"$error":"#N/A"}}]
[null,null,null,"Nao",null,{"$f":"VLOOKUP(E67486,'Padrão mensagem'!$A$3:$B$67,2,0)","v":{"$error":"#N/A"}}]
[null,null,null,"Nao",null,{"$f":"VLOOKUP(E67487,'Padrão mensagem'!$A$3:$B$67,2,0)","v":{"$error":"#N/A"}}]
[null,null,null,"Nao",null,{"$f":"VLOOKUP(E67488,'Padrão mensagem'!$A$3:$B$67,2,0)","v":{"$error":"#N/A"}}]
[null,null,null,"Nao",null,{"$f":"VLOOKUP(E67489,'Padrão mensagem'!$A$3:$B$67,2,0)","v":{"$error":"#N/A"}}]
[null,null,null,"Nao",null,{"$f":"VLOOKUP(E67490,'Padrão mensagem'!$A$3:$B$67,2,0)","v":{"$error":"#N/A"}}]
[null,null,null,"Nao",null,{"$f":"VLOOKUP(E67491,'Padrão mensagem'!$A$3:$B$67,2,0)","v":{"$error":"#N/A"}}]
[null,null,null,"Nao",null,{"$f":"VLOOKUP(E67492,'Padrão mensagem'!$A$3:$B$67,2,0)","v":{"$error":"#N/A"}}]
[null,null,null,"Nao",null,{"$f":"VLOOKUP(E67493,'Padrão mensagem'!$A$3:$B$67,2,0)","v":{"$error":"#N/A"}}]
[null,null,null,"Nao",null,{"$f":"VLOOKUP(E67494,'Padrão mensagem'!$A$3:$B$67,2,0)","v":{"$error":"#N/A"}}]
[null,null,null,"Nao",null,{"$f":"VLOOKUP(E67495,'Padrão mensagem'!$A$3:$B$67,2,0)","v":{"$error":"#N/A"}}]
[null,null,null,"Nao",null,{"$f":"VLOOKUP(E67496,'Padrão mensagem'!$A$3:$B$67,2,0)","v":{"$error":"#N/A"}}]
[null,null,null,"Nao",null,{"$f":"VLOOKUP(E67497,'Padrão mensagem'!$A$3:$B$67,2,0)","v":{"$error":"#N/A"}}]
[null,null,null,"Nao",null,{"$f":"VLOOKUP(E67498,'Padrão mensagem'!$A$3:$B$67,2,0)","v":{"$error":"#N/A"}}]
[null,null,null,"Nao",null,{"$f":"VLOOKUP(E67499,'Padrão mensagem'!$A$3:$B$67,2,0)","v":{"$error":"#N/A"}}]
[null,null,null,"Nao",null,{"$f":"VLOOKUP(E67500,'Padrão mensagem'!$A$3:$B$67,2,0)","v":{"$error":"#N/A"}}]
[null,null,null,"Nao",null,{"$f":"VLOOKUP(E67501,'Padrão mensagem'!$A$3:$B$67,2,0)","v":{"$error":"#N/A"}}]
[null,null,null,"Nao",null,{"$f":"VLOOKUP(E67502,'Padrão mensagem'!$A$3:$B$67,2,0)","v":{"$error":"#N/A"}}]
[null,null,null,"Nao",null,{"$f":"VLOOKUP(E67503,'Padrão mensagem'!$A$3:$B$67,2,0)","v":{"$error":"#N/A"}}]
[null,null,null,"Nao",null,{"$f":"VLOOKUP(E67504,'Padrão mensagem'!$A$3:$B$67,2,0)","v":{"$error":"#N/A"}}]
[null,null,null,"Nao",null,{"$f":"VLOOKUP(E67505,'Padrão mensagem'!$A$3:$B$67,2,0)","v":{"$error":"#N/A"}}]
[null,null,null,"Nao",null,{"$f":"VLOOKUP(E67506,'Padrão mensagem'!$A$3:$B$67,2,0)","v":{"$error":"#N/A"}}]
[null,null,null,"Nao",null,{"$f":"VLOOKUP(E67507,'Padrão mensagem'!$A$3:$B$67,2,0)","v":{"$error":"#N/A"}}]
[null,null,null,"Nao",null,{"$f":"VLOOKUP(E67508,'Padrão mensagem'!$A$3:$B$67,2,0)","v":{"$error":"#N/A"}}]
[null,null,null,"Nao",null,{"$f":"VLOOKUP(E67509,'Padrão mensagem'!$A$3:$B$67,2,0)","v":{"$error":"#N/A"}}]
[null,null,null,"Nao",null,{"$f":"VLOOKUP(E67510,'Padrão mensagem'!$A$3:$B$67,2,0)","v":{"$error":"#N/A"}}]
[null,null,null,"Nao",null,{"$f":"VLOOKUP(E67511,'Padrão mensagem'!$A$3:$B$67,2,0)","v":{"$error":"#N/A"}}]
[null,null,null,"Nao",null,{"$f":"VLOOKUP(E67512,'Padrão mensagem'!$A$3:$B$67,2,0)","v":{"$error":"#N/A"}}]
[null,null,null,"Nao",null,{"$f":"VLOOKUP(E67513,'Padrão mensagem'!$A$3:$B$67,2,0)","v":{"$error":"#N/A"}}]
[null,null,null,"Nao",null,{"$f":"VLOOKUP(E67514,'Padrão mensagem'!$A$3:$B$67,2,0)","v":{"$error":"#N/A"}}]
[null,null,null,"Nao",null,{"$f":"VLOOKUP(E67515,'Padrão mensagem'!$A$3:$B$67,2,0)","v":{"$error":"#N/A"}}]
[null,null,null,"Nao",null,{"$f":"VLOOKUP(E67516,'Padrão mensagem'!$A$3:$B$67,2,0)","v":{"$error":"#N/A"}}]
[null,null,null,"Nao",null,{"$f":"VLOOKUP(E67517,'Padrão mensagem'!$A$3:$B$67,2,0)","v":{"$error":"#N/A"}}]
[null,null,null,"Nao",null,{"$f":"VLOOKUP(E67518,'Padrão mensagem'!$A$3:$B$67,2,0)","v":{"$error":"#N/A"}}]
[null,null,null,"Nao",null,{"$f":"VLOOKUP(E67519,'Padrão mensagem'!$A$3:$B$67,2,0)","v":{"$error":"#N/A"}}]
[null,null,null,"Nao",null,{"$f":"VLOOKUP(E67520,'Padrão mensagem'!$A$3:$B$67,2,0)","v":{"$error":"#N/A"}}]
[null,null,null,"Nao",null,{"$f":"VLOOKUP(E67521,'Padrão mensagem'!$A$3:$B$67,2,0)","v":{"$error":"#N/A"}}]
[null,null,null,"Nao",null,{"$f":"VLOOKUP(E67522,'Padrão mensagem'!$A$3:$B$67,2,0)","v":{"$error":"#N/A"}}]
[null,null,null,"Nao",null,{"$f":"VLOOKUP(E67523,'Padrão mensagem'!$A$3:$B$67,2,0)","v":{"$error":"#N/A"}}]
[null,null,null,"Nao",null,{"$f":"VLOOKUP(E67524,'Padrão mensagem'!$A$3:$B$67,2,0)","v":{"$error":"#N/A"}}]
[null,null,null,"Nao",null,{"$f":"VLOOKUP(E67525,'Padrão mensagem'!$A$3:$B$67,2,0)","v":{"$error":"#N/A"}}]
[null,null,null,"Nao",null,{"$f":"VLOOKUP(E67526,'Padrão mensagem'!$A$3:$B$67,2,0)","v":{"$error":"#N/A"}}]
[null,null,null,"Nao",null,{"$f":"VLOOKUP(E67527,'Padrão mensagem'!$A$3:$B$67,2,0)","v":{"$error":"#N/A"}}]
[null,null,null,"Nao",null,{"$f":"VLOOKUP(E67528,'Padrão mensagem'!$A$3:$B$67,2,0)","v":{"$error":"#N/A"}}]
[null,null,null,"Nao",null,{"$f":"VLOOKUP(E67529,'Padrão mensagem'!$A$3:$B$67,2,0)","v":{"$error":"#N/A"}}]
[null,null,null,"Nao",null,{"$f":"VLOOKUP(E67530,'Padrão mensagem'!$A$3:$B$67,2,0)","v":{"$error":"#N/A"}}]
[null,null,null,"Nao",null,{"$f":"VLOOKUP(E67531,'Padrão mensagem'!$A$3:$B$67,2,0)","v":{"$error":"#N/A"}}]
[null,null,null,"Nao",null,{"$f":"VLOOKUP(E67532,'Padrão mensagem'!$A$3:$B$67,2,0)","v":{"$error":"#N/A"}}]
[null,null,null,"Nao",null,{"$f":"VLOOKUP(E67533,'Padrão mensagem'!$A$3:$B$67,2,0)","v":{"$error":"#N/A"}}]
[null,null,null,"Nao",null,{"$f":"VLOOKUP(E67534,'Padrão mensagem'!$A$3:$B$67,2,0)","v":{"$error":"#N/A"}}]
[null,null,null,"Nao",null,{"$f":"VLOOKUP(E67535,'Padrão mensagem'!$A$3:$B$67,2,0)","v":{"$error":"#N/A"}}]
[null,null,null,"Nao",null,{"$f":"VLOOKUP(E67536,'Padrão mensagem'!$A$3:$B$67,2,0)","v":{"$error":"#N/A"}}]
[null,null,null,"Nao",null,{"$f":"VLOOKUP(E67537,'Padrão mensagem'!$A$3:$B$67,2,0)","v":{"$error":"#N/A"}}]
[null,null,null,"Nao",null,{"$f":"VLOOKUP(E67538,'Padrão mensagem'!$A$3:$B$67,2,0)","v":{"$error":"#N/A"}}]
[null,null,null,"Nao",null,{"$f":"VLOOKUP(E67539,'Padrão mensagem'!$A$3:$B$67,2,0)","v":{"$error":"#N/A"}}]
[null,null,null,"Nao",null,{"$f":"VLOOKUP(E67540,'Padrão mensagem'!$A$3:$B$67,2,0)","v":{"$error":"#N/A"}}]
[null,null,null,"Nao",null,{"$f":"VLOOKUP(E67541,'Padrão mensagem'!$A$3:$B$67,2,0)","v":{"$error":"#N/A"}}]
[null,null,null,"Nao",null,{"$f":"VLOOKUP(E67542,'Padrão mensagem'!$A$3:$B$67,2,0)","v":{"$error":"#N/A"}}]
[null,null,null,"Nao",null,{"$f":"VLOOKUP(E67543,'Padrão mensagem'!$A$3:$B$67,2,0)","v":{"$error":"#N/A"}}]
[null,null,null,"Nao",null,{"$f":"VLOOKUP(E67544,'Padrão mensagem'!$A$3:$B$67,2,0)","v":{"$error":"#N/A"}}]
[null,null,null,"Nao",null,{"$f":"VLOOKUP(E67545,'Padrão mensagem'!$A$3:$B$67,2,0)","v":{"$error":"#N/A"}}]
[null,null,null,"Nao",null,{"$f":"VLOOKUP(E67546,'Padrão mensagem'!$A$3:$B$67,2,0)","v":{"$error":"#N/A"}}]
[null,null,null,"Nao",null,{"$f":"VLOOKUP(E67547,'Padrão mensagem'!$A$3:$B$67,2,0)","v":{"$error":"#N/A"}}]
[null,null,null,"Nao",null,{"$f":"VLOOKUP(E67548,'Padrão mensagem'!$A$3:$B$67,2,0)","v":{"$error":"#N/A"}}]
[null,null,null,"Nao",null,{"$f":"VLOOKUP(E67549,'Padrão mensagem'!$A$3:$B$67,2,0)","v":{"$error":"#N/A"}}]
[null,null,null,"Nao",null,{"$f":"VLOOKUP(E67550,'Padrão mensagem'!$A$3:$B$67,2,0)","v":{"$error":"#N/A"}}]
[null,null,null,"Nao",null,{"$f":"VLOOKUP(E67551,'Padrão mensagem'!$A$3:$B$67,2,0)","v":{"$error":"#N/A"}}]
[null,null,null,"Nao",null,{"$f":"VLOOKUP(E67552,'Padrão mensagem'!$A$3:$B$67,2,0)","v":{"$error":"#N/A"}}]
[null,null,null,"Nao",null,{"$f":"VLOOKUP(E67553,'Padrão mensagem'!$A$3:$B$67,2,0)","v":{"$error":"#N/A"}}]
[null,null,null,"Nao",null,{"$f":"VLOOKUP(E67554,'Padrão mensagem'!$A$3:$B$67,2,0)","v":{"$error":"#N/A"}}]
[null,null,null,"Nao",null,{"$f":"VLOOKUP(E67555,'Padrão mensagem'!$A$3:$B$67,2,0)","v":{"$error":"#N/A"}}]
[null,null,null,"Nao",null,{"$f":"VLOOKUP(E67556,'Padrão mensagem'!$A$3:$B$67,2,0)","v":{"$error":"#N/A"}}]
[null,null,null,"Nao",null,{"$f":"VLOOKUP(E67557,'Padrão mensagem'!$A$3:$B$67,2,0)","v":{"$error":"#N/A"}}]
[null,null,null,"Nao",null,{"$f":"VLOOKUP(E67558,'Padrão mensagem'!$A$3:$B$67,2,0)","v":{"$error":"#N/A"}}]
[null,null,null,"Nao",null,{"$f":"VLOOKUP(E67559,'Padrão mensagem'!$A$3:$B$67,2,0)","v":{"$error":"#N/A"}}]
[null,null,null,"Nao",null,{"$f":"VLOOKUP(E67560,'Padrão mensagem'!$A$3:$B$67,2,0)","v":{"$error":"#N/A"}}]
[null,null,null,"Nao",null,{"$f":"VLOOKUP(E67561,'Padrão mensagem'!$A$3:$B$67,2,0)","v":{"$error":"#N/A"}}]
[null,null,null,"Nao",null,{"$f":"VLOOKUP(E67562,'Padrão mensagem'!$A$3:$B$67,2,0)","v":{"$error":"#N/A"}}]
[null,null,null,"Nao",null,{"$f":"VLOOKUP(E67563,'Padrão mensagem'!$A$3:$B$67,2,0)","v":{"$error":"#N/A"}}]
[null,null,null,"Nao",null,{"$f":"VLOOKUP(E67564,'Padrão mensagem'!$A$3:$B$67,2,0)","v":{"$error":"#N/A"}}]
[null,null,null,"Nao",null,{"$f":"VLOOKUP(E67565,'Padrão mensagem'!$A$3:$B$67,2,0)","v":{"$error":"#N/A"}}]
[null,null,null,"Nao",null,{"$f":"VLOOKUP(E67566,'Padrão mensagem'!$A$3:$B$67,2,0)","v":{"$error":"#N/A"}}]
[null,null,null,"Nao",null,{"$f":"VLOOKUP(E67567,'Padrão mensagem'!$A$3:$B$67,2,0)","v":{"$error":"#N/A"}}]
[null,null,null,"Nao",null,{"$f":"VLOOKUP(E67568,'Padrão mensagem'!$A$3:$B$67,2,0)","v":{"$error":"#N/A"}}]
[null,null,null,"Nao",null,{"$f":"VLOOKUP(E67569,'Padrão mensagem'!$A$3:$B$67,2,0)","v":{"$error":"#N/A"}}]
[null,null,null,"Nao",null,{"$f":"VLOOKUP(E67570,'Padrão mensagem'!$A$3:$B$67,2,0)","v":{"$error":"#N/A"}}]
[null,null,null,"Nao",null,{"$f":"VLOOKUP(E67571,'Padrão mensagem'!$A$3:$B$67,2,0)","v":{"$error":"#N/A"}}]
[null,null,null,"Nao",null,{"$f":"VLOOKUP(E67572,'Padrão mensagem'!$A$3:$B$67,2,0)","v":{"$error":"#N/A"}}]
[null,null,null,"Nao",null,{"$f":"VLOOKUP(E67573,'Padrão mensagem'!$A$3:$B$67,2,0)","v":{"$error":"#N/A"}}]
[null,null,null,"Nao",null,{"$f":"VLOOKUP(E67574,'Padrão mensagem'!$A$3:$B$67,2,0)","v":{"$error":"#N/A"}}]
[null,null,null,"Nao",null,{"$f":"VLOOKUP(E67575,'Padrão mensagem'!$A$3:$B$67,2,0)","v":{"$error":"#N/A"}}]
[null,null,null,"Nao",null,{"$f":"VLOOKUP(E67576,'Padrão mensagem'!$A$3:$B$67,2,0)","v":{"$error":"#N/A"}}]
[null,null,null,"Nao",null,{"$f":"VLOOKUP(E67577,'Padrão mensagem'!$A$3:$B$67,2,0)","v":{"$error":"#N/A"}}]
[null,null,null,"Nao",null,{"$f":"VLOOKUP(E67578,'Padrão mensagem'!$A$3:$B$67,2,0)","v":{"$error":"#N/A"}}]
[null,null,null,"Nao",null,{"$f":"VLOOKUP(E67579,'Padrão mensagem'!$A$3:$B$67,2,0)","v":{"$error":"#N/A"}}]
[null,null,null,"Nao",null,{"$f":"VLOOKUP(E67580,'Padrão mensagem'!$A$3:$B$67,2,0)","v":{"$error":"#N/A"}}]
[null,null,null,"Nao",null,{"$f":"VLOOKUP(E67581,'Padrão mensagem'!$A$3:$B$67,2,0)","v":{"$error":"#N/A"}}]
[null,null,null,"Nao",null,{"$f":"VLOOKUP(E67582,'Padrão mensagem'!$A$3:$B$67,2,0)","v":{"$error":"#N/A"}}]
[null,null,null,"Nao",null,{"$f":"VLOOKUP(E67583,'Padrão mensagem'!$A$3:$B$67,2,0)","v":{"$error":"#N/A"}}]
[null,null,null,"Nao",null,{"$f":"VLOOKUP(E67584,'Padrão mensagem'!$A$3:$B$67,2,0)","v":{"$error":"#N/A"}}]
[null,null,null,"Nao",null,{"$f":"VLOOKUP(E67585,'Padrão mensagem'!$A$3:$B$67,2,0)","v":{"$error":"#N/A"}}]
[null,null,null,"Nao",null,{"$f":"VLOOKUP(E67586,'Padrão mensagem'!$A$3:$B$67,2,0)","v":{"$error":"#N/A"}}]
[null,null,null,"Nao",null,{"$f":"VLOOKUP(E67587,'Padrão mensagem'!$A$3:$B$67,2,0)","v":{"$error":"#N/A"}}]
[null,null,null,"Nao",null,{"$f":"VLOOKUP(E67588,'Padrão mensagem'!$A$3:$B$67,2,0)","v":{"$error":"#N/A"}}]
[null,null,null,"Nao",null,{"$f":"VLOOKUP(E67589,'Padrão mensagem'!$A$3:$B$67,2,0)","v":{"$error":"#N/A"}}]
[null,null,null,"Nao",null,{"$f":"VLOOKUP(E67590,'Padrão mensagem'!$A$3:$B$67,2,0)","v":{"$error":"#N/A"}}]
[null,null,null,"Nao",null,{"$f":"VLOOKUP(E67591,'Padrão mensagem'!$A$3:$B$67,2,0)","v":{"$error":"#N/A"}}]
[null,null,null,"Nao",null,{"$f":"VLOOKUP(E67592,'Padrão mensagem'!$A$3:$B$67,2,0)","v":{"$error":"#N/A"}}]
[null,null,null,"Nao",null,{"$f":"VLOOKUP(E67593,'Padrão mensagem'!$A$3:$B$67,2,0)","v":{"$error":"#N/A"}}]
[null,null,null,"Nao",null,{"$f":"VLOOKUP(E67594,'Padrão mensagem'!$A$3:$B$67,2,0)","v":{"$error":"#N/A"}}]
[null,null,null,"Nao",null,{"$f":"VLOOKUP(E67595,'Padrão mensagem'!$A$3:$B$67,2,0)","v":{"$error":"#N/A"}}]
[null,null,null,"Nao",null,{"$f":"VLOOKUP(E67596,'Padrão mensagem'!$A$3:$B$67,2,0)","v":{"$error":"#N/A"}}]
[null,null,null,"Nao",null,{"$f":"VLOOKUP(E67597,'Padrão mensagem'!$A$3:$B$67,2,0)","v":{"$error":"#N/A"}}]
[null,null,null,"Nao",null,{"$f":"VLOOKUP(E67598,'Padrão mensagem'!$A$3:$B$67,2,0)","v":{"$error":"#N/A"}}]
[null,null,null,"Nao",null,{"$f":"VLOOKUP(E67599,'Padrão mensagem'!$A$3:$B$67,2,0)","v":{"$error":"#N/A"}}]
[null,null,null,"Nao",null,{"$f":"VLOOKUP(E67600,'Padrão mensagem'!$A$3:$B$67,2,0)","v":{"$error":"#N/A"}}]
[null,null,null,"Nao",null,{"$f":"VLOOKUP(E67601,'Padrão mensagem'!$A$3:$B$67,2,0)","v":{"$error":"#N/A"}}]
[null,null,null,"Nao",null,{"$f":"VLOOKUP(E67602,'Padrão mensagem'!$A$3:$B$67,2,0)","v":{"$error":"#N/A"}}]
[null,null,null,"Nao",null,{"$f":"VLOOKUP(E67603,'Padrão mensagem'!$A$3:$B$67,2,0)","v":{"$error":"#N/A"}}]
[null,null,null,"Nao",null,{"$f":"VLOOKUP(E67604,'Padrão mensagem'!$A$3:$B$67,2,0)","v":{"$error":"#N/A"}}]
[null,null,null,"Nao",null,{"$f":"VLOOKUP(E67605,'Padrão mensagem'!$A$3:$B$67,2,0)","v":{"$error":"#N/A"}}]
[null,null,null,"Nao",null,{"$f":"VLOOKUP(E67606,'Padrão mensagem'!$A$3:$B$67,2,0)","v":{"$error":"#N/A"}}]
[null,null,null,"Nao",null,{"$f":"VLOOKUP(E67607,'Padrão mensagem'!$A$3:$B$67,2,0)","v":{"$error":"#N/A"}}]
[null,null,null,"Nao",null,{"$f":"VLOOKUP(E67608,'Padrão mensagem'!$A$3:$B$67,2,0)","v":{"$error":"#N/A"}}]
[null,null,null,"Nao",null,{"$f":"VLOOKUP(E67609,'Padrão mensagem'!$A$3:$B$67,2,0)","v":{"$error":"#N/A"}}]
[null,null,null,"Nao",null,{"$f":"VLOOKUP(E67610,'Padrão mensagem'!$A$3:$B$67,2,0)","v":{"$error":"#N/A"}}]
[null,null,null,"Nao",null,{"$f":"VLOOKUP(E67611,'Padrão mensagem'!$A$3:$B$67,2,0)","v":{"$error":"#N/A"}}]
[null,null,null,"Nao",null,{"$f":"VLOOKUP(E67612,'Padrão mensagem'!$A$3:$B$67,2,0)","v":{"$error":"#N/A"}}]
[null,null,null,"Nao",null,{"$f":"VLOOKUP(E67613,'Padrão mensagem'!$A$3:$B$67,2,0)","v":{"$error":"#N/A"}}]
[null,null,null,"Nao",null,{"$f":"VLOOKUP(E67614,'Padrão mensagem'!$A$3:$B$67,2,0)","v":{"$error":"#N/A"}}]
[null,null,null,"Nao",null,{"$f":"VLOOKUP(E67615,'Padrão mensagem'!$A$3:$B$67,2,0)","v":{"$error":"#N/A"}}]
[null,null,null,"Nao",null,{"$f":"VLOOKUP(E67616,'Padrão mensagem'!$A$3:$B$67,2,0)","v":{"$error":"#N/A"}}]
[null,null,null,"Nao",null,{"$f":"VLOOKUP(E67617,'Padrão mensagem'!$A$3:$B$67,2,0)","v":{"$error":"#N/A"}}]
[null,null,null,"Nao",null,{"$f":"VLOOKUP(E67618,'Padrão mensagem'!$A$3:$B$67,2,0)","v":{"$error":"#N/A"}}]
[null,null,null,"Nao",null,{"$f":"VLOOKUP(E67619,'Padrão mensagem'!$A$3:$B$67,2,0)","v":{"$error":"#N/A"}}]
[null,null,null,"Nao",null,{"$f":"VLOOKUP(E67620,'Padrão mensagem'!$A$3:$B$67,2,0)","v":{"$error":"#N/A"}}]
[null,null,null,"Nao",null,{"$f":"VLOOKUP(E67621,'Padrão mensagem'!$A$3:$B$67,2,0)","v":{"$error":"#N/A"}}]
[null,null,null,"Nao",null,{"$f":"VLOOKUP(E67622,'Padrão mensagem'!$A$3:$B$67,2,0)","v":{"$error":"#N/A"}}]
[null,null,null,"Nao",null,{"$f":"VLOOKUP(E67623,'Padrão mensagem'!$A$3:$B$67,2,0)","v":{"$error":"#N/A"}}]
[null,null,null,"Nao",null,{"$f":"VLOOKUP(E67624,'Padrão mensagem'!$A$3:$B$67,2,0)","v":{"$error":"#N/A"}}]
[null,null,null,"Nao",null,{"$f":"VLOOKUP(E67625,'Padrão mensagem'!$A$3:$B$67,2,0)","v":{"$error":"#N/A"}}]
[null,null,null,"Nao",null,{"$f":"VLOOKUP(E67626,'Padrão mensagem'!$A$3:$B$67,2,0)","v":{"$error":"#N/A"}}]
[null,null,null,"Nao",null,{"$f":"VLOOKUP(E67627,'Padrão mensagem'!$A$3:$B$67,2,0)","v":{"$error":"#N/A"}}]
[null,null,null,"Nao",null,{"$f":"VLOOKUP(E67628,'Padrão mensagem'!$A$3:$B$67,2,0)","v":{"$error":"#N/A"}}]
[null,null,null,"Nao",null,{"$f":"VLOOKUP(E67629,'Padrão mensagem'!$A$3:$B$67,2,0)","v":{"$error":"#N/A"}}]
[null,null,null,"Nao",null,{"$f":"VLOOKUP(E67630,'Padrão mensagem'!$A$3:$B$67,2,0)","v":{"$error":"#N/A"}}]
[null,null,null,"Nao",null,{"$f":"VLOOKUP(E67631,'Padrão mensagem'!$A$3:$B$67,2,0)","v":{"$error":"#N/A"}}]
[null,null,null,"Nao",null,{"$f":"VLOOKUP(E67632,'Padrão mensagem'!$A$3:$B$67,2,0)","v":{"$error":"#N/A"}}]
[null,null,null,"Nao",null,{"$f":"VLOOKUP(E67633,'Padrão mensagem'!$A$3:$B$67,2,0)","v":{"$error":"#N/A"}}]
[null,null,null,"Nao",null,{"$f":"VLOOKUP(E67634,'Padrão mensagem'!$A$3:$B$67,2,0)","v":{"$error":"#N/A"}}]
[null,null,null,"Nao",null,{"$f":"VLOOKUP(E67635,'Padrão mensagem'!$A$3:$B$67,2,0)","v":{"$error":"#N/A"}}]
[null,null,null,"Nao",null,{"$f":"VLOOKUP(E67636,'Padrão mensagem'!$A$3:$B$67,2,0)","v":{"$error":"#N/A"}}]
[null,null,null,"Nao",null,{"$f":"VLOOKUP(E67637,'Padrão mensagem'!$A$3:$B$67,2,0)","v":{"$error":"#N/A"}}]
[null,null,null,"Nao",null,{"$f":"VLOOKUP(E67638,'Padrão mensagem'!$A$3:$B$67,2,0)","v":{"$error":"#N/A"}}]
[null,null,null,"Nao",null,{"$f":"VLOOKUP(E67639,'Padrão mensagem'!$A$3:$B$67,2,0)","v":{"$error":"#N/A"}}]
[null,null,null,"Nao",null,{"$f":"VLOOKUP(E67640,'Padrão mensagem'!$A$3:$B$67,2,0)","v":{"$error":"#N/A"}}]
[null,null,null,"Nao",null,{"$f":"VLOOKUP(E67641,'Padrão mensagem'!$A$3:$B$67,2,0)","v":{"$error":"#N/A"}}]
[null,null,null,"Nao",null,{"$f":"VLOOKUP(E67642,'Padrão mensagem'!$A$3:$B$67,2,0)","v":{"$error":"#N/A"}}]
[null,null,null,"Nao",null,{"$f":"VLOOKUP(E67643,'Padrão mensagem'!$A$3:$B$67,2,0)","v":{"$error":"#N/A"}}]
[null,null,null,"Nao",null,{"$f":"VLOOKUP(E67644,'Padrão mensagem'!$A$3:$B$67,2,0)","v":{"$error":"#N/A"}}]
[null,null,null,"Nao",null,{"$f":"VLOOKUP(E67645,'Padrão mensagem'!$A$3:$B$67,2,0)","v":{"$error":"#N/A"}}]
[null,null,null,"Nao",null,{"$f":"VLOOKUP(E67646,'Padrão mensagem'!$A$3:$B$67,2,0)","v":{"$error":"#N/A"}}]
[null,null,null,"Nao",null,{"$f":"VLOOKUP(E67647,'Padrão mensagem'!$A$3:$B$67,2,0)","v":{"$error":"#N/A"}}]
[null,null,null,"Nao",null,{"$f":"VLOOKUP(E67648,'Padrão mensagem'!$A$3:$B$67,2,0)","v":{"$error":"#N/A"}}]
[null,null,null,"Nao",null,{"$f":"VLOOKUP(E67649,'Padrão mensagem'!$A$3:$B$67,2,0)","v":{"$error":"#N/A"}}]
[null,null,null,"Nao",null,{"$f":"VLOOKUP(E67650,'Padrão mensagem'!$A$3:$B$67,2,0)","v":{"$error":"#N/A"}}]
[null,null,null,"Nao",null,{"$f":"VLOOKUP(E67651,'Padrão mensagem'!$A$3:$B$67,2,0)","v":{"$error":"#N/A"}}]
[null,null,null,"Nao",null,{"$f":"VLOOKUP(E67652,'Padrão mensagem'!$A$3:$B$67,2,0)","v":{"$error":"#N/A"}}]
[null,null,null,"Nao",null,{"$f":"VLOOKUP(E67653,'Padrão mensagem'!$A$3:$B$67,2,0)","v":{"$error":"#N/A"}}]
[null,null,null,"Nao",null,{"$f":"VLOOKUP(E67654,'Padrão mensagem'!$A$3:$B$67,2,0)","v":{"$error":"#N/A"}}]
[null,null,null,"Nao",null,{"$f":"VLOOKUP(E67655,'Padrão mensagem'!$A$3:$B$67,2,0)","v":{"$error":"#N/A"}}]
[null,null,null,"Nao",null,{"$f":"VLOOKUP(E67656,'Padrão mensagem'!$A$3:$B$67,2,0)","v":{"$error":"#N/A"}}]
[null,null,null,"Nao",null,{"$f":"VLOOKUP(E67657,'Padrão mensagem'!$A$3:$B$67,2,0)","v":{"$error":"#N/A"}}]
[null,null,null,"Nao",null,{"$f":"VLOOKUP(E67658,'Padrão mensagem'!$A$3:$B$67,2,0)","v":{"$error":"#N/A"}}]
[null,null,null,"Nao",null,{"$f":"VLOOKUP(E67659,'Padrão mensagem'!$A$3:$B$67,2,0)","v":{"$error":"#N/A"}}]
[null,null,null,"Nao",null,{"$f":"VLOOKUP(E67660,'Padrão mensagem'!$A$3:$B$67,2,0)","v":{"$error":"#N/A"}}]
[null,null,null,"Nao",null,{"$f":"VLOOKUP(E67661,'Padrão mensagem'!$A$3:$B$67,2,0)","v":{"$error":"#N/A"}}]
[null,null,null,"Nao",null,{"$f":"VLOOKUP(E67662,'Padrão mensagem'!$A$3:$B$67,2,0)","v":{"$error":"#N/A"}}]
[null,null,null,"Nao",null,{"$f":"VLOOKUP(E67663,'Padrão mensagem'!$A$3:$B$67,2,0)","v":{"$error":"#N/A"}}]
[null,null,null,"Nao",null,{"$f":"VLOOKUP(E67664,'Padrão mensagem'!$A$3:$B$67,2,0)","v":{"$error":"#N/A"}}]
[null,null,null,"Nao",null,{"$f":"VLOOKUP(E67665,'Padrão mensagem'!$A$3:$B$67,2,0)","v":{"$error":"#N/A"}}]
[null,null,null,"Nao",null,{"$f":"VLOOKUP(E67666,'Padrão mensagem'!$A$3:$B$67,2,0)","v":{"$error":"#N/A"}}]
[null,null,null,"Nao",null,{"$f":"VLOOKUP(E67667,'Padrão mensagem'!$A$3:$B$67,2,0)","v":{"$error":"#N/A"}}]
[null,null,null,"Nao",null,{"$f":"VLOOKUP(E67668,'Padrão mensagem'!$A$3:$B$67,2,0)","v":{"$error":"#N/A"}}]
[null,null,null,"Nao",null,{"$f":"VLOOKUP(E67669,'Padrão mensagem'!$A$3:$B$67,2,0)","v":{"$error":"#N/A"}}]
[null,null,null,"Nao",null,{"$f":"VLOOKUP(E67670,'Padrão mensagem'!$A$3:$B$67,2,0)","v":{"$error":"#N/A"}}]
[null,null,null,"Nao",null,{"$f":"VLOOKUP(E67671,'Padrão mensagem'!$A$3:$B$67,2,0)","v":{"$error":"#N/A"}}]
[null,null,null,"Nao",null,{"$f":"VLOOKUP(E67672,'Padrão mensagem'!$A$3:$B$67,2,0)","v":{"$error":"#N/A"}}]
[null,null,null,"Nao",null,{"$f":"VLOOKUP(E67673,'Padrão mensagem'!$A$3:$B$67,2,0)","v":{"$error":"#N/A"}}]
[null,null,null,"Nao",null,{"$f":"VLOOKUP(E67674,'Padrão mensagem'!$A$3:$B$67,2,0)","v":{"$error":"#N/A"}}]
[null,null,null,"Nao",null,{"$f":"VLOOKUP(E67675,'Padrão mensagem'!$A$3:$B$67,2,0)","v":{"$error":"#N/A"}}]
[null,null,null,"Nao",null,{"$f":"VLOOKUP(E67676,'Padrão mensagem'!$A$3:$B$67,2,0)","v":{"$error":"#N/A"}}]
[null,null,null,"Nao",null,{"$f":"VLOOKUP(E67677,'Padrão mensagem'!$A$3:$B$67,2,0)","v":{"$error":"#N/A"}}]
[null,null,null,"Nao",null,{"$f":"VLOOKUP(E67678,'Padrão mensagem'!$A$3:$B$67,2,0)","v":{"$error":"#N/A"}}]
[null,null,null,"Nao",null,{"$f":"VLOOKUP(E67679,'Padrão mensagem'!$A$3:$B$67,2,0)","v":{"$error":"#N/A"}}]
[null,null,null,"Nao",null,{"$f":"VLOOKUP(E67680,'Padrão mensagem'!$A$3:$B$67,2,0)","v":{"$error":"#N/A"}}]
[null,null,null,"Nao",null,{"$f":"VLOOKUP(E67681,'Padrão mensagem'!$A$3:$B$67,2,0)","v":{"$error":"#N/A"}}]
[null,null,null,"Nao",null,{"$f":"VLOOKUP(E67682,'Padrão mensagem'!$A$3:$B$67,2,0)","v":{"$error":"#N/A"}}]
[null,null,null,"Nao",null,{"$f":"VLOOKUP(E67683,'Padrão mensagem'!$A$3:$B$67,2,0)","v":{"$error":"#N/A"}}]
[null,null,null,"Nao",null,{"$f":"VLOOKUP(E67684,'Padrão mensagem'!$A$3:$B$67,2,0)","v":{"$error":"#N/A"}}]
[null,null,null,"Nao",null,{"$f":"VLOOKUP(E67685,'Padrão mensagem'!$A$3:$B$67,2,0)","v":{"$error":"#N/A"}}]
[null,null,null,"Nao",null,{"$f":"VLOOKUP(E67686,'Padrão mensagem'!$A$3:$B$67,2,0)","v":{"$error":"#N/A"}}]
[null,null,null,"Nao",null,{"$f":"VLOOKUP(E67687,'Padrão mensagem'!$A$3:$B$67,2,0)","v":{"$error":"#N/A"}}]
[null,null,null,"Nao",null,{"$f":"VLOOKUP(E67688,'Padrão mensagem'!$A$3:$B$67,2,0)","v":{"$error":"#N/A"}}]
[null,null,null,"Nao",null,{"$f":"VLOOKUP(E67689,'Padrão mensagem'!$A$3:$B$67,2,0)","v":{"$error":"#N/A"}}]
[null,null,null,"Nao",null,{"$f":"VLOOKUP(E67690,'Padrão mensagem'!$A$3:$B$67,2,0)","v":{"$error":"#N/A"}}]
[null,null,null,"Nao",null,{"$f":"VLOOKUP(E67691,'Padrão mensagem'!$A$3:$B$67,2,0)","v":{"$error":"#N/A"}}]
[null,null,null,"Nao",null,{"$f":"VLOOKUP(E67692,'Padrão mensagem'!$A$3:$B$67,2,0)","v":{"$error":"#N/A"}}]
[null,null,null,"Nao",null,{"$f":"VLOOKUP(E67693,'Padrão mensagem'!$A$3:$B$67,2,0)","v":{"$error":"#N/A"}}]
[null,null,null,"Nao",null,{"$f":"VLOOKUP(E67694,'Padrão mensagem'!$A$3:$B$67,2,0)","v":{"$error":"#N/A"}}]
[null,null,null,"Nao",null,{"$f":"VLOOKUP(E67695,'Padrão mensagem'!$A$3:$B$67,2,0)","v":{"$error":"#N/A"}}]
[null,null,null,"Nao",null,{"$f":"VLOOKUP(E67696,'Padrão mensagem'!$A$3:$B$67,2,0)","v":{"$error":"#N/A"}}]
[null,null,null,"Nao",null,{"$f":"VLOOKUP(E67697,'Padrão mensagem'!$A$3:$B$67,2,0)","v":{"$error":"#N/A"}}]
[null,null,null,"Nao",null,{"$f":"VLOOKUP(E67698,'Padrão mensagem'!$A$3:$B$67,2,0)","v":{"$error":"#N/A"}}]
[null,null,null,"Nao",null,{"$f":"VLOOKUP(E67699,'Padrão mensagem'!$A$3:$B$67,2,0)","v":{"$error":"#N/A"}}]
[null,null,null,"Nao",null,{"$f":"VLOOKUP(E67700,'Padrão mensagem'!$A$3:$B$67,2,0)","v":{"$error":"#N/A"}}]
[null,null,null,"Nao",null,{"$f":"VLOOKUP(E67701,'Padrão mensagem'!$A$3:$B$67,2,0)","v":{"$error":"#N/A"}}]
[null,null,null,"Nao",null,{"$f":"VLOOKUP(E67702,'Padrão mensagem'!$A$3:$B$67,2,0)","v":{"$error":"#N/A"}}]
[null,null,null,"Nao",null,{"$f":"VLOOKUP(E67703,'Padrão mensagem'!$A$3:$B$67,2,0)","v":{"$error":"#N/A"}}]
[null,null,null,"Nao",null,{"$f":"VLOOKUP(E67704,'Padrão mensagem'!$A$3:$B$67,2,0)","v":{"$error":"#N/A"}}]
[null,null,null,"Nao",null,{"$f":"VLOOKUP(E67705,'Padrão mensagem'!$A$3:$B$67,2,0)","v":{"$error":"#N/A"}}]
[null,null,null,"Nao",null,{"$f":"VLOOKUP(E67706,'Padrão mensagem'!$A$3:$B$67,2,0)","v":{"$error":"#N/A"}}]
[null,null,null,"Nao",null,{"$f":"VLOOKUP(E67707,'Padrão mensagem'!$A$3:$B$67,2,0)","v":{"$error":"#N/A"}}]
[null,null,null,"Nao",null,{"$f":"VLOOKUP(E67708,'Padrão mensagem'!$A$3:$B$67,2,0)","v":{"$error":"#N/A"}}]
[null,null,null,"Nao",null,{"$f":"VLOOKUP(E67709,'Padrão mensagem'!$A$3:$B$67,2,0)","v":{"$error":"#N/A"}}]
[null,null,null,"Nao",null,{"$f":"VLOOKUP(E67710,'Padrão mensagem'!$A$3:$B$67,2,0)","v":{"$error":"#N/A"}}]
[null,null,null,"Nao",null,{"$f":"VLOOKUP(E67711,'Padrão mensagem'!$A$3:$B$67,2,0)","v":{"$error":"#N/A"}}]
[null,null,null,"Nao",null,{"$f":"VLOOKUP(E67712,'Padrão mensagem'!$A$3:$B$67,2,0)","v":{"$error":"#N/A"}}]
[null,null,null,"Nao",null,{"$f":"VLOOKUP(E67713,'Padrão mensagem'!$A$3:$B$67,2,0)","v":{"$error":"#N/A"}}]
[null,null,null,"Nao",null,{"$f":"VLOOKUP(E67714,'Padrão mensagem'!$A$3:$B$67,2,0)","v":{"$error":"#N/A"}}]
[null,null,null,"Nao",null,{"$f":"VLOOKUP(E67715,'Padrão mensagem'!$A$3:$B$67,2,0)","v":{"$error":"#N/A"}}]
[null,null,null,"Nao",null,{"$f":"VLOOKUP(E67716,'Padrão mensagem'!$A$3:$B$67,2,0)","v":{"$error":"#N/A"}}]
[null,null,null,"Nao",null,{"$f":"VLOOKUP(E67717,'Padrão mensagem'!$A$3:$B$67,2,0)","v":{"$error":"#N/A"}}]
[null,null,null,"Nao",null,{"$f":"VLOOKUP(E67718,'Padrão mensagem'!$A$3:$B$67,2,0)","v":{"$error":"#N/A"}}]
[null,null,null,"Nao",null,{"$f":"VLOOKUP(E67719,'Padrão mensagem'!$A$3:$B$67,2,0)","v":{"$error":"#N/A"}}]
[null,null,null,"Nao",null,{"$f":"VLOOKUP(E67720,'Padrão mensagem'!$A$3:$B$67,2,0)","v":{"$error":"#N/A"}}]
[null,null,null,"Nao",null,{"$f":"VLOOKUP(E67721,'Padrão mensagem'!$A$3:$B$67,2,0)","v":{"$error":"#N/A"}}]
[null,null,null,"Nao",null,{"$f":"VLOOKUP(E67722,'Padrão mensagem'!$A$3:$B$67,2,0)","v":{"$error":"#N/A"}}]
[null,null,null,"Nao",null,{"$f":"VLOOKUP(E67723,'Padrão mensagem'!$A$3:$B$67,2,0)","v":{"$error":"#N/A"}}]
[null,null,null,"Nao",null,{"$f":"VLOOKUP(E67724,'Padrão mensagem'!$A$3:$B$67,2,0)","v":{"$error":"#N/A"}}]
[null,null,null,"Nao",null,{"$f":"VLOOKUP(E67725,'Padrão mensagem'!$A$3:$B$67,2,0)","v":{"$error":"#N/A"}}]
[null,null,null,"Nao",null,{"$f":"VLOOKUP(E67726,'Padrão mensagem'!$A$3:$B$67,2,0)","v":{"$error":"#N/A"}}]
[null,null,null,"Nao",null,{"$f":"VLOOKUP(E67727,'Padrão mensagem'!$A$3:$B$67,2,0)","v":{"$error":"#N/A"}}]
[null,null,null,"Nao",null,{"$f":"VLOOKUP(E67728,'Padrão mensagem'!$A$3:$B$67,2,0)","v":{"$error":"#N/A"}}]
[null,null,null,"Nao",null,{"$f":"VLOOKUP(E67729,'Padrão mensagem'!$A$3:$B$67,2,0)","v":{"$error":"#N/A"}}]
[null,null,null,"Nao",null,{"$f":"VLOOKUP(E67730,'Padrão mensagem'!$A$3:$B$67,2,0)","v":{"$error":"#N/A"}}]
[null,null,null,"Nao",null,{"$f":"VLOOKUP(E67731,'Padrão mensagem'!$A$3:$B$67,2,0)","v":{"$error":"#N/A"}}]
[null,null,null,"Nao",null,{"$f":"VLOOKUP(E67732,'Padrão mensagem'!$A$3:$B$67,2,0)","v":{"$error":"#N/A"}}]
[null,null,null,"Nao",null,{"$f":"VLOOKUP(E67733,'Padrão mensagem'!$A$3:$B$67,2,0)","v":{"$error":"#N/A"}}]
[null,null,null,"Nao",null,{"$f":"VLOOKUP(E67734,'Padrão mensagem'!$A$3:$B$67,2,0)","v":{"$error":"#N/A"}}]
[null,null,null,"Nao",null,{"$f":"VLOOKUP(E67735,'Padrão mensagem'!$A$3:$B$67,2,0)","v":{"$error":"#N/A"}}]
[null,null,null,"Nao",null,{"$f":"VLOOKUP(E67736,'Padrão mensagem'!$A$3:$B$67,2,0)","v":{"$error":"#N/A"}}]
[null,null,null,"Nao",null,{"$f":"VLOOKUP(E67737,'Padrão mensagem'!$A$3:$B$67,2,0)","v":{"$error":"#N/A"}}]
[null,null,null,"Nao",null,{"$f":"VLOOKUP(E67738,'Padrão mensagem'!$A$3:$B$67,2,0)","v":{"$error":"#N/A"}}]
[null,null,null,"Nao",null,{"$f":"VLOOKUP(E67739,'Padrão mensagem'!$A$3:$B$67,2,0)","v":{"$error":"#N/A"}}]
[null,null,null,"Nao",null,{"$f":"VLOOKUP(E67740,'Padrão mensagem'!$A$3:$B$67,2,0)","v":{"$error":"#N/A"}}]
[null,null,null,"Nao",null,{"$f":"VLOOKUP(E67741,'Padrão mensagem'!$A$3:$B$67,2,0)","v":{"$error":"#N/A"}}]
[null,null,null,"Nao",null,{"$f":"VLOOKUP(E67742,'Padrão mensagem'!$A$3:$B$67,2,0)","v":{"$error":"#N/A"}}]
[null,null,null,"Nao",null,{"$f":"VLOOKUP(E67743,'Padrão mensagem'!$A$3:$B$67,2,0)","v":{"$error":"#N/A"}}]
[null,null,null,"Nao",null,{"$f":"VLOOKUP(E67744,'Padrão mensagem'!$A$3:$B$67,2,0)","v":{"$error":"#N/A"}}]
[null,null,null,"Nao",null,{"$f":"VLOOKUP(E67745,'Padrão mensagem'!$A$3:$B$67,2,0)","v":{"$error":"#N/A"}}]
[null,null,null,"Nao",null,{"$f":"VLOOKUP(E67746,'Padrão mensagem'!$A$3:$B$67,2,0)","v":{"$error":"#N/A"}}]
[null,null,null,"Nao",null,{"$f":"VLOOKUP(E67747,'Padrão mensagem'!$A$3:$B$67,2,0)","v":{"$error":"#N/A"}}]
[null,null,null,"Nao",null,{"$f":"VLOOKUP(E67748,'Padrão mensagem'!$A$3:$B$67,2,0)","v":{"$error":"#N/A"}}]
[null,null,null,"Nao",null,{"$f":"VLOOKUP(E67749,'Padrão mensagem'!$A$3:$B$67,2,0)","v":{"$error":"#N/A"}}]
[null,null,null,"Nao",null,{"$f":"VLOOKUP(E67750,'Padrão mensagem'!$A$3:$B$67,2,0)","v":{"$error":"#N/A"}}]
[null,null,null,"Nao",null,{"$f":"VLOOKUP(E67751,'Padrão mensagem'!$A$3:$B$67,2,0)","v":{"$error":"#N/A"}}]
[null,null,null,"Nao",null,{"$f":"VLOOKUP(E67752,'Padrão mensagem'!$A$3:$B$67,2,0)","v":{"$error":"#N/A"}}]
[null,null,null,"Nao",null,{"$f":"VLOOKUP(E67753,'Padrão mensagem'!$A$3:$B$67,2,0)","v":{"$error":"#N/A"}}]
[null,null,null,"Nao",null,{"$f":"VLOOKUP(E67754,'Padrão mensagem'!$A$3:$B$67,2,0)","v":{"$error":"#N/A"}}]
[null,null,null,"Nao",null,{"$f":"VLOOKUP(E67755,'Padrão mensagem'!$A$3:$B$67,2,0)","v":{"$error":"#N/A"}}]
[null,null,null,"Nao",null,{"$f":"VLOOKUP(E67756,'Padrão mensagem'!$A$3:$B$67,2,0)","v":{"$error":"#N/A"}}]
[null,null,null,"Nao",null,{"$f":"VLOOKUP(E67757,'Padrão mensagem'!$A$3:$B$67,2,0)","v":{"$error":"#N/A"}}]
[null,null,null,"Nao",null,{"$f":"VLOOKUP(E67758,'Padrão mensagem'!$A$3:$B$67,2,0)","v":{"$error":"#N/A"}}]
[null,null,null,"Nao",null,{"$f":"VLOOKUP(E67759,'Padrão mensagem'!$A$3:$B$67,2,0)","v":{"$error":"#N/A"}}]
[null,null,null,"Nao",null,{"$f":"VLOOKUP(E67760,'Padrão mensagem'!$A$3:$B$67,2,0)","v":{"$error":"#N/A"}}]
[null,null,null,"Nao",null,{"$f":"VLOOKUP(E67761,'Padrão mensagem'!$A$3:$B$67,2,0)","v":{"$error":"#N/A"}}]
[null,null,null,"Nao",null,{"$f":"VLOOKUP(E67762,'Padrão mensagem'!$A$3:$B$67,2,0)","v":{"$error":"#N/A"}}]
[null,null,null,"Nao",null,{"$f":"VLOOKUP(E67763,'Padrão mensagem'!$A$3:$B$67,2,0)","v":{"$error":"#N/A"}}]
[null,null,null,"Nao",null,{"$f":"VLOOKUP(E67764,'Padrão mensagem'!$A$3:$B$67,2,0)","v":{"$error":"#N/A"}}]
[null,null,null,"Nao",null,{"$f":"VLOOKUP(E67765,'Padrão mensagem'!$A$3:$B$67,2,0)","v":{"$error":"#N/A"}}]
[null,null,null,"Nao",null,{"$f":"VLOOKUP(E67766,'Padrão mensagem'!$A$3:$B$67,2,0)","v":{"$error":"#N/A"}}]
[null,null,null,"Nao",null,{"$f":"VLOOKUP(E67767,'Padrão mensagem'!$A$3:$B$67,2,0)","v":{"$error":"#N/A"}}]
[null,null,null,"Nao",null,{"$f":"VLOOKUP(E67768,'Padrão mensagem'!$A$3:$B$67,2,0)","v":{"$error":"#N/A"}}]
[null,null,null,"Nao",null,{"$f":"VLOOKUP(E67769,'Padrão mensagem'!$A$3:$B$67,2,0)","v":{"$error":"#N/A"}}]
[null,null,null,"Nao",null,{"$f":"VLOOKUP(E67770,'Padrão mensagem'!$A$3:$B$67,2,0)","v":{"$error":"#N/A"}}]
[null,null,null,"Nao",null,{"$f":"VLOOKUP(E67771,'Padrão mensagem'!$A$3:$B$67,2,0)","v":{"$error":"#N/A"}}]
[null,null,null,"Nao",null,{"$f":"VLOOKUP(E67772,'Padrão mensagem'!$A$3:$B$67,2,0)","v":{"$error":"#N/A"}}]
[null,null,null,"Nao",null,{"$f":"VLOOKUP(E67773,'Padrão mensagem'!$A$3:$B$67,2,0)","v":{"$error":"#N/A"}}]
[null,null,null,"Nao",null,{"$f":"VLOOKUP(E67774,'Padrão mensagem'!$A$3:$B$67,2,0)","v":{"$error":"#N/A"}}]
[null,null,null,"Nao",null,{"$f":"VLOOKUP(E67775,'Padrão mensagem'!$A$3:$B$67,2,0)","v":{"$error":"#N/A"}}]
[null,null,null,"Nao",null,{"$f":"VLOOKUP(E67776,'Padrão mensagem'!$A$3:$B$67,2,0)","v":{"$error":"#N/A"}}]
[null,null,null,"Nao",null,{"$f":"VLOOKUP(E67777,'Padrão mensagem'!$A$3:$B$67,2,0)","v":{"$error":"#N/A"}}]
[null,null,null,"Nao",null,{"$f":"VLOOKUP(E67778,'Padrão mensagem'!$A$3:$B$67,2,0)","v":{"$error":"#N/A"}}]
[null,null,null,"Nao",null,{"$f":"VLOOKUP(E67779,'Padrão mensagem'!$A$3:$B$67,2,0)","v":{"$error":"#N/A"}}]
[null,null,null,"Nao",null,{"$f":"VLOOKUP(E67780,'Padrão mensagem'!$A$3:$B$67,2,0)","v":{"$error":"#N/A"}}]
[null,null,null,"Nao",null,{"$f":"VLOOKUP(E67781,'Padrão mensagem'!$A$3:$B$67,2,0)","v":{"$error":"#N/A"}}]
[null,null,null,"Nao",null,{"$f":"VLOOKUP(E67782,'Padrão mensagem'!$A$3:$B$67,2,0)","v":{"$error":"#N/A"}}]
[null,null,null,"Nao",null,{"$f":"VLOOKUP(E67783,'Padrão mensagem'!$A$3:$B$67,2,0)","v":{"$error":"#N/A"}}]
[null,null,null,"Nao",null,{"$f":"VLOOKUP(E67784,'Padrão mensagem'!$A$3:$B$67,2,0)","v":{"$error":"#N/A"}}]
[null,null,null,"Nao",null,{"$f":"VLOOKUP(E67785,'Padrão mensagem'!$A$3:$B$67,2,0)","v":{"$error":"#N/A"}}]
[null,null,null,"Nao",null,{"$f":"VLOOKUP(E67786,'Padrão mensagem'!$A$3:$B$67,2,0)","v":{"$error":"#N/A"}}]
[null,null,null,"Nao",null,{"$f":"VLOOKUP(E67787,'Padrão mensagem'!$A$3:$B$67,2,0)","v":{"$error":"#N/A"}}]
[null,null,null,"Nao",null,{"$f":"VLOOKUP(E67788,'Padrão mensagem'!$A$3:$B$67,2,0)","v":{"$error":"#N/A"}}]
[null,null,null,"Nao",null,{"$f":"VLOOKUP(E67789,'Padrão mensagem'!$A$3:$B$67,2,0)","v":{"$error":"#N/A"}}]
[null,null,null,"Nao",null,{"$f":"VLOOKUP(E67790,'Padrão mensagem'!$A$3:$B$67,2,0)","v":{"$error":"#N/A"}}]
[null,null,null,"Nao",null,{"$f":"VLOOKUP(E67791,'Padrão mensagem'!$A$3:$B$67,2,0)","v":{"$error":"#N/A"}}]
[null,null,null,"Nao",null,{"$f":"VLOOKUP(E67792,'Padrão mensagem'!$A$3:$B$67,2,0)","v":{"$error":"#N/A"}}]
[null,null,null,"Nao",null,{"$f":"VLOOKUP(E67793,'Padrão mensagem'!$A$3:$B$67,2,0)","v":{"$error":"#N/A"}}]
[null,null,null,"Nao",null,{"$f":"VLOOKUP(E67794,'Padrão mensagem'!$A$3:$B$67,2,0)","v":{"$error":"#N/A"}}]
[null,null,null,"Nao",null,{"$f":"VLOOKUP(E67795,'Padrão mensagem'!$A$3:$B$67,2,0)","v":{"$error":"#N/A"}}]
[null,null,null,"Nao",null,{"$f":"VLOOKUP(E67796,'Padrão mensagem'!$A$3:$B$67,2,0)","v":{"$error":"#N/A"}}]
[null,null,null,"Nao",null,{"$f":"VLOOKUP(E67797,'Padrão mensagem'!$A$3:$B$67,2,0)","v":{"$error":"#N/A"}}]
[null,null,null,"Nao",null,{"$f":"VLOOKUP(E67798,'Padrão mensagem'!$A$3:$B$67,2,0)","v":{"$error":"#N/A"}}]
[null,null,null,"Nao",null,{"$f":"VLOOKUP(E67799,'Padrão mensagem'!$A$3:$B$67,2,0)","v":{"$error":"#N/A"}}]
[null,null,null,"Nao",null,{"$f":"VLOOKUP(E67800,'Padrão mensagem'!$A$3:$B$67,2,0)","v":{"$error":"#N/A"}}]
[null,null,null,"Nao",null,{"$f":"VLOOKUP(E67801,'Padrão mensagem'!$A$3:$B$67,2,0)","v":{"$error":"#N/A"}}]
[null,null,null,"Nao",null,{"$f":"VLOOKUP(E67802,'Padrão mensagem'!$A$3:$B$67,2,0)","v":{"$error":"#N/A"}}]
[null,null,null,"Nao",null,{"$f":"VLOOKUP(E67803,'Padrão mensagem'!$A$3:$B$67,2,0)","v":{"$error":"#N/A"}}]
[null,null,null,"Nao",null,{"$f":"VLOOKUP(E67804,'Padrão mensagem'!$A$3:$B$67,2,0)","v":{"$error":"#N/A"}}]
[null,null,null,"Nao",null,{"$f":"VLOOKUP(E67805,'Padrão mensagem'!$A$3:$B$67,2,0)","v":{"$error":"#N/A"}}]
[null,null,null,"Nao",null,{"$f":"VLOOKUP(E67806,'Padrão mensagem'!$A$3:$B$67,2,0)","v":{"$error":"#N/A"}}]
[null,null,null,"Nao",null,{"$f":"VLOOKUP(E67807,'Padrão mensagem'!$A$3:$B$67,2,0)","v":{"$error":"#N/A"}}]
[null,null,null,"Nao",null,{"$f":"VLOOKUP(E67808,'Padrão mensagem'!$A$3:$B$67,2,0)","v":{"$error":"#N/A"}}]
[null,null,null,"Nao",null,{"$f":"VLOOKUP(E67809,'Padrão mensagem'!$A$3:$B$67,2,0)","v":{"$error":"#N/A"}}]
[null,null,null,"Nao",null,{"$f":"VLOOKUP(E67810,'Padrão mensagem'!$A$3:$B$67,2,0)","v":{"$error":"#N/A"}}]
[null,null,null,"Nao",null,{"$f":"VLOOKUP(E67811,'Padrão mensagem'!$A$3:$B$67,2,0)","v":{"$error":"#N/A"}}]
[null,null,null,"Nao",null,{"$f":"VLOOKUP(E67812,'Padrão mensagem'!$A$3:$B$67,2,0)","v":{"$error":"#N/A"}}]
[null,null,null,"Nao",null,{"$f":"VLOOKUP(E67813,'Padrão mensagem'!$A$3:$B$67,2,0)","v":{"$error":"#N/A"}}]
[null,null,null,"Nao",null,{"$f":"VLOOKUP(E67814,'Padrão mensagem'!$A$3:$B$67,2,0)","v":{"$error":"#N/A"}}]
[null,null,null,"Nao",null,{"$f":"VLOOKUP(E67815,'Padrão mensagem'!$A$3:$B$67,2,0)","v":{"$error":"#N/A"}}]
[null,null,null,"Nao",null,{"$f":"VLOOKUP(E67816,'Padrão mensagem'!$A$3:$B$67,2,0)","v":{"$error":"#N/A"}}]
[null,null,null,"Nao",null,{"$f":"VLOOKUP(E67817,'Padrão mensagem'!$A$3:$B$67,2,0)","v":{"$error":"#N/A"}}]
[null,null,null,"Nao",null,{"$f":"VLOOKUP(E67818,'Padrão mensagem'!$A$3:$B$67,2,0)","v":{"$error":"#N/A"}}]
[null,null,null,"Nao",null,{"$f":"VLOOKUP(E67819,'Padrão mensagem'!$A$3:$B$67,2,0)","v":{"$error":"#N/A"}}]
[null,null,null,"Nao",null,{"$f":"VLOOKUP(E67820,'Padrão mensagem'!$A$3:$B$67,2,0)","v":{"$error":"#N/A"}}]
[null,null,null,"Nao",null,{"$f":"VLOOKUP(E67821,'Padrão mensagem'!$A$3:$B$67,2,0)","v":{"$error":"#N/A"}}]
[null,null,null,"Nao",null,{"$f":"VLOOKUP(E67822,'Padrão mensagem'!$A$3:$B$67,2,0)","v":{"$error":"#N/A"}}]
[null,null,null,"Nao",null,{"$f":"VLOOKUP(E67823,'Padrão mensagem'!$A$3:$B$67,2,0)","v":{"$error":"#N/A"}}]
[null,null,null,"Nao",null,{"$f":"VLOOKUP(E67824,'Padrão mensagem'!$A$3:$B$67,2,0)","v":{"$error":"#N/A"}}]
[null,null,null,"Nao",null,{"$f":"VLOOKUP(E67825,'Padrão mensagem'!$A$3:$B$67,2,0)","v":{"$error":"#N/A"}}]
[null,null,null,"Nao",null,{"$f":"VLOOKUP(E67826,'Padrão mensagem'!$A$3:$B$67,2,0)","v":{"$error":"#N/A"}}]
[null,null,null,"Nao",null,{"$f":"VLOOKUP(E67827,'Padrão mensagem'!$A$3:$B$67,2,0)","v":{"$error":"#N/A"}}]
[null,null,null,"Nao",null,{"$f":"VLOOKUP(E67828,'Padrão mensagem'!$A$3:$B$67,2,0)","v":{"$error":"#N/A"}}]
[null,null,null,"Nao",null,{"$f":"VLOOKUP(E67829,'Padrão mensagem'!$A$3:$B$67,2,0)","v":{"$error":"#N/A"}}]
[null,null,null,"Nao",null,{"$f":"VLOOKUP(E67830,'Padrão mensagem'!$A$3:$B$67,2,0)","v":{"$error":"#N/A"}}]
[null,null,null,"Nao",null,{"$f":"VLOOKUP(E67831,'Padrão mensagem'!$A$3:$B$67,2,0)","v":{"$error":"#N/A"}}]
[null,null,null,"Nao",null,{"$f":"VLOOKUP(E67832,'Padrão mensagem'!$A$3:$B$67,2,0)","v":{"$error":"#N/A"}}]
[null,null,null,"Nao",null,{"$f":"VLOOKUP(E67833,'Padrão mensagem'!$A$3:$B$67,2,0)","v":{"$error":"#N/A"}}]
[null,null,null,"Nao",null,{"$f":"VLOOKUP(E67834,'Padrão mensagem'!$A$3:$B$67,2,0)","v":{"$error":"#N/A"}}]
[null,null,null,"Nao",null,{"$f":"VLOOKUP(E67835,'Padrão mensagem'!$A$3:$B$67,2,0)","v":{"$error":"#N/A"}}]
[null,null,null,"Nao",null,{"$f":"VLOOKUP(E67836,'Padrão mensagem'!$A$3:$B$67,2,0)","v":{"$error":"#N/A"}}]
[null,null,null,"Nao",null,{"$f":"VLOOKUP(E67837,'Padrão mensagem'!$A$3:$B$67,2,0)","v":{"$error":"#N/A"}}]
[null,null,null,"Nao",null,{"$f":"VLOOKUP(E67838,'Padrão mensagem'!$A$3:$B$67,2,0)","v":{"$error":"#N/A"}}]
[null,null,null,"Nao",null,{"$f":"VLOOKUP(E67839,'Padrão mensagem'!$A$3:$B$67,2,0)","v":{"$error":"#N/A"}}]
[null,null,null,"Nao",null,{"$f":"VLOOKUP(E67840,'Padrão mensagem'!$A$3:$B$67,2,0)","v":{"$error":"#N/A"}}]
[null,null,null,"Nao",null,{"$f":"VLOOKUP(E67841,'Padrão mensagem'!$A$3:$B$67,2,0)","v":{"$error":"#N/A"}}]
[null,null,null,"Nao",null,{"$f":"VLOOKUP(E67842,'Padrão mensagem'!$A$3:$B$67,2,0)","v":{"$error":"#N/A"}}]
[null,null,null,"Nao",null,{"$f":"VLOOKUP(E67843,'Padrão mensagem'!$A$3:$B$67,2,0)","v":{"$error":"#N/A"}}]
[null,null,null,"Nao",null,{"$f":"VLOOKUP(E67844,'Padrão mensagem'!$A$3:$B$67,2,0)","v":{"$error":"#N/A"}}]
[null,null,null,"Nao",null,{"$f":"VLOOKUP(E67845,'Padrão mensagem'!$A$3:$B$67,2,0)","v":{"$error":"#N/A"}}]
[null,null,null,"Nao",null,{"$f":"VLOOKUP(E67846,'Padrão mensagem'!$A$3:$B$67,2,0)","v":{"$error":"#N/A"}}]
[null,null,null,"Nao",null,{"$f":"VLOOKUP(E67847,'Padrão mensagem'!$A$3:$B$67,2,0)","v":{"$error":"#N/A"}}]
[null,null,null,"Nao",null,{"$f":"VLOOKUP(E67848,'Padrão mensagem'!$A$3:$B$67,2,0)","v":{"$error":"#N/A"}}]
[null,null,null,"Nao",null,{"$f":"VLOOKUP(E67849,'Padrão mensagem'!$A$3:$B$67,2,0)","v":{"$error":"#N/A"}}]
[null,null,null,"Nao",null,{"$f":"VLOOKUP(E67850,'Padrão mensagem'!$A$3:$B$67,2,0)","v":{"$error":"#N/A"}}]
[null,null,null,"Nao",null,{"$f":"VLOOKUP(E67851,'Padrão mensagem'!$A$3:$B$67,2,0)","v":{"$error":"#N/A"}}]
[null,null,null,"Nao",null,{"$f":"VLOOKUP(E67852,'Padrão mensagem'!$A$3:$B$67,2,0)","v":{"$error":"#N/A"}}]
[null,null,null,"Nao",null,{"$f":"VLOOKUP(E67853,'Padrão mensagem'!$A$3:$B$67,2,0)","v":{"$error":"#N/A"}}]
[null,null,null,"Nao",null,{"$f":"VLOOKUP(E67854,'Padrão mensagem'!$A$3:$B$67,2,0)","v":{"$error":"#N/A"}}]
[null,null,null,"Nao",null,{"$f":"VLOOKUP(E67855,'Padrão mensagem'!$A$3:$B$67,2,0)","v":{"$error":"#N/A"}}]
[null,null,null,"Nao",null,{"$f":"VLOOKUP(E67856,'Padrão mensagem'!$A$3:$B$67,2,0)","v":{"$error":"#N/A"}}]
[null,null,null,"Nao",null,{"$f":"VLOOKUP(E67857,'Padrão mensagem'!$A$3:$B$67,2,0)","v":{"$error":"#N/A"}}]
[null,null,null,"Nao",null,{"$f":"VLOOKUP(E67858,'Padrão mensagem'!$A$3:$B$67,2,0)","v":{"$error":"#N/A"}}]
[null,null,null,"Nao",null,{"$f":"VLOOKUP(E67859,'Padrão mensagem'!$A$3:$B$67,2,0)","v":{"$error":"#N/A"}}]
[null,null,null,"Nao",null,{"$f":"VLOOKUP(E67860,'Padrão mensagem'!$A$3:$B$67,2,0)","v":{"$error":"#N/A"}}]
[null,null,null,"Nao",null,{"$f":"VLOOKUP(E67861,'Padrão mensagem'!$A$3:$B$67,2,0)","v":{"$error":"#N/A"}}]
[null,null,null,"Nao",null,{"$f":"VLOOKUP(E67862,'Padrão mensagem'!$A$3:$B$67,2,0)","v":{"$error":"#N/A"}}]
[null,null,null,"Nao",null,{"$f":"VLOOKUP(E67863,'Padrão mensagem'!$A$3:$B$67,2,0)","v":{"$error":"#N/A"}}]
[null,null,null,"Nao",null,{"$f":"VLOOKUP(E67864,'Padrão mensagem'!$A$3:$B$67,2,0)","v":{"$error":"#N/A"}}]
[null,null,null,"Nao",null,{"$f":"VLOOKUP(E67865,'Padrão mensagem'!$A$3:$B$67,2,0)","v":{"$error":"#N/A"}}]
[null,null,null,"Nao",null,{"$f":"VLOOKUP(E67866,'Padrão mensagem'!$A$3:$B$67,2,0)","v":{"$error":"#N/A"}}]
[null,null,null,"Nao",null,{"$f":"VLOOKUP(E67867,'Padrão mensagem'!$A$3:$B$67,2,0)","v":{"$error":"#N/A"}}]
[null,null,null,"Nao",null,{"$f":"VLOOKUP(E67868,'Padrão mensagem'!$A$3:$B$67,2,0)","v":{"$error":"#N/A"}}]
[null,null,null,"Nao",null,{"$f":"VLOOKUP(E67869,'Padrão mensagem'!$A$3:$B$67,2,0)","v":{"$error":"#N/A"}}]
[null,null,null,"Nao",null,{"$f":"VLOOKUP(E67870,'Padrão mensagem'!$A$3:$B$67,2,0)","v":{"$error":"#N/A"}}]
[null,null,null,"Nao",null,{"$f":"VLOOKUP(E67871,'Padrão mensagem'!$A$3:$B$67,2,0)","v":{"$error":"#N/A"}}]
[null,null,null,"Nao",null,{"$f":"VLOOKUP(E67872,'Padrão mensagem'!$A$3:$B$67,2,0)","v":{"$error":"#N/A"}}]
[null,null,null,"Nao",null,{"$f":"VLOOKUP(E67873,'Padrão mensagem'!$A$3:$B$67,2,0)","v":{"$error":"#N/A"}}]
[null,null,null,"Nao",null,{"$f":"VLOOKUP(E67874,'Padrão mensagem'!$A$3:$B$67,2,0)","v":{"$error":"#N/A"}}]
[null,null,null,"Nao",null,{"$f":"VLOOKUP(E67875,'Padrão mensagem'!$A$3:$B$67,2,0)","v":{"$error":"#N/A"}}]
[null,null,null,"Nao",null,{"$f":"VLOOKUP(E67876,'Padrão mensagem'!$A$3:$B$67,2,0)","v":{"$error":"#N/A"}}]
[null,null,null,"Nao",null,{"$f":"VLOOKUP(E67877,'Padrão mensagem'!$A$3:$B$67,2,0)","v":{"$error":"#N/A"}}]
[null,null,null,"Nao",null,{"$f":"VLOOKUP(E67878,'Padrão mensagem'!$A$3:$B$67,2,0)","v":{"$error":"#N/A"}}]
[null,null,null,"Nao",null,{"$f":"VLOOKUP(E67879,'Padrão mensagem'!$A$3:$B$67,2,0)","v":{"$error":"#N/A"}}]
[null,null,null,"Nao",null,{"$f":"VLOOKUP(E67880,'Padrão mensagem'!$A$3:$B$67,2,0)","v":{"$error":"#N/A"}}]
[null,null,null,"Nao",null,{"$f":"VLOOKUP(E67881,'Padrão mensagem'!$A$3:$B$67,2,0)","v":{"$error":"#N/A"}}]
[null,null,null,"Nao",null,{"$f":"VLOOKUP(E67882,'Padrão mensagem'!$A$3:$B$67,2,0)","v":{"$error":"#N/A"}}]
[null,null,null,"Nao",null,{"$f":"VLOOKUP(E67883,'Padrão mensagem'!$A$3:$B$67,2,0)","v":{"$error":"#N/A"}}]
[null,null,null,"Nao",null,{"$f":"VLOOKUP(E67884,'Padrão mensagem'!$A$3:$B$67,2,0)","v":{"$error":"#N/A"}}]
[null,null,null,"Nao",null,{"$f":"VLOOKUP(E67885,'Padrão mensagem'!$A$3:$B$67,2,0)","v":{"$error":"#N/A"}}]
[null,null,null,"Nao",null,{"$f":"VLOOKUP(E67886,'Padrão mensagem'!$A$3:$B$67,2,0)","v":{"$error":"#N/A"}}]
[null,null,null,"Nao",null,{"$f":"VLOOKUP(E67887,'Padrão mensagem'!$A$3:$B$67,2,0)","v":{"$error":"#N/A"}}]
[null,null,null,"Nao",null,{"$f":"VLOOKUP(E67888,'Padrão mensagem'!$A$3:$B$67,2,0)","v":{"$error":"#N/A"}}]
[null,null,null,"Nao",null,{"$f":"VLOOKUP(E67889,'Padrão mensagem'!$A$3:$B$67,2,0)","v":{"$error":"#N/A"}}]
[null,null,null,"Nao",null,{"$f":"VLOOKUP(E67890,'Padrão mensagem'!$A$3:$B$67,2,0)","v":{"$error":"#N/A"}}]
[null,null,null,"Nao",null,{"$f":"VLOOKUP(E67891,'Padrão mensagem'!$A$3:$B$67,2,0)","v":{"$error":"#N/A"}}]
[null,null,null,"Nao",null,{"$f":"VLOOKUP(E67892,'Padrão mensagem'!$A$3:$B$67,2,0)","v":{"$error":"#N/A"}}]
[null,null,null,"Nao",null,{"$f":"VLOOKUP(E67893,'Padrão mensagem'!$A$3:$B$67,2,0)","v":{"$error":"#N/A"}}]
[null,null,null,"Nao",null,{"$f":"VLOOKUP(E67894,'Padrão mensagem'!$A$3:$B$67,2,0)","v":{"$error":"#N/A"}}]
[null,null,null,"Nao",null,{"$f":"VLOOKUP(E67895,'Padrão mensagem'!$A$3:$B$67,2,0)","v":{"$error":"#N/A"}}]
[null,null,null,"Nao",null,{"$f":"VLOOKUP(E67896,'Padrão mensagem'!$A$3:$B$67,2,0)","v":{"$error":"#N/A"}}]
[null,null,null,"Nao",null,{"$f":"VLOOKUP(E67897,'Padrão mensagem'!$A$3:$B$67,2,0)","v":{"$error":"#N/A"}}]
[null,null,null,"Nao",null,{"$f":"VLOOKUP(E67898,'Padrão mensagem'!$A$3:$B$67,2,0)","v":{"$error":"#N/A"}}]
[null,null,null,"Nao",null,{"$f":"VLOOKUP(E67899,'Padrão mensagem'!$A$3:$B$67,2,0)","v":{"$error":"#N/A"}}]
[null,null,null,"Nao",null,{"$f":"VLOOKUP(E67900,'Padrão mensagem'!$A$3:$B$67,2,0)","v":{"$error":"#N/A"}}]
[null,null,null,"Nao",null,{"$f":"VLOOKUP(E67901,'Padrão mensagem'!$A$3:$B$67,2,0)","v":{"$error":"#N/A"}}]
[null,null,null,"Nao",null,{"$f":"VLOOKUP(E67902,'Padrão mensagem'!$A$3:$B$67,2,0)","v":{"$error":"#N/A"}}]
[null,null,null,"Nao",null,{"$f":"VLOOKUP(E67903,'Padrão mensagem'!$A$3:$B$67,2,0)","v":{"$error":"#N/A"}}]
[null,null,null,"Nao",null,{"$f":"VLOOKUP(E67904,'Padrão mensagem'!$A$3:$B$67,2,0)","v":{"$error":"#N/A"}}]
[null,null,null,"Nao",null,{"$f":"VLOOKUP(E67905,'Padrão mensagem'!$A$3:$B$67,2,0)","v":{"$error":"#N/A"}}]
[null,null,null,"Nao",null,{"$f":"VLOOKUP(E67906,'Padrão mensagem'!$A$3:$B$67,2,0)","v":{"$error":"#N/A"}}]
[null,null,null,"Nao",null,{"$f":"VLOOKUP(E67907,'Padrão mensagem'!$A$3:$B$67,2,0)","v":{"$error":"#N/A"}}]
[null,null,null,"Nao",null,{"$f":"VLOOKUP(E67908,'Padrão mensagem'!$A$3:$B$67,2,0)","v":{"$error":"#N/A"}}]
[null,null,null,"Nao",null,{"$f":"VLOOKUP(E67909,'Padrão mensagem'!$A$3:$B$67,2,0)","v":{"$error":"#N/A"}}]
[null,null,null,"Nao",null,{"$f":"VLOOKUP(E67910,'Padrão mensagem'!$A$3:$B$67,2,0)","v":{"$error":"#N/A"}}]
[null,null,null,"Nao",null,{"$f":"VLOOKUP(E67911,'Padrão mensagem'!$A$3:$B$67,2,0)","v":{"$error":"#N/A"}}]
[null,null,null,"Nao",null,{"$f":"VLOOKUP(E67912,'Padrão mensagem'!$A$3:$B$67,2,0)","v":{"$error":"#N/A"}}]
[null,null,null,"Nao",null,{"$f":"VLOOKUP(E67913,'Padrão mensagem'!$A$3:$B$67,2,0)","v":{"$error":"#N/A"}}]
[null,null,null,"Nao",null,{"$f":"VLOOKUP(E67914,'Padrão mensagem'!$A$3:$B$67,2,0)","v":{"$error":"#N/A"}}]
[null,null,null,"Nao",null,{"$f":"VLOOKUP(E67915,'Padrão mensagem'!$A$3:$B$67,2,0)","v":{"$error":"#N/A"}}]
[null,null,null,"Nao",null,{"$f":"VLOOKUP(E67916,'Padrão mensagem'!$A$3:$B$67,2,0)","v":{"$error":"#N/A"}}]
[null,null,null,"Nao",null,{"$f":"VLOOKUP(E67917,'Padrão mensagem'!$A$3:$B$67,2,0)","v":{"$error":"#N/A"}}]
[null,null,null,"Nao",null,{"$f":"VLOOKUP(E67918,'Padrão mensagem'!$A$3:$B$67,2,0)","v":{"$error":"#N/A"}}]
[null,null,null,"Nao",null,{"$f":"VLOOKUP(E67919,'Padrão mensagem'!$A$3:$B$67,2,0)","v":{"$error":"#N/A"}}]
[null,null,null,"Nao",null,{"$f":"VLOOKUP(E67920,'Padrão mensagem'!$A$3:$B$67,2,0)","v":{"$error":"#N/A"}}]
[null,null,null,"Nao",null,{"$f":"VLOOKUP(E67921,'Padrão mensagem'!$A$3:$B$67,2,0)","v":{"$error":"#N/A"}}]
[null,null,null,"Nao",null,{"$f":"VLOOKUP(E67922,'Padrão mensagem'!$A$3:$B$67,2,0)","v":{"$error":"#N/A"}}]
[null,null,null,"Nao",null,{"$f":"VLOOKUP(E67923,'Padrão mensagem'!$A$3:$B$67,2,0)","v":{"$error":"#N/A"}}]
[null,null,null,"Nao",null,{"$f":"VLOOKUP(E67924,'Padrão mensagem'!$A$3:$B$67,2,0)","v":{"$error":"#N/A"}}]
[null,null,null,"Nao",null,{"$f":"VLOOKUP(E67925,'Padrão mensagem'!$A$3:$B$67,2,0)","v":{"$error":"#N/A"}}]
[null,null,null,"Nao",null,{"$f":"VLOOKUP(E67926,'Padrão mensagem'!$A$3:$B$67,2,0)","v":{"$error":"#N/A"}}]
[null,null,null,"Nao",null,{"$f":"VLOOKUP(E67927,'Padrão mensagem'!$A$3:$B$67,2,0)","v":{"$error":"#N/A"}}]
[null,null,null,"Nao",null,{"$f":"VLOOKUP(E67928,'Padrão mensagem'!$A$3:$B$67,2,0)","v":{"$error":"#N/A"}}]
[null,null,null,"Nao",null,{"$f":"VLOOKUP(E67929,'Padrão mensagem'!$A$3:$B$67,2,0)","v":{"$error":"#N/A"}}]
[null,null,null,"Nao",null,{"$f":"VLOOKUP(E67930,'Padrão mensagem'!$A$3:$B$67,2,0)","v":{"$error":"#N/A"}}]
[null,null,null,"Nao",null,{"$f":"VLOOKUP(E67931,'Padrão mensagem'!$A$3:$B$67,2,0)","v":{"$error":"#N/A"}}]
[null,null,null,"Nao",null,{"$f":"VLOOKUP(E67932,'Padrão mensagem'!$A$3:$B$67,2,0)","v":{"$error":"#N/A"}}]
[null,null,null,"Nao",null,{"$f":"VLOOKUP(E67933,'Padrão mensagem'!$A$3:$B$67,2,0)","v":{"$error":"#N/A"}}]

{"sheet":"Off hire Units","index":2,"n_rows":29508,"n_cols":2,"rows_kept":29508,"cut":false,"hidden":true,"merged":[]}
["RelaçãodeOffHire"]
["BMOU2076645",{"$f":"IF(A2>0,\"Offhire\",\"Nao\")","v":"Offhire"}]
["FCIU3621779","Offhire"]
["FSCU9858263","Offhire"]
["TCNU7613885","Offhire"]
["TRLU8772841","Offhire"]
["BMOU2214338","Offhire"]
["DRYU9566922","Offhire"]
["TGHU1444331","Offhire"]
["BMOU2214338",{"$f":"IF(A10>0,\"Offhire\",\"Nao\")","v":"Offhire"}]
["DRYU9566922","Offhire"]
["TGHU1444331","Offhire"]
["BMOU2043636","Offhire"]
["BMOU9218021","Offhire"]
["BMOU9218401","Offhire"]
["BMOU9220688","Offhire"]
["CAIU2408230","Offhire"]
["CRSU1235393","Offhire"]
["FCIU3500680","Offhire"]
["FCIU3518816","Offhire"]
["FCIU3779379","Offhire"]
["FCIU8018428","Offhire"]
["FCIU8466232","Offhire"]
["GESU5637803","Offhire"]
["GESU5827146","Offhire"]
["GESU5925651","Offhire"]
["GLDU5428543","Offhire"]
["TCKU3537550","Offhire"]
["TCLU6095737","Offhire"]
["TCNU8446993","Offhire"]
["TCNU8672692","Offhire"]
["TCNU8883972","Offhire"]
["TCLU1039880","Offhire"]
["GESU3447492","Offhire"]
["TCKU1356390",{"$f":"IF(A35>0,\"Offhire\",\"Nao\")","v":"Offhire"}]
["TCNU6028757","Offhire"]
["TCNU8379909","Offhire"]
["AMFU3161424","Offhire"]
["AMFU8740270","Offhire"]
["AMFU8866443","Offhire"]
["AMFU8945199","Offhire"]
["BMOU2139091","Offhire"]
["BMOU2260544","Offhire"]
["BMOU2262280","Offhire"]
["BMOU4114364","Offhire"]
["BMOU9203931","Offhire"]
["BMOU9214941","Offhire"]
["BSIU2172813","Offhire"]
["BSIU2266785","Offhire"]
["BSIU2267143","Offhire"]
["BSIU2272330","Offhire"]
["BSIU2285276","Offhire"]
["BSIU2286668","Offhire"]
["BSIU2295309","Offhire"]
["BSIU4055267","Offhire"]
["BSIU9149950","Offhire"]
["BSIU9150436","Offhire"]
["CLHU3899930","Offhire"]
["CLHU8697568","Offhire"]
["CLHU9112580","Offhire"]
["CLHU9121406","Offhire"]
["CMAU6012106","Offhire"]
["CRSU1340423","Offhire"]
["CRSU1384777","Offhire"]
["CRXU3316080","Offhire"]
["CXDU1124157","Offhire"]
["DFSU2130769","Offhire"]
["DFSU2241799","Offhire"]
["DFSU2254965","Offhire"]
["DRYU2158180","Offhire"]
["DRYU9145939","Offhire"]
["DRYU9152120","Offhire"]
["DRYU9564853","Offhire"]
["DRYU9757364","Offhire"]
["DRYU9781313","Offhire"]
["FCIU2820040","Offhire"]
["FCIU3059379","Offhire"]
["FCIU3128607","Offhire"]
["FCIU3730471","Offhire"]
["FCIU8607789","Offhire"]
["FCIU8737144","Offhire"]
["FSCU4737443","Offhire"]
["FSCU5668563","Offhire"]
["FSCU5670935","Offhire"]
["FSCU6680877","Offhire"]
["FSCU7775787","Offhire"]
["FSCU7867008","Offhire"]
["FSCU9285829","Offhire"]
["GATU1325186","Offhire"]
["GATU1346553","Offhire"]
["GATU1359421","Offhire"]
["GATU8599954","Offhire"]
["GATU8772910","Offhire"]
["GATU8796491","Offhire"]
["GESU1372429","Offhire"]
["GESU3322690","Offhire"]
["GESU3609850","Offhire"]
["GESU3640006","Offhire"]
["GESU5834839",{"$f":"IF(A99>0,\"Offhire\",\"Nao\")","v":"Offhire"}]
["GESU5849150","Offhire"]
["GESU5928141","Offhire"]
["GESU5929997","Offhire"]
["GESU9351696","Offhire"]
["GESU9483120","Offhire"]
["GLDU3159574","Offhire"]
["GLDU3427738","Offhire"]
["GLDU3456090","Offhire"]
["GLDU3567956","Offhire"]
["GLDU3761848","Offhire"]
["GLDU3874926","Offhire"]
["GLDU3895030","Offhire"]
["GLDU5239046","Offhire"]
["GLDU5322968","Offhire"]
["GLDU5609686",{"$f":"IF(A114>0,\"Offhire\",\"Nao\")","v":"Offhire"}]
["GLDU5627165",{"$f":"IF(A115>0,\"Offhire\",\"Nao\")","v":"Offhire"}]
["GLDU7433298","Offhire"]
["GLDU7521022","Offhire"]
["GLDU7607147","Offhire"]
["GVCU4046706","Offhire"]
["LCRU2723090","Offhire"]
["RFCU2196198","Offhire"]
["RFCU2209037","Offhire"]
["RFCU2257204","Offhire"]
["RFCU2257863","Offhire"]
["RFCU2259613","Offhire"]
["SEGU1253532","Offhire"]
["SEGU6945446","Offhire"]
["SEGU6947069","Offhire"]
["SEGU6949396","Offhire"]
["SEGU6950083","Offhire"]
["SEGU6951080","Offhire"]
["SEGU6952954","Offhire"]
["SEGU6953436","Offhire"]
["SEGU6956477","Offhire"]
["SEGU6959244","Offhire"]
["SEGU6960543","Offhire"]
["TCKU2668258","Offhire"]
["TCKU3252049","Offhire"]
["TCKU3431419","Offhire"]
["TCKU3435055","Offhire"]
["TCKU3542198","Offhire"]
["TCKU3542747","Offhire"]
["TCLU4482450","Offhire"]
["TCLU4716305","Offhire"]
["TCLU4789554","Offhire"]
["TCLU6209486","Offhire"]
["TCLU7590946","Offhire"]
["TCLU9178408","Offhire"]
["TCLU9217850","Offhire"]
["TCNU5966712","Offhire"]
["TCNU7195825",{"$f":"IF(A151>0,\"Offhire\",\"Nao\")","v":"Offhire"}]
["TCNU7240781","Offhire"]
["TCNU7393501","Offhire"]
["TCNU7450900","Offhire"]
["TCNU7637927","Offhire"]
["TCNU7712825","Offhire"]
["TCNU7794063","Offhire"]
["TCNU7934530","Offhire"]
["TCNU7962953","Offhire"]
["TCNU8129221","Offhire"]
["TCNU8236087","Offhire"]
["TCNU8584499","Offhire"]
["TCNU8600331","Offhire"]
["TCNU8782410","Offhire"]
["TCNU9963687","Offhire"]
["TDRU6819522","Offhire"]
["TDRU8442783","Offhire"]
["TEMU2006662","Offhire"]
["TGBU4314577","Offhire"]
["TGCU2082476","Offhire"]
["TGHU0027122","Offhire"]
["TGHU0317733","Offhire"]
["TGHU0515955","Offhire"]
["TGHU0579266","Offhire"]
["TGHU0614731","Offhire"]
["TGHU0622758","Offhire"]
["TGHU0965696","Offhire"]
["TGHU1028709","Offhire"]
["TGHU1071480","Offhire"]
["TGHU1120440","Offhire"]
["TGHU1165893","Offhire"]
["TGHU1220990","Offhire"]
["TGHU1262635","Offhire"]
["TGHU1484519","Offhire"]
["TGHU1540680","Offhire"]
["TGHU1627266","Offhire"]
["TGHU1856853","Offhire"]
["TGHU1898463","Offhire"]
["TGHU3854058","Offhire"]
["TGHU6007397","Offhire"]
["TGHU6104843","Offhire"]
["TGHU8883510","Offhire"]
["TGHU9327727","Offhire"]
["TGHU9365732","Offhire"]
["TGHU9385087","Offhire"]
["TGHU9440800","Offhire"]
["TGHU9761733","Offhire"]
["TGHU9777149","Offhire"]
["TGHU9854918","Offhire"]
["TGHU9861964","Offhire"]
["TRLU4808988","Offhire"]
["TRLU6592408","Offhire"]
["TRLU7281870","Offhire"]
["TRLU7550325","Offhire"]
["TTNU4456430","Offhire"]
["TTNU5964409","Offhire"]
["XINU1126545","Offhire"]
["XINU1155775","Offhire"]
["XINU1426835","Offhire"]
["XINU8046272","Offhire"]
["TRLU7281870","Offhire"]
[null,"Nao"]
[null,"Nao"]
[null,"Nao"]
[null,{"$f":"IF(A215>0,\"Offhire\",\"Nao\")","v":"Nao"}]
[null,"Nao"]
[null,"Nao"]
[null,"Nao"]
[null,"Nao"]
[null,"Nao"]
[null,"Nao"]
[null,"Nao"]
[null,"Nao"]
[null,"Nao"]
[null,"Nao"]
[null,"Nao"]
[null,"Nao"]
[null,"Nao"]
[null,"Nao"]
[null,"Nao"]
[null,"Nao"]
[null,"Nao"]
[null,"Nao"]
[null,"Nao"]
[null,"Nao"]
[null,"Nao"]
[null,"Nao"]
[null,"Nao"]
[null,"Nao"]
[null,"Nao"]
[null,"Nao"]
[null,"Nao"]
[null,"Nao"]
[null,"Nao"]
[null,"Nao"]
[null,"Nao"]
[null,"Nao"]
[null,"Nao"]
[null,"Nao"]
[null,"Nao"]
[null,"Nao"]
[null,"Nao"]
[null,"Nao"]
[null,"Nao"]
[null,"Nao"]
[null,"Nao"]
[null,"Nao"]
[null,"Nao"]
[null,"Nao"]
[null,"Nao"]
[null,"Nao"]
[null,"Nao"]
[null,"Nao"]
[null,"Nao"]
[null,"Nao"]
[null,"Nao"]
[null,"Nao"]
[null,"Nao"]
[null,"Nao"]
[null,"Nao"]
[null,"Nao"]
[null,"Nao"]
[null,"Nao"]
[null,"Nao"]
[null,"Nao"]
[null,"Nao"]
[null,"Nao"]
[null,"Nao"]
[null,{"$f":"IF(A279>0,\"Offhire\",\"Nao\")","v":"Nao"}]
[null,"Nao"]
[null,"Nao"]
[null,"Nao"]
[null,"Nao"]
[null,"Nao"]
[null,"Nao"]
[null,"Nao"]
[null,"Nao"]
[null,"Nao"]
[null,"Nao"]
[null,"Nao"]
[null,"Nao"]
[null,"Nao"]
[null,"Nao"]
[null,"Nao"]
[null,"Nao"]
[null,"Nao"]
[null,"Nao"]
[null,"Nao"]
[null,"Nao"]
[null,"Nao"]
[null,"Nao"]
[null,"Nao"]
[null,"Nao"]
[null,"Nao"]
[null,"Nao"]
[null,"Nao"]
[null,"Nao"]
[null,"Nao"]
[null,"Nao"]
[null,"Nao"]
[null,"Nao"]
[null,"Nao"]
[null,"Nao"]
[null,"Nao"]
[null,"Nao"]
[null,"Nao"]
[null,"Nao"]
[null,"Nao"]
[null,"Nao"]
[null,"Nao"]
[null,"Nao"]
[null,"Nao"]
[null,"Nao"]
[null,"Nao"]
[null,"Nao"]
[null,"Nao"]
[null,"Nao"]
[null,"Nao"]
[null,"Nao"]
[null,"Nao"]
[null,"Nao"]
[null,"Nao"]
[null,"Nao"]
[null,"Nao"]
[null,"Nao"]
[null,"Nao"]
[null,"Nao"]
[null,"Nao"]
[null,"Nao"]
[null,"Nao"]
[null,"Nao"]
[null,"Nao"]
[null,{"$f":"IF(A343>0,\"Offhire\",\"Nao\")","v":"Nao"}]
[null,"Nao"]
[null,"Nao"]
[null,"Nao"]
[null,"Nao"]
[null,"Nao"]
[null,"Nao"]
[null,"Nao"]
[null,"Nao"]
[null,"Nao"]
[null,"Nao"]
[null,"Nao"]
[null,"Nao"]
[null,"Nao"]
[null,"Nao"]
[null,"Nao"]
[null,"Nao"]
[null,"Nao"]
[null,"Nao"]
[null,"Nao"]
[null,"Nao"]
[null,"Nao"]
[null,"Nao"]
[null,"Nao"]
[null,"Nao"]
[null,"Nao"]
[null,"Nao"]
[null,"Nao"]
[null,"Nao"]
[null,"Nao"]
[null,"Nao"]
[null,"Nao"]
[null,"Nao"]
[null,"Nao"]
[null,"Nao"]
[null,"Nao"]
[null,"Nao"]
[null,"Nao"]
[null,"Nao"]
[null,"Nao"]
[null,"Nao"]
[null,"Nao"]
[null,"Nao"]
[null,"Nao"]
[null,"Nao"]
[null,"Nao"]
[null,"Nao"]
[null,"Nao"]
[null,"Nao"]
[null,"Nao"]
[null,"Nao"]
[null,"Nao"]
[null,"Nao"]
[null,"Nao"]
[null,"Nao"]
[null,"Nao"]
[null,"Nao"]
[null,"Nao"]
[null,"Nao"]
[null,"Nao"]
[null,"Nao"]
[null,"Nao"]
[null,"Nao"]
[null,"Nao"]
[null,{"$f":"IF(A407>0,\"Offhire\",\"Nao\")","v":"Nao"}]
[null,"Nao"]
[null,"Nao"]
[null,"Nao"]
[null,"Nao"]
[null,"Nao"]
[null,"Nao"]
[null,"Nao"]
[null,"Nao"]
[null,"Nao"]
[null,"Nao"]
[null,"Nao"]
[null,"Nao"]
[null,"Nao"]
[null,"Nao"]
[null,"Nao"]
[null,"Nao"]
[null,"Nao"]
[null,"Nao"]
[null,"Nao"]
[null,"Nao"]
[null,"Nao"]
[null,"Nao"]
[null,"Nao"]
[null,"Nao"]
[null,"Nao"]
[null,"Nao"]
[null,"Nao"]
[null,"Nao"]
[null,"Nao"]
[null,"Nao"]
[null,"Nao"]
[null,"Nao"]
[null,"Nao"]
[null,"Nao"]
[null,"Nao"]
[null,"Nao"]
[null,"Nao"]
[null,"Nao"]
[null,"Nao"]
[null,"Nao"]
[null,"Nao"]
[null,"Nao"]
[null,"Nao"]
[null,"Nao"]
[null,"Nao"]
[null,"Nao"]
[null,"Nao"]
[null,"Nao"]
[null,"Nao"]
[null,"Nao"]
[null,"Nao"]
[null,"Nao"]
[null,"Nao"]
[null,"Nao"]
[null,"Nao"]
[null,"Nao"]
[null,"Nao"]
[null,"Nao"]
[null,"Nao"]
[null,"Nao"]
[null,"Nao"]
[null,"Nao"]
[null,"Nao"]
[null,{"$f":"IF(A471>0,\"Offhire\",\"Nao\")","v":"Nao"}]
[null,"Nao"]
[null,"Nao"]
[null,"Nao"]
[null,"Nao"]
[null,"Nao"]
[null,"Nao"]
[null,"Nao"]
[null,"Nao"]
[null,"Nao"]
[null,"Nao"]
[null,"Nao"]
[null,"Nao"]
[null,"Nao"]
[null,"Nao"]
[null,"Nao"]
[null,"Nao"]
[null,"Nao"]
[null,"Nao"]
[null,"Nao"]
[null,"Nao"]
[null,"Nao"]
[null,"Nao"]
[null,"Nao"]
[null,"Nao"]
[null,"Nao"]
[null,"Nao"]
[null,"Nao"]
[null,"Nao"]
[null,"Nao"]
[null,"Nao"]
[null,"Nao"]
[null,"Nao"]
[null,"Nao"]
[null,"Nao"]
[null,"Nao"]
[null,"Nao"]
[null,"Nao"]
[null,"Nao"]
[null,"Nao"]
[null,"Nao"]
[null,"Nao"]
[null,"Nao"]
[null,"Nao"]
[null,"Nao"]
[null,"Nao"]
[null,"Nao"]
[null,"Nao"]
[null,"Nao"]
[null,"Nao"]
[null,"Nao"]
[null,"Nao"]
[null,"Nao"]
[null,"Nao"]
[null,"Nao"]
[null,"Nao"]
[null,"Nao"]
[null,"Nao"]
[null,"Nao"]
[null,"Nao"]
[null,"Nao"]
[null,"Nao"]
[null,"Nao"]
[null,"Nao"]
[null,{"$f":"IF(A535>0,\"Offhire\",\"Nao\")","v":"Nao"}]
[null,"Nao"]
[null,"Nao"]
[null,"Nao"]
[null,"Nao"]
[null,"Nao"]
[null,"Nao"]
[null,"Nao"]
[null,"Nao"]
[null,"Nao"]
[null,"Nao"]
[null,"Nao"]
[null,"Nao"]
[null,"Nao"]
[null,"Nao"]
[null,"Nao"]
[null,"Nao"]
[null,"Nao"]
[null,"Nao"]
[null,"Nao"]
[null,"Nao"]
[null,"Nao"]
[null,"Nao"]
[null,"Nao"]
[null,"Nao"]
[null,"Nao"]
[null,"Nao"]
[null,"Nao"]
[null,"Nao"]
[null,"Nao"]
[null,"Nao"]
[null,"Nao"]
[null,"Nao"]
[null,"Nao"]
[null,"Nao"]
[null,"Nao"]
[null,"Nao"]
[null,"Nao"]
[null,"Nao"]
[null,"Nao"]
[null,"Nao"]
[null,"Nao"]
[null,"Nao"]
[null,"Nao"]
[null,"Nao"]
[null,"Nao"]
[null,"Nao"]
[null,"Nao"]
[null,"Nao"]
[null,"Nao"]
[null,"Nao"]
[null,"Nao"]
[null,"Nao"]
[null,"Nao"]
[null,"Nao"]
[null,"Nao"]
[null,"Nao"]
[null,"Nao"]
[null,"Nao"]
[null,"Nao"]
[null,"Nao"]
[null,"Nao"]
[null,"Nao"]
[null,"Nao"]
[null,{"$f":"IF(A599>0,\"Offhire\",\"Nao\")","v":"Nao"}]
[null,"Nao"]
[null,"Nao"]
[null,"Nao"]
[null,"Nao"]
[null,"Nao"]
[null,"Nao"]
[null,"Nao"]
[null,"Nao"]
[null,"Nao"]
[null,"Nao"]
[null,"Nao"]
[null,"Nao"]
[null,"Nao"]
[null,"Nao"]
[null,"Nao"]
[null,"Nao"]
[null,"Nao"]
[null,"Nao"]
[null,"Nao"]
[null,"Nao"]
[null,"Nao"]
[null,"Nao"]
[null,"Nao"]
[null,"Nao"]
[null,"Nao"]
[null,"Nao"]
[null,"Nao"]
[null,"Nao"]
[null,"Nao"]
[null,"Nao"]
[null,"Nao"]
[null,"Nao"]
[null,"Nao"]
[null,"Nao"]
[null,"Nao"]
[null,"Nao"]
[null,"Nao"]
[null,"Nao"]
[null,"Nao"]
[null,"Nao"]
[null,"Nao"]
[null,"Nao"]
[null,"Nao"]
[null,"Nao"]
[null,"Nao"]
[null,"Nao"]
[null,"Nao"]
[null,"Nao"]
[null,"Nao"]
[null,"Nao"]
[null,"Nao"]
[null,"Nao"]
[null,"Nao"]
[null,"Nao"]
[null,"Nao"]
[null,"Nao"]
[null,"Nao"]
[null,"Nao"]
[null,"Nao"]
[null,"Nao"]
[null,"Nao"]
[null,"Nao"]
[null,"Nao"]
[null,{"$f":"IF(A663>0,\"Offhire\",\"Nao\")","v":"Nao"}]
[null,"Nao"]
[null,"Nao"]
[null,"Nao"]
[null,"Nao"]
[null,"Nao"]
[null,"Nao"]
[null,"Nao"]
[null,"Nao"]
[null,"Nao"]
[null,"Nao"]
[null,"Nao"]
[null,"Nao"]
[null,"Nao"]
[null,"Nao"]
[null,"Nao"]
[null,"Nao"]
[null,"Nao"]
[null,"Nao"]
[null,"Nao"]
[null,"Nao"]
[null,"Nao"]
[null,"Nao"]
[null,"Nao"]
[null,"Nao"]
[null,"Nao"]
[null,"Nao"]
[null,"Nao"]
[null,"Nao"]
[null,"Nao"]
[null,"Nao"]
[null,"Nao"]
[null,"Nao"]
[null,"Nao"]
[null,"Nao"]
[null,"Nao"]
[null,"Nao"]
[null,"Nao"]
[null,"Nao"]
[null,"Nao"]
[null,"Nao"]
[null,"Nao"]
[null,"Nao"]
[null,"Nao"]
[null,"Nao"]
[null,"Nao"]
[null,"Nao"]
[null,"Nao"]
[null,"Nao"]
[null,"Nao"]
[null,"Nao"]
[null,"Nao"]
[null,"Nao"]
[null,"Nao"]
[null,"Nao"]
[null,"Nao"]
[null,"Nao"]
[null,"Nao"]
[null,"Nao"]
[null,"Nao"]
[null,"Nao"]
[null,"Nao"]
[null,"Nao"]
[null,"Nao"]
[null,{"$f":"IF(A727>0,\"Offhire\",\"Nao\")","v":"Nao"}]
[null,"Nao"]
[null,"Nao"]
[null,"Nao"]
[null,"Nao"]
[null,"Nao"]
[null,"Nao"]
[null,"Nao"]
[null,"Nao"]
[null,"Nao"]
[null,"Nao"]
[null,"Nao"]
[null,"Nao"]
[null,"Nao"]
[null,"Nao"]
[null,"Nao"]
[null,"Nao"]
[null,"Nao"]
[null,"Nao"]
[null,"Nao"]
[null,"Nao"]
[null,"Nao"]
[null,"Nao"]
[null,"Nao"]
[null,"Nao"]
[null,"Nao"]
[null,"Nao"]
[null,"Nao"]
[null,"Nao"]
[null,"Nao"]
[null,"Nao"]
[null,"Nao"]
[null,"Nao"]
[null,"Nao"]
[null,"Nao"]
[null,"Nao"]
[null,"Nao"]
[null,"Nao"]
[null,"Nao"]
[null,"Nao"]
[null,"Nao"]
[null,"Nao"]
[null,"Nao"]
[null,"Nao"]
[null,"Nao"]
[null,"Nao"]
[null,"Nao"]
[null,"Nao"]
[null,"Nao"]
[null,"Nao"]
[null,"Nao"]
[null,"Nao"]
[null,"Nao"]
[null,"Nao"]
[null,"Nao"]
[null,"Nao"]
[null,"Nao"]
[null,"Nao"]
[null,"Nao"]
[null,"Nao"]
[null,"Nao"]
[null,"Nao"]
[null,"Nao"]
[null,"Nao"]
[null,{"$f":"IF(A791>0,\"Offhire\",\"Nao\")","v":"Nao"}]
[null,"Nao"]
[null,"Nao"]
[null,"Nao"]
[null,"Nao"]
[null,"Nao"]
[null,"Nao"]
[null,"Nao"]
[null,"Nao"]
[null,"Nao"]
[null,"Nao"]
[null,"Nao"]
[null,"Nao"]
[null,"Nao"]
[null,"Nao"]
[null,"Nao"]
[null,"Nao"]
[null,"Nao"]
[null,"Nao"]
[null,"Nao"]
[null,"Nao"]
[null,"Nao"]
[null,"Nao"]
[null,"Nao"]
[null,"Nao"]
[null,"Nao"]
[null,"Nao"]
[null,"Nao"]
[null,"Nao"]
[null,"Nao"]
[null,"Nao"]
[null,"Nao"]
[null,"Nao"]
[null,"Nao"]
[null,"Nao"]
[null,"Nao"]
[null,"Nao"]
[null,"Nao"]
[null,"Nao"]
[null,"Nao"]
[null,"Nao"]
[null,"Nao"]
[null,"Nao"]
[null,"Nao"]
[null,"Nao"]
[null,"Nao"]
[null,"Nao"]
[null,"Nao"]
[null,"Nao"]
[null,"Nao"]
[null,"Nao"]
[null,"Nao"]
[null,"Nao"]
[null,"Nao"]
[null,"Nao"]
[null,"Nao"]
[null,"Nao"]
[null,"Nao"]
[null,"Nao"]
[null,"Nao"]
[null,"Nao"]
[null,"Nao"]
[null,"Nao"]
[null,"Nao"]
[null,{"$f":"IF(A855>0,\"Offhire\",\"Nao\")","v":"Nao"}]
[null,"Nao"]
[null,"Nao"]
[null,"Nao"]
[null,"Nao"]
[null,"Nao"]
[null,"Nao"]
[null,"Nao"]
[null,"Nao"]
[null,"Nao"]
[null,"Nao"]
[null,"Nao"]
[null,"Nao"]
[null,"Nao"]
[null,"Nao"]
[null,"Nao"]
[null,"Nao"]
[null,"Nao"]
[null,"Nao"]
[null,"Nao"]
[null,"Nao"]
[null,"Nao"]
[null,"Nao"]
[null,"Nao"]
[null,"Nao"]
[null,"Nao"]
[null,"Nao"]
[null,"Nao"]
[null,"Nao"]
[null,"Nao"]
[null,"Nao"]
[null,"Nao"]
[null,"Nao"]
[null,"Nao"]
[null,"Nao"]
[null,"Nao"]
[null,"Nao"]
[null,"Nao"]
[null,"Nao"]
[null,"Nao"]
[null,"Nao"]
[null,"Nao"]
[null,"Nao"]
[null,"Nao"]
[null,"Nao"]
[null,"Nao"]
[null,"Nao"]
[null,"Nao"]
[null,"Nao"]
[null,"Nao"]
[null,"Nao"]
[null,"Nao"]
[null,"Nao"]
[null,"Nao"]
[null,"Nao"]
[null,"Nao"]
[null,"Nao"]
[null,"Nao"]
[null,"Nao"]
[null,"Nao"]
[null,"Nao"]
[null,"Nao"]
[null,"Nao"]
[null,"Nao"]
[null,{"$f":"IF(A919>0,\"Offhire\",\"Nao\")","v":"Nao"}]
[null,"Nao"]
[null,"Nao"]
[null,"Nao"]
[null,"Nao"]
[null,"Nao"]
[null,"Nao"]
[null,"Nao"]
[null,"Nao"]
[null,"Nao"]
[null,"Nao"]
[null,"Nao"]
[null,"Nao"]
[null,"Nao"]
[null,"Nao"]
[null,"Nao"]
[null,"Nao"]
[null,"Nao"]
[null,"Nao"]
[null,"Nao"]
[null,"Nao"]
[null,"Nao"]
[null,"Nao"]
[null,"Nao"]
[null,"Nao"]
[null,"Nao"]
[null,"Nao"]
[null,"Nao"]
[null,"Nao"]
[null,"Nao"]
[null,"Nao"]
[null,"Nao"]
[null,"Nao"]
[null,"Nao"]
[null,"Nao"]
[null,"Nao"]
[null,"Nao"]
[null,"Nao"]
[null,"Nao"]
[null,"Nao"]
[null,"Nao"]
[null,"Nao"]
[null,"Nao"]
[null,"Nao"]
[null,"Nao"]
[null,"Nao"]
[null,"Nao"]
[null,"Nao"]
[null,"Nao"]
[null,"Nao"]
[null,"Nao"]
[null,"Nao"]
[null,"Nao"]
[null,"Nao"]
[null,"Nao"]
[null,"Nao"]
[null,"Nao"]
[null,"Nao"]
[null,"Nao"]
[null,"Nao"]
[null,"Nao"]
[null,"Nao"]
[null,"Nao"]
[null,"Nao"]
[null,{"$f":"IF(A983>0,\"Offhire\",\"Nao\")","v":"Nao"}]
[null,"Nao"]
[null,"Nao"]
[null,"Nao"]
[null,"Nao"]
[null,"Nao"]
[null,"Nao"]
[null,"Nao"]
[null,"Nao"]
[null,"Nao"]
[null,"Nao"]
[null,"Nao"]
[null,"Nao"]
[null,"Nao"]
[null,"Nao"]
[null,"Nao"]
[null,"Nao"]
[null,"Nao"]
[null,"Nao"]
[null,"Nao"]
[null,"Nao"]
[null,"Nao"]
[null,"Nao"]
[null,"Nao"]
[null,"Nao"]
[null,"Nao"]
[null,"Nao"]
[null,"Nao"]
[null,"Nao"]
[null,"Nao"]
[null,"Nao"]
[null,"Nao"]
[null,"Nao"]
[null,"Nao"]
[null,"Nao"]
[null,"Nao"]
[null,"Nao"]
[null,"Nao"]
[null,"Nao"]
[null,"Nao"]
[null,"Nao"]
[null,"Nao"]
[null,"Nao"]
[null,"Nao"]
[null,"Nao"]
[null,"Nao"]
[null,"Nao"]
[null,"Nao"]
[null,"Nao"]
[null,"Nao"]
[null,"Nao"]
[null,"Nao"]
[null,"Nao"]
[null,"Nao"]
[null,"Nao"]
[null,"Nao"]
[null,"Nao"]
[null,"Nao"]
[null,"Nao"]
[null,"Nao"]
[null,"Nao"]
[null,"Nao"]
[null,"Nao"]
[null,"Nao"]
[null,{"$f":"IF(A1047>0,\"Offhire\",\"Nao\")","v":"Nao"}]
[null,"Nao"]
[null,"Nao"]
[null,"Nao"]
[null,"Nao"]
[null,"Nao"]
[null,"Nao"]
[null,"Nao"]
[null,"Nao"]
[null,"Nao"]
[null,"Nao"]
[null,"Nao"]
[null,"Nao"]
[null,"Nao"]
[null,"Nao"]
[null,"Nao"]
[null,"Nao"]
[null,"Nao"]
[null,"Nao"]
[null,"Nao"]
[null,"Nao"]
[null,"Nao"]
[null,"Nao"]
[null,"Nao"]
[null,"Nao"]
[null,"Nao"]
[null,"Nao"]
[null,"Nao"]
[null,"Nao"]
[null,"Nao"]
[null,"Nao"]
[null,"Nao"]
[null,"Nao"]
[null,"Nao"]
[null,"Nao"]
[null,"Nao"]
[null,"Nao"]
[null,"Nao"]
[null,"Nao"]
[null,"Nao"]
[null,"Nao"]
[null,"Nao"]
[null,"Nao"]
[null,"Nao"]
[null,"Nao"]
[null,"Nao"]
[null,"Nao"]
[null,"Nao"]
[null,"Nao"]
[null,"Nao"]
[null,"Nao"]
[null,"Nao"]
[null,"Nao"]
[null,"Nao"]
[null,"Nao"]
[null,"Nao"]
[null,"Nao"]
[null,"Nao"]
[null,"Nao"]
[null,"Nao"]
[null,"Nao"]
[null,"Nao"]
[null,"Nao"]
[null,"Nao"]
[null,{"$f":"IF(A1111>0,\"Offhire\",\"Nao\")","v":"Nao"}]
[null,"Nao"]
[null,"Nao"]
[null,"Nao"]
[null,"Nao"]
[null,"Nao"]
[null,"Nao"]
[null,"Nao"]
[null,"Nao"]
[null,"Nao"]
[null,"Nao"]
[null,"Nao"]
[null,"Nao"]
[null,"Nao"]
[null,"Nao"]
[null,"Nao"]
[null,"Nao"]
[null,"Nao"]
[null,"Nao"]
[null,"Nao"]
[null,"Nao"]
[null,"Nao"]
[null,"Nao"]
[null,"Nao"]
[null,"Nao"]
[null,"Nao"]
[null,"Nao"]
[null,"Nao"]
[null,"Nao"]
[null,"Nao"]
[null,"Nao"]
[null,"Nao"]
[null,"Nao"]
[null,"Nao"]
[null,"Nao"]
[null,"Nao"]
[null,"Nao"]
[null,"Nao"]
[null,"Nao"]
[null,"Nao"]
[null,"Nao"]
[null,"Nao"]
[null,"Nao"]
[null,"Nao"]
[null,"Nao"]
[null,"Nao"]
[null,"Nao"]
[null,"Nao"]
[null,"Nao"]
[null,"Nao"]
[null,"Nao"]
[null,"Nao"]
[null,"Nao"]
[null,"Nao"]
[null,"Nao"]
[null,"Nao"]
[null,"Nao"]
[null,"Nao"]
[null,"Nao"]
[null,"Nao"]
[null,"Nao"]
[null,"Nao"]
[null,"Nao"]
[null,"Nao"]
[null,{"$f":"IF(A1175>0,\"Offhire\",\"Nao\")","v":"Nao"}]
[null,"Nao"]
[null,"Nao"]
[null,"Nao"]
[null,"Nao"]
[null,"Nao"]
[null,"Nao"]
[null,"Nao"]
[null,"Nao"]
[null,"Nao"]
[null,"Nao"]
[null,"Nao"]
[null,"Nao"]
[null,"Nao"]
[null,"Nao"]
[null,"Nao"]
[null,"Nao"]
[null,"Nao"]
[null,"Nao"]
[null,"Nao"]
[null,"Nao"]
[null,"Nao"]
[null,"Nao"]
[null,"Nao"]
[null,"Nao"]
[null,"Nao"]
[null,"Nao"]
[null,"Nao"]
[null,"Nao"]
[null,"Nao"]
[null,"Nao"]
[null,"Nao"]
[null,"Nao"]
[null,"Nao"]
[null,"Nao"]
[null,"Nao"]
[null,"Nao"]
[null,"Nao"]
[null,"Nao"]
[null,"Nao"]
[null,"Nao"]
[null,"Nao"]
[null,"Nao"]
[null,"Nao"]
[null,"Nao"]
[null,"Nao"]
[null,"Nao"]
[null,"Nao"]
[null,"Nao"]
[null,"Nao"]
[null,"Nao"]
[null,"Nao"]
[null,"Nao"]
[null,"Nao"]
[null,"Nao"]
[null,"Nao"]
[null,"Nao"]
[null,"Nao"]
[null,"Nao"]
[null,"Nao"]
[null,"Nao"]
[null,"Nao"]
[null,"Nao"]
[null,"Nao"]
[null,{"$f":"IF(A1239>0,\"Offhire\",\"Nao\")","v":"Nao"}]
[null,"Nao"]
[null,"Nao"]
[null,"Nao"]
[null,"Nao"]
[null,"Nao"]
[null,"Nao"]
[null,"Nao"]
[null,"Nao"]
[null,"Nao"]
[null,"Nao"]
[null,"Nao"]
[null,"Nao"]
[null,"Nao"]
[null,"Nao"]
[null,"Nao"]
[null,"Nao"]
[null,"Nao"]
[null,"Nao"]
[null,"Nao"]
[null,"Nao"]
[null,"Nao"]
[null,"Nao"]
[null,"Nao"]
[null,"Nao"]
[null,"Nao"]
[null,"Nao"]
[null,"Nao"]
[null,"Nao"]
[null,"Nao"]
[null,"Nao"]
[null,"Nao"]
[null,"Nao"]
[null,"Nao"]
[null,"Nao"]
[null,"Nao"]
[null,"Nao"]
[null,"Nao"]
[null,"Nao"]
[null,"Nao"]
[null,"Nao"]
[null,"Nao"]
[null,"Nao"]
[null,"Nao"]
[null,"Nao"]
[null,"Nao"]
[null,"Nao"]
[null,"Nao"]
[null,"Nao"]
[null,"Nao"]
[null,"Nao"]
[null,"Nao"]
[null,"Nao"]
[null,"Nao"]
[null,"Nao"]
[null,"Nao"]
[null,"Nao"]
[null,"Nao"]
[null,"Nao"]
[null,"Nao"]
[null,"Nao"]
[null,"Nao"]
[null,"Nao"]
[null,"Nao"]
[null,{"$f":"IF(A1303>0,\"Offhire\",\"Nao\")","v":"Nao"}]
[null,"Nao"]
[null,"Nao"]
[null,"Nao"]
[null,"Nao"]
[null,"Nao"]
[null,"Nao"]
[null,"Nao"]
[null,"Nao"]
[null,"Nao"]
[null,"Nao"]
[null,"Nao"]
[null,"Nao"]
[null,"Nao"]
[null,"Nao"]
[null,"Nao"]
[null,"Nao"]
[null,"Nao"]
[null,"Nao"]
[null,"Nao"]
[null,"Nao"]
[null,"Nao"]
[null,"Nao"]
[null,"Nao"]
[null,"Nao"]
[null,"Nao"]
[null,"Nao"]
[null,"Nao"]
[null,"Nao"]
[null,"Nao"]
[null,"Nao"]
[null,"Nao"]
[null,"Nao"]
[null,"Nao"]
[null,"Nao"]
[null,"Nao"]
[null,"Nao"]
[null,"Nao"]
[null,"Nao"]
[null,"Nao"]
[null,"Nao"]
[null,"Nao"]
[null,"Nao"]
[null,"Nao"]
[null,"Nao"]
[null,"Nao"]
[null,"Nao"]
[null,"Nao"]
[null,"Nao"]
[null,"Nao"]
[null,"Nao"]
[null,"Nao"]
[null,"Nao"]
[null,"Nao"]
[null,"Nao"]
[null,"Nao"]
[null,"Nao"]
[null,"Nao"]
[null,"Nao"]
[null,"Nao"]
[null,"Nao"]
[null,"Nao"]
[null,"Nao"]
[null,"Nao"]
[null,{"$f":"IF(A1367>0,\"Offhire\",\"Nao\")","v":"Nao"}]
[null,"Nao"]
[null,"Nao"]
[null,"Nao"]
[null,"Nao"]
[null,"Nao"]
[null,"Nao"]
[null,"Nao"]
[null,"Nao"]
[null,"Nao"]
[null,"Nao"]
[null,"Nao"]
[null,"Nao"]
[null,"Nao"]
[null,"Nao"]
[null,"Nao"]
[null,"Nao"]
[null,"Nao"]
[null,"Nao"]
[null,"Nao"]
[null,"Nao"]
[null,"Nao"]
[null,"Nao"]
[null,"Nao"]
[null,"Nao"]
[null,"Nao"]
[null,"Nao"]
[null,"Nao"]
[null,"Nao"]
[null,"Nao"]
[null,"Nao"]
[null,"Nao"]
[null,"Nao"]
[null,"Nao"]
[null,"Nao"]
[null,"Nao"]
[null,"Nao"]
[null,"Nao"]
[null,"Nao"]
[null,"Nao"]
[null,"Nao"]
[null,"Nao"]
[null,"Nao"]
[null,"Nao"]
[null,"Nao"]
[null,"Nao"]
[null,"Nao"]
[null,"Nao"]
[null,"Nao"]
[null,"Nao"]
[null,"Nao"]
[null,"Nao"]
[null,"Nao"]
[null,"Nao"]
[null,"Nao"]
[null,"Nao"]
[null,"Nao"]
[null,"Nao"]
[null,"Nao"]
[null,"Nao"]
[null,"Nao"]
[null,"Nao"]
[null,"Nao"]
[null,"Nao"]
[null,{"$f":"IF(A1431>0,\"Offhire\",\"Nao\")","v":"Nao"}]
[null,"Nao"]
[null,"Nao"]
[null,"Nao"]
[null,"Nao"]
[null,"Nao"]
[null,"Nao"]
[null,"Nao"]
[null,"Nao"]
[null,"Nao"]
[null,"Nao"]
[null,"Nao"]
[null,"Nao"]
[null,"Nao"]
[null,"Nao"]
[null,"Nao"]
[null,"Nao"]
[null,"Nao"]
[null,"Nao"]
[null,"Nao"]
[null,"Nao"]
[null,"Nao"]
[null,"Nao"]
[null,"Nao"]
[null,"Nao"]
[null,"Nao"]
[null,"Nao"]
[null,"Nao"]
[null,"Nao"]
[null,"Nao"]
[null,"Nao"]
[null,"Nao"]
[null,"Nao"]
[null,"Nao"]
[null,"Nao"]
[null,"Nao"]
[null,"Nao"]
[null,"Nao"]
[null,"Nao"]
[null,"Nao"]
[null,"Nao"]
[null,"Nao"]
[null,"Nao"]
[null,"Nao"]
[null,"Nao"]
[null,"Nao"]
[null,"Nao"]
[null,"Nao"]
[null,"Nao"]
[null,"Nao"]
[null,"Nao"]
[null,"Nao"]
[null,"Nao"]
[null,"Nao"]
[null,"Nao"]
[null,"Nao"]
[null,"Nao"]
[null,"Nao"]
[null,"Nao"]
[null,"Nao"]
[null,"Nao"]
[null,"Nao"]
[null,"Nao"]
[null,"Nao"]
[null,{"$f":"IF(A1495>0,\"Offhire\",\"Nao\")","v":"Nao"}]
[null,"Nao"]
[null,"Nao"]
[null,"Nao"]
[null,"Nao"]
[null,"Nao"]
[null,"Nao"]
[null,"Nao"]
[null,"Nao"]
[null,"Nao"]
[null,"Nao"]
[null,"Nao"]
[null,"Nao"]
[null,"Nao"]
[null,"Nao"]
[null,"Nao"]
[null,"Nao"]
[null,"Nao"]
[null,"Nao"]
[null,"Nao"]
[null,"Nao"]
[null,"Nao"]
[null,"Nao"]
[null,"Nao"]
[null,"Nao"]
[null,"Nao"]
[null,"Nao"]
[null,"Nao"]
[null,"Nao"]
[null,"Nao"]
[null,"Nao"]
[null,"Nao"]
[null,"Nao"]
[null,"Nao"]
[null,"Nao"]
[null,"Nao"]
[null,"Nao"]
[null,"Nao"]
[null,"Nao"]
[null,"Nao"]
[null,"Nao"]
[null,"Nao"]
[null,"Nao"]
[null,"Nao"]
[null,"Nao"]
[null,"Nao"]
[null,"Nao"]
[null,"Nao"]
[null,"Nao"]
[null,"Nao"]
[null,"Nao"]
[null,"Nao"]
[null,"Nao"]
[null,"Nao"]
[null,"Nao"]
[null,"Nao"]
[null,"Nao"]
[null,"Nao"]
[null,"Nao"]
[null,"Nao"]
[null,"Nao"]
[null,"Nao"]
[null,"Nao"]
[null,"Nao"]
[null,{"$f":"IF(A1559>0,\"Offhire\",\"Nao\")","v":"Nao"}]
[null,"Nao"]
[null,"Nao"]
[null,"Nao"]
[null,"Nao"]
[null,"Nao"]
[null,"Nao"]
[null,"Nao"]
[null,"Nao"]
[null,"Nao"]
[null,"Nao"]
[null,"Nao"]
[null,"Nao"]
[null,"Nao"]
[null,"Nao"]
[null,"Nao"]
[null,"Nao"]
[null,"Nao"]
[null,"Nao"]
[null,"Nao"]
[null,"Nao"]
[null,"Nao"]
[null,"Nao"]
[null,"Nao"]
[null,"Nao"]
[null,"Nao"]
[null,"Nao"]
[null,"Nao"]
[null,"Nao"]
[null,"Nao"]
[null,"Nao"]
[null,"Nao"]
[null,"Nao"]
[null,"Nao"]
[null,"Nao"]
[null,"Nao"]
[null,"Nao"]
[null,"Nao"]
[null,"Nao"]
[null,"Nao"]
[null,"Nao"]
[null,"Nao"]
[null,"Nao"]
[null,"Nao"]
[null,"Nao"]
[null,"Nao"]
[null,"Nao"]
[null,"Nao"]
[null,"Nao"]
[null,"Nao"]
[null,"Nao"]
[null,"Nao"]
[null,"Nao"]
[null,"Nao"]
[null,"Nao"]
[null,"Nao"]
[null,"Nao"]
[null,"Nao"]
[null,"Nao"]
[null,"Nao"]
[null,"Nao"]
[null,"Nao"]
[null,"Nao"]
[null,"Nao"]
[null,{"$f":"IF(A1623>0,\"Offhire\",\"Nao\")","v":"Nao"}]
[null,"Nao"]
[null,"Nao"]
[null,"Nao"]
[null,"Nao"]
[null,"Nao"]
[null,"Nao"]
[null,"Nao"]
[null,"Nao"]
[null,"Nao"]
[null,"Nao"]
[null,"Nao"]
[null,"Nao"]
[null,"Nao"]
[null,"Nao"]
[null,"Nao"]
[null,"Nao"]
[null,"Nao"]
[null,"Nao"]
[null,"Nao"]
[null,"Nao"]
[null,"Nao"]
[null,"Nao"]
[null,"Nao"]
[null,"Nao"]
[null,"Nao"]
[null,"Nao"]
[null,"Nao"]
[null,"Nao"]
[null,"Nao"]
[null,"Nao"]
[null,"Nao"]
[null,"Nao"]
[null,"Nao"]
[null,"Nao"]
[null,"Nao"]
[null,"Nao"]
[null,"Nao"]
[null,"Nao"]
[null,"Nao"]
[null,"Nao"]
[null,"Nao"]
[null,"Nao"]
[null,"Nao"]
[null,"Nao"]
[null,"Nao"]
[null,"Nao"]
[null,"Nao"]
[null,"Nao"]
[null,"Nao"]
[null,"Nao"]
[null,"Nao"]
[null,"Nao"]
[null,"Nao"]
[null,"Nao"]
[null,"Nao"]
[null,"Nao"]
[null,"Nao"]
[null,"Nao"]
[null,"Nao"]
[null,"Nao"]
[null,"Nao"]
[null,"Nao"]
[null,"Nao"]
[null,{"$f":"IF(A1687>0,\"Offhire\",\"Nao\")","v":"Nao"}]
[null,"Nao"]
[null,"Nao"]
[null,"Nao"]
[null,"Nao"]
[null,"Nao"]
[null,"Nao"]
[null,"Nao"]
[null,"Nao"]
[null,"Nao"]
[null,"Nao"]
[null,"Nao"]
[null,"Nao"]
[null,"Nao"]
[null,"Nao"]
[null,"Nao"]
[null,"Nao"]
[null,"Nao"]
[null,"Nao"]
[null,"Nao"]
[null,"Nao"]
[null,"Nao"]
[null,"Nao"]
[null,"Nao"]
[null,"Nao"]
[null,"Nao"]
[null,"Nao"]
[null,"Nao"]
[null,"Nao"]
[null,"Nao"]
[null,"Nao"]
[null,"Nao"]
[null,"Nao"]
[null,"Nao"]
[null,"Nao"]
[null,"Nao"]
[null,"Nao"]
[null,"Nao"]
[null,"Nao"]
[null,"Nao"]
[null,"Nao"]
[null,"Nao"]
[null,"Nao"]
[null,"Nao"]
[null,"Nao"]
[null,"Nao"]
[null,"Nao"]
[null,"Nao"]
[null,"Nao"]
[null,"Nao"]
[null,"Nao"]
[null,"Nao"]
[null,"Nao"]
[null,"Nao"]
[null,"Nao"]
[null,"Nao"]
[null,"Nao"]
[null,"Nao"]
[null,"Nao"]
[null,"Nao"]
[null,"Nao"]
[null,"Nao"]
[null,"Nao"]
[null,"Nao"]
[null,{"$f":"IF(A1751>0,\"Offhire\",\"Nao\")","v":"Nao"}]
[null,"Nao"]
[null,"Nao"]
[null,"Nao"]
[null,"Nao"]
[null,"Nao"]
[null,"Nao"]
[null,"Nao"]
[null,"Nao"]
[null,"Nao"]
[null,"Nao"]
[null,"Nao"]
[null,"Nao"]
[null,"Nao"]
[null,"Nao"]
[null,"Nao"]
[null,"Nao"]
[null,"Nao"]
[null,"Nao"]
[null,"Nao"]
[null,"Nao"]
[null,"Nao"]
[null,"Nao"]
[null,"Nao"]
[null,"Nao"]
[null,"Nao"]
[null,"Nao"]
[null,"Nao"]
[null,"Nao"]
[null,"Nao"]
[null,"Nao"]
[null,"Nao"]
[null,"Nao"]
[null,"Nao"]
[null,"Nao"]
[null,"Nao"]
[null,"Nao"]
[null,"Nao"]
[null,"Nao"]
[null,"Nao"]
[null,"Nao"]
[null,"Nao"]
[null,"Nao"]
[null,"Nao"]
[null,"Nao"]
[null,"Nao"]
[null,"Nao"]
[null,"Nao"]
[null,"Nao"]
[null,"Nao"]
[null,"Nao"]
[null,"Nao"]
[null,"Nao"]
[null,"Nao"]
[null,"Nao"]
[null,"Nao"]
[null,"Nao"]
[null,"Nao"]
[null,"Nao"]
[null,"Nao"]
[null,"Nao"]
[null,"Nao"]
[null,"Nao"]
[null,"Nao"]
[null,{"$f":"IF(A1815>0,\"Offhire\",\"Nao\")","v":"Nao"}]
[null,"Nao"]
[null,"Nao"]
[null,"Nao"]
[null,"Nao"]
[null,"Nao"]
[null,"Nao"]
[null,"Nao"]
[null,"Nao"]
[null,"Nao"]
[null,"Nao"]
[null,"Nao"]
[null,"Nao"]
[null,"Nao"]
[null,"Nao"]
[null,"Nao"]
[null,"Nao"]
[null,"Nao"]
[null,"Nao"]
[null,"Nao"]
[null,"Nao"]
[null,"Nao"]
[null,"Nao"]
[null,"Nao"]
[null,"Nao"]
[null,"Nao"]
[null,"Nao"]
[null,"Nao"]
[null,"Nao"]
[null,"Nao"]
[null,"Nao"]
[null,"Nao"]
[null,"Nao"]
[null,"Nao"]
[null,"Nao"]
[null,"Nao"]
[null,"Nao"]
[null,"Nao"]
[null,"Nao"]
[null,"Nao"]
[null,"Nao"]
[null,"Nao"]
[null,"Nao"]
[null,"Nao"]
[null,"Nao"]
[null,"Nao"]
[null,"Nao"]
[null,"Nao"]
[null,"Nao"]
[null,"Nao"]
[null,"Nao"]
[null,"Nao"]
[null,"Nao"]
[null,"Nao"]
[null,"Nao"]
[null,"Nao"]
[null,"Nao"]
[null,"Nao"]
[null,"Nao"]
[null,"Nao"]
[null,"Nao"]
[null,"Nao"]
[null,"Nao"]
[null,"Nao"]
[null,{"$f":"IF(A1879>0,\"Offhire\",\"Nao\")","v":"Nao"}]
[null,"Nao"]
[null,"Nao"]
[null,"Nao"]
[null,"Nao"]
[null,"Nao"]
[null,"Nao"]
[null,"Nao"]
[null,"Nao"]
[null,"Nao"]
[null,"Nao"]
[null,"Nao"]
[null,"Nao"]
[null,"Nao"]
[null,"Nao"]
[null,"Nao"]
[null,"Nao"]
[null,"Nao"]
[null,"Nao"]
[null,"Nao"]
[null,"Nao"]
[null,"Nao"]
[null,"Nao"]
[null,"Nao"]
[null,"Nao"]
[null,"Nao"]
[null,"Nao"]
[null,"Nao"]
[null,"Nao"]
[null,"Nao"]
[null,"Nao"]
[null,"Nao"]
[null,"Nao"]
[null,"Nao"]
[null,"Nao"]
[null,"Nao"]
[null,"Nao"]
[null,"Nao"]
[null,"Nao"]
[null,"Nao"]
[null,"Nao"]
[null,"Nao"]
[null,"Nao"]
[null,"Nao"]
[null,"Nao"]
[null,"Nao"]
[null,"Nao"]
[null,"Nao"]
[null,"Nao"]
[null,"Nao"]
[null,"Nao"]
[null,"Nao"]
[null,"Nao"]
[null,"Nao"]
[null,"Nao"]
[null,"Nao"]
[null,"Nao"]
[null,"Nao"]
[null,"Nao"]
[null,"Nao"]
[null,"Nao"]
[null,"Nao"]
[null,"Nao"]
[null,"Nao"]
[null,{"$f":"IF(A1943>0,\"Offhire\",\"Nao\")","v":"Nao"}]
[null,"Nao"]
[null,"Nao"]
[null,"Nao"]
[null,"Nao"]
[null,"Nao"]
[null,"Nao"]
[null,"Nao"]
[null,"Nao"]
[null,"Nao"]
[null,"Nao"]
[null,"Nao"]
[null,"Nao"]
[null,"Nao"]
[null,"Nao"]
[null,"Nao"]
[null,"Nao"]
[null,"Nao"]
[null,"Nao"]
[null,"Nao"]
[null,"Nao"]
[null,"Nao"]
[null,"Nao"]
[null,"Nao"]
[null,"Nao"]
[null,"Nao"]
[null,"Nao"]
[null,"Nao"]
[null,"Nao"]
[null,"Nao"]
[null,"Nao"]
[null,"Nao"]
[null,"Nao"]
[null,"Nao"]
[null,"Nao"]
[null,"Nao"]
[null,"Nao"]
[null,"Nao"]
[null,"Nao"]
[null,"Nao"]
[null,"Nao"]
[null,"Nao"]
[null,"Nao"]
[null,"Nao"]
[null,"Nao"]
[null,"Nao"]
[null,"Nao"]
[null,"Nao"]
[null,"Nao"]
[null,"Nao"]
[null,"Nao"]
[null,"Nao"]
[null,"Nao"]
[null,"Nao"]
[null,"Nao"]
[null,"Nao"]
[null,"Nao"]
[null,"Nao"]
[null,"Nao"]
[null,"Nao"]
[null,"Nao"]
[null,"Nao"]
[null,"Nao"]
[null,"Nao"]
[null,{"$f":"IF(A2007>0,\"Offhire\",\"Nao\")","v":"Nao"}]
[null,"Nao"]
[null,"Nao"]
[null,"Nao"]
[null,"Nao"]
[null,"Nao"]
[null,"Nao"]
[null,"Nao"]
[null,"Nao"]
[null,"Nao"]
[null,"Nao"]
[null,"Nao"]
[null,"Nao"]
[null,"Nao"]
[null,"Nao"]
[null,"Nao"]
[null,"Nao"]
[null,"Nao"]
[null,"Nao"]
[null,"Nao"]
[null,"Nao"]
[null,"Nao"]
[null,"Nao"]
[null,"Nao"]
[null,"Nao"]
[null,"Nao"]
[null,"Nao"]
[null,"Nao"]
[null,"Nao"]
[null,"Nao"]
[null,"Nao"]
[null,"Nao"]
[null,"Nao"]
[null,"Nao"]
[null,"Nao"]
[null,"Nao"]
[null,"Nao"]
[null,"Nao"]
[null,"Nao"]
[null,"Nao"]
[null,"Nao"]
[null,"Nao"]
[null,"Nao"]
[null,"Nao"]
[null,"Nao"]
[null,"Nao"]
[null,"Nao"]
[null,"Nao"]
[null,"Nao"]
[null,"Nao"]
[null,"Nao"]
[null,"Nao"]
[null,"Nao"]
[null,"Nao"]
[null,"Nao"]
[null,"Nao"]
[null,"Nao"]
[null,"Nao"]
[null,"Nao"]
[null,"Nao"]
[null,"Nao"]
[null,"Nao"]
[null,"Nao"]
[null,"Nao"]
[null,{"$f":"IF(A2071>0,\"Offhire\",\"Nao\")","v":"Nao"}]
[null,"Nao"]
[null,"Nao"]
[null,"Nao"]
[null,"Nao"]
[null,"Nao"]
[null,"Nao"]
[null,"Nao"]
[null,"Nao"]
[null,"Nao"]
[null,"Nao"]
[null,"Nao"]
[null,"Nao"]
[null,"Nao"]
[null,"Nao"]
[null,"Nao"]
[null,"Nao"]
[null,"Nao"]
[null,"Nao"]
[null,"Nao"]
[null,"Nao"]
[null,"Nao"]
[null,"Nao"]
[null,"Nao"]
[null,"Nao"]
[null,"Nao"]
[null,"Nao"]
[null,"Nao"]
[null,"Nao"]
[null,"Nao"]
[null,"Nao"]
[null,"Nao"]
[null,"Nao"]
[null,"Nao"]
[null,"Nao"]
[null,"Nao"]
[null,"Nao"]
[null,"Nao"]
[null,"Nao"]
[null,"Nao"]
[null,"Nao"]
[null,"Nao"]
[null,"Nao"]
[null,"Nao"]
[null,"Nao"]
[null,"Nao"]
[null,"Nao"]
[null,"Nao"]
[null,"Nao"]
[null,"Nao"]
[null,"Nao"]
[null,"Nao"]
[null,"Nao"]
[null,"Nao"]
[null,"Nao"]
[null,"Nao"]
[null,"Nao"]
[null,"Nao"]
[null,"Nao"]
[null,"Nao"]
[null,"Nao"]
[null,"Nao"]
[null,"Nao"]
[null,"Nao"]
[null,{"$f":"IF(A2135>0,\"Offhire\",\"Nao\")","v":"Nao"}]
[null,"Nao"]
[null,"Nao"]
[null,"Nao"]
[null,"Nao"]
[null,"Nao"]
[null,"Nao"]
[null,"Nao"]
[null,"Nao"]
[null,"Nao"]
[null,"Nao"]
[null,"Nao"]
[null,"Nao"]
[null,"Nao"]
[null,"Nao"]
[null,"Nao"]
[null,"Nao"]
[null,"Nao"]
[null,"Nao"]
[null,"Nao"]
[null,"Nao"]
[null,"Nao"]
[null,"Nao"]
[null,"Nao"]
[null,"Nao"]
[null,"Nao"]
[null,"Nao"]
[null,"Nao"]
[null,"Nao"]
[null,"Nao"]
[null,"Nao"]
[null,"Nao"]
[null,"Nao"]
[null,"Nao"]
[null,"Nao"]
[null,"Nao"]
[null,"Nao"]
[null,"Nao"]
[null,"Nao"]
[null,"Nao"]
[null,"Nao"]
[null,"Nao"]
[null,"Nao"]
[null,"Nao"]
[null,"Nao"]
[null,"Nao"]
[null,"Nao"]
[null,"Nao"]
[null,"Nao"]
[null,"Nao"]
[null,"Nao"]
[null,"Nao"]
[null,"Nao"]
[null,"Nao"]
[null,"Nao"]
[null,"Nao"]
[null,"Nao"]
[null,"Nao"]
[null,"Nao"]
[null,"Nao"]
[null,"Nao"]
[null,"Nao"]
[null,"Nao"]
[null,"Nao"]
[null,{"$f":"IF(A2199>0,\"Offhire\",\"Nao\")","v":"Nao"}]
[null,"Nao"]
[null,"Nao"]
[null,"Nao"]
[null,"Nao"]
[null,"Nao"]
[null,"Nao"]
[null,"Nao"]
[null,"Nao"]
[null,"Nao"]
[null,"Nao"]
[null,"Nao"]
[null,"Nao"]
[null,"Nao"]
[null,"Nao"]
[null,"Nao"]
[null,"Nao"]
[null,"Nao"]
[null,"Nao"]
[null,"Nao"]
[null,"Nao"]
[null,"Nao"]
[null,"Nao"]
[null,"Nao"]
[null,"Nao"]
[null,"Nao"]
[null,"Nao"]
[null,"Nao"]
[null,"Nao"]
[null,"Nao"]
[null,"Nao"]
[null,"Nao"]
[null,"Nao"]
[null,"Nao"]
[null,"Nao"]
[null,"Nao"]
[null,"Nao"]
[null,"Nao"]
[null,"Nao"]
[null,"Nao"]
[null,"Nao"]
[null,"Nao"]
[null,"Nao"]
[null,"Nao"]
[null,"Nao"]
[null,"Nao"]
[null,"Nao"]
[null,"Nao"]
[null,"Nao"]
[null,"Nao"]
[null,"Nao"]
[null,"Nao"]
[null,"Nao"]
[null,"Nao"]
[null,"Nao"]
[null,"Nao"]
[null,"Nao"]
[null,"Nao"]
[null,"Nao"]
[null,"Nao"]
[null,"Nao"]
[null,"Nao"]
[null,"Nao"]
[null,"Nao"]
[null,{"$f":"IF(A2263>0,\"Offhire\",\"Nao\")","v":"Nao"}]
[null,"Nao"]
[null,"Nao"]
[null,"Nao"]
[null,"Nao"]
[null,"Nao"]
[null,"Nao"]
[null,"Nao"]
[null,"Nao"]
[null,"Nao"]
[null,"Nao"]
[null,"Nao"]
[null,"Nao"]
[null,"Nao"]
[null,"Nao"]
[null,"Nao"]
[null,"Nao"]
[null,"Nao"]
[null,"Nao"]
[null,"Nao"]
[null,"Nao"]
[null,"Nao"]
[null,"Nao"]
[null,"Nao"]
[null,"Nao"]
[null,"Nao"]
[null,"Nao"]
[null,"Nao"]
[null,"Nao"]
[null,"Nao"]
[null,"Nao"]
[null,"Nao"]
[null,"Nao"]
[null,"Nao"]
[null,"Nao"]
[null,"Nao"]
[null,"Nao"]
[null,"Nao"]
[null,"Nao"]
[null,"Nao"]
[null,"Nao"]
[null,"Nao"]
[null,"Nao"]
[null,"Nao"]
[null,"Nao"]
[null,"Nao"]
[null,"Nao"]
[null,"Nao"]
[null,"Nao"]
[null,"Nao"]
[null,"Nao"]
[null,"Nao"]
[null,"Nao"]
[null,"Nao"]
[null,"Nao"]
[null,"Nao"]
[null,"Nao"]
[null,"Nao"]
[null,"Nao"]
[null,"Nao"]
[null,"Nao"]
[null,"Nao"]
[null,"Nao"]
[null,"Nao"]
[null,{"$f":"IF(A2327>0,\"Offhire\",\"Nao\")","v":"Nao"}]
[null,"Nao"]
[null,"Nao"]
[null,"Nao"]
[null,"Nao"]
[null,"Nao"]
[null,"Nao"]
[null,"Nao"]
[null,"Nao"]
[null,"Nao"]
[null,"Nao"]
[null,"Nao"]
[null,"Nao"]
[null,"Nao"]
[null,"Nao"]
[null,"Nao"]
[null,"Nao"]
[null,"Nao"]
[null,"Nao"]
[null,"Nao"]
[null,"Nao"]
[null,"Nao"]
[null,"Nao"]
[null,"Nao"]
[null,"Nao"]
[null,"Nao"]
[null,"Nao"]
[null,"Nao"]
[null,"Nao"]
[null,"Nao"]
[null,"Nao"]
[null,"Nao"]
[null,"Nao"]
[null,"Nao"]
[null,"Nao"]
[null,"Nao"]
[null,"Nao"]
[null,"Nao"]
[null,"Nao"]
[null,"Nao"]
[null,"Nao"]
[null,"Nao"]
[null,"Nao"]
[null,"Nao"]
[null,"Nao"]
[null,"Nao"]
[null,"Nao"]
[null,"Nao"]
[null,"Nao"]
[null,"Nao"]
[null,"Nao"]
[null,"Nao"]
[null,"Nao"]
[null,"Nao"]
[null,"Nao"]
[null,"Nao"]
[null,"Nao"]
[null,"Nao"]
[null,"Nao"]
[null,"Nao"]
[null,"Nao"]
[null,"Nao"]
[null,"Nao"]
[null,"Nao"]
[null,{"$f":"IF(A2391>0,\"Offhire\",\"Nao\")","v":"Nao"}]
[null,"Nao"]
[null,"Nao"]
[null,"Nao"]
[null,"Nao"]
[null,"Nao"]
[null,"Nao"]
[null,"Nao"]
[null,"Nao"]
[null,"Nao"]
[null,"Nao"]
[null,"Nao"]
[null,"Nao"]
[null,"Nao"]
[null,"Nao"]
[null,"Nao"]
[null,"Nao"]
[null,"Nao"]
[null,"Nao"]
[null,"Nao"]
[null,"Nao"]
[null,"Nao"]
[null,"Nao"]
[null,"Nao"]
[null,"Nao"]
[null,"Nao"]
[null,"Nao"]
[null,"Nao"]
[null,"Nao"]
[null,"Nao"]
[null,"Nao"]
[null,"Nao"]
[null,"Nao"]
[null,"Nao"]
[null,"Nao"]
[null,"Nao"]
[null,"Nao"]
[null,"Nao"]
[null,"Nao"]
[null,"Nao"]
[null,"Nao"]
[null,"Nao"]
[null,"Nao"]
[null,"Nao"]
[null,"Nao"]
[null,"Nao"]
[null,"Nao"]
[null,"Nao"]
[null,"Nao"]
[null,"Nao"]
[null,"Nao"]
[null,"Nao"]
[null,"Nao"]
[null,"Nao"]
[null,"Nao"]
[null,"Nao"]
[null,"Nao"]
[null,"Nao"]
[null,"Nao"]
[null,"Nao"]
[null,"Nao"]
[null,"Nao"]
[null,"Nao"]
[null,"Nao"]
[null,{"$f":"IF(A2455>0,\"Offhire\",\"Nao\")","v":"Nao"}]
[null,"Nao"]
[null,"Nao"]
[null,"Nao"]
[null,"Nao"]
[null,"Nao"]
[null,"Nao"]
[null,"Nao"]
[null,"Nao"]
[null,"Nao"]
[null,"Nao"]
[null,"Nao"]
[null,"Nao"]
[null,"Nao"]
[null,"Nao"]
[null,"Nao"]
[null,"Nao"]
[null,"Nao"]
[null,"Nao"]
[null,"Nao"]
[null,"Nao"]
[null,"Nao"]
[null,"Nao"]
[null,"Nao"]
[null,"Nao"]
[null,"Nao"]
[null,"Nao"]
[null,"Nao"]
[null,"Nao"]
[null,"Nao"]
[null,"Nao"]
[null,"Nao"]
[null,"Nao"]
[null,"Nao"]
[null,"Nao"]
[null,"Nao"]
[null,"Nao"]
[null,"Nao"]
[null,"Nao"]
[null,"Nao"]
[null,"Nao"]
[null,"Nao"]
[null,"Nao"]
[null,"Nao"]
[null,"Nao"]
[null,"Nao"]
[null,"Nao"]
[null,"Nao"]
[null,"Nao"]
[null,"Nao"]
[null,"Nao"]
[null,"Nao"]
[null,"Nao"]
[null,"Nao"]
[null,"Nao"]
[null,"Nao"]
[null,"Nao"]
[null,"Nao"]
[null,"Nao"]
[null,"Nao"]
[null,"Nao"]
[null,"Nao"]
[null,"Nao"]
[null,"Nao"]
[null,{"$f":"IF(A2519>0,\"Offhire\",\"Nao\")","v":"Nao"}]
[null,"Nao"]
[null,"Nao"]
[null,"Nao"]
[null,"Nao"]
[null,"Nao"]
[null,"Nao"]
[null,"Nao"]
[null,"Nao"]
[null,"Nao"]
[null,"Nao"]
[null,"Nao"]
[null,"Nao"]
[null,"Nao"]
[null,"Nao"]
[null,"Nao"]
[null,"Nao"]
[null,"Nao"]
[null,"Nao"]
[null,"Nao"]
[null,"Nao"]
[null,"Nao"]
[null,"Nao"]
[null,"Nao"]
[null,"Nao"]
[null,"Nao"]
[null,"Nao"]
[null,"Nao"]
[null,"Nao"]
[null,"Nao"]
[null,"Nao"]
[null,"Nao"]
[null,"Nao"]
[null,"Nao"]
[null,"Nao"]
[null,"Nao"]
[null,"Nao"]
[null,"Nao"]
[null,"Nao"]
[null,"Nao"]
[null,"Nao"]
[null,"Nao"]
[null,"Nao"]
[null,"Nao"]
[null,"Nao"]
[null,"Nao"]
[null,"Nao"]
[null,"Nao"]
[null,"Nao"]
[null,"Nao"]
[null,"Nao"]
[null,"Nao"]
[null,"Nao"]
[null,"Nao"]
[null,"Nao"]
[null,"Nao"]
[null,"Nao"]
[null,"Nao"]
[null,"Nao"]
[null,"Nao"]
[null,"Nao"]
[null,"Nao"]
[null,"Nao"]
[null,"Nao"]
[null,{"$f":"IF(A2583>0,\"Offhire\",\"Nao\")","v":"Nao"}]
[null,"Nao"]
[null,"Nao"]
[null,"Nao"]
[null,"Nao"]
[null,"Nao"]
[null,"Nao"]
[null,"Nao"]
[null,"Nao"]
[null,"Nao"]
[null,"Nao"]
[null,"Nao"]
[null,"Nao"]
[null,"Nao"]
[null,"Nao"]
[null,"Nao"]
[null,"Nao"]
[null,"Nao"]
[null,"Nao"]
[null,"Nao"]
[null,"Nao"]
[null,"Nao"]
[null,"Nao"]
[null,"Nao"]
[null,"Nao"]
[null,"Nao"]
[null,"Nao"]
[null,"Nao"]
[null,"Nao"]
[null,"Nao"]
[null,"Nao"]
[null,"Nao"]
[null,"Nao"]
[null,"Nao"]
[null,"Nao"]
[null,"Nao"]
[null,"Nao"]
[null,"Nao"]
[null,"Nao"]
[null,"Nao"]
[null,"Nao"]
[null,"Nao"]
[null,"Nao"]
[null,"Nao"]
[null,"Nao"]
[null,"Nao"]
[null,"Nao"]
[null,"Nao"]
[null,"Nao"]
[null,"Nao"]
[null,"Nao"]
[null,"Nao"]
[null,"Nao"]
[null,"Nao"]
[null,"Nao"]
[null,"Nao"]
[null,"Nao"]
[null,"Nao"]
[null,"Nao"]
[null,"Nao"]
[null,"Nao"]
[null,"Nao"]
[null,"Nao"]
[null,"Nao"]
[null,{"$f":"IF(A2647>0,\"Offhire\",\"Nao\")","v":"Nao"}]
[null,"Nao"]
[null,"Nao"]
[null,"Nao"]
[null,"Nao"]
[null,"Nao"]
[null,"Nao"]
[null,"Nao"]
[null,"Nao"]
[null,"Nao"]
[null,"Nao"]
[null,"Nao"]
[null,"Nao"]
[null,"Nao"]
[null,"Nao"]
[null,"Nao"]
[null,"Nao"]
[null,"Nao"]
[null,"Nao"]
[null,"Nao"]
[null,"Nao"]
[null,"Nao"]
[null,"Nao"]
[null,"Nao"]
[null,"Nao"]
[null,"Nao"]
[null,"Nao"]
[null,"Nao"]
[null,"Nao"]
[null,"Nao"]
[null,"Nao"]
[null,"Nao"]
[null,"Nao"]
[null,"Nao"]
[null,"Nao"]
[null,"Nao"]
[null,"Nao"]
[null,"Nao"]
[null,"Nao"]
[null,"Nao"]
[null,"Nao"]
[null,"Nao"]
[null,"Nao"]
[null,"Nao"]
[null,"Nao"]
[null,"Nao"]
[null,"Nao"]
[null,"Nao"]
[null,"Nao"]
[null,"Nao"]
[null,"Nao"]
[null,"Nao"]
[null,"Nao"]
[null,"Nao"]
[null,"Nao"]
[null,"Nao"]
[null,"Nao"]
[null,"Nao"]
[null,"Nao"]
[null,"Nao"]
[null,"Nao"]
[null,"Nao"]
[null,"Nao"]
[null,"Nao"]
[null,{"$f":"IF(A2711>0,\"Offhire\",\"Nao\")","v":"Nao"}]
[null,"Nao"]
[null,"Nao"]
[null,"Nao"]
[null,"Nao"]
[null,"Nao"]
[null,"Nao"]
[null,"Nao"]
[null,"Nao"]
[null,"Nao"]
[null,"Nao"]
[null,"Nao"]
[null,"Nao"]
[null,"Nao"]
[null,"Nao"]
[null,"Nao"]
[null,"Nao"]
[null,"Nao"]
[null,"Nao"]
[null,"Nao"]
[null,"Nao"]
[null,"Nao"]
[null,"Nao"]
[null,"Nao"]
[null,"Nao"]
[null,"Nao"]
[null,"Nao"]
[null,"Nao"]
[null,"Nao"]
[null,"Nao"]
[null,"Nao"]
[null,"Nao"]
[null,"Nao"]
[null,"Nao"]
[null,"Nao"]
[null,"Nao"]
[null,"Nao"]
[null,"Nao"]
[null,"Nao"]
[null,"Nao"]
[null,"Nao"]
[null,"Nao"]
[null,"Nao"]
[null,"Nao"]
[null,"Nao"]
[null,"Nao"]
[null,"Nao"]
[null,"Nao"]
[null,"Nao"]
[null,"Nao"]
[null,"Nao"]
[null,"Nao"]
[null,"Nao"]
[null,"Nao"]
[null,"Nao"]
[null,"Nao"]
[null,"Nao"]
[null,"Nao"]
[null,"Nao"]
[null,"Nao"]
[null,"Nao"]
[null,"Nao"]
[null,"Nao"]
[null,"Nao"]
[null,{"$f":"IF(A2775>0,\"Offhire\",\"Nao\")","v":"Nao"}]
[null,"Nao"]
[null,"Nao"]
[null,"Nao"]
[null,"Nao"]
[null,"Nao"]
[null,"Nao"]
[null,"Nao"]
[null,"Nao"]
[null,"Nao"]
[null,"Nao"]
[null,"Nao"]
[null,"Nao"]
[null,"Nao"]
[null,"Nao"]
[null,"Nao"]
[null,"Nao"]
[null,"Nao"]
[null,"Nao"]
[null,"Nao"]
[null,"Nao"]
[null,"Nao"]
[null,"Nao"]
[null,"Nao"]
[null,"Nao"]
[null,"Nao"]
[null,"Nao"]
[null,"Nao"]
[null,"Nao"]
[null,"Nao"]
[null,"Nao"]
[null,"Nao"]
[null,"Nao"]
[null,"Nao"]
[null,"Nao"]
[null,"Nao"]
[null,"Nao"]
[null,"Nao"]
[null,"Nao"]
[null,"Nao"]
[null,"Nao"]
[null,"Nao"]
[null,"Nao"]
[null,"Nao"]
[null,"Nao"]
[null,"Nao"]
[null,"Nao"]
[null,"Nao"]
[null,"Nao"]
[null,"Nao"]
[null,"Nao"]
[null,"Nao"]
[null,"Nao"]
[null,"Nao"]
[null,"Nao"]
[null,"Nao"]
[null,"Nao"]
[null,"Nao"]
[null,"Nao"]
[null,"Nao"]
[null,"Nao"]
[null,"Nao"]
[null,"Nao"]
[null,"Nao"]
[null,{"$f":"IF(A2839>0,\"Offhire\",\"Nao\")","v":"Nao"}]
[null,"Nao"]
[null,"Nao"]
[null,"Nao"]
[null,"Nao"]
[null,"Nao"]
[null,"Nao"]
[null,"Nao"]
[null,"Nao"]
[null,"Nao"]
[null,"Nao"]
[null,"Nao"]
[null,"Nao"]
[null,"Nao"]
[null,"Nao"]
[null,"Nao"]
[null,"Nao"]
[null,"Nao"]
[null,"Nao"]
[null,"Nao"]
[null,"Nao"]
[null,"Nao"]
[null,"Nao"]
[null,"Nao"]
[null,"Nao"]
[null,"Nao"]
[null,"Nao"]
[null,"Nao"]
[null,"Nao"]
[null,"Nao"]
[null,"Nao"]
[null,"Nao"]
[null,"Nao"]
[null,"Nao"]
[null,"Nao"]
[null,"Nao"]
[null,"Nao"]
[null,"Nao"]
[null,"Nao"]
[null,"Nao"]
[null,"Nao"]
[null,"Nao"]
[null,"Nao"]
[null,"Nao"]
[null,"Nao"]
[null,"Nao"]
[null,"Nao"]
[null,"Nao"]
[null,"Nao"]
[null,"Nao"]
[null,"Nao"]
[null,"Nao"]
[null,"Nao"]
[null,"Nao"]
[null,"Nao"]
[null,"Nao"]
[null,"Nao"]
[null,"Nao"]
[null,"Nao"]
[null,"Nao"]
[null,"Nao"]
[null,"Nao"]
[null,"Nao"]
[null,"Nao"]
[null,{"$f":"IF(A2903>0,\"Offhire\",\"Nao\")","v":"Nao"}]
[null,"Nao"]
[null,"Nao"]
[null,"Nao"]
[null,"Nao"]
[null,"Nao"]
[null,"Nao"]
[null,"Nao"]
[null,"Nao"]
[null,"Nao"]
[null,"Nao"]
[null,"Nao"]
[null,"Nao"]
[null,"Nao"]
[null,"Nao"]
[null,"Nao"]
[null,"Nao"]
[null,"Nao"]
[null,"Nao"]
[null,"Nao"]
[null,"Nao"]
[null,"Nao"]
[null,"Nao"]
[null,"Nao"]
[null,"Nao"]
[null,"Nao"]
[null,"Nao"]
[null,"Nao"]
[null,"Nao"]
[null,"Nao"]
[null,"Nao"]
[null,"Nao"]
[null,"Nao"]
[null,"Nao"]
[null,"Nao"]
[null,"Nao"]
[null,"Nao"]
[null,"Nao"]
[null,"Nao"]
[null,"Nao"]
[null,"Nao"]
[null,"Nao"]
[null,"Nao"]
[null,"Nao"]
[null,"Nao"]
[null,"Nao"]
[null,"Nao"]
[null,"Nao"]
[null,"Nao"]
[null,"Nao"]
[null,"Nao"]
[null,"Nao"]
[null,"Nao"]
[null,"Nao"]
[null,"Nao"]
[null,"Nao"]
[null,"Nao"]
[null,"Nao"]
[null,"Nao"]
[null,"Nao"]
[null,"Nao"]
[null,"Nao"]
[null,"Nao"]
[null,"Nao"]
[null,{"$f":"IF(A2967>0,\"Offhire\",\"Nao\")","v":"Nao"}]
[null,"Nao"]
[null,"Nao"]
[null,"Nao"]
[null,"Nao"]
[null,"Nao"]
[null,"Nao"]
[null,"Nao"]
[null,"Nao"]
[null,"Nao"]
[null,"Nao"]
[null,"Nao"]
[null,"Nao"]
[null,"Nao"]
[null,"Nao"]
[null,"Nao"]
[null,"Nao"]
[null,"Nao"]
[null,"Nao"]
[null,"Nao"]
[null,"Nao"]
[null,"Nao"]
[null,"Nao"]
[null,"Nao"]
[null,"Nao"]
[null,"Nao"]
[null,"Nao"]
[null,"Nao"]
[null,"Nao"]
[null,"Nao"]
[null,"Nao"]
[null,"Nao"]
[null,"Nao"]
[null,"Nao"]
[null,"Nao"]
[null,"Nao"]
[null,"Nao"]
[null,"Nao"]
[null,"Nao"]
[null,"Nao"]
[null,"Nao"]
[null,"Nao"]
[null,"Nao"]
[null,"Nao"]
[null,"Nao"]
[null,"Nao"]
[null,"Nao"]
[null,"Nao"]
[null,"Nao"]
[null,"Nao"]
[null,"Nao"]
[null,"Nao"]
[null,"Nao"]
[null,"Nao"]
[null,"Nao"]
[null,"Nao"]
[null,"Nao"]
[null,"Nao"]
[null,"Nao"]
[null,"Nao"]
[null,"Nao"]
[null,"Nao"]
[null,"Nao"]
[null,"Nao"]
[null,{"$f":"IF(A3031>0,\"Offhire\",\"Nao\")","v":"Nao"}]
[null,"Nao"]
[null,"Nao"]
[null,"Nao"]
[null,"Nao"]
[null,"Nao"]
[null,"Nao"]
[null,"Nao"]
[null,"Nao"]
[null,"Nao"]
[null,"Nao"]
[null,"Nao"]
[null,"Nao"]
[null,"Nao"]
[null,"Nao"]
[null,"Nao"]
[null,"Nao"]
[null,"Nao"]
[null,"Nao"]
[null,"Nao"]
[null,"Nao"]
[null,"Nao"]
[null,"Nao"]
[null,"Nao"]
[null,"Nao"]
[null,"Nao"]
[null,"Nao"]
[null,"Nao"]
[null,"Nao"]
[null,"Nao"]
[null,"Nao"]
[null,"Nao"]
[null,"Nao"]
[null,"Nao"]
[null,"Nao"]
[null,"Nao"]
[null,"Nao"]
[null,"Nao"]
[null,"Nao"]
[null,"Nao"]
[null,"Nao"]
[null,"Nao"]
[null,"Nao"]
[null,"Nao"]
[null,"Nao"]
[null,"Nao"]
[null,"Nao"]
[null,"Nao"]
[null,"Nao"]
[null,"Nao"]
[null,"Nao"]
[null,"Nao"]
[null,"Nao"]
[null,"Nao"]
[null,"Nao"]
[null,"Nao"]
[null,"Nao"]
[null,"Nao"]
[null,"Nao"]
[null,"Nao"]
[null,"Nao"]
[null,"Nao"]
[null,"Nao"]
[null,"Nao"]
[null,{"$f":"IF(A3095>0,\"Offhire\",\"Nao\")","v":"Nao"}]
[null,"Nao"]
[null,"Nao"]
[null,"Nao"]
[null,"Nao"]
[null,"Nao"]
[null,"Nao"]
[null,"Nao"]
[null,"Nao"]
[null,"Nao"]
[null,"Nao"]
[null,"Nao"]
[null,"Nao"]
[null,"Nao"]
[null,"Nao"]
[null,"Nao"]
[null,"Nao"]
[null,"Nao"]
[null,"Nao"]
[null,"Nao"]
[null,"Nao"]
[null,"Nao"]
[null,"Nao"]
[null,"Nao"]
[null,"Nao"]
[null,"Nao"]
[null,"Nao"]
[null,"Nao"]
[null,"Nao"]
[null,"Nao"]
[null,"Nao"]
[null,"Nao"]
[null,"Nao"]
[null,"Nao"]
[null,"Nao"]
[null,"Nao"]
[null,"Nao"]
[null,"Nao"]
[null,"Nao"]
[null,"Nao"]
[null,"Nao"]
[null,"Nao"]
[null,"Nao"]
[null,"Nao"]
[null,"Nao"]
[null,"Nao"]
[null,"Nao"]
[null,"Nao"]
[null,"Nao"]
[null,"Nao"]
[null,"Nao"]
[null,"Nao"]
[null,"Nao"]
[null,"Nao"]
[null,"Nao"]
[null,"Nao"]
[null,"Nao"]
[null,"Nao"]
[null,"Nao"]
[null,"Nao"]
[null,"Nao"]
[null,"Nao"]
[null,"Nao"]
[null,"Nao"]
[null,{"$f":"IF(A3159>0,\"Offhire\",\"Nao\")","v":"Nao"}]
[null,"Nao"]
[null,"Nao"]
[null,"Nao"]
[null,"Nao"]
[null,"Nao"]
[null,"Nao"]
[null,"Nao"]
[null,"Nao"]
[null,"Nao"]
[null,"Nao"]
[null,"Nao"]
[null,"Nao"]
[null,"Nao"]
[null,"Nao"]
[null,"Nao"]
[null,"Nao"]
[null,"Nao"]
[null,"Nao"]
[null,"Nao"]
[null,"Nao"]
[null,"Nao"]
[null,"Nao"]
[null,"Nao"]
[null,"Nao"]
[null,"Nao"]
[null,"Nao"]
[null,"Nao"]
[null,"Nao"]
[null,"Nao"]
[null,"Nao"]
[null,"Nao"]
[null,"Nao"]
[null,"Nao"]
[null,"Nao"]
[null,"Nao"]
[null,"Nao"]
[null,"Nao"]
[null,"Nao"]
[null,"Nao"]
[null,"Nao"]
[null,"Nao"]
[null,"Nao"]
[null,"Nao"]
[null,"Nao"]
[null,"Nao"]
[null,"Nao"]
[null,"Nao"]
[null,"Nao"]
[null,"Nao"]
[null,"Nao"]
[null,"Nao"]
[null,"Nao"]
[null,"Nao"]
[null,"Nao"]
[null,"Nao"]
[null,"Nao"]
[null,"Nao"]
[null,"Nao"]
[null,"Nao"]
[null,"Nao"]
[null,"Nao"]
[null,"Nao"]
[null,"Nao"]
[null,{"$f":"IF(A3223>0,\"Offhire\",\"Nao\")","v":"Nao"}]
[null,"Nao"]
[null,"Nao"]
[null,"Nao"]
[null,"Nao"]
[null,"Nao"]
[null,"Nao"]
[null,"Nao"]
[null,"Nao"]
[null,"Nao"]
[null,"Nao"]
[null,"Nao"]
[null,"Nao"]
[null,"Nao"]
[null,"Nao"]
[null,"Nao"]
[null,"Nao"]
[null,"Nao"]
[null,"Nao"]
[null,"Nao"]
[null,"Nao"]
[null,"Nao"]
[null,"Nao"]
[null,"Nao"]
[null,"Nao"]
[null,"Nao"]
[null,"Nao"]
[null,"Nao"]
[null,"Nao"]
[null,"Nao"]
[null,"Nao"]
[null,"Nao"]
[null,"Nao"]
[null,"Nao"]
[null,"Nao"]
[null,"Nao"]
[null,"Nao"]
[null,"Nao"]
[null,"Nao"]
[null,"Nao"]
[null,"Nao"]
[null,"Nao"]
[null,"Nao"]
[null,"Nao"]
[null,"Nao"]
[null,"Nao"]
[null,"Nao"]
[null,"Nao"]
[null,"Nao"]
[null,"Nao"]
[null,"Nao"]
[null,"Nao"]
[null,"Nao"]
[null,"Nao"]
[null,"Nao"]
[null,"Nao"]
[null,"Nao"]
[null,"Nao"]
[null,"Nao"]
[null,"Nao"]
[null,"Nao"]
[null,"Nao"]
[null,"Nao"]
[null,"Nao"]
[null,{"$f":"IF(A3287>0,\"Offhire\",\"Nao\")","v":"Nao"}]
[null,"Nao"]
[null,"Nao"]
[null,"Nao"]
[null,"Nao"]
[null,"Nao"]
[null,"Nao"]
[null,"Nao"]
[null,"Nao"]
[null,"Nao"]
[null,"Nao"]
[null,"Nao"]
[null,"Nao"]
[null,"Nao"]
[null,"Nao"]
[null,"Nao"]
[null,"Nao"]
[null,"Nao"]
[null,"Nao"]
[null,"Nao"]
[null,"Nao"]
[null,"Nao"]
[null,"Nao"]
[null,"Nao"]
[null,"Nao"]
[null,"Nao"]
[null,"Nao"]
[null,"Nao"]
[null,"Nao"]
[null,"Nao"]
[null,"Nao"]
[null,"Nao"]
[null,"Nao"]
[null,"Nao"]
[null,"Nao"]
[null,"Nao"]
[null,"Nao"]
[null,"Nao"]
[null,"Nao"]
[null,"Nao"]
[null,"Nao"]
[null,"Nao"]
[null,"Nao"]
[null,"Nao"]
[null,"Nao"]
[null,"Nao"]
[null,"Nao"]
[null,"Nao"]
[null,"Nao"]
[null,"Nao"]
[null,"Nao"]
[null,"Nao"]
[null,"Nao"]
[null,"Nao"]
[null,"Nao"]
[null,"Nao"]
[null,"Nao"]
[null,"Nao"]
[null,"Nao"]
[null,"Nao"]
[null,"Nao"]
[null,"Nao"]
[null,"Nao"]
[null,"Nao"]
[null,{"$f":"IF(A3351>0,\"Offhire\",\"Nao\")","v":"Nao"}]
[null,"Nao"]
[null,"Nao"]
[null,"Nao"]
[null,"Nao"]
[null,"Nao"]
[null,"Nao"]
[null,"Nao"]
[null,"Nao"]
[null,"Nao"]
[null,"Nao"]
[null,"Nao"]
[null,"Nao"]
[null,"Nao"]
[null,"Nao"]
[null,"Nao"]
[null,"Nao"]
[null,"Nao"]
[null,"Nao"]
[null,"Nao"]
[null,"Nao"]
[null,"Nao"]
[null,"Nao"]
[null,"Nao"]
[null,"Nao"]
[null,"Nao"]
[null,"Nao"]
[null,"Nao"]
[null,"Nao"]
[null,"Nao"]
[null,"Nao"]
[null,"Nao"]
[null,"Nao"]
[null,"Nao"]
[null,"Nao"]
[null,"Nao"]
[null,"Nao"]
[null,"Nao"]
[null,"Nao"]
[null,"Nao"]
[null,"Nao"]
[null,"Nao"]
[null,"Nao"]
[null,"Nao"]
[null,"Nao"]
[null,"Nao"]
[null,"Nao"]
[null,"Nao"]
[null,"Nao"]
[null,"Nao"]
[null,"Nao"]
[null,"Nao"]
[null,"Nao"]
[null,"Nao"]
[null,"Nao"]
[null,"Nao"]
[null,"Nao"]
[null,"Nao"]
[null,"Nao"]
[null,"Nao"]
[null,"Nao"]
[null,"Nao"]
[null,"Nao"]
[null,"Nao"]
[null,{"$f":"IF(A3415>0,\"Offhire\",\"Nao\")","v":"Nao"}]
[null,"Nao"]
[null,"Nao"]
[null,"Nao"]
[null,"Nao"]
[null,"Nao"]
[null,"Nao"]
[null,"Nao"]
[null,"Nao"]
[null,"Nao"]
[null,"Nao"]
[null,"Nao"]
[null,"Nao"]
[null,"Nao"]
[null,"Nao"]
[null,"Nao"]
[null,"Nao"]
[null,"Nao"]
[null,"Nao"]
[null,"Nao"]
[null,"Nao"]
[null,"Nao"]
[null,"Nao"]
[null,"Nao"]
[null,"Nao"]
[null,"Nao"]
[null,"Nao"]
[null,"Nao"]
[null,"Nao"]
[null,"Nao"]
[null,"Nao"]
[null,"Nao"]
[null,"Nao"]
[null,"Nao"]
[null,"Nao"]
[null,"Nao"]
[null,"Nao"]
[null,"Nao"]
[null,"Nao"]
[null,"Nao"]
[null,"Nao"]
[null,"Nao"]
[null,"Nao"]
[null,"Nao"]
[null,"Nao"]
[null,"Nao"]
[null,"Nao"]
[null,"Nao"]
[null,"Nao"]
[null,"Nao"]
[null,"Nao"]
[null,"Nao"]
[null,"Nao"]
[null,"Nao"]
[null,"Nao"]
[null,"Nao"]
[null,"Nao"]
[null,"Nao"]
[null,"Nao"]
[null,"Nao"]
[null,"Nao"]
[null,"Nao"]
[null,"Nao"]
[null,"Nao"]
[null,{"$f":"IF(A3479>0,\"Offhire\",\"Nao\")","v":"Nao"}]
[null,"Nao"]
[null,"Nao"]
[null,"Nao"]
[null,"Nao"]
[null,"Nao"]
[null,"Nao"]
[null,"Nao"]
[null,"Nao"]
[null,"Nao"]
[null,"Nao"]
[null,"Nao"]
[null,"Nao"]
[null,"Nao"]
[null,"Nao"]
[null,"Nao"]
[null,"Nao"]
[null,"Nao"]
[null,"Nao"]
[null,"Nao"]
[null,"Nao"]
[null,"Nao"]
[null,"Nao"]
[null,"Nao"]
[null,"Nao"]
[null,"Nao"]
[null,"Nao"]
[null,"Nao"]
[null,"Nao"]
[null,"Nao"]
[null,"Nao"]
[null,"Nao"]
[null,"Nao"]
[null,"Nao"]
[null,"Nao"]
[null,"Nao"]
[null,"Nao"]
[null,"Nao"]
[null,"Nao"]
[null,"Nao"]
[null,"Nao"]
[null,"Nao"]
[null,"Nao"]
[null,"Nao"]
[null,"Nao"]
[null,"Nao"]
[null,"Nao"]
[null,"Nao"]
[null,"Nao"]
[null,"Nao"]
[null,"Nao"]
[null,"Nao"]
[null,"Nao"]
[null,"Nao"]
[null,"Nao"]
[null,"Nao"]
[null,"Nao"]
[null,"Nao"]
[null,"Nao"]
[null,"Nao"]
[null,"Nao"]
[null,"Nao"]
[null,"Nao"]
[null,"Nao"]
[null,{"$f":"IF(A3543>0,\"Offhire\",\"Nao\")","v":"Nao"}]
[null,"Nao"]
[null,"Nao"]
[null,"Nao"]
[null,"Nao"]
[null,"Nao"]
[null,"Nao"]
[null,"Nao"]
[null,"Nao"]
[null,"Nao"]
[null,"Nao"]
[null,"Nao"]
[null,"Nao"]
[null,"Nao"]
[null,"Nao"]
[null,"Nao"]
[null,"Nao"]
[null,"Nao"]
[null,"Nao"]
[null,"Nao"]
[null,"Nao"]
[null,"Nao"]
[null,"Nao"]
[null,"Nao"]
[null,"Nao"]
[null,"Nao"]
[null,"Nao"]
[null,"Nao"]
[null,"Nao"]
[null,"Nao"]
[null,"Nao"]
[null,"Nao"]
[null,"Nao"]
[null,"Nao"]
[null,"Nao"]
[null,"Nao"]
[null,"Nao"]
[null,"Nao"]
[null,"Nao"]
[null,"Nao"]
[null,"Nao"]
[null,"Nao"]
[null,"Nao"]
[null,"Nao"]
[null,"Nao"]
[null,"Nao"]
[null,"Nao"]
[null,"Nao"]
[null,"Nao"]
[null,"Nao"]
[null,"Nao"]
[null,"Nao"]
[null,"Nao"]
[null,"Nao"]
[null,"Nao"]
[null,"Nao"]
[null,"Nao"]
[null,"Nao"]
[null,"Nao"]
[null,"Nao"]
[null,"Nao"]
[null,"Nao"]
[null,"Nao"]
[null,"Nao"]
[null,{"$f":"IF(A3607>0,\"Offhire\",\"Nao\")","v":"Nao"}]
[null,"Nao"]
[null,"Nao"]
[null,"Nao"]
[null,"Nao"]
[null,"Nao"]
[null,"Nao"]
[null,"Nao"]
[null,"Nao"]
[null,"Nao"]
[null,"Nao"]
[null,"Nao"]
[null,"Nao"]
[null,"Nao"]
[null,"Nao"]
[null,"Nao"]
[null,"Nao"]
[null,"Nao"]
[null,"Nao"]
[null,"Nao"]
[null,"Nao"]
[null,"Nao"]
[null,"Nao"]
[null,"Nao"]
[null,"Nao"]
[null,"Nao"]
[null,"Nao"]
[null,"Nao"]
[null,"Nao"]
[null,"Nao"]
[null,"Nao"]
[null,"Nao"]
[null,"Nao"]
[null,"Nao"]
[null,"Nao"]
[null,"Nao"]
[null,"Nao"]
[null,"Nao"]
[null,"Nao"]
[null,"Nao"]
[null,"Nao"]
[null,"Nao"]
[null,"Nao"]
[null,"Nao"]
[null,"Nao"]
[null,"Nao"]
[null,"Nao"]
[null,"Nao"]
[null,"Nao"]
[null,"Nao"]
[null,"Nao"]
[null,"Nao"]
[null,"Nao"]
[null,"Nao"]
[null,"Nao"]
[null,"Nao"]
[null,"Nao"]
[null,"Nao"]
[null,"Nao"]
[null,"Nao"]
[null,"Nao"]
[null,"Nao"]
[null,"Nao"]
[null,"Nao"]
[null,{"$f":"IF(A3671>0,\"Offhire\",\"Nao\")","v":"Nao"}]
[null,"Nao"]
[null,"Nao"]
[null,"Nao"]
[null,"Nao"]
[null,"Nao"]
[null,"Nao"]
[null,"Nao"]
[null,"Nao"]
[null,"Nao"]
[null,"Nao"]
[null,"Nao"]
[null,"Nao"]
[null,"Nao"]
[null,"Nao"]
[null,"Nao"]
[null,"Nao"]
[null,"Nao"]
[null,"Nao"]
[null,"Nao"]
[null,"Nao"]
[null,"Nao"]
[null,"Nao"]
[null,"Nao"]
[null,"Nao"]
[null,"Nao"]
[null,"Nao"]
[null,"Nao"]
[null,"Nao"]
[null,"Nao"]
[null,"Nao"]
[null,"Nao"]
[null,"Nao"]
[null,"Nao"]
[null,"Nao"]
[null,"Nao"]
[null,"Nao"]
[null,"Nao"]
[null,"Nao"]
[null,"Nao"]
[null,"Nao"]
[null,"Nao"]
[null,"Nao"]
[null,"Nao"]
[null,"Nao"]
[null,"Nao"]
[null,"Nao"]
[null,"Nao"]
[null,"Nao"]
[null,"Nao"]
[null,"Nao"]
[null,"Nao"]
[null,"Nao"]
[null,"Nao"]
[null,"Nao"]
[null,"Nao"]
[null,"Nao"]
[null,"Nao"]
[null,"Nao"]
[null,"Nao"]
[null,"Nao"]
[null,"Nao"]
[null,"Nao"]
[null,"Nao"]
[null,{"$f":"IF(A3735>0,\"Offhire\",\"Nao\")","v":"Nao"}]
[null,"Nao"]
[null,"Nao"]
[null,"Nao"]
[null,"Nao"]
[null,"Nao"]
[null,"Nao"]
[null,"Nao"]
[null,"Nao"]
[null,"Nao"]
[null,"Nao"]
[null,"Nao"]
[null,"Nao"]
[null,"Nao"]
[null,"Nao"]
[null,"Nao"]
[null,"Nao"]
[null,"Nao"]
[null,"Nao"]
[null,"Nao"]
[null,"Nao"]
[null,"Nao"]
[null,"Nao"]
[null,"Nao"]
[null,"Nao"]
[null,"Nao"]
[null,"Nao"]
[null,"Nao"]
[null,"Nao"]
[null,"Nao"]
[null,"Nao"]
[null,"Nao"]
[null,"Nao"]
[null,"Nao"]
[null,"Nao"]
[null,"Nao"]
[null,"Nao"]
[null,"Nao"]
[null,"Nao"]
[null,"Nao"]
[null,"Nao"]
[null,"Nao"]
[null,"Nao"]
[null,"Nao"]
[null,"Nao"]
[null,"Nao"]
[null,"Nao"]
[null,"Nao"]
[null,"Nao"]
[null,"Nao"]
[null,"Nao"]
[null,"Nao"]
[null,"Nao"]
[null,"Nao"]
[null,"Nao"]
[null,"Nao"]
[null,"Nao"]
[null,"Nao"]
[null,"Nao"]
[null,"Nao"]
[null,"Nao"]
[null,"Nao"]
[null,"Nao"]
[null,"Nao"]
[null,{"$f":"IF(A3799>0,\"Offhire\",\"Nao\")","v":"Nao"}]
[null,"Nao"]
[null,"Nao"]
[null,"Nao"]
[null,"Nao"]
[null,"Nao"]
[null,"Nao"]
[null,"Nao"]
[null,"Nao"]
[null,"Nao"]
[null,"Nao"]
[null,"Nao"]
[null,"Nao"]
[null,"Nao"]
[null,"Nao"]
[null,"Nao"]
[null,"Nao"]
[null,"Nao"]
[null,"Nao"]
[null,"Nao"]
[null,"Nao"]
[null,"Nao"]
[null,"Nao"]
[null,"Nao"]
[null,"Nao"]
[null,"Nao"]
[null,"Nao"]
[null,"Nao"]
[null,"Nao"]
[null,"Nao"]
[null,"Nao"]
[null,"Nao"]
[null,"Nao"]
[null,"Nao"]
[null,"Nao"]
[null,"Nao"]
[null,"Nao"]
[null,"Nao"]
[null,"Nao"]
[null,"Nao"]
[null,"Nao"]
[null,"Nao"]
[null,"Nao"]
[null,"Nao"]
[null,"Nao"]
[null,"Nao"]
[null,"Nao"]
[null,"Nao"]
[null,"Nao"]
[null,"Nao"]
[null,"Nao"]
[null,"Nao"]
[null,"Nao"]
[null,"Nao"]
[null,"Nao"]
[null,"Nao"]
[null,"Nao"]
[null,"Nao"]
[null,"Nao"]
[null,"Nao"]
[null,"Nao"]
[null,"Nao"]
[null,"Nao"]
[null,"Nao"]
[null,{"$f":"IF(A3863>0,\"Offhire\",\"Nao\")","v":"Nao"}]
[null,"Nao"]
[null,"Nao"]
[null,"Nao"]
[null,"Nao"]
[null,"Nao"]
[null,"Nao"]
[null,"Nao"]
[null,"Nao"]
[null,"Nao"]
[null,"Nao"]
[null,"Nao"]
[null,"Nao"]
[null,"Nao"]
[null,"Nao"]
[null,"Nao"]
[null,"Nao"]
[null,"Nao"]
[null,"Nao"]
[null,"Nao"]
[null,"Nao"]
[null,"Nao"]
[null,"Nao"]
[null,"Nao"]
[null,"Nao"]
[null,"Nao"]
[null,"Nao"]
[null,"Nao"]
[null,"Nao"]
[null,"Nao"]
[null,"Nao"]
[null,"Nao"]
[null,"Nao"]
[null,"Nao"]
[null,"Nao"]
[null,"Nao"]
[null,"Nao"]
[null,"Nao"]
[null,"Nao"]
[null,"Nao"]
[null,"Nao"]
[null,"Nao"]
[null,"Nao"]
[null,"Nao"]
[null,"Nao"]
[null,"Nao"]
[null,"Nao"]
[null,"Nao"]
[null,"Nao"]
[null,"Nao"]
[null,"Nao"]
[null,"Nao"]
[null,"Nao"]
[null,"Nao"]
[null,"Nao"]
[null,"Nao"]
[null,"Nao"]
[null,"Nao"]
[null,"Nao"]
[null,"Nao"]
[null,"Nao"]
[null,"Nao"]
[null,"Nao"]
[null,"Nao"]
[null,{"$f":"IF(A3927>0,\"Offhire\",\"Nao\")","v":"Nao"}]
[null,"Nao"]
[null,"Nao"]
[null,"Nao"]
[null,"Nao"]
[null,"Nao"]
[null,"Nao"]
[null,"Nao"]
[null,"Nao"]
[null,"Nao"]
[null,"Nao"]
[null,"Nao"]
[null,"Nao"]
[null,"Nao"]
[null,"Nao"]
[null,"Nao"]
[null,"Nao"]
[null,"Nao"]
[null,"Nao"]
[null,"Nao"]
[null,"Nao"]
[null,"Nao"]
[null,"Nao"]
[null,"Nao"]
[null,"Nao"]
[null,"Nao"]
[null,"Nao"]
[null,"Nao"]
[null,"Nao"]
[null,"Nao"]
[null,"Nao"]
[null,"Nao"]
[null,"Nao"]
[null,"Nao"]
[null,"Nao"]
[null,"Nao"]
[null,"Nao"]
[null,"Nao"]
[null,"Nao"]
[null,"Nao"]
[null,"Nao"]
[null,"Nao"]
[null,"Nao"]
[null,"Nao"]
[null,"Nao"]
[null,"Nao"]
[null,"Nao"]
[null,"Nao"]
[null,"Nao"]
[null,"Nao"]
[null,"Nao"]
[null,"Nao"]
[null,"Nao"]
[null,"Nao"]
[null,"Nao"]
[null,"Nao"]
[null,"Nao"]
[null,"Nao"]
[null,"Nao"]
[null,"Nao"]
[null,"Nao"]
[null,"Nao"]
[null,"Nao"]
[null,"Nao"]
[null,{"$f":"IF(A3991>0,\"Offhire\",\"Nao\")","v":"Nao"}]
[null,"Nao"]
[null,"Nao"]
[null,"Nao"]
[null,"Nao"]
[null,"Nao"]
[null,"Nao"]
[null,"Nao"]
[null,"Nao"]
[null,"Nao"]
[null,"Nao"]
[null,"Nao"]
[null,"Nao"]
[null,"Nao"]
[null,"Nao"]
[null,"Nao"]
[null,"Nao"]
[null,"Nao"]
[null,"Nao"]
[null,"Nao"]
[null,"Nao"]
[null,"Nao"]
[null,"Nao"]
[null,"Nao"]
[null,"Nao"]
[null,"Nao"]
[null,"Nao"]
[null,"Nao"]
[null,"Nao"]
[null,"Nao"]
[null,"Nao"]
[null,"Nao"]
[null,"Nao"]
[null,"Nao"]
[null,"Nao"]
[null,"Nao"]
[null,"Nao"]
[null,"Nao"]
[null,"Nao"]
[null,"Nao"]
[null,"Nao"]
[null,"Nao"]
[null,"Nao"]
[null,"Nao"]
[null,"Nao"]
[null,"Nao"]
[null,"Nao"]
[null,"Nao"]
[null,"Nao"]
[null,"Nao"]
[null,"Nao"]
[null,"Nao"]
[null,"Nao"]
[null,"Nao"]
[null,"Nao"]
[null,"Nao"]
[null,"Nao"]
[null,"Nao"]
[null,"Nao"]
[null,"Nao"]
[null,"Nao"]
[null,"Nao"]
[null,"Nao"]
[null,"Nao"]
[null,{"$f":"IF(A4055>0,\"Offhire\",\"Nao\")","v":"Nao"}]
[null,"Nao"]
[null,"Nao"]
[null,"Nao"]
[null,"Nao"]
[null,"Nao"]
[null,"Nao"]
[null,"Nao"]
[null,"Nao"]
[null,"Nao"]
[null,"Nao"]
[null,"Nao"]
[null,"Nao"]
[null,"Nao"]
[null,"Nao"]
[null,"Nao"]
[null,"Nao"]
[null,"Nao"]
[null,"Nao"]
[null,"Nao"]
[null,"Nao"]
[null,"Nao"]
[null,"Nao"]
[null,"Nao"]
[null,"Nao"]
[null,"Nao"]
[null,"Nao"]
[null,"Nao"]
[null,"Nao"]
[null,"Nao"]
[null,"Nao"]
[null,"Nao"]
[null,"Nao"]
[null,"Nao"]
[null,"Nao"]
[null,"Nao"]
[null,"Nao"]
[null,"Nao"]
[null,"Nao"]
[null,"Nao"]
[null,"Nao"]
[null,"Nao"]
[null,"Nao"]
[null,"Nao"]
[null,"Nao"]
[null,"Nao"]
[null,"Nao"]
[null,"Nao"]
[null,"Nao"]
[null,"Nao"]
[null,"Nao"]
[null,"Nao"]
[null,"Nao"]
[null,"Nao"]
[null,"Nao"]
[null,"Nao"]
[null,"Nao"]
[null,"Nao"]
[null,"Nao"]
[null,"Nao"]
[null,"Nao"]
[null,"Nao"]
[null,"Nao"]
[null,"Nao"]
[null,{"$f":"IF(A4119>0,\"Offhire\",\"Nao\")","v":"Nao"}]
[null,"Nao"]
[null,"Nao"]
[null,"Nao"]
[null,"Nao"]
[null,"Nao"]
[null,"Nao"]
[null,"Nao"]
[null,"Nao"]
[null,"Nao"]
[null,"Nao"]
[null,"Nao"]
[null,"Nao"]
[null,"Nao"]
[null,"Nao"]
[null,"Nao"]
[null,"Nao"]
[null,"Nao"]
[null,"Nao"]
[null,"Nao"]
[null,"Nao"]
[null,"Nao"]
[null,"Nao"]
[null,"Nao"]
[null,"Nao"]
[null,"Nao"]
[null,"Nao"]
[null,"Nao"]
[null,"Nao"]
[null,"Nao"]
[null,"Nao"]
[null,"Nao"]
[null,"Nao"]
[null,"Nao"]
[null,"Nao"]
[null,"Nao"]
[null,"Nao"]
[null,"Nao"]
[null,"Nao"]
[null,"Nao"]
[null,"Nao"]
[null,"Nao"]
[null,"Nao"]
[null,"Nao"]
[null,"Nao"]
[null,"Nao"]
[null,"Nao"]
[null,"Nao"]
[null,"Nao"]
[null,"Nao"]
[null,"Nao"]
[null,"Nao"]
[null,"Nao"]
[null,"Nao"]
[null,"Nao"]
[null,"Nao"]
[null,"Nao"]
[null,"Nao"]
[null,"Nao"]
[null,"Nao"]
[null,"Nao"]
[null,"Nao"]
[null,"Nao"]
[null,"Nao"]
[null,{"$f":"IF(A4183>0,\"Offhire\",\"Nao\")","v":"Nao"}]
[null,"Nao"]
[null,"Nao"]
[null,"Nao"]
[null,"Nao"]
[null,"Nao"]
[null,"Nao"]
[null,"Nao"]
[null,"Nao"]
[null,"Nao"]
[null,"Nao"]
[null,"Nao"]
[null,"Nao"]
[null,"Nao"]
[null,"Nao"]
[null,"Nao"]
[null,"Nao"]
[null,"Nao"]
[null,"Nao"]
[null,"Nao"]
[null,"Nao"]
[null,"Nao"]
[null,"Nao"]
[null,"Nao"]
[null,"Nao"]
[null,"Nao"]
[null,"Nao"]
[null,"Nao"]
[null,"Nao"]
[null,"Nao"]
[null,"Nao"]
[null,"Nao"]
[null,"Nao"]
[null,"Nao"]
[null,"Nao"]
[null,"Nao"]
[null,"Nao"]
[null,"Nao"]
[null,"Nao"]
[null,"Nao"]
[null,"Nao"]
[null,"Nao"]
[null,"Nao"]
[null,"Nao"]
[null,"Nao"]
[null,"Nao"]
[null,"Nao"]
[null,"Nao"]
[null,"Nao"]
[null,"Nao"]
[null,"Nao"]
[null,"Nao"]
[null,"Nao"]
[null,"Nao"]
[null,"Nao"]
[null,"Nao"]
[null,"Nao"]
[null,"Nao"]
[null,"Nao"]
[null,"Nao"]
[null,"Nao"]
[null,"Nao"]
[null,"Nao"]
[null,"Nao"]
[null,{"$f":"IF(A4247>0,\"Offhire\",\"Nao\")","v":"Nao"}]
[null,"Nao"]
[null,"Nao"]
[null,"Nao"]
[null,"Nao"]
[null,"Nao"]
[null,"Nao"]
[null,"Nao"]
[null,"Nao"]
[null,"Nao"]
[null,"Nao"]
[null,"Nao"]
[null,"Nao"]
[null,"Nao"]
[null,"Nao"]
[null,"Nao"]
[null,"Nao"]
[null,"Nao"]
[null,"Nao"]
[null,"Nao"]
[null,"Nao"]
[null,"Nao"]
[null,"Nao"]
[null,"Nao"]
[null,"Nao"]
[null,"Nao"]
[null,"Nao"]
[null,"Nao"]
[null,"Nao"]
[null,"Nao"]
[null,"Nao"]
[null,"Nao"]
[null,"Nao"]
[null,"Nao"]
[null,"Nao"]
[null,"Nao"]
[null,"Nao"]
[null,"Nao"]
[null,"Nao"]
[null,"Nao"]
[null,"Nao"]
[null,"Nao"]
[null,"Nao"]
[null,"Nao"]
[null,"Nao"]
[null,"Nao"]
[null,"Nao"]
[null,"Nao"]
[null,"Nao"]
[null,"Nao"]
[null,"Nao"]
[null,"Nao"]
[null,"Nao"]
[null,"Nao"]
[null,"Nao"]
[null,"Nao"]
[null,"Nao"]
[null,"Nao"]
[null,"Nao"]
[null,"Nao"]
[null,"Nao"]
[null,"Nao"]
[null,"Nao"]
[null,"Nao"]
[null,{"$f":"IF(A4311>0,\"Offhire\",\"Nao\")","v":"Nao"}]
[null,"Nao"]
[null,"Nao"]
[null,"Nao"]
[null,"Nao"]
[null,"Nao"]
[null,"Nao"]
[null,"Nao"]
[null,"Nao"]
[null,"Nao"]
[null,"Nao"]
[null,"Nao"]
[null,"Nao"]
[null,"Nao"]
[null,"Nao"]
[null,"Nao"]
[null,"Nao"]
[null,"Nao"]
[null,"Nao"]
[null,"Nao"]
[null,"Nao"]
[null,"Nao"]
[null,"Nao"]
[null,"Nao"]
[null,"Nao"]
[null,"Nao"]
[null,"Nao"]
[null,"Nao"]
[null,"Nao"]
[null,"Nao"]
[null,"Nao"]
[null,"Nao"]
[null,"Nao"]
[null,"Nao"]
[null,"Nao"]
[null,"Nao"]
[null,"Nao"]
[null,"Nao"]
[null,"Nao"]
[null,"Nao"]
[null,"Nao"]
[null,"Nao"]
[null,"Nao"]
[null,"Nao"]
[null,"Nao"]
[null,"Nao"]
[null,"Nao"]
[null,"Nao"]
[null,"Nao"]
[null,"Nao"]
[null,"Nao"]
[null,"Nao"]
[null,"Nao"]
[null,"Nao"]
[null,"Nao"]
[null,"Nao"]
[null,"Nao"]
[null,"Nao"]
[null,"Nao"]
[null,"Nao"]
[null,"Nao"]
[null,"Nao"]
[null,"Nao"]
[null,"Nao"]
[null,{"$f":"IF(A4375>0,\"Offhire\",\"Nao\")","v":"Nao"}]
[null,"Nao"]
[null,"Nao"]
[null,"Nao"]
[null,"Nao"]
[null,"Nao"]
[null,"Nao"]
[null,"Nao"]
[null,"Nao"]
[null,"Nao"]
[null,"Nao"]
[null,"Nao"]
[null,"Nao"]
[null,"Nao"]
[null,"Nao"]
[null,"Nao"]
[null,"Nao"]
[null,"Nao"]
[null,"Nao"]
[null,"Nao"]
[null,"Nao"]
[null,"Nao"]
[null,"Nao"]
[null,"Nao"]
[null,"Nao"]
[null,"Nao"]
[null,"Nao"]
[null,"Nao"]
[null,"Nao"]
[null,"Nao"]
[null,"Nao"]
[null,"Nao"]
[null,"Nao"]
[null,"Nao"]
[null,"Nao"]
[null,"Nao"]
[null,"Nao"]
[null,"Nao"]
[null,"Nao"]
[null,"Nao"]
[null,"Nao"]
[null,"Nao"]
[null,"Nao"]
[null,"Nao"]
[null,"Nao"]
[null,"Nao"]
[null,"Nao"]
[null,"Nao"]
[null,"Nao"]
[null,"Nao"]
[null,"Nao"]
[null,"Nao"]
[null,"Nao"]
[null,"Nao"]
[null,"Nao"]
[null,"Nao"]
[null,"Nao"]
[null,"Nao"]
[null,"Nao"]
[null,"Nao"]
[null,"Nao"]
[null,"Nao"]
[null,"Nao"]
[null,"Nao"]
[null,{"$f":"IF(A4439>0,\"Offhire\",\"Nao\")","v":"Nao"}]
[null,"Nao"]
[null,"Nao"]
[null,"Nao"]
[null,"Nao"]
[null,"Nao"]
[null,"Nao"]
[null,"Nao"]
[null,"Nao"]
[null,"Nao"]
[null,"Nao"]
[null,"Nao"]
[null,"Nao"]
[null,"Nao"]
[null,"Nao"]
[null,"Nao"]
[null,"Nao"]
[null,"Nao"]
[null,"Nao"]
[null,"Nao"]
[null,"Nao"]
[null,"Nao"]
[null,"Nao"]
[null,"Nao"]
[null,"Nao"]
[null,"Nao"]
[null,"Nao"]
[null,"Nao"]
[null,"Nao"]
[null,"Nao"]
[null,"Nao"]
[null,"Nao"]
[null,"Nao"]
[null,"Nao"]
[null,"Nao"]
[null,"Nao"]
[null,"Nao"]
[null,"Nao"]
[null,"Nao"]
[null,"Nao"]
[null,"Nao"]
[null,"Nao"]
[null,"Nao"]
[null,"Nao"]
[null,"Nao"]
[null,"Nao"]
[null,"Nao"]
[null,"Nao"]
[null,"Nao"]
[null,"Nao"]
[null,"Nao"]
[null,"Nao"]
[null,"Nao"]
[null,"Nao"]
[null,"Nao"]
[null,"Nao"]
[null,"Nao"]
[null,"Nao"]
[null,"Nao"]
[null,"Nao"]
[null,"Nao"]
[null,"Nao"]
[null,"Nao"]
[null,"Nao"]
[null,{"$f":"IF(A4503>0,\"Offhire\",\"Nao\")","v":"Nao"}]
[null,"Nao"]
[null,"Nao"]
[null,"Nao"]
[null,"Nao"]
[null,"Nao"]
[null,"Nao"]
[null,"Nao"]
[null,"Nao"]
[null,"Nao"]
[null,"Nao"]
[null,"Nao"]
[null,"Nao"]
[null,"Nao"]
[null,"Nao"]
[null,"Nao"]
[null,"Nao"]
[null,"Nao"]
[null,"Nao"]
[null,"Nao"]
[null,"Nao"]
[null,"Nao"]
[null,"Nao"]
[null,"Nao"]
[null,"Nao"]
[null,"Nao"]
[null,"Nao"]
[null,"Nao"]
[null,"Nao"]
[null,"Nao"]
[null,"Nao"]
[null,"Nao"]
[null,"Nao"]
[null,"Nao"]
[null,"Nao"]
[null,"Nao"]
[null,"Nao"]
[null,"Nao"]
[null,"Nao"]
[null,"Nao"]
[null,"Nao"]
[null,"Nao"]
[null,"Nao"]
[null,"Nao"]
[null,"Nao"]
[null,"Nao"]
[null,"Nao"]
[null,"Nao"]
[null,"Nao"]
[null,"Nao"]
[null,"Nao"]
[null,"Nao"]
[null,"Nao"]
[null,"Nao"]
[null,"Nao"]
[null,"Nao"]
[null,"Nao"]
[null,"Nao"]
[null,"Nao"]
[null,"Nao"]
[null,"Nao"]
[null,"Nao"]
[null,"Nao"]
[null,"Nao"]
[null,{"$f":"IF(A4567>0,\"Offhire\",\"Nao\")","v":"Nao"}]
[null,"Nao"]
[null,"Nao"]
[null,"Nao"]
[null,"Nao"]
[null,"Nao"]
[null,"Nao"]
[null,"Nao"]
[null,"Nao"]
[null,"Nao"]
[null,"Nao"]
[null,"Nao"]
[null,"Nao"]
[null,"Nao"]
[null,"Nao"]
[null,"Nao"]
[null,"Nao"]
[null,"Nao"]
[null,"Nao"]
[null,"Nao"]
[null,"Nao"]
[null,"Nao"]
[null,"Nao"]
[null,"Nao"]
[null,"Nao"]
[null,"Nao"]
[null,"Nao"]
[null,"Nao"]
[null,"Nao"]
[null,"Nao"]
[null,"Nao"]
[null,"Nao"]
[null,"Nao"]
[null,"Nao"]
[null,"Nao"]
[null,"Nao"]
[null,"Nao"]
[null,"Nao"]
[null,"Nao"]
[null,"Nao"]
[null,"Nao"]
[null,"Nao"]
[null,"Nao"]
[null,"Nao"]
[null,"Nao"]
[null,"Nao"]
[null,"Nao"]
[null,"Nao"]
[null,"Nao"]
[null,"Nao"]
[null,"Nao"]
[null,"Nao"]
[null,"Nao"]
[null,"Nao"]
[null,"Nao"]
[null,"Nao"]
[null,"Nao"]
[null,"Nao"]
[null,"Nao"]
[null,"Nao"]
[null,"Nao"]
[null,"Nao"]
[null,"Nao"]
[null,"Nao"]
[null,{"$f":"IF(A4631>0,\"Offhire\",\"Nao\")","v":"Nao"}]
[null,"Nao"]
[null,"Nao"]
[null,"Nao"]
[null,"Nao"]
[null,"Nao"]
[null,"Nao"]
[null,"Nao"]
[null,"Nao"]
[null,"Nao"]
[null,"Nao"]
[null,"Nao"]
[null,"Nao"]
[null,"Nao"]
[null,"Nao"]
[null,"Nao"]
[null,"Nao"]
[null,"Nao"]
[null,"Nao"]
[null,"Nao"]
[null,"Nao"]
[null,"Nao"]
[null,"Nao"]
[null,"Nao"]
[null,"Nao"]
[null,"Nao"]
[null,"Nao"]
[null,"Nao"]
[null,"Nao"]
[null,"Nao"]
[null,"Nao"]
[null,"Nao"]
[null,"Nao"]
[null,"Nao"]
[null,"Nao"]
[null,"Nao"]
[null,"Nao"]
[null,"Nao"]
[null,"Nao"]
[null,"Nao"]
[null,"Nao"]
[null,"Nao"]
[null,"Nao"]
[null,"Nao"]
[null,"Nao"]
[null,"Nao"]
[null,"Nao"]
[null,"Nao"]
[null,"Nao"]
[null,"Nao"]
[null,"Nao"]
[null,"Nao"]
[null,"Nao"]
[null,"Nao"]
[null,"Nao"]
[null,"Nao"]
[null,"Nao"]
[null,"Nao"]
[null,"Nao"]
[null,"Nao"]
[null,"Nao"]
[null,"Nao"]
[null,"Nao"]
[null,"Nao"]
[null,{"$f":"IF(A4695>0,\"Offhire\",\"Nao\")","v":"Nao"}]
[null,"Nao"]
[null,"Nao"]
[null,"Nao"]
[null,"Nao"]
[null,"Nao"]
[null,"Nao"]
[null,"Nao"]
[null,"Nao"]
[null,"Nao"]
[null,"Nao"]
[null,"Nao"]
[null,"Nao"]
[null,"Nao"]
[null,"Nao"]
[null,"Nao"]
[null,"Nao"]
[null,"Nao"]
[null,"Nao"]
[null,"Nao"]
[null,"Nao"]
[null,"Nao"]
[null,"Nao"]
[null,"Nao"]
[null,"Nao"]
[null,"Nao"]
[null,"Nao"]
[null,"Nao"]
[null,"Nao"]
[null,"Nao"]
[null,"Nao"]
[null,"Nao"]
[null,"Nao"]
[null,"Nao"]
[null,"Nao"]
[null,"Nao"]
[null,"Nao"]
[null,"Nao"]
[null,"Nao"]
[null,"Nao"]
[null,"Nao"]
[null,"Nao"]
[null,"Nao"]
[null,"Nao"]
[null,"Nao"]
[null,"Nao"]
[null,"Nao"]
[null,"Nao"]
[null,"Nao"]
[null,"Nao"]
[null,"Nao"]
[null,"Nao"]
[null,"Nao"]
[null,"Nao"]
[null,"Nao"]
[null,"Nao"]
[null,"Nao"]
[null,"Nao"]
[null,"Nao"]
[null,"Nao"]
[null,"Nao"]
[null,"Nao"]
[null,"Nao"]
[null,"Nao"]
[null,{"$f":"IF(A4759>0,\"Offhire\",\"Nao\")","v":"Nao"}]
[null,"Nao"]
[null,"Nao"]
[null,"Nao"]
[null,"Nao"]
[null,"Nao"]
[null,"Nao"]
[null,"Nao"]
[null,"Nao"]
[null,"Nao"]
[null,"Nao"]
[null,"Nao"]
[null,"Nao"]
[null,"Nao"]
[null,"Nao"]
[null,"Nao"]
[null,"Nao"]
[null,"Nao"]
[null,"Nao"]
[null,"Nao"]
[null,"Nao"]
[null,"Nao"]
[null,"Nao"]
[null,"Nao"]
[null,"Nao"]
[null,"Nao"]
[null,"Nao"]
[null,"Nao"]
[null,"Nao"]
[null,"Nao"]
[null,"Nao"]
[null,"Nao"]
[null,"Nao"]
[null,"Nao"]
[null,"Nao"]
[null,"Nao"]
[null,"Nao"]
[null,"Nao"]
[null,"Nao"]
[null,"Nao"]
[null,"Nao"]
[null,"Nao"]
[null,"Nao"]
[null,"Nao"]
[null,"Nao"]
[null,"Nao"]
[null,"Nao"]
[null,"Nao"]
[null,"Nao"]
[null,"Nao"]
[null,"Nao"]
[null,"Nao"]
[null,"Nao"]
[null,"Nao"]
[null,"Nao"]
[null,"Nao"]
[null,"Nao"]
[null,"Nao"]
[null,"Nao"]
[null,"Nao"]
[null,"Nao"]
[null,"Nao"]
[null,"Nao"]
[null,"Nao"]
[null,{"$f":"IF(A4823>0,\"Offhire\",\"Nao\")","v":"Nao"}]
[null,"Nao"]
[null,"Nao"]
[null,"Nao"]
[null,"Nao"]
[null,"Nao"]
[null,"Nao"]
[null,"Nao"]
[null,"Nao"]
[null,"Nao"]
[null,"Nao"]
[null,"Nao"]
[null,"Nao"]
[null,"Nao"]
[null,"Nao"]
[null,"Nao"]
[null,"Nao"]
[null,"Nao"]
[null,"Nao"]
[null,"Nao"]
[null,"Nao"]
[null,"Nao"]
[null,"Nao"]
[null,"Nao"]
[null,"Nao"]
[null,"Nao"]
[null,"Nao"]
[null,"Nao"]
[null,"Nao"]
[null,"Nao"]
[null,"Nao"]
[null,"Nao"]
[null,"Nao"]
[null,"Nao"]
[null,"Nao"]
[null,"Nao"]
[null,"Nao"]
[null,"Nao"]
[null,"Nao"]
[null,"Nao"]
[null,"Nao"]
[null,"Nao"]
[null,"Nao"]
[null,"Nao"]
[null,"Nao"]
[null,"Nao"]
[null,"Nao"]
[null,"Nao"]
[null,"Nao"]
[null,"Nao"]
[null,"Nao"]
[null,"Nao"]
[null,"Nao"]
[null,"Nao"]
[null,"Nao"]
[null,"Nao"]
[null,"Nao"]
[null,"Nao"]
[null,"Nao"]
[null,"Nao"]
[null,"Nao"]
[null,"Nao"]
[null,"Nao"]
[null,"Nao"]
[null,{"$f":"IF(A4887>0,\"Offhire\",\"Nao\")","v":"Nao"}]
[null,"Nao"]
[null,"Nao"]
[null,"Nao"]
[null,"Nao"]
[null,"Nao"]
[null,"Nao"]
[null,"Nao"]
[null,"Nao"]
[null,"Nao"]
[null,"Nao"]
[null,"Nao"]
[null,"Nao"]
[null,"Nao"]
[null,"Nao"]
[null,"Nao"]
[null,"Nao"]
[null,"Nao"]
[null,"Nao"]
[null,"Nao"]
[null,"Nao"]
[null,"Nao"]
[null,"Nao"]
[null,"Nao"]
[null,"Nao"]
[null,"Nao"]
[null,"Nao"]
[null,"Nao"]
[null,"Nao"]
[null,"Nao"]
[null,"Nao"]
[null,"Nao"]
[null,"Nao"]
[null,"Nao"]
[null,"Nao"]
[null,"Nao"]
[null,"Nao"]
[null,"Nao"]
[null,"Nao"]
[null,"Nao"]
[null,"Nao"]
[null,"Nao"]
[null,"Nao"]
[null,"Nao"]
[null,"Nao"]
[null,"Nao"]
[null,"Nao"]
[null,"Nao"]
[null,"Nao"]
[null,"Nao"]
[null,"Nao"]
[null,"Nao"]
[null,"Nao"]
[null,"Nao"]
[null,"Nao"]
[null,"Nao"]
[null,"Nao"]
[null,"Nao"]
[null,"Nao"]
[null,"Nao"]
[null,"Nao"]
[null,"Nao"]
[null,"Nao"]
[null,"Nao"]
[null,{"$f":"IF(A4951>0,\"Offhire\",\"Nao\")","v":"Nao"}]
[null,"Nao"]
[null,"Nao"]
[null,"Nao"]
[null,"Nao"]
[null,"Nao"]
[null,"Nao"]
[null,"Nao"]
[null,"Nao"]
[null,"Nao"]
[null,"Nao"]
[null,"Nao"]
[null,"Nao"]
[null,"Nao"]
[null,"Nao"]
[null,"Nao"]
[null,"Nao"]
[null,"Nao"]
[null,"Nao"]
[null,"Nao"]
[null,"Nao"]
[null,"Nao"]
[null,"Nao"]
[null,"Nao"]
[null,"Nao"]
[null,"Nao"]
[null,"Nao"]
[null,"Nao"]
[null,"Nao"]
[null,"Nao"]
[null,"Nao"]
[null,"Nao"]
[null,"Nao"]
[null,"Nao"]
[null,"Nao"]
[null,"Nao"]
[null,"Nao"]
[null,"Nao"]
[null,"Nao"]
[null,"Nao"]
[null,"Nao"]
[null,"Nao"]
[null,"Nao"]
[null,"Nao"]
[null,"Nao"]
[null,"Nao"]
[null,"Nao"]
[null,"Nao"]
[null,"Nao"]
[null,"Nao"]
[null,"Nao"]
[null,"Nao"]
[null,"Nao"]
[null,"Nao"]
[null,"Nao"]
[null,"Nao"]
[null,"Nao"]
[null,"Nao"]
[null,"Nao"]
[null,"Nao"]
[null,"Nao"]
[null,"Nao"]
[null,"Nao"]
[null,"Nao"]
[null,{"$f":"IF(A5015>0,\"Offhire\",\"Nao\")","v":"Nao"}]
[null,"Nao"]
[null,"Nao"]
[null,"Nao"]
[null,"Nao"]
[null,"Nao"]
[null,"Nao"]
[null,"Nao"]
[null,"Nao"]
[null,"Nao"]
[null,"Nao"]
[null,"Nao"]
[null,"Nao"]
[null,"Nao"]
[null,"Nao"]
[null,"Nao"]
[null,"Nao"]
[null,"Nao"]
[null,"Nao"]
[null,"Nao"]
[null,"Nao"]
[null,"Nao"]
[null,"Nao"]
[null,"Nao"]
[null,"Nao"]
[null,"Nao"]
[null,"Nao"]
[null,"Nao"]
[null,"Nao"]
[null,"Nao"]
[null,"Nao"]
[null,"Nao"]
[null,"Nao"]
[null,"Nao"]
[null,"Nao"]
[null,"Nao"]
[null,"Nao"]
[null,"Nao"]
[null,"Nao"]
[null,"Nao"]
[null,"Nao"]
[null,"Nao"]
[null,"Nao"]
[null,"Nao"]
[null,"Nao"]
[null,"Nao"]
[null,"Nao"]
[null,"Nao"]
[null,"Nao"]
[null,"Nao"]
[null,"Nao"]
[null,"Nao"]
[null,"Nao"]
[null,"Nao"]
[null,"Nao"]
[null,"Nao"]
[null,"Nao"]
[null,"Nao"]
[null,"Nao"]
[null,"Nao"]
[null,"Nao"]
[null,"Nao"]
[null,"Nao"]
[null,"Nao"]
[null,{"$f":"IF(A5079>0,\"Offhire\",\"Nao\")","v":"Nao"}]
[null,"Nao"]
[null,"Nao"]
[null,"Nao"]
[null,"Nao"]
[null,"Nao"]
[null,"Nao"]
[null,"Nao"]
[null,"Nao"]
[null,"Nao"]
[null,"Nao"]
[null,"Nao"]
[null,"Nao"]
[null,"Nao"]
[null,"Nao"]
[null,"Nao"]
[null,"Nao"]
[null,"Nao"]
[null,"Nao"]
[null,"Nao"]
[null,"Nao"]
[null,"Nao"]
[null,"Nao"]
[null,"Nao"]
[null,"Nao"]
[null,"Nao"]
[null,"Nao"]
[null,"Nao"]
[null,"Nao"]
[null,"Nao"]
[null,"Nao"]
[null,"Nao"]
[null,"Nao"]
[null,"Nao"]
[null,"Nao"]
[null,"Nao"]
[null,"Nao"]
[null,"Nao"]
[null,"Nao"]
[null,"Nao"]
[null,"Nao"]
[null,"Nao"]
[null,"Nao"]
[null,"Nao"]
[null,"Nao"]
[null,"Nao"]
[null,"Nao"]
[null,"Nao"]
[null,"Nao"]
[null,"Nao"]
[null,"Nao"]
[null,"Nao"]
[null,"Nao"]
[null,"Nao"]
[null,"Nao"]
[null,"Nao"]
[null,"Nao"]
[null,"Nao"]
[null,"Nao"]
[null,"Nao"]
[null,"Nao"]
[null,"Nao"]
[null,"Nao"]
[null,"Nao"]
[null,{"$f":"IF(A5143>0,\"Offhire\",\"Nao\")","v":"Nao"}]
[null,"Nao"]
[null,"Nao"]
[null,"Nao"]
[null,"Nao"]
[null,"Nao"]
[null,"Nao"]
[null,"Nao"]
[null,"Nao"]
[null,"Nao"]
[null,"Nao"]
[null,"Nao"]
[null,"Nao"]
[null,"Nao"]
[null,"Nao"]
[null,"Nao"]
[null,"Nao"]
[null,"Nao"]
[null,"Nao"]
[null,"Nao"]
[null,"Nao"]
[null,"Nao"]
[null,"Nao"]
[null,"Nao"]
[null,"Nao"]
[null,"Nao"]
[null,"Nao"]
[null,"Nao"]
[null,"Nao"]
[null,"Nao"]
[null,"Nao"]
[null,"Nao"]
[null,"Nao"]
[null,"Nao"]
[null,"Nao"]
[null,"Nao"]
[null,"Nao"]
[null,"Nao"]
[null,"Nao"]
[null,"Nao"]
[null,"Nao"]
[null,"Nao"]
[null,"Nao"]
[null,"Nao"]
[null,"Nao"]
[null,"Nao"]
[null,"Nao"]
[null,"Nao"]
[null,"Nao"]
[null,"Nao"]
[null,"Nao"]
[null,"Nao"]
[null,"Nao"]
[null,"Nao"]
[null,"Nao"]
[null,"Nao"]
[null,"Nao"]
[null,"Nao"]
[null,"Nao"]
[null,"Nao"]
[null,"Nao"]
[null,"Nao"]
[null,"Nao"]
[null,"Nao"]
[null,{"$f":"IF(A5207>0,\"Offhire\",\"Nao\")","v":"Nao"}]
[null,"Nao"]
[null,"Nao"]
[null,"Nao"]
[null,"Nao"]
[null,"Nao"]
[null,"Nao"]
[null,"Nao"]
[null,"Nao"]
[null,"Nao"]
[null,"Nao"]
[null,"Nao"]
[null,"Nao"]
[null,"Nao"]
[null,"Nao"]
[null,"Nao"]
[null,"Nao"]
[null,"Nao"]
[null,"Nao"]
[null,"Nao"]
[null,"Nao"]
[null,"Nao"]
[null,"Nao"]
[null,"Nao"]
[null,"Nao"]
[null,"Nao"]
[null,"Nao"]
[null,"Nao"]
[null,"Nao"]
[null,"Nao"]
[null,"Nao"]
[null,"Nao"]
[null,"Nao"]
[null,"Nao"]
[null,"Nao"]
[null,"Nao"]
[null,"Nao"]
[null,"Nao"]
[null,"Nao"]
[null,"Nao"]
[null,"Nao"]
[null,"Nao"]
[null,"Nao"]
[null,"Nao"]
[null,"Nao"]
[null,"Nao"]
[null,"Nao"]
[null,"Nao"]
[null,"Nao"]
[null,"Nao"]
[null,"Nao"]
[null,"Nao"]
[null,"Nao"]
[null,"Nao"]
[null,"Nao"]
[null,"Nao"]
[null,"Nao"]
[null,"Nao"]
[null,"Nao"]
[null,"Nao"]
[null,"Nao"]
[null,"Nao"]
[null,"Nao"]
[null,"Nao"]
[null,{"$f":"IF(A5271>0,\"Offhire\",\"Nao\")","v":"Nao"}]
[null,"Nao"]
[null,"Nao"]
[null,"Nao"]
[null,"Nao"]
[null,"Nao"]
[null,"Nao"]
[null,"Nao"]
[null,"Nao"]
[null,"Nao"]
[null,"Nao"]
[null,"Nao"]
[null,"Nao"]
[null,"Nao"]
[null,"Nao"]
[null,"Nao"]
[null,"Nao"]
[null,"Nao"]
[null,"Nao"]
[null,"Nao"]
[null,"Nao"]
[null,"Nao"]
[null,"Nao"]
[null,"Nao"]
[null,"Nao"]
[null,"Nao"]
[null,"Nao"]
[null,"Nao"]
[null,"Nao"]
[null,"Nao"]
[null,"Nao"]
[null,"Nao"]
[null,"Nao"]
[null,"Nao"]
[null,"Nao"]
[null,"Nao"]
[null,"Nao"]
[null,"Nao"]
[null,"Nao"]
[null,"Nao"]
[null,"Nao"]
[null,"Nao"]
[null,"Nao"]
[null,"Nao"]
[null,"Nao"]
[null,"Nao"]
[null,"Nao"]
[null,"Nao"]
[null,"Nao"]
[null,"Nao"]
[null,"Nao"]
[null,"Nao"]
[null,"Nao"]
[null,"Nao"]
[null,"Nao"]
[null,"Nao"]
[null,"Nao"]
[null,"Nao"]
[null,"Nao"]
[null,"Nao"]
[null,"Nao"]
[null,"Nao"]
[null,"Nao"]
[null,"Nao"]
[null,{"$f":"IF(A5335>0,\"Offhire\",\"Nao\")","v":"Nao"}]
[null,"Nao"]
[null,"Nao"]
[null,"Nao"]
[null,"Nao"]
[null,"Nao"]
[null,"Nao"]
[null,"Nao"]
[null,"Nao"]
[null,"Nao"]
[null,"Nao"]
[null,"Nao"]
[null,"Nao"]
[null,"Nao"]
[null,"Nao"]
[null,"Nao"]
[null,"Nao"]
[null,"Nao"]
[null,"Nao"]
[null,"Nao"]
[null,"Nao"]
[null,"Nao"]
[null,"Nao"]
[null,"Nao"]
[null,"Nao"]
[null,"Nao"]
[null,"Nao"]
[null,"Nao"]
[null,"Nao"]
[null,"Nao"]
[null,"Nao"]
[null,"Nao"]
[null,"Nao"]
[null,"Nao"]
[null,"Nao"]
[null,"Nao"]
[null,"Nao"]
[null,"Nao"]
[null,"Nao"]
[null,"Nao"]
[null,"Nao"]
[null,"Nao"]
[null,"Nao"]
[null,"Nao"]
[null,"Nao"]
[null,"Nao"]
[null,"Nao"]
[null,"Nao"]
[null,"Nao"]
[null,"Nao"]
[null,"Nao"]
[null,"Nao"]
[null,"Nao"]
[null,"Nao"]
[null,"Nao"]
[null,"Nao"]
[null,"Nao"]
[null,"Nao"]
[null,"Nao"]
[null,"Nao"]
[null,"Nao"]
[null,"Nao"]
[null,"Nao"]
[null,"Nao"]
[null,{"$f":"IF(A5399>0,\"Offhire\",\"Nao\")","v":"Nao"}]
[null,"Nao"]
[null,"Nao"]
[null,"Nao"]
[null,"Nao"]
[null,"Nao"]
[null,"Nao"]
[null,"Nao"]
[null,"Nao"]
[null,"Nao"]
[null,"Nao"]
[null,"Nao"]
[null,"Nao"]
[null,"Nao"]
[null,"Nao"]
[null,"Nao"]
[null,"Nao"]
[null,"Nao"]
[null,"Nao"]
[null,"Nao"]
[null,"Nao"]
[null,"Nao"]
[null,"Nao"]
[null,"Nao"]
[null,"Nao"]
[null,"Nao"]
[null,"Nao"]
[null,"Nao"]
[null,"Nao"]
[null,"Nao"]
[null,"Nao"]
[null,"Nao"]
[null,"Nao"]
[null,"Nao"]
[null,"Nao"]
[null,"Nao"]
[null,"Nao"]
[null,"Nao"]
[null,"Nao"]
[null,"Nao"]
[null,"Nao"]
[null,"Nao"]
[null,"Nao"]
[null,"Nao"]
[null,"Nao"]
[null,"Nao"]
[null,"Nao"]
[null,"Nao"]
[null,"Nao"]
[null,"Nao"]
[null,"Nao"]
[null,"Nao"]
[null,"Nao"]
[null,"Nao"]
[null,"Nao"]
[null,"Nao"]
[null,"Nao"]
[null,"Nao"]
[null,"Nao"]
[null,"Nao"]
[null,"Nao"]
[null,"Nao"]
[null,"Nao"]
[null,"Nao"]
[null,{"$f":"IF(A5463>0,\"Offhire\",\"Nao\")","v":"Nao"}]
[null,"Nao"]
[null,"Nao"]
[null,"Nao"]
[null,"Nao"]
[null,"Nao"]
[null,"Nao"]
[null,"Nao"]
[null,"Nao"]
[null,"Nao"]
[null,"Nao"]
[null,"Nao"]
[null,"Nao"]
[null,"Nao"]
[null,"Nao"]
[null,"Nao"]
[null,"Nao"]
[null,"Nao"]
[null,"Nao"]
[null,"Nao"]
[null,"Nao"]
[null,"Nao"]
[null,"Nao"]
[null,"Nao"]
[null,"Nao"]
[null,"Nao"]
[null,"Nao"]
[null,"Nao"]
[null,"Nao"]
[null,"Nao"]
[null,"Nao"]
[null,"Nao"]
[null,"Nao"]
[null,"Nao"]
[null,"Nao"]
[null,"Nao"]
[null,"Nao"]
[null,"Nao"]
[null,"Nao"]
[null,"Nao"]
[null,"Nao"]
[null,"Nao"]
[null,"Nao"]
[null,"Nao"]
[null,"Nao"]
[null,"Nao"]
[null,"Nao"]
[null,"Nao"]
[null,"Nao"]
[null,"Nao"]
[null,"Nao"]
[null,"Nao"]
[null,"Nao"]
[null,"Nao"]
[null,"Nao"]
[null,"Nao"]
[null,"Nao"]
[null,"Nao"]
[null,"Nao"]
[null,"Nao"]
[null,"Nao"]
[null,"Nao"]
[null,"Nao"]
[null,"Nao"]
[null,{"$f":"IF(A5527>0,\"Offhire\",\"Nao\")","v":"Nao"}]
[null,"Nao"]
[null,"Nao"]
[null,"Nao"]
[null,"Nao"]
[null,"Nao"]
[null,"Nao"]
[null,"Nao"]
[null,"Nao"]
[null,"Nao"]
[null,"Nao"]
[null,"Nao"]
[null,"Nao"]
[null,"Nao"]
[null,"Nao"]
[null,"Nao"]
[null,"Nao"]
[null,"Nao"]
[null,"Nao"]
[null,"Nao"]
[null,"Nao"]
[null,"Nao"]
[null,"Nao"]
[null,"Nao"]
[null,"Nao"]
[null,"Nao"]
[null,"Nao"]
[null,"Nao"]
[null,"Nao"]
[null,"Nao"]
[null,"Nao"]
[null,"Nao"]
[null,"Nao"]
[null,"Nao"]
[null,"Nao"]
[null,"Nao"]
[null,"Nao"]
[null,"Nao"]
[null,"Nao"]
[null,"Nao"]
[null,"Nao"]
[null,"Nao"]
[null,"Nao"]
[null,"Nao"]
[null,"Nao"]
[null,"Nao"]
[null,"Nao"]
[null,"Nao"]
[null,"Nao"]
[null,"Nao"]
[null,"Nao"]
[null,"Nao"]
[null,"Nao"]
[null,"Nao"]
[null,"Nao"]
[null,"Nao"]
[null,"Nao"]
[null,"Nao"]
[null,"Nao"]
[null,"Nao"]
[null,"Nao"]
[null,"Nao"]
[null,"Nao"]
[null,"Nao"]
[null,{"$f":"IF(A5591>0,\"Offhire\",\"Nao\")","v":"Nao"}]
[null,"Nao"]
[null,"Nao"]
[null,"Nao"]
[null,"Nao"]
[null,"Nao"]
[null,"Nao"]
[null,"Nao"]
[null,"Nao"]
[null,"Nao"]
[null,"Nao"]
[null,"Nao"]
[null,"Nao"]
[null,"Nao"]
[null,"Nao"]
[null,"Nao"]
[null,"Nao"]
[null,"Nao"]
[null,"Nao"]
[null,"Nao"]
[null,"Nao"]
[null,"Nao"]
[null,"Nao"]
[null,"Nao"]
[null,"Nao"]
[null,"Nao"]
[null,"Nao"]
[null,"Nao"]
[null,"Nao"]
[null,"Nao"]
[null,"Nao"]
[null,"Nao"]
[null,"Nao"]
[null,"Nao"]
[null,"Nao"]
[null,"Nao"]
[null,"Nao"]
[null,"Nao"]
[null,"Nao"]
[null,"Nao"]
[null,"Nao"]
[null,"Nao"]
[null,"Nao"]
[null,"Nao"]
[null,"Nao"]
[null,"Nao"]
[null,"Nao"]
[null,"Nao"]
[null,"Nao"]
[null,"Nao"]
[null,"Nao"]
[null,"Nao"]
[null,"Nao"]
[null,"Nao"]
[null,"Nao"]
[null,"Nao"]
[null,"Nao"]
[null,"Nao"]
[null,"Nao"]
[null,"Nao"]
[null,"Nao"]
[null,"Nao"]
[null,"Nao"]
[null,"Nao"]
[null,{"$f":"IF(A5655>0,\"Offhire\",\"Nao\")","v":"Nao"}]
[null,"Nao"]
[null,"Nao"]
[null,"Nao"]
[null,"Nao"]
[null,"Nao"]
[null,"Nao"]
[null,"Nao"]
[null,"Nao"]
[null,"Nao"]
[null,"Nao"]
[null,"Nao"]
[null,"Nao"]
[null,"Nao"]
[null,"Nao"]
[null,"Nao"]
[null,"Nao"]
[null,"Nao"]
[null,"Nao"]
[null,"Nao"]
[null,"Nao"]
[null,"Nao"]
[null,"Nao"]
[null,"Nao"]
[null,"Nao"]
[null,"Nao"]
[null,"Nao"]
[null,"Nao"]
[null,"Nao"]
[null,"Nao"]
[null,"Nao"]
[null,"Nao"]
[null,"Nao"]
[null,"Nao"]
[null,"Nao"]
[null,"Nao"]
[null,"Nao"]
[null,"Nao"]
[null,"Nao"]
[null,"Nao"]
[null,"Nao"]
[null,"Nao"]
[null,"Nao"]
[null,"Nao"]
[null,"Nao"]
[null,"Nao"]
[null,"Nao"]
[null,"Nao"]
[null,"Nao"]
[null,"Nao"]
[null,"Nao"]
[null,"Nao"]
[null,"Nao"]
[null,"Nao"]
[null,"Nao"]
[null,"Nao"]
[null,"Nao"]
[null,"Nao"]
[null,"Nao"]
[null,"Nao"]
[null,"Nao"]
[null,"Nao"]
[null,"Nao"]
[null,"Nao"]
[null,{"$f":"IF(A5719>0,\"Offhire\",\"Nao\")","v":"Nao"}]
[null,"Nao"]
[null,"Nao"]
[null,"Nao"]
[null,"Nao"]
[null,"Nao"]
[null,"Nao"]
[null,"Nao"]
[null,"Nao"]
[null,"Nao"]
[null,"Nao"]
[null,"Nao"]
[null,"Nao"]
[null,"Nao"]
[null,"Nao"]
[null,"Nao"]
[null,"Nao"]
[null,"Nao"]
[null,"Nao"]
[null,"Nao"]
[null,"Nao"]
[null,"Nao"]
[null,"Nao"]
[null,"Nao"]
[null,"Nao"]
[null,"Nao"]
[null,"Nao"]
[null,"Nao"]
[null,"Nao"]
[null,"Nao"]
[null,"Nao"]
[null,"Nao"]
[null,"Nao"]
[null,"Nao"]
[null,"Nao"]
[null,"Nao"]
[null,"Nao"]
[null,"Nao"]
[null,"Nao"]
[null,"Nao"]
[null,"Nao"]
[null,"Nao"]
[null,"Nao"]
[null,"Nao"]
[null,"Nao"]
[null,"Nao"]
[null,"Nao"]
[null,"Nao"]
[null,"Nao"]
[null,"Nao"]
[null,"Nao"]
[null,"Nao"]
[null,"Nao"]
[null,"Nao"]
[null,"Nao"]
[null,"Nao"]
[null,"Nao"]
[null,"Nao"]
[null,"Nao"]
[null,"Nao"]
[null,"Nao"]
[null,"Nao"]
[null,"Nao"]
[null,"Nao"]
[null,{"$f":"IF(A5783>0,\"Offhire\",\"Nao\")","v":"Nao"}]
[null,"Nao"]
[null,"Nao"]
[null,"Nao"]
[null,"Nao"]
[null,"Nao"]
[null,"Nao"]
[null,"Nao"]
[null,"Nao"]
[null,"Nao"]
[null,"Nao"]
[null,"Nao"]
[null,"Nao"]
[null,"Nao"]
[null,"Nao"]
[null,"Nao"]
[null,"Nao"]
[null,"Nao"]
[null,"Nao"]
[null,"Nao"]
[null,"Nao"]
[null,"Nao"]
[null,"Nao"]
[null,"Nao"]
[null,"Nao"]
[null,"Nao"]
[null,"Nao"]
[null,"Nao"]
[null,"Nao"]
[null,"Nao"]
[null,"Nao"]
[null,"Nao"]
[null,"Nao"]
[null,"Nao"]
[null,"Nao"]
[null,"Nao"]
[null,"Nao"]
[null,"Nao"]
[null,"Nao"]
[null,"Nao"]
[null,"Nao"]
[null,"Nao"]
[null,"Nao"]
[null,"Nao"]
[null,"Nao"]
[null,"Nao"]
[null,"Nao"]
[null,"Nao"]
[null,"Nao"]
[null,"Nao"]
[null,"Nao"]
[null,"Nao"]
[null,"Nao"]
[null,"Nao"]
[null,"Nao"]
[null,"Nao"]
[null,"Nao"]
[null,"Nao"]
[null,"Nao"]
[null,"Nao"]
[null,"Nao"]
[null,"Nao"]
[null,"Nao"]
[null,"Nao"]
[null,{"$f":"IF(A5847>0,\"Offhire\",\"Nao\")","v":"Nao"}]
[null,"Nao"]
[null,"Nao"]
[null,"Nao"]
[null,"Nao"]
[null,"Nao"]
[null,"Nao"]
[null,"Nao"]
[null,"Nao"]
[null,"Nao"]
[null,"Nao"]
[null,"Nao"]
[null,"Nao"]
[null,"Nao"]
[null,"Nao"]
[null,"Nao"]
[null,"Nao"]
[null,"Nao"]
[null,"Nao"]
[null,"Nao"]
[null,"Nao"]
[null,"Nao"]
[null,"Nao"]
[null,"Nao"]
[null,"Nao"]
[null,"Nao"]
[null,"Nao"]
[null,"Nao"]
[null,"Nao"]
[null,"Nao"]
[null,"Nao"]
[null,"Nao"]
[null,"Nao"]
[null,"Nao"]
[null,"Nao"]
[null,"Nao"]
[null,"Nao"]
[null,"Nao"]
[null,"Nao"]
[null,"Nao"]
[null,"Nao"]
[null,"Nao"]
[null,"Nao"]
[null,"Nao"]
[null,"Nao"]
[null,"Nao"]
[null,"Nao"]
[null,"Nao"]
[null,"Nao"]
[null,"Nao"]
[null,"Nao"]
[null,"Nao"]
[null,"Nao"]
[null,"Nao"]
[null,"Nao"]
[null,"Nao"]
[null,"Nao"]
[null,"Nao"]
[null,"Nao"]
[null,"Nao"]
[null,"Nao"]
[null,"Nao"]
[null,"Nao"]
[null,"Nao"]
[null,{"$f":"IF(A5911>0,\"Offhire\",\"Nao\")","v":"Nao"}]
[null,"Nao"]
[null,"Nao"]
[null,"Nao"]
[null,"Nao"]
[null,"Nao"]
[null,"Nao"]
[null,"Nao"]
[null,"Nao"]
[null,"Nao"]
[null,"Nao"]
[null,"Nao"]
[null,"Nao"]
[null,"Nao"]
[null,"Nao"]
[null,"Nao"]
[null,"Nao"]
[null,"Nao"]
[null,"Nao"]
[null,"Nao"]
[null,"Nao"]
[null,"Nao"]
[null,"Nao"]
[null,"Nao"]
[null,"Nao"]
[null,"Nao"]
[null,"Nao"]
[null,"Nao"]
[null,"Nao"]
[null,"Nao"]
[null,"Nao"]
[null,"Nao"]
[null,"Nao"]
[null,"Nao"]
[null,"Nao"]
[null,"Nao"]
[null,"Nao"]
[null,"Nao"]
[null,"Nao"]
[null,"Nao"]
[null,"Nao"]
[null,"Nao"]
[null,"Nao"]
[null,"Nao"]
[null,"Nao"]
[null,"Nao"]
[null,"Nao"]
[null,"Nao"]
[null,"Nao"]
[null,"Nao"]
[null,"Nao"]
[null,"Nao"]
[null,"Nao"]
[null,"Nao"]
[null,"Nao"]
[null,"Nao"]
[null,"Nao"]
[null,"Nao"]
[null,"Nao"]
[null,"Nao"]
[null,"Nao"]
[null,"Nao"]
[null,"Nao"]
[null,"Nao"]
[null,{"$f":"IF(A5975>0,\"Offhire\",\"Nao\")","v":"Nao"}]
[null,"Nao"]
[null,"Nao"]
[null,"Nao"]
[null,"Nao"]
[null,"Nao"]
[null,"Nao"]
[null,"Nao"]
[null,"Nao"]
[null,"Nao"]
[null,"Nao"]
[null,"Nao"]
[null,"Nao"]
[null,"Nao"]
[null,"Nao"]
[null,"Nao"]
[null,"Nao"]
[null,"Nao"]
[null,"Nao"]
[null,"Nao"]
[null,"Nao"]
[null,"Nao"]
[null,"Nao"]
[null,"Nao"]
[null,"Nao"]
[null,"Nao"]
[null,"Nao"]
[null,"Nao"]
[null,"Nao"]
[null,"Nao"]
[null,"Nao"]
[null,"Nao"]
[null,"Nao"]
[null,"Nao"]
[null,"Nao"]
[null,"Nao"]
[null,"Nao"]
[null,"Nao"]
[null,"Nao"]
[null,"Nao"]
[null,"Nao"]
[null,"Nao"]
[null,"Nao"]
[null,"Nao"]
[null,"Nao"]
[null,"Nao"]
[null,"Nao"]
[null,"Nao"]
[null,"Nao"]
[null,"Nao"]
[null,"Nao"]
[null,"Nao"]
[null,"Nao"]
[null,"Nao"]
[null,"Nao"]
[null,"Nao"]
[null,"Nao"]
[null,"Nao"]
[null,"Nao"]
[null,"Nao"]
[null,"Nao"]
[null,"Nao"]
[null,"Nao"]
[null,"Nao"]
[null,{"$f":"IF(A6039>0,\"Offhire\",\"Nao\")","v":"Nao"}]
[null,"Nao"]
[null,"Nao"]
[null,"Nao"]
[null,"Nao"]
[null,"Nao"]
[null,"Nao"]
[null,"Nao"]
[null,"Nao"]
[null,"Nao"]
[null,"Nao"]
[null,"Nao"]
[null,"Nao"]
[null,"Nao"]
[null,"Nao"]
[null,"Nao"]
[null,"Nao"]
[null,"Nao"]
[null,"Nao"]
[null,"Nao"]
[null,"Nao"]
[null,"Nao"]
[null,"Nao"]
[null,"Nao"]
[null,"Nao"]
[null,"Nao"]
[null,"Nao"]
[null,"Nao"]
[null,"Nao"]
[null,"Nao"]
[null,"Nao"]
[null,"Nao"]
[null,"Nao"]
[null,"Nao"]
[null,"Nao"]
[null,"Nao"]
[null,"Nao"]
[null,"Nao"]
[null,"Nao"]
[null,"Nao"]
[null,"Nao"]
[null,"Nao"]
[null,"Nao"]
[null,"Nao"]
[null,"Nao"]
[null,"Nao"]
[null,"Nao"]
[null,"Nao"]
[null,"Nao"]
[null,"Nao"]
[null,"Nao"]
[null,"Nao"]
[null,"Nao"]
[null,"Nao"]
[null,"Nao"]
[null,"Nao"]
[null,"Nao"]
[null,"Nao"]
[null,"Nao"]
[null,"Nao"]
[null,"Nao"]
[null,"Nao"]
[null,"Nao"]
[null,"Nao"]
[null,{"$f":"IF(A6103>0,\"Offhire\",\"Nao\")","v":"Nao"}]
[null,"Nao"]
[null,"Nao"]
[null,"Nao"]
[null,"Nao"]
[null,"Nao"]
[null,"Nao"]
[null,"Nao"]
[null,"Nao"]
[null,"Nao"]
[null,"Nao"]
[null,"Nao"]
[null,"Nao"]
[null,"Nao"]
[null,"Nao"]
[null,"Nao"]
[null,"Nao"]
[null,"Nao"]
[null,"Nao"]
[null,"Nao"]
[null,"Nao"]
[null,"Nao"]
[null,"Nao"]
[null,"Nao"]
[null,"Nao"]
[null,"Nao"]
[null,"Nao"]
[null,"Nao"]
[null,"Nao"]
[null,"Nao"]
[null,"Nao"]
[null,"Nao"]
[null,"Nao"]
[null,"Nao"]
[null,"Nao"]
[null,"Nao"]
[null,"Nao"]
[null,"Nao"]
[null,"Nao"]
[null,"Nao"]
[null,"Nao"]
[null,"Nao"]
[null,"Nao"]
[null,"Nao"]
[null,"Nao"]
[null,"Nao"]
[null,"Nao"]
[null,"Nao"]
[null,"Nao"]
[null,"Nao"]
[null,"Nao"]
[null,"Nao"]
[null,"Nao"]
[null,"Nao"]
[null,"Nao"]
[null,"Nao"]
[null,"Nao"]
[null,"Nao"]
[null,"Nao"]
[null,"Nao"]
[null,"Nao"]
[null,"Nao"]
[null,"Nao"]
[null,"Nao"]
[null,{"$f":"IF(A6167>0,\"Offhire\",\"Nao\")","v":"Nao"}]
[null,"Nao"]
[null,"Nao"]
[null,"Nao"]
[null,"Nao"]
[null,"Nao"]
[null,"Nao"]
[null,"Nao"]
[null,"Nao"]
[null,"Nao"]
[null,"Nao"]
[null,"Nao"]
[null,"Nao"]
[null,"Nao"]
[null,"Nao"]
[null,"Nao"]
[null,"Nao"]
[null,"Nao"]
[null,"Nao"]
[null,"Nao"]
[null,"Nao"]
[null,"Nao"]
[null,"Nao"]
[null,"Nao"]
[null,"Nao"]
[null,"Nao"]
[null,"Nao"]
[null,"Nao"]
[null,"Nao"]
[null,"Nao"]
[null,"Nao"]
[null,"Nao"]
[null,"Nao"]
[null,"Nao"]
[null,"Nao"]
[null,"Nao"]
[null,"Nao"]
[null,"Nao"]
[null,"Nao"]
[null,"Nao"]
[null,"Nao"]
[null,"Nao"]
[null,"Nao"]
[null,"Nao"]
[null,"Nao"]
[null,"Nao"]
[null,"Nao"]
[null,"Nao"]
[null,"Nao"]
[null,"Nao"]
[null,"Nao"]
[null,"Nao"]
[null,"Nao"]
[null,"Nao"]
[null,"Nao"]
[null,"Nao"]
[null,"Nao"]
[null,"Nao"]
[null,"Nao"]
[null,"Nao"]
[null,"Nao"]
[null,"Nao"]
[null,"Nao"]
[null,"Nao"]
[null,{"$f":"IF(A6231>0,\"Offhire\",\"Nao\")","v":"Nao"}]
[null,"Nao"]
[null,"Nao"]
[null,"Nao"]
[null,"Nao"]
[null,"Nao"]
[null,"Nao"]
[null,"Nao"]
[null,"Nao"]
[null,"Nao"]
[null,"Nao"]
[null,"Nao"]
[null,"Nao"]
[null,"Nao"]
[null,"Nao"]
[null,"Nao"]
[null,"Nao"]
[null,"Nao"]
[null,"Nao"]
[null,"Nao"]
[null,"Nao"]
[null,"Nao"]
[null,"Nao"]
[null,"Nao"]
[null,"Nao"]
[null,"Nao"]
[null,"Nao"]
[null,"Nao"]
[null,"Nao"]
[null,"Nao"]
[null,"Nao"]
[null,"Nao"]
[null,"Nao"]
[null,"Nao"]
[null,"Nao"]
[null,"Nao"]
[null,"Nao"]
[null,"Nao"]
[null,"Nao"]
[null,"Nao"]
[null,"Nao"]
[null,"Nao"]
[null,"Nao"]
[null,"Nao"]
[null,"Nao"]
[null,"Nao"]
[null,"Nao"]
[null,"Nao"]
[null,"Nao"]
[null,"Nao"]
[null,"Nao"]
[null,"Nao"]
[null,"Nao"]
[null,"Nao"]
[null,"Nao"]
[null,"Nao"]
[null,"Nao"]
[null,"Nao"]
[null,"Nao"]
[null,"Nao"]
[null,"Nao"]
[null,"Nao"]
[null,"Nao"]
[null,"Nao"]
[null,{"$f":"IF(A6295>0,\"Offhire\",\"Nao\")","v":"Nao"}]
[null,"Nao"]
[null,"Nao"]
[null,"Nao"]
[null,"Nao"]
[null,"Nao"]
[null,"Nao"]
[null,"Nao"]
[null,"Nao"]
[null,"Nao"]
[null,"Nao"]
[null,"Nao"]
[null,"Nao"]
[null,"Nao"]
[null,"Nao"]
[null,"Nao"]
[null,"Nao"]
[null,"Nao"]
[null,"Nao"]
[null,"Nao"]
[null,"Nao"]
[null,"Nao"]
[null,"Nao"]
[null,"Nao"]
[null,"Nao"]
[null,"Nao"]
[null,"Nao"]
[null,"Nao"]
[null,"Nao"]
[null,"Nao"]
[null,"Nao"]
[null,"Nao"]
[null,"Nao"]
[null,"Nao"]
[null,"Nao"]
[null,"Nao"]
[null,"Nao"]
[null,"Nao"]
[null,"Nao"]
[null,"Nao"]
[null,"Nao"]
[null,"Nao"]
[null,"Nao"]
[null,"Nao"]
[null,"Nao"]
[null,"Nao"]
[null,"Nao"]
[null,"Nao"]
[null,"Nao"]
[null,"Nao"]
[null,"Nao"]
[null,"Nao"]
[null,"Nao"]
[null,"Nao"]
[null,"Nao"]
[null,"Nao"]
[null,"Nao"]
[null,"Nao"]
[null,"Nao"]
[null,"Nao"]
[null,"Nao"]
[null,"Nao"]
[null,"Nao"]
[null,"Nao"]
[null,{"$f":"IF(A6359>0,\"Offhire\",\"Nao\")","v":"Nao"}]
[null,"Nao"]
[null,"Nao"]
[null,"Nao"]
[null,"Nao"]
[null,"Nao"]
[null,"Nao"]
[null,"Nao"]
[null,"Nao"]
[null,"Nao"]
[null,"Nao"]
[null,"Nao"]
[null,"Nao"]
[null,"Nao"]
[null,"Nao"]
[null,"Nao"]
[null,"Nao"]
[null,"Nao"]
[null,"Nao"]
[null,"Nao"]
[null,"Nao"]
[null,"Nao"]
[null,"Nao"]
[null,"Nao"]
[null,"Nao"]
[null,"Nao"]
[null,"Nao"]
[null,"Nao"]
[null,"Nao"]
[null,"Nao"]
[null,"Nao"]
[null,"Nao"]
[null,"Nao"]
[null,"Nao"]
[null,"Nao"]
[null,"Nao"]
[null,"Nao"]
[null,"Nao"]
[null,"Nao"]
[null,"Nao"]
[null,"Nao"]
[null,"Nao"]
[null,"Nao"]
[null,"Nao"]
[null,"Nao"]
[null,"Nao"]
[null,"Nao"]
[null,"Nao"]
[null,"Nao"]
[null,"Nao"]
[null,"Nao"]
[null,"Nao"]
[null,"Nao"]
[null,"Nao"]
[null,"Nao"]
[null,"Nao"]
[null,"Nao"]
[null,"Nao"]
[null,"Nao"]
[null,"Nao"]
[null,"Nao"]
[null,"Nao"]
[null,"Nao"]
[null,"Nao"]
[null,{"$f":"IF(A6423>0,\"Offhire\",\"Nao\")","v":"Nao"}]
[null,"Nao"]
[null,"Nao"]
[null,"Nao"]
[null,"Nao"]
[null,"Nao"]
[null,"Nao"]
[null,"Nao"]
[null,"Nao"]
[null,"Nao"]
[null,"Nao"]
[null,"Nao"]
[null,"Nao"]
[null,"Nao"]
[null,"Nao"]
[null,"Nao"]
[null,"Nao"]
[null,"Nao"]
[null,"Nao"]
[null,"Nao"]
[null,"Nao"]
[null,"Nao"]
[null,"Nao"]
[null,"Nao"]
[null,"Nao"]
[null,"Nao"]
[null,"Nao"]
[null,"Nao"]
[null,"Nao"]
[null,"Nao"]
[null,"Nao"]
[null,"Nao"]
[null,"Nao"]
[null,"Nao"]
[null,"Nao"]
[null,"Nao"]
[null,"Nao"]
[null,"Nao"]
[null,"Nao"]
[null,"Nao"]
[null,"Nao"]
[null,"Nao"]
[null,"Nao"]
[null,"Nao"]
[null,"Nao"]
[null,"Nao"]
[null,"Nao"]
[null,"Nao"]
[null,"Nao"]
[null,"Nao"]
[null,"Nao"]
[null,"Nao"]
[null,"Nao"]
[null,"Nao"]
[null,"Nao"]
[null,"Nao"]
[null,"Nao"]
[null,"Nao"]
[null,"Nao"]
[null,"Nao"]
[null,"Nao"]
[null,"Nao"]
[null,"Nao"]
[null,"Nao"]
[null,{"$f":"IF(A6487>0,\"Offhire\",\"Nao\")","v":"Nao"}]
[null,"Nao"]
[null,"Nao"]
[null,"Nao"]
[null,"Nao"]
[null,"Nao"]
[null,"Nao"]
[null,"Nao"]
[null,"Nao"]
[null,"Nao"]
[null,"Nao"]
[null,"Nao"]
[null,"Nao"]
[null,"Nao"]
[null,"Nao"]
[null,"Nao"]
[null,"Nao"]
[null,"Nao"]
[null,"Nao"]
[null,"Nao"]
[null,"Nao"]
[null,"Nao"]
[null,"Nao"]
[null,"Nao"]
[null,"Nao"]
[null,"Nao"]
[null,"Nao"]
[null,"Nao"]
[null,"Nao"]
[null,"Nao"]
[null,"Nao"]
[null,"Nao"]
[null,"Nao"]
[null,"Nao"]
[null,"Nao"]
[null,"Nao"]
[null,"Nao"]
[null,"Nao"]
[null,"Nao"]
[null,"Nao"]
[null,"Nao"]
[null,"Nao"]
[null,"Nao"]
[null,"Nao"]
[null,"Nao"]
[null,"Nao"]
[null,"Nao"]
[null,"Nao"]
[null,"Nao"]
[null,"Nao"]
[null,"Nao"]
[null,"Nao"]
[null,"Nao"]
[null,"Nao"]
[null,"Nao"]
[null,"Nao"]
[null,"Nao"]
[null,"Nao"]
[null,"Nao"]
[null,"Nao"]
[null,"Nao"]
[null,"Nao"]
[null,"Nao"]
[null,"Nao"]
[null,{"$f":"IF(A6551>0,\"Offhire\",\"Nao\")","v":"Nao"}]
[null,"Nao"]
[null,"Nao"]
[null,"Nao"]
[null,"Nao"]
[null,"Nao"]
[null,"Nao"]
[null,"Nao"]
[null,"Nao"]
[null,"Nao"]
[null,"Nao"]
[null,"Nao"]
[null,"Nao"]
[null,"Nao"]
[null,"Nao"]
[null,"Nao"]
[null,"Nao"]
[null,"Nao"]
[null,"Nao"]
[null,"Nao"]
[null,"Nao"]
[null,"Nao"]
[null,"Nao"]
[null,"Nao"]
[null,"Nao"]
[null,"Nao"]
[null,"Nao"]
[null,"Nao"]
[null,"Nao"]
[null,"Nao"]
[null,"Nao"]
[null,"Nao"]
[null,"Nao"]
[null,"Nao"]
[null,"Nao"]
[null,"Nao"]
[null,"Nao"]
[null,"Nao"]
[null,"Nao"]
[null,"Nao"]
[null,"Nao"]
[null,"Nao"]
[null,"Nao"]
[null,"Nao"]
[null,"Nao"]
[null,"Nao"]
[null,"Nao"]
[null,"Nao"]
[null,"Nao"]
[null,"Nao"]
[null,"Nao"]
[null,"Nao"]
[null,"Nao"]
[null,"Nao"]
[null,"Nao"]
[null,"Nao"]
[null,"Nao"]
[null,"Nao"]
[null,"Nao"]
[null,"Nao"]
[null,"Nao"]
[null,"Nao"]
[null,"Nao"]
[null,"Nao"]
[null,{"$f":"IF(A6615>0,\"Offhire\",\"Nao\")","v":"Nao"}]
[null,"Nao"]
[null,"Nao"]
[null,"Nao"]
[null,"Nao"]
[null,"Nao"]
[null,"Nao"]
[null,"Nao"]
[null,"Nao"]
[null,"Nao"]
[null,"Nao"]
[null,"Nao"]
[null,"Nao"]
[null,"Nao"]
[null,"Nao"]
[null,"Nao"]
[null,"Nao"]
[null,"Nao"]
[null,"Nao"]
[null,"Nao"]
[null,"Nao"]
[null,"Nao"]
[null,"Nao"]
[null,"Nao"]
[null,"Nao"]
[null,"Nao"]
[null,"Nao"]
[null,"Nao"]
[null,"Nao"]
[null,"Nao"]
[null,"Nao"]
[null,"Nao"]
[null,"Nao"]
[null,"Nao"]
[null,"Nao"]
[null,"Nao"]
[null,"Nao"]
[null,"Nao"]
[null,"Nao"]
[null,"Nao"]
[null,"Nao"]
[null,"Nao"]
[null,"Nao"]
[null,"Nao"]
[null,"Nao"]
[null,"Nao"]
[null,"Nao"]
[null,"Nao"]
[null,"Nao"]
[null,"Nao"]
[null,"Nao"]
[null,"Nao"]
[null,"Nao"]
[null,"Nao"]
[null,"Nao"]
[null,"Nao"]
[null,"Nao"]
[null,"Nao"]
[null,"Nao"]
[null,"Nao"]
[null,"Nao"]
[null,"Nao"]
[null,"Nao"]
[null,"Nao"]
[null,{"$f":"IF(A6679>0,\"Offhire\",\"Nao\")","v":"Nao"}]
[null,"Nao"]
[null,"Nao"]
[null,"Nao"]
[null,"Nao"]
[null,"Nao"]
[null,"Nao"]
[null,"Nao"]
[null,"Nao"]
[null,"Nao"]
[null,"Nao"]
[null,"Nao"]
[null,"Nao"]
[null,"Nao"]
[null,"Nao"]
[null,"Nao"]
[null,"Nao"]
[null,"Nao"]
[null,"Nao"]
[null,"Nao"]
[null,"Nao"]
[null,"Nao"]
[null,"Nao"]
[null,"Nao"]
[null,"Nao"]
[null,"Nao"]
[null,"Nao"]
[null,"Nao"]
[null,"Nao"]
[null,"Nao"]
[null,"Nao"]
[null,"Nao"]
[null,"Nao"]
[null,"Nao"]
[null,"Nao"]
[null,"Nao"]
[null,"Nao"]
[null,"Nao"]
[null,"Nao"]
[null,"Nao"]
[null,"Nao"]
[null,"Nao"]
[null,"Nao"]
[null,"Nao"]
[null,"Nao"]
[null,"Nao"]
[null,"Nao"]
[null,"Nao"]
[null,"Nao"]
[null,"Nao"]
[null,"Nao"]
[null,"Nao"]
[null,"Nao"]
[null,"Nao"]
[null,"Nao"]
[null,"Nao"]
[null,"Nao"]
[null,"Nao"]
[null,"Nao"]
[null,"Nao"]
[null,"Nao"]
[null,"Nao"]
[null,"Nao"]
[null,"Nao"]
[null,{"$f":"IF(A6743>0,\"Offhire\",\"Nao\")","v":"Nao"}]
[null,"Nao"]
[null,"Nao"]
[null,"Nao"]
[null,"Nao"]
[null,"Nao"]
[null,"Nao"]
[null,"Nao"]
[null,"Nao"]
[null,"Nao"]
[null,"Nao"]
[null,"Nao"]
[null,"Nao"]
[null,"Nao"]
[null,"Nao"]
[null,"Nao"]
[null,"Nao"]
[null,"Nao"]
[null,"Nao"]
[null,"Nao"]
[null,"Nao"]
[null,"Nao"]
[null,"Nao"]
[null,"Nao"]
[null,"Nao"]
[null,"Nao"]
[null,"Nao"]
[null,"Nao"]
[null,"Nao"]
[null,"Nao"]
[null,"Nao"]
[null,"Nao"]
[null,"Nao"]
[null,"Nao"]
[null,"Nao"]
[null,"Nao"]
[null,"Nao"]
[null,"Nao"]
[null,"Nao"]
[null,"Nao"]
[null,"Nao"]
[null,"Nao"]
[null,"Nao"]
[null,"Nao"]
[null,"Nao"]
[null,"Nao"]
[null,"Nao"]
[null,"Nao"]
[null,"Nao"]
[null,"Nao"]
[null,"Nao"]
[null,"Nao"]
[null,"Nao"]
[null,"Nao"]
[null,"Nao"]
[null,"Nao"]
[null,"Nao"]
[null,"Nao"]
[null,"Nao"]
[null,"Nao"]
[null,"Nao"]
[null,"Nao"]
[null,"Nao"]
[null,"Nao"]
[null,{"$f":"IF(A6807>0,\"Offhire\",\"Nao\")","v":"Nao"}]
[null,"Nao"]
[null,"Nao"]
[null,"Nao"]
[null,"Nao"]
[null,"Nao"]
[null,"Nao"]
[null,"Nao"]
[null,"Nao"]
[null,"Nao"]
[null,"Nao"]
[null,"Nao"]
[null,"Nao"]
[null,"Nao"]
[null,"Nao"]
[null,"Nao"]
[null,"Nao"]
[null,"Nao"]
[null,"Nao"]
[null,"Nao"]
[null,"Nao"]
[null,"Nao"]
[null,"Nao"]
[null,"Nao"]
[null,"Nao"]
[null,"Nao"]
[null,"Nao"]
[null,"Nao"]
[null,"Nao"]
[null,"Nao"]
[null,"Nao"]
[null,"Nao"]
[null,"Nao"]
[null,"Nao"]
[null,"Nao"]
[null,"Nao"]
[null,"Nao"]
[null,"Nao"]
[null,"Nao"]
[null,"Nao"]
[null,"Nao"]
[null,"Nao"]
[null,"Nao"]
[null,"Nao"]
[null,"Nao"]
[null,"Nao"]
[null,"Nao"]
[null,"Nao"]
[null,"Nao"]
[null,"Nao"]
[null,"Nao"]
[null,"Nao"]
[null,"Nao"]
[null,"Nao"]
[null,"Nao"]
[null,"Nao"]
[null,"Nao"]
[null,"Nao"]
[null,"Nao"]
[null,"Nao"]
[null,"Nao"]
[null,"Nao"]
[null,"Nao"]
[null,"Nao"]
[null,{"$f":"IF(A6871>0,\"Offhire\",\"Nao\")","v":"Nao"}]
[null,"Nao"]
[null,"Nao"]
[null,"Nao"]
[null,"Nao"]
[null,"Nao"]
[null,"Nao"]
[null,"Nao"]
[null,"Nao"]
[null,"Nao"]
[null,"Nao"]
[null,"Nao"]
[null,"Nao"]
[null,"Nao"]
[null,"Nao"]
[null,"Nao"]
[null,"Nao"]
[null,"Nao"]
[null,"Nao"]
[null,"Nao"]
[null,"Nao"]
[null,"Nao"]
[null,"Nao"]
[null,"Nao"]
[null,"Nao"]
[null,"Nao"]
[null,"Nao"]
[null,"Nao"]
[null,"Nao"]
[null,"Nao"]
[null,"Nao"]
[null,"Nao"]
[null,"Nao"]
[null,"Nao"]
[null,"Nao"]
[null,"Nao"]
[null,"Nao"]
[null,"Nao"]
[null,"Nao"]
[null,"Nao"]
[null,"Nao"]
[null,"Nao"]
[null,"Nao"]
[null,"Nao"]
[null,"Nao"]
[null,"Nao"]
[null,"Nao"]
[null,"Nao"]
[null,"Nao"]
[null,"Nao"]
[null,"Nao"]
[null,"Nao"]
[null,"Nao"]
[null,"Nao"]
[null,"Nao"]
[null,"Nao"]
[null,"Nao"]
[null,"Nao"]
[null,"Nao"]
[null,"Nao"]
[null,"Nao"]
[null,"Nao"]
[null,"Nao"]
[null,"Nao"]
[null,{"$f":"IF(A6935>0,\"Offhire\",\"Nao\")","v":"Nao"}]
[null,"Nao"]
[null,"Nao"]
[null,"Nao"]
[null,"Nao"]
[null,"Nao"]
[null,"Nao"]
[null,"Nao"]
[null,"Nao"]
[null,"Nao"]
[null,"Nao"]
[null,"Nao"]
[null,"Nao"]
[null,"Nao"]
[null,"Nao"]
[null,"Nao"]
[null,"Nao"]
[null,"Nao"]
[null,"Nao"]
[null,"Nao"]
[null,"Nao"]
[null,"Nao"]
[null,"Nao"]
[null,"Nao"]
[null,"Nao"]
[null,"Nao"]
[null,"Nao"]
[null,"Nao"]
[null,"Nao"]
[null,"Nao"]
[null,"Nao"]
[null,"Nao"]
[null,"Nao"]
[null,"Nao"]
[null,"Nao"]
[null,"Nao"]
[null,"Nao"]
[null,"Nao"]
[null,"Nao"]
[null,"Nao"]
[null,"Nao"]
[null,"Nao"]
[null,"Nao"]
[null,"Nao"]
[null,"Nao"]
[null,"Nao"]
[null,"Nao"]
[null,"Nao"]
[null,"Nao"]
[null,"Nao"]
[null,"Nao"]
[null,"Nao"]
[null,"Nao"]
[null,"Nao"]
[null,"Nao"]
[null,"Nao"]
[null,"Nao"]
[null,"Nao"]
[null,"Nao"]
[null,"Nao"]
[null,"Nao"]
[null,"Nao"]
[null,"Nao"]
[null,"Nao"]
[null,{"$f":"IF(A6999>0,\"Offhire\",\"Nao\")","v":"Nao"}]
[null,"Nao"]
[null,"Nao"]
[null,"Nao"]
[null,"Nao"]
[null,"Nao"]
[null,"Nao"]
[null,"Nao"]
[null,"Nao"]
[null,"Nao"]
[null,"Nao"]
[null,"Nao"]
[null,"Nao"]
[null,"Nao"]
[null,"Nao"]
[null,"Nao"]
[null,"Nao"]
[null,"Nao"]
[null,"Nao"]
[null,"Nao"]
[null,"Nao"]
[null,"Nao"]
[null,"Nao"]
[null,"Nao"]
[null,"Nao"]
[null,"Nao"]
[null,"Nao"]
[null,"Nao"]
[null,"Nao"]
[null,"Nao"]
[null,"Nao"]
[null,"Nao"]
[null,"Nao"]
[null,"Nao"]
[null,"Nao"]
[null,"Nao"]
[null,"Nao"]
[null,"Nao"]
[null,"Nao"]
[null,"Nao"]
[null,"Nao"]
[null,"Nao"]
[null,"Nao"]
[null,"Nao"]
[null,"Nao"]
[null,"Nao"]
[null,"Nao"]
[null,"Nao"]
[null,"Nao"]
[null,"Nao"]
[null,"Nao"]
[null,"Nao"]
[null,"Nao"]
[null,"Nao"]
[null,"Nao"]
[null,"Nao"]
[null,"Nao"]
[null,"Nao"]
[null,"Nao"]
[null,"Nao"]
[null,"Nao"]
[null,"Nao"]
[null,"Nao"]
[null,"Nao"]
[null,{"$f":"IF(A7063>0,\"Offhire\",\"Nao\")","v":"Nao"}]
[null,"Nao"]
[null,"Nao"]
[null,"Nao"]
[null,"Nao"]
[null,"Nao"]
[null,"Nao"]
[null,"Nao"]
[null,"Nao"]
[null,"Nao"]
[null,"Nao"]
[null,"Nao"]
[null,"Nao"]
[null,"Nao"]
[null,"Nao"]
[null,"Nao"]
[null,"Nao"]
[null,"Nao"]
[null,"Nao"]
[null,"Nao"]
[null,"Nao"]
[null,"Nao"]
[null,"Nao"]
[null,"Nao"]
[null,"Nao"]
[null,"Nao"]
[null,"Nao"]
[null,"Nao"]
[null,"Nao"]
[null,"Nao"]
[null,"Nao"]
[null,"Nao"]
[null,"Nao"]
[null,"Nao"]
[null,"Nao"]
[null,"Nao"]
[null,"Nao"]
[null,"Nao"]
[null,"Nao"]
[null,"Nao"]
[null,"Nao"]
[null,"Nao"]
[null,"Nao"]
[null,"Nao"]
[null,"Nao"]
[null,"Nao"]
[null,"Nao"]
[null,"Nao"]
[null,"Nao"]
[null,"Nao"]
[null,"Nao"]
[null,"Nao"]
[null,"Nao"]
[null,"Nao"]
[null,"Nao"]
[null,"Nao"]
[null,"Nao"]
[null,"Nao"]
[null,"Nao"]
[null,"Nao"]
[null,"Nao"]
[null,"Nao"]
[null,"Nao"]
[null,"Nao"]
[null,{"$f":"IF(A7127>0,\"Offhire\",\"Nao\")","v":"Nao"}]
[null,"Nao"]
[null,"Nao"]
[null,"Nao"]
[null,"Nao"]
[null,"Nao"]
[null,"Nao"]
[null,"Nao"]
[null,"Nao"]
[null,"Nao"]
[null,"Nao"]
[null,"Nao"]
[null,"Nao"]
[null,"Nao"]
[null,"Nao"]
[null,"Nao"]
[null,"Nao"]
[null,"Nao"]
[null,"Nao"]
[null,"Nao"]
[null,"Nao"]
[null,"Nao"]
[null,"Nao"]
[null,"Nao"]
[null,"Nao"]
[null,"Nao"]
[null,"Nao"]
[null,"Nao"]
[null,"Nao"]
[null,"Nao"]
[null,"Nao"]
[null,"Nao"]
[null,"Nao"]
[null,"Nao"]
[null,"Nao"]
[null,"Nao"]
[null,"Nao"]
[null,"Nao"]
[null,"Nao"]
[null,"Nao"]
[null,"Nao"]
[null,"Nao"]
[null,"Nao"]
[null,"Nao"]
[null,"Nao"]
[null,"Nao"]
[null,"Nao"]
[null,"Nao"]
[null,"Nao"]
[null,"Nao"]
[null,"Nao"]
[null,"Nao"]
[null,"Nao"]
[null,"Nao"]
[null,"Nao"]
[null,"Nao"]
[null,"Nao"]
[null,"Nao"]
[null,"Nao"]
[null,"Nao"]
[null,"Nao"]
[null,"Nao"]
[null,"Nao"]
[null,"Nao"]
[null,{"$f":"IF(A7191>0,\"Offhire\",\"Nao\")","v":"Nao"}]
[null,"Nao"]
[null,"Nao"]
[null,"Nao"]
[null,"Nao"]
[null,"Nao"]
[null,"Nao"]
[null,"Nao"]
[null,"Nao"]
[null,"Nao"]
[null,"Nao"]
[null,"Nao"]
[null,"Nao"]
[null,"Nao"]
[null,"Nao"]
[null,"Nao"]
[null,"Nao"]
[null,"Nao"]
[null,"Nao"]
[null,"Nao"]
[null,"Nao"]
[null,"Nao"]
[null,"Nao"]
[null,"Nao"]
[null,"Nao"]
[null,"Nao"]
[null,"Nao"]
[null,"Nao"]
[null,"Nao"]
[null,"Nao"]
[null,"Nao"]
[null,"Nao"]
[null,"Nao"]
[null,"Nao"]
[null,"Nao"]
[null,"Nao"]
[null,"Nao"]
[null,"Nao"]
[null,"Nao"]
[null,"Nao"]
[null,"Nao"]
[null,"Nao"]
[null,"Nao"]
[null,"Nao"]
[null,"Nao"]
[null,"Nao"]
[null,"Nao"]
[null,"Nao"]
[null,"Nao"]
[null,"Nao"]
[null,"Nao"]
[null,"Nao"]
[null,"Nao"]
[null,"Nao"]
[null,"Nao"]
[null,"Nao"]
[null,"Nao"]
[null,"Nao"]
[null,"Nao"]
[null,"Nao"]
[null,"Nao"]
[null,"Nao"]
[null,"Nao"]
[null,"Nao"]
[null,{"$f":"IF(A7255>0,\"Offhire\",\"Nao\")","v":"Nao"}]
[null,"Nao"]
[null,"Nao"]
[null,"Nao"]
[null,"Nao"]
[null,"Nao"]
[null,"Nao"]
[null,"Nao"]
[null,"Nao"]
[null,"Nao"]
[null,"Nao"]
[null,"Nao"]
[null,"Nao"]
[null,"Nao"]
[null,"Nao"]
[null,"Nao"]
[null,"Nao"]
[null,"Nao"]
[null,"Nao"]
[null,"Nao"]
[null,"Nao"]
[null,"Nao"]
[null,"Nao"]
[null,"Nao"]
[null,"Nao"]
[null,"Nao"]
[null,"Nao"]
[null,"Nao"]
[null,"Nao"]
[null,"Nao"]
[null,"Nao"]
[null,"Nao"]
[null,"Nao"]
[null,"Nao"]
[null,"Nao"]
[null,"Nao"]
[null,"Nao"]
[null,"Nao"]
[null,"Nao"]
[null,"Nao"]
[null,"Nao"]
[null,"Nao"]
[null,"Nao"]
[null,"Nao"]
[null,"Nao"]
[null,"Nao"]
[null,"Nao"]
[null,"Nao"]
[null,"Nao"]
[null,"Nao"]
[null,"Nao"]
[null,"Nao"]
[null,"Nao"]
[null,"Nao"]
[null,"Nao"]
[null,"Nao"]
[null,"Nao"]
[null,"Nao"]
[null,"Nao"]
[null,"Nao"]
[null,"Nao"]
[null,"Nao"]
[null,"Nao"]
[null,"Nao"]
[null,{"$f":"IF(A7319>0,\"Offhire\",\"Nao\")","v":"Nao"}]
[null,"Nao"]
[null,"Nao"]
[null,"Nao"]
[null,"Nao"]
[null,"Nao"]
[null,"Nao"]
[null,"Nao"]
[null,"Nao"]
[null,"Nao"]
[null,"Nao"]
[null,"Nao"]
[null,"Nao"]
[null,"Nao"]
[null,"Nao"]
[null,"Nao"]
[null,"Nao"]
[null,"Nao"]
[null,"Nao"]
[null,"Nao"]
[null,"Nao"]
[null,"Nao"]
[null,"Nao"]
[null,"Nao"]
[null,"Nao"]
[null,"Nao"]
[null,"Nao"]
[null,"Nao"]
[null,"Nao"]
[null,"Nao"]
[null,"Nao"]
[null,"Nao"]
[null,"Nao"]
[null,"Nao"]
[null,"Nao"]
[null,"Nao"]
[null,"Nao"]
[null,"Nao"]
[null,"Nao"]
[null,"Nao"]
[null,"Nao"]
[null,"Nao"]
[null,"Nao"]
[null,"Nao"]
[null,"Nao"]
[null,"Nao"]
[null,"Nao"]
[null,"Nao"]
[null,"Nao"]
[null,"Nao"]
[null,"Nao"]
[null,"Nao"]
[null,"Nao"]
[null,"Nao"]
[null,"Nao"]
[null,"Nao"]
[null,"Nao"]
[null,"Nao"]
[null,"Nao"]
[null,"Nao"]
[null,"Nao"]
[null,"Nao"]
[null,"Nao"]
[null,"Nao"]
[null,{"$f":"IF(A7383>0,\"Offhire\",\"Nao\")","v":"Nao"}]
[null,"Nao"]
[null,"Nao"]
[null,"Nao"]
[null,"Nao"]
[null,"Nao"]
[null,"Nao"]
[null,"Nao"]
[null,"Nao"]
[null,"Nao"]
[null,"Nao"]
[null,"Nao"]
[null,"Nao"]
[null,"Nao"]
[null,"Nao"]
[null,"Nao"]
[null,"Nao"]
[null,"Nao"]
[null,"Nao"]
[null,"Nao"]
[null,"Nao"]
[null,"Nao"]
[null,"Nao"]
[null,"Nao"]
[null,"Nao"]
[null,"Nao"]
[null,"Nao"]
[null,"Nao"]
[null,"Nao"]
[null,"Nao"]
[null,"Nao"]
[null,"Nao"]
[null,"Nao"]
[null,"Nao"]
[null,"Nao"]
[null,"Nao"]
[null,"Nao"]
[null,"Nao"]
[null,"Nao"]
[null,"Nao"]
[null,"Nao"]
[null,"Nao"]
[null,"Nao"]
[null,"Nao"]
[null,"Nao"]
[null,"Nao"]
[null,"Nao"]
[null,"Nao"]
[null,"Nao"]
[null,"Nao"]
[null,"Nao"]
[null,"Nao"]
[null,"Nao"]
[null,"Nao"]
[null,"Nao"]
[null,"Nao"]
[null,"Nao"]
[null,"Nao"]
[null,"Nao"]
[null,"Nao"]
[null,"Nao"]
[null,"Nao"]
[null,"Nao"]
[null,"Nao"]
[null,{"$f":"IF(A7447>0,\"Offhire\",\"Nao\")","v":"Nao"}]
[null,"Nao"]
[null,"Nao"]
[null,"Nao"]
[null,"Nao"]
[null,"Nao"]
[null,"Nao"]
[null,"Nao"]
[null,"Nao"]
[null,"Nao"]
[null,"Nao"]
[null,"Nao"]
[null,"Nao"]
[null,"Nao"]
[null,"Nao"]
[null,"Nao"]
[null,"Nao"]
[null,"Nao"]
[null,"Nao"]
[null,"Nao"]
[null,"Nao"]
[null,"Nao"]
[null,"Nao"]
[null,"Nao"]
[null,"Nao"]
[null,"Nao"]
[null,"Nao"]
[null,"Nao"]
[null,"Nao"]
[null,"Nao"]
[null,"Nao"]
[null,"Nao"]
[null,"Nao"]
[null,"Nao"]
[null,"Nao"]
[null,"Nao"]
[null,"Nao"]
[null,"Nao"]
[null,"Nao"]
[null,"Nao"]
[null,"Nao"]
[null,"Nao"]
[null,"Nao"]
[null,"Nao"]
[null,"Nao"]
[null,"Nao"]
[null,"Nao"]
[null,"Nao"]
[null,"Nao"]
[null,"Nao"]
[null,"Nao"]
[null,"Nao"]
[null,"Nao"]
[null,"Nao"]
[null,"Nao"]
[null,"Nao"]
[null,"Nao"]
[null,"Nao"]
[null,"Nao"]
[null,"Nao"]
[null,"Nao"]
[null,"Nao"]
[null,"Nao"]
[null,"Nao"]
[null,{"$f":"IF(A7511>0,\"Offhire\",\"Nao\")","v":"Nao"}]
[null,"Nao"]
[null,"Nao"]
[null,"Nao"]
[null,"Nao"]
[null,"Nao"]
[null,"Nao"]
[null,"Nao"]
[null,"Nao"]
[null,"Nao"]
[null,"Nao"]
[null,"Nao"]
[null,"Nao"]
[null,"Nao"]
[null,"Nao"]
[null,"Nao"]
[null,"Nao"]
[null,"Nao"]
[null,"Nao"]
[null,"Nao"]
[null,"Nao"]
[null,"Nao"]
[null,"Nao"]
[null,"Nao"]
[null,"Nao"]
[null,"Nao"]
[null,"Nao"]
[null,"Nao"]
[null,"Nao"]
[null,"Nao"]
[null,"Nao"]
[null,"Nao"]
[null,"Nao"]
[null,"Nao"]
[null,"Nao"]
[null,"Nao"]
[null,"Nao"]
[null,"Nao"]
[null,"Nao"]
[null,"Nao"]
[null,"Nao"]
[null,"Nao"]
[null,"Nao"]
[null,"Nao"]
[null,"Nao"]
[null,"Nao"]
[null,"Nao"]
[null,"Nao"]
[null,"Nao"]
[null,"Nao"]
[null,"Nao"]
[null,"Nao"]
[null,"Nao"]
[null,"Nao"]
[null,"Nao"]
[null,"Nao"]
[null,"Nao"]
[null,"Nao"]
[null,"Nao"]
[null,"Nao"]
[null,"Nao"]
[null,"Nao"]
[null,"Nao"]
[null,"Nao"]
[null,{"$f":"IF(A7575>0,\"Offhire\",\"Nao\")","v":"Nao"}]
[null,"Nao"]
[null,"Nao"]
[null,"Nao"]
[null,"Nao"]
[null,"Nao"]
[null,"Nao"]
[null,"Nao"]
[null,"Nao"]
[null,"Nao"]
[null,"Nao"]
[null,"Nao"]
[null,"Nao"]
[null,"Nao"]
[null,"Nao"]
[null,"Nao"]
[null,"Nao"]
[null,"Nao"]
[null,"Nao"]
[null,"Nao"]
[null,"Nao"]
[null,"Nao"]
[null,"Nao"]
[null,"Nao"]
[null,"Nao"]
[null,"Nao"]
[null,"Nao"]
[null,"Nao"]
[null,"Nao"]
[null,"Nao"]
[null,"Nao"]
[null,"Nao"]
[null,"Nao"]
[null,"Nao"]
[null,"Nao"]
[null,"Nao"]
[null,"Nao"]
[null,"Nao"]
[null,"Nao"]
[null,"Nao"]
[null,"Nao"]
[null,"Nao"]
[null,"Nao"]
[null,"Nao"]
[null,"Nao"]
[null,"Nao"]
[null,"Nao"]
[null,"Nao"]
[null,"Nao"]
[null,"Nao"]
[null,"Nao"]
[null,"Nao"]
[null,"Nao"]
[null,"Nao"]
[null,"Nao"]
[null,"Nao"]
[null,"Nao"]
[null,"Nao"]
[null,"Nao"]
[null,"Nao"]
[null,"Nao"]
[null,"Nao"]
[null,"Nao"]
[null,"Nao"]
[null,{"$f":"IF(A7639>0,\"Offhire\",\"Nao\")","v":"Nao"}]
[null,"Nao"]
[null,"Nao"]
[null,"Nao"]
[null,"Nao"]
[null,"Nao"]
[null,"Nao"]
[null,"Nao"]
[null,"Nao"]
[null,"Nao"]
[null,"Nao"]
[null,"Nao"]
[null,"Nao"]
[null,"Nao"]
[null,"Nao"]
[null,"Nao"]
[null,"Nao"]
[null,"Nao"]
[null,"Nao"]
[null,"Nao"]
[null,"Nao"]
[null,"Nao"]
[null,"Nao"]
[null,"Nao"]
[null,"Nao"]
[null,"Nao"]
[null,"Nao"]
[null,"Nao"]
[null,"Nao"]
[null,"Nao"]
[null,"Nao"]
[null,"Nao"]
[null,"Nao"]
[null,"Nao"]
[null,"Nao"]
[null,"Nao"]
[null,"Nao"]
[null,"Nao"]
[null,"Nao"]
[null,"Nao"]
[null,"Nao"]
[null,"Nao"]
[null,"Nao"]
[null,"Nao"]
[null,"Nao"]
[null,"Nao"]
[null,"Nao"]
[null,"Nao"]
[null,"Nao"]
[null,"Nao"]
[null,"Nao"]
[null,"Nao"]
[null,"Nao"]
[null,"Nao"]
[null,"Nao"]
[null,"Nao"]
[null,"Nao"]
[null,"Nao"]
[null,"Nao"]
[null,"Nao"]
[null,"Nao"]
[null,"Nao"]
[null,"Nao"]
[null,"Nao"]
[null,{"$f":"IF(A7703>0,\"Offhire\",\"Nao\")","v":"Nao"}]
[null,"Nao"]
[null,"Nao"]
[null,"Nao"]
[null,"Nao"]
[null,"Nao"]
[null,"Nao"]
[null,"Nao"]
[null,"Nao"]
[null,"Nao"]
[null,"Nao"]
[null,"Nao"]
[null,"Nao"]
[null,"Nao"]
[null,"Nao"]
[null,"Nao"]
[null,"Nao"]
[null,"Nao"]
[null,"Nao"]
[null,"Nao"]
[null,"Nao"]
[null,"Nao"]
[null,"Nao"]
[null,"Nao"]
[null,"Nao"]
[null,"Nao"]
[null,"Nao"]
[null,"Nao"]
[null,"Nao"]
[null,"Nao"]
[null,"Nao"]
[null,"Nao"]
[null,"Nao"]
[null,"Nao"]
[null,"Nao"]
[null,"Nao"]
[null,"Nao"]
[null,"Nao"]
[null,"Nao"]
[null,"Nao"]
[null,"Nao"]
[null,"Nao"]
[null,"Nao"]
[null,"Nao"]
[null,"Nao"]
[null,"Nao"]
[null,"Nao"]
[null,"Nao"]
[null,"Nao"]
[null,"Nao"]
[null,"Nao"]
[null,"Nao"]
[null,"Nao"]
[null,"Nao"]
[null,"Nao"]
[null,"Nao"]
[null,"Nao"]
[null,"Nao"]
[null,"Nao"]
[null,"Nao"]
[null,"Nao"]
[null,"Nao"]
[null,"Nao"]
[null,"Nao"]
[null,{"$f":"IF(A7767>0,\"Offhire\",\"Nao\")","v":"Nao"}]
[null,"Nao"]
[null,"Nao"]
[null,"Nao"]
[null,"Nao"]
[null,"Nao"]
[null,"Nao"]
[null,"Nao"]
[null,"Nao"]
[null,"Nao"]
[null,"Nao"]
[null,"Nao"]
[null,"Nao"]
[null,"Nao"]
[null,"Nao"]
[null,"Nao"]
[null,"Nao"]
[null,"Nao"]
[null,"Nao"]
[null,"Nao"]
[null,"Nao"]
[null,"Nao"]
[null,"Nao"]
[null,"Nao"]
[null,"Nao"]
[null,"Nao"]
[null,"Nao"]
[null,"Nao"]
[null,"Nao"]
[null,"Nao"]
[null,"Nao"]
[null,"Nao"]
[null,"Nao"]
[null,"Nao"]
[null,"Nao"]
[null,"Nao"]
[null,"Nao"]
[null,"Nao"]
[null,"Nao"]
[null,"Nao"]
[null,"Nao"]
[null,"Nao"]
[null,"Nao"]
[null,"Nao"]
[null,"Nao"]
[null,"Nao"]
[null,"Nao"]
[null,"Nao"]
[null,"Nao"]
[null,"Nao"]
[null,"Nao"]
[null,"Nao"]
[null,"Nao"]
[null,"Nao"]
[null,"Nao"]
[null,"Nao"]
[null,"Nao"]
[null,"Nao"]
[null,"Nao"]
[null,"Nao"]
[null,"Nao"]
[null,"Nao"]
[null,"Nao"]
[null,"Nao"]
[null,{"$f":"IF(A7831>0,\"Offhire\",\"Nao\")","v":"Nao"}]
[null,"Nao"]
[null,"Nao"]
[null,"Nao"]
[null,"Nao"]
[null,"Nao"]
[null,"Nao"]
[null,"Nao"]
[null,"Nao"]
[null,"Nao"]
[null,"Nao"]
[null,"Nao"]
[null,"Nao"]
[null,"Nao"]
[null,"Nao"]
[null,"Nao"]
[null,"Nao"]
[null,"Nao"]
[null,"Nao"]
[null,"Nao"]
[null,"Nao"]
[null,"Nao"]
[null,"Nao"]
[null,"Nao"]
[null,"Nao"]
[null,"Nao"]
[null,"Nao"]
[null,"Nao"]
[null,"Nao"]
[null,"Nao"]
[null,"Nao"]
[null,"Nao"]
[null,"Nao"]
[null,"Nao"]
[null,"Nao"]
[null,"Nao"]
[null,"Nao"]
[null,"Nao"]
[null,"Nao"]
[null,"Nao"]
[null,"Nao"]
[null,"Nao"]
[null,"Nao"]
[null,"Nao"]
[null,"Nao"]
[null,"Nao"]
[null,"Nao"]
[null,"Nao"]
[null,"Nao"]
[null,"Nao"]
[null,"Nao"]
[null,"Nao"]
[null,"Nao"]
[null,"Nao"]
[null,"Nao"]
[null,"Nao"]
[null,"Nao"]
[null,"Nao"]
[null,"Nao"]
[null,"Nao"]
[null,"Nao"]
[null,"Nao"]
[null,"Nao"]
[null,"Nao"]
[null,{"$f":"IF(A7895>0,\"Offhire\",\"Nao\")","v":"Nao"}]
[null,"Nao"]
[null,"Nao"]
[null,"Nao"]
[null,"Nao"]
[null,"Nao"]
[null,"Nao"]
[null,"Nao"]
[null,"Nao"]
[null,"Nao"]
[null,"Nao"]
[null,"Nao"]
[null,"Nao"]
[null,"Nao"]
[null,"Nao"]
[null,"Nao"]
[null,"Nao"]
[null,"Nao"]
[null,"Nao"]
[null,"Nao"]
[null,"Nao"]
[null,"Nao"]
[null,"Nao"]
[null,"Nao"]
[null,"Nao"]
[null,"Nao"]
[null,"Nao"]
[null,"Nao"]
[null,"Nao"]
[null,"Nao"]
[null,"Nao"]
[null,"Nao"]
[null,"Nao"]
[null,"Nao"]
[null,"Nao"]
[null,"Nao"]
[null,"Nao"]
[null,"Nao"]
[null,"Nao"]
[null,"Nao"]
[null,"Nao"]
[null,"Nao"]
[null,"Nao"]
[null,"Nao"]
[null,"Nao"]
[null,"Nao"]
[null,"Nao"]
[null,"Nao"]
[null,"Nao"]
[null,"Nao"]
[null,"Nao"]
[null,"Nao"]
[null,"Nao"]
[null,"Nao"]
[null,"Nao"]
[null,"Nao"]
[null,"Nao"]
[null,"Nao"]
[null,"Nao"]
[null,"Nao"]
[null,"Nao"]
[null,"Nao"]
[null,"Nao"]
[null,"Nao"]
[null,{"$f":"IF(A7959>0,\"Offhire\",\"Nao\")","v":"Nao"}]
[null,"Nao"]
[null,"Nao"]
[null,"Nao"]
[null,"Nao"]
[null,"Nao"]
[null,"Nao"]
[null,"Nao"]
[null,"Nao"]
[null,"Nao"]
[null,"Nao"]
[null,"Nao"]
[null,"Nao"]
[null,"Nao"]
[null,"Nao"]
[null,"Nao"]
[null,"Nao"]
[null,"Nao"]
[null,"Nao"]
[null,"Nao"]
[null,"Nao"]
[null,"Nao"]
[null,"Nao"]
[null,"Nao"]
[null,"Nao"]
[null,"Nao"]
[null,"Nao"]
[null,"Nao"]
[null,"Nao"]
[null,"Nao"]
[null,"Nao"]
[null,"Nao"]
[null,"Nao"]
[null,"Nao"]
[null,"Nao"]
[null,"Nao"]
[null,"Nao"]
[null,"Nao"]
[null,"Nao"]
[null,"Nao"]
[null,"Nao"]
[null,"Nao"]
[null,"Nao"]
[null,"Nao"]
[null,"Nao"]
[null,"Nao"]
[null,"Nao"]
[null,"Nao"]
[null,"Nao"]
[null,"Nao"]
[null,"Nao"]
[null,"Nao"]
[null,"Nao"]
[null,"Nao"]
[null,"Nao"]
[null,"Nao"]
[null,"Nao"]
[null,"Nao"]
[null,"Nao"]
[null,"Nao"]
[null,"Nao"]
[null,"Nao"]
[null,"Nao"]
[null,"Nao"]
[null,{"$f":"IF(A8023>0,\"Offhire\",\"Nao\")","v":"Nao"}]
[null,"Nao"]
[null,"Nao"]
[null,"Nao"]
[null,"Nao"]
[null,"Nao"]
[null,"Nao"]
[null,"Nao"]
[null,"Nao"]
[null,"Nao"]
[null,"Nao"]
[null,"Nao"]
[null,"Nao"]
[null,"Nao"]
[null,"Nao"]
[null,"Nao"]
[null,"Nao"]
[null,"Nao"]
[null,"Nao"]
[null,"Nao"]
[null,"Nao"]
[null,"Nao"]
[null,"Nao"]
[null,"Nao"]
[null,"Nao"]
[null,"Nao"]
[null,"Nao"]
[null,"Nao"]
[null,"Nao"]
[null,"Nao"]
[null,"Nao"]
[null,"Nao"]
[null,"Nao"]
[null,"Nao"]
[null,"Nao"]
[null,"Nao"]
[null,"Nao"]
[null,"Nao"]
[null,"Nao"]
[null,"Nao"]
[null,"Nao"]
[null,"Nao"]
[null,"Nao"]
[null,"Nao"]
[null,"Nao"]
[null,"Nao"]
[null,"Nao"]
[null,"Nao"]
[null,"Nao"]
[null,"Nao"]
[null,"Nao"]
[null,"Nao"]
[null,"Nao"]
[null,"Nao"]
[null,"Nao"]
[null,"Nao"]
[null,"Nao"]
[null,"Nao"]
[null,"Nao"]
[null,"Nao"]
[null,"Nao"]
[null,"Nao"]
[null,"Nao"]
[null,"Nao"]
[null,{"$f":"IF(A8087>0,\"Offhire\",\"Nao\")","v":"Nao"}]
[null,"Nao"]
[null,"Nao"]
[null,"Nao"]
[null,"Nao"]
[null,"Nao"]
[null,"Nao"]
[null,"Nao"]
[null,"Nao"]
[null,"Nao"]
[null,"Nao"]
[null,"Nao"]
[null,"Nao"]
[null,"Nao"]
[null,"Nao"]
[null,"Nao"]
[null,"Nao"]
[null,"Nao"]
[null,"Nao"]
[null,"Nao"]
[null,"Nao"]
[null,"Nao"]
[null,"Nao"]
[null,"Nao"]
[null,"Nao"]
[null,"Nao"]
[null,"Nao"]
[null,"Nao"]
[null,"Nao"]
[null,"Nao"]
[null,"Nao"]
[null,"Nao"]
[null,"Nao"]
[null,"Nao"]
[null,"Nao"]
[null,"Nao"]
[null,"Nao"]
[null,"Nao"]
[null,"Nao"]
[null,"Nao"]
[null,"Nao"]
[null,"Nao"]
[null,"Nao"]
[null,"Nao"]
[null,"Nao"]
[null,"Nao"]
[null,"Nao"]
[null,"Nao"]
[null,"Nao"]
[null,"Nao"]
[null,"Nao"]
[null,"Nao"]
[null,"Nao"]
[null,"Nao"]
[null,"Nao"]
[null,"Nao"]
[null,"Nao"]
[null,"Nao"]
[null,"Nao"]
[null,"Nao"]
[null,"Nao"]
[null,"Nao"]
[null,"Nao"]
[null,"Nao"]
[null,{"$f":"IF(A8151>0,\"Offhire\",\"Nao\")","v":"Nao"}]
[null,"Nao"]
[null,"Nao"]
[null,"Nao"]
[null,"Nao"]
[null,"Nao"]
[null,"Nao"]
[null,"Nao"]
[null,"Nao"]
[null,"Nao"]
[null,"Nao"]
[null,"Nao"]
[null,"Nao"]
[null,"Nao"]
[null,"Nao"]
[null,"Nao"]
[null,"Nao"]
[null,"Nao"]
[null,"Nao"]
[null,"Nao"]
[null,"Nao"]
[null,"Nao"]
[null,"Nao"]
[null,"Nao"]
[null,"Nao"]
[null,"Nao"]
[null,"Nao"]
[null,"Nao"]
[null,"Nao"]
[null,"Nao"]
[null,"Nao"]
[null,"Nao"]
[null,"Nao"]
[null,"Nao"]
[null,"Nao"]
[null,"Nao"]
[null,"Nao"]
[null,"Nao"]
[null,"Nao"]
[null,"Nao"]
[null,"Nao"]
[null,"Nao"]
[null,"Nao"]
[null,"Nao"]
[null,"Nao"]
[null,"Nao"]
[null,"Nao"]
[null,"Nao"]
[null,"Nao"]
[null,"Nao"]
[null,"Nao"]
[null,"Nao"]
[null,"Nao"]
[null,"Nao"]
[null,"Nao"]
[null,"Nao"]
[null,"Nao"]
[null,"Nao"]
[null,"Nao"]
[null,"Nao"]
[null,"Nao"]
[null,"Nao"]
[null,"Nao"]
[null,"Nao"]
[null,{"$f":"IF(A8215>0,\"Offhire\",\"Nao\")","v":"Nao"}]
[null,"Nao"]
[null,"Nao"]
[null,"Nao"]
[null,"Nao"]
[null,"Nao"]
[null,"Nao"]
[null,"Nao"]
[null,"Nao"]
[null,"Nao"]
[null,"Nao"]
[null,"Nao"]
[null,"Nao"]
[null,"Nao"]
[null,"Nao"]
[null,"Nao"]
[null,"Nao"]
[null,"Nao"]
[null,"Nao"]
[null,"Nao"]
[null,"Nao"]
[null,"Nao"]
[null,"Nao"]
[null,"Nao"]
[null,"Nao"]
[null,"Nao"]
[null,"Nao"]
[null,"Nao"]
[null,"Nao"]
[null,"Nao"]
[null,"Nao"]
[null,"Nao"]
[null,"Nao"]
[null,"Nao"]
[null,"Nao"]
[null,"Nao"]
[null,"Nao"]
[null,"Nao"]
[null,"Nao"]
[null,"Nao"]
[null,"Nao"]
[null,"Nao"]
[null,"Nao"]
[null,"Nao"]
[null,"Nao"]
[null,"Nao"]
[null,"Nao"]
[null,"Nao"]
[null,"Nao"]
[null,"Nao"]
[null,"Nao"]
[null,"Nao"]
[null,"Nao"]
[null,"Nao"]
[null,"Nao"]
[null,"Nao"]
[null,"Nao"]
[null,"Nao"]
[null,"Nao"]
[null,"Nao"]
[null,"Nao"]
[null,"Nao"]
[null,"Nao"]
[null,"Nao"]
[null,{"$f":"IF(A8279>0,\"Offhire\",\"Nao\")","v":"Nao"}]
[null,"Nao"]
[null,"Nao"]
[null,"Nao"]
[null,"Nao"]
[null,"Nao"]
[null,"Nao"]
[null,"Nao"]
[null,"Nao"]
[null,"Nao"]
[null,"Nao"]
[null,"Nao"]
[null,"Nao"]
[null,"Nao"]
[null,"Nao"]
[null,"Nao"]
[null,"Nao"]
[null,"Nao"]
[null,"Nao"]
[null,"Nao"]
[null,"Nao"]
[null,"Nao"]
[null,"Nao"]
[null,"Nao"]
[null,"Nao"]
[null,"Nao"]
[null,"Nao"]
[null,"Nao"]
[null,"Nao"]
[null,"Nao"]
[null,"Nao"]
[null,"Nao"]
[null,"Nao"]
[null,"Nao"]
[null,"Nao"]
[null,"Nao"]
[null,"Nao"]
[null,"Nao"]
[null,"Nao"]
[null,"Nao"]
[null,"Nao"]
[null,"Nao"]
[null,"Nao"]
[null,"Nao"]
[null,"Nao"]
[null,"Nao"]
[null,"Nao"]
[null,"Nao"]
[null,"Nao"]
[null,"Nao"]
[null,"Nao"]
[null,"Nao"]
[null,"Nao"]
[null,"Nao"]
[null,"Nao"]
[null,"Nao"]
[null,"Nao"]
[null,"Nao"]
[null,"Nao"]
[null,"Nao"]
[null,"Nao"]
[null,"Nao"]
[null,"Nao"]
[null,"Nao"]
[null,{"$f":"IF(A8343>0,\"Offhire\",\"Nao\")","v":"Nao"}]
[null,"Nao"]
[null,"Nao"]
[null,"Nao"]
[null,"Nao"]
[null,"Nao"]
[null,"Nao"]
[null,"Nao"]
[null,"Nao"]
[null,"Nao"]
[null,"Nao"]
[null,"Nao"]
[null,"Nao"]
[null,"Nao"]
[null,"Nao"]
[null,"Nao"]
[null,"Nao"]
[null,"Nao"]
[null,"Nao"]
[null,"Nao"]
[null,"Nao"]
[null,"Nao"]
[null,"Nao"]
[null,"Nao"]
[null,"Nao"]
[null,"Nao"]
[null,"Nao"]
[null,"Nao"]
[null,"Nao"]
[null,"Nao"]
[null,"Nao"]
[null,"Nao"]
[null,"Nao"]
[null,"Nao"]
[null,"Nao"]
[null,"Nao"]
[null,"Nao"]
[null,"Nao"]
[null,"Nao"]
[null,"Nao"]
[null,"Nao"]
[null,"Nao"]
[null,"Nao"]
[null,"Nao"]
[null,"Nao"]
[null,"Nao"]
[null,"Nao"]
[null,"Nao"]
[null,"Nao"]
[null,"Nao"]
[null,"Nao"]
[null,"Nao"]
[null,"Nao"]
[null,"Nao"]
[null,"Nao"]
[null,"Nao"]
[null,"Nao"]
[null,"Nao"]
[null,"Nao"]
[null,"Nao"]
[null,"Nao"]
[null,"Nao"]
[null,"Nao"]
[null,"Nao"]
[null,{"$f":"IF(A8407>0,\"Offhire\",\"Nao\")","v":"Nao"}]
[null,"Nao"]
[null,"Nao"]
[null,"Nao"]
[null,"Nao"]
[null,"Nao"]
[null,"Nao"]
[null,"Nao"]
[null,"Nao"]
[null,"Nao"]
[null,"Nao"]
[null,"Nao"]
[null,"Nao"]
[null,"Nao"]
[null,"Nao"]
[null,"Nao"]
[null,"Nao"]
[null,"Nao"]
[null,"Nao"]
[null,"Nao"]
[null,"Nao"]
[null,"Nao"]
[null,"Nao"]
[null,"Nao"]
[null,"Nao"]
[null,"Nao"]
[null,"Nao"]
[null,"Nao"]
[null,"Nao"]
[null,"Nao"]
[null,"Nao"]
[null,"Nao"]
[null,"Nao"]
[null,"Nao"]
[null,"Nao"]
[null,"Nao"]
[null,"Nao"]
[null,"Nao"]
[null,"Nao"]
[null,"Nao"]
[null,"Nao"]
[null,"Nao"]
[null,"Nao"]
[null,"Nao"]
[null,"Nao"]
[null,"Nao"]
[null,"Nao"]
[null,"Nao"]
[null,"Nao"]
[null,"Nao"]
[null,"Nao"]
[null,"Nao"]
[null,"Nao"]
[null,"Nao"]
[null,"Nao"]
[null,"Nao"]
[null,"Nao"]
[null,"Nao"]
[null,"Nao"]
[null,"Nao"]
[null,"Nao"]
[null,"Nao"]
[null,"Nao"]
[null,"Nao"]
[null,{"$f":"IF(A8471>0,\"Offhire\",\"Nao\")","v":"Nao"}]
[null,"Nao"]
[null,"Nao"]
[null,"Nao"]
[null,"Nao"]
[null,"Nao"]
[null,"Nao"]
[null,"Nao"]
[null,"Nao"]
[null,"Nao"]
[null,"Nao"]
[null,"Nao"]
[null,"Nao"]
[null,"Nao"]
[null,"Nao"]
[null,"Nao"]
[null,"Nao"]
[null,"Nao"]
[null,"Nao"]
[null,"Nao"]
[null,"Nao"]
[null,"Nao"]
[null,"Nao"]
[null,"Nao"]
[null,"Nao"]
[null,"Nao"]
[null,"Nao"]
[null,"Nao"]
[null,"Nao"]
[null,"Nao"]
[null,"Nao"]
[null,"Nao"]
[null,"Nao"]
[null,"Nao"]
[null,"Nao"]
[null,"Nao"]
[null,"Nao"]
[null,"Nao"]
[null,"Nao"]
[null,"Nao"]
[null,"Nao"]
[null,"Nao"]
[null,"Nao"]
[null,"Nao"]
[null,"Nao"]
[null,"Nao"]
[null,"Nao"]
[null,"Nao"]
[null,"Nao"]
[null,"Nao"]
[null,"Nao"]
[null,"Nao"]
[null,"Nao"]
[null,"Nao"]
[null,"Nao"]
[null,"Nao"]
[null,"Nao"]
[null,"Nao"]
[null,"Nao"]
[null,"Nao"]
[null,"Nao"]
[null,"Nao"]
[null,"Nao"]
[null,"Nao"]
[null,{"$f":"IF(A8535>0,\"Offhire\",\"Nao\")","v":"Nao"}]
[null,"Nao"]
[null,"Nao"]
[null,"Nao"]
[null,"Nao"]
[null,"Nao"]
[null,"Nao"]
[null,"Nao"]
[null,"Nao"]
[null,"Nao"]
[null,"Nao"]
[null,"Nao"]
[null,"Nao"]
[null,"Nao"]
[null,"Nao"]
[null,"Nao"]
[null,"Nao"]
[null,"Nao"]
[null,"Nao"]
[null,"Nao"]
[null,"Nao"]
[null,"Nao"]
[null,"Nao"]
[null,"Nao"]
[null,"Nao"]
[null,"Nao"]
[null,"Nao"]
[null,"Nao"]
[null,"Nao"]
[null,"Nao"]
[null,"Nao"]
[null,"Nao"]
[null,"Nao"]
[null,"Nao"]
[null,"Nao"]
[null,"Nao"]
[null,"Nao"]
[null,"Nao"]
[null,"Nao"]
[null,"Nao"]
[null,"Nao"]
[null,"Nao"]
[null,"Nao"]
[null,"Nao"]
[null,"Nao"]
[null,"Nao"]
[null,"Nao"]
[null,"Nao"]
[null,"Nao"]
[null,"Nao"]
[null,"Nao"]
[null,"Nao"]
[null,"Nao"]
[null,"Nao"]
[null,"Nao"]
[null,"Nao"]
[null,"Nao"]
[null,"Nao"]
[null,"Nao"]
[null,"Nao"]
[null,"Nao"]
[null,"Nao"]
[null,"Nao"]
[null,"Nao"]
[null,{"$f":"IF(A8599>0,\"Offhire\",\"Nao\")","v":"Nao"}]
[null,"Nao"]
[null,"Nao"]
[null,"Nao"]
[null,"Nao"]
[null,"Nao"]
[null,"Nao"]
[null,"Nao"]
[null,"Nao"]
[null,"Nao"]
[null,"Nao"]
[null,"Nao"]
[null,"Nao"]
[null,"Nao"]
[null,"Nao"]
[null,"Nao"]
[null,"Nao"]
[null,"Nao"]
[null,"Nao"]
[null,"Nao"]
[null,"Nao"]
[null,"Nao"]
[null,"Nao"]
[null,"Nao"]
[null,"Nao"]
[null,"Nao"]
[null,"Nao"]
[null,"Nao"]
[null,"Nao"]
[null,"Nao"]
[null,"Nao"]
[null,"Nao"]
[null,"Nao"]
[null,"Nao"]
[null,"Nao"]
[null,"Nao"]
[null,"Nao"]
[null,"Nao"]
[null,"Nao"]
[null,"Nao"]
[null,"Nao"]
[null,"Nao"]
[null,"Nao"]
[null,"Nao"]
[null,"Nao"]
[null,"Nao"]
[null,"Nao"]
[null,"Nao"]
[null,"Nao"]
[null,"Nao"]
[null,"Nao"]
[null,"Nao"]
[null,"Nao"]
[null,"Nao"]
[null,"Nao"]
[null,"Nao"]
[null,"Nao"]
[null,"Nao"]
[null,"Nao"]
[null,"Nao"]
[null,"Nao"]
[null,"Nao"]
[null,"Nao"]
[null,"Nao"]
[null,{"$f":"IF(A8663>0,\"Offhire\",\"Nao\")","v":"Nao"}]
[null,"Nao"]
[null,"Nao"]
[null,"Nao"]
[null,"Nao"]
[null,"Nao"]
[null,"Nao"]
[null,"Nao"]
[null,"Nao"]
[null,"Nao"]
[null,"Nao"]
[null,"Nao"]
[null,"Nao"]
[null,"Nao"]
[null,"Nao"]
[null,"Nao"]
[null,"Nao"]
[null,"Nao"]
[null,"Nao"]
[null,"Nao"]
[null,"Nao"]
[null,"Nao"]
[null,"Nao"]
[null,"Nao"]
[null,"Nao"]
[null,"Nao"]
[null,"Nao"]
[null,"Nao"]
[null,"Nao"]
[null,"Nao"]
[null,"Nao"]
[null,"Nao"]
[null,"Nao"]
[null,"Nao"]
[null,"Nao"]
[null,"Nao"]
[null,"Nao"]
[null,"Nao"]
[null,"Nao"]
[null,"Nao"]
[null,"Nao"]
[null,"Nao"]
[null,"Nao"]
[null,"Nao"]
[null,"Nao"]
[null,"Nao"]
[null,"Nao"]
[null,"Nao"]
[null,"Nao"]
[null,"Nao"]
[null,"Nao"]
[null,"Nao"]
[null,"Nao"]
[null,"Nao"]
[null,"Nao"]
[null,"Nao"]
[null,"Nao"]
[null,"Nao"]
[null,"Nao"]
[null,"Nao"]
[null,"Nao"]
[null,"Nao"]
[null,"Nao"]
[null,"Nao"]
[null,{"$f":"IF(A8727>0,\"Offhire\",\"Nao\")","v":"Nao"}]
[null,"Nao"]
[null,"Nao"]
[null,"Nao"]
[null,"Nao"]
[null,"Nao"]
[null,"Nao"]
[null,"Nao"]
[null,"Nao"]
[null,"Nao"]
[null,"Nao"]
[null,"Nao"]
[null,"Nao"]
[null,"Nao"]
[null,"Nao"]
[null,"Nao"]
[null,"Nao"]
[null,"Nao"]
[null,"Nao"]
[null,"Nao"]
[null,"Nao"]
[null,"Nao"]
[null,"Nao"]
[null,"Nao"]
[null,"Nao"]
[null,"Nao"]
[null,"Nao"]
[null,"Nao"]
[null,"Nao"]
[null,"Nao"]
[null,"Nao"]
[null,"Nao"]
[null,"Nao"]
[null,"Nao"]
[null,"Nao"]
[null,"Nao"]
[null,"Nao"]
[null,"Nao"]
[null,"Nao"]
[null,"Nao"]
[null,"Nao"]
[null,"Nao"]
[null,"Nao"]
[null,"Nao"]
[null,"Nao"]
[null,"Nao"]
[null,"Nao"]
[null,"Nao"]
[null,"Nao"]
[null,"Nao"]
[null,"Nao"]
[null,"Nao"]
[null,"Nao"]
[null,"Nao"]
[null,"Nao"]
[null,"Nao"]
[null,"Nao"]
[null,"Nao"]
[null,"Nao"]
[null,"Nao"]
[null,"Nao"]
[null,"Nao"]
[null,"Nao"]
[null,"Nao"]
[null,{"$f":"IF(A8791>0,\"Offhire\",\"Nao\")","v":"Nao"}]
[null,"Nao"]
[null,"Nao"]
[null,"Nao"]
[null,"Nao"]
[null,"Nao"]
[null,"Nao"]
[null,"Nao"]
[null,"Nao"]
[null,"Nao"]
[null,"Nao"]
[null,"Nao"]
[null,"Nao"]
[null,"Nao"]
[null,"Nao"]
[null,"Nao"]
[null,"Nao"]
[null,"Nao"]
[null,"Nao"]
[null,"Nao"]
[null,"Nao"]
[null,"Nao"]
[null,"Nao"]
[null,"Nao"]
[null,"Nao"]
[null,"Nao"]
[null,"Nao"]
[null,"Nao"]
[null,"Nao"]
[null,"Nao"]
[null,"Nao"]
[null,"Nao"]
[null,"Nao"]
[null,"Nao"]
[null,"Nao"]
[null,"Nao"]
[null,"Nao"]
[null,"Nao"]
[null,"Nao"]
[null,"Nao"]
[null,"Nao"]
[null,"Nao"]
[null,"Nao"]
[null,"Nao"]
[null,"Nao"]
[null,"Nao"]
[null,"Nao"]
[null,"Nao"]
[null,"Nao"]
[null,"Nao"]
[null,"Nao"]
[null,"Nao"]
[null,"Nao"]
[null,"Nao"]
[null,"Nao"]
[null,"Nao"]
[null,"Nao"]
[null,"Nao"]
[null,"Nao"]
[null,"Nao"]
[null,"Nao"]
[null,"Nao"]
[null,"Nao"]
[null,"Nao"]
[null,{"$f":"IF(A8855>0,\"Offhire\",\"Nao\")","v":"Nao"}]
[null,"Nao"]
[null,"Nao"]
[null,"Nao"]
[null,"Nao"]
[null,"Nao"]
[null,"Nao"]
[null,"Nao"]
[null,"Nao"]
[null,"Nao"]
[null,"Nao"]
[null,"Nao"]
[null,"Nao"]
[null,"Nao"]
[null,"Nao"]
[null,"Nao"]
[null,"Nao"]
[null,"Nao"]
[null,"Nao"]
[null,"Nao"]
[null,"Nao"]
[null,"Nao"]
[null,"Nao"]
[null,"Nao"]
[null,"Nao"]
[null,"Nao"]
[null,"Nao"]
[null,"Nao"]
[null,"Nao"]
[null,"Nao"]
[null,"Nao"]
[null,"Nao"]
[null,"Nao"]
[null,"Nao"]
[null,"Nao"]
[null,"Nao"]
[null,"Nao"]
[null,"Nao"]
[null,"Nao"]
[null,"Nao"]
[null,"Nao"]
[null,"Nao"]
[null,"Nao"]
[null,"Nao"]
[null,"Nao"]
[null,"Nao"]
[null,"Nao"]
[null,"Nao"]
[null,"Nao"]
[null,"Nao"]
[null,"Nao"]
[null,"Nao"]
[null,"Nao"]
[null,"Nao"]
[null,"Nao"]
[null,"Nao"]
[null,"Nao"]
[null,"Nao"]
[null,"Nao"]
[null,"Nao"]
[null,"Nao"]
[null,"Nao"]
[null,"Nao"]
[null,"Nao"]
[null,{"$f":"IF(A8919>0,\"Offhire\",\"Nao\")","v":"Nao"}]
[null,"Nao"]
[null,"Nao"]
[null,"Nao"]
[null,"Nao"]
[null,"Nao"]
[null,"Nao"]
[null,"Nao"]
[null,"Nao"]
[null,"Nao"]
[null,"Nao"]
[null,"Nao"]
[null,"Nao"]
[null,"Nao"]
[null,"Nao"]
[null,"Nao"]
[null,"Nao"]
[null,"Nao"]
[null,"Nao"]
[null,"Nao"]
[null,"Nao"]
[null,"Nao"]
[null,"Nao"]
[null,"Nao"]
[null,"Nao"]
[null,"Nao"]
[null,"Nao"]
[null,"Nao"]
[null,"Nao"]
[null,"Nao"]
[null,"Nao"]
[null,"Nao"]
[null,"Nao"]
[null,"Nao"]
[null,"Nao"]
[null,"Nao"]
[null,"Nao"]
[null,"Nao"]
[null,"Nao"]
[null,"Nao"]
[null,"Nao"]
[null,"Nao"]
[null,"Nao"]
[null,"Nao"]
[null,"Nao"]
[null,"Nao"]
[null,"Nao"]
[null,"Nao"]
[null,"Nao"]
[null,"Nao"]
[null,"Nao"]
[null,"Nao"]
[null,"Nao"]
[null,"Nao"]
[null,"Nao"]
[null,"Nao"]
[null,"Nao"]
[null,"Nao"]
[null,"Nao"]
[null,"Nao"]
[null,"Nao"]
[null,"Nao"]
[null,"Nao"]
[null,"Nao"]
[null,{"$f":"IF(A8983>0,\"Offhire\",\"Nao\")","v":"Nao"}]
[null,"Nao"]
[null,"Nao"]
[null,"Nao"]
[null,"Nao"]
[null,"Nao"]
[null,"Nao"]
[null,"Nao"]
[null,"Nao"]
[null,"Nao"]
[null,"Nao"]
[null,"Nao"]
[null,"Nao"]
[null,"Nao"]
[null,"Nao"]
[null,"Nao"]
[null,"Nao"]
[null,"Nao"]
[null,"Nao"]
[null,"Nao"]
[null,"Nao"]
[null,"Nao"]
[null,"Nao"]
[null,"Nao"]
[null,"Nao"]
[null,"Nao"]
[null,"Nao"]
[null,"Nao"]
[null,"Nao"]
[null,"Nao"]
[null,"Nao"]
[null,"Nao"]
[null,"Nao"]
[null,"Nao"]
[null,"Nao"]
[null,"Nao"]
[null,"Nao"]
[null,"Nao"]
[null,"Nao"]
[null,"Nao"]
[null,"Nao"]
[null,"Nao"]
[null,"Nao"]
[null,"Nao"]
[null,"Nao"]
[null,"Nao"]
[null,"Nao"]
[null,"Nao"]
[null,"Nao"]
[null,"Nao"]
[null,"Nao"]
[null,"Nao"]
[null,"Nao"]
[null,"Nao"]
[null,"Nao"]
[null,"Nao"]
[null,"Nao"]
[null,"Nao"]
[null,"Nao"]
[null,"Nao"]
[null,"Nao"]
[null,"Nao"]
[null,"Nao"]
[null,"Nao"]
[null,{"$f":"IF(A9047>0,\"Offhire\",\"Nao\")","v":"Nao"}]
[null,"Nao"]
[null,"Nao"]
[null,"Nao"]
[null,"Nao"]
[null,"Nao"]
[null,"Nao"]
[null,"Nao"]
[null,"Nao"]
[null,"Nao"]
[null,"Nao"]
[null,"Nao"]
[null,"Nao"]
[null,"Nao"]
[null,"Nao"]
[null,"Nao"]
[null,"Nao"]
[null,"Nao"]
[null,"Nao"]
[null,"Nao"]
[null,"Nao"]
[null,"Nao"]
[null,"Nao"]
[null,"Nao"]
[null,"Nao"]
[null,"Nao"]
[null,"Nao"]
[null,"Nao"]
[null,"Nao"]
[null,"Nao"]
[null,"Nao"]
[null,"Nao"]
[null,"Nao"]
[null,"Nao"]
[null,"Nao"]
[null,"Nao"]
[null,"Nao"]
[null,"Nao"]
[null,"Nao"]
[null,"Nao"]
[null,"Nao"]
[null,"Nao"]
[null,"Nao"]
[null,"Nao"]
[null,"Nao"]
[null,"Nao"]
[null,"Nao"]
[null,"Nao"]
[null,"Nao"]
[null,"Nao"]
[null,"Nao"]
[null,"Nao"]
[null,"Nao"]
[null,"Nao"]
[null,"Nao"]
[null,"Nao"]
[null,"Nao"]
[null,"Nao"]
[null,"Nao"]
[null,"Nao"]
[null,"Nao"]
[null,"Nao"]
[null,"Nao"]
[null,"Nao"]
[null,{"$f":"IF(A9111>0,\"Offhire\",\"Nao\")","v":"Nao"}]
[null,"Nao"]
[null,"Nao"]
[null,"Nao"]
[null,"Nao"]
[null,"Nao"]
[null,"Nao"]
[null,"Nao"]
[null,"Nao"]
[null,"Nao"]
[null,"Nao"]
[null,"Nao"]
[null,"Nao"]
[null,"Nao"]
[null,"Nao"]
[null,"Nao"]
[null,"Nao"]
[null,"Nao"]
[null,"Nao"]
[null,"Nao"]
[null,"Nao"]
[null,"Nao"]
[null,"Nao"]
[null,"Nao"]
[null,"Nao"]
[null,"Nao"]
[null,"Nao"]
[null,"Nao"]
[null,"Nao"]
[null,"Nao"]
[null,"Nao"]
[null,"Nao"]
[null,"Nao"]
[null,"Nao"]
[null,"Nao"]
[null,"Nao"]
[null,"Nao"]
[null,"Nao"]
[null,"Nao"]
[null,"Nao"]
[null,"Nao"]
[null,"Nao"]
[null,"Nao"]
[null,"Nao"]
[null,"Nao"]
[null,"Nao"]
[null,"Nao"]
[null,"Nao"]
[null,"Nao"]
[null,"Nao"]
[null,"Nao"]
[null,"Nao"]
[null,"Nao"]
[null,"Nao"]
[null,"Nao"]
[null,"Nao"]
[null,"Nao"]
[null,"Nao"]
[null,"Nao"]
[null,"Nao"]
[null,"Nao"]
[null,"Nao"]
[null,"Nao"]
[null,"Nao"]
[null,{"$f":"IF(A9175>0,\"Offhire\",\"Nao\")","v":"Nao"}]
[null,"Nao"]
[null,"Nao"]
[null,"Nao"]
[null,"Nao"]
[null,"Nao"]
[null,"Nao"]
[null,"Nao"]
[null,"Nao"]
[null,"Nao"]
[null,"Nao"]
[null,"Nao"]
[null,"Nao"]
[null,"Nao"]
[null,"Nao"]
[null,"Nao"]
[null,"Nao"]
[null,"Nao"]
[null,"Nao"]
[null,"Nao"]
[null,"Nao"]
[null,"Nao"]
[null,"Nao"]
[null,"Nao"]
[null,"Nao"]
[null,"Nao"]
[null,"Nao"]
[null,"Nao"]
[null,"Nao"]
[null,"Nao"]
[null,"Nao"]
[null,"Nao"]
[null,"Nao"]
[null,"Nao"]
[null,"Nao"]
[null,"Nao"]
[null,"Nao"]
[null,"Nao"]
[null,"Nao"]
[null,"Nao"]
[null,"Nao"]
[null,"Nao"]
[null,"Nao"]
[null,"Nao"]
[null,"Nao"]
[null,"Nao"]
[null,"Nao"]
[null,"Nao"]
[null,"Nao"]
[null,"Nao"]
[null,"Nao"]
[null,"Nao"]
[null,"Nao"]
[null,"Nao"]
[null,"Nao"]
[null,"Nao"]
[null,"Nao"]
[null,"Nao"]
[null,"Nao"]
[null,"Nao"]
[null,"Nao"]
[null,"Nao"]
[null,"Nao"]
[null,"Nao"]
[null,{"$f":"IF(A9239>0,\"Offhire\",\"Nao\")","v":"Nao"}]
[null,"Nao"]
[null,"Nao"]
[null,"Nao"]
[null,"Nao"]
[null,"Nao"]
[null,"Nao"]
[null,"Nao"]
[null,"Nao"]
[null,"Nao"]
[null,"Nao"]
[null,"Nao"]
[null,"Nao"]
[null,"Nao"]
[null,"Nao"]
[null,"Nao"]
[null,"Nao"]
[null,"Nao"]
[null,"Nao"]
[null,"Nao"]
[null,"Nao"]
[null,"Nao"]
[null,"Nao"]
[null,"Nao"]
[null,"Nao"]
[null,"Nao"]
[null,"Nao"]
[null,"Nao"]
[null,"Nao"]
[null,"Nao"]
[null,"Nao"]
[null,"Nao"]
[null,"Nao"]
[null,"Nao"]
[null,"Nao"]
[null,"Nao"]
[null,"Nao"]
[null,"Nao"]
[null,"Nao"]
[null,"Nao"]
[null,"Nao"]
[null,"Nao"]
[null,"Nao"]
[null,"Nao"]
[null,"Nao"]
[null,"Nao"]
[null,"Nao"]
[null,"Nao"]
[null,"Nao"]
[null,"Nao"]
[null,"Nao"]
[null,"Nao"]
[null,"Nao"]
[null,"Nao"]
[null,"Nao"]
[null,"Nao"]
[null,"Nao"]
[null,"Nao"]
[null,"Nao"]
[null,"Nao"]
[null,"Nao"]
[null,"Nao"]
[null,"Nao"]
[null,"Nao"]
[null,{"$f":"IF(A9303>0,\"Offhire\",\"Nao\")","v":"Nao"}]
[null,"Nao"]
[null,"Nao"]
[null,"Nao"]
[null,"Nao"]
[null,"Nao"]
[null,"Nao"]
[null,"Nao"]
[null,"Nao"]
[null,"Nao"]
[null,"Nao"]
[null,"Nao"]
[null,"Nao"]
[null,"Nao"]
[null,"Nao"]
[null,"Nao"]
[null,"Nao"]
[null,"Nao"]
[null,"Nao"]
[null,"Nao"]
[null,"Nao"]
[null,"Nao"]
[null,"Nao"]
[null,"Nao"]
[null,"Nao"]
[null,"Nao"]
[null,"Nao"]
[null,"Nao"]
[null,"Nao"]
[null,"Nao"]
[null,"Nao"]
[null,"Nao"]
[null,"Nao"]
[null,"Nao"]
[null,"Nao"]
[null,"Nao"]
[null,"Nao"]
[null,"Nao"]
[null,"Nao"]
[null,"Nao"]
[null,"Nao"]
[null,"Nao"]
[null,"Nao"]
[null,"Nao"]
[null,"Nao"]
[null,"Nao"]
[null,"Nao"]
[null,"Nao"]
[null,"Nao"]
[null,"Nao"]
[null,"Nao"]
[null,"Nao"]
[null,"Nao"]
[null,"Nao"]
[null,"Nao"]
[null,"Nao"]
[null,"Nao"]
[null,"Nao"]
[null,"Nao"]
[null,"Nao"]
[null,"Nao"]
[null,"Nao"]
[null,"Nao"]
[null,"Nao"]
[null,{"$f":"IF(A9367>0,\"Offhire\",\"Nao\")","v":"Nao"}]
[null,"Nao"]
[null,"Nao"]
[null,"Nao"]
[null,"Nao"]
[null,"Nao"]
[null,"Nao"]
[null,"Nao"]
[null,"Nao"]
[null,"Nao"]
[null,"Nao"]
[null,"Nao"]
[null,"Nao"]
[null,"Nao"]
[null,"Nao"]
[null,"Nao"]
[null,"Nao"]
[null,"Nao"]
[null,"Nao"]
[null,"Nao"]
[null,"Nao"]
[null,"Nao"]
[null,"Nao"]
[null,"Nao"]
[null,"Nao"]
[null,"Nao"]
[null,"Nao"]
[null,"Nao"]
[null,"Nao"]
[null,"Nao"]
[null,"Nao"]
[null,"Nao"]
[null,"Nao"]
[null,"Nao"]
[null,"Nao"]
[null,"Nao"]
[null,"Nao"]
[null,"Nao"]
[null,"Nao"]
[null,"Nao"]
[null,"Nao"]
[null,"Nao"]
[null,"Nao"]
[null,"Nao"]
[null,"Nao"]
[null,"Nao"]
[null,"Nao"]
[null,"Nao"]
[null,"Nao"]
[null,"Nao"]
[null,"Nao"]
[null,"Nao"]
[null,"Nao"]
[null,"Nao"]
[null,"Nao"]
[null,"Nao"]
[null,"Nao"]
[null,"Nao"]
[null,"Nao"]
[null,"Nao"]
[null,"Nao"]
[null,"Nao"]
[null,"Nao"]
[null,"Nao"]
[null,{"$f":"IF(A9431>0,\"Offhire\",\"Nao\")","v":"Nao"}]
[null,"Nao"]
[null,"Nao"]
[null,"Nao"]
[null,"Nao"]
[null,"Nao"]
[null,"Nao"]
[null,"Nao"]
[null,"Nao"]
[null,"Nao"]
[null,"Nao"]
[null,"Nao"]
[null,"Nao"]
[null,"Nao"]
[null,"Nao"]
[null,"Nao"]
[null,"Nao"]
[null,"Nao"]
[null,"Nao"]
[null,"Nao"]
[null,"Nao"]
[null,"Nao"]
[null,"Nao"]
[null,"Nao"]
[null,"Nao"]
[null,"Nao"]
[null,"Nao"]
[null,"Nao"]
[null,"Nao"]
[null,"Nao"]
[null,"Nao"]
[null,"Nao"]
[null,"Nao"]
[null,"Nao"]
[null,"Nao"]
[null,"Nao"]
[null,"Nao"]
[null,"Nao"]
[null,"Nao"]
[null,"Nao"]
[null,"Nao"]
[null,"Nao"]
[null,"Nao"]
[null,"Nao"]
[null,"Nao"]
[null,"Nao"]
[null,"Nao"]
[null,"Nao"]
[null,"Nao"]
[null,"Nao"]
[null,"Nao"]
[null,"Nao"]
[null,"Nao"]
[null,"Nao"]
[null,"Nao"]
[null,"Nao"]
[null,"Nao"]
[null,"Nao"]
[null,"Nao"]
[null,"Nao"]
[null,"Nao"]
[null,"Nao"]
[null,"Nao"]
[null,"Nao"]
[null,{"$f":"IF(A9495>0,\"Offhire\",\"Nao\")","v":"Nao"}]
[null,"Nao"]
[null,"Nao"]
[null,"Nao"]
[null,"Nao"]
[null,"Nao"]
[null,"Nao"]
[null,"Nao"]
[null,"Nao"]
[null,"Nao"]
[null,"Nao"]
[null,"Nao"]
[null,"Nao"]
[null,"Nao"]
[null,"Nao"]
[null,"Nao"]
[null,"Nao"]
[null,"Nao"]
[null,"Nao"]
[null,"Nao"]
[null,"Nao"]
[null,"Nao"]
[null,"Nao"]
[null,"Nao"]
[null,"Nao"]
[null,"Nao"]
[null,"Nao"]
[null,"Nao"]
[null,"Nao"]
[null,"Nao"]
[null,"Nao"]
[null,"Nao"]
[null,"Nao"]
[null,"Nao"]
[null,"Nao"]
[null,"Nao"]
[null,"Nao"]
[null,"Nao"]
[null,"Nao"]
[null,"Nao"]
[null,"Nao"]
[null,"Nao"]
[null,"Nao"]
[null,"Nao"]
[null,"Nao"]
[null,"Nao"]
[null,"Nao"]
[null,"Nao"]
[null,"Nao"]
[null,"Nao"]
[null,"Nao"]
[null,"Nao"]
[null,"Nao"]
[null,"Nao"]
[null,"Nao"]
[null,"Nao"]
[null,"Nao"]
[null,"Nao"]
[null,"Nao"]
[null,"Nao"]
[null,"Nao"]
[null,"Nao"]
[null,"Nao"]
[null,"Nao"]
[null,{"$f":"IF(A9559>0,\"Offhire\",\"Nao\")","v":"Nao"}]
[null,"Nao"]
[null,"Nao"]
[null,"Nao"]
[null,"Nao"]
[null,"Nao"]
[null,"Nao"]
[null,"Nao"]
[null,"Nao"]
[null,"Nao"]
[null,"Nao"]
[null,"Nao"]
[null,"Nao"]
[null,"Nao"]
[null,"Nao"]
[null,"Nao"]
[null,"Nao"]
[null,"Nao"]
[null,"Nao"]
[null,"Nao"]
[null,"Nao"]
[null,"Nao"]
[null,"Nao"]
[null,"Nao"]
[null,"Nao"]
[null,"Nao"]
[null,"Nao"]
[null,"Nao"]
[null,"Nao"]
[null,"Nao"]
[null,"Nao"]
[null,"Nao"]
[null,"Nao"]
[null,"Nao"]
[null,"Nao"]
[null,"Nao"]
[null,"Nao"]
[null,"Nao"]
[null,"Nao"]
[null,"Nao"]
[null,"Nao"]
[null,"Nao"]
[null,"Nao"]
[null,"Nao"]
[null,"Nao"]
[null,"Nao"]
[null,"Nao"]
[null,"Nao"]
[null,"Nao"]
[null,"Nao"]
[null,"Nao"]
[null,"Nao"]
[null,"Nao"]
[null,"Nao"]
[null,"Nao"]
[null,"Nao"]
[null,"Nao"]
[null,"Nao"]
[null,"Nao"]
[null,"Nao"]
[null,"Nao"]
[null,"Nao"]
[null,"Nao"]
[null,"Nao"]
[null,{"$f":"IF(A9623>0,\"Offhire\",\"Nao\")","v":"Nao"}]
[null,"Nao"]
[null,"Nao"]
[null,"Nao"]
[null,"Nao"]
[null,"Nao"]
[null,"Nao"]
[null,"Nao"]
[null,"Nao"]
[null,"Nao"]
[null,"Nao"]
[null,"Nao"]
[null,"Nao"]
[null,"Nao"]
[null,"Nao"]
[null,"Nao"]
[null,"Nao"]
[null,"Nao"]
[null,"Nao"]
[null,"Nao"]
[null,"Nao"]
[null,"Nao"]
[null,"Nao"]
[null,"Nao"]
[null,"Nao"]
[null,"Nao"]
[null,"Nao"]
[null,"Nao"]
[null,"Nao"]
[null,"Nao"]
[null,"Nao"]
[null,"Nao"]
[null,"Nao"]
[null,"Nao"]
[null,"Nao"]
[null,"Nao"]
[null,"Nao"]
[null,"Nao"]
[null,"Nao"]
[null,"Nao"]
[null,"Nao"]
[null,"Nao"]
[null,"Nao"]
[null,"Nao"]
[null,"Nao"]
[null,"Nao"]
[null,"Nao"]
[null,"Nao"]
[null,"Nao"]
[null,"Nao"]
[null,"Nao"]
[null,"Nao"]
[null,"Nao"]
[null,"Nao"]
[null,"Nao"]
[null,"Nao"]
[null,"Nao"]
[null,"Nao"]
[null,"Nao"]
[null,"Nao"]
[null,"Nao"]
[null,"Nao"]
[null,"Nao"]
[null,"Nao"]
[null,{"$f":"IF(A9687>0,\"Offhire\",\"Nao\")","v":"Nao"}]
[null,"Nao"]
[null,"Nao"]
[null,"Nao"]
[null,"Nao"]
[null,"Nao"]
[null,"Nao"]
[null,"Nao"]
[null,"Nao"]
[null,"Nao"]
[null,"Nao"]
[null,"Nao"]
[null,"Nao"]
[null,"Nao"]
[null,"Nao"]
[null,"Nao"]
[null,"Nao"]
[null,"Nao"]
[null,"Nao"]
[null,"Nao"]
[null,"Nao"]
[null,"Nao"]
[null,"Nao"]
[null,"Nao"]
[null,"Nao"]
[null,"Nao"]
[null,"Nao"]
[null,"Nao"]
[null,"Nao"]
[null,"Nao"]
[null,"Nao"]
[null,"Nao"]
[null,"Nao"]
[null,"Nao"]
[null,"Nao"]
[null,"Nao"]
[null,"Nao"]
[null,"Nao"]
[null,"Nao"]
[null,"Nao"]
[null,"Nao"]
[null,"Nao"]
[null,"Nao"]
[null,"Nao"]
[null,"Nao"]
[null,"Nao"]
[null,"Nao"]
[null,"Nao"]
[null,"Nao"]
[null,"Nao"]
[null,"Nao"]
[null,"Nao"]
[null,"Nao"]
[null,"Nao"]
[null,"Nao"]
[null,"Nao"]
[null,"Nao"]
[null,"Nao"]
[null,"Nao"]
[null,"Nao"]
[null,"Nao"]
[null,"Nao"]
[null,"Nao"]
[null,"Nao"]
[null,{"$f":"IF(A9751>0,\"Offhire\",\"Nao\")","v":"Nao"}]
[null,"Nao"]
[null,"Nao"]
[null,"Nao"]
[null,"Nao"]
[null,"Nao"]
[null,"Nao"]
[null,"Nao"]
[null,"Nao"]
[null,"Nao"]
[null,"Nao"]
[null,"Nao"]
[null,"Nao"]
[null,"Nao"]
[null,"Nao"]
[null,"Nao"]
[null,"Nao"]
[null,"Nao"]
[null,"Nao"]
[null,"Nao"]
[null,"Nao"]
[null,"Nao"]
[null,"Nao"]
[null,"Nao"]
[null,"Nao"]
[null,"Nao"]
[null,"Nao"]
[null,"Nao"]
[null,"Nao"]
[null,"Nao"]
[null,"Nao"]
[null,"Nao"]
[null,"Nao"]
[null,"Nao"]
[null,"Nao"]
[null,"Nao"]
[null,"Nao"]
[null,"Nao"]
[null,"Nao"]
[null,"Nao"]
[null,"Nao"]
[null,"Nao"]
[null,"Nao"]
[null,"Nao"]
[null,"Nao"]
[null,"Nao"]
[null,"Nao"]
[null,"Nao"]
[null,"Nao"]
[null,"Nao"]
[null,"Nao"]
[null,"Nao"]
[null,"Nao"]
[null,"Nao"]
[null,"Nao"]
[null,"Nao"]
[null,"Nao"]
[null,"Nao"]
[null,"Nao"]
[null,"Nao"]
[null,"Nao"]
[null,"Nao"]
[null,"Nao"]
[null,"Nao"]
[null,{"$f":"IF(A9815>0,\"Offhire\",\"Nao\")","v":"Nao"}]
[null,"Nao"]
[null,"Nao"]
[null,"Nao"]
[null,"Nao"]
[null,"Nao"]
[null,"Nao"]
[null,"Nao"]
[null,"Nao"]
[null,"Nao"]
[null,"Nao"]
[null,"Nao"]
[null,"Nao"]
[null,"Nao"]
[null,"Nao"]
[null,"Nao"]
[null,"Nao"]
[null,"Nao"]
[null,"Nao"]
[null,"Nao"]
[null,"Nao"]
[null,"Nao"]
[null,"Nao"]
[null,"Nao"]
[null,"Nao"]
[null,"Nao"]
[null,"Nao"]
[null,"Nao"]
[null,"Nao"]
[null,"Nao"]
[null,"Nao"]
[null,"Nao"]
[null,"Nao"]
[null,"Nao"]
[null,"Nao"]
[null,"Nao"]
[null,"Nao"]
[null,"Nao"]
[null,"Nao"]
[null,"Nao"]
[null,"Nao"]
[null,"Nao"]
[null,"Nao"]
[null,"Nao"]
[null,"Nao"]
[null,"Nao"]
[null,"Nao"]
[null,"Nao"]
[null,"Nao"]
[null,"Nao"]
[null,"Nao"]
[null,"Nao"]
[null,"Nao"]
[null,"Nao"]
[null,"Nao"]
[null,"Nao"]
[null,"Nao"]
[null,"Nao"]
[null,"Nao"]
[null,"Nao"]
[null,"Nao"]
[null,"Nao"]
[null,"Nao"]
[null,"Nao"]
[null,{"$f":"IF(A9879>0,\"Offhire\",\"Nao\")","v":"Nao"}]
[null,"Nao"]
[null,"Nao"]
[null,"Nao"]
[null,"Nao"]
[null,"Nao"]
[null,"Nao"]
[null,"Nao"]
[null,"Nao"]
[null,"Nao"]
[null,"Nao"]
[null,"Nao"]
[null,"Nao"]
[null,"Nao"]
[null,"Nao"]
[null,"Nao"]
[null,"Nao"]
[null,"Nao"]
[null,"Nao"]
[null,"Nao"]
[null,"Nao"]
[null,"Nao"]
[null,"Nao"]
[null,"Nao"]
[null,"Nao"]
[null,"Nao"]
[null,"Nao"]
[null,"Nao"]
[null,"Nao"]
[null,"Nao"]
[null,"Nao"]
[null,"Nao"]
[null,"Nao"]
[null,"Nao"]
[null,"Nao"]
[null,"Nao"]
[null,"Nao"]
[null,"Nao"]
[null,"Nao"]
[null,"Nao"]
[null,"Nao"]
[null,"Nao"]
[null,"Nao"]
[null,"Nao"]
[null,"Nao"]
[null,"Nao"]
[null,"Nao"]
[null,"Nao"]
[null,"Nao"]
[null,"Nao"]
[null,"Nao"]
[null,"Nao"]
[null,"Nao"]
[null,"Nao"]
[null,"Nao"]
[null,"Nao"]
[null,"Nao"]
[null,"Nao"]
[null,"Nao"]
[null,"Nao"]
[null,"Nao"]
[null,"Nao"]
[null,"Nao"]
[null,"Nao"]
[null,{"$f":"IF(A9943>0,\"Offhire\",\"Nao\")","v":"Nao"}]
[null,"Nao"]
[null,"Nao"]
[null,"Nao"]
[null,"Nao"]
[null,"Nao"]
[null,"Nao"]
[null,"Nao"]
[null,"Nao"]
[null,"Nao"]
[null,"Nao"]
[null,"Nao"]
[null,"Nao"]
[null,"Nao"]
[null,"Nao"]
[null,"Nao"]
[null,"Nao"]
[null,"Nao"]
[null,"Nao"]
[null,"Nao"]
[null,"Nao"]
[null,"Nao"]
[null,"Nao"]
[null,"Nao"]
[null,"Nao"]
[null,"Nao"]
[null,"Nao"]
[null,"Nao"]
[null,"Nao"]
[null,"Nao"]
[null,"Nao"]
[null,"Nao"]
[null,"Nao"]
[null,"Nao"]
[null,"Nao"]
[null,"Nao"]
[null,"Nao"]
[null,"Nao"]
[null,"Nao"]
[null,"Nao"]
[null,"Nao"]
[null,"Nao"]
[null,"Nao"]
[null,"Nao"]
[null,"Nao"]
[null,"Nao"]
[null,"Nao"]
[null,"Nao"]
[null,"Nao"]
[null,"Nao"]
[null,"Nao"]
[null,"Nao"]
[null,"Nao"]
[null,"Nao"]
[null,"Nao"]
[null,"Nao"]
[null,"Nao"]
[null,"Nao"]
[null,"Nao"]
[null,"Nao"]
[null,"Nao"]
[null,"Nao"]
[null,"Nao"]
[null,"Nao"]
[null,{"$f":"IF(A10007>0,\"Offhire\",\"Nao\")","v":"Nao"}]
[null,"Nao"]
[null,"Nao"]
[null,"Nao"]
[null,"Nao"]
[null,"Nao"]
[null,"Nao"]
[null,"Nao"]
[null,"Nao"]
[null,"Nao"]
[null,"Nao"]
[null,"Nao"]
[null,"Nao"]
[null,"Nao"]
[null,"Nao"]
[null,"Nao"]
[null,"Nao"]
[null,"Nao"]
[null,"Nao"]
[null,"Nao"]
[null,"Nao"]
[null,"Nao"]
[null,"Nao"]
[null,"Nao"]
[null,"Nao"]
[null,"Nao"]
[null,"Nao"]
[null,"Nao"]
[null,"Nao"]
[null,"Nao"]
[null,"Nao"]
[null,"Nao"]
[null,"Nao"]
[null,"Nao"]
[null,"Nao"]
[null,"Nao"]
[null,"Nao"]
[null,"Nao"]
[null,"Nao"]
[null,"Nao"]
[null,"Nao"]
[null,"Nao"]
[null,"Nao"]
[null,"Nao"]
[null,"Nao"]
[null,"Nao"]
[null,"Nao"]
[null,"Nao"]
[null,"Nao"]
[null,"Nao"]
[null,"Nao"]
[null,"Nao"]
[null,"Nao"]
[null,"Nao"]
[null,"Nao"]
[null,"Nao"]
[null,"Nao"]
[null,"Nao"]
[null,"Nao"]
[null,"Nao"]
[null,"Nao"]
[null,"Nao"]
[null,"Nao"]
[null,"Nao"]
[null,{"$f":"IF(A10071>0,\"Offhire\",\"Nao\")","v":"Nao"}]
[null,"Nao"]
[null,"Nao"]
[null,"Nao"]
[null,"Nao"]
[null,"Nao"]
[null,"Nao"]
[null,"Nao"]
[null,"Nao"]
[null,"Nao"]
[null,"Nao"]
[null,"Nao"]
[null,"Nao"]
[null,"Nao"]
[null,"Nao"]
[null,"Nao"]
[null,"Nao"]
[null,"Nao"]
[null,"Nao"]
[null,"Nao"]
[null,"Nao"]
[null,"Nao"]
[null,"Nao"]
[null,"Nao"]
[null,"Nao"]
[null,"Nao"]
[null,"Nao"]
[null,"Nao"]
[null,"Nao"]
[null,"Nao"]
[null,"Nao"]
[null,"Nao"]
[null,"Nao"]
[null,"Nao"]
[null,"Nao"]
[null,"Nao"]
[null,"Nao"]
[null,"Nao"]
[null,"Nao"]
[null,"Nao"]
[null,"Nao"]
[null,"Nao"]
[null,"Nao"]
[null,"Nao"]
[null,"Nao"]
[null,"Nao"]
[null,"Nao"]
[null,"Nao"]
[null,"Nao"]
[null,"Nao"]
[null,"Nao"]
[null,"Nao"]
[null,"Nao"]
[null,"Nao"]
[null,"Nao"]
[null,"Nao"]
[null,"Nao"]
[null,"Nao"]
[null,"Nao"]
[null,"Nao"]
[null,"Nao"]
[null,"Nao"]
[null,"Nao"]
[null,"Nao"]
[null,{"$f":"IF(A10135>0,\"Offhire\",\"Nao\")","v":"Nao"}]
[null,"Nao"]
[null,"Nao"]
[null,"Nao"]
[null,"Nao"]
[null,"Nao"]
[null,"Nao"]
[null,"Nao"]
[null,"Nao"]
[null,"Nao"]
[null,"Nao"]
[null,"Nao"]
[null,"Nao"]
[null,"Nao"]
[null,"Nao"]
[null,"Nao"]
[null,"Nao"]
[null,"Nao"]
[null,"Nao"]
[null,"Nao"]
[null,"Nao"]
[null,"Nao"]
[null,"Nao"]
[null,"Nao"]
[null,"Nao"]
[null,"Nao"]
[null,"Nao"]
[null,"Nao"]
[null,"Nao"]
[null,"Nao"]
[null,"Nao"]
[null,"Nao"]
[null,"Nao"]
[null,"Nao"]
[null,"Nao"]
[null,"Nao"]
[null,"Nao"]
[null,"Nao"]
[null,"Nao"]
[null,"Nao"]
[null,"Nao"]
[null,"Nao"]
[null,"Nao"]
[null,"Nao"]
[null,"Nao"]
[null,"Nao"]
[null,"Nao"]
[null,"Nao"]
[null,"Nao"]
[null,"Nao"]
[null,"Nao"]
[null,"Nao"]
[null,"Nao"]
[null,"Nao"]
[null,"Nao"]
[null,"Nao"]
[null,"Nao"]
[null,"Nao"]
[null,"Nao"]
[null,"Nao"]
[null,"Nao"]
[null,"Nao"]
[null,"Nao"]
[null,"Nao"]
[null,{"$f":"IF(A10199>0,\"Offhire\",\"Nao\")","v":"Nao"}]
[null,"Nao"]
[null,"Nao"]
[null,"Nao"]
[null,"Nao"]
[null,"Nao"]
[null,"Nao"]
[null,"Nao"]
[null,"Nao"]
[null,"Nao"]
[null,"Nao"]
[null,"Nao"]
[null,"Nao"]
[null,"Nao"]
[null,"Nao"]
[null,"Nao"]
[null,"Nao"]
[null,"Nao"]
[null,"Nao"]
[null,"Nao"]
[null,"Nao"]
[null,"Nao"]
[null,"Nao"]
[null,"Nao"]
[null,"Nao"]
[null,"Nao"]
[null,"Nao"]
[null,"Nao"]
[null,"Nao"]
[null,"Nao"]
[null,"Nao"]
[null,"Nao"]
[null,"Nao"]
[null,"Nao"]
[null,"Nao"]
[null,"Nao"]
[null,"Nao"]
[null,"Nao"]
[null,"Nao"]
[null,"Nao"]
[null,"Nao"]
[null,"Nao"]
[null,"Nao"]
[null,"Nao"]
[null,"Nao"]
[null,"Nao"]
[null,"Nao"]
[null,"Nao"]
[null,"Nao"]
[null,"Nao"]
[null,"Nao"]
[null,"Nao"]
[null,"Nao"]
[null,"Nao"]
[null,"Nao"]
[null,"Nao"]
[null,"Nao"]
[null,"Nao"]
[null,"Nao"]
[null,"Nao"]
[null,"Nao"]
[null,"Nao"]
[null,"Nao"]
[null,"Nao"]
[null,{"$f":"IF(A10263>0,\"Offhire\",\"Nao\")","v":"Nao"}]
[null,"Nao"]
[null,"Nao"]
[null,"Nao"]
[null,"Nao"]
[null,"Nao"]
[null,"Nao"]
[null,"Nao"]
[null,"Nao"]
[null,"Nao"]
[null,"Nao"]
[null,"Nao"]
[null,"Nao"]
[null,"Nao"]
[null,"Nao"]
[null,"Nao"]
[null,"Nao"]
[null,"Nao"]
[null,"Nao"]
[null,"Nao"]
[null,"Nao"]
[null,"Nao"]
[null,"Nao"]
[null,"Nao"]
[null,"Nao"]
[null,"Nao"]
[null,"Nao"]
[null,"Nao"]
[null,"Nao"]
[null,"Nao"]
[null,"Nao"]
[null,"Nao"]
[null,"Nao"]
[null,"Nao"]
[null,"Nao"]
[null,"Nao"]
[null,"Nao"]
[null,"Nao"]
[null,"Nao"]
[null,"Nao"]
[null,"Nao"]
[null,"Nao"]
[null,"Nao"]
[null,"Nao"]
[null,"Nao"]
[null,"Nao"]
[null,"Nao"]
[null,"Nao"]
[null,"Nao"]
[null,"Nao"]
[null,"Nao"]
[null,"Nao"]
[null,"Nao"]
[null,"Nao"]
[null,"Nao"]
[null,"Nao"]
[null,"Nao"]
[null,"Nao"]
[null,"Nao"]
[null,"Nao"]
[null,"Nao"]
[null,"Nao"]
[null,"Nao"]
[null,"Nao"]
[null,{"$f":"IF(A10327>0,\"Offhire\",\"Nao\")","v":"Nao"}]
[null,"Nao"]
[null,"Nao"]
[null,"Nao"]
[null,"Nao"]
[null,"Nao"]
[null,"Nao"]
[null,"Nao"]
[null,"Nao"]
[null,"Nao"]
[null,"Nao"]
[null,"Nao"]
[null,"Nao"]
[null,"Nao"]
[null,"Nao"]
[null,"Nao"]
[null,"Nao"]
[null,"Nao"]
[null,"Nao"]
[null,"Nao"]
[null,"Nao"]
[null,"Nao"]
[null,"Nao"]
[null,"Nao"]
[null,"Nao"]
[null,"Nao"]
[null,"Nao"]
[null,"Nao"]
[null,"Nao"]
[null,"Nao"]
[null,"Nao"]
[null,"Nao"]
[null,"Nao"]
[null,"Nao"]
[null,"Nao"]
[null,"Nao"]
[null,"Nao"]
[null,"Nao"]
[null,"Nao"]
[null,"Nao"]
[null,"Nao"]
[null,"Nao"]
[null,"Nao"]
[null,"Nao"]
[null,"Nao"]
[null,"Nao"]
[null,"Nao"]
[null,"Nao"]
[null,"Nao"]
[null,"Nao"]
[null,"Nao"]
[null,"Nao"]
[null,"Nao"]
[null,"Nao"]
[null,"Nao"]
[null,"Nao"]
[null,"Nao"]
[null,"Nao"]
[null,"Nao"]
[null,"Nao"]
[null,"Nao"]
[null,"Nao"]
[null,"Nao"]
[null,"Nao"]
[null,{"$f":"IF(A10391>0,\"Offhire\",\"Nao\")","v":"Nao"}]
[null,"Nao"]
[null,"Nao"]
[null,"Nao"]
[null,"Nao"]
[null,"Nao"]
[null,"Nao"]
[null,"Nao"]
[null,"Nao"]
[null,"Nao"]
[null,"Nao"]
[null,"Nao"]
[null,"Nao"]
[null,"Nao"]
[null,"Nao"]
[null,"Nao"]
[null,"Nao"]
[null,"Nao"]
[null,"Nao"]
[null,"Nao"]
[null,"Nao"]
[null,"Nao"]
[null,"Nao"]
[null,"Nao"]
[null,"Nao"]
[null,"Nao"]
[null,"Nao"]
[null,"Nao"]
[null,"Nao"]
[null,"Nao"]
[null,"Nao"]
[null,"Nao"]
[null,"Nao"]
[null,"Nao"]
[null,"Nao"]
[null,"Nao"]
[null,"Nao"]
[null,"Nao"]
[null,"Nao"]
[null,"Nao"]
[null,"Nao"]
[null,"Nao"]
[null,"Nao"]
[null,"Nao"]
[null,"Nao"]
[null,"Nao"]
[null,"Nao"]
[null,"Nao"]
[null,"Nao"]
[null,"Nao"]
[null,"Nao"]
[null,"Nao"]
[null,"Nao"]
[null,"Nao"]
[null,"Nao"]
[null,"Nao"]
[null,"Nao"]
[null,"Nao"]
[null,"Nao"]
[null,"Nao"]
[null,"Nao"]
[null,"Nao"]
[null,"Nao"]
[null,"Nao"]
[null,{"$f":"IF(A10455>0,\"Offhire\",\"Nao\")","v":"Nao"}]
[null,"Nao"]
[null,"Nao"]
[null,"Nao"]
[null,"Nao"]
[null,"Nao"]
[null,"Nao"]
[null,"Nao"]
[null,"Nao"]
[null,"Nao"]
[null,"Nao"]
[null,"Nao"]
[null,"Nao"]
[null,"Nao"]
[null,"Nao"]
[null,"Nao"]
[null,"Nao"]
[null,"Nao"]
[null,"Nao"]
[null,"Nao"]
[null,"Nao"]
[null,"Nao"]
[null,"Nao"]
[null,"Nao"]
[null,"Nao"]
[null,"Nao"]
[null,"Nao"]
[null,"Nao"]
[null,"Nao"]
[null,"Nao"]
[null,"Nao"]
[null,"Nao"]
[null,"Nao"]
[null,"Nao"]
[null,"Nao"]
[null,"Nao"]
[null,"Nao"]
[null,"Nao"]
[null,"Nao"]
[null,"Nao"]
[null,"Nao"]
[null,"Nao"]
[null,"Nao"]
[null,"Nao"]
[null,"Nao"]
[null,"Nao"]
[null,"Nao"]
[null,"Nao"]
[null,"Nao"]
[null,"Nao"]
[null,"Nao"]
[null,"Nao"]
[null,"Nao"]
[null,"Nao"]
[null,"Nao"]
[null,"Nao"]
[null,"Nao"]
[null,"Nao"]
[null,"Nao"]
[null,"Nao"]
[null,"Nao"]
[null,"Nao"]
[null,"Nao"]
[null,"Nao"]
[null,{"$f":"IF(A10519>0,\"Offhire\",\"Nao\")","v":"Nao"}]
[null,"Nao"]
[null,"Nao"]
[null,"Nao"]
[null,"Nao"]
[null,"Nao"]
[null,"Nao"]
[null,"Nao"]
[null,"Nao"]
[null,"Nao"]
[null,"Nao"]
[null,"Nao"]
[null,"Nao"]
[null,"Nao"]
[null,"Nao"]
[null,"Nao"]
[null,"Nao"]
[null,"Nao"]
[null,"Nao"]
[null,"Nao"]
[null,"Nao"]
[null,"Nao"]
[null,"Nao"]
[null,"Nao"]
[null,"Nao"]
[null,"Nao"]
[null,"Nao"]
[null,"Nao"]
[null,"Nao"]
[null,"Nao"]
[null,"Nao"]
[null,"Nao"]
[null,"Nao"]
[null,"Nao"]
[null,"Nao"]
[null,"Nao"]
[null,"Nao"]
[null,"Nao"]
[null,"Nao"]
[null,"Nao"]
[null,"Nao"]
[null,"Nao"]
[null,"Nao"]
[null,"Nao"]
[null,"Nao"]
[null,"Nao"]
[null,"Nao"]
[null,"Nao"]
[null,"Nao"]
[null,"Nao"]
[null,"Nao"]
[null,"Nao"]
[null,"Nao"]
[null,"Nao"]
[null,"Nao"]
[null,"Nao"]
[null,"Nao"]
[null,"Nao"]
[null,"Nao"]
[null,"Nao"]
[null,"Nao"]
[null,"Nao"]
[null,"Nao"]
[null,"Nao"]
[null,{"$f":"IF(A10583>0,\"Offhire\",\"Nao\")","v":"Nao"}]
[null,"Nao"]
[null,"Nao"]
[null,"Nao"]
[null,"Nao"]
[null,"Nao"]
[null,"Nao"]
[null,"Nao"]
[null,"Nao"]
[null,"Nao"]
[null,"Nao"]
[null,"Nao"]
[null,"Nao"]
[null,"Nao"]
[null,"Nao"]
[null,"Nao"]
[null,"Nao"]
[null,"Nao"]
[null,"Nao"]
[null,"Nao"]
[null,"Nao"]
[null,"Nao"]
[null,"Nao"]
[null,"Nao"]
[null,"Nao"]
[null,"Nao"]
[null,"Nao"]
[null,"Nao"]
[null,"Nao"]
[null,"Nao"]
[null,"Nao"]
[null,"Nao"]
[null,"Nao"]
[null,"Nao"]
[null,"Nao"]
[null,"Nao"]
[null,"Nao"]
[null,"Nao"]
[null,"Nao"]
[null,"Nao"]
[null,"Nao"]
[null,"Nao"]
[null,"Nao"]
[null,"Nao"]
[null,"Nao"]
[null,"Nao"]
[null,"Nao"]
[null,"Nao"]
[null,"Nao"]
[null,"Nao"]
[null,"Nao"]
[null,"Nao"]
[null,"Nao"]
[null,"Nao"]
[null,"Nao"]
[null,"Nao"]
[null,"Nao"]
[null,"Nao"]
[null,"Nao"]
[null,"Nao"]
[null,"Nao"]
[null,"Nao"]
[null,"Nao"]
[null,"Nao"]
[null,{"$f":"IF(A10647>0,\"Offhire\",\"Nao\")","v":"Nao"}]
[null,"Nao"]
[null,"Nao"]
[null,"Nao"]
[null,"Nao"]
[null,"Nao"]
[null,"Nao"]
[null,"Nao"]
[null,"Nao"]
[null,"Nao"]
[null,"Nao"]
[null,"Nao"]
[null,"Nao"]
[null,"Nao"]
[null,"Nao"]
[null,"Nao"]
[null,"Nao"]
[null,"Nao"]
[null,"Nao"]
[null,"Nao"]
[null,"Nao"]
[null,"Nao"]
[null,"Nao"]
[null,"Nao"]
[null,"Nao"]
[null,"Nao"]
[null,"Nao"]
[null,"Nao"]
[null,"Nao"]
[null,"Nao"]
[null,"Nao"]
[null,"Nao"]
[null,"Nao"]
[null,"Nao"]
[null,"Nao"]
[null,"Nao"]
[null,"Nao"]
[null,"Nao"]
[null,"Nao"]
[null,"Nao"]
[null,"Nao"]
[null,"Nao"]
[null,"Nao"]
[null,"Nao"]
[null,"Nao"]
[null,"Nao"]
[null,"Nao"]
[null,"Nao"]
[null,"Nao"]
[null,"Nao"]
[null,"Nao"]
[null,"Nao"]
[null,"Nao"]
[null,"Nao"]
[null,"Nao"]
[null,"Nao"]
[null,"Nao"]
[null,"Nao"]
[null,"Nao"]
[null,"Nao"]
[null,"Nao"]
[null,"Nao"]
[null,"Nao"]
[null,"Nao"]
[null,{"$f":"IF(A10711>0,\"Offhire\",\"Nao\")","v":"Nao"}]
[null,"Nao"]
[null,"Nao"]
[null,"Nao"]
[null,"Nao"]
[null,"Nao"]
[null,"Nao"]
[null,"Nao"]
[null,"Nao"]
[null,"Nao"]
[null,"Nao"]
[null,"Nao"]
[null,"Nao"]
[null,"Nao"]
[null,"Nao"]
[null,"Nao"]
[null,"Nao"]
[null,"Nao"]
[null,"Nao"]
[null,"Nao"]
[null,"Nao"]
[null,"Nao"]
[null,"Nao"]
[null,"Nao"]
[null,"Nao"]
[null,"Nao"]
[null,"Nao"]
[null,"Nao"]
[null,"Nao"]
[null,"Nao"]
[null,"Nao"]
[null,"Nao"]
[null,"Nao"]
[null,"Nao"]
[null,"Nao"]
[null,"Nao"]
[null,"Nao"]
[null,"Nao"]
[null,"Nao"]
[null,"Nao"]
[null,"Nao"]
[null,"Nao"]
[null,"Nao"]
[null,"Nao"]
[null,"Nao"]
[null,"Nao"]
[null,"Nao"]
[null,"Nao"]
[null,"Nao"]
[null,"Nao"]
[null,"Nao"]
[null,"Nao"]
[null,"Nao"]
[null,"Nao"]
[null,"Nao"]
[null,"Nao"]
[null,"Nao"]
[null,"Nao"]
[null,"Nao"]
[null,"Nao"]
[null,"Nao"]
[null,"Nao"]
[null,"Nao"]
[null,"Nao"]
[null,{"$f":"IF(A10775>0,\"Offhire\",\"Nao\")","v":"Nao"}]
[null,"Nao"]
[null,"Nao"]
[null,"Nao"]
[null,"Nao"]
[null,"Nao"]
[null,"Nao"]
[null,"Nao"]
[null,"Nao"]
[null,"Nao"]
[null,"Nao"]
[null,"Nao"]
[null,"Nao"]
[null,"Nao"]
[null,"Nao"]
[null,"Nao"]
[null,"Nao"]
[null,"Nao"]
[null,"Nao"]
[null,"Nao"]
[null,"Nao"]
[null,"Nao"]
[null,"Nao"]
[null,"Nao"]
[null,"Nao"]
[null,"Nao"]
[null,"Nao"]
[null,"Nao"]
[null,"Nao"]
[null,"Nao"]
[null,"Nao"]
[null,"Nao"]
[null,"Nao"]
[null,"Nao"]
[null,"Nao"]
[null,"Nao"]
[null,"Nao"]
[null,"Nao"]
[null,"Nao"]
[null,"Nao"]
[null,"Nao"]
[null,"Nao"]
[null,"Nao"]
[null,"Nao"]
[null,"Nao"]
[null,"Nao"]
[null,"Nao"]
[null,"Nao"]
[null,"Nao"]
[null,"Nao"]
[null,"Nao"]
[null,"Nao"]
[null,"Nao"]
[null,"Nao"]
[null,"Nao"]
[null,"Nao"]
[null,"Nao"]
[null,"Nao"]
[null,"Nao"]
[null,"Nao"]
[null,"Nao"]
[null,"Nao"]
[null,"Nao"]
[null,"Nao"]
[null,{"$f":"IF(A10839>0,\"Offhire\",\"Nao\")","v":"Nao"}]
[null,"Nao"]
[null,"Nao"]
[null,"Nao"]
[null,"Nao"]
[null,"Nao"]
[null,"Nao"]
[null,"Nao"]
[null,"Nao"]
[null,"Nao"]
[null,"Nao"]
[null,"Nao"]
[null,"Nao"]
[null,"Nao"]
[null,"Nao"]
[null,"Nao"]
[null,"Nao"]
[null,"Nao"]
[null,"Nao"]
[null,"Nao"]
[null,"Nao"]
[null,"Nao"]
[null,"Nao"]
[null,"Nao"]
[null,"Nao"]
[null,"Nao"]
[null,"Nao"]
[null,"Nao"]
[null,"Nao"]
[null,"Nao"]
[null,"Nao"]
[null,"Nao"]
[null,"Nao"]
[null,"Nao"]
[null,"Nao"]
[null,"Nao"]
[null,"Nao"]
[null,"Nao"]
[null,"Nao"]
[null,"Nao"]
[null,"Nao"]
[null,"Nao"]
[null,"Nao"]
[null,"Nao"]
[null,"Nao"]
[null,"Nao"]
[null,"Nao"]
[null,"Nao"]
[null,"Nao"]
[null,"Nao"]
[null,"Nao"]
[null,"Nao"]
[null,"Nao"]
[null,"Nao"]
[null,"Nao"]
[null,"Nao"]
[null,"Nao"]
[null,"Nao"]
[null,"Nao"]
[null,"Nao"]
[null,"Nao"]
[null,"Nao"]
[null,"Nao"]
[null,"Nao"]
[null,{"$f":"IF(A10903>0,\"Offhire\",\"Nao\")","v":"Nao"}]
[null,"Nao"]
[null,"Nao"]
[null,"Nao"]
[null,"Nao"]
[null,"Nao"]
[null,"Nao"]
[null,"Nao"]
[null,"Nao"]
[null,"Nao"]
[null,"Nao"]
[null,"Nao"]
[null,"Nao"]
[null,"Nao"]
[null,"Nao"]
[null,"Nao"]
[null,"Nao"]
[null,"Nao"]
[null,"Nao"]
[null,"Nao"]
[null,"Nao"]
[null,"Nao"]
[null,"Nao"]
[null,"Nao"]
[null,"Nao"]
[null,"Nao"]
[null,"Nao"]
[null,"Nao"]
[null,"Nao"]
[null,"Nao"]
[null,"Nao"]
[null,"Nao"]
[null,"Nao"]
[null,"Nao"]
[null,"Nao"]
[null,"Nao"]
[null,"Nao"]
[null,"Nao"]
[null,"Nao"]
[null,"Nao"]
[null,"Nao"]
[null,"Nao"]
[null,"Nao"]
[null,"Nao"]
[null,"Nao"]
[null,"Nao"]
[null,"Nao"]
[null,"Nao"]
[null,"Nao"]
[null,"Nao"]
[null,"Nao"]
[null,"Nao"]
[null,"Nao"]
[null,"Nao"]
[null,"Nao"]
[null,"Nao"]
[null,"Nao"]
[null,"Nao"]
[null,"Nao"]
[null,"Nao"]
[null,"Nao"]
[null,"Nao"]
[null,"Nao"]
[null,"Nao"]
[null,{"$f":"IF(A10967>0,\"Offhire\",\"Nao\")","v":"Nao"}]
[null,"Nao"]
[null,"Nao"]
[null,"Nao"]
[null,"Nao"]
[null,"Nao"]
[null,"Nao"]
[null,"Nao"]
[null,"Nao"]
[null,"Nao"]
[null,"Nao"]
[null,"Nao"]
[null,"Nao"]
[null,"Nao"]
[null,"Nao"]
[null,"Nao"]
[null,"Nao"]
[null,"Nao"]
[null,"Nao"]
[null,"Nao"]
[null,"Nao"]
[null,"Nao"]
[null,"Nao"]
[null,"Nao"]
[null,"Nao"]
[null,"Nao"]
[null,"Nao"]
[null,"Nao"]
[null,"Nao"]
[null,"Nao"]
[null,"Nao"]
[null,"Nao"]
[null,"Nao"]
[null,"Nao"]
[null,"Nao"]
[null,"Nao"]
[null,"Nao"]
[null,"Nao"]
[null,"Nao"]
[null,"Nao"]
[null,"Nao"]
[null,"Nao"]
[null,"Nao"]
[null,"Nao"]
[null,"Nao"]
[null,"Nao"]
[null,"Nao"]
[null,"Nao"]
[null,"Nao"]
[null,"Nao"]
[null,"Nao"]
[null,"Nao"]
[null,"Nao"]
[null,"Nao"]
[null,"Nao"]
[null,"Nao"]
[null,"Nao"]
[null,"Nao"]
[null,"Nao"]
[null,"Nao"]
[null,"Nao"]
[null,"Nao"]
[null,"Nao"]
[null,"Nao"]
[null,{"$f":"IF(A11031>0,\"Offhire\",\"Nao\")","v":"Nao"}]
[null,"Nao"]
[null,"Nao"]
[null,"Nao"]
[null,"Nao"]
[null,"Nao"]
[null,"Nao"]
[null,"Nao"]
[null,"Nao"]
[null,"Nao"]
[null,"Nao"]
[null,"Nao"]
[null,"Nao"]
[null,"Nao"]
[null,"Nao"]
[null,"Nao"]
[null,"Nao"]
[null,"Nao"]
[null,"Nao"]
[null,"Nao"]
[null,"Nao"]
[null,"Nao"]
[null,"Nao"]
[null,"Nao"]
[null,"Nao"]
[null,"Nao"]
[null,"Nao"]
[null,"Nao"]
[null,"Nao"]
[null,"Nao"]
[null,"Nao"]
[null,"Nao"]
[null,"Nao"]
[null,"Nao"]
[null,"Nao"]
[null,"Nao"]
[null,"Nao"]
[null,"Nao"]
[null,"Nao"]
[null,"Nao"]
[null,"Nao"]
[null,"Nao"]
[null,"Nao"]
[null,"Nao"]
[null,"Nao"]
[null,"Nao"]
[null,"Nao"]
[null,"Nao"]
[null,"Nao"]
[null,"Nao"]
[null,"Nao"]
[null,"Nao"]
[null,"Nao"]
[null,"Nao"]
[null,"Nao"]
[null,"Nao"]
[null,"Nao"]
[null,"Nao"]
[null,"Nao"]
[null,"Nao"]
[null,"Nao"]
[null,"Nao"]
[null,"Nao"]
[null,"Nao"]
[null,{"$f":"IF(A11095>0,\"Offhire\",\"Nao\")","v":"Nao"}]
[null,"Nao"]
[null,"Nao"]
[null,"Nao"]
[null,"Nao"]
[null,"Nao"]
[null,"Nao"]
[null,"Nao"]
[null,"Nao"]
[null,"Nao"]
[null,"Nao"]
[null,"Nao"]
[null,"Nao"]
[null,"Nao"]
[null,"Nao"]
[null,"Nao"]
[null,"Nao"]
[null,"Nao"]
[null,"Nao"]
[null,"Nao"]
[null,"Nao"]
[null,"Nao"]
[null,"Nao"]
[null,"Nao"]
[null,"Nao"]
[null,"Nao"]
[null,"Nao"]
[null,"Nao"]
[null,"Nao"]
[null,"Nao"]
[null,"Nao"]
[null,"Nao"]
[null,"Nao"]
[null,"Nao"]
[null,"Nao"]
[null,"Nao"]
[null,"Nao"]
[null,"Nao"]
[null,"Nao"]
[null,"Nao"]
[null,"Nao"]
[null,"Nao"]
[null,"Nao"]
[null,"Nao"]
[null,"Nao"]
[null,"Nao"]
[null,"Nao"]
[null,"Nao"]
[null,"Nao"]
[null,"Nao"]
[null,"Nao"]
[null,"Nao"]
[null,"Nao"]
[null,"Nao"]
[null,"Nao"]
[null,"Nao"]
[null,"Nao"]
[null,"Nao"]
[null,"Nao"]
[null,"Nao"]
[null,"Nao"]
[null,"Nao"]
[null,"Nao"]
[null,"Nao"]
[null,{"$f":"IF(A11159>0,\"Offhire\",\"Nao\")","v":"Nao"}]
[null,"Nao"]
[null,"Nao"]
[null,"Nao"]
[null,"Nao"]
[null,"Nao"]
[null,"Nao"]
[null,"Nao"]
[null,"Nao"]
[null,"Nao"]
[null,"Nao"]
[null,"Nao"]
[null,"Nao"]
[null,"Nao"]
[null,"Nao"]
[null,"Nao"]
[null,"Nao"]
[null,"Nao"]
[null,"Nao"]
[null,"Nao"]
[null,"Nao"]
[null,"Nao"]
[null,"Nao"]
[null,"Nao"]
[null,"Nao"]
[null,"Nao"]
[null,"Nao"]
[null,"Nao"]
[null,"Nao"]
[null,"Nao"]
[null,"Nao"]
[null,"Nao"]
[null,"Nao"]
[null,"Nao"]
[null,"Nao"]
[null,"Nao"]
[null,"Nao"]
[null,"Nao"]
[null,"Nao"]
[null,"Nao"]
[null,"Nao"]
[null,"Nao"]
[null,"Nao"]
[null,"Nao"]
[null,"Nao"]
[null,"Nao"]
[null,"Nao"]
[null,"Nao"]
[null,"Nao"]
[null,"Nao"]
[null,"Nao"]
[null,"Nao"]
[null,"Nao"]
[null,"Nao"]
[null,"Nao"]
[null,"Nao"]
[null,"Nao"]
[null,"Nao"]
[null,"Nao"]
[null,"Nao"]
[null,"Nao"]
[null,"Nao"]
[null,"Nao"]
[null,"Nao"]
[null,{"$f":"IF(A11223>0,\"Offhire\",\"Nao\")","v":"Nao"}]
[null,"Nao"]
[null,"Nao"]
[null,"Nao"]
[null,"Nao"]
[null,"Nao"]
[null,"Nao"]
[null,"Nao"]
[null,"Nao"]
[null,"Nao"]
[null,"Nao"]
[null,"Nao"]
[null,"Nao"]
[null,"Nao"]
[null,"Nao"]
[null,"Nao"]
[null,"Nao"]
[null,"Nao"]
[null,"Nao"]
[null,"Nao"]
[null,"Nao"]
[null,"Nao"]
[null,"Nao"]
[null,"Nao"]
[null,"Nao"]
[null,"Nao"]
[null,"Nao"]
[null,"Nao"]
[null,"Nao"]
[null,"Nao"]
[null,"Nao"]
[null,"Nao"]
[null,"Nao"]
[null,"Nao"]
[null,"Nao"]
[null,"Nao"]
[null,"Nao"]
[null,"Nao"]
[null,"Nao"]
[null,"Nao"]
[null,"Nao"]
[null,"Nao"]
[null,"Nao"]
[null,"Nao"]
[null,"Nao"]
[null,"Nao"]
[null,"Nao"]
[null,"Nao"]
[null,"Nao"]
[null,"Nao"]
[null,"Nao"]
[null,"Nao"]
[null,"Nao"]
[null,"Nao"]
[null,"Nao"]
[null,"Nao"]
[null,"Nao"]
[null,"Nao"]
[null,"Nao"]
[null,"Nao"]
[null,"Nao"]
[null,"Nao"]
[null,"Nao"]
[null,"Nao"]
[null,{"$f":"IF(A11287>0,\"Offhire\",\"Nao\")","v":"Nao"}]
[null,"Nao"]
[null,"Nao"]
[null,"Nao"]
[null,"Nao"]
[null,"Nao"]
[null,"Nao"]
[null,"Nao"]
[null,"Nao"]
[null,"Nao"]
[null,"Nao"]
[null,"Nao"]
[null,"Nao"]
[null,"Nao"]
[null,"Nao"]
[null,"Nao"]
[null,"Nao"]
[null,"Nao"]
[null,"Nao"]
[null,"Nao"]
[null,"Nao"]
[null,"Nao"]
[null,"Nao"]
[null,"Nao"]
[null,"Nao"]
[null,"Nao"]
[null,"Nao"]
[null,"Nao"]
[null,"Nao"]
[null,"Nao"]
[null,"Nao"]
[null,"Nao"]
[null,"Nao"]
[null,"Nao"]
[null,"Nao"]
[null,"Nao"]
[null,"Nao"]
[null,"Nao"]
[null,"Nao"]
[null,"Nao"]
[null,"Nao"]
[null,"Nao"]
[null,"Nao"]
[null,"Nao"]
[null,"Nao"]
[null,"Nao"]
[null,"Nao"]
[null,"Nao"]
[null,"Nao"]
[null,"Nao"]
[null,"Nao"]
[null,"Nao"]
[null,"Nao"]
[null,"Nao"]
[null,"Nao"]
[null,"Nao"]
[null,"Nao"]
[null,"Nao"]
[null,"Nao"]
[null,"Nao"]
[null,"Nao"]
[null,"Nao"]
[null,"Nao"]
[null,"Nao"]
[null,{"$f":"IF(A11351>0,\"Offhire\",\"Nao\")","v":"Nao"}]
[null,"Nao"]
[null,"Nao"]
[null,"Nao"]
[null,"Nao"]
[null,"Nao"]
[null,"Nao"]
[null,"Nao"]
[null,"Nao"]
[null,"Nao"]
[null,"Nao"]
[null,"Nao"]
[null,"Nao"]
[null,"Nao"]
[null,"Nao"]
[null,"Nao"]
[null,"Nao"]
[null,"Nao"]
[null,"Nao"]
[null,"Nao"]
[null,"Nao"]
[null,"Nao"]
[null,"Nao"]
[null,"Nao"]
[null,"Nao"]
[null,"Nao"]
[null,"Nao"]
[null,"Nao"]
[null,"Nao"]
[null,"Nao"]
[null,"Nao"]
[null,"Nao"]
[null,"Nao"]
[null,"Nao"]
[null,"Nao"]
[null,"Nao"]
[null,"Nao"]
[null,"Nao"]
[null,"Nao"]
[null,"Nao"]
[null,"Nao"]
[null,"Nao"]
[null,"Nao"]
[null,"Nao"]
[null,"Nao"]
[null,"Nao"]
[null,"Nao"]
[null,"Nao"]
[null,"Nao"]
[null,"Nao"]
[null,"Nao"]
[null,"Nao"]
[null,"Nao"]
[null,"Nao"]
[null,"Nao"]
[null,"Nao"]
[null,"Nao"]
[null,"Nao"]
[null,"Nao"]
[null,"Nao"]
[null,"Nao"]
[null,"Nao"]
[null,"Nao"]
[null,"Nao"]
[null,{"$f":"IF(A11415>0,\"Offhire\",\"Nao\")","v":"Nao"}]
[null,"Nao"]
[null,"Nao"]
[null,"Nao"]
[null,"Nao"]
[null,"Nao"]
[null,"Nao"]
[null,"Nao"]
[null,"Nao"]
[null,"Nao"]
[null,"Nao"]
[null,"Nao"]
[null,"Nao"]
[null,"Nao"]
[null,"Nao"]
[null,"Nao"]
[null,"Nao"]
[null,"Nao"]
[null,"Nao"]
[null,"Nao"]
[null,"Nao"]
[null,"Nao"]
[null,"Nao"]
[null,"Nao"]
[null,"Nao"]
[null,"Nao"]
[null,"Nao"]
[null,"Nao"]
[null,"Nao"]
[null,"Nao"]
[null,"Nao"]
[null,"Nao"]
[null,"Nao"]
[null,"Nao"]
[null,"Nao"]
[null,"Nao"]
[null,"Nao"]
[null,"Nao"]
[null,"Nao"]
[null,"Nao"]
[null,"Nao"]
[null,"Nao"]
[null,"Nao"]
[null,"Nao"]
[null,"Nao"]
[null,"Nao"]
[null,"Nao"]
[null,"Nao"]
[null,"Nao"]
[null,"Nao"]
[null,"Nao"]
[null,"Nao"]
[null,"Nao"]
[null,"Nao"]
[null,"Nao"]
[null,"Nao"]
[null,"Nao"]
[null,"Nao"]
[null,"Nao"]
[null,"Nao"]
[null,"Nao"]
[null,"Nao"]
[null,"Nao"]
[null,"Nao"]
[null,{"$f":"IF(A11479>0,\"Offhire\",\"Nao\")","v":"Nao"}]
[null,"Nao"]
[null,"Nao"]
[null,"Nao"]
[null,"Nao"]
[null,"Nao"]
[null,"Nao"]
[null,"Nao"]
[null,"Nao"]
[null,"Nao"]
[null,"Nao"]
[null,"Nao"]
[null,"Nao"]
[null,"Nao"]
[null,"Nao"]
[null,"Nao"]
[null,"Nao"]
[null,"Nao"]
[null,"Nao"]
[null,"Nao"]
[null,"Nao"]
[null,"Nao"]
[null,"Nao"]
[null,"Nao"]
[null,"Nao"]
[null,"Nao"]
[null,"Nao"]
[null,"Nao"]
[null,"Nao"]
[null,"Nao"]
[null,"Nao"]
[null,"Nao"]
[null,"Nao"]
[null,"Nao"]
[null,"Nao"]
[null,"Nao"]
[null,"Nao"]
[null,"Nao"]
[null,"Nao"]
[null,"Nao"]
[null,"Nao"]
[null,"Nao"]
[null,"Nao"]
[null,"Nao"]
[null,"Nao"]
[null,"Nao"]
[null,"Nao"]
[null,"Nao"]
[null,"Nao"]
[null,"Nao"]
[null,"Nao"]
[null,"Nao"]
[null,"Nao"]
[null,"Nao"]
[null,"Nao"]
[null,"Nao"]
[null,"Nao"]
[null,"Nao"]
[null,"Nao"]
[null,"Nao"]
[null,"Nao"]
[null,"Nao"]
[null,"Nao"]
[null,"Nao"]
[null,{"$f":"IF(A11543>0,\"Offhire\",\"Nao\")","v":"Nao"}]
[null,"Nao"]
[null,"Nao"]
[null,"Nao"]
[null,"Nao"]
[null,"Nao"]
[null,"Nao"]
[null,"Nao"]
[null,"Nao"]
[null,"Nao"]
[null,"Nao"]
[null,"Nao"]
[null,"Nao"]
[null,"Nao"]
[null,"Nao"]
[null,"Nao"]
[null,"Nao"]
[null,"Nao"]
[null,"Nao"]
[null,"Nao"]
[null,"Nao"]
[null,"Nao"]
[null,"Nao"]
[null,"Nao"]
[null,"Nao"]
[null,"Nao"]
[null,"Nao"]
[null,"Nao"]
[null,"Nao"]
[null,"Nao"]
[null,"Nao"]
[null,"Nao"]
[null,"Nao"]
[null,"Nao"]
[null,"Nao"]
[null,"Nao"]
[null,"Nao"]
[null,"Nao"]
[null,"Nao"]
[null,"Nao"]
[null,"Nao"]
[null,"Nao"]
[null,"Nao"]
[null,"Nao"]
[null,"Nao"]
[null,"Nao"]
[null,"Nao"]
[null,"Nao"]
[null,"Nao"]
[null,"Nao"]
[null,"Nao"]
[null,"Nao"]
[null,"Nao"]
[null,"Nao"]
[null,"Nao"]
[null,"Nao"]
[null,"Nao"]
[null,"Nao"]
[null,"Nao"]
[null,"Nao"]
[null,"Nao"]
[null,"Nao"]
[null,"Nao"]
[null,"Nao"]
[null,{"$f":"IF(A11607>0,\"Offhire\",\"Nao\")","v":"Nao"}]
[null,"Nao"]
[null,"Nao"]
[null,"Nao"]
[null,"Nao"]
[null,"Nao"]
[null,"Nao"]
[null,"Nao"]
[null,"Nao"]
[null,"Nao"]
[null,"Nao"]
[null,"Nao"]
[null,"Nao"]
[null,"Nao"]
[null,"Nao"]
[null,"Nao"]
[null,"Nao"]
[null,"Nao"]
[null,"Nao"]
[null,"Nao"]
[null,"Nao"]
[null,"Nao"]
[null,"Nao"]
[null,"Nao"]
[null,"Nao"]
[null,"Nao"]
[null,"Nao"]
[null,"Nao"]
[null,"Nao"]
[null,"Nao"]
[null,"Nao"]
[null,"Nao"]
[null,"Nao"]
[null,"Nao"]
[null,"Nao"]
[null,"Nao"]
[null,"Nao"]
[null,"Nao"]
[null,"Nao"]
[null,"Nao"]
[null,"Nao"]
[null,"Nao"]
[null,"Nao"]
[null,"Nao"]
[null,"Nao"]
[null,"Nao"]
[null,"Nao"]
[null,"Nao"]
[null,"Nao"]
[null,"Nao"]
[null,"Nao"]
[null,"Nao"]
[null,"Nao"]
[null,"Nao"]
[null,"Nao"]
[null,"Nao"]
[null,"Nao"]
[null,"Nao"]
[null,"Nao"]
[null,"Nao"]
[null,"Nao"]
[null,"Nao"]
[null,"Nao"]
[null,"Nao"]
[null,{"$f":"IF(A11671>0,\"Offhire\",\"Nao\")","v":"Nao"}]
[null,"Nao"]
[null,"Nao"]
[null,"Nao"]
[null,"Nao"]
[null,"Nao"]
[null,"Nao"]
[null,"Nao"]
[null,"Nao"]
[null,"Nao"]
[null,"Nao"]
[null,"Nao"]
[null,"Nao"]
[null,"Nao"]
[null,"Nao"]
[null,"Nao"]
[null,"Nao"]
[null,"Nao"]
[null,"Nao"]
[null,"Nao"]
[null,"Nao"]
[null,"Nao"]
[null,"Nao"]
[null,"Nao"]
[null,"Nao"]
[null,"Nao"]
[null,"Nao"]
[null,"Nao"]
[null,"Nao"]
[null,"Nao"]
[null,"Nao"]
[null,"Nao"]
[null,"Nao"]
[null,"Nao"]
[null,"Nao"]
[null,"Nao"]
[null,"Nao"]
[null,"Nao"]
[null,"Nao"]
[null,"Nao"]
[null,"Nao"]
[null,"Nao"]
[null,"Nao"]
[null,"Nao"]
[null,"Nao"]
[null,"Nao"]
[null,"Nao"]
[null,"Nao"]
[null,"Nao"]
[null,"Nao"]
[null,"Nao"]
[null,"Nao"]
[null,"Nao"]
[null,"Nao"]
[null,"Nao"]
[null,"Nao"]
[null,"Nao"]
[null,"Nao"]
[null,"Nao"]
[null,"Nao"]
[null,"Nao"]
[null,"Nao"]
[null,"Nao"]
[null,"Nao"]
[null,{"$f":"IF(A11735>0,\"Offhire\",\"Nao\")","v":"Nao"}]
[null,"Nao"]
[null,"Nao"]
[null,"Nao"]
[null,"Nao"]
[null,"Nao"]
[null,"Nao"]
[null,"Nao"]
[null,"Nao"]
[null,"Nao"]
[null,"Nao"]
[null,"Nao"]
[null,"Nao"]
[null,"Nao"]
[null,"Nao"]
[null,"Nao"]
[null,"Nao"]
[null,"Nao"]
[null,"Nao"]
[null,"Nao"]
[null,"Nao"]
[null,"Nao"]
[null,"Nao"]
[null,"Nao"]
[null,"Nao"]
[null,"Nao"]
[null,"Nao"]
[null,"Nao"]
[null,"Nao"]
[null,"Nao"]
[null,"Nao"]
[null,"Nao"]
[null,"Nao"]
[null,"Nao"]
[null,"Nao"]
[null,"Nao"]
[null,"Nao"]
[null,"Nao"]
[null,"Nao"]
[null,"Nao"]
[null,"Nao"]
[null,"Nao"]
[null,"Nao"]
[null,"Nao"]
[null,"Nao"]
[null,"Nao"]
[null,"Nao"]
[null,"Nao"]
[null,"Nao"]
[null,"Nao"]
[null,"Nao"]
[null,"Nao"]
[null,"Nao"]
[null,"Nao"]
[null,"Nao"]
[null,"Nao"]
[null,"Nao"]
[null,"Nao"]
[null,"Nao"]
[null,"Nao"]
[null,"Nao"]
[null,"Nao"]
[null,"Nao"]
[null,"Nao"]
[null,{"$f":"IF(A11799>0,\"Offhire\",\"Nao\")","v":"Nao"}]
[null,"Nao"]
[null,"Nao"]
[null,"Nao"]
[null,"Nao"]
[null,"Nao"]
[null,"Nao"]
[null,"Nao"]
[null,"Nao"]
[null,"Nao"]
[null,"Nao"]
[null,"Nao"]
[null,"Nao"]
[null,"Nao"]
[null,"Nao"]
[null,"Nao"]
[null,"Nao"]
[null,"Nao"]
[null,"Nao"]
[null,"Nao"]
[null,"Nao"]
[null,"Nao"]
[null,"Nao"]
[null,"Nao"]
[null,"Nao"]
[null,"Nao"]
[null,"Nao"]
[null,"Nao"]
[null,"Nao"]
[null,"Nao"]
[null,"Nao"]
[null,"Nao"]
[null,"Nao"]
[null,"Nao"]
[null,"Nao"]
[null,"Nao"]
[null,"Nao"]
[null,"Nao"]
[null,"Nao"]
[null,"Nao"]
[null,"Nao"]
[null,"Nao"]
[null,"Nao"]
[null,"Nao"]
[null,"Nao"]
[null,"Nao"]
[null,"Nao"]
[null,"Nao"]
[null,"Nao"]
[null,"Nao"]
[null,"Nao"]
[null,"Nao"]
[null,"Nao"]
[null,"Nao"]
[null,"Nao"]
[null,"Nao"]
[null,"Nao"]
[null,"Nao"]
[null,"Nao"]
[null,"Nao"]
[null,"Nao"]
[null,"Nao"]
[null,"Nao"]
[null,"Nao"]
[null,{"$f":"IF(A11863>0,\"Offhire\",\"Nao\")","v":"Nao"}]
[null,"Nao"]
[null,"Nao"]
[null,"Nao"]
[null,"Nao"]
[null,"Nao"]
[null,"Nao"]
[null,"Nao"]
[null,"Nao"]
[null,"Nao"]
[null,"Nao"]
[null,"Nao"]
[null,"Nao"]
[null,"Nao"]
[null,"Nao"]
[null,"Nao"]
[null,"Nao"]
[null,"Nao"]
[null,"Nao"]
[null,"Nao"]
[null,"Nao"]
[null,"Nao"]
[null,"Nao"]
[null,"Nao"]
[null,"Nao"]
[null,"Nao"]
[null,"Nao"]
[null,"Nao"]
[null,"Nao"]
[null,"Nao"]
[null,"Nao"]
[null,"Nao"]
[null,"Nao"]
[null,"Nao"]
[null,"Nao"]
[null,"Nao"]
[null,"Nao"]
[null,"Nao"]
[null,"Nao"]
[null,"Nao"]
[null,"Nao"]
[null,"Nao"]
[null,"Nao"]
[null,"Nao"]
[null,"Nao"]
[null,"Nao"]
[null,"Nao"]
[null,"Nao"]
[null,"Nao"]
[null,"Nao"]
[null,"Nao"]
[null,"Nao"]
[null,"Nao"]
[null,"Nao"]
[null,"Nao"]
[null,"Nao"]
[null,"Nao"]
[null,"Nao"]
[null,"Nao"]
[null,"Nao"]
[null,"Nao"]
[null,"Nao"]
[null,"Nao"]
[null,"Nao"]
[null,{"$f":"IF(A11927>0,\"Offhire\",\"Nao\")","v":"Nao"}]
[null,"Nao"]
[null,"Nao"]
[null,"Nao"]
[null,"Nao"]
[null,"Nao"]
[null,"Nao"]
[null,"Nao"]
[null,"Nao"]
[null,"Nao"]
[null,"Nao"]
[null,"Nao"]
[null,"Nao"]
[null,"Nao"]
[null,"Nao"]
[null,"Nao"]
[null,"Nao"]
[null,"Nao"]
[null,"Nao"]
[null,"Nao"]
[null,"Nao"]
[null,"Nao"]
[null,"Nao"]
[null,"Nao"]
[null,"Nao"]
[null,"Nao"]
[null,"Nao"]
[null,"Nao"]
[null,"Nao"]
[null,"Nao"]
[null,"Nao"]
[null,"Nao"]
[null,"Nao"]
[null,"Nao"]
[null,"Nao"]
[null,"Nao"]
[null,"Nao"]
[null,"Nao"]
[null,"Nao"]
[null,"Nao"]
[null,"Nao"]
[null,"Nao"]
[null,"Nao"]
[null,"Nao"]
[null,"Nao"]
[null,"Nao"]
[null,"Nao"]
[null,"Nao"]
[null,"Nao"]
[null,"Nao"]
[null,"Nao"]
[null,"Nao"]
[null,"Nao"]
[null,"Nao"]
[null,"Nao"]
[null,"Nao"]
[null,"Nao"]
[null,"Nao"]
[null,"Nao"]
[null,"Nao"]
[null,"Nao"]
[null,"Nao"]
[null,"Nao"]
[null,"Nao"]
[null,{"$f":"IF(A11991>0,\"Offhire\",\"Nao\")","v":"Nao"}]
[null,"Nao"]
[null,"Nao"]
[null,"Nao"]
[null,"Nao"]
[null,"Nao"]
[null,"Nao"]
[null,"Nao"]
[null,"Nao"]
[null,"Nao"]
[null,"Nao"]
[null,"Nao"]
[null,"Nao"]
[null,"Nao"]
[null,"Nao"]
[null,"Nao"]
[null,"Nao"]
[null,"Nao"]
[null,"Nao"]
[null,"Nao"]
[null,"Nao"]
[null,"Nao"]
[null,"Nao"]
[null,"Nao"]
[null,"Nao"]
[null,"Nao"]
[null,"Nao"]
[null,"Nao"]
[null,"Nao"]
[null,"Nao"]
[null,"Nao"]
[null,"Nao"]
[null,"Nao"]
[null,"Nao"]
[null,"Nao"]
[null,"Nao"]
[null,"Nao"]
[null,"Nao"]
[null,"Nao"]
[null,"Nao"]
[null,"Nao"]
[null,"Nao"]
[null,"Nao"]
[null,"Nao"]
[null,"Nao"]
[null,"Nao"]
[null,"Nao"]
[null,"Nao"]
[null,"Nao"]
[null,"Nao"]
[null,"Nao"]
[null,"Nao"]
[null,"Nao"]
[null,"Nao"]
[null,"Nao"]
[null,"Nao"]
[null,"Nao"]
[null,"Nao"]
[null,"Nao"]
[null,"Nao"]
[null,"Nao"]
[null,"Nao"]
[null,"Nao"]
[null,"Nao"]
[null,{"$f":"IF(A12055>0,\"Offhire\",\"Nao\")","v":"Nao"}]
[null,"Nao"]
[null,"Nao"]
[null,"Nao"]
[null,"Nao"]
[null,"Nao"]
[null,"Nao"]
[null,"Nao"]
[null,"Nao"]
[null,"Nao"]
[null,"Nao"]
[null,"Nao"]
[null,"Nao"]
[null,"Nao"]
[null,"Nao"]
[null,"Nao"]
[null,"Nao"]
[null,"Nao"]
[null,"Nao"]
[null,"Nao"]
[null,"Nao"]
[null,"Nao"]
[null,"Nao"]
[null,"Nao"]
[null,"Nao"]
[null,"Nao"]
[null,"Nao"]
[null,"Nao"]
[null,"Nao"]
[null,"Nao"]
[null,"Nao"]
[null,"Nao"]
[null,"Nao"]
[null,"Nao"]
[null,"Nao"]
[null,"Nao"]
[null,"Nao"]
[null,"Nao"]
[null,"Nao"]
[null,"Nao"]
[null,"Nao"]
[null,"Nao"]
[null,"Nao"]
[null,"Nao"]
[null,"Nao"]
[null,"Nao"]
[null,"Nao"]
[null,"Nao"]
[null,"Nao"]
[null,"Nao"]
[null,"Nao"]
[null,"Nao"]
[null,"Nao"]
[null,"Nao"]
[null,"Nao"]
[null,"Nao"]
[null,"Nao"]
[null,"Nao"]
[null,"Nao"]
[null,"Nao"]
[null,"Nao"]
[null,"Nao"]
[null,"Nao"]
[null,"Nao"]
[null,{"$f":"IF(A12119>0,\"Offhire\",\"Nao\")","v":"Nao"}]
[null,"Nao"]
[null,"Nao"]
[null,"Nao"]
[null,"Nao"]
[null,"Nao"]
[null,"Nao"]
[null,"Nao"]
[null,"Nao"]
[null,"Nao"]
[null,"Nao"]
[null,"Nao"]
[null,"Nao"]
[null,"Nao"]
[null,"Nao"]
[null,"Nao"]
[null,"Nao"]
[null,"Nao"]
[null,"Nao"]
[null,"Nao"]
[null,"Nao"]
[null,"Nao"]
[null,"Nao"]
[null,"Nao"]
[null,"Nao"]
[null,"Nao"]
[null,"Nao"]
[null,"Nao"]
[null,"Nao"]
[null,"Nao"]
[null,"Nao"]
[null,"Nao"]
[null,"Nao"]
[null,"Nao"]
[null,"Nao"]
[null,"Nao"]
[null,"Nao"]
[null,"Nao"]
[null,"Nao"]
[null,"Nao"]
[null,"Nao"]
[null,"Nao"]
[null,"Nao"]
[null,"Nao"]
[null,"Nao"]
[null,"Nao"]
[null,"Nao"]
[null,"Nao"]
[null,"Nao"]
[null,"Nao"]
[null,"Nao"]
[null,"Nao"]
[null,"Nao"]
[null,"Nao"]
[null,"Nao"]
[null,"Nao"]
[null,"Nao"]
[null,"Nao"]
[null,"Nao"]
[null,"Nao"]
[null,"Nao"]
[null,"Nao"]
[null,"Nao"]
[null,"Nao"]
[null,{"$f":"IF(A12183>0,\"Offhire\",\"Nao\")","v":"Nao"}]
[null,"Nao"]
[null,"Nao"]
[null,"Nao"]
[null,"Nao"]
[null,"Nao"]
[null,"Nao"]
[null,"Nao"]
[null,"Nao"]
[null,"Nao"]
[null,"Nao"]
[null,"Nao"]
[null,"Nao"]
[null,"Nao"]
[null,"Nao"]
[null,"Nao"]
[null,"Nao"]
[null,"Nao"]
[null,"Nao"]
[null,"Nao"]
[null,"Nao"]
[null,"Nao"]
[null,"Nao"]
[null,"Nao"]
[null,"Nao"]
[null,"Nao"]
[null,"Nao"]
[null,"Nao"]
[null,"Nao"]
[null,"Nao"]
[null,"Nao"]
[null,"Nao"]
[null,"Nao"]
[null,"Nao"]
[null,"Nao"]
[null,"Nao"]
[null,"Nao"]
[null,"Nao"]
[null,"Nao"]
[null,"Nao"]
[null,"Nao"]
[null,"Nao"]
[null,"Nao"]
[null,"Nao"]
[null,"Nao"]
[null,"Nao"]
[null,"Nao"]
[null,"Nao"]
[null,"Nao"]
[null,"Nao"]
[null,"Nao"]
[null,"Nao"]
[null,"Nao"]
[null,"Nao"]
[null,"Nao"]
[null,"Nao"]
[null,"Nao"]
[null,"Nao"]
[null,"Nao"]
[null,"Nao"]
[null,"Nao"]
[null,"Nao"]
[null,"Nao"]
[null,"Nao"]
[null,{"$f":"IF(A12247>0,\"Offhire\",\"Nao\")","v":"Nao"}]
[null,"Nao"]
[null,"Nao"]
[null,"Nao"]
[null,"Nao"]
[null,"Nao"]
[null,"Nao"]
[null,"Nao"]
[null,"Nao"]
[null,"Nao"]
[null,"Nao"]
[null,"Nao"]
[null,"Nao"]
[null,"Nao"]
[null,"Nao"]
[null,"Nao"]
[null,"Nao"]
[null,"Nao"]
[null,"Nao"]
[null,"Nao"]
[null,"Nao"]
[null,"Nao"]
[null,"Nao"]
[null,"Nao"]
[null,"Nao"]
[null,"Nao"]
[null,"Nao"]
[null,"Nao"]
[null,"Nao"]
[null,"Nao"]
[null,"Nao"]
[null,"Nao"]
[null,"Nao"]
[null,"Nao"]
[null,"Nao"]
[null,"Nao"]
[null,"Nao"]
[null,"Nao"]
[null,"Nao"]
[null,"Nao"]
[null,"Nao"]
[null,"Nao"]
[null,"Nao"]
[null,"Nao"]
[null,"Nao"]
[null,"Nao"]
[null,"Nao"]
[null,"Nao"]
[null,"Nao"]
[null,"Nao"]
[null,"Nao"]
[null,"Nao"]
[null,"Nao"]
[null,"Nao"]
[null,"Nao"]
[null,"Nao"]
[null,"Nao"]
[null,"Nao"]
[null,"Nao"]
[null,"Nao"]
[null,"Nao"]
[null,"Nao"]
[null,"Nao"]
[null,"Nao"]
[null,{"$f":"IF(A12311>0,\"Offhire\",\"Nao\")","v":"Nao"}]
[null,"Nao"]
[null,"Nao"]
[null,"Nao"]
[null,"Nao"]
[null,"Nao"]
[null,"Nao"]
[null,"Nao"]
[null,"Nao"]
[null,"Nao"]
[null,"Nao"]
[null,"Nao"]
[null,"Nao"]
[null,"Nao"]
[null,"Nao"]
[null,"Nao"]
[null,"Nao"]
[null,"Nao"]
[null,"Nao"]
[null,"Nao"]
[null,"Nao"]
[null,"Nao"]
[null,"Nao"]
[null,"Nao"]
[null,"Nao"]
[null,"Nao"]
[null,"Nao"]
[null,"Nao"]
[null,"Nao"]
[null,"Nao"]
[null,"Nao"]
[null,"Nao"]
[null,"Nao"]
[null,"Nao"]
[null,"Nao"]
[null,"Nao"]
[null,"Nao"]
[null,"Nao"]
[null,"Nao"]
[null,"Nao"]
[null,"Nao"]
[null,"Nao"]
[null,"Nao"]
[null,"Nao"]
[null,"Nao"]
[null,"Nao"]
[null,"Nao"]
[null,"Nao"]
[null,"Nao"]
[null,"Nao"]
[null,"Nao"]
[null,"Nao"]
[null,"Nao"]
[null,"Nao"]
[null,"Nao"]
[null,"Nao"]
[null,"Nao"]
[null,"Nao"]
[null,"Nao"]
[null,"Nao"]
[null,"Nao"]
[null,"Nao"]
[null,"Nao"]
[null,"Nao"]
[null,{"$f":"IF(A12375>0,\"Offhire\",\"Nao\")","v":"Nao"}]
[null,"Nao"]
[null,"Nao"]
[null,"Nao"]
[null,"Nao"]
[null,"Nao"]
[null,"Nao"]
[null,"Nao"]
[null,"Nao"]
[null,"Nao"]
[null,"Nao"]
[null,"Nao"]
[null,"Nao"]
[null,"Nao"]
[null,"Nao"]
[null,"Nao"]
[null,"Nao"]
[null,"Nao"]
[null,"Nao"]
[null,"Nao"]
[null,"Nao"]
[null,"Nao"]
[null,"Nao"]
[null,"Nao"]
[null,"Nao"]
[null,"Nao"]
[null,"Nao"]
[null,"Nao"]
[null,"Nao"]
[null,"Nao"]
[null,"Nao"]
[null,"Nao"]
[null,"Nao"]
[null,"Nao"]
[null,"Nao"]
[null,"Nao"]
[null,"Nao"]
[null,"Nao"]
[null,"Nao"]
[null,"Nao"]
[null,"Nao"]
[null,"Nao"]
[null,"Nao"]
[null,"Nao"]
[null,"Nao"]
[null,"Nao"]
[null,"Nao"]
[null,"Nao"]
[null,"Nao"]
[null,"Nao"]
[null,"Nao"]
[null,"Nao"]
[null,"Nao"]
[null,"Nao"]
[null,"Nao"]
[null,"Nao"]
[null,"Nao"]
[null,"Nao"]
[null,"Nao"]
[null,"Nao"]
[null,"Nao"]
[null,"Nao"]
[null,"Nao"]
[null,"Nao"]
[null,{"$f":"IF(A12439>0,\"Offhire\",\"Nao\")","v":"Nao"}]
[null,"Nao"]
[null,"Nao"]
[null,"Nao"]
[null,"Nao"]
[null,"Nao"]
[null,"Nao"]
[null,"Nao"]
[null,"Nao"]
[null,"Nao"]
[null,"Nao"]
[null,"Nao"]
[null,"Nao"]
[null,"Nao"]
[null,"Nao"]
[null,"Nao"]
[null,"Nao"]
[null,"Nao"]
[null,"Nao"]
[null,"Nao"]
[null,"Nao"]
[null,"Nao"]
[null,"Nao"]
[null,"Nao"]
[null,"Nao"]
[null,"Nao"]
[null,"Nao"]
[null,"Nao"]
[null,"Nao"]
[null,"Nao"]
[null,"Nao"]
[null,"Nao"]
[null,"Nao"]
[null,"Nao"]
[null,"Nao"]
[null,"Nao"]
[null,"Nao"]
[null,"Nao"]
[null,"Nao"]
[null,"Nao"]
[null,"Nao"]
[null,"Nao"]
[null,"Nao"]
[null,"Nao"]
[null,"Nao"]
[null,"Nao"]
[null,"Nao"]
[null,"Nao"]
[null,"Nao"]
[null,"Nao"]
[null,"Nao"]
[null,"Nao"]
[null,"Nao"]
[null,"Nao"]
[null,"Nao"]
[null,"Nao"]
[null,"Nao"]
[null,"Nao"]
[null,"Nao"]
[null,"Nao"]
[null,"Nao"]
[null,"Nao"]
[null,"Nao"]
[null,"Nao"]
[null,{"$f":"IF(A12503>0,\"Offhire\",\"Nao\")","v":"Nao"}]
[null,"Nao"]
[null,"Nao"]
[null,"Nao"]
[null,"Nao"]
[null,"Nao"]
[null,"Nao"]
[null,"Nao"]
[null,"Nao"]
[null,"Nao"]
[null,"Nao"]
[null,"Nao"]
[null,"Nao"]
[null,"Nao"]
[null,"Nao"]
[null,"Nao"]
[null,"Nao"]
[null,"Nao"]
[null,"Nao"]
[null,"Nao"]
[null,"Nao"]
[null,"Nao"]
[null,"Nao"]
[null,"Nao"]
[null,"Nao"]
[null,"Nao"]
[null,"Nao"]
[null,"Nao"]
[null,"Nao"]
[null,"Nao"]
[null,"Nao"]
[null,"Nao"]
[null,"Nao"]
[null,"Nao"]
[null,"Nao"]
[null,"Nao"]
[null,"Nao"]
[null,"Nao"]
[null,"Nao"]
[null,"Nao"]
[null,"Nao"]
[null,"Nao"]
[null,"Nao"]
[null,"Nao"]
[null,"Nao"]
[null,"Nao"]
[null,"Nao"]
[null,"Nao"]
[null,"Nao"]
[null,"Nao"]
[null,"Nao"]
[null,"Nao"]
[null,"Nao"]
[null,"Nao"]
[null,"Nao"]
[null,"Nao"]
[null,"Nao"]
[null,"Nao"]
[null,"Nao"]
[null,"Nao"]
[null,"Nao"]
[null,"Nao"]
[null,"Nao"]
[null,"Nao"]
[null,{"$f":"IF(A12567>0,\"Offhire\",\"Nao\")","v":"Nao"}]
[null,"Nao"]
[null,"Nao"]
[null,"Nao"]
[null,"Nao"]
[null,"Nao"]
[null,"Nao"]
[null,"Nao"]
[null,"Nao"]
[null,"Nao"]
[null,"Nao"]
[null,"Nao"]
[null,"Nao"]
[null,"Nao"]
[null,"Nao"]
[null,"Nao"]
[null,"Nao"]
[null,"Nao"]
[null,"Nao"]
[null,"Nao"]
[null,"Nao"]
[null,"Nao"]
[null,"Nao"]
[null,"Nao"]
[null,"Nao"]
[null,"Nao"]
[null,"Nao"]
[null,"Nao"]
[null,"Nao"]
[null,"Nao"]
[null,"Nao"]
[null,"Nao"]
[null,"Nao"]
[null,"Nao"]
[null,"Nao"]
[null,"Nao"]
[null,"Nao"]
[null,"Nao"]
[null,"Nao"]
[null,"Nao"]
[null,"Nao"]
[null,"Nao"]
[null,"Nao"]
[null,"Nao"]
[null,"Nao"]
[null,"Nao"]
[null,"Nao"]
[null,"Nao"]
[null,"Nao"]
[null,"Nao"]
[null,"Nao"]
[null,"Nao"]
[null,"Nao"]
[null,"Nao"]
[null,"Nao"]
[null,"Nao"]
[null,"Nao"]
[null,"Nao"]
[null,"Nao"]
[null,"Nao"]
[null,"Nao"]
[null,"Nao"]
[null,"Nao"]
[null,"Nao"]
[null,{"$f":"IF(A12631>0,\"Offhire\",\"Nao\")","v":"Nao"}]
[null,"Nao"]
[null,"Nao"]
[null,"Nao"]
[null,"Nao"]
[null,"Nao"]
[null,"Nao"]
[null,"Nao"]
[null,"Nao"]
[null,"Nao"]
[null,"Nao"]
[null,"Nao"]
[null,"Nao"]
[null,"Nao"]
[null,"Nao"]
[null,"Nao"]
[null,"Nao"]
[null,"Nao"]
[null,"Nao"]
[null,"Nao"]
[null,"Nao"]
[null,"Nao"]
[null,"Nao"]
[null,"Nao"]
[null,"Nao"]
[null,"Nao"]
[null,"Nao"]
[null,"Nao"]
[null,"Nao"]
[null,"Nao"]
[null,"Nao"]
[null,"Nao"]
[null,"Nao"]
[null,"Nao"]
[null,"Nao"]
[null,"Nao"]
[null,"Nao"]
[null,"Nao"]
[null,"Nao"]
[null,"Nao"]
[null,"Nao"]
[null,"Nao"]
[null,"Nao"]
[null,"Nao"]
[null,"Nao"]
[null,"Nao"]
[null,"Nao"]
[null,"Nao"]
[null,"Nao"]
[null,"Nao"]
[null,"Nao"]
[null,"Nao"]
[null,"Nao"]
[null,"Nao"]
[null,"Nao"]
[null,"Nao"]
[null,"Nao"]
[null,"Nao"]
[null,"Nao"]
[null,"Nao"]
[null,"Nao"]
[null,"Nao"]
[null,"Nao"]
[null,"Nao"]
[null,{"$f":"IF(A12695>0,\"Offhire\",\"Nao\")","v":"Nao"}]
[null,"Nao"]
[null,"Nao"]
[null,"Nao"]
[null,"Nao"]
[null,"Nao"]
[null,"Nao"]
[null,"Nao"]
[null,"Nao"]
[null,"Nao"]
[null,"Nao"]
[null,"Nao"]
[null,"Nao"]
[null,"Nao"]
[null,"Nao"]
[null,"Nao"]
[null,"Nao"]
[null,"Nao"]
[null,"Nao"]
[null,"Nao"]
[null,"Nao"]
[null,"Nao"]
[null,"Nao"]
[null,"Nao"]
[null,"Nao"]
[null,"Nao"]
[null,"Nao"]
[null,"Nao"]
[null,"Nao"]
[null,"Nao"]
[null,"Nao"]
[null,"Nao"]
[null,"Nao"]
[null,"Nao"]
[null,"Nao"]
[null,"Nao"]
[null,"Nao"]
[null,"Nao"]
[null,"Nao"]
[null,"Nao"]
[null,"Nao"]
[null,"Nao"]
[null,"Nao"]
[null,"Nao"]
[null,"Nao"]
[null,"Nao"]
[null,"Nao"]
[null,"Nao"]
[null,"Nao"]
[null,"Nao"]
[null,"Nao"]
[null,"Nao"]
[null,"Nao"]
[null,"Nao"]
[null,"Nao"]
[null,"Nao"]
[null,"Nao"]
[null,"Nao"]
[null,"Nao"]
[null,"Nao"]
[null,"Nao"]
[null,"Nao"]
[null,"Nao"]
[null,"Nao"]
[null,{"$f":"IF(A12759>0,\"Offhire\",\"Nao\")","v":"Nao"}]
[null,"Nao"]
[null,"Nao"]
[null,"Nao"]
[null,"Nao"]
[null,"Nao"]
[null,"Nao"]
[null,"Nao"]
[null,"Nao"]
[null,"Nao"]
[null,"Nao"]
[null,"Nao"]
[null,"Nao"]
[null,"Nao"]
[null,"Nao"]
[null,"Nao"]
[null,"Nao"]
[null,"Nao"]
[null,"Nao"]
[null,"Nao"]
[null,"Nao"]
[null,"Nao"]
[null,"Nao"]
[null,"Nao"]
[null,"Nao"]
[null,"Nao"]
[null,"Nao"]
[null,"Nao"]
[null,"Nao"]
[null,"Nao"]
[null,"Nao"]
[null,"Nao"]
[null,"Nao"]
[null,"Nao"]
[null,"Nao"]
[null,"Nao"]
[null,"Nao"]
[null,"Nao"]
[null,"Nao"]
[null,"Nao"]
[null,"Nao"]
[null,"Nao"]
[null,"Nao"]
[null,"Nao"]
[null,"Nao"]
[null,"Nao"]
[null,"Nao"]
[null,"Nao"]
[null,"Nao"]
[null,"Nao"]
[null,"Nao"]
[null,"Nao"]
[null,"Nao"]
[null,"Nao"]
[null,"Nao"]
[null,"Nao"]
[null,"Nao"]
[null,"Nao"]
[null,"Nao"]
[null,"Nao"]
[null,"Nao"]
[null,"Nao"]
[null,"Nao"]
[null,"Nao"]
[null,{"$f":"IF(A12823>0,\"Offhire\",\"Nao\")","v":"Nao"}]
[null,"Nao"]
[null,"Nao"]
[null,"Nao"]
[null,"Nao"]
[null,"Nao"]
[null,"Nao"]
[null,"Nao"]
[null,"Nao"]
[null,"Nao"]
[null,"Nao"]
[null,"Nao"]
[null,"Nao"]
[null,"Nao"]
[null,"Nao"]
[null,"Nao"]
[null,"Nao"]
[null,"Nao"]
[null,"Nao"]
[null,"Nao"]
[null,"Nao"]
[null,"Nao"]
[null,"Nao"]
[null,"Nao"]
[null,"Nao"]
[null,"Nao"]
[null,"Nao"]
[null,"Nao"]
[null,"Nao"]
[null,"Nao"]
[null,"Nao"]
[null,"Nao"]
[null,"Nao"]
[null,"Nao"]
[null,"Nao"]
[null,"Nao"]
[null,"Nao"]
[null,"Nao"]
[null,"Nao"]
[null,"Nao"]
[null,"Nao"]
[null,"Nao"]
[null,"Nao"]
[null,"Nao"]
[null,"Nao"]
[null,"Nao"]
[null,"Nao"]
[null,"Nao"]
[null,"Nao"]
[null,"Nao"]
[null,"Nao"]
[null,"Nao"]
[null,"Nao"]
[null,"Nao"]
[null,"Nao"]
[null,"Nao"]
[null,"Nao"]
[null,"Nao"]
[null,"Nao"]
[null,"Nao"]
[null,"Nao"]
[null,"Nao"]
[null,"Nao"]
[null,"Nao"]
[null,{"$f":"IF(A12887>0,\"Offhire\",\"Nao\")","v":"Nao"}]
[null,"Nao"]
[null,"Nao"]
[null,"Nao"]
[null,"Nao"]
[null,"Nao"]
[null,"Nao"]
[null,"Nao"]
[null,"Nao"]
[null,"Nao"]
[null,"Nao"]
[null,"Nao"]
[null,"Nao"]
[null,"Nao"]
[null,"Nao"]
[null,"Nao"]
[null,"Nao"]
[null,"Nao"]
[null,"Nao"]
[null,"Nao"]
[null,"Nao"]
[null,"Nao"]
[null,"Nao"]
[null,"Nao"]
[null,"Nao"]
[null,"Nao"]
[null,"Nao"]
[null,"Nao"]
[null,"Nao"]
[null,"Nao"]
[null,"Nao"]
[null,"Nao"]
[null,"Nao"]
[null,"Nao"]
[null,"Nao"]
[null,"Nao"]
[null,"Nao"]
[null,"Nao"]
[null,"Nao"]
[null,"Nao"]
[null,"Nao"]
[null,"Nao"]
[null,"Nao"]
[null,"Nao"]
[null,"Nao"]
[null,"Nao"]
[null,"Nao"]
[null,"Nao"]
[null,"Nao"]
[null,"Nao"]
[null,"Nao"]
[null,"Nao"]
[null,"Nao"]
[null,"Nao"]
[null,"Nao"]
[null,"Nao"]
[null,"Nao"]
[null,"Nao"]
[null,"Nao"]
[null,"Nao"]
[null,"Nao"]
[null,"Nao"]
[null,"Nao"]
[null,"Nao"]
[null,{"$f":"IF(A12951>0,\"Offhire\",\"Nao\")","v":"Nao"}]
[null,"Nao"]
[null,"Nao"]
[null,"Nao"]
[null,"Nao"]
[null,"Nao"]
[null,"Nao"]
[null,"Nao"]
[null,"Nao"]
[null,"Nao"]
[null,"Nao"]
[null,"Nao"]
[null,"Nao"]
[null,"Nao"]
[null,"Nao"]
[null,"Nao"]
[null,"Nao"]
[null,"Nao"]
[null,"Nao"]
[null,"Nao"]
[null,"Nao"]
[null,"Nao"]
[null,"Nao"]
[null,"Nao"]
[null,"Nao"]
[null,"Nao"]
[null,"Nao"]
[null,"Nao"]
[null,"Nao"]
[null,"Nao"]
[null,"Nao"]
[null,"Nao"]
[null,"Nao"]
[null,"Nao"]
[null,"Nao"]
[null,"Nao"]
[null,"Nao"]
[null,"Nao"]
[null,"Nao"]
[null,"Nao"]
[null,"Nao"]
[null,"Nao"]
[null,"Nao"]
[null,"Nao"]
[null,"Nao"]
[null,"Nao"]
[null,"Nao"]
[null,"Nao"]
[null,"Nao"]
[null,"Nao"]
[null,"Nao"]
[null,"Nao"]
[null,"Nao"]
[null,"Nao"]
[null,"Nao"]
[null,"Nao"]
[null,"Nao"]
[null,"Nao"]
[null,"Nao"]
[null,"Nao"]
[null,"Nao"]
[null,"Nao"]
[null,"Nao"]
[null,"Nao"]
[null,{"$f":"IF(A13015>0,\"Offhire\",\"Nao\")","v":"Nao"}]
[null,"Nao"]
[null,"Nao"]
[null,"Nao"]
[null,"Nao"]
[null,"Nao"]
[null,"Nao"]
[null,"Nao"]
[null,"Nao"]
[null,"Nao"]
[null,"Nao"]
[null,"Nao"]
[null,"Nao"]
[null,"Nao"]
[null,"Nao"]
[null,"Nao"]
[null,"Nao"]
[null,"Nao"]
[null,"Nao"]
[null,"Nao"]
[null,"Nao"]
[null,"Nao"]
[null,"Nao"]
[null,"Nao"]
[null,"Nao"]
[null,"Nao"]
[null,"Nao"]
[null,"Nao"]
[null,"Nao"]
[null,"Nao"]
[null,"Nao"]
[null,"Nao"]
[null,"Nao"]
[null,"Nao"]
[null,"Nao"]
[null,"Nao"]
[null,"Nao"]
[null,"Nao"]
[null,"Nao"]
[null,"Nao"]
[null,"Nao"]
[null,"Nao"]
[null,"Nao"]
[null,"Nao"]
[null,"Nao"]
[null,"Nao"]
[null,"Nao"]
[null,"Nao"]
[null,"Nao"]
[null,"Nao"]
[null,"Nao"]
[null,"Nao"]
[null,"Nao"]
[null,"Nao"]
[null,"Nao"]
[null,"Nao"]
[null,"Nao"]
[null,"Nao"]
[null,"Nao"]
[null,"Nao"]
[null,"Nao"]
[null,"Nao"]
[null,"Nao"]
[null,"Nao"]
[null,{"$f":"IF(A13079>0,\"Offhire\",\"Nao\")","v":"Nao"}]
[null,"Nao"]
[null,"Nao"]
[null,"Nao"]
[null,"Nao"]
[null,"Nao"]
[null,"Nao"]
[null,"Nao"]
[null,"Nao"]
[null,"Nao"]
[null,"Nao"]
[null,"Nao"]
[null,"Nao"]
[null,"Nao"]
[null,"Nao"]
[null,"Nao"]
[null,"Nao"]
[null,"Nao"]
[null,"Nao"]
[null,"Nao"]
[null,"Nao"]
[null,"Nao"]
[null,"Nao"]
[null,"Nao"]
[null,"Nao"]
[null,"Nao"]
[null,"Nao"]
[null,"Nao"]
[null,"Nao"]
[null,"Nao"]
[null,"Nao"]
[null,"Nao"]
[null,"Nao"]
[null,"Nao"]
[null,"Nao"]
[null,"Nao"]
[null,"Nao"]
[null,"Nao"]
[null,"Nao"]
[null,"Nao"]
[null,"Nao"]
[null,"Nao"]
[null,"Nao"]
[null,"Nao"]
[null,"Nao"]
[null,"Nao"]
[null,"Nao"]
[null,"Nao"]
[null,"Nao"]
[null,"Nao"]
[null,"Nao"]
[null,"Nao"]
[null,"Nao"]
[null,"Nao"]
[null,"Nao"]
[null,"Nao"]
[null,"Nao"]
[null,"Nao"]
[null,"Nao"]
[null,"Nao"]
[null,"Nao"]
[null,"Nao"]
[null,"Nao"]
[null,"Nao"]
[null,{"$f":"IF(A13143>0,\"Offhire\",\"Nao\")","v":"Nao"}]
[null,"Nao"]
[null,"Nao"]
[null,"Nao"]
[null,"Nao"]
[null,"Nao"]
[null,"Nao"]
[null,"Nao"]
[null,"Nao"]
[null,"Nao"]
[null,"Nao"]
[null,"Nao"]
[null,"Nao"]
[null,"Nao"]
[null,"Nao"]
[null,"Nao"]
[null,"Nao"]
[null,"Nao"]
[null,"Nao"]
[null,"Nao"]
[null,"Nao"]
[null,"Nao"]
[null,"Nao"]
[null,"Nao"]
[null,"Nao"]
[null,"Nao"]
[null,"Nao"]
[null,"Nao"]
[null,"Nao"]
[null,"Nao"]
[null,"Nao"]
[null,"Nao"]
[null,"Nao"]
[null,"Nao"]
[null,"Nao"]
[null,"Nao"]
[null,"Nao"]
[null,"Nao"]
[null,"Nao"]
[null,"Nao"]
[null,"Nao"]
[null,"Nao"]
[null,"Nao"]
[null,"Nao"]
[null,"Nao"]
[null,"Nao"]
[null,"Nao"]
[null,"Nao"]
[null,"Nao"]
[null,"Nao"]
[null,"Nao"]
[null,"Nao"]
[null,"Nao"]
[null,"Nao"]
[null,"Nao"]
[null,"Nao"]
[null,"Nao"]
[null,"Nao"]
[null,"Nao"]
[null,"Nao"]
[null,"Nao"]
[null,"Nao"]
[null,"Nao"]
[null,"Nao"]
[null,{"$f":"IF(A13207>0,\"Offhire\",\"Nao\")","v":"Nao"}]
[null,"Nao"]
[null,"Nao"]
[null,"Nao"]
[null,"Nao"]
[null,"Nao"]
[null,"Nao"]
[null,"Nao"]
[null,"Nao"]
[null,"Nao"]
[null,"Nao"]
[null,"Nao"]
[null,"Nao"]
[null,"Nao"]
[null,"Nao"]
[null,"Nao"]
[null,"Nao"]
[null,"Nao"]
[null,"Nao"]
[null,"Nao"]
[null,"Nao"]
[null,"Nao"]
[null,"Nao"]
[null,"Nao"]
[null,"Nao"]
[null,"Nao"]
[null,"Nao"]
[null,"Nao"]
[null,"Nao"]
[null,"Nao"]
[null,"Nao"]
[null,"Nao"]
[null,"Nao"]
[null,"Nao"]
[null,"Nao"]
[null,"Nao"]
[null,"Nao"]
[null,"Nao"]
[null,"Nao"]
[null,"Nao"]
[null,"Nao"]
[null,"Nao"]
[null,"Nao"]
[null,"Nao"]
[null,"Nao"]
[null,"Nao"]
[null,"Nao"]
[null,"Nao"]
[null,"Nao"]
[null,"Nao"]
[null,"Nao"]
[null,"Nao"]
[null,"Nao"]
[null,"Nao"]
[null,"Nao"]
[null,"Nao"]
[null,"Nao"]
[null,"Nao"]
[null,"Nao"]
[null,"Nao"]
[null,"Nao"]
[null,"Nao"]
[null,"Nao"]
[null,"Nao"]
[null,{"$f":"IF(A13271>0,\"Offhire\",\"Nao\")","v":"Nao"}]
[null,"Nao"]
[null,"Nao"]
[null,"Nao"]
[null,"Nao"]
[null,"Nao"]
[null,"Nao"]
[null,"Nao"]
[null,"Nao"]
[null,"Nao"]
[null,"Nao"]
[null,"Nao"]
[null,"Nao"]
[null,"Nao"]
[null,"Nao"]
[null,"Nao"]
[null,"Nao"]
[null,"Nao"]
[null,"Nao"]
[null,"Nao"]
[null,"Nao"]
[null,"Nao"]
[null,"Nao"]
[null,"Nao"]
[null,"Nao"]
[null,"Nao"]
[null,"Nao"]
[null,"Nao"]
[null,"Nao"]
[null,"Nao"]
[null,"Nao"]
[null,"Nao"]
[null,"Nao"]
[null,"Nao"]
[null,"Nao"]
[null,"Nao"]
[null,"Nao"]
[null,"Nao"]
[null,"Nao"]
[null,"Nao"]
[null,"Nao"]
[null,"Nao"]
[null,"Nao"]
[null,"Nao"]
[null,"Nao"]
[null,"Nao"]
[null,"Nao"]
[null,"Nao"]
[null,"Nao"]
[null,"Nao"]
[null,"Nao"]
[null,"Nao"]
[null,"Nao"]
[null,"Nao"]
[null,"Nao"]
[null,"Nao"]
[null,"Nao"]
[null,"Nao"]
[null,"Nao"]
[null,"Nao"]
[null,"Nao"]
[null,"Nao"]
[null,"Nao"]
[null,"Nao"]
[null,{"$f":"IF(A13335>0,\"Offhire\",\"Nao\")","v":"Nao"}]
[null,"Nao"]
[null,"Nao"]
[null,"Nao"]
[null,"Nao"]
[null,"Nao"]
[null,"Nao"]
[null,"Nao"]
[null,"Nao"]
[null,"Nao"]
[null,"Nao"]
[null,"Nao"]
[null,"Nao"]
[null,"Nao"]
[null,"Nao"]
[null,"Nao"]
[null,"Nao"]
[null,"Nao"]
[null,"Nao"]
[null,"Nao"]
[null,"Nao"]
[null,"Nao"]
[null,"Nao"]
[null,"Nao"]
[null,"Nao"]
[null,"Nao"]
[null,"Nao"]
[null,"Nao"]
[null,"Nao"]
[null,"Nao"]
[null,"Nao"]
[null,"Nao"]
[null,"Nao"]
[null,"Nao"]
[null,"Nao"]
[null,"Nao"]
[null,"Nao"]
[null,"Nao"]
[null,"Nao"]
[null,"Nao"]
[null,"Nao"]
[null,"Nao"]
[null,"Nao"]
[null,"Nao"]
[null,"Nao"]
[null,"Nao"]
[null,"Nao"]
[null,"Nao"]
[null,"Nao"]
[null,"Nao"]
[null,"Nao"]
[null,"Nao"]
[null,"Nao"]
[null,"Nao"]
[null,"Nao"]
[null,"Nao"]
[null,"Nao"]
[null,"Nao"]
[null,"Nao"]
[null,"Nao"]
[null,"Nao"]
[null,"Nao"]
[null,"Nao"]
[null,"Nao"]
[null,{"$f":"IF(A13399>0,\"Offhire\",\"Nao\")","v":"Nao"}]
[null,"Nao"]
[null,"Nao"]
[null,"Nao"]
[null,"Nao"]
[null,"Nao"]
[null,"Nao"]
[null,"Nao"]
[null,"Nao"]
[null,"Nao"]
[null,"Nao"]
[null,"Nao"]
[null,"Nao"]
[null,"Nao"]
[null,"Nao"]
[null,"Nao"]
[null,"Nao"]
[null,"Nao"]
[null,"Nao"]
[null,"Nao"]
[null,"Nao"]
[null,"Nao"]
[null,"Nao"]
[null,"Nao"]
[null,"Nao"]
[null,"Nao"]
[null,"Nao"]
[null,"Nao"]
[null,"Nao"]
[null,"Nao"]
[null,"Nao"]
[null,"Nao"]
[null,"Nao"]
[null,"Nao"]
[null,"Nao"]
[null,"Nao"]
[null,"Nao"]
[null,"Nao"]
[null,"Nao"]
[null,"Nao"]
[null,"Nao"]
[null,"Nao"]
[null,"Nao"]
[null,"Nao"]
[null,"Nao"]
[null,"Nao"]
[null,"Nao"]
[null,"Nao"]
[null,"Nao"]
[null,"Nao"]
[null,"Nao"]
[null,"Nao"]
[null,"Nao"]
[null,"Nao"]
[null,"Nao"]
[null,"Nao"]
[null,"Nao"]
[null,"Nao"]
[null,"Nao"]
[null,"Nao"]
[null,"Nao"]
[null,"Nao"]
[null,"Nao"]
[null,"Nao"]
[null,{"$f":"IF(A13463>0,\"Offhire\",\"Nao\")","v":"Nao"}]
[null,"Nao"]
[null,"Nao"]
[null,"Nao"]
[null,"Nao"]
[null,"Nao"]
[null,"Nao"]
[null,"Nao"]
[null,"Nao"]
[null,"Nao"]
[null,"Nao"]
[null,"Nao"]
[null,"Nao"]
[null,"Nao"]
[null,"Nao"]
[null,"Nao"]
[null,"Nao"]
[null,"Nao"]
[null,"Nao"]
[null,"Nao"]
[null,"Nao"]
[null,"Nao"]
[null,"Nao"]
[null,"Nao"]
[null,"Nao"]
[null,"Nao"]
[null,"Nao"]
[null,"Nao"]
[null,"Nao"]
[null,"Nao"]
[null,"Nao"]
[null,"Nao"]
[null,"Nao"]
[null,"Nao"]
[null,"Nao"]
[null,"Nao"]
[null,"Nao"]
[null,"Nao"]
[null,"Nao"]
[null,"Nao"]
[null,"Nao"]
[null,"Nao"]
[null,"Nao"]
[null,"Nao"]
[null,"Nao"]
[null,"Nao"]
[null,"Nao"]
[null,"Nao"]
[null,"Nao"]
[null,"Nao"]
[null,"Nao"]
[null,"Nao"]
[null,"Nao"]
[null,"Nao"]
[null,"Nao"]
[null,"Nao"]
[null,"Nao"]
[null,"Nao"]
[null,"Nao"]
[null,"Nao"]
[null,"Nao"]
[null,"Nao"]
[null,"Nao"]
[null,"Nao"]
[null,{"$f":"IF(A13527>0,\"Offhire\",\"Nao\")","v":"Nao"}]
[null,"Nao"]
[null,"Nao"]
[null,"Nao"]
[null,"Nao"]
[null,"Nao"]
[null,"Nao"]
[null,"Nao"]
[null,"Nao"]
[null,"Nao"]
[null,"Nao"]
[null,"Nao"]
[null,"Nao"]
[null,"Nao"]
[null,"Nao"]
[null,"Nao"]
[null,"Nao"]
[null,"Nao"]
[null,"Nao"]
[null,"Nao"]
[null,"Nao"]
[null,"Nao"]
[null,"Nao"]
[null,"Nao"]
[null,"Nao"]
[null,"Nao"]
[null,"Nao"]
[null,"Nao"]
[null,"Nao"]
[null,"Nao"]
[null,"Nao"]
[null,"Nao"]
[null,"Nao"]
[null,"Nao"]
[null,"Nao"]
[null,"Nao"]
[null,"Nao"]
[null,"Nao"]
[null,"Nao"]
[null,"Nao"]
[null,"Nao"]
[null,"Nao"]
[null,"Nao"]
[null,"Nao"]
[null,"Nao"]
[null,"Nao"]
[null,"Nao"]
[null,"Nao"]
[null,"Nao"]
[null,"Nao"]
[null,"Nao"]
[null,"Nao"]
[null,"Nao"]
[null,"Nao"]
[null,"Nao"]
[null,"Nao"]
[null,"Nao"]
[null,"Nao"]
[null,"Nao"]
[null,"Nao"]
[null,"Nao"]
[null,"Nao"]
[null,"Nao"]
[null,"Nao"]
[null,{"$f":"IF(A13591>0,\"Offhire\",\"Nao\")","v":"Nao"}]
[null,"Nao"]
[null,"Nao"]
[null,"Nao"]
[null,"Nao"]
[null,"Nao"]
[null,"Nao"]
[null,"Nao"]
[null,"Nao"]
[null,"Nao"]
[null,"Nao"]
[null,"Nao"]
[null,"Nao"]
[null,"Nao"]
[null,"Nao"]
[null,"Nao"]
[null,"Nao"]
[null,"Nao"]
[null,"Nao"]
[null,"Nao"]
[null,"Nao"]
[null,"Nao"]
[null,"Nao"]
[null,"Nao"]
[null,"Nao"]
[null,"Nao"]
[null,"Nao"]
[null,"Nao"]
[null,"Nao"]
[null,"Nao"]
[null,"Nao"]
[null,"Nao"]
[null,"Nao"]
[null,"Nao"]
[null,"Nao"]
[null,"Nao"]
[null,"Nao"]
[null,"Nao"]
[null,"Nao"]
[null,"Nao"]
[null,"Nao"]
[null,"Nao"]
[null,"Nao"]
[null,"Nao"]
[null,"Nao"]
[null,"Nao"]
[null,"Nao"]
[null,"Nao"]
[null,"Nao"]
[null,"Nao"]
[null,"Nao"]
[null,"Nao"]
[null,"Nao"]
[null,"Nao"]
[null,"Nao"]
[null,"Nao"]
[null,"Nao"]
[null,"Nao"]
[null,"Nao"]
[null,"Nao"]
[null,"Nao"]
[null,"Nao"]
[null,"Nao"]
[null,"Nao"]
[null,{"$f":"IF(A13655>0,\"Offhire\",\"Nao\")","v":"Nao"}]
[null,"Nao"]
[null,"Nao"]
[null,"Nao"]
[null,"Nao"]
[null,"Nao"]
[null,"Nao"]
[null,"Nao"]
[null,"Nao"]
[null,"Nao"]
[null,"Nao"]
[null,"Nao"]
[null,"Nao"]
[null,"Nao"]
[null,"Nao"]
[null,"Nao"]
[null,"Nao"]
[null,"Nao"]
[null,"Nao"]
[null,"Nao"]
[null,"Nao"]
[null,"Nao"]
[null,"Nao"]
[null,"Nao"]
[null,"Nao"]
[null,"Nao"]
[null,"Nao"]
[null,"Nao"]
[null,"Nao"]
[null,"Nao"]
[null,"Nao"]
[null,"Nao"]
[null,"Nao"]
[null,"Nao"]
[null,"Nao"]
[null,"Nao"]
[null,"Nao"]
[null,"Nao"]
[null,"Nao"]
[null,"Nao"]
[null,"Nao"]
[null,"Nao"]
[null,"Nao"]
[null,"Nao"]
[null,"Nao"]
[null,"Nao"]
[null,"Nao"]
[null,"Nao"]
[null,"Nao"]
[null,"Nao"]
[null,"Nao"]
[null,"Nao"]
[null,"Nao"]
[null,"Nao"]
[null,"Nao"]
[null,"Nao"]
[null,"Nao"]
[null,"Nao"]
[null,"Nao"]
[null,"Nao"]
[null,"Nao"]
[null,"Nao"]
[null,"Nao"]
[null,"Nao"]
[null,{"$f":"IF(A13719>0,\"Offhire\",\"Nao\")","v":"Nao"}]
[null,"Nao"]
[null,"Nao"]
[null,"Nao"]
[null,"Nao"]
[null,"Nao"]
[null,"Nao"]
[null,"Nao"]
[null,"Nao"]
[null,"Nao"]
[null,"Nao"]
[null,"Nao"]
[null,"Nao"]
[null,"Nao"]
[null,"Nao"]
[null,"Nao"]
[null,"Nao"]
[null,"Nao"]
[null,"Nao"]
[null,"Nao"]
[null,"Nao"]
[null,"Nao"]
[null,"Nao"]
[null,"Nao"]
[null,"Nao"]
[null,"Nao"]
[null,"Nao"]
[null,"Nao"]
[null,"Nao"]
[null,"Nao"]
[null,"Nao"]
[null,"Nao"]
[null,"Nao"]
[null,"Nao"]
[null,"Nao"]
[null,"Nao"]
[null,"Nao"]
[null,"Nao"]
[null,"Nao"]
[null,"Nao"]
[null,"Nao"]
[null,"Nao"]
[null,"Nao"]
[null,"Nao"]
[null,"Nao"]
[null,"Nao"]
[null,"Nao"]
[null,"Nao"]
[null,"Nao"]
[null,"Nao"]
[null,"Nao"]
[null,"Nao"]
[null,"Nao"]
[null,"Nao"]
[null,"Nao"]
[null,"Nao"]
[null,"Nao"]
[null,"Nao"]
[null,"Nao"]
[null,"Nao"]
[null,"Nao"]
[null,"Nao"]
[null,"Nao"]
[null,"Nao"]
[null,{"$f":"IF(A13783>0,\"Offhire\",\"Nao\")","v":"Nao"}]
[null,"Nao"]
[null,"Nao"]
[null,"Nao"]
[null,"Nao"]
[null,"Nao"]
[null,"Nao"]
[null,"Nao"]
[null,"Nao"]
[null,"Nao"]
[null,"Nao"]
[null,"Nao"]
[null,"Nao"]
[null,"Nao"]
[null,"Nao"]
[null,"Nao"]
[null,"Nao"]
[null,"Nao"]
[null,"Nao"]
[null,"Nao"]
[null,"Nao"]
[null,"Nao"]
[null,"Nao"]
[null,"Nao"]
[null,"Nao"]
[null,"Nao"]
[null,"Nao"]
[null,"Nao"]
[null,"Nao"]
[null,"Nao"]
[null,"Nao"]
[null,"Nao"]
[null,"Nao"]
[null,"Nao"]
[null,"Nao"]
[null,"Nao"]
[null,"Nao"]
[null,"Nao"]
[null,"Nao"]
[null,"Nao"]
[null,"Nao"]
[null,"Nao"]
[null,"Nao"]
[null,"Nao"]
[null,"Nao"]
[null,"Nao"]
[null,"Nao"]
[null,"Nao"]
[null,"Nao"]
[null,"Nao"]
[null,"Nao"]
[null,"Nao"]
[null,"Nao"]
[null,"Nao"]
[null,"Nao"]
[null,"Nao"]
[null,"Nao"]
[null,"Nao"]
[null,"Nao"]
[null,"Nao"]
[null,"Nao"]
[null,"Nao"]
[null,"Nao"]
[null,"Nao"]
[null,{"$f":"IF(A13847>0,\"Offhire\",\"Nao\")","v":"Nao"}]
[null,"Nao"]
[null,"Nao"]
[null,"Nao"]
[null,"Nao"]
[null,"Nao"]
[null,"Nao"]
[null,"Nao"]
[null,"Nao"]
[null,"Nao"]
[null,"Nao"]
[null,"Nao"]
[null,"Nao"]
[null,"Nao"]
[null,"Nao"]
[null,"Nao"]
[null,"Nao"]
[null,"Nao"]
[null,"Nao"]
[null,"Nao"]
[null,"Nao"]
[null,"Nao"]
[null,"Nao"]
[null,"Nao"]
[null,"Nao"]
[null,"Nao"]
[null,"Nao"]
[null,"Nao"]
[null,"Nao"]
[null,"Nao"]
[null,"Nao"]
[null,"Nao"]
[null,"Nao"]
[null,"Nao"]
[null,"Nao"]
[null,"Nao"]
[null,"Nao"]
[null,"Nao"]
[null,"Nao"]
[null,"Nao"]
[null,"Nao"]
[null,"Nao"]
[null,"Nao"]
[null,"Nao"]
[null,"Nao"]
[null,"Nao"]
[null,"Nao"]
[null,"Nao"]
[null,"Nao"]
[null,"Nao"]
[null,"Nao"]
[null,"Nao"]
[null,"Nao"]
[null,"Nao"]
[null,"Nao"]
[null,"Nao"]
[null,"Nao"]
[null,"Nao"]
[null,"Nao"]
[null,"Nao"]
[null,"Nao"]
[null,"Nao"]
[null,"Nao"]
[null,"Nao"]
[null,{"$f":"IF(A13911>0,\"Offhire\",\"Nao\")","v":"Nao"}]
[null,"Nao"]
[null,"Nao"]
[null,"Nao"]
[null,"Nao"]
[null,"Nao"]
[null,"Nao"]
[null,"Nao"]
[null,"Nao"]
[null,"Nao"]
[null,"Nao"]
[null,"Nao"]
[null,"Nao"]
[null,"Nao"]
[null,"Nao"]
[null,"Nao"]
[null,"Nao"]
[null,"Nao"]
[null,"Nao"]
[null,"Nao"]
[null,"Nao"]
[null,"Nao"]
[null,"Nao"]
[null,"Nao"]
[null,"Nao"]
[null,"Nao"]
[null,"Nao"]
[null,"Nao"]
[null,"Nao"]
[null,"Nao"]
[null,"Nao"]
[null,"Nao"]
[null,"Nao"]
[null,"Nao"]
[null,"Nao"]
[null,"Nao"]
[null,"Nao"]
[null,"Nao"]
[null,"Nao"]
[null,"Nao"]
[null,"Nao"]
[null,"Nao"]
[null,"Nao"]
[null,"Nao"]
[null,"Nao"]
[null,"Nao"]
[null,"Nao"]
[null,"Nao"]
[null,"Nao"]
[null,"Nao"]
[null,"Nao"]
[null,"Nao"]
[null,"Nao"]
[null,"Nao"]
[null,"Nao"]
[null,"Nao"]
[null,"Nao"]
[null,"Nao"]
[null,"Nao"]
[null,"Nao"]
[null,"Nao"]
[null,"Nao"]
[null,"Nao"]
[null,"Nao"]
[null,{"$f":"IF(A13975>0,\"Offhire\",\"Nao\")","v":"Nao"}]
[null,"Nao"]
[null,"Nao"]
[null,"Nao"]
[null,"Nao"]
[null,"Nao"]
[null,"Nao"]
[null,"Nao"]
[null,"Nao"]
[null,"Nao"]
[null,"Nao"]
[null,"Nao"]
[null,"Nao"]
[null,"Nao"]
[null,"Nao"]
[null,"Nao"]
[null,"Nao"]
[null,"Nao"]
[null,"Nao"]
[null,"Nao"]
[null,"Nao"]
[null,"Nao"]
[null,"Nao"]
[null,"Nao"]
[null,"Nao"]
[null,"Nao"]
[null,"Nao"]
[null,"Nao"]
[null,"Nao"]
[null,"Nao"]
[null,"Nao"]
[null,"Nao"]
[null,"Nao"]
[null,"Nao"]
[null,"Nao"]
[null,"Nao"]
[null,"Nao"]
[null,"Nao"]
[null,"Nao"]
[null,"Nao"]
[null,"Nao"]
[null,"Nao"]
[null,"Nao"]
[null,"Nao"]
[null,"Nao"]
[null,"Nao"]
[null,"Nao"]
[null,"Nao"]
[null,"Nao"]
[null,"Nao"]
[null,"Nao"]
[null,"Nao"]
[null,"Nao"]
[null,"Nao"]
[null,"Nao"]
[null,"Nao"]
[null,"Nao"]
[null,"Nao"]
[null,"Nao"]
[null,"Nao"]
[null,"Nao"]
[null,"Nao"]
[null,"Nao"]
[null,"Nao"]
[null,{"$f":"IF(A14039>0,\"Offhire\",\"Nao\")","v":"Nao"}]
[null,"Nao"]
[null,"Nao"]
[null,"Nao"]
[null,"Nao"]
[null,"Nao"]
[null,"Nao"]
[null,"Nao"]
[null,"Nao"]
[null,"Nao"]
[null,"Nao"]
[null,"Nao"]
[null,"Nao"]
[null,"Nao"]
[null,"Nao"]
[null,"Nao"]
[null,"Nao"]
[null,"Nao"]
[null,"Nao"]
[null,"Nao"]
[null,"Nao"]
[null,"Nao"]
[null,"Nao"]
[null,"Nao"]
[null,"Nao"]
[null,"Nao"]
[null,"Nao"]
[null,"Nao"]
[null,"Nao"]
[null,"Nao"]
[null,"Nao"]
[null,"Nao"]
[null,"Nao"]
[null,"Nao"]
[null,"Nao"]
[null,"Nao"]
[null,"Nao"]
[null,"Nao"]
[null,"Nao"]
[null,"Nao"]
[null,"Nao"]
[null,"Nao"]
[null,"Nao"]
[null,"Nao"]
[null,"Nao"]
[null,"Nao"]
[null,"Nao"]
[null,"Nao"]
[null,"Nao"]
[null,"Nao"]
[null,"Nao"]
[null,"Nao"]
[null,"Nao"]
[null,"Nao"]
[null,"Nao"]
[null,"Nao"]
[null,"Nao"]
[null,"Nao"]
[null,"Nao"]
[null,"Nao"]
[null,"Nao"]
[null,"Nao"]
[null,"Nao"]
[null,"Nao"]
[null,{"$f":"IF(A14103>0,\"Offhire\",\"Nao\")","v":"Nao"}]
[null,"Nao"]
[null,"Nao"]
[null,"Nao"]
[null,"Nao"]
[null,"Nao"]
[null,"Nao"]
[null,"Nao"]
[null,"Nao"]
[null,"Nao"]
[null,"Nao"]
[null,"Nao"]
[null,"Nao"]
[null,"Nao"]
[null,"Nao"]
[null,"Nao"]
[null,"Nao"]
[null,"Nao"]
[null,"Nao"]
[null,"Nao"]
[null,"Nao"]
[null,"Nao"]
[null,"Nao"]
[null,"Nao"]
[null,"Nao"]
[null,"Nao"]
[null,"Nao"]
[null,"Nao"]
[null,"Nao"]
[null,"Nao"]
[null,"Nao"]
[null,"Nao"]
[null,"Nao"]
[null,"Nao"]
[null,"Nao"]
[null,"Nao"]
[null,"Nao"]
[null,"Nao"]
[null,"Nao"]
[null,"Nao"]
[null,"Nao"]
[null,"Nao"]
[null,"Nao"]
[null,"Nao"]
[null,"Nao"]
[null,"Nao"]
[null,"Nao"]
[null,"Nao"]
[null,"Nao"]
[null,"Nao"]
[null,"Nao"]
[null,"Nao"]
[null,"Nao"]
[null,"Nao"]
[null,"Nao"]
[null,"Nao"]
[null,"Nao"]
[null,"Nao"]
[null,"Nao"]
[null,"Nao"]
[null,"Nao"]
[null,"Nao"]
[null,"Nao"]
[null,"Nao"]
[null,{"$f":"IF(A14167>0,\"Offhire\",\"Nao\")","v":"Nao"}]
[null,"Nao"]
[null,"Nao"]
[null,"Nao"]
[null,"Nao"]
[null,"Nao"]
[null,"Nao"]
[null,"Nao"]
[null,"Nao"]
[null,"Nao"]
[null,"Nao"]
[null,"Nao"]
[null,"Nao"]
[null,"Nao"]
[null,"Nao"]
[null,"Nao"]
[null,"Nao"]
[null,"Nao"]
[null,"Nao"]
[null,"Nao"]
[null,"Nao"]
[null,"Nao"]
[null,"Nao"]
[null,"Nao"]
[null,"Nao"]
[null,"Nao"]
[null,"Nao"]
[null,"Nao"]
[null,"Nao"]
[null,"Nao"]
[null,"Nao"]
[null,"Nao"]
[null,"Nao"]
[null,"Nao"]
[null,"Nao"]
[null,"Nao"]
[null,"Nao"]
[null,"Nao"]
[null,"Nao"]
[null,"Nao"]
[null,"Nao"]
[null,"Nao"]
[null,"Nao"]
[null,"Nao"]
[null,"Nao"]
[null,"Nao"]
[null,"Nao"]
[null,"Nao"]
[null,"Nao"]
[null,"Nao"]
[null,"Nao"]
[null,"Nao"]
[null,"Nao"]
[null,"Nao"]
[null,"Nao"]
[null,"Nao"]
[null,"Nao"]
[null,"Nao"]
[null,"Nao"]
[null,"Nao"]
[null,"Nao"]
[null,"Nao"]
[null,"Nao"]
[null,"Nao"]
[null,{"$f":"IF(A14231>0,\"Offhire\",\"Nao\")","v":"Nao"}]
[null,"Nao"]
[null,"Nao"]
[null,"Nao"]
[null,"Nao"]
[null,"Nao"]
[null,"Nao"]
[null,"Nao"]
[null,"Nao"]
[null,"Nao"]
[null,"Nao"]
[null,"Nao"]
[null,"Nao"]
[null,"Nao"]
[null,"Nao"]
[null,"Nao"]
[null,"Nao"]
[null,"Nao"]
[null,"Nao"]
[null,"Nao"]
[null,"Nao"]
[null,"Nao"]
[null,"Nao"]
[null,"Nao"]
[null,"Nao"]
[null,"Nao"]
[null,"Nao"]
[null,"Nao"]
[null,"Nao"]
[null,"Nao"]
[null,"Nao"]
[null,"Nao"]
[null,"Nao"]
[null,"Nao"]
[null,"Nao"]
[null,"Nao"]
[null,"Nao"]
[null,"Nao"]
[null,"Nao"]
[null,"Nao"]
[null,"Nao"]
[null,"Nao"]
[null,"Nao"]
[null,"Nao"]
[null,"Nao"]
[null,"Nao"]
[null,"Nao"]
[null,"Nao"]
[null,"Nao"]
[null,"Nao"]
[null,"Nao"]
[null,"Nao"]
[null,"Nao"]
[null,"Nao"]
[null,"Nao"]
[null,"Nao"]
[null,"Nao"]
[null,"Nao"]
[null,"Nao"]
[null,"Nao"]
[null,"Nao"]
[null,"Nao"]
[null,"Nao"]
[null,"Nao"]
[null,{"$f":"IF(A14295>0,\"Offhire\",\"Nao\")","v":"Nao"}]
[null,"Nao"]
[null,"Nao"]
[null,"Nao"]
[null,"Nao"]
[null,"Nao"]
[null,"Nao"]
[null,"Nao"]
[null,"Nao"]
[null,"Nao"]
[null,"Nao"]
[null,"Nao"]
[null,"Nao"]
[null,"Nao"]
[null,"Nao"]
[null,"Nao"]
[null,"Nao"]
[null,"Nao"]
[null,"Nao"]
[null,"Nao"]
[null,"Nao"]
[null,"Nao"]
[null,"Nao"]
[null,"Nao"]
[null,"Nao"]
[null,"Nao"]
[null,"Nao"]
[null,"Nao"]
[null,"Nao"]
[null,"Nao"]
[null,"Nao"]
[null,"Nao"]
[null,"Nao"]
[null,"Nao"]
[null,"Nao"]
[null,"Nao"]
[null,"Nao"]
[null,"Nao"]
[null,"Nao"]
[null,"Nao"]
[null,"Nao"]
[null,"Nao"]
[null,"Nao"]
[null,"Nao"]
[null,"Nao"]
[null,"Nao"]
[null,"Nao"]
[null,"Nao"]
[null,"Nao"]
[null,"Nao"]
[null,"Nao"]
[null,"Nao"]
[null,"Nao"]
[null,"Nao"]
[null,"Nao"]
[null,"Nao"]
[null,"Nao"]
[null,"Nao"]
[null,"Nao"]
[null,"Nao"]
[null,"Nao"]
[null,"Nao"]
[null,"Nao"]
[null,"Nao"]
[null,{"$f":"IF(A14359>0,\"Offhire\",\"Nao\")","v":"Nao"}]
[null,"Nao"]
[null,"Nao"]
[null,"Nao"]
[null,"Nao"]
[null,"Nao"]
[null,"Nao"]
[null,"Nao"]
[null,"Nao"]
[null,"Nao"]
[null,"Nao"]
[null,"Nao"]
[null,"Nao"]
[null,"Nao"]
[null,"Nao"]
[null,"Nao"]
[null,"Nao"]
[null,"Nao"]
[null,"Nao"]
[null,"Nao"]
[null,"Nao"]
[null,"Nao"]
[null,"Nao"]
[null,"Nao"]
[null,"Nao"]
[null,"Nao"]
[null,"Nao"]
[null,"Nao"]
[null,"Nao"]
[null,"Nao"]
[null,"Nao"]
[null,"Nao"]
[null,"Nao"]
[null,"Nao"]
[null,"Nao"]
[null,"Nao"]
[null,"Nao"]
[null,"Nao"]
[null,"Nao"]
[null,"Nao"]
[null,"Nao"]
[null,"Nao"]
[null,"Nao"]
[null,"Nao"]
[null,"Nao"]
[null,"Nao"]
[null,"Nao"]
[null,"Nao"]
[null,"Nao"]
[null,"Nao"]
[null,"Nao"]
[null,"Nao"]
[null,"Nao"]
[null,"Nao"]
[null,"Nao"]
[null,"Nao"]
[null,"Nao"]
[null,"Nao"]
[null,"Nao"]
[null,"Nao"]
[null,"Nao"]
[null,"Nao"]
[null,"Nao"]
[null,"Nao"]
[null,{"$f":"IF(A14423>0,\"Offhire\",\"Nao\")","v":"Nao"}]
[null,"Nao"]
[null,"Nao"]
[null,"Nao"]
[null,"Nao"]
[null,"Nao"]
[null,"Nao"]
[null,"Nao"]
[null,"Nao"]
[null,"Nao"]
[null,"Nao"]
[null,"Nao"]
[null,"Nao"]
[null,"Nao"]
[null,"Nao"]
[null,"Nao"]
[null,"Nao"]
[null,"Nao"]
[null,"Nao"]
[null,"Nao"]
[null,"Nao"]
[null,"Nao"]
[null,"Nao"]
[null,"Nao"]
[null,"Nao"]
[null,"Nao"]
[null,"Nao"]
[null,"Nao"]
[null,"Nao"]
[null,"Nao"]
[null,"Nao"]
[null,"Nao"]
[null,"Nao"]
[null,"Nao"]
[null,"Nao"]
[null,"Nao"]
[null,"Nao"]
[null,"Nao"]
[null,"Nao"]
[null,"Nao"]
[null,"Nao"]
[null,"Nao"]
[null,"Nao"]
[null,"Nao"]
[null,"Nao"]
[null,"Nao"]
[null,"Nao"]
[null,"Nao"]
[null,"Nao"]
[null,"Nao"]
[null,"Nao"]
[null,"Nao"]
[null,"Nao"]
[null,"Nao"]
[null,"Nao"]
[null,"Nao"]
[null,"Nao"]
[null,"Nao"]
[null,"Nao"]
[null,"Nao"]
[null,"Nao"]
[null,"Nao"]
[null,"Nao"]
[null,"Nao"]
[null,{"$f":"IF(A14487>0,\"Offhire\",\"Nao\")","v":"Nao"}]
[null,"Nao"]
[null,"Nao"]
[null,"Nao"]
[null,"Nao"]
[null,"Nao"]
[null,"Nao"]
[null,"Nao"]
[null,"Nao"]
[null,"Nao"]
[null,"Nao"]
[null,"Nao"]
[null,"Nao"]
[null,"Nao"]
[null,"Nao"]
[null,"Nao"]
[null,"Nao"]
[null,"Nao"]
[null,"Nao"]
[null,"Nao"]
[null,"Nao"]
[null,"Nao"]
[null,"Nao"]
[null,"Nao"]
[null,"Nao"]
[null,"Nao"]
[null,"Nao"]
[null,"Nao"]
[null,"Nao"]
[null,"Nao"]
[null,"Nao"]
[null,"Nao"]
[null,"Nao"]
[null,"Nao"]
[null,"Nao"]
[null,"Nao"]
[null,"Nao"]
[null,"Nao"]
[null,"Nao"]
[null,"Nao"]
[null,"Nao"]
[null,"Nao"]
[null,"Nao"]
[null,"Nao"]
[null,"Nao"]
[null,"Nao"]
[null,"Nao"]
[null,"Nao"]
[null,"Nao"]
[null,"Nao"]
[null,"Nao"]
[null,"Nao"]
[null,"Nao"]
[null,"Nao"]
[null,"Nao"]
[null,"Nao"]
[null,"Nao"]
[null,"Nao"]
[null,"Nao"]
[null,"Nao"]
[null,"Nao"]
[null,"Nao"]
[null,"Nao"]
[null,"Nao"]
[null,{"$f":"IF(A14551>0,\"Offhire\",\"Nao\")","v":"Nao"}]
[null,"Nao"]
[null,"Nao"]
[null,"Nao"]
[null,"Nao"]
[null,"Nao"]
[null,"Nao"]
[null,"Nao"]
[null,"Nao"]
[null,"Nao"]
[null,"Nao"]
[null,"Nao"]
[null,"Nao"]
[null,"Nao"]
[null,"Nao"]
[null,"Nao"]
[null,"Nao"]
[null,"Nao"]
[null,"Nao"]
[null,"Nao"]
[null,"Nao"]
[null,"Nao"]
[null,"Nao"]
[null,"Nao"]
[null,"Nao"]
[null,"Nao"]
[null,"Nao"]
[null,"Nao"]
[null,"Nao"]
[null,"Nao"]
[null,"Nao"]
[null,"Nao"]
[null,"Nao"]
[null,"Nao"]
[null,"Nao"]
[null,"Nao"]
[null,"Nao"]
[null,"Nao"]
[null,"Nao"]
[null,"Nao"]
[null,"Nao"]
[null,"Nao"]
[null,"Nao"]
[null,"Nao"]
[null,"Nao"]
[null,"Nao"]
[null,"Nao"]
[null,"Nao"]
[null,"Nao"]
[null,"Nao"]
[null,"Nao"]
[null,"Nao"]
[null,"Nao"]
[null,"Nao"]
[null,"Nao"]
[null,"Nao"]
[null,"Nao"]
[null,"Nao"]
[null,"Nao"]
[null,"Nao"]
[null,"Nao"]
[null,"Nao"]
[null,"Nao"]
[null,"Nao"]
[null,{"$f":"IF(A14615>0,\"Offhire\",\"Nao\")","v":"Nao"}]
[null,"Nao"]
[null,"Nao"]
[null,"Nao"]
[null,"Nao"]
[null,"Nao"]
[null,"Nao"]
[null,"Nao"]
[null,"Nao"]
[null,"Nao"]
[null,"Nao"]
[null,"Nao"]
[null,"Nao"]
[null,"Nao"]
[null,"Nao"]
[null,"Nao"]
[null,"Nao"]
[null,"Nao"]
[null,"Nao"]
[null,"Nao"]
[null,"Nao"]
[null,"Nao"]
[null,"Nao"]
[null,"Nao"]
[null,"Nao"]
[null,"Nao"]
[null,"Nao"]
[null,"Nao"]
[null,"Nao"]
[null,"Nao"]
[null,"Nao"]
[null,"Nao"]
[null,"Nao"]
[null,"Nao"]
[null,"Nao"]
[null,"Nao"]
[null,"Nao"]
[null,"Nao"]
[null,"Nao"]
[null,"Nao"]
[null,"Nao"]
[null,"Nao"]
[null,"Nao"]
[null,"Nao"]
[null,"Nao"]
[null,"Nao"]
[null,"Nao"]
[null,"Nao"]
[null,"Nao"]
[null,"Nao"]
[null,"Nao"]
[null,"Nao"]
[null,"Nao"]
[null,"Nao"]
[null,"Nao"]
[null,"Nao"]
[null,"Nao"]
[null,"Nao"]
[null,"Nao"]
[null,"Nao"]
[null,"Nao"]
[null,"Nao"]
[null,"Nao"]
[null,"Nao"]
[null,{"$f":"IF(A14679>0,\"Offhire\",\"Nao\")","v":"Nao"}]
[null,"Nao"]
[null,"Nao"]
[null,"Nao"]
[null,"Nao"]
[null,"Nao"]
[null,"Nao"]
[null,"Nao"]
[null,"Nao"]
[null,"Nao"]
[null,"Nao"]
[null,"Nao"]
[null,"Nao"]
[null,"Nao"]
[null,"Nao"]
[null,"Nao"]
[null,"Nao"]
[null,"Nao"]
[null,"Nao"]
[null,"Nao"]
[null,"Nao"]
[null,"Nao"]
[null,"Nao"]
[null,"Nao"]
[null,"Nao"]
[null,"Nao"]
[null,"Nao"]
[null,"Nao"]
[null,"Nao"]
[null,"Nao"]
[null,"Nao"]
[null,"Nao"]
[null,"Nao"]
[null,"Nao"]
[null,"Nao"]
[null,"Nao"]
[null,"Nao"]
[null,"Nao"]
[null,"Nao"]
[null,"Nao"]
[null,"Nao"]
[null,"Nao"]
[null,"Nao"]
[null,"Nao"]
[null,"Nao"]
[null,"Nao"]
[null,"Nao"]
[null,"Nao"]
[null,"Nao"]
[null,"Nao"]
[null,"Nao"]
[null,"Nao"]
[null,"Nao"]
[null,"Nao"]
[null,"Nao"]
[null,"Nao"]
[null,"Nao"]
[null,"Nao"]
[null,"Nao"]
[null,"Nao"]
[null,"Nao"]
[null,"Nao"]
[null,"Nao"]
[null,"Nao"]
[null,{"$f":"IF(A14743>0,\"Offhire\",\"Nao\")","v":"Nao"}]
[null,"Nao"]
[null,"Nao"]
[null,"Nao"]
[null,"Nao"]
[null,"Nao"]
[null,"Nao"]
[null,"Nao"]
[null,"Nao"]
[null,"Nao"]
[null,"Nao"]
[null,"Nao"]
[null,"Nao"]
[null,"Nao"]
[null,"Nao"]
[null,"Nao"]
[null,"Nao"]
[null,"Nao"]
[null,"Nao"]
[null,"Nao"]
[null,"Nao"]
[null,"Nao"]
[null,"Nao"]
[null,"Nao"]
[null,"Nao"]
[null,"Nao"]
[null,"Nao"]
[null,"Nao"]
[null,"Nao"]
[null,"Nao"]
[null,"Nao"]
[null,"Nao"]
[null,"Nao"]
[null,"Nao"]
[null,"Nao"]
[null,"Nao"]
[null,"Nao"]
[null,"Nao"]
[null,"Nao"]
[null,"Nao"]
[null,"Nao"]
[null,"Nao"]
[null,"Nao"]
[null,"Nao"]
[null,"Nao"]
[null,"Nao"]
[null,"Nao"]
[null,"Nao"]
[null,"Nao"]
[null,"Nao"]
[null,"Nao"]
[null,"Nao"]
[null,"Nao"]
[null,"Nao"]
[null,"Nao"]
[null,"Nao"]
[null,"Nao"]
[null,"Nao"]
[null,"Nao"]
[null,"Nao"]
[null,"Nao"]
[null,"Nao"]
[null,"Nao"]
[null,"Nao"]
[null,{"$f":"IF(A14807>0,\"Offhire\",\"Nao\")","v":"Nao"}]
[null,"Nao"]
[null,"Nao"]
[null,"Nao"]
[null,"Nao"]
[null,"Nao"]
[null,"Nao"]
[null,"Nao"]
[null,"Nao"]
[null,"Nao"]
[null,"Nao"]
[null,"Nao"]
[null,"Nao"]
[null,"Nao"]
[null,"Nao"]
[null,"Nao"]
[null,"Nao"]
[null,"Nao"]
[null,"Nao"]
[null,"Nao"]
[null,"Nao"]
[null,"Nao"]
[null,"Nao"]
[null,"Nao"]
[null,"Nao"]
[null,"Nao"]
[null,"Nao"]
[null,"Nao"]
[null,"Nao"]
[null,"Nao"]
[null,"Nao"]
[null,"Nao"]
[null,"Nao"]
[null,"Nao"]
[null,"Nao"]
[null,"Nao"]
[null,"Nao"]
[null,"Nao"]
[null,"Nao"]
[null,"Nao"]
[null,"Nao"]
[null,"Nao"]
[null,"Nao"]
[null,"Nao"]
[null,"Nao"]
[null,"Nao"]
[null,"Nao"]
[null,"Nao"]
[null,"Nao"]
[null,"Nao"]
[null,"Nao"]
[null,"Nao"]
[null,"Nao"]
[null,"Nao"]
[null,"Nao"]
[null,"Nao"]
[null,"Nao"]
[null,"Nao"]
[null,"Nao"]
[null,"Nao"]
[null,"Nao"]
[null,"Nao"]
[null,"Nao"]
[null,"Nao"]
[null,{"$f":"IF(A14871>0,\"Offhire\",\"Nao\")","v":"Nao"}]
[null,"Nao"]
[null,"Nao"]
[null,"Nao"]
[null,"Nao"]
[null,"Nao"]
[null,"Nao"]
[null,"Nao"]
[null,"Nao"]
[null,"Nao"]
[null,"Nao"]
[null,"Nao"]
[null,"Nao"]
[null,"Nao"]
[null,"Nao"]
[null,"Nao"]
[null,"Nao"]
[null,"Nao"]
[null,"Nao"]
[null,"Nao"]
[null,"Nao"]
[null,"Nao"]
[null,"Nao"]
[null,"Nao"]
[null,"Nao"]
[null,"Nao"]
[null,"Nao"]
[null,"Nao"]
[null,"Nao"]
[null,"Nao"]
[null,"Nao"]
[null,"Nao"]
[null,"Nao"]
[null,"Nao"]
[null,"Nao"]
[null,"Nao"]
[null,"Nao"]
[null,"Nao"]
[null,"Nao"]
[null,"Nao"]
[null,"Nao"]
[null,"Nao"]
[null,"Nao"]
[null,"Nao"]
[null,"Nao"]
[null,"Nao"]
[null,"Nao"]
[null,"Nao"]
[null,"Nao"]
[null,"Nao"]
[null,"Nao"]
[null,"Nao"]
[null,"Nao"]
[null,"Nao"]
[null,"Nao"]
[null,"Nao"]
[null,"Nao"]
[null,"Nao"]
[null,"Nao"]
[null,"Nao"]
[null,"Nao"]
[null,"Nao"]
[null,"Nao"]
[null,"Nao"]
[null,{"$f":"IF(A14935>0,\"Offhire\",\"Nao\")","v":"Nao"}]
[null,"Nao"]
[null,"Nao"]
[null,"Nao"]
[null,"Nao"]
[null,"Nao"]
[null,"Nao"]
[null,"Nao"]
[null,"Nao"]
[null,"Nao"]
[null,"Nao"]
[null,"Nao"]
[null,"Nao"]
[null,"Nao"]
[null,"Nao"]
[null,"Nao"]
[null,"Nao"]
[null,"Nao"]
[null,"Nao"]
[null,"Nao"]
[null,"Nao"]
[null,"Nao"]
[null,"Nao"]
[null,"Nao"]
[null,"Nao"]
[null,"Nao"]
[null,"Nao"]
[null,"Nao"]
[null,"Nao"]
[null,"Nao"]
[null,"Nao"]
[null,"Nao"]
[null,"Nao"]
[null,"Nao"]
[null,"Nao"]
[null,"Nao"]
[null,"Nao"]
[null,"Nao"]
[null,"Nao"]
[null,"Nao"]
[null,"Nao"]
[null,"Nao"]
[null,"Nao"]
[null,"Nao"]
[null,"Nao"]
[null,"Nao"]
[null,"Nao"]
[null,"Nao"]
[null,"Nao"]
[null,"Nao"]
[null,"Nao"]
[null,"Nao"]
[null,"Nao"]
[null,"Nao"]
[null,"Nao"]
[null,"Nao"]
[null,"Nao"]
[null,"Nao"]
[null,"Nao"]
[null,"Nao"]
[null,"Nao"]
[null,"Nao"]
[null,"Nao"]
[null,"Nao"]
[null,{"$f":"IF(A14999>0,\"Offhire\",\"Nao\")","v":"Nao"}]
[null,"Nao"]
[null,"Nao"]
[null,"Nao"]
[null,"Nao"]
[null,"Nao"]
[null,"Nao"]
[null,"Nao"]
[null,"Nao"]
[null,"Nao"]
[null,"Nao"]
[null,"Nao"]
[null,"Nao"]
[null,"Nao"]
[null,"Nao"]
[null,"Nao"]
[null,"Nao"]
[null,"Nao"]
[null,"Nao"]
[null,"Nao"]
[null,"Nao"]
[null,"Nao"]
[null,"Nao"]
[null,"Nao"]
[null,"Nao"]
[null,"Nao"]
[null,"Nao"]
[null,"Nao"]
[null,"Nao"]
[null,"Nao"]
[null,"Nao"]
[null,"Nao"]
[null,"Nao"]
[null,"Nao"]
[null,"Nao"]
[null,"Nao"]
[null,"Nao"]
[null,"Nao"]
[null,"Nao"]
[null,"Nao"]
[null,"Nao"]
[null,"Nao"]
[null,"Nao"]
[null,"Nao"]
[null,"Nao"]
[null,"Nao"]
[null,"Nao"]
[null,"Nao"]
[null,"Nao"]
[null,"Nao"]
[null,"Nao"]
[null,"Nao"]
[null,"Nao"]
[null,"Nao"]
[null,"Nao"]
[null,"Nao"]
[null,"Nao"]
[null,"Nao"]
[null,"Nao"]
[null,"Nao"]
[null,"Nao"]
[null,"Nao"]
[null,"Nao"]
[null,"Nao"]
[null,{"$f":"IF(A15063>0,\"Offhire\",\"Nao\")","v":"Nao"}]
[null,"Nao"]
[null,"Nao"]
[null,"Nao"]
[null,"Nao"]
[null,"Nao"]
[null,"Nao"]
[null,"Nao"]
[null,"Nao"]
[null,"Nao"]
[null,"Nao"]
[null,"Nao"]
[null,"Nao"]
[null,"Nao"]
[null,"Nao"]
[null,"Nao"]
[null,"Nao"]
[null,"Nao"]
[null,"Nao"]
[null,"Nao"]
[null,"Nao"]
[null,"Nao"]
[null,"Nao"]
[null,"Nao"]
[null,"Nao"]
[null,"Nao"]
[null,"Nao"]
[null,"Nao"]
[null,"Nao"]
[null,"Nao"]
[null,"Nao"]
[null,"Nao"]
[null,"Nao"]
[null,"Nao"]
[null,"Nao"]
[null,"Nao"]
[null,"Nao"]
[null,"Nao"]
[null,"Nao"]
[null,"Nao"]
[null,"Nao"]
[null,"Nao"]
[null,"Nao"]
[null,"Nao"]
[null,"Nao"]
[null,"Nao"]
[null,"Nao"]
[null,"Nao"]
[null,"Nao"]
[null,"Nao"]
[null,"Nao"]
[null,"Nao"]
[null,"Nao"]
[null,"Nao"]
[null,"Nao"]
[null,"Nao"]
[null,"Nao"]
[null,"Nao"]
[null,"Nao"]
[null,"Nao"]
[null,"Nao"]
[null,"Nao"]
[null,"Nao"]
[null,"Nao"]
[null,{"$f":"IF(A15127>0,\"Offhire\",\"Nao\")","v":"Nao"}]
[null,"Nao"]
[null,"Nao"]
[null,"Nao"]
[null,"Nao"]
[null,"Nao"]
[null,"Nao"]
[null,"Nao"]
[null,"Nao"]
[null,"Nao"]
[null,"Nao"]
[null,"Nao"]
[null,"Nao"]
[null,"Nao"]
[null,"Nao"]
[null,"Nao"]
[null,"Nao"]
[null,"Nao"]
[null,"Nao"]
[null,"Nao"]
[null,"Nao"]
[null,"Nao"]
[null,"Nao"]
[null,"Nao"]
[null,"Nao"]
[null,"Nao"]
[null,"Nao"]
[null,"Nao"]
[null,"Nao"]
[null,"Nao"]
[null,"Nao"]
[null,"Nao"]
[null,"Nao"]
[null,"Nao"]
[null,"Nao"]
[null,"Nao"]
[null,"Nao"]
[null,"Nao"]
[null,"Nao"]
[null,"Nao"]
[null,"Nao"]
[null,"Nao"]
[null,"Nao"]
[null,"Nao"]
[null,"Nao"]
[null,"Nao"]
[null,"Nao"]
[null,"Nao"]
[null,"Nao"]
[null,"Nao"]
[null,"Nao"]
[null,"Nao"]
[null,"Nao"]
[null,"Nao"]
[null,"Nao"]
[null,"Nao"]
[null,"Nao"]
[null,"Nao"]
[null,"Nao"]
[null,"Nao"]
[null,"Nao"]
[null,"Nao"]
[null,"Nao"]
[null,"Nao"]
[null,{"$f":"IF(A15191>0,\"Offhire\",\"Nao\")","v":"Nao"}]
[null,"Nao"]
[null,"Nao"]
[null,"Nao"]
[null,"Nao"]
[null,"Nao"]
[null,"Nao"]
[null,"Nao"]
[null,"Nao"]
[null,"Nao"]
[null,"Nao"]
[null,"Nao"]
[null,"Nao"]
[null,"Nao"]
[null,"Nao"]
[null,"Nao"]
[null,"Nao"]
[null,"Nao"]
[null,"Nao"]
[null,"Nao"]
[null,"Nao"]
[null,"Nao"]
[null,"Nao"]
[null,"Nao"]
[null,"Nao"]
[null,"Nao"]
[null,"Nao"]
[null,"Nao"]
[null,"Nao"]
[null,"Nao"]
[null,"Nao"]
[null,"Nao"]
[null,"Nao"]
[null,"Nao"]
[null,"Nao"]
[null,"Nao"]
[null,"Nao"]
[null,"Nao"]
[null,"Nao"]
[null,"Nao"]
[null,"Nao"]
[null,"Nao"]
[null,"Nao"]
[null,"Nao"]
[null,"Nao"]
[null,"Nao"]
[null,"Nao"]
[null,"Nao"]
[null,"Nao"]
[null,"Nao"]
[null,"Nao"]
[null,"Nao"]
[null,"Nao"]
[null,"Nao"]
[null,"Nao"]
[null,"Nao"]
[null,"Nao"]
[null,"Nao"]
[null,"Nao"]
[null,"Nao"]
[null,"Nao"]
[null,"Nao"]
[null,"Nao"]
[null,"Nao"]
[null,{"$f":"IF(A15255>0,\"Offhire\",\"Nao\")","v":"Nao"}]
[null,"Nao"]
[null,"Nao"]
[null,"Nao"]
[null,"Nao"]
[null,"Nao"]
[null,"Nao"]
[null,"Nao"]
[null,"Nao"]
[null,"Nao"]
[null,"Nao"]
[null,"Nao"]
[null,"Nao"]
[null,"Nao"]
[null,"Nao"]
[null,"Nao"]
[null,"Nao"]
[null,"Nao"]
[null,"Nao"]
[null,"Nao"]
[null,"Nao"]
[null,"Nao"]
[null,"Nao"]
[null,"Nao"]
[null,"Nao"]
[null,"Nao"]
[null,"Nao"]
[null,"Nao"]
[null,"Nao"]
[null,"Nao"]
[null,"Nao"]
[null,"Nao"]
[null,"Nao"]
[null,"Nao"]
[null,"Nao"]
[null,"Nao"]
[null,"Nao"]
[null,"Nao"]
[null,"Nao"]
[null,"Nao"]
[null,"Nao"]
[null,"Nao"]
[null,"Nao"]
[null,"Nao"]
[null,"Nao"]
[null,"Nao"]
[null,"Nao"]
[null,"Nao"]
[null,"Nao"]
[null,"Nao"]
[null,"Nao"]
[null,"Nao"]
[null,"Nao"]
[null,"Nao"]
[null,"Nao"]
[null,"Nao"]
[null,"Nao"]
[null,"Nao"]
[null,"Nao"]
[null,"Nao"]
[null,"Nao"]
[null,"Nao"]
[null,"Nao"]
[null,"Nao"]
[null,{"$f":"IF(A15319>0,\"Offhire\",\"Nao\")","v":"Nao"}]
[null,"Nao"]
[null,"Nao"]
[null,"Nao"]
[null,"Nao"]
[null,"Nao"]
[null,"Nao"]
[null,"Nao"]
[null,"Nao"]
[null,"Nao"]
[null,"Nao"]
[null,"Nao"]
[null,"Nao"]
[null,"Nao"]
[null,"Nao"]
[null,"Nao"]
[null,"Nao"]
[null,"Nao"]
[null,"Nao"]
[null,"Nao"]
[null,"Nao"]
[null,"Nao"]
[null,"Nao"]
[null,"Nao"]
[null,"Nao"]
[null,"Nao"]
[null,"Nao"]
[null,"Nao"]
[null,"Nao"]
[null,"Nao"]
[null,"Nao"]
[null,"Nao"]
[null,"Nao"]
[null,"Nao"]
[null,"Nao"]
[null,"Nao"]
[null,"Nao"]
[null,"Nao"]
[null,"Nao"]
[null,"Nao"]
[null,"Nao"]
[null,"Nao"]
[null,"Nao"]
[null,"Nao"]
[null,"Nao"]
[null,"Nao"]
[null,"Nao"]
[null,"Nao"]
[null,"Nao"]
[null,"Nao"]
[null,"Nao"]
[null,"Nao"]
[null,"Nao"]
[null,"Nao"]
[null,"Nao"]
[null,"Nao"]
[null,"Nao"]
[null,"Nao"]
[null,"Nao"]
[null,"Nao"]
[null,"Nao"]
[null,"Nao"]
[null,"Nao"]
[null,"Nao"]
[null,{"$f":"IF(A15383>0,\"Offhire\",\"Nao\")","v":"Nao"}]
[null,"Nao"]
[null,"Nao"]
[null,"Nao"]
[null,"Nao"]
[null,"Nao"]
[null,"Nao"]
[null,"Nao"]
[null,"Nao"]
[null,"Nao"]
[null,"Nao"]
[null,"Nao"]
[null,"Nao"]
[null,"Nao"]
[null,"Nao"]
[null,"Nao"]
[null,"Nao"]
[null,"Nao"]
[null,"Nao"]
[null,"Nao"]
[null,"Nao"]
[null,"Nao"]
[null,"Nao"]
[null,"Nao"]
[null,"Nao"]
[null,"Nao"]
[null,"Nao"]
[null,"Nao"]
[null,"Nao"]
[null,"Nao"]
[null,"Nao"]
[null,"Nao"]
[null,"Nao"]
[null,"Nao"]
[null,"Nao"]
[null,"Nao"]
[null,"Nao"]
[null,"Nao"]
[null,"Nao"]
[null,"Nao"]
[null,"Nao"]
[null,"Nao"]
[null,"Nao"]
[null,"Nao"]
[null,"Nao"]
[null,"Nao"]
[null,"Nao"]
[null,"Nao"]
[null,"Nao"]
[null,"Nao"]
[null,"Nao"]
[null,"Nao"]
[null,"Nao"]
[null,"Nao"]
[null,"Nao"]
[null,"Nao"]
[null,"Nao"]
[null,"Nao"]
[null,"Nao"]
[null,"Nao"]
[null,"Nao"]
[null,"Nao"]
[null,"Nao"]
[null,"Nao"]
[null,{"$f":"IF(A15447>0,\"Offhire\",\"Nao\")","v":"Nao"}]
[null,"Nao"]
[null,"Nao"]
[null,"Nao"]
[null,"Nao"]
[null,"Nao"]
[null,"Nao"]
[null,"Nao"]
[null,"Nao"]
[null,"Nao"]
[null,"Nao"]
[null,"Nao"]
[null,"Nao"]
[null,"Nao"]
[null,"Nao"]
[null,"Nao"]
[null,"Nao"]
[null,"Nao"]
[null,"Nao"]
[null,"Nao"]
[null,"Nao"]
[null,"Nao"]
[null,"Nao"]
[null,"Nao"]
[null,"Nao"]
[null,"Nao"]
[null,"Nao"]
[null,"Nao"]
[null,"Nao"]
[null,"Nao"]
[null,"Nao"]
[null,"Nao"]
[null,"Nao"]
[null,"Nao"]
[null,"Nao"]
[null,"Nao"]
[null,"Nao"]
[null,"Nao"]
[null,"Nao"]
[null,"Nao"]
[null,"Nao"]
[null,"Nao"]
[null,"Nao"]
[null,"Nao"]
[null,"Nao"]
[null,"Nao"]
[null,"Nao"]
[null,"Nao"]
[null,"Nao"]
[null,"Nao"]
[null,"Nao"]
[null,"Nao"]
[null,"Nao"]
[null,"Nao"]
[null,"Nao"]
[null,"Nao"]
[null,"Nao"]
[null,"Nao"]
[null,"Nao"]
[null,"Nao"]
[null,"Nao"]
[null,"Nao"]
[null,"Nao"]
[null,"Nao"]
[null,{"$f":"IF(A15511>0,\"Offhire\",\"Nao\")","v":"Nao"}]
[null,"Nao"]
[null,"Nao"]
[null,"Nao"]
[null,"Nao"]
[null,"Nao"]
[null,"Nao"]
[null,"Nao"]
[null,"Nao"]
[null,"Nao"]
[null,"Nao"]
[null,"Nao"]
[null,"Nao"]
[null,"Nao"]
[null,"Nao"]
[null,"Nao"]
[null,"Nao"]
[null,"Nao"]
[null,"Nao"]
[null,"Nao"]
[null,"Nao"]
[null,"Nao"]
[null,"Nao"]
[null,"Nao"]
[null,"Nao"]
[null,"Nao"]
[null,"Nao"]
[null,"Nao"]
[null,"Nao"]
[null,"Nao"]
[null,"Nao"]
[null,"Nao"]
[null,"Nao"]
[null,"Nao"]
[null,"Nao"]
[null,"Nao"]
[null,"Nao"]
[null,"Nao"]
[null,"Nao"]
[null,"Nao"]
[null,"Nao"]
[null,"Nao"]
[null,"Nao"]
[null,"Nao"]
[null,"Nao"]
[null,"Nao"]
[null,"Nao"]
[null,"Nao"]
[null,"Nao"]
[null,"Nao"]
[null,"Nao"]
[null,"Nao"]
[null,"Nao"]
[null,"Nao"]
[null,"Nao"]
[null,"Nao"]
[null,"Nao"]
[null,"Nao"]
[null,"Nao"]
[null,"Nao"]
[null,"Nao"]
[null,"Nao"]
[null,"Nao"]
[null,"Nao"]
[null,{"$f":"IF(A15575>0,\"Offhire\",\"Nao\")","v":"Nao"}]
[null,"Nao"]
[null,"Nao"]
[null,"Nao"]
[null,"Nao"]
[null,"Nao"]
[null,"Nao"]
[null,"Nao"]
[null,"Nao"]
[null,"Nao"]
[null,"Nao"]
[null,"Nao"]
[null,"Nao"]
[null,"Nao"]
[null,"Nao"]
[null,"Nao"]
[null,"Nao"]
[null,"Nao"]
[null,"Nao"]
[null,"Nao"]
[null,"Nao"]
[null,"Nao"]
[null,"Nao"]
[null,"Nao"]
[null,"Nao"]
[null,"Nao"]
[null,"Nao"]
[null,"Nao"]
[null,"Nao"]
[null,"Nao"]
[null,"Nao"]
[null,"Nao"]
[null,"Nao"]
[null,"Nao"]
[null,"Nao"]
[null,"Nao"]
[null,"Nao"]
[null,"Nao"]
[null,"Nao"]
[null,"Nao"]
[null,"Nao"]
[null,"Nao"]
[null,"Nao"]
[null,"Nao"]
[null,"Nao"]
[null,"Nao"]
[null,"Nao"]
[null,"Nao"]
[null,"Nao"]
[null,"Nao"]
[null,"Nao"]
[null,"Nao"]
[null,"Nao"]
[null,"Nao"]
[null,"Nao"]
[null,"Nao"]
[null,"Nao"]
[null,"Nao"]
[null,"Nao"]
[null,"Nao"]
[null,"Nao"]
[null,"Nao"]
[null,"Nao"]
[null,"Nao"]
[null,{"$f":"IF(A15639>0,\"Offhire\",\"Nao\")","v":"Nao"}]
[null,"Nao"]
[null,"Nao"]
[null,"Nao"]
[null,"Nao"]
[null,"Nao"]
[null,"Nao"]
[null,"Nao"]
[null,"Nao"]
[null,"Nao"]
[null,"Nao"]
[null,"Nao"]
[null,"Nao"]
[null,"Nao"]
[null,"Nao"]
[null,"Nao"]
[null,"Nao"]
[null,"Nao"]
[null,"Nao"]
[null,"Nao"]
[null,"Nao"]
[null,"Nao"]
[null,"Nao"]
[null,"Nao"]
[null,"Nao"]
[null,"Nao"]
[null,"Nao"]
[null,"Nao"]
[null,"Nao"]
[null,"Nao"]
[null,"Nao"]
[null,"Nao"]
[null,"Nao"]
[null,"Nao"]
[null,"Nao"]
[null,"Nao"]
[null,"Nao"]
[null,"Nao"]
[null,"Nao"]
[null,"Nao"]
[null,"Nao"]
[null,"Nao"]
[null,"Nao"]
[null,"Nao"]
[null,"Nao"]
[null,"Nao"]
[null,"Nao"]
[null,"Nao"]
[null,"Nao"]
[null,"Nao"]
[null,"Nao"]
[null,"Nao"]
[null,"Nao"]
[null,"Nao"]
[null,"Nao"]
[null,"Nao"]
[null,"Nao"]
[null,"Nao"]
[null,"Nao"]
[null,"Nao"]
[null,"Nao"]
[null,"Nao"]
[null,"Nao"]
[null,"Nao"]
[null,{"$f":"IF(A15703>0,\"Offhire\",\"Nao\")","v":"Nao"}]
[null,"Nao"]
[null,"Nao"]
[null,"Nao"]
[null,"Nao"]
[null,"Nao"]
[null,"Nao"]
[null,"Nao"]
[null,"Nao"]
[null,"Nao"]
[null,"Nao"]
[null,"Nao"]
[null,"Nao"]
[null,"Nao"]
[null,"Nao"]
[null,"Nao"]
[null,"Nao"]
[null,"Nao"]
[null,"Nao"]
[null,"Nao"]
[null,"Nao"]
[null,"Nao"]
[null,"Nao"]
[null,"Nao"]
[null,"Nao"]
[null,"Nao"]
[null,"Nao"]
[null,"Nao"]
[null,"Nao"]
[null,"Nao"]
[null,"Nao"]
[null,"Nao"]
[null,"Nao"]
[null,"Nao"]
[null,"Nao"]
[null,"Nao"]
[null,"Nao"]
[null,"Nao"]
[null,"Nao"]
[null,"Nao"]
[null,"Nao"]
[null,"Nao"]
[null,"Nao"]
[null,"Nao"]
[null,"Nao"]
[null,"Nao"]
[null,"Nao"]
[null,"Nao"]
[null,"Nao"]
[null,"Nao"]
[null,"Nao"]
[null,"Nao"]
[null,"Nao"]
[null,"Nao"]
[null,"Nao"]
[null,"Nao"]
[null,"Nao"]
[null,"Nao"]
[null,"Nao"]
[null,"Nao"]
[null,"Nao"]
[null,"Nao"]
[null,"Nao"]
[null,"Nao"]
[null,{"$f":"IF(A15767>0,\"Offhire\",\"Nao\")","v":"Nao"}]
[null,"Nao"]
[null,"Nao"]
[null,"Nao"]
[null,"Nao"]
[null,"Nao"]
[null,"Nao"]
[null,"Nao"]
[null,"Nao"]
[null,"Nao"]
[null,"Nao"]
[null,"Nao"]
[null,"Nao"]
[null,"Nao"]
[null,"Nao"]
[null,"Nao"]
[null,"Nao"]
[null,"Nao"]
[null,"Nao"]
[null,"Nao"]
[null,"Nao"]
[null,"Nao"]
[null,"Nao"]
[null,"Nao"]
[null,"Nao"]
[null,"Nao"]
[null,"Nao"]
[null,"Nao"]
[null,"Nao"]
[null,"Nao"]
[null,"Nao"]
[null,"Nao"]
[null,"Nao"]
[null,"Nao"]
[null,"Nao"]
[null,"Nao"]
[null,"Nao"]
[null,"Nao"]
[null,"Nao"]
[null,"Nao"]
[null,"Nao"]
[null,"Nao"]
[null,"Nao"]
[null,"Nao"]
[null,"Nao"]
[null,"Nao"]
[null,"Nao"]
[null,"Nao"]
[null,"Nao"]
[null,"Nao"]
[null,"Nao"]
[null,"Nao"]
[null,"Nao"]
[null,"Nao"]
[null,"Nao"]
[null,"Nao"]
[null,"Nao"]
[null,"Nao"]
[null,"Nao"]
[null,"Nao"]
[null,"Nao"]
[null,"Nao"]
[null,"Nao"]
[null,"Nao"]
[null,{"$f":"IF(A15831>0,\"Offhire\",\"Nao\")","v":"Nao"}]
[null,"Nao"]
[null,"Nao"]
[null,"Nao"]
[null,"Nao"]
[null,"Nao"]
[null,"Nao"]
[null,"Nao"]
[null,"Nao"]
[null,"Nao"]
[null,"Nao"]
[null,"Nao"]
[null,"Nao"]
[null,"Nao"]
[null,"Nao"]
[null,"Nao"]
[null,"Nao"]
[null,"Nao"]
[null,"Nao"]
[null,"Nao"]
[null,"Nao"]
[null,"Nao"]
[null,"Nao"]
[null,"Nao"]
[null,"Nao"]
[null,"Nao"]
[null,"Nao"]
[null,"Nao"]
[null,"Nao"]
[null,"Nao"]
[null,"Nao"]
[null,"Nao"]
[null,"Nao"]
[null,"Nao"]
[null,"Nao"]
[null,"Nao"]
[null,"Nao"]
[null,"Nao"]
[null,"Nao"]
[null,"Nao"]
[null,"Nao"]
[null,"Nao"]
[null,"Nao"]
[null,"Nao"]
[null,"Nao"]
[null,"Nao"]
[null,"Nao"]
[null,"Nao"]
[null,"Nao"]
[null,"Nao"]
[null,"Nao"]
[null,"Nao"]
[null,"Nao"]
[null,"Nao"]
[null,"Nao"]
[null,"Nao"]
[null,"Nao"]
[null,"Nao"]
[null,"Nao"]
[null,"Nao"]
[null,"Nao"]
[null,"Nao"]
[null,"Nao"]
[null,"Nao"]
[null,{"$f":"IF(A15895>0,\"Offhire\",\"Nao\")","v":"Nao"}]
[null,"Nao"]
[null,"Nao"]
[null,"Nao"]
[null,"Nao"]
[null,"Nao"]
[null,"Nao"]
[null,"Nao"]
[null,"Nao"]
[null,"Nao"]
[null,"Nao"]
[null,"Nao"]
[null,"Nao"]
[null,"Nao"]
[null,"Nao"]
[null,"Nao"]
[null,"Nao"]
[null,"Nao"]
[null,"Nao"]
[null,"Nao"]
[null,"Nao"]
[null,"Nao"]
[null,"Nao"]
[null,"Nao"]
[null,"Nao"]
[null,"Nao"]
[null,"Nao"]
[null,"Nao"]
[null,"Nao"]
[null,"Nao"]
[null,"Nao"]
[null,"Nao"]
[null,"Nao"]
[null,"Nao"]
[null,"Nao"]
[null,"Nao"]
[null,"Nao"]
[null,"Nao"]
[null,"Nao"]
[null,"Nao"]
[null,"Nao"]
[null,"Nao"]
[null,"Nao"]
[null,"Nao"]
[null,"Nao"]
[null,"Nao"]
[null,"Nao"]
[null,"Nao"]
[null,"Nao"]
[null,"Nao"]
[null,"Nao"]
[null,"Nao"]
[null,"Nao"]
[null,"Nao"]
[null,"Nao"]
[null,"Nao"]
[null,"Nao"]
[null,"Nao"]
[null,"Nao"]
[null,"Nao"]
[null,"Nao"]
[null,"Nao"]
[null,"Nao"]
[null,"Nao"]
[null,{"$f":"IF(A15959>0,\"Offhire\",\"Nao\")","v":"Nao"}]
[null,"Nao"]
[null,"Nao"]
[null,"Nao"]
[null,"Nao"]
[null,"Nao"]
[null,"Nao"]
[null,"Nao"]
[null,"Nao"]
[null,"Nao"]
[null,"Nao"]
[null,"Nao"]
[null,"Nao"]
[null,"Nao"]
[null,"Nao"]
[null,"Nao"]
[null,"Nao"]
[null,"Nao"]
[null,"Nao"]
[null,"Nao"]
[null,"Nao"]
[null,"Nao"]
[null,"Nao"]
[null,"Nao"]
[null,"Nao"]
[null,"Nao"]
[null,"Nao"]
[null,"Nao"]
[null,"Nao"]
[null,"Nao"]
[null,"Nao"]
[null,"Nao"]
[null,"Nao"]
[null,"Nao"]
[null,"Nao"]
[null,"Nao"]
[null,"Nao"]
[null,"Nao"]
[null,"Nao"]
[null,"Nao"]
[null,"Nao"]
[null,"Nao"]
[null,"Nao"]
[null,"Nao"]
[null,"Nao"]
[null,"Nao"]
[null,"Nao"]
[null,"Nao"]
[null,"Nao"]
[null,"Nao"]
[null,"Nao"]
[null,"Nao"]
[null,"Nao"]
[null,"Nao"]
[null,"Nao"]
[null,"Nao"]
[null,"Nao"]
[null,"Nao"]
[null,"Nao"]
[null,"Nao"]
[null,"Nao"]
[null,"Nao"]
[null,"Nao"]
[null,"Nao"]
[null,{"$f":"IF(A16023>0,\"Offhire\",\"Nao\")","v":"Nao"}]
[null,"Nao"]
[null,"Nao"]
[null,"Nao"]
[null,"Nao"]
[null,"Nao"]
[null,"Nao"]
[null,"Nao"]
[null,"Nao"]
[null,"Nao"]
[null,"Nao"]
[null,"Nao"]
[null,"Nao"]
[null,"Nao"]
[null,"Nao"]
[null,"Nao"]
[null,"Nao"]
[null,"Nao"]
[null,"Nao"]
[null,"Nao"]
[null,"Nao"]
[null,"Nao"]
[null,"Nao"]
[null,"Nao"]
[null,"Nao"]
[null,"Nao"]
[null,"Nao"]
[null,"Nao"]
[null,"Nao"]
[null,"Nao"]
[null,"Nao"]
[null,"Nao"]
[null,"Nao"]
[null,"Nao"]
[null,"Nao"]
[null,"Nao"]
[null,"Nao"]
[null,"Nao"]
[null,"Nao"]
[null,"Nao"]
[null,"Nao"]
[null,"Nao"]
[null,"Nao"]
[null,"Nao"]
[null,"Nao"]
[null,"Nao"]
[null,"Nao"]
[null,"Nao"]
[null,"Nao"]
[null,"Nao"]
[null,"Nao"]
[null,"Nao"]
[null,"Nao"]
[null,"Nao"]
[null,"Nao"]
[null,"Nao"]
[null,"Nao"]
[null,"Nao"]
[null,"Nao"]
[null,"Nao"]
[null,"Nao"]
[null,"Nao"]
[null,"Nao"]
[null,"Nao"]
[null,{"$f":"IF(A16087>0,\"Offhire\",\"Nao\")","v":"Nao"}]
[null,"Nao"]
[null,"Nao"]
[null,"Nao"]
[null,"Nao"]
[null,"Nao"]
[null,"Nao"]
[null,"Nao"]
[null,"Nao"]
[null,"Nao"]
[null,"Nao"]
[null,"Nao"]
[null,"Nao"]
[null,"Nao"]
[null,"Nao"]
[null,"Nao"]
[null,"Nao"]
[null,"Nao"]
[null,"Nao"]
[null,"Nao"]
[null,"Nao"]
[null,"Nao"]
[null,"Nao"]
[null,"Nao"]
[null,"Nao"]
[null,"Nao"]
[null,"Nao"]
[null,"Nao"]
[null,"Nao"]
[null,"Nao"]
[null,"Nao"]
[null,"Nao"]
[null,"Nao"]
[null,"Nao"]
[null,"Nao"]
[null,"Nao"]
[null,"Nao"]
[null,"Nao"]
[null,"Nao"]
[null,"Nao"]
[null,"Nao"]
[null,"Nao"]
[null,"Nao"]
[null,"Nao"]
[null,"Nao"]
[null,"Nao"]
[null,"Nao"]
[null,"Nao"]
[null,"Nao"]
[null,"Nao"]
[null,"Nao"]
[null,"Nao"]
[null,"Nao"]
[null,"Nao"]
[null,"Nao"]
[null,"Nao"]
[null,"Nao"]
[null,"Nao"]
[null,"Nao"]
[null,"Nao"]
[null,"Nao"]
[null,"Nao"]
[null,"Nao"]
[null,"Nao"]
[null,{"$f":"IF(A16151>0,\"Offhire\",\"Nao\")","v":"Nao"}]
[null,"Nao"]
[null,"Nao"]
[null,"Nao"]
[null,"Nao"]
[null,"Nao"]
[null,"Nao"]
[null,"Nao"]
[null,"Nao"]
[null,"Nao"]
[null,"Nao"]
[null,"Nao"]
[null,"Nao"]
[null,"Nao"]
[null,"Nao"]
[null,"Nao"]
[null,"Nao"]
[null,"Nao"]
[null,"Nao"]
[null,"Nao"]
[null,"Nao"]
[null,"Nao"]
[null,"Nao"]
[null,"Nao"]
[null,"Nao"]
[null,"Nao"]
[null,"Nao"]
[null,"Nao"]
[null,"Nao"]
[null,"Nao"]
[null,"Nao"]
[null,"Nao"]
[null,"Nao"]
[null,"Nao"]
[null,"Nao"]
[null,"Nao"]
[null,"Nao"]
[null,"Nao"]
[null,"Nao"]
[null,"Nao"]
[null,"Nao"]
[null,"Nao"]
[null,"Nao"]
[null,"Nao"]
[null,"Nao"]
[null,"Nao"]
[null,"Nao"]
[null,"Nao"]
[null,"Nao"]
[null,"Nao"]
[null,"Nao"]
[null,"Nao"]
[null,"Nao"]
[null,"Nao"]
[null,"Nao"]
[null,"Nao"]
[null,"Nao"]
[null,"Nao"]
[null,"Nao"]
[null,"Nao"]
[null,"Nao"]
[null,"Nao"]
[null,"Nao"]
[null,"Nao"]
[null,{"$f":"IF(A16215>0,\"Offhire\",\"Nao\")","v":"Nao"}]
[null,"Nao"]
[null,"Nao"]
[null,"Nao"]
[null,"Nao"]
[null,"Nao"]
[null,"Nao"]
[null,"Nao"]
[null,"Nao"]
[null,"Nao"]
[null,"Nao"]
[null,"Nao"]
[null,"Nao"]
[null,"Nao"]
[null,"Nao"]
[null,"Nao"]
[null,"Nao"]
[null,"Nao"]
[null,"Nao"]
[null,"Nao"]
[null,"Nao"]
[null,"Nao"]
[null,"Nao"]
[null,"Nao"]
[null,"Nao"]
[null,"Nao"]
[null,"Nao"]
[null,"Nao"]
[null,"Nao"]
[null,"Nao"]
[null,"Nao"]
[null,"Nao"]
[null,"Nao"]
[null,"Nao"]
[null,"Nao"]
[null,"Nao"]
[null,"Nao"]
[null,"Nao"]
[null,"Nao"]
[null,"Nao"]
[null,"Nao"]
[null,"Nao"]
[null,"Nao"]
[null,"Nao"]
[null,"Nao"]
[null,"Nao"]
[null,"Nao"]
[null,"Nao"]
[null,"Nao"]
[null,"Nao"]
[null,"Nao"]
[null,"Nao"]
[null,"Nao"]
[null,"Nao"]
[null,"Nao"]
[null,"Nao"]
[null,"Nao"]
[null,"Nao"]
[null,"Nao"]
[null,"Nao"]
[null,"Nao"]
[null,"Nao"]
[null,"Nao"]
[null,"Nao"]
[null,{"$f":"IF(A16279>0,\"Offhire\",\"Nao\")","v":"Nao"}]
[null,"Nao"]
[null,"Nao"]
[null,"Nao"]
[null,"Nao"]
[null,"Nao"]
[null,"Nao"]
[null,"Nao"]
[null,"Nao"]
[null,"Nao"]
[null,"Nao"]
[null,"Nao"]
[null,"Nao"]
[null,"Nao"]
[null,"Nao"]
[null,"Nao"]
[null,"Nao"]
[null,"Nao"]
[null,"Nao"]
[null,"Nao"]
[null,"Nao"]
[null,"Nao"]
[null,"Nao"]
[null,"Nao"]
[null,"Nao"]
[null,"Nao"]
[null,"Nao"]
[null,"Nao"]
[null,"Nao"]
[null,"Nao"]
[null,"Nao"]
[null,"Nao"]
[null,"Nao"]
[null,"Nao"]
[null,"Nao"]
[null,"Nao"]
[null,"Nao"]
[null,"Nao"]
[null,"Nao"]
[null,"Nao"]
[null,"Nao"]
[null,"Nao"]
[null,"Nao"]
[null,"Nao"]
[null,"Nao"]
[null,"Nao"]
[null,"Nao"]
[null,"Nao"]
[null,"Nao"]
[null,"Nao"]
[null,"Nao"]
[null,"Nao"]
[null,"Nao"]
[null,"Nao"]
[null,"Nao"]
[null,"Nao"]
[null,"Nao"]
[null,"Nao"]
[null,"Nao"]
[null,"Nao"]
[null,"Nao"]
[null,"Nao"]
[null,"Nao"]
[null,"Nao"]
[null,{"$f":"IF(A16343>0,\"Offhire\",\"Nao\")","v":"Nao"}]
[null,"Nao"]
[null,"Nao"]
[null,"Nao"]
[null,"Nao"]
[null,"Nao"]
[null,"Nao"]
[null,"Nao"]
[null,"Nao"]
[null,"Nao"]
[null,"Nao"]
[null,"Nao"]
[null,"Nao"]
[null,"Nao"]
[null,"Nao"]
[null,"Nao"]
[null,"Nao"]
[null,"Nao"]
[null,"Nao"]
[null,"Nao"]
[null,"Nao"]
[null,"Nao"]
[null,"Nao"]
[null,"Nao"]
[null,"Nao"]
[null,"Nao"]
[null,"Nao"]
[null,"Nao"]
[null,"Nao"]
[null,"Nao"]
[null,"Nao"]
[null,"Nao"]
[null,"Nao"]
[null,"Nao"]
[null,"Nao"]
[null,"Nao"]
[null,"Nao"]
[null,"Nao"]
[null,"Nao"]
[null,"Nao"]
[null,"Nao"]
[null,"Nao"]
[null,"Nao"]
[null,"Nao"]
[null,"Nao"]
[null,"Nao"]
[null,"Nao"]
[null,"Nao"]
[null,"Nao"]
[null,"Nao"]
[null,"Nao"]
[null,"Nao"]
[null,"Nao"]
[null,"Nao"]
[null,"Nao"]
[null,"Nao"]
[null,"Nao"]
[null,"Nao"]
[null,"Nao"]
[null,"Nao"]
[null,"Nao"]
[null,"Nao"]
[null,"Nao"]
[null,"Nao"]
[null,{"$f":"IF(A16407>0,\"Offhire\",\"Nao\")","v":"Nao"}]
[null,"Nao"]
[null,"Nao"]
[null,"Nao"]
[null,"Nao"]
[null,"Nao"]
[null,"Nao"]
[null,"Nao"]
[null,"Nao"]
[null,"Nao"]
[null,"Nao"]
[null,"Nao"]
[null,"Nao"]
[null,"Nao"]
[null,"Nao"]
[null,"Nao"]
[null,"Nao"]
[null,"Nao"]
[null,"Nao"]
[null,"Nao"]
[null,"Nao"]
[null,"Nao"]
[null,"Nao"]
[null,"Nao"]
[null,"Nao"]
[null,"Nao"]
[null,"Nao"]
[null,"Nao"]
[null,"Nao"]
[null,"Nao"]
[null,"Nao"]
[null,"Nao"]
[null,"Nao"]
[null,"Nao"]
[null,"Nao"]
[null,"Nao"]
[null,"Nao"]
[null,"Nao"]
[null,"Nao"]
[null,"Nao"]
[null,"Nao"]
[null,"Nao"]
[null,"Nao"]
[null,"Nao"]
[null,"Nao"]
[null,"Nao"]
[null,"Nao"]
[null,"Nao"]
[null,"Nao"]
[null,"Nao"]
[null,"Nao"]
[null,"Nao"]
[null,"Nao"]
[null,"Nao"]
[null,"Nao"]
[null,"Nao"]
[null,"Nao"]
[null,"Nao"]
[null,"Nao"]
[null,"Nao"]
[null,"Nao"]
[null,"Nao"]
[null,"Nao"]
[null,"Nao"]
[null,{"$f":"IF(A16471>0,\"Offhire\",\"Nao\")","v":"Nao"}]
[null,"Nao"]
[null,"Nao"]
[null,"Nao"]
[null,"Nao"]
[null,"Nao"]
[null,"Nao"]
[null,"Nao"]
[null,"Nao"]
[null,"Nao"]
[null,"Nao"]
[null,"Nao"]
[null,"Nao"]
[null,"Nao"]
[null,"Nao"]
[null,"Nao"]
[null,"Nao"]
[null,"Nao"]
[null,"Nao"]
[null,"Nao"]
[null,"Nao"]
[null,"Nao"]
[null,"Nao"]
[null,"Nao"]
[null,"Nao"]
[null,"Nao"]
[null,"Nao"]
[null,"Nao"]
[null,"Nao"]
[null,"Nao"]
[null,"Nao"]
[null,"Nao"]
[null,"Nao"]
[null,"Nao"]
[null,"Nao"]
[null,"Nao"]
[null,"Nao"]
[null,"Nao"]
[null,"Nao"]
[null,"Nao"]
[null,"Nao"]
[null,"Nao"]
[null,"Nao"]
[null,"Nao"]
[null,"Nao"]
[null,"Nao"]
[null,"Nao"]
[null,"Nao"]
[null,"Nao"]
[null,"Nao"]
[null,"Nao"]
[null,"Nao"]
[null,"Nao"]
[null,"Nao"]
[null,"Nao"]
[null,"Nao"]
[null,"Nao"]
[null,"Nao"]
[null,"Nao"]
[null,"Nao"]
[null,"Nao"]
[null,"Nao"]
[null,"Nao"]
[null,"Nao"]
[null,{"$f":"IF(A16535>0,\"Offhire\",\"Nao\")","v":"Nao"}]
[null,"Nao"]
[null,"Nao"]
[null,"Nao"]
[null,"Nao"]
[null,"Nao"]
[null,"Nao"]
[null,"Nao"]
[null,"Nao"]
[null,"Nao"]
[null,"Nao"]
[null,"Nao"]
[null,"Nao"]
[null,"Nao"]
[null,"Nao"]
[null,"Nao"]
[null,"Nao"]
[null,"Nao"]
[null,"Nao"]
[null,"Nao"]
[null,"Nao"]
[null,"Nao"]
[null,"Nao"]
[null,"Nao"]
[null,"Nao"]
[null,"Nao"]
[null,"Nao"]
[null,"Nao"]
[null,"Nao"]
[null,"Nao"]
[null,"Nao"]
[null,"Nao"]
[null,"Nao"]
[null,"Nao"]
[null,"Nao"]
[null,"Nao"]
[null,"Nao"]
[null,"Nao"]
[null,"Nao"]
[null,"Nao"]
[null,"Nao"]
[null,"Nao"]
[null,"Nao"]
[null,"Nao"]
[null,"Nao"]
[null,"Nao"]
[null,"Nao"]
[null,"Nao"]
[null,"Nao"]
[null,"Nao"]
[null,"Nao"]
[null,"Nao"]
[null,"Nao"]
[null,"Nao"]
[null,"Nao"]
[null,"Nao"]
[null,"Nao"]
[null,"Nao"]
[null,"Nao"]
[null,"Nao"]
[null,"Nao"]
[null,"Nao"]
[null,"Nao"]
[null,"Nao"]
[null,{"$f":"IF(A16599>0,\"Offhire\",\"Nao\")","v":"Nao"}]
[null,"Nao"]
[null,"Nao"]
[null,"Nao"]
[null,"Nao"]
[null,"Nao"]
[null,"Nao"]
[null,"Nao"]
[null,"Nao"]
[null,"Nao"]
[null,"Nao"]
[null,"Nao"]
[null,"Nao"]
[null,"Nao"]
[null,"Nao"]
[null,"Nao"]
[null,"Nao"]
[null,"Nao"]
[null,"Nao"]
[null,"Nao"]
[null,"Nao"]
[null,"Nao"]
[null,"Nao"]
[null,"Nao"]
[null,"Nao"]
[null,"Nao"]
[null,"Nao"]
[null,"Nao"]
[null,"Nao"]
[null,"Nao"]
[null,"Nao"]
[null,"Nao"]
[null,"Nao"]
[null,"Nao"]
[null,"Nao"]
[null,"Nao"]
[null,"Nao"]
[null,"Nao"]
[null,"Nao"]
[null,"Nao"]
[null,"Nao"]
[null,"Nao"]
[null,"Nao"]
[null,"Nao"]
[null,"Nao"]
[null,"Nao"]
[null,"Nao"]
[null,"Nao"]
[null,"Nao"]
[null,"Nao"]
[null,"Nao"]
[null,"Nao"]
[null,"Nao"]
[null,"Nao"]
[null,"Nao"]
[null,"Nao"]
[null,"Nao"]
[null,"Nao"]
[null,"Nao"]
[null,"Nao"]
[null,"Nao"]
[null,"Nao"]
[null,"Nao"]
[null,"Nao"]
[null,{"$f":"IF(A16663>0,\"Offhire\",\"Nao\")","v":"Nao"}]
[null,"Nao"]
[null,"Nao"]
[null,"Nao"]
[null,"Nao"]
[null,"Nao"]
[null,"Nao"]
[null,"Nao"]
[null,"Nao"]
[null,"Nao"]
[null,"Nao"]
[null,"Nao"]
[null,"Nao"]
[null,"Nao"]
[null,"Nao"]
[null,"Nao"]
[null,"Nao"]
[null,"Nao"]
[null,"Nao"]
[null,"Nao"]
[null,"Nao"]
[null,"Nao"]
[null,"Nao"]
[null,"Nao"]
[null,"Nao"]
[null,"Nao"]
[null,"Nao"]
[null,"Nao"]
[null,"Nao"]
[null,"Nao"]
[null,"Nao"]
[null,"Nao"]
[null,"Nao"]
[null,"Nao"]
[null,"Nao"]
[null,"Nao"]
[null,"Nao"]
[null,"Nao"]
[null,"Nao"]
[null,"Nao"]
[null,"Nao"]
[null,"Nao"]
[null,"Nao"]
[null,"Nao"]
[null,"Nao"]
[null,"Nao"]
[null,"Nao"]
[null,"Nao"]
[null,"Nao"]
[null,"Nao"]
[null,"Nao"]
[null,"Nao"]
[null,"Nao"]
[null,"Nao"]
[null,"Nao"]
[null,"Nao"]
[null,"Nao"]
[null,"Nao"]
[null,"Nao"]
[null,"Nao"]
[null,"Nao"]
[null,"Nao"]
[null,"Nao"]
[null,"Nao"]
[null,{"$f":"IF(A16727>0,\"Offhire\",\"Nao\")","v":"Nao"}]
[null,"Nao"]
[null,"Nao"]
[null,"Nao"]
[null,"Nao"]
[null,"Nao"]
[null,"Nao"]
[null,"Nao"]
[null,"Nao"]
[null,"Nao"]
[null,"Nao"]
[null,"Nao"]
[null,"Nao"]
[null,"Nao"]
[null,"Nao"]
[null,"Nao"]
[null,"Nao"]
[null,"Nao"]
[null,"Nao"]
[null,"Nao"]
[null,"Nao"]
[null,"Nao"]
[null,"Nao"]
[null,"Nao"]
[null,"Nao"]
[null,"Nao"]
[null,"Nao"]
[null,"Nao"]
[null,"Nao"]
[null,"Nao"]
[null,"Nao"]
[null,"Nao"]
[null,"Nao"]
[null,"Nao"]
[null,"Nao"]
[null,"Nao"]
[null,"Nao"]
[null,"Nao"]
[null,"Nao"]
[null,"Nao"]
[null,"Nao"]
[null,"Nao"]
[null,"Nao"]
[null,"Nao"]
[null,"Nao"]
[null,"Nao"]
[null,"Nao"]
[null,"Nao"]
[null,"Nao"]
[null,"Nao"]
[null,"Nao"]
[null,"Nao"]
[null,"Nao"]
[null,"Nao"]
[null,"Nao"]
[null,"Nao"]
[null,"Nao"]
[null,"Nao"]
[null,"Nao"]
[null,"Nao"]
[null,"Nao"]
[null,"Nao"]
[null,"Nao"]
[null,"Nao"]
[null,{"$f":"IF(A16791>0,\"Offhire\",\"Nao\")","v":"Nao"}]
[null,"Nao"]
[null,"Nao"]
[null,"Nao"]
[null,"Nao"]
[null,"Nao"]
[null,"Nao"]
[null,"Nao"]
[null,"Nao"]
[null,"Nao"]
[null,"Nao"]
[null,"Nao"]
[null,"Nao"]
[null,"Nao"]
[null,"Nao"]
[null,"Nao"]
[null,"Nao"]
[null,"Nao"]
[null,"Nao"]
[null,"Nao"]
[null,"Nao"]
[null,"Nao"]
[null,"Nao"]
[null,"Nao"]
[null,"Nao"]
[null,"Nao"]
[null,"Nao"]
[null,"Nao"]
[null,"Nao"]
[null,"Nao"]
[null,"Nao"]
[null,"Nao"]
[null,"Nao"]
[null,"Nao"]
[null,"Nao"]
[null,"Nao"]
[null,"Nao"]
[null,"Nao"]
[null,"Nao"]
[null,"Nao"]
[null,"Nao"]
[null,"Nao"]
[null,"Nao"]
[null,"Nao"]
[null,"Nao"]
[null,"Nao"]
[null,"Nao"]
[null,"Nao"]
[null,"Nao"]
[null,"Nao"]
[null,"Nao"]
[null,"Nao"]
[null,"Nao"]
[null,"Nao"]
[null,"Nao"]
[null,"Nao"]
[null,"Nao"]
[null,"Nao"]
[null,"Nao"]
[null,"Nao"]
[null,"Nao"]
[null,"Nao"]
[null,"Nao"]
[null,"Nao"]
[null,{"$f":"IF(A16855>0,\"Offhire\",\"Nao\")","v":"Nao"}]
[null,"Nao"]
[null,"Nao"]
[null,"Nao"]
[null,"Nao"]
[null,"Nao"]
[null,"Nao"]
[null,"Nao"]
[null,"Nao"]
[null,"Nao"]
[null,"Nao"]
[null,"Nao"]
[null,"Nao"]
[null,"Nao"]
[null,"Nao"]
[null,"Nao"]
[null,"Nao"]
[null,"Nao"]
[null,"Nao"]
[null,"Nao"]
[null,"Nao"]
[null,"Nao"]
[null,"Nao"]
[null,"Nao"]
[null,"Nao"]
[null,"Nao"]
[null,"Nao"]
[null,"Nao"]
[null,"Nao"]
[null,"Nao"]
[null,"Nao"]
[null,"Nao"]
[null,"Nao"]
[null,"Nao"]
[null,"Nao"]
[null,"Nao"]
[null,"Nao"]
[null,"Nao"]
[null,"Nao"]
[null,"Nao"]
[null,"Nao"]
[null,"Nao"]
[null,"Nao"]
[null,"Nao"]
[null,"Nao"]
[null,"Nao"]
[null,"Nao"]
[null,"Nao"]
[null,"Nao"]
[null,"Nao"]
[null,"Nao"]
[null,"Nao"]
[null,"Nao"]
[null,"Nao"]
[null,"Nao"]
[null,"Nao"]
[null,"Nao"]
[null,"Nao"]
[null,"Nao"]
[null,"Nao"]
[null,"Nao"]
[null,"Nao"]
[null,"Nao"]
[null,"Nao"]
[null,{"$f":"IF(A16919>0,\"Offhire\",\"Nao\")","v":"Nao"}]
[null,"Nao"]
[null,"Nao"]
[null,"Nao"]
[null,"Nao"]
[null,"Nao"]
[null,"Nao"]
[null,"Nao"]
[null,"Nao"]
[null,"Nao"]
[null,"Nao"]
[null,"Nao"]
[null,"Nao"]
[null,"Nao"]
[null,"Nao"]
[null,"Nao"]
[null,"Nao"]
[null,"Nao"]
[null,"Nao"]
[null,"Nao"]
[null,"Nao"]
[null,"Nao"]
[null,"Nao"]
[null,"Nao"]
[null,"Nao"]
[null,"Nao"]
[null,"Nao"]
[null,"Nao"]
[null,"Nao"]
[null,"Nao"]
[null,"Nao"]
[null,"Nao"]
[null,"Nao"]
[null,"Nao"]
[null,"Nao"]
[null,"Nao"]
[null,"Nao"]
[null,"Nao"]
[null,"Nao"]
[null,"Nao"]
[null,"Nao"]
[null,"Nao"]
[null,"Nao"]
[null,"Nao"]
[null,"Nao"]
[null,"Nao"]
[null,"Nao"]
[null,"Nao"]
[null,"Nao"]
[null,"Nao"]
[null,"Nao"]
[null,"Nao"]
[null,"Nao"]
[null,"Nao"]
[null,"Nao"]
[null,"Nao"]
[null,"Nao"]
[null,"Nao"]
[null,"Nao"]
[null,"Nao"]
[null,"Nao"]
[null,"Nao"]
[null,"Nao"]
[null,"Nao"]
[null,{"$f":"IF(A16983>0,\"Offhire\",\"Nao\")","v":"Nao"}]
[null,"Nao"]
[null,"Nao"]
[null,"Nao"]
[null,"Nao"]
[null,"Nao"]
[null,"Nao"]
[null,"Nao"]
[null,"Nao"]
[null,"Nao"]
[null,"Nao"]
[null,"Nao"]
[null,"Nao"]
[null,"Nao"]
[null,"Nao"]
[null,"Nao"]
[null,"Nao"]
[null,"Nao"]
[null,"Nao"]
[null,"Nao"]
[null,"Nao"]
[null,"Nao"]
[null,"Nao"]
[null,"Nao"]
[null,"Nao"]
[null,"Nao"]
[null,"Nao"]
[null,"Nao"]
[null,"Nao"]
[null,"Nao"]
[null,"Nao"]
[null,"Nao"]
[null,"Nao"]
[null,"Nao"]
[null,"Nao"]
[null,"Nao"]
[null,"Nao"]
[null,"Nao"]
[null,"Nao"]
[null,"Nao"]
[null,"Nao"]
[null,"Nao"]
[null,"Nao"]
[null,"Nao"]
[null,"Nao"]
[null,"Nao"]
[null,"Nao"]
[null,"Nao"]
[null,"Nao"]
[null,"Nao"]
[null,"Nao"]
[null,"Nao"]
[null,"Nao"]
[null,"Nao"]
[null,"Nao"]
[null,"Nao"]
[null,"Nao"]
[null,"Nao"]
[null,"Nao"]
[null,"Nao"]
[null,"Nao"]
[null,"Nao"]
[null,"Nao"]
[null,"Nao"]
[null,{"$f":"IF(A17047>0,\"Offhire\",\"Nao\")","v":"Nao"}]
[null,"Nao"]
[null,"Nao"]
[null,"Nao"]
[null,"Nao"]
[null,"Nao"]
[null,"Nao"]
[null,"Nao"]
[null,"Nao"]
[null,"Nao"]
[null,"Nao"]
[null,"Nao"]
[null,"Nao"]
[null,"Nao"]
[null,"Nao"]
[null,"Nao"]
[null,"Nao"]
[null,"Nao"]
[null,"Nao"]
[null,"Nao"]
[null,"Nao"]
[null,"Nao"]
[null,"Nao"]
[null,"Nao"]
[null,"Nao"]
[null,"Nao"]
[null,"Nao"]
[null,"Nao"]
[null,"Nao"]
[null,"Nao"]
[null,"Nao"]
[null,"Nao"]
[null,"Nao"]
[null,"Nao"]
[null,"Nao"]
[null,"Nao"]
[null,"Nao"]
[null,"Nao"]
[null,"Nao"]
[null,"Nao"]
[null,"Nao"]
[null,"Nao"]
[null,"Nao"]
[null,"Nao"]
[null,"Nao"]
[null,"Nao"]
[null,"Nao"]
[null,"Nao"]
[null,"Nao"]
[null,"Nao"]
[null,"Nao"]
[null,"Nao"]
[null,"Nao"]
[null,"Nao"]
[null,"Nao"]
[null,"Nao"]
[null,"Nao"]
[null,"Nao"]
[null,"Nao"]
[null,"Nao"]
[null,"Nao"]
[null,"Nao"]
[null,"Nao"]
[null,"Nao"]
[null,{"$f":"IF(A17111>0,\"Offhire\",\"Nao\")","v":"Nao"}]
[null,"Nao"]
[null,"Nao"]
[null,"Nao"]
[null,"Nao"]
[null,"Nao"]
[null,"Nao"]
[null,"Nao"]
[null,"Nao"]
[null,"Nao"]
[null,"Nao"]
[null,"Nao"]
[null,"Nao"]
[null,"Nao"]
[null,"Nao"]
[null,"Nao"]
[null,"Nao"]
[null,"Nao"]
[null,"Nao"]
[null,"Nao"]
[null,"Nao"]
[null,"Nao"]
[null,"Nao"]
[null,"Nao"]
[null,"Nao"]
[null,"Nao"]
[null,"Nao"]
[null,"Nao"]
[null,"Nao"]
[null,"Nao"]
[null,"Nao"]
[null,"Nao"]
[null,"Nao"]
[null,"Nao"]
[null,"Nao"]
[null,"Nao"]
[null,"Nao"]
[null,"Nao"]
[null,"Nao"]
[null,"Nao"]
[null,"Nao"]
[null,"Nao"]
[null,"Nao"]
[null,"Nao"]
[null,"Nao"]
[null,"Nao"]
[null,"Nao"]
[null,"Nao"]
[null,"Nao"]
[null,"Nao"]
[null,"Nao"]
[null,"Nao"]
[null,"Nao"]
[null,"Nao"]
[null,"Nao"]
[null,"Nao"]
[null,"Nao"]
[null,"Nao"]
[null,"Nao"]
[null,"Nao"]
[null,"Nao"]
[null,"Nao"]
[null,"Nao"]
[null,"Nao"]
[null,{"$f":"IF(A17175>0,\"Offhire\",\"Nao\")","v":"Nao"}]
[null,"Nao"]
[null,"Nao"]
[null,"Nao"]
[null,"Nao"]
[null,"Nao"]
[null,"Nao"]
[null,"Nao"]
[null,"Nao"]
[null,"Nao"]
[null,"Nao"]
[null,"Nao"]
[null,"Nao"]
[null,"Nao"]
[null,"Nao"]
[null,"Nao"]
[null,"Nao"]
[null,"Nao"]
[null,"Nao"]
[null,"Nao"]
[null,"Nao"]
[null,"Nao"]
[null,"Nao"]
[null,"Nao"]
[null,"Nao"]
[null,"Nao"]
[null,"Nao"]
[null,"Nao"]
[null,"Nao"]
[null,"Nao"]
[null,"Nao"]
[null,"Nao"]
[null,"Nao"]
[null,"Nao"]
[null,"Nao"]
[null,"Nao"]
[null,"Nao"]
[null,"Nao"]
[null,"Nao"]
[null,"Nao"]
[null,"Nao"]
[null,"Nao"]
[null,"Nao"]
[null,"Nao"]
[null,"Nao"]
[null,"Nao"]
[null,"Nao"]
[null,"Nao"]
[null,"Nao"]
[null,"Nao"]
[null,"Nao"]
[null,"Nao"]
[null,"Nao"]
[null,"Nao"]
[null,"Nao"]
[null,"Nao"]
[null,"Nao"]
[null,"Nao"]
[null,"Nao"]
[null,"Nao"]
[null,"Nao"]
[null,"Nao"]
[null,"Nao"]
[null,"Nao"]
[null,{"$f":"IF(A17239>0,\"Offhire\",\"Nao\")","v":"Nao"}]
[null,"Nao"]
[null,"Nao"]
[null,"Nao"]
[null,"Nao"]
[null,"Nao"]
[null,"Nao"]
[null,"Nao"]
[null,"Nao"]
[null,"Nao"]
[null,"Nao"]
[null,"Nao"]
[null,"Nao"]
[null,"Nao"]
[null,"Nao"]
[null,"Nao"]
[null,"Nao"]
[null,"Nao"]
[null,"Nao"]
[null,"Nao"]
[null,"Nao"]
[null,"Nao"]
[null,"Nao"]
[null,"Nao"]
[null,"Nao"]
[null,"Nao"]
[null,"Nao"]
[null,"Nao"]
[null,"Nao"]
[null,"Nao"]
[null,"Nao"]
[null,"Nao"]
[null,"Nao"]
[null,"Nao"]
[null,"Nao"]
[null,"Nao"]
[null,"Nao"]
[null,"Nao"]
[null,"Nao"]
[null,"Nao"]
[null,"Nao"]
[null,"Nao"]
[null,"Nao"]
[null,"Nao"]
[null,"Nao"]
[null,"Nao"]
[null,"Nao"]
[null,"Nao"]
[null,"Nao"]
[null,"Nao"]
[null,"Nao"]
[null,"Nao"]
[null,"Nao"]
[null,"Nao"]
[null,"Nao"]
[null,"Nao"]
[null,"Nao"]
[null,"Nao"]
[null,"Nao"]
[null,"Nao"]
[null,"Nao"]
[null,"Nao"]
[null,"Nao"]
[null,"Nao"]
[null,{"$f":"IF(A17303>0,\"Offhire\",\"Nao\")","v":"Nao"}]
[null,"Nao"]
[null,"Nao"]
[null,"Nao"]
[null,"Nao"]
[null,"Nao"]
[null,"Nao"]
[null,"Nao"]
[null,"Nao"]
[null,"Nao"]
[null,"Nao"]
[null,"Nao"]
[null,"Nao"]
[null,"Nao"]
[null,"Nao"]
[null,"Nao"]
[null,"Nao"]
[null,"Nao"]
[null,"Nao"]
[null,"Nao"]
[null,"Nao"]
[null,"Nao"]
[null,"Nao"]
[null,"Nao"]
[null,"Nao"]
[null,"Nao"]
[null,"Nao"]
[null,"Nao"]
[null,"Nao"]
[null,"Nao"]
[null,"Nao"]
[null,"Nao"]
[null,"Nao"]
[null,"Nao"]
[null,"Nao"]
[null,"Nao"]
[null,"Nao"]
[null,"Nao"]
[null,"Nao"]
[null,"Nao"]
[null,"Nao"]
[null,"Nao"]
[null,"Nao"]
[null,"Nao"]
[null,"Nao"]
[null,"Nao"]
[null,"Nao"]
[null,"Nao"]
[null,"Nao"]
[null,"Nao"]
[null,"Nao"]
[null,"Nao"]
[null,"Nao"]
[null,"Nao"]
[null,"Nao"]
[null,"Nao"]
[null,"Nao"]
[null,"Nao"]
[null,"Nao"]
[null,"Nao"]
[null,"Nao"]
[null,"Nao"]
[null,"Nao"]
[null,"Nao"]
[null,{"$f":"IF(A17367>0,\"Offhire\",\"Nao\")","v":"Nao"}]
[null,"Nao"]
[null,"Nao"]
[null,"Nao"]
[null,"Nao"]
[null,"Nao"]
[null,"Nao"]
[null,"Nao"]
[null,"Nao"]
[null,"Nao"]
[null,"Nao"]
[null,"Nao"]
[null,"Nao"]
[null,"Nao"]
[null,"Nao"]
[null,"Nao"]
[null,"Nao"]
[null,"Nao"]
[null,"Nao"]
[null,"Nao"]
[null,"Nao"]
[null,"Nao"]
[null,"Nao"]
[null,"Nao"]
[null,"Nao"]
[null,"Nao"]
[null,"Nao"]
[null,"Nao"]
[null,"Nao"]
[null,"Nao"]
[null,"Nao"]
[null,"Nao"]
[null,"Nao"]
[null,"Nao"]
[null,"Nao"]
[null,"Nao"]
[null,"Nao"]
[null,"Nao"]
[null,"Nao"]
[null,"Nao"]
[null,"Nao"]
[null,"Nao"]
[null,"Nao"]
[null,"Nao"]
[null,"Nao"]
[null,"Nao"]
[null,"Nao"]
[null,"Nao"]
[null,"Nao"]
[null,"Nao"]
[null,"Nao"]
[null,"Nao"]
[null,"Nao"]
[null,"Nao"]
[null,"Nao"]
[null,"Nao"]
[null,"Nao"]
[null,"Nao"]
[null,"Nao"]
[null,"Nao"]
[null,"Nao"]
[null,"Nao"]
[null,"Nao"]
[null,"Nao"]
[null,{"$f":"IF(A17431>0,\"Offhire\",\"Nao\")","v":"Nao"}]
[null,"Nao"]
[null,"Nao"]
[null,"Nao"]
[null,"Nao"]
[null,"Nao"]
[null,"Nao"]
[null,"Nao"]
[null,"Nao"]
[null,"Nao"]
[null,"Nao"]
[null,"Nao"]
[null,"Nao"]
[null,"Nao"]
[null,"Nao"]
[null,"Nao"]
[null,"Nao"]
[null,"Nao"]
[null,"Nao"]
[null,"Nao"]
[null,"Nao"]
[null,"Nao"]
[null,"Nao"]
[null,"Nao"]
[null,"Nao"]
[null,"Nao"]
[null,"Nao"]
[null,"Nao"]
[null,"Nao"]
[null,"Nao"]
[null,"Nao"]
[null,"Nao"]
[null,"Nao"]
[null,"Nao"]
[null,"Nao"]
[null,"Nao"]
[null,"Nao"]
[null,"Nao"]
[null,"Nao"]
[null,"Nao"]
[null,"Nao"]
[null,"Nao"]
[null,"Nao"]
[null,"Nao"]
[null,"Nao"]
[null,"Nao"]
[null,"Nao"]
[null,"Nao"]
[null,"Nao"]
[null,"Nao"]
[null,"Nao"]
[null,"Nao"]
[null,"Nao"]
[null,"Nao"]
[null,"Nao"]
[null,"Nao"]
[null,"Nao"]
[null,"Nao"]
[null,"Nao"]
[null,"Nao"]
[null,"Nao"]
[null,"Nao"]
[null,"Nao"]
[null,"Nao"]
[null,{"$f":"IF(A17495>0,\"Offhire\",\"Nao\")","v":"Nao"}]
[null,"Nao"]
[null,"Nao"]
[null,"Nao"]
[null,"Nao"]
[null,"Nao"]
[null,"Nao"]
[null,"Nao"]
[null,"Nao"]
[null,"Nao"]
[null,"Nao"]
[null,"Nao"]
[null,"Nao"]
[null,"Nao"]
[null,"Nao"]
[null,"Nao"]
[null,"Nao"]
[null,"Nao"]
[null,"Nao"]
[null,"Nao"]
[null,"Nao"]
[null,"Nao"]
[null,"Nao"]
[null,"Nao"]
[null,"Nao"]
[null,"Nao"]
[null,"Nao"]
[null,"Nao"]
[null,"Nao"]
[null,"Nao"]
[null,"Nao"]
[null,"Nao"]
[null,"Nao"]
[null,"Nao"]
[null,"Nao"]
[null,"Nao"]
[null,"Nao"]
[null,"Nao"]
[null,"Nao"]
[null,"Nao"]
[null,"Nao"]
[null,"Nao"]
[null,"Nao"]
[null,"Nao"]
[null,"Nao"]
[null,"Nao"]
[null,"Nao"]
[null,"Nao"]
[null,"Nao"]
[null,"Nao"]
[null,"Nao"]
[null,"Nao"]
[null,"Nao"]
[null,"Nao"]
[null,"Nao"]
[null,"Nao"]
[null,"Nao"]
[null,"Nao"]
[null,"Nao"]
[null,"Nao"]
[null,"Nao"]
[null,"Nao"]
[null,"Nao"]
[null,"Nao"]
[null,{"$f":"IF(A17559>0,\"Offhire\",\"Nao\")","v":"Nao"}]
[null,"Nao"]
[null,"Nao"]
[null,"Nao"]
[null,"Nao"]
[null,"Nao"]
[null,"Nao"]
[null,"Nao"]
[null,"Nao"]
[null,"Nao"]
[null,"Nao"]
[null,"Nao"]
[null,"Nao"]
[null,"Nao"]
[null,"Nao"]
[null,"Nao"]
[null,"Nao"]
[null,"Nao"]
[null,"Nao"]
[null,"Nao"]
[null,"Nao"]
[null,"Nao"]
[null,"Nao"]
[null,"Nao"]
[null,"Nao"]
[null,"Nao"]
[null,"Nao"]
[null,"Nao"]
[null,"Nao"]
[null,"Nao"]
[null,"Nao"]
[null,"Nao"]
[null,"Nao"]
[null,"Nao"]
[null,"Nao"]
[null,"Nao"]
[null,"Nao"]
[null,"Nao"]
[null,"Nao"]
[null,"Nao"]
[null,"Nao"]
[null,"Nao"]
[null,"Nao"]
[null,"Nao"]
[null,"Nao"]
[null,"Nao"]
[null,"Nao"]
[null,"Nao"]
[null,"Nao"]
[null,"Nao"]
[null,"Nao"]
[null,"Nao"]
[null,"Nao"]
[null,"Nao"]
[null,"Nao"]
[null,"Nao"]
[null,"Nao"]
[null,"Nao"]
[null,"Nao"]
[null,"Nao"]
[null,"Nao"]
[null,"Nao"]
[null,"Nao"]
[null,"Nao"]
[null,{"$f":"IF(A17623>0,\"Offhire\",\"Nao\")","v":"Nao"}]
[null,"Nao"]
[null,"Nao"]
[null,"Nao"]
[null,"Nao"]
[null,"Nao"]
[null,"Nao"]
[null,"Nao"]
[null,"Nao"]
[null,"Nao"]
[null,"Nao"]
[null,"Nao"]
[null,"Nao"]
[null,"Nao"]
[null,"Nao"]
[null,"Nao"]
[null,"Nao"]
[null,"Nao"]
[null,"Nao"]
[null,"Nao"]
[null,"Nao"]
[null,"Nao"]
[null,"Nao"]
[null,"Nao"]
[null,"Nao"]
[null,"Nao"]
[null,"Nao"]
[null,"Nao"]
[null,"Nao"]
[null,"Nao"]
[null,"Nao"]
[null,"Nao"]
[null,"Nao"]
[null,"Nao"]
[null,"Nao"]
[null,"Nao"]
[null,"Nao"]
[null,"Nao"]
[null,"Nao"]
[null,"Nao"]
[null,"Nao"]
[null,"Nao"]
[null,"Nao"]
[null,"Nao"]
[null,"Nao"]
[null,"Nao"]
[null,"Nao"]
[null,"Nao"]
[null,"Nao"]
[null,"Nao"]
[null,"Nao"]
[null,"Nao"]
[null,"Nao"]
[null,"Nao"]
[null,"Nao"]
[null,"Nao"]
[null,"Nao"]
[null,"Nao"]
[null,"Nao"]
[null,"Nao"]
[null,"Nao"]
[null,"Nao"]
[null,"Nao"]
[null,"Nao"]
[null,{"$f":"IF(A17687>0,\"Offhire\",\"Nao\")","v":"Nao"}]
[null,"Nao"]
[null,"Nao"]
[null,"Nao"]
[null,"Nao"]
[null,"Nao"]
[null,"Nao"]
[null,"Nao"]
[null,"Nao"]
[null,"Nao"]
[null,"Nao"]
[null,"Nao"]
[null,"Nao"]
[null,"Nao"]
[null,"Nao"]
[null,"Nao"]
[null,"Nao"]
[null,"Nao"]
[null,"Nao"]
[null,"Nao"]
[null,"Nao"]
[null,"Nao"]
[null,"Nao"]
[null,"Nao"]
[null,"Nao"]
[null,"Nao"]
[null,"Nao"]
[null,"Nao"]
[null,"Nao"]
[null,"Nao"]
[null,"Nao"]
[null,"Nao"]
[null,"Nao"]
[null,"Nao"]
[null,"Nao"]
[null,"Nao"]
[null,"Nao"]
[null,"Nao"]
[null,"Nao"]
[null,"Nao"]
[null,"Nao"]
[null,"Nao"]
[null,"Nao"]
[null,"Nao"]
[null,"Nao"]
[null,"Nao"]
[null,"Nao"]
[null,"Nao"]
[null,"Nao"]
[null,"Nao"]
[null,"Nao"]
[null,"Nao"]
[null,"Nao"]
[null,"Nao"]
[null,"Nao"]
[null,"Nao"]
[null,"Nao"]
[null,"Nao"]
[null,"Nao"]
[null,"Nao"]
[null,"Nao"]
[null,"Nao"]
[null,"Nao"]
[null,"Nao"]
[null,{"$f":"IF(A17751>0,\"Offhire\",\"Nao\")","v":"Nao"}]
[null,"Nao"]
[null,"Nao"]
[null,"Nao"]
[null,"Nao"]
[null,"Nao"]
[null,"Nao"]
[null,"Nao"]
[null,"Nao"]
[null,"Nao"]
[null,"Nao"]
[null,"Nao"]
[null,"Nao"]
[null,"Nao"]
[null,"Nao"]
[null,"Nao"]
[null,"Nao"]
[null,"Nao"]
[null,"Nao"]
[null,"Nao"]
[null,"Nao"]
[null,"Nao"]
[null,"Nao"]
[null,"Nao"]
[null,"Nao"]
[null,"Nao"]
[null,"Nao"]
[null,"Nao"]
[null,"Nao"]
[null,"Nao"]
[null,"Nao"]
[null,"Nao"]
[null,"Nao"]
[null,"Nao"]
[null,"Nao"]
[null,"Nao"]
[null,"Nao"]
[null,"Nao"]
[null,"Nao"]
[null,"Nao"]
[null,"Nao"]
[null,"Nao"]
[null,"Nao"]
[null,"Nao"]
[null,"Nao"]
[null,"Nao"]
[null,"Nao"]
[null,"Nao"]
[null,"Nao"]
[null,"Nao"]
[null,"Nao"]
[null,"Nao"]
[null,"Nao"]
[null,"Nao"]
[null,"Nao"]
[null,"Nao"]
[null,"Nao"]
[null,"Nao"]
[null,"Nao"]
[null,"Nao"]
[null,"Nao"]
[null,"Nao"]
[null,"Nao"]
[null,"Nao"]
[null,{"$f":"IF(A17815>0,\"Offhire\",\"Nao\")","v":"Nao"}]
[null,"Nao"]
[null,"Nao"]
[null,"Nao"]
[null,"Nao"]
[null,"Nao"]
[null,"Nao"]
[null,"Nao"]
[null,"Nao"]
[null,"Nao"]
[null,"Nao"]
[null,"Nao"]
[null,"Nao"]
[null,"Nao"]
[null,"Nao"]
[null,"Nao"]
[null,"Nao"]
[null,"Nao"]
[null,"Nao"]
[null,"Nao"]
[null,"Nao"]
[null,"Nao"]
[null,"Nao"]
[null,"Nao"]
[null,"Nao"]
[null,"Nao"]
[null,"Nao"]
[null,"Nao"]
[null,"Nao"]
[null,"Nao"]
[null,"Nao"]
[null,"Nao"]
[null,"Nao"]
[null,"Nao"]
[null,"Nao"]
[null,"Nao"]
[null,"Nao"]
[null,"Nao"]
[null,"Nao"]
[null,"Nao"]
[null,"Nao"]
[null,"Nao"]
[null,"Nao"]
[null,"Nao"]
[null,"Nao"]
[null,"Nao"]
[null,"Nao"]
[null,"Nao"]
[null,"Nao"]
[null,"Nao"]
[null,"Nao"]
[null,"Nao"]
[null,"Nao"]
[null,"Nao"]
[null,"Nao"]
[null,"Nao"]
[null,"Nao"]
[null,"Nao"]
[null,"Nao"]
[null,"Nao"]
[null,"Nao"]
[null,"Nao"]
[null,"Nao"]
[null,"Nao"]
[null,{"$f":"IF(A17879>0,\"Offhire\",\"Nao\")","v":"Nao"}]
[null,"Nao"]
[null,"Nao"]
[null,"Nao"]
[null,"Nao"]
[null,"Nao"]
[null,"Nao"]
[null,"Nao"]
[null,"Nao"]
[null,"Nao"]
[null,"Nao"]
[null,"Nao"]
[null,"Nao"]
[null,"Nao"]
[null,"Nao"]
[null,"Nao"]
[null,"Nao"]
[null,"Nao"]
[null,"Nao"]
[null,"Nao"]
[null,"Nao"]
[null,"Nao"]
[null,"Nao"]
[null,"Nao"]
[null,"Nao"]
[null,"Nao"]
[null,"Nao"]
[null,"Nao"]
[null,"Nao"]
[null,"Nao"]
[null,"Nao"]
[null,"Nao"]
[null,"Nao"]
[null,"Nao"]
[null,"Nao"]
[null,"Nao"]
[null,"Nao"]
[null,"Nao"]
[null,"Nao"]
[null,"Nao"]
[null,"Nao"]
[null,"Nao"]
[null,"Nao"]
[null,"Nao"]
[null,"Nao"]
[null,"Nao"]
[null,"Nao"]
[null,"Nao"]
[null,"Nao"]
[null,"Nao"]
[null,"Nao"]
[null,"Nao"]
[null,"Nao"]
[null,"Nao"]
[null,"Nao"]
[null,"Nao"]
[null,"Nao"]
[null,"Nao"]
[null,"Nao"]
[null,"Nao"]
[null,"Nao"]
[null,"Nao"]
[null,"Nao"]
[null,"Nao"]
[null,{"$f":"IF(A17943>0,\"Offhire\",\"Nao\")","v":"Nao"}]
[null,"Nao"]
[null,"Nao"]
[null,"Nao"]
[null,"Nao"]
[null,"Nao"]
[null,"Nao"]
[null,"Nao"]
[null,"Nao"]
[null,"Nao"]
[null,"Nao"]
[null,"Nao"]
[null,"Nao"]
[null,"Nao"]
[null,"Nao"]
[null,"Nao"]
[null,"Nao"]
[null,"Nao"]
[null,"Nao"]
[null,"Nao"]
[null,"Nao"]
[null,"Nao"]
[null,"Nao"]
[null,"Nao"]
[null,"Nao"]
[null,"Nao"]
[null,"Nao"]
[null,"Nao"]
[null,"Nao"]
[null,"Nao"]
[null,"Nao"]
[null,"Nao"]
[null,"Nao"]
[null,"Nao"]
[null,"Nao"]
[null,"Nao"]
[null,"Nao"]
[null,"Nao"]
[null,"Nao"]
[null,"Nao"]
[null,"Nao"]
[null,"Nao"]
[null,"Nao"]
[null,"Nao"]
[null,"Nao"]
[null,"Nao"]
[null,"Nao"]
[null,"Nao"]
[null,"Nao"]
[null,"Nao"]
[null,"Nao"]
[null,"Nao"]
[null,"Nao"]
[null,"Nao"]
[null,"Nao"]
[null,"Nao"]
[null,"Nao"]
[null,"Nao"]
[null,"Nao"]
[null,"Nao"]
[null,"Nao"]
[null,"Nao"]
[null,"Nao"]
[null,"Nao"]
[null,{"$f":"IF(A18007>0,\"Offhire\",\"Nao\")","v":"Nao"}]
[null,"Nao"]
[null,"Nao"]
[null,"Nao"]
[null,"Nao"]
[null,"Nao"]
[null,"Nao"]
[null,"Nao"]
[null,"Nao"]
[null,"Nao"]
[null,"Nao"]
[null,"Nao"]
[null,"Nao"]
[null,"Nao"]
[null,"Nao"]
[null,"Nao"]
[null,"Nao"]
[null,"Nao"]
[null,"Nao"]
[null,"Nao"]
[null,"Nao"]
[null,"Nao"]
[null,"Nao"]
[null,"Nao"]
[null,"Nao"]
[null,"Nao"]
[null,"Nao"]
[null,"Nao"]
[null,"Nao"]
[null,"Nao"]
[null,"Nao"]
[null,"Nao"]
[null,"Nao"]
[null,"Nao"]
[null,"Nao"]
[null,"Nao"]
[null,"Nao"]
[null,"Nao"]
[null,"Nao"]
[null,"Nao"]
[null,"Nao"]
[null,"Nao"]
[null,"Nao"]
[null,"Nao"]
[null,"Nao"]
[null,"Nao"]
[null,"Nao"]
[null,"Nao"]
[null,"Nao"]
[null,"Nao"]
[null,"Nao"]
[null,"Nao"]
[null,"Nao"]
[null,"Nao"]
[null,"Nao"]
[null,"Nao"]
[null,"Nao"]
[null,"Nao"]
[null,"Nao"]
[null,"Nao"]
[null,"Nao"]
[null,"Nao"]
[null,"Nao"]
[null,"Nao"]
[null,{"$f":"IF(A18071>0,\"Offhire\",\"Nao\")","v":"Nao"}]
[null,"Nao"]
[null,"Nao"]
[null,"Nao"]
[null,"Nao"]
[null,"Nao"]
[null,"Nao"]
[null,"Nao"]
[null,"Nao"]
[null,"Nao"]
[null,"Nao"]
[null,"Nao"]
[null,"Nao"]
[null,"Nao"]
[null,"Nao"]
[null,"Nao"]
[null,"Nao"]
[null,"Nao"]
[null,"Nao"]
[null,"Nao"]
[null,"Nao"]
[null,"Nao"]
[null,"Nao"]
[null,"Nao"]
[null,"Nao"]
[null,"Nao"]
[null,"Nao"]
[null,"Nao"]
[null,"Nao"]
[null,"Nao"]
[null,"Nao"]
[null,"Nao"]
[null,"Nao"]
[null,"Nao"]
[null,"Nao"]
[null,"Nao"]
[null,"Nao"]
[null,"Nao"]
[null,"Nao"]
[null,"Nao"]
[null,"Nao"]
[null,"Nao"]
[null,"Nao"]
[null,"Nao"]
[null,"Nao"]
[null,"Nao"]
[null,"Nao"]
[null,"Nao"]
[null,"Nao"]
[null,"Nao"]
[null,"Nao"]
[null,"Nao"]
[null,"Nao"]
[null,"Nao"]
[null,"Nao"]
[null,"Nao"]
[null,"Nao"]
[null,"Nao"]
[null,"Nao"]
[null,"Nao"]
[null,"Nao"]
[null,"Nao"]
[null,"Nao"]
[null,"Nao"]
[null,{"$f":"IF(A18135>0,\"Offhire\",\"Nao\")","v":"Nao"}]
[null,"Nao"]
[null,"Nao"]
[null,"Nao"]
[null,"Nao"]
[null,"Nao"]
[null,"Nao"]
[null,"Nao"]
[null,"Nao"]
[null,"Nao"]
[null,"Nao"]
[null,"Nao"]
[null,"Nao"]
[null,"Nao"]
[null,"Nao"]
[null,"Nao"]
[null,"Nao"]
[null,"Nao"]
[null,"Nao"]
[null,"Nao"]
[null,"Nao"]
[null,"Nao"]
[null,"Nao"]
[null,"Nao"]
[null,"Nao"]
[null,"Nao"]
[null,"Nao"]
[null,"Nao"]
[null,"Nao"]
[null,"Nao"]
[null,"Nao"]
[null,"Nao"]
[null,"Nao"]
[null,"Nao"]
[null,"Nao"]
[null,"Nao"]
[null,"Nao"]
[null,"Nao"]
[null,"Nao"]
[null,"Nao"]
[null,"Nao"]
[null,"Nao"]
[null,"Nao"]
[null,"Nao"]
[null,"Nao"]
[null,"Nao"]
[null,"Nao"]
[null,"Nao"]
[null,"Nao"]
[null,"Nao"]
[null,"Nao"]
[null,"Nao"]
[null,"Nao"]
[null,"Nao"]
[null,"Nao"]
[null,"Nao"]
[null,"Nao"]
[null,"Nao"]
[null,"Nao"]
[null,"Nao"]
[null,"Nao"]
[null,"Nao"]
[null,"Nao"]
[null,"Nao"]
[null,{"$f":"IF(A18199>0,\"Offhire\",\"Nao\")","v":"Nao"}]
[null,"Nao"]
[null,"Nao"]
[null,"Nao"]
[null,"Nao"]
[null,"Nao"]
[null,"Nao"]
[null,"Nao"]
[null,"Nao"]
[null,"Nao"]
[null,"Nao"]
[null,"Nao"]
[null,"Nao"]
[null,"Nao"]
[null,"Nao"]
[null,"Nao"]
[null,"Nao"]
[null,"Nao"]
[null,"Nao"]
[null,"Nao"]
[null,"Nao"]
[null,"Nao"]
[null,"Nao"]
[null,"Nao"]
[null,"Nao"]
[null,"Nao"]
[null,"Nao"]
[null,"Nao"]
[null,"Nao"]
[null,"Nao"]
[null,"Nao"]
[null,"Nao"]
[null,"Nao"]
[null,"Nao"]
[null,"Nao"]
[null,"Nao"]
[null,"Nao"]
[null,"Nao"]
[null,"Nao"]
[null,"Nao"]
[null,"Nao"]
[null,"Nao"]
[null,"Nao"]
[null,"Nao"]
[null,"Nao"]
[null,"Nao"]
[null,"Nao"]
[null,"Nao"]
[null,"Nao"]
[null,"Nao"]
[null,"Nao"]
[null,"Nao"]
[null,"Nao"]
[null,"Nao"]
[null,"Nao"]
[null,"Nao"]
[null,"Nao"]
[null,"Nao"]
[null,"Nao"]
[null,"Nao"]
[null,"Nao"]
[null,"Nao"]
[null,"Nao"]
[null,"Nao"]
[null,{"$f":"IF(A18263>0,\"Offhire\",\"Nao\")","v":"Nao"}]
[null,"Nao"]
[null,"Nao"]
[null,"Nao"]
[null,"Nao"]
[null,"Nao"]
[null,"Nao"]
[null,"Nao"]
[null,"Nao"]
[null,"Nao"]
[null,"Nao"]
[null,"Nao"]
[null,"Nao"]
[null,"Nao"]
[null,"Nao"]
[null,"Nao"]
[null,"Nao"]
[null,"Nao"]
[null,"Nao"]
[null,"Nao"]
[null,"Nao"]
[null,"Nao"]
[null,"Nao"]
[null,"Nao"]
[null,"Nao"]
[null,"Nao"]
[null,"Nao"]
[null,"Nao"]
[null,"Nao"]
[null,"Nao"]
[null,"Nao"]
[null,"Nao"]
[null,"Nao"]
[null,"Nao"]
[null,"Nao"]
[null,"Nao"]
[null,"Nao"]
[null,"Nao"]
[null,"Nao"]
[null,"Nao"]
[null,"Nao"]
[null,"Nao"]
[null,"Nao"]
[null,"Nao"]
[null,"Nao"]
[null,"Nao"]
[null,"Nao"]
[null,"Nao"]
[null,"Nao"]
[null,"Nao"]
[null,"Nao"]
[null,"Nao"]
[null,"Nao"]
[null,"Nao"]
[null,"Nao"]
[null,"Nao"]
[null,"Nao"]
[null,"Nao"]
[null,"Nao"]
[null,"Nao"]
[null,"Nao"]
[null,"Nao"]
[null,"Nao"]
[null,"Nao"]
[null,{"$f":"IF(A18327>0,\"Offhire\",\"Nao\")","v":"Nao"}]
[null,"Nao"]
[null,"Nao"]
[null,"Nao"]
[null,"Nao"]
[null,"Nao"]
[null,"Nao"]
[null,"Nao"]
[null,"Nao"]
[null,"Nao"]
[null,"Nao"]
[null,"Nao"]
[null,"Nao"]
[null,"Nao"]
[null,"Nao"]
[null,"Nao"]
[null,"Nao"]
[null,"Nao"]
[null,"Nao"]
[null,"Nao"]
[null,"Nao"]
[null,"Nao"]
[null,"Nao"]
[null,"Nao"]
[null,"Nao"]
[null,"Nao"]
[null,"Nao"]
[null,"Nao"]
[null,"Nao"]
[null,"Nao"]
[null,"Nao"]
[null,"Nao"]
[null,"Nao"]
[null,"Nao"]
[null,"Nao"]
[null,"Nao"]
[null,"Nao"]
[null,"Nao"]
[null,"Nao"]
[null,"Nao"]
[null,"Nao"]
[null,"Nao"]
[null,"Nao"]
[null,"Nao"]
[null,"Nao"]
[null,"Nao"]
[null,"Nao"]
[null,"Nao"]
[null,"Nao"]
[null,"Nao"]
[null,"Nao"]
[null,"Nao"]
[null,"Nao"]
[null,"Nao"]
[null,"Nao"]
[null,"Nao"]
[null,"Nao"]
[null,"Nao"]
[null,"Nao"]
[null,"Nao"]
[null,"Nao"]
[null,"Nao"]
[null,"Nao"]
[null,"Nao"]
[null,{"$f":"IF(A18391>0,\"Offhire\",\"Nao\")","v":"Nao"}]
[null,"Nao"]
[null,"Nao"]
[null,"Nao"]
[null,"Nao"]
[null,"Nao"]
[null,"Nao"]
[null,"Nao"]
[null,"Nao"]
[null,"Nao"]
[null,"Nao"]
[null,"Nao"]
[null,"Nao"]
[null,"Nao"]
[null,"Nao"]
[null,"Nao"]
[null,"Nao"]
[null,"Nao"]
[null,"Nao"]
[null,"Nao"]
[null,"Nao"]
[null,"Nao"]
[null,"Nao"]
[null,"Nao"]
[null,"Nao"]
[null,"Nao"]
[null,"Nao"]
[null,"Nao"]
[null,"Nao"]
[null,"Nao"]
[null,"Nao"]
[null,"Nao"]
[null,"Nao"]
[null,"Nao"]
[null,"Nao"]
[null,"Nao"]
[null,"Nao"]
[null,"Nao"]
[null,"Nao"]
[null,"Nao"]
[null,"Nao"]
[null,"Nao"]
[null,"Nao"]
[null,"Nao"]
[null,"Nao"]
[null,"Nao"]
[null,"Nao"]
[null,"Nao"]
[null,"Nao"]
[null,"Nao"]
[null,"Nao"]
[null,"Nao"]
[null,"Nao"]
[null,"Nao"]
[null,"Nao"]
[null,"Nao"]
[null,"Nao"]
[null,"Nao"]
[null,"Nao"]
[null,"Nao"]
[null,"Nao"]
[null,"Nao"]
[null,"Nao"]
[null,"Nao"]
[null,{"$f":"IF(A18455>0,\"Offhire\",\"Nao\")","v":"Nao"}]
[null,"Nao"]
[null,"Nao"]
[null,"Nao"]
[null,"Nao"]
[null,"Nao"]
[null,"Nao"]
[null,"Nao"]
[null,"Nao"]
[null,"Nao"]
[null,"Nao"]
[null,"Nao"]
[null,"Nao"]
[null,"Nao"]
[null,"Nao"]
[null,"Nao"]
[null,"Nao"]
[null,"Nao"]
[null,"Nao"]
[null,"Nao"]
[null,"Nao"]
[null,"Nao"]
[null,"Nao"]
[null,"Nao"]
[null,"Nao"]
[null,"Nao"]
[null,"Nao"]
[null,"Nao"]
[null,"Nao"]
[null,"Nao"]
[null,"Nao"]
[null,"Nao"]
[null,"Nao"]
[null,"Nao"]
[null,"Nao"]
[null,"Nao"]
[null,"Nao"]
[null,"Nao"]
[null,"Nao"]
[null,"Nao"]
[null,"Nao"]
[null,"Nao"]
[null,"Nao"]
[null,"Nao"]
[null,"Nao"]
[null,"Nao"]
[null,"Nao"]
[null,"Nao"]
[null,"Nao"]
[null,"Nao"]
[null,"Nao"]
[null,"Nao"]
[null,"Nao"]
[null,"Nao"]
[null,"Nao"]
[null,"Nao"]
[null,"Nao"]
[null,"Nao"]
[null,"Nao"]
[null,"Nao"]
[null,"Nao"]
[null,"Nao"]
[null,"Nao"]
[null,"Nao"]
[null,{"$f":"IF(A18519>0,\"Offhire\",\"Nao\")","v":"Nao"}]
[null,"Nao"]
[null,"Nao"]
[null,"Nao"]
[null,"Nao"]
[null,"Nao"]
[null,"Nao"]
[null,"Nao"]
[null,"Nao"]
[null,"Nao"]
[null,"Nao"]
[null,"Nao"]
[null,"Nao"]
[null,"Nao"]
[null,"Nao"]
[null,"Nao"]
[null,"Nao"]
[null,"Nao"]
[null,"Nao"]
[null,"Nao"]
[null,"Nao"]
[null,"Nao"]
[null,"Nao"]
[null,"Nao"]
[null,"Nao"]
[null,"Nao"]
[null,"Nao"]
[null,"Nao"]
[null,"Nao"]
[null,"Nao"]
[null,"Nao"]
[null,"Nao"]
[null,"Nao"]
[null,"Nao"]
[null,"Nao"]
[null,"Nao"]
[null,"Nao"]
[null,"Nao"]
[null,"Nao"]
[null,"Nao"]
[null,"Nao"]
[null,"Nao"]
[null,"Nao"]
[null,"Nao"]
[null,"Nao"]
[null,"Nao"]
[null,"Nao"]
[null,"Nao"]
[null,"Nao"]
[null,"Nao"]
[null,"Nao"]
[null,"Nao"]
[null,"Nao"]
[null,"Nao"]
[null,"Nao"]
[null,"Nao"]
[null,"Nao"]
[null,"Nao"]
[null,"Nao"]
[null,"Nao"]
[null,"Nao"]
[null,"Nao"]
[null,"Nao"]
[null,"Nao"]
[null,{"$f":"IF(A18583>0,\"Offhire\",\"Nao\")","v":"Nao"}]
[null,"Nao"]
[null,"Nao"]
[null,"Nao"]
[null,"Nao"]
[null,"Nao"]
[null,"Nao"]
[null,"Nao"]
[null,"Nao"]
[null,"Nao"]
[null,"Nao"]
[null,"Nao"]
[null,"Nao"]
[null,"Nao"]
[null,"Nao"]
[null,"Nao"]
[null,"Nao"]
[null,"Nao"]
[null,"Nao"]
[null,"Nao"]
[null,"Nao"]
[null,"Nao"]
[null,"Nao"]
[null,"Nao"]
[null,"Nao"]
[null,"Nao"]
[null,"Nao"]
[null,"Nao"]
[null,"Nao"]
[null,"Nao"]
[null,"Nao"]
[null,"Nao"]
[null,"Nao"]
[null,"Nao"]
[null,"Nao"]
[null,"Nao"]
[null,"Nao"]
[null,"Nao"]
[null,"Nao"]
[null,"Nao"]
[null,"Nao"]
[null,"Nao"]
[null,"Nao"]
[null,"Nao"]
[null,"Nao"]
[null,"Nao"]
[null,"Nao"]
[null,"Nao"]
[null,"Nao"]
[null,"Nao"]
[null,"Nao"]
[null,"Nao"]
[null,"Nao"]
[null,"Nao"]
[null,"Nao"]
[null,"Nao"]
[null,"Nao"]
[null,"Nao"]
[null,"Nao"]
[null,"Nao"]
[null,"Nao"]
[null,"Nao"]
[null,"Nao"]
[null,"Nao"]
[null,{"$f":"IF(A18647>0,\"Offhire\",\"Nao\")","v":"Nao"}]
[null,"Nao"]
[null,"Nao"]
[null,"Nao"]
[null,"Nao"]
[null,"Nao"]
[null,"Nao"]
[null,"Nao"]
[null,"Nao"]
[null,"Nao"]
[null,"Nao"]
[null,"Nao"]
[null,"Nao"]
[null,"Nao"]
[null,"Nao"]
[null,"Nao"]
[null,"Nao"]
[null,"Nao"]
[null,"Nao"]
[null,"Nao"]
[null,"Nao"]
[null,"Nao"]
[null,"Nao"]
[null,"Nao"]
[null,"Nao"]
[null,"Nao"]
[null,"Nao"]
[null,"Nao"]
[null,"Nao"]
[null,"Nao"]
[null,"Nao"]
[null,"Nao"]
[null,"Nao"]
[null,"Nao"]
[null,"Nao"]
[null,"Nao"]
[null,"Nao"]
[null,"Nao"]
[null,"Nao"]
[null,"Nao"]
[null,"Nao"]
[null,"Nao"]
[null,"Nao"]
[null,"Nao"]
[null,"Nao"]
[null,"Nao"]
[null,"Nao"]
[null,"Nao"]
[null,"Nao"]
[null,"Nao"]
[null,"Nao"]
[null,"Nao"]
[null,"Nao"]
[null,"Nao"]
[null,"Nao"]
[null,"Nao"]
[null,"Nao"]
[null,"Nao"]
[null,"Nao"]
[null,"Nao"]
[null,"Nao"]
[null,"Nao"]
[null,"Nao"]
[null,"Nao"]
[null,{"$f":"IF(A18711>0,\"Offhire\",\"Nao\")","v":"Nao"}]
[null,"Nao"]
[null,"Nao"]
[null,"Nao"]
[null,"Nao"]
[null,"Nao"]
[null,"Nao"]
[null,"Nao"]
[null,"Nao"]
[null,"Nao"]
[null,"Nao"]
[null,"Nao"]
[null,"Nao"]
[null,"Nao"]
[null,"Nao"]
[null,"Nao"]
[null,"Nao"]
[null,"Nao"]
[null,"Nao"]
[null,"Nao"]
[null,"Nao"]
[null,"Nao"]
[null,"Nao"]
[null,"Nao"]
[null,"Nao"]
[null,"Nao"]
[null,"Nao"]
[null,"Nao"]
[null,"Nao"]
[null,"Nao"]
[null,"Nao"]
[null,"Nao"]
[null,"Nao"]
[null,"Nao"]
[null,"Nao"]
[null,"Nao"]
[null,"Nao"]
[null,"Nao"]
[null,"Nao"]
[null,"Nao"]
[null,"Nao"]
[null,"Nao"]
[null,"Nao"]
[null,"Nao"]
[null,"Nao"]
[null,"Nao"]
[null,"Nao"]
[null,"Nao"]
[null,"Nao"]
[null,"Nao"]
[null,"Nao"]
[null,"Nao"]
[null,"Nao"]
[null,"Nao"]
[null,"Nao"]
[null,"Nao"]
[null,"Nao"]
[null,"Nao"]
[null,"Nao"]
[null,"Nao"]
[null,"Nao"]
[null,"Nao"]
[null,"Nao"]
[null,"Nao"]
[null,{"$f":"IF(A18775>0,\"Offhire\",\"Nao\")","v":"Nao"}]
[null,"Nao"]
[null,"Nao"]
[null,"Nao"]
[null,"Nao"]
[null,"Nao"]
[null,"Nao"]
[null,"Nao"]
[null,"Nao"]
[null,"Nao"]
[null,"Nao"]
[null,"Nao"]
[null,"Nao"]
[null,"Nao"]
[null,"Nao"]
[null,"Nao"]
[null,"Nao"]
[null,"Nao"]
[null,"Nao"]
[null,"Nao"]
[null,"Nao"]
[null,"Nao"]
[null,"Nao"]
[null,"Nao"]
[null,"Nao"]
[null,"Nao"]
[null,"Nao"]
[null,"Nao"]
[null,"Nao"]
[null,"Nao"]
[null,"Nao"]
[null,"Nao"]
[null,"Nao"]
[null,"Nao"]
[null,"Nao"]
[null,"Nao"]
[null,"Nao"]
[null,"Nao"]
[null,"Nao"]
[null,"Nao"]
[null,"Nao"]
[null,"Nao"]
[null,"Nao"]
[null,"Nao"]
[null,"Nao"]
[null,"Nao"]
[null,"Nao"]
[null,"Nao"]
[null,"Nao"]
[null,"Nao"]
[null,"Nao"]
[null,"Nao"]
[null,"Nao"]
[null,"Nao"]
[null,"Nao"]
[null,"Nao"]
[null,"Nao"]
[null,"Nao"]
[null,"Nao"]
[null,"Nao"]
[null,"Nao"]
[null,"Nao"]
[null,"Nao"]
[null,"Nao"]
[null,{"$f":"IF(A18839>0,\"Offhire\",\"Nao\")","v":"Nao"}]
[null,"Nao"]
[null,"Nao"]
[null,"Nao"]
[null,"Nao"]
[null,"Nao"]
[null,"Nao"]
[null,"Nao"]
[null,"Nao"]
[null,"Nao"]
[null,"Nao"]
[null,"Nao"]
[null,"Nao"]
[null,"Nao"]
[null,"Nao"]
[null,"Nao"]
[null,"Nao"]
[null,"Nao"]
[null,"Nao"]
[null,"Nao"]
[null,"Nao"]
[null,"Nao"]
[null,"Nao"]
[null,"Nao"]
[null,"Nao"]
[null,"Nao"]
[null,"Nao"]
[null,"Nao"]
[null,"Nao"]
[null,"Nao"]
[null,"Nao"]
[null,"Nao"]
[null,"Nao"]
[null,"Nao"]
[null,"Nao"]
[null,"Nao"]
[null,"Nao"]
[null,"Nao"]
[null,"Nao"]
[null,"Nao"]
[null,"Nao"]
[null,"Nao"]
[null,"Nao"]
[null,"Nao"]
[null,"Nao"]
[null,"Nao"]
[null,"Nao"]
[null,"Nao"]
[null,"Nao"]
[null,"Nao"]
[null,"Nao"]
[null,"Nao"]
[null,"Nao"]
[null,"Nao"]
[null,"Nao"]
[null,"Nao"]
[null,"Nao"]
[null,"Nao"]
[null,"Nao"]
[null,"Nao"]
[null,"Nao"]
[null,"Nao"]
[null,"Nao"]
[null,"Nao"]
[null,{"$f":"IF(A18903>0,\"Offhire\",\"Nao\")","v":"Nao"}]
[null,"Nao"]
[null,"Nao"]
[null,"Nao"]
[null,"Nao"]
[null,"Nao"]
[null,"Nao"]
[null,"Nao"]
[null,"Nao"]
[null,"Nao"]
[null,"Nao"]
[null,"Nao"]
[null,"Nao"]
[null,"Nao"]
[null,"Nao"]
[null,"Nao"]
[null,"Nao"]
[null,"Nao"]
[null,"Nao"]
[null,"Nao"]
[null,"Nao"]
[null,"Nao"]
[null,"Nao"]
[null,"Nao"]
[null,"Nao"]
[null,"Nao"]
[null,"Nao"]
[null,"Nao"]
[null,"Nao"]
[null,"Nao"]
[null,"Nao"]
[null,"Nao"]
[null,"Nao"]
[null,"Nao"]
[null,"Nao"]
[null,"Nao"]
[null,"Nao"]
[null,"Nao"]
[null,"Nao"]
[null,"Nao"]
[null,"Nao"]
[null,"Nao"]
[null,"Nao"]
[null,"Nao"]
[null,"Nao"]
[null,"Nao"]
[null,"Nao"]
[null,"Nao"]
[null,"Nao"]
[null,"Nao"]
[null,"Nao"]
[null,"Nao"]
[null,"Nao"]
[null,"Nao"]
[null,"Nao"]
[null,"Nao"]
[null,"Nao"]
[null,"Nao"]
[null,"Nao"]
[null,"Nao"]
[null,"Nao"]
[null,"Nao"]
[null,"Nao"]
[null,"Nao"]
[null,{"$f":"IF(A18967>0,\"Offhire\",\"Nao\")","v":"Nao"}]
[null,"Nao"]
[null,"Nao"]
[null,"Nao"]
[null,"Nao"]
[null,"Nao"]
[null,"Nao"]
[null,"Nao"]
[null,"Nao"]
[null,"Nao"]
[null,"Nao"]
[null,"Nao"]
[null,"Nao"]
[null,"Nao"]
[null,"Nao"]
[null,"Nao"]
[null,"Nao"]
[null,"Nao"]
[null,"Nao"]
[null,"Nao"]
[null,"Nao"]
[null,"Nao"]
[null,"Nao"]
[null,"Nao"]
[null,"Nao"]
[null,"Nao"]
[null,"Nao"]
[null,"Nao"]
[null,"Nao"]
[null,"Nao"]
[null,"Nao"]
[null,"Nao"]
[null,"Nao"]
[null,"Nao"]
[null,"Nao"]
[null,"Nao"]
[null,"Nao"]
[null,"Nao"]
[null,"Nao"]
[null,"Nao"]
[null,"Nao"]
[null,"Nao"]
[null,"Nao"]
[null,"Nao"]
[null,"Nao"]
[null,"Nao"]
[null,"Nao"]
[null,"Nao"]
[null,"Nao"]
[null,"Nao"]
[null,"Nao"]
[null,"Nao"]
[null,"Nao"]
[null,"Nao"]
[null,"Nao"]
[null,"Nao"]
[null,"Nao"]
[null,"Nao"]
[null,"Nao"]
[null,"Nao"]
[null,"Nao"]
[null,"Nao"]
[null,"Nao"]
[null,"Nao"]
[null,{"$f":"IF(A19031>0,\"Offhire\",\"Nao\")","v":"Nao"}]
[null,"Nao"]
[null,"Nao"]
[null,"Nao"]
[null,"Nao"]
[null,"Nao"]
[null,"Nao"]
[null,"Nao"]
[null,"Nao"]
[null,"Nao"]
[null,"Nao"]
[null,"Nao"]
[null,"Nao"]
[null,"Nao"]
[null,"Nao"]
[null,"Nao"]
[null,"Nao"]
[null,"Nao"]
[null,"Nao"]
[null,"Nao"]
[null,"Nao"]
[null,"Nao"]
[null,"Nao"]
[null,"Nao"]
[null,"Nao"]
[null,"Nao"]
[null,"Nao"]
[null,"Nao"]
[null,"Nao"]
[null,"Nao"]
[null,"Nao"]
[null,"Nao"]
[null,"Nao"]
[null,"Nao"]
[null,"Nao"]
[null,"Nao"]
[null,"Nao"]
[null,"Nao"]
[null,"Nao"]
[null,"Nao"]
[null,"Nao"]
[null,"Nao"]
[null,"Nao"]
[null,"Nao"]
[null,"Nao"]
[null,"Nao"]
[null,"Nao"]
[null,"Nao"]
[null,"Nao"]
[null,"Nao"]
[null,"Nao"]
[null,"Nao"]
[null,"Nao"]
[null,"Nao"]
[null,"Nao"]
[null,"Nao"]
[null,"Nao"]
[null,"Nao"]
[null,"Nao"]
[null,"Nao"]
[null,"Nao"]
[null,"Nao"]
[null,"Nao"]
[null,"Nao"]
[null,{"$f":"IF(A19095>0,\"Offhire\",\"Nao\")","v":"Nao"}]
[null,"Nao"]
[null,"Nao"]
[null,"Nao"]
[null,"Nao"]
[null,"Nao"]
[null,"Nao"]
[null,"Nao"]
[null,"Nao"]
[null,"Nao"]
[null,"Nao"]
[null,"Nao"]
[null,"Nao"]
[null,"Nao"]
[null,"Nao"]
[null,"Nao"]
[null,"Nao"]
[null,"Nao"]
[null,"Nao"]
[null,"Nao"]
[null,"Nao"]
[null,"Nao"]
[null,"Nao"]
[null,"Nao"]
[null,"Nao"]
[null,"Nao"]
[null,"Nao"]
[null,"Nao"]
[null,"Nao"]
[null,"Nao"]
[null,"Nao"]
[null,"Nao"]
[null,"Nao"]
[null,"Nao"]
[null,"Nao"]
[null,"Nao"]
[null,"Nao"]
[null,"Nao"]
[null,"Nao"]
[null,"Nao"]
[null,"Nao"]
[null,"Nao"]
[null,"Nao"]
[null,"Nao"]
[null,"Nao"]
[null,"Nao"]
[null,"Nao"]
[null,"Nao"]
[null,"Nao"]
[null,"Nao"]
[null,"Nao"]
[null,"Nao"]
[null,"Nao"]
[null,"Nao"]
[null,"Nao"]
[null,"Nao"]
[null,"Nao"]
[null,"Nao"]
[null,"Nao"]
[null,"Nao"]
[null,"Nao"]
[null,"Nao"]
[null,"Nao"]
[null,"Nao"]
[null,{"$f":"IF(A19159>0,\"Offhire\",\"Nao\")","v":"Nao"}]
[null,"Nao"]
[null,"Nao"]
[null,"Nao"]
[null,"Nao"]
[null,"Nao"]
[null,"Nao"]
[null,"Nao"]
[null,"Nao"]
[null,"Nao"]
[null,"Nao"]
[null,"Nao"]
[null,"Nao"]
[null,"Nao"]
[null,"Nao"]
[null,"Nao"]
[null,"Nao"]
[null,"Nao"]
[null,"Nao"]
[null,"Nao"]
[null,"Nao"]
[null,"Nao"]
[null,"Nao"]
[null,"Nao"]
[null,"Nao"]
[null,"Nao"]
[null,"Nao"]
[null,"Nao"]
[null,"Nao"]
[null,"Nao"]
[null,"Nao"]
[null,"Nao"]
[null,"Nao"]
[null,"Nao"]
[null,"Nao"]
[null,"Nao"]
[null,"Nao"]
[null,"Nao"]
[null,"Nao"]
[null,"Nao"]
[null,"Nao"]
[null,"Nao"]
[null,"Nao"]
[null,"Nao"]
[null,"Nao"]
[null,"Nao"]
[null,"Nao"]
[null,"Nao"]
[null,"Nao"]
[null,"Nao"]
[null,"Nao"]
[null,"Nao"]
[null,"Nao"]
[null,"Nao"]
[null,"Nao"]
[null,"Nao"]
[null,"Nao"]
[null,"Nao"]
[null,"Nao"]
[null,"Nao"]
[null,"Nao"]
[null,"Nao"]
[null,"Nao"]
[null,"Nao"]
[null,{"$f":"IF(A19223>0,\"Offhire\",\"Nao\")","v":"Nao"}]
[null,"Nao"]
[null,"Nao"]
[null,"Nao"]
[null,"Nao"]
[null,"Nao"]
[null,"Nao"]
[null,"Nao"]
[null,"Nao"]
[null,"Nao"]
[null,"Nao"]
[null,"Nao"]
[null,"Nao"]
[null,"Nao"]
[null,"Nao"]
[null,"Nao"]
[null,"Nao"]
[null,"Nao"]
[null,"Nao"]
[null,"Nao"]
[null,"Nao"]
[null,"Nao"]
[null,"Nao"]
[null,"Nao"]
[null,"Nao"]
[null,"Nao"]
[null,"Nao"]
[null,"Nao"]
[null,"Nao"]
[null,"Nao"]
[null,"Nao"]
[null,"Nao"]
[null,"Nao"]
[null,"Nao"]
[null,"Nao"]
[null,"Nao"]
[null,"Nao"]
[null,"Nao"]
[null,"Nao"]
[null,"Nao"]
[null,"Nao"]
[null,"Nao"]
[null,"Nao"]
[null,"Nao"]
[null,"Nao"]
[null,"Nao"]
[null,"Nao"]
[null,"Nao"]
[null,"Nao"]
[null,"Nao"]
[null,"Nao"]
[null,"Nao"]
[null,"Nao"]
[null,"Nao"]
[null,"Nao"]
[null,"Nao"]
[null,"Nao"]
[null,"Nao"]
[null,"Nao"]
[null,"Nao"]
[null,"Nao"]
[null,"Nao"]
[null,"Nao"]
[null,"Nao"]
[null,{"$f":"IF(A19287>0,\"Offhire\",\"Nao\")","v":"Nao"}]
[null,"Nao"]
[null,"Nao"]
[null,"Nao"]
[null,"Nao"]
[null,"Nao"]
[null,"Nao"]
[null,"Nao"]
[null,"Nao"]
[null,"Nao"]
[null,"Nao"]
[null,"Nao"]
[null,"Nao"]
[null,"Nao"]
[null,"Nao"]
[null,"Nao"]
[null,"Nao"]
[null,"Nao"]
[null,"Nao"]
[null,"Nao"]
[null,"Nao"]
[null,"Nao"]
[null,"Nao"]
[null,"Nao"]
[null,"Nao"]
[null,"Nao"]
[null,"Nao"]
[null,"Nao"]
[null,"Nao"]
[null,"Nao"]
[null,"Nao"]
[null,"Nao"]
[null,"Nao"]
[null,"Nao"]
[null,"Nao"]
[null,"Nao"]
[null,"Nao"]
[null,"Nao"]
[null,"Nao"]
[null,"Nao"]
[null,"Nao"]
[null,"Nao"]
[null,"Nao"]
[null,"Nao"]
[null,"Nao"]
[null,"Nao"]
[null,"Nao"]
[null,"Nao"]
[null,"Nao"]
[null,"Nao"]
[null,"Nao"]
[null,"Nao"]
[null,"Nao"]
[null,"Nao"]
[null,"Nao"]
[null,"Nao"]
[null,"Nao"]
[null,"Nao"]
[null,"Nao"]
[null,"Nao"]
[null,"Nao"]
[null,"Nao"]
[null,"Nao"]
[null,"Nao"]
[null,{"$f":"IF(A19351>0,\"Offhire\",\"Nao\")","v":"Nao"}]
[null,"Nao"]
[null,"Nao"]
[null,"Nao"]
[null,"Nao"]
[null,"Nao"]
[null,"Nao"]
[null,"Nao"]
[null,"Nao"]
[null,"Nao"]
[null,"Nao"]
[null,"Nao"]
[null,"Nao"]
[null,"Nao"]
[null,"Nao"]
[null,"Nao"]
[null,"Nao"]
[null,"Nao"]
[null,"Nao"]
[null,"Nao"]
[null,"Nao"]
[null,"Nao"]
[null,"Nao"]
[null,"Nao"]
[null,"Nao"]
[null,"Nao"]
[null,"Nao"]
[null,"Nao"]
[null,"Nao"]
[null,"Nao"]
[null,"Nao"]
[null,"Nao"]
[null,"Nao"]
[null,"Nao"]
[null,"Nao"]
[null,"Nao"]
[null,"Nao"]
[null,"Nao"]
[null,"Nao"]
[null,"Nao"]
[null,"Nao"]
[null,"Nao"]
[null,"Nao"]
[null,"Nao"]
[null,"Nao"]
[null,"Nao"]
[null,"Nao"]
[null,"Nao"]
[null,"Nao"]
[null,"Nao"]
[null,"Nao"]
[null,"Nao"]
[null,"Nao"]
[null,"Nao"]
[null,"Nao"]
[null,"Nao"]
[null,"Nao"]
[null,"Nao"]
[null,"Nao"]
[null,"Nao"]
[null,"Nao"]
[null,"Nao"]
[null,"Nao"]
[null,"Nao"]
[null,{"$f":"IF(A19415>0,\"Offhire\",\"Nao\")","v":"Nao"}]
[null,"Nao"]
[null,"Nao"]
[null,"Nao"]
[null,"Nao"]
[null,"Nao"]
[null,"Nao"]
[null,"Nao"]
[null,"Nao"]
[null,"Nao"]
[null,"Nao"]
[null,"Nao"]
[null,"Nao"]
[null,"Nao"]
[null,"Nao"]
[null,"Nao"]
[null,"Nao"]
[null,"Nao"]
[null,"Nao"]
[null,"Nao"]
[null,"Nao"]
[null,"Nao"]
[null,"Nao"]
[null,"Nao"]
[null,"Nao"]
[null,"Nao"]
[null,"Nao"]
[null,"Nao"]
[null,"Nao"]
[null,"Nao"]
[null,"Nao"]
[null,"Nao"]
[null,"Nao"]
[null,"Nao"]
[null,"Nao"]
[null,"Nao"]
[null,"Nao"]
[null,"Nao"]
[null,"Nao"]
[null,"Nao"]
[null,"Nao"]
[null,"Nao"]
[null,"Nao"]
[null,"Nao"]
[null,"Nao"]
[null,"Nao"]
[null,"Nao"]
[null,"Nao"]
[null,"Nao"]
[null,"Nao"]
[null,"Nao"]
[null,"Nao"]
[null,"Nao"]
[null,"Nao"]
[null,"Nao"]
[null,"Nao"]
[null,"Nao"]
[null,"Nao"]
[null,"Nao"]
[null,"Nao"]
[null,"Nao"]
[null,"Nao"]
[null,"Nao"]
[null,"Nao"]
[null,{"$f":"IF(A19479>0,\"Offhire\",\"Nao\")","v":"Nao"}]
[null,"Nao"]
[null,"Nao"]
[null,"Nao"]
[null,"Nao"]
[null,"Nao"]
[null,"Nao"]
[null,"Nao"]
[null,"Nao"]
[null,"Nao"]
[null,"Nao"]
[null,"Nao"]
[null,"Nao"]
[null,"Nao"]
[null,"Nao"]
[null,"Nao"]
[null,"Nao"]
[null,"Nao"]
[null,"Nao"]
[null,"Nao"]
[null,"Nao"]
[null,"Nao"]
[null,"Nao"]
[null,"Nao"]
[null,"Nao"]
[null,"Nao"]
[null,"Nao"]
[null,"Nao"]
[null,"Nao"]
[null,"Nao"]
[null,"Nao"]
[null,"Nao"]
[null,"Nao"]
[null,"Nao"]
[null,"Nao"]
[null,"Nao"]
[null,"Nao"]
[null,"Nao"]
[null,"Nao"]
[null,"Nao"]
[null,"Nao"]
[null,"Nao"]
[null,"Nao"]
[null,"Nao"]
[null,"Nao"]
[null,"Nao"]
[null,"Nao"]
[null,"Nao"]
[null,"Nao"]
[null,"Nao"]
[null,"Nao"]
[null,"Nao"]
[null,"Nao"]
[null,"Nao"]
[null,"Nao"]
[null,"Nao"]
[null,"Nao"]
[null,"Nao"]
[null,"Nao"]
[null,"Nao"]
[null,"Nao"]
[null,"Nao"]
[null,"Nao"]
[null,"Nao"]
[null,{"$f":"IF(A19543>0,\"Offhire\",\"Nao\")","v":"Nao"}]
[null,"Nao"]
[null,"Nao"]
[null,"Nao"]
[null,"Nao"]
[null,"Nao"]
[null,"Nao"]
[null,"Nao"]
[null,"Nao"]
[null,"Nao"]
[null,"Nao"]
[null,"Nao"]
[null,"Nao"]
[null,"Nao"]
[null,"Nao"]
[null,"Nao"]
[null,"Nao"]
[null,"Nao"]
[null,"Nao"]
[null,"Nao"]
[null,"Nao"]
[null,"Nao"]
[null,"Nao"]
[null,"Nao"]
[null,"Nao"]
[null,"Nao"]
[null,"Nao"]
[null,"Nao"]
[null,"Nao"]
[null,"Nao"]
[null,"Nao"]
[null,"Nao"]
[null,"Nao"]
[null,"Nao"]
[null,"Nao"]
[null,"Nao"]
[null,"Nao"]
[null,"Nao"]
[null,"Nao"]
[null,"Nao"]
[null,"Nao"]
[null,"Nao"]
[null,"Nao"]
[null,"Nao"]
[null,"Nao"]
[null,"Nao"]
[null,"Nao"]
[null,"Nao"]
[null,"Nao"]
[null,"Nao"]
[null,"Nao"]
[null,"Nao"]
[null,"Nao"]
[null,"Nao"]
[null,"Nao"]
[null,"Nao"]
[null,"Nao"]
[null,"Nao"]
[null,"Nao"]
[null,"Nao"]
[null,"Nao"]
[null,"Nao"]
[null,"Nao"]
[null,"Nao"]
[null,{"$f":"IF(A19607>0,\"Offhire\",\"Nao\")","v":"Nao"}]
[null,"Nao"]
[null,"Nao"]
[null,"Nao"]
[null,"Nao"]
[null,"Nao"]
[null,"Nao"]
[null,"Nao"]
[null,"Nao"]
[null,"Nao"]
[null,"Nao"]
[null,"Nao"]
[null,"Nao"]
[null,"Nao"]
[null,"Nao"]
[null,"Nao"]
[null,"Nao"]
[null,"Nao"]
[null,"Nao"]
[null,"Nao"]
[null,"Nao"]
[null,"Nao"]
[null,"Nao"]
[null,"Nao"]
[null,"Nao"]
[null,"Nao"]
[null,"Nao"]
[null,"Nao"]
[null,"Nao"]
[null,"Nao"]
[null,"Nao"]
[null,"Nao"]
[null,"Nao"]
[null,"Nao"]
[null,"Nao"]
[null,"Nao"]
[null,"Nao"]
[null,"Nao"]
[null,"Nao"]
[null,"Nao"]
[null,"Nao"]
[null,"Nao"]
[null,"Nao"]
[null,"Nao"]
[null,"Nao"]
[null,"Nao"]
[null,"Nao"]
[null,"Nao"]
[null,"Nao"]
[null,"Nao"]
[null,"Nao"]
[null,"Nao"]
[null,"Nao"]
[null,"Nao"]
[null,"Nao"]
[null,"Nao"]
[null,"Nao"]
[null,"Nao"]
[null,"Nao"]
[null,"Nao"]
[null,"Nao"]
[null,"Nao"]
[null,"Nao"]
[null,"Nao"]
[null,{"$f":"IF(A19671>0,\"Offhire\",\"Nao\")","v":"Nao"}]
[null,"Nao"]
[null,"Nao"]
[null,"Nao"]
[null,"Nao"]
[null,"Nao"]
[null,"Nao"]
[null,"Nao"]
[null,"Nao"]
[null,"Nao"]
[null,"Nao"]
[null,"Nao"]
[null,"Nao"]
[null,"Nao"]
[null,"Nao"]
[null,"Nao"]
[null,"Nao"]
[null,"Nao"]
[null,"Nao"]
[null,"Nao"]
[null,"Nao"]
[null,"Nao"]
[null,"Nao"]
[null,"Nao"]
[null,"Nao"]
[null,"Nao"]
[null,"Nao"]
[null,"Nao"]
[null,"Nao"]
[null,"Nao"]
[null,"Nao"]
[null,"Nao"]
[null,"Nao"]
[null,"Nao"]
[null,"Nao"]
[null,"Nao"]
[null,"Nao"]
[null,"Nao"]
[null,"Nao"]
[null,"Nao"]
[null,"Nao"]
[null,"Nao"]
[null,"Nao"]
[null,"Nao"]
[null,"Nao"]
[null,"Nao"]
[null,"Nao"]
[null,"Nao"]
[null,"Nao"]
[null,"Nao"]
[null,"Nao"]
[null,"Nao"]
[null,"Nao"]
[null,"Nao"]
[null,"Nao"]
[null,"Nao"]
[null,"Nao"]
[null,"Nao"]
[null,"Nao"]
[null,"Nao"]
[null,"Nao"]
[null,"Nao"]
[null,"Nao"]
[null,"Nao"]
[null,{"$f":"IF(A19735>0,\"Offhire\",\"Nao\")","v":"Nao"}]
[null,"Nao"]
[null,"Nao"]
[null,"Nao"]
[null,"Nao"]
[null,"Nao"]
[null,"Nao"]
[null,"Nao"]
[null,"Nao"]
[null,"Nao"]
[null,"Nao"]
[null,"Nao"]
[null,"Nao"]
[null,"Nao"]
[null,"Nao"]
[null,"Nao"]
[null,"Nao"]
[null,"Nao"]
[null,"Nao"]
[null,"Nao"]
[null,"Nao"]
[null,"Nao"]
[null,"Nao"]
[null,"Nao"]
[null,"Nao"]
[null,"Nao"]
[null,"Nao"]
[null,"Nao"]
[null,"Nao"]
[null,"Nao"]
[null,"Nao"]
[null,"Nao"]
[null,"Nao"]
[null,"Nao"]
[null,"Nao"]
[null,"Nao"]
[null,"Nao"]
[null,"Nao"]
[null,"Nao"]
[null,"Nao"]
[null,"Nao"]
[null,"Nao"]
[null,"Nao"]
[null,"Nao"]
[null,"Nao"]
[null,"Nao"]
[null,"Nao"]
[null,"Nao"]
[null,"Nao"]
[null,"Nao"]
[null,"Nao"]
[null,"Nao"]
[null,"Nao"]
[null,"Nao"]
[null,"Nao"]
[null,"Nao"]
[null,"Nao"]
[null,"Nao"]
[null,"Nao"]
[null,"Nao"]
[null,"Nao"]
[null,"Nao"]
[null,"Nao"]
[null,"Nao"]
[null,{"$f":"IF(A19799>0,\"Offhire\",\"Nao\")","v":"Nao"}]
[null,"Nao"]
[null,"Nao"]
[null,"Nao"]
[null,"Nao"]
[null,"Nao"]
[null,"Nao"]
[null,"Nao"]
[null,"Nao"]
[null,"Nao"]
[null,"Nao"]
[null,"Nao"]
[null,"Nao"]
[null,"Nao"]
[null,"Nao"]
[null,"Nao"]
[null,"Nao"]
[null,"Nao"]
[null,"Nao"]
[null,"Nao"]
[null,"Nao"]
[null,"Nao"]
[null,"Nao"]
[null,"Nao"]
[null,"Nao"]
[null,"Nao"]
[null,"Nao"]
[null,"Nao"]
[null,"Nao"]
[null,"Nao"]
[null,"Nao"]
[null,"Nao"]
[null,"Nao"]
[null,"Nao"]
[null,"Nao"]
[null,"Nao"]
[null,"Nao"]
[null,"Nao"]
[null,"Nao"]
[null,"Nao"]
[null,"Nao"]
[null,"Nao"]
[null,"Nao"]
[null,"Nao"]
[null,"Nao"]
[null,"Nao"]
[null,"Nao"]
[null,"Nao"]
[null,"Nao"]
[null,"Nao"]
[null,"Nao"]
[null,"Nao"]
[null,"Nao"]
[null,"Nao"]
[null,"Nao"]
[null,"Nao"]
[null,"Nao"]
[null,"Nao"]
[null,"Nao"]
[null,"Nao"]
[null,"Nao"]
[null,"Nao"]
[null,"Nao"]
[null,"Nao"]
[null,{"$f":"IF(A19863>0,\"Offhire\",\"Nao\")","v":"Nao"}]
[null,"Nao"]
[null,"Nao"]
[null,"Nao"]
[null,"Nao"]
[null,"Nao"]
[null,"Nao"]
[null,"Nao"]
[null,"Nao"]
[null,"Nao"]
[null,"Nao"]
[null,"Nao"]
[null,"Nao"]
[null,"Nao"]
[null,"Nao"]
[null,"Nao"]
[null,"Nao"]
[null,"Nao"]
[null,"Nao"]
[null,"Nao"]
[null,"Nao"]
[null,"Nao"]
[null,"Nao"]
[null,"Nao"]
[null,"Nao"]
[null,"Nao"]
[null,"Nao"]
[null,"Nao"]
[null,"Nao"]
[null,"Nao"]
[null,"Nao"]
[null,"Nao"]
[null,"Nao"]
[null,"Nao"]
[null,"Nao"]
[null,"Nao"]
[null,"Nao"]
[null,"Nao"]
[null,"Nao"]
[null,"Nao"]
[null,"Nao"]
[null,"Nao"]
[null,"Nao"]
[null,"Nao"]
[null,"Nao"]
[null,"Nao"]
[null,"Nao"]
[null,"Nao"]
[null,"Nao"]
[null,"Nao"]
[null,"Nao"]
[null,"Nao"]
[null,"Nao"]
[null,"Nao"]
[null,"Nao"]
[null,"Nao"]
[null,"Nao"]
[null,"Nao"]
[null,"Nao"]
[null,"Nao"]
[null,"Nao"]
[null,"Nao"]
[null,"Nao"]
[null,"Nao"]
[null,{"$f":"IF(A19927>0,\"Offhire\",\"Nao\")","v":"Nao"}]
[null,"Nao"]
[null,"Nao"]
[null,"Nao"]
[null,"Nao"]
[null,"Nao"]
[null,"Nao"]
[null,"Nao"]
[null,"Nao"]
[null,"Nao"]
[null,"Nao"]
[null,"Nao"]
[null,"Nao"]
[null,"Nao"]
[null,"Nao"]
[null,"Nao"]
[null,"Nao"]
[null,"Nao"]
[null,"Nao"]
[null,"Nao"]
[null,"Nao"]
[null,"Nao"]
[null,"Nao"]
[null,"Nao"]
[null,"Nao"]
[null,"Nao"]
[null,"Nao"]
[null,"Nao"]
[null,"Nao"]
[null,"Nao"]
[null,"Nao"]
[null,"Nao"]
[null,"Nao"]
[null,"Nao"]
[null,"Nao"]
[null,"Nao"]
[null,"Nao"]
[null,"Nao"]
[null,"Nao"]
[null,"Nao"]
[null,"Nao"]
[null,"Nao"]
[null,"Nao"]
[null,"Nao"]
[null,"Nao"]
[null,"Nao"]
[null,"Nao"]
[null,"Nao"]
[null,"Nao"]
[null,"Nao"]
[null,"Nao"]
[null,"Nao"]
[null,"Nao"]
[null,"Nao"]
[null,"Nao"]
[null,"Nao"]
[null,"Nao"]
[null,"Nao"]
[null,"Nao"]
[null,"Nao"]
[null,"Nao"]
[null,"Nao"]
[null,"Nao"]
[null,"Nao"]
[null,{"$f":"IF(A19991>0,\"Offhire\",\"Nao\")","v":"Nao"}]
[null,"Nao"]
[null,"Nao"]
[null,"Nao"]
[null,"Nao"]
[null,"Nao"]
[null,"Nao"]
[null,"Nao"]
[null,"Nao"]
[null,"Nao"]
[null,"Nao"]
[null,"Nao"]
[null,"Nao"]
[null,"Nao"]
[null,"Nao"]
[null,"Nao"]
[null,"Nao"]
[null,"Nao"]
[null,"Nao"]
[null,"Nao"]
[null,"Nao"]
[null,"Nao"]
[null,"Nao"]
[null,"Nao"]
[null,"Nao"]
[null,"Nao"]
[null,"Nao"]
[null,"Nao"]
[null,"Nao"]
[null,"Nao"]
[null,"Nao"]
[null,"Nao"]
[null,"Nao"]
[null,"Nao"]
[null,"Nao"]
[null,"Nao"]
[null,"Nao"]
[null,"Nao"]
[null,"Nao"]
[null,"Nao"]
[null,"Nao"]
[null,"Nao"]
[null,"Nao"]
[null,"Nao"]
[null,"Nao"]
[null,"Nao"]
[null,"Nao"]
[null,"Nao"]
[null,"Nao"]
[null,"Nao"]
[null,"Nao"]
[null,"Nao"]
[null,"Nao"]
[null,"Nao"]
[null,"Nao"]
[null,"Nao"]
[null,"Nao"]
[null,"Nao"]
[null,"Nao"]
[null,"Nao"]
[null,"Nao"]
[null,"Nao"]
[null,"Nao"]
[null,"Nao"]
[null,{"$f":"IF(A20055>0,\"Offhire\",\"Nao\")","v":"Nao"}]
[null,"Nao"]
[null,"Nao"]
[null,"Nao"]
[null,"Nao"]
[null,"Nao"]
[null,"Nao"]
[null,"Nao"]
[null,"Nao"]
[null,"Nao"]
[null,"Nao"]
[null,"Nao"]
[null,"Nao"]
[null,"Nao"]
[null,"Nao"]
[null,"Nao"]
[null,"Nao"]
[null,"Nao"]
[null,"Nao"]
[null,"Nao"]
[null,"Nao"]
[null,"Nao"]
[null,"Nao"]
[null,"Nao"]
[null,"Nao"]
[null,"Nao"]
[null,"Nao"]
[null,"Nao"]
[null,"Nao"]
[null,"Nao"]
[null,"Nao"]
[null,"Nao"]
[null,"Nao"]
[null,"Nao"]
[null,"Nao"]
[null,"Nao"]
[null,"Nao"]
[null,"Nao"]
[null,"Nao"]
[null,"Nao"]
[null,"Nao"]
[null,"Nao"]
[null,"Nao"]
[null,"Nao"]
[null,"Nao"]
[null,"Nao"]
[null,"Nao"]
[null,"Nao"]
[null,"Nao"]
[null,"Nao"]
[null,"Nao"]
[null,"Nao"]
[null,"Nao"]
[null,"Nao"]
[null,"Nao"]
[null,"Nao"]
[null,"Nao"]
[null,"Nao"]
[null,"Nao"]
[null,"Nao"]
[null,"Nao"]
[null,"Nao"]
[null,"Nao"]
[null,"Nao"]
[null,{"$f":"IF(A20119>0,\"Offhire\",\"Nao\")","v":"Nao"}]
[null,"Nao"]
[null,"Nao"]
[null,"Nao"]
[null,"Nao"]
[null,"Nao"]
[null,"Nao"]
[null,"Nao"]
[null,"Nao"]
[null,"Nao"]
[null,"Nao"]
[null,"Nao"]
[null,"Nao"]
[null,"Nao"]
[null,"Nao"]
[null,"Nao"]
[null,"Nao"]
[null,"Nao"]
[null,"Nao"]
[null,"Nao"]
[null,"Nao"]
[null,"Nao"]
[null,"Nao"]
[null,"Nao"]
[null,"Nao"]
[null,"Nao"]
[null,"Nao"]
[null,"Nao"]
[null,"Nao"]
[null,"Nao"]
[null,"Nao"]
[null,"Nao"]
[null,"Nao"]
[null,"Nao"]
[null,"Nao"]
[null,"Nao"]
[null,"Nao"]
[null,"Nao"]
[null,"Nao"]
[null,"Nao"]
[null,"Nao"]
[null,"Nao"]
[null,"Nao"]
[null,"Nao"]
[null,"Nao"]
[null,"Nao"]
[null,"Nao"]
[null,"Nao"]
[null,"Nao"]
[null,"Nao"]
[null,"Nao"]
[null,"Nao"]
[null,"Nao"]
[null,"Nao"]
[null,"Nao"]
[null,"Nao"]
[null,"Nao"]
[null,"Nao"]
[null,"Nao"]
[null,"Nao"]
[null,"Nao"]
[null,"Nao"]
[null,"Nao"]
[null,"Nao"]
[null,{"$f":"IF(A20183>0,\"Offhire\",\"Nao\")","v":"Nao"}]
[null,"Nao"]
[null,"Nao"]
[null,"Nao"]
[null,"Nao"]
[null,"Nao"]
[null,"Nao"]
[null,"Nao"]
[null,"Nao"]
[null,"Nao"]
[null,"Nao"]
[null,"Nao"]
[null,"Nao"]
[null,"Nao"]
[null,"Nao"]
[null,"Nao"]
[null,"Nao"]
[null,"Nao"]
[null,"Nao"]
[null,"Nao"]
[null,"Nao"]
[null,"Nao"]
[null,"Nao"]
[null,"Nao"]
[null,"Nao"]
[null,"Nao"]
[null,"Nao"]
[null,"Nao"]
[null,"Nao"]
[null,"Nao"]
[null,"Nao"]
[null,"Nao"]
[null,"Nao"]
[null,"Nao"]
[null,"Nao"]
[null,"Nao"]
[null,"Nao"]
[null,"Nao"]
[null,"Nao"]
[null,"Nao"]
[null,"Nao"]
[null,"Nao"]
[null,"Nao"]
[null,"Nao"]
[null,"Nao"]
[null,"Nao"]
[null,"Nao"]
[null,"Nao"]
[null,"Nao"]
[null,"Nao"]
[null,"Nao"]
[null,"Nao"]
[null,"Nao"]
[null,"Nao"]
[null,"Nao"]
[null,"Nao"]
[null,"Nao"]
[null,"Nao"]
[null,"Nao"]
[null,"Nao"]
[null,"Nao"]
[null,"Nao"]
[null,"Nao"]
[null,"Nao"]
[null,{"$f":"IF(A20247>0,\"Offhire\",\"Nao\")","v":"Nao"}]
[null,"Nao"]
[null,"Nao"]
[null,"Nao"]
[null,"Nao"]
[null,"Nao"]
[null,"Nao"]
[null,"Nao"]
[null,"Nao"]
[null,"Nao"]
[null,"Nao"]
[null,"Nao"]
[null,"Nao"]
[null,"Nao"]
[null,"Nao"]
[null,"Nao"]
[null,"Nao"]
[null,"Nao"]
[null,"Nao"]
[null,"Nao"]
[null,"Nao"]
[null,"Nao"]
[null,"Nao"]
[null,"Nao"]
[null,"Nao"]
[null,"Nao"]
[null,"Nao"]
[null,"Nao"]
[null,"Nao"]
[null,"Nao"]
[null,"Nao"]
[null,"Nao"]
[null,"Nao"]
[null,"Nao"]
[null,"Nao"]
[null,"Nao"]
[null,"Nao"]
[null,"Nao"]
[null,"Nao"]
[null,"Nao"]
[null,"Nao"]
[null,"Nao"]
[null,"Nao"]
[null,"Nao"]
[null,"Nao"]
[null,"Nao"]
[null,"Nao"]
[null,"Nao"]
[null,"Nao"]
[null,"Nao"]
[null,"Nao"]
[null,"Nao"]
[null,"Nao"]
[null,"Nao"]
[null,"Nao"]
[null,"Nao"]
[null,"Nao"]
[null,"Nao"]
[null,"Nao"]
[null,"Nao"]
[null,"Nao"]
[null,"Nao"]
[null,"Nao"]
[null,"Nao"]
[null,{"$f":"IF(A20311>0,\"Offhire\",\"Nao\")","v":"Nao"}]
[null,"Nao"]
[null,"Nao"]
[null,"Nao"]
[null,"Nao"]
[null,"Nao"]
[null,"Nao"]
[null,"Nao"]
[null,"Nao"]
[null,"Nao"]
[null,"Nao"]
[null,"Nao"]
[null,"Nao"]
[null,"Nao"]
[null,"Nao"]
[null,"Nao"]
[null,"Nao"]
[null,"Nao"]
[null,"Nao"]
[null,"Nao"]
[null,"Nao"]
[null,"Nao"]
[null,"Nao"]
[null,"Nao"]
[null,"Nao"]
[null,"Nao"]
[null,"Nao"]
[null,"Nao"]
[null,"Nao"]
[null,"Nao"]
[null,"Nao"]
[null,"Nao"]
[null,"Nao"]
[null,"Nao"]
[null,"Nao"]
[null,"Nao"]
[null,"Nao"]
[null,"Nao"]
[null,"Nao"]
[null,"Nao"]
[null,"Nao"]
[null,"Nao"]
[null,"Nao"]
[null,"Nao"]
[null,"Nao"]
[null,"Nao"]
[null,"Nao"]
[null,"Nao"]
[null,"Nao"]
[null,"Nao"]
[null,"Nao"]
[null,"Nao"]
[null,"Nao"]
[null,"Nao"]
[null,"Nao"]
[null,"Nao"]
[null,"Nao"]
[null,"Nao"]
[null,"Nao"]
[null,"Nao"]
[null,"Nao"]
[null,"Nao"]
[null,"Nao"]
[null,"Nao"]
[null,{"$f":"IF(A20375>0,\"Offhire\",\"Nao\")","v":"Nao"}]
[null,"Nao"]
[null,"Nao"]
[null,"Nao"]
[null,"Nao"]
[null,"Nao"]
[null,"Nao"]
[null,"Nao"]
[null,"Nao"]
[null,"Nao"]
[null,"Nao"]
[null,"Nao"]
[null,"Nao"]
[null,"Nao"]
[null,"Nao"]
[null,"Nao"]
[null,"Nao"]
[null,"Nao"]
[null,"Nao"]
[null,"Nao"]
[null,"Nao"]
[null,"Nao"]
[null,"Nao"]
[null,"Nao"]
[null,"Nao"]
[null,"Nao"]
[null,"Nao"]
[null,"Nao"]
[null,"Nao"]
[null,"Nao"]
[null,"Nao"]
[null,"Nao"]
[null,"Nao"]
[null,"Nao"]
[null,"Nao"]
[null,"Nao"]
[null,"Nao"]
[null,"Nao"]
[null,"Nao"]
[null,"Nao"]
[null,"Nao"]
[null,"Nao"]
[null,"Nao"]
[null,"Nao"]
[null,"Nao"]
[null,"Nao"]
[null,"Nao"]
[null,"Nao"]
[null,"Nao"]
[null,"Nao"]
[null,"Nao"]
[null,"Nao"]
[null,"Nao"]
[null,"Nao"]
[null,"Nao"]
[null,"Nao"]
[null,"Nao"]
[null,"Nao"]
[null,"Nao"]
[null,"Nao"]
[null,"Nao"]
[null,"Nao"]
[null,"Nao"]
[null,"Nao"]
[null,{"$f":"IF(A20439>0,\"Offhire\",\"Nao\")","v":"Nao"}]
[null,"Nao"]
[null,"Nao"]
[null,"Nao"]
[null,"Nao"]
[null,"Nao"]
[null,"Nao"]
[null,"Nao"]
[null,"Nao"]
[null,"Nao"]
[null,"Nao"]
[null,"Nao"]
[null,"Nao"]
[null,"Nao"]
[null,"Nao"]
[null,"Nao"]
[null,"Nao"]
[null,"Nao"]
[null,"Nao"]
[null,"Nao"]
[null,"Nao"]
[null,"Nao"]
[null,"Nao"]
[null,"Nao"]
[null,"Nao"]
[null,"Nao"]
[null,"Nao"]
[null,"Nao"]
[null,"Nao"]
[null,"Nao"]
[null,"Nao"]
[null,"Nao"]
[null,"Nao"]
[null,"Nao"]
[null,"Nao"]
[null,"Nao"]
[null,"Nao"]
[null,"Nao"]
[null,"Nao"]
[null,"Nao"]
[null,"Nao"]
[null,"Nao"]
[null,"Nao"]
[null,"Nao"]
[null,"Nao"]
[null,"Nao"]
[null,"Nao"]
[null,"Nao"]
[null,"Nao"]
[null,"Nao"]
[null,"Nao"]
[null,"Nao"]
[null,"Nao"]
[null,"Nao"]
[null,"Nao"]
[null,"Nao"]
[null,"Nao"]
[null,"Nao"]
[null,"Nao"]
[null,"Nao"]
[null,"Nao"]
[null,"Nao"]
[null,"Nao"]
[null,"Nao"]
[null,{"$f":"IF(A20503>0,\"Offhire\",\"Nao\")","v":"Nao"}]
[null,"Nao"]
[null,"Nao"]
[null,"Nao"]
[null,"Nao"]
[null,"Nao"]
[null,"Nao"]
[null,"Nao"]
[null,"Nao"]
[null,"Nao"]
[null,"Nao"]
[null,"Nao"]
[null,"Nao"]
[null,"Nao"]
[null,"Nao"]
[null,"Nao"]
[null,"Nao"]
[null,"Nao"]
[null,"Nao"]
[null,"Nao"]
[null,"Nao"]
[null,"Nao"]
[null,"Nao"]
[null,"Nao"]
[null,"Nao"]
[null,"Nao"]
[null,"Nao"]
[null,"Nao"]
[null,"Nao"]
[null,"Nao"]
[null,"Nao"]
[null,"Nao"]
[null,"Nao"]
[null,"Nao"]
[null,"Nao"]
[null,"Nao"]
[null,"Nao"]
[null,"Nao"]
[null,"Nao"]
[null,"Nao"]
[null,"Nao"]
[null,"Nao"]
[null,"Nao"]
[null,"Nao"]
[null,"Nao"]
[null,"Nao"]
[null,"Nao"]
[null,"Nao"]
[null,"Nao"]
[null,"Nao"]
[null,"Nao"]
[null,"Nao"]
[null,"Nao"]
[null,"Nao"]
[null,"Nao"]
[null,"Nao"]
[null,"Nao"]
[null,"Nao"]
[null,"Nao"]
[null,"Nao"]
[null,"Nao"]
[null,"Nao"]
[null,"Nao"]
[null,"Nao"]
[null,{"$f":"IF(A20567>0,\"Offhire\",\"Nao\")","v":"Nao"}]
[null,"Nao"]
[null,"Nao"]
[null,"Nao"]
[null,"Nao"]
[null,"Nao"]
[null,"Nao"]
[null,"Nao"]
[null,"Nao"]
[null,"Nao"]
[null,"Nao"]
[null,"Nao"]
[null,"Nao"]
[null,"Nao"]
[null,"Nao"]
[null,"Nao"]
[null,"Nao"]
[null,"Nao"]
[null,"Nao"]
[null,"Nao"]
[null,"Nao"]
[null,"Nao"]
[null,"Nao"]
[null,"Nao"]
[null,"Nao"]
[null,"Nao"]
[null,"Nao"]
[null,"Nao"]
[null,"Nao"]
[null,"Nao"]
[null,"Nao"]
[null,"Nao"]
[null,"Nao"]
[null,"Nao"]
[null,"Nao"]
[null,"Nao"]
[null,"Nao"]
[null,"Nao"]
[null,"Nao"]
[null,"Nao"]
[null,"Nao"]
[null,"Nao"]
[null,"Nao"]
[null,"Nao"]
[null,"Nao"]
[null,"Nao"]
[null,"Nao"]
[null,"Nao"]
[null,"Nao"]
[null,"Nao"]
[null,"Nao"]
[null,"Nao"]
[null,"Nao"]
[null,"Nao"]
[null,"Nao"]
[null,"Nao"]
[null,"Nao"]
[null,"Nao"]
[null,"Nao"]
[null,"Nao"]
[null,"Nao"]
[null,"Nao"]
[null,"Nao"]
[null,"Nao"]
[null,{"$f":"IF(A20631>0,\"Offhire\",\"Nao\")","v":"Nao"}]
[null,"Nao"]
[null,"Nao"]
[null,"Nao"]
[null,"Nao"]
[null,"Nao"]
[null,"Nao"]
[null,"Nao"]
[null,"Nao"]
[null,"Nao"]
[null,"Nao"]
[null,"Nao"]
[null,"Nao"]
[null,"Nao"]
[null,"Nao"]
[null,"Nao"]
[null,"Nao"]
[null,"Nao"]
[null,"Nao"]
[null,"Nao"]
[null,"Nao"]
[null,"Nao"]
[null,"Nao"]
[null,"Nao"]
[null,"Nao"]
[null,"Nao"]
[null,"Nao"]
[null,"Nao"]
[null,"Nao"]
[null,"Nao"]
[null,"Nao"]
[null,"Nao"]
[null,"Nao"]
[null,"Nao"]
[null,"Nao"]
[null,"Nao"]
[null,"Nao"]
[null,"Nao"]
[null,"Nao"]
[null,"Nao"]
[null,"Nao"]
[null,"Nao"]
[null,"Nao"]
[null,"Nao"]
[null,"Nao"]
[null,"Nao"]
[null,"Nao"]
[null,"Nao"]
[null,"Nao"]
[null,"Nao"]
[null,"Nao"]
[null,"Nao"]
[null,"Nao"]
[null,"Nao"]
[null,"Nao"]
[null,"Nao"]
[null,"Nao"]
[null,"Nao"]
[null,"Nao"]
[null,"Nao"]
[null,"Nao"]
[null,"Nao"]
[null,"Nao"]
[null,"Nao"]
[null,{"$f":"IF(A20695>0,\"Offhire\",\"Nao\")","v":"Nao"}]
[null,"Nao"]
[null,"Nao"]
[null,"Nao"]
[null,"Nao"]
[null,"Nao"]
[null,"Nao"]
[null,"Nao"]
[null,"Nao"]
[null,"Nao"]
[null,"Nao"]
[null,"Nao"]
[null,"Nao"]
[null,"Nao"]
[null,"Nao"]
[null,"Nao"]
[null,"Nao"]
[null,"Nao"]
[null,"Nao"]
[null,"Nao"]
[null,"Nao"]
[null,"Nao"]
[null,"Nao"]
[null,"Nao"]
[null,"Nao"]
[null,"Nao"]
[null,"Nao"]
[null,"Nao"]
[null,"Nao"]
[null,"Nao"]
[null,"Nao"]
[null,"Nao"]
[null,"Nao"]
[null,"Nao"]
[null,"Nao"]
[null,"Nao"]
[null,"Nao"]
[null,"Nao"]
[null,"Nao"]
[null,"Nao"]
[null,"Nao"]
[null,"Nao"]
[null,"Nao"]
[null,"Nao"]
[null,"Nao"]
[null,"Nao"]
[null,"Nao"]
[null,"Nao"]
[null,"Nao"]
[null,"Nao"]
[null,"Nao"]
[null,"Nao"]
[null,"Nao"]
[null,"Nao"]
[null,"Nao"]
[null,"Nao"]
[null,"Nao"]
[null,"Nao"]
[null,"Nao"]
[null,"Nao"]
[null,"Nao"]
[null,"Nao"]
[null,"Nao"]
[null,"Nao"]
[null,{"$f":"IF(A20759>0,\"Offhire\",\"Nao\")","v":"Nao"}]
[null,"Nao"]
[null,"Nao"]
[null,"Nao"]
[null,"Nao"]
[null,"Nao"]
[null,"Nao"]
[null,"Nao"]
[null,"Nao"]
[null,"Nao"]
[null,"Nao"]
[null,"Nao"]
[null,"Nao"]
[null,"Nao"]
[null,"Nao"]
[null,"Nao"]
[null,"Nao"]
[null,"Nao"]
[null,"Nao"]
[null,"Nao"]
[null,"Nao"]
[null,"Nao"]
[null,"Nao"]
[null,"Nao"]
[null,"Nao"]
[null,"Nao"]
[null,"Nao"]
[null,"Nao"]
[null,"Nao"]
[null,"Nao"]
[null,"Nao"]
[null,"Nao"]
[null,"Nao"]
[null,"Nao"]
[null,"Nao"]
[null,"Nao"]
[null,"Nao"]
[null,"Nao"]
[null,"Nao"]
[null,"Nao"]
[null,"Nao"]
[null,"Nao"]
[null,"Nao"]
[null,"Nao"]
[null,"Nao"]
[null,"Nao"]
[null,"Nao"]
[null,"Nao"]
[null,"Nao"]
[null,"Nao"]
[null,"Nao"]
[null,"Nao"]
[null,"Nao"]
[null,"Nao"]
[null,"Nao"]
[null,"Nao"]
[null,"Nao"]
[null,"Nao"]
[null,"Nao"]
[null,"Nao"]
[null,"Nao"]
[null,"Nao"]
[null,"Nao"]
[null,"Nao"]
[null,{"$f":"IF(A20823>0,\"Offhire\",\"Nao\")","v":"Nao"}]
[null,"Nao"]
[null,"Nao"]
[null,"Nao"]
[null,"Nao"]
[null,"Nao"]
[null,"Nao"]
[null,"Nao"]
[null,"Nao"]
[null,"Nao"]
[null,"Nao"]
[null,"Nao"]
[null,"Nao"]
[null,"Nao"]
[null,"Nao"]
[null,"Nao"]
[null,"Nao"]
[null,"Nao"]
[null,"Nao"]
[null,"Nao"]
[null,"Nao"]
[null,"Nao"]
[null,"Nao"]
[null,"Nao"]
[null,"Nao"]
[null,"Nao"]
[null,"Nao"]
[null,"Nao"]
[null,"Nao"]
[null,"Nao"]
[null,"Nao"]
[null,"Nao"]
[null,"Nao"]
[null,"Nao"]
[null,"Nao"]
[null,"Nao"]
[null,"Nao"]
[null,"Nao"]
[null,"Nao"]
[null,"Nao"]
[null,"Nao"]
[null,"Nao"]
[null,"Nao"]
[null,"Nao"]
[null,"Nao"]
[null,"Nao"]
[null,"Nao"]
[null,"Nao"]
[null,"Nao"]
[null,"Nao"]
[null,"Nao"]
[null,"Nao"]
[null,"Nao"]
[null,"Nao"]
[null,"Nao"]
[null,"Nao"]
[null,"Nao"]
[null,"Nao"]
[null,"Nao"]
[null,"Nao"]
[null,"Nao"]
[null,"Nao"]
[null,"Nao"]
[null,"Nao"]
[null,{"$f":"IF(A20887>0,\"Offhire\",\"Nao\")","v":"Nao"}]
[null,"Nao"]
[null,"Nao"]
[null,"Nao"]
[null,"Nao"]
[null,"Nao"]
[null,"Nao"]
[null,"Nao"]
[null,"Nao"]
[null,"Nao"]
[null,"Nao"]
[null,"Nao"]
[null,"Nao"]
[null,"Nao"]
[null,"Nao"]
[null,"Nao"]
[null,"Nao"]
[null,"Nao"]
[null,"Nao"]
[null,"Nao"]
[null,"Nao"]
[null,"Nao"]
[null,"Nao"]
[null,"Nao"]
[null,"Nao"]
[null,"Nao"]
[null,"Nao"]
[null,"Nao"]
[null,"Nao"]
[null,"Nao"]
[null,"Nao"]
[null,"Nao"]
[null,"Nao"]
[null,"Nao"]
[null,"Nao"]
[null,"Nao"]
[null,"Nao"]
[null,"Nao"]
[null,"Nao"]
[null,"Nao"]
[null,"Nao"]
[null,"Nao"]
[null,"Nao"]
[null,"Nao"]
[null,"Nao"]
[null,"Nao"]
[null,"Nao"]
[null,"Nao"]
[null,"Nao"]
[null,"Nao"]
[null,"Nao"]
[null,"Nao"]
[null,"Nao"]
[null,"Nao"]
[null,"Nao"]
[null,"Nao"]
[null,"Nao"]
[null,"Nao"]
[null,"Nao"]
[null,"Nao"]
[null,"Nao"]
[null,"Nao"]
[null,"Nao"]
[null,"Nao"]
[null,{"$f":"IF(A20951>0,\"Offhire\",\"Nao\")","v":"Nao"}]
[null,"Nao"]
[null,"Nao"]
[null,"Nao"]
[null,"Nao"]
[null,"Nao"]
[null,"Nao"]
[null,"Nao"]
[null,"Nao"]
[null,"Nao"]
[null,"Nao"]
[null,"Nao"]
[null,"Nao"]
[null,"Nao"]
[null,"Nao"]
[null,"Nao"]
[null,"Nao"]
[null,"Nao"]
[null,"Nao"]
[null,"Nao"]
[null,"Nao"]
[null,"Nao"]
[null,"Nao"]
[null,"Nao"]
[null,"Nao"]
[null,"Nao"]
[null,"Nao"]
[null,"Nao"]
[null,"Nao"]
[null,"Nao"]
[null,"Nao"]
[null,"Nao"]
[null,"Nao"]
[null,"Nao"]
[null,"Nao"]
[null,"Nao"]
[null,"Nao"]
[null,"Nao"]
[null,"Nao"]
[null,"Nao"]
[null,"Nao"]
[null,"Nao"]
[null,"Nao"]
[null,"Nao"]
[null,"Nao"]
[null,"Nao"]
[null,"Nao"]
[null,"Nao"]
[null,"Nao"]
[null,"Nao"]
[null,"Nao"]
[null,"Nao"]
[null,"Nao"]
[null,"Nao"]
[null,"Nao"]
[null,"Nao"]
[null,"Nao"]
[null,"Nao"]
[null,"Nao"]
[null,"Nao"]
[null,"Nao"]
[null,"Nao"]
[null,"Nao"]
[null,"Nao"]
[null,{"$f":"IF(A21015>0,\"Offhire\",\"Nao\")","v":"Nao"}]
[null,"Nao"]
[null,"Nao"]
[null,"Nao"]
[null,"Nao"]
[null,"Nao"]
[null,"Nao"]
[null,"Nao"]
[null,"Nao"]
[null,"Nao"]
[null,"Nao"]
[null,"Nao"]
[null,"Nao"]
[null,"Nao"]
[null,"Nao"]
[null,"Nao"]
[null,"Nao"]
[null,"Nao"]
[null,"Nao"]
[null,"Nao"]
[null,"Nao"]
[null,"Nao"]
[null,"Nao"]
[null,"Nao"]
[null,"Nao"]
[null,"Nao"]
[null,"Nao"]
[null,"Nao"]
[null,"Nao"]
[null,"Nao"]
[null,"Nao"]
[null,"Nao"]
[null,"Nao"]
[null,"Nao"]
[null,"Nao"]
[null,"Nao"]
[null,"Nao"]
[null,"Nao"]
[null,"Nao"]
[null,"Nao"]
[null,"Nao"]
[null,"Nao"]
[null,"Nao"]
[null,"Nao"]
[null,"Nao"]
[null,"Nao"]
[null,"Nao"]
[null,"Nao"]
[null,"Nao"]
[null,"Nao"]
[null,"Nao"]
[null,"Nao"]
[null,"Nao"]
[null,"Nao"]
[null,"Nao"]
[null,"Nao"]
[null,"Nao"]
[null,"Nao"]
[null,"Nao"]
[null,"Nao"]
[null,"Nao"]
[null,"Nao"]
[null,"Nao"]
[null,"Nao"]
[null,{"$f":"IF(A21079>0,\"Offhire\",\"Nao\")","v":"Nao"}]
[null,"Nao"]
[null,"Nao"]
[null,"Nao"]
[null,"Nao"]
[null,"Nao"]
[null,"Nao"]
[null,"Nao"]
[null,"Nao"]
[null,"Nao"]
[null,"Nao"]
[null,"Nao"]
[null,"Nao"]
[null,"Nao"]
[null,"Nao"]
[null,"Nao"]
[null,"Nao"]
[null,"Nao"]
[null,"Nao"]
[null,"Nao"]
[null,"Nao"]
[null,"Nao"]
[null,"Nao"]
[null,"Nao"]
[null,"Nao"]
[null,"Nao"]
[null,"Nao"]
[null,"Nao"]
[null,"Nao"]
[null,"Nao"]
[null,"Nao"]
[null,"Nao"]
[null,"Nao"]
[null,"Nao"]
[null,"Nao"]
[null,"Nao"]
[null,"Nao"]
[null,"Nao"]
[null,"Nao"]
[null,"Nao"]
[null,"Nao"]
[null,"Nao"]
[null,"Nao"]
[null,"Nao"]
[null,"Nao"]
[null,"Nao"]
[null,"Nao"]
[null,"Nao"]
[null,"Nao"]
[null,"Nao"]
[null,"Nao"]
[null,"Nao"]
[null,"Nao"]
[null,"Nao"]
[null,"Nao"]
[null,"Nao"]
[null,"Nao"]
[null,"Nao"]
[null,"Nao"]
[null,"Nao"]
[null,"Nao"]
[null,"Nao"]
[null,"Nao"]
[null,"Nao"]
[null,{"$f":"IF(A21143>0,\"Offhire\",\"Nao\")","v":"Nao"}]
[null,"Nao"]
[null,"Nao"]
[null,"Nao"]
[null,"Nao"]
[null,"Nao"]
[null,"Nao"]
[null,"Nao"]
[null,"Nao"]
[null,"Nao"]
[null,"Nao"]
[null,"Nao"]
[null,"Nao"]
[null,"Nao"]
[null,"Nao"]
[null,"Nao"]
[null,"Nao"]
[null,"Nao"]
[null,"Nao"]
[null,"Nao"]
[null,"Nao"]
[null,"Nao"]
[null,"Nao"]
[null,"Nao"]
[null,"Nao"]
[null,"Nao"]
[null,"Nao"]
[null,"Nao"]
[null,"Nao"]
[null,"Nao"]
[null,"Nao"]
[null,"Nao"]
[null,"Nao"]
[null,"Nao"]
[null,"Nao"]
[null,"Nao"]
[null,"Nao"]
[null,"Nao"]
[null,"Nao"]
[null,"Nao"]
[null,"Nao"]
[null,"Nao"]
[null,"Nao"]
[null,"Nao"]
[null,"Nao"]
[null,"Nao"]
[null,"Nao"]
[null,"Nao"]
[null,"Nao"]
[null,"Nao"]
[null,"Nao"]
[null,"Nao"]
[null,"Nao"]
[null,"Nao"]
[null,"Nao"]
[null,"Nao"]
[null,"Nao"]
[null,"Nao"]
[null,"Nao"]
[null,"Nao"]
[null,"Nao"]
[null,"Nao"]
[null,"Nao"]
[null,"Nao"]
[null,{"$f":"IF(A21207>0,\"Offhire\",\"Nao\")","v":"Nao"}]
[null,"Nao"]
[null,"Nao"]
[null,"Nao"]
[null,"Nao"]
[null,"Nao"]
[null,"Nao"]
[null,"Nao"]
[null,"Nao"]
[null,"Nao"]
[null,"Nao"]
[null,"Nao"]
[null,"Nao"]
[null,"Nao"]
[null,"Nao"]
[null,"Nao"]
[null,"Nao"]
[null,"Nao"]
[null,"Nao"]
[null,"Nao"]
[null,"Nao"]
[null,"Nao"]
[null,"Nao"]
[null,"Nao"]
[null,"Nao"]
[null,"Nao"]
[null,"Nao"]
[null,"Nao"]
[null,"Nao"]
[null,"Nao"]
[null,"Nao"]
[null,"Nao"]
[null,"Nao"]
[null,"Nao"]
[null,"Nao"]
[null,"Nao"]
[null,"Nao"]
[null,"Nao"]
[null,"Nao"]
[null,"Nao"]
[null,"Nao"]
[null,"Nao"]
[null,"Nao"]
[null,"Nao"]
[null,"Nao"]
[null,"Nao"]
[null,"Nao"]
[null,"Nao"]
[null,"Nao"]
[null,"Nao"]
[null,"Nao"]
[null,"Nao"]
[null,"Nao"]
[null,"Nao"]
[null,"Nao"]
[null,"Nao"]
[null,"Nao"]
[null,"Nao"]
[null,"Nao"]
[null,"Nao"]
[null,"Nao"]
[null,"Nao"]
[null,"Nao"]
[null,"Nao"]
[null,{"$f":"IF(A21271>0,\"Offhire\",\"Nao\")","v":"Nao"}]
[null,"Nao"]
[null,"Nao"]
[null,"Nao"]
[null,"Nao"]
[null,"Nao"]
[null,"Nao"]
[null,"Nao"]
[null,"Nao"]
[null,"Nao"]
[null,"Nao"]
[null,"Nao"]
[null,"Nao"]
[null,"Nao"]
[null,"Nao"]
[null,"Nao"]
[null,"Nao"]
[null,"Nao"]
[null,"Nao"]
[null,"Nao"]
[null,"Nao"]
[null,"Nao"]
[null,"Nao"]
[null,"Nao"]
[null,"Nao"]
[null,"Nao"]
[null,"Nao"]
[null,"Nao"]
[null,"Nao"]
[null,"Nao"]
[null,"Nao"]
[null,"Nao"]
[null,"Nao"]
[null,"Nao"]
[null,"Nao"]
[null,"Nao"]
[null,"Nao"]
[null,"Nao"]
[null,"Nao"]
[null,"Nao"]
[null,"Nao"]
[null,"Nao"]
[null,"Nao"]
[null,"Nao"]
[null,"Nao"]
[null,"Nao"]
[null,"Nao"]
[null,"Nao"]
[null,"Nao"]
[null,"Nao"]
[null,"Nao"]
[null,"Nao"]
[null,"Nao"]
[null,"Nao"]
[null,"Nao"]
[null,"Nao"]
[null,"Nao"]
[null,"Nao"]
[null,"Nao"]
[null,"Nao"]
[null,"Nao"]
[null,"Nao"]
[null,"Nao"]
[null,"Nao"]
[null,{"$f":"IF(A21335>0,\"Offhire\",\"Nao\")","v":"Nao"}]
[null,"Nao"]
[null,"Nao"]
[null,"Nao"]
[null,"Nao"]
[null,"Nao"]
[null,"Nao"]
[null,"Nao"]
[null,"Nao"]
[null,"Nao"]
[null,"Nao"]
[null,"Nao"]
[null,"Nao"]
[null,"Nao"]
[null,"Nao"]
[null,"Nao"]
[null,"Nao"]
[null,"Nao"]
[null,"Nao"]
[null,"Nao"]
[null,"Nao"]
[null,"Nao"]
[null,"Nao"]
[null,"Nao"]
[null,"Nao"]
[null,"Nao"]
[null,"Nao"]
[null,"Nao"]
[null,"Nao"]
[null,"Nao"]
[null,"Nao"]
[null,"Nao"]
[null,"Nao"]
[null,"Nao"]
[null,"Nao"]
[null,"Nao"]
[null,"Nao"]
[null,"Nao"]
[null,"Nao"]
[null,"Nao"]
[null,"Nao"]
[null,"Nao"]
[null,"Nao"]
[null,"Nao"]
[null,"Nao"]
[null,"Nao"]
[null,"Nao"]
[null,"Nao"]
[null,"Nao"]
[null,"Nao"]
[null,"Nao"]
[null,"Nao"]
[null,"Nao"]
[null,"Nao"]
[null,"Nao"]
[null,"Nao"]
[null,"Nao"]
[null,"Nao"]
[null,"Nao"]
[null,"Nao"]
[null,"Nao"]
[null,"Nao"]
[null,"Nao"]
[null,"Nao"]
[null,{"$f":"IF(A21399>0,\"Offhire\",\"Nao\")","v":"Nao"}]
[null,"Nao"]
[null,"Nao"]
[null,"Nao"]
[null,"Nao"]
[null,"Nao"]
[null,"Nao"]
[null,"Nao"]
[null,"Nao"]
[null,"Nao"]
[null,"Nao"]
[null,"Nao"]
[null,"Nao"]
[null,"Nao"]
[null,"Nao"]
[null,"Nao"]
[null,"Nao"]
[null,"Nao"]
[null,"Nao"]
[null,"Nao"]
[null,"Nao"]
[null,"Nao"]
[null,"Nao"]
[null,"Nao"]
[null,"Nao"]
[null,"Nao"]
[null,"Nao"]
[null,"Nao"]
[null,"Nao"]
[null,"Nao"]
[null,"Nao"]
[null,"Nao"]
[null,"Nao"]
[null,"Nao"]
[null,"Nao"]
[null,"Nao"]
[null,"Nao"]
[null,"Nao"]
[null,"Nao"]
[null,"Nao"]
[null,"Nao"]
[null,"Nao"]
[null,"Nao"]
[null,"Nao"]
[null,"Nao"]
[null,"Nao"]
[null,"Nao"]
[null,"Nao"]
[null,"Nao"]
[null,"Nao"]
[null,"Nao"]
[null,"Nao"]
[null,"Nao"]
[null,"Nao"]
[null,"Nao"]
[null,"Nao"]
[null,"Nao"]
[null,"Nao"]
[null,"Nao"]
[null,"Nao"]
[null,"Nao"]
[null,"Nao"]
[null,"Nao"]
[null,"Nao"]
[null,{"$f":"IF(A21463>0,\"Offhire\",\"Nao\")","v":"Nao"}]
[null,"Nao"]
[null,"Nao"]
[null,"Nao"]
[null,"Nao"]
[null,"Nao"]
[null,"Nao"]
[null,"Nao"]
[null,"Nao"]
[null,"Nao"]
[null,"Nao"]
[null,"Nao"]
[null,"Nao"]
[null,"Nao"]
[null,"Nao"]
[null,"Nao"]
[null,"Nao"]
[null,"Nao"]
[null,"Nao"]
[null,"Nao"]
[null,"Nao"]
[null,"Nao"]
[null,"Nao"]
[null,"Nao"]
[null,"Nao"]
[null,"Nao"]
[null,"Nao"]
[null,"Nao"]
[null,"Nao"]
[null,"Nao"]
[null,"Nao"]
[null,"Nao"]
[null,"Nao"]
[null,"Nao"]
[null,"Nao"]
[null,"Nao"]
[null,"Nao"]
[null,"Nao"]
[null,"Nao"]
[null,"Nao"]
[null,"Nao"]
[null,"Nao"]
[null,"Nao"]
[null,"Nao"]
[null,"Nao"]
[null,"Nao"]
[null,"Nao"]
[null,"Nao"]
[null,"Nao"]
[null,"Nao"]
[null,"Nao"]
[null,"Nao"]
[null,"Nao"]
[null,"Nao"]
[null,"Nao"]
[null,"Nao"]
[null,"Nao"]
[null,"Nao"]
[null,"Nao"]
[null,"Nao"]
[null,"Nao"]
[null,"Nao"]
[null,"Nao"]
[null,"Nao"]
[null,{"$f":"IF(A21527>0,\"Offhire\",\"Nao\")","v":"Nao"}]
[null,"Nao"]
[null,"Nao"]
[null,"Nao"]
[null,"Nao"]
[null,"Nao"]
[null,"Nao"]
[null,"Nao"]
[null,"Nao"]
[null,"Nao"]
[null,"Nao"]
[null,"Nao"]
[null,"Nao"]
[null,"Nao"]
[null,"Nao"]
[null,"Nao"]
[null,"Nao"]
[null,"Nao"]
[null,"Nao"]
[null,"Nao"]
[null,"Nao"]
[null,"Nao"]
[null,"Nao"]
[null,"Nao"]
[null,"Nao"]
[null,"Nao"]
[null,"Nao"]
[null,"Nao"]
[null,"Nao"]
[null,"Nao"]
[null,"Nao"]
[null,"Nao"]
[null,"Nao"]
[null,"Nao"]
[null,"Nao"]
[null,"Nao"]
[null,"Nao"]
[null,"Nao"]
[null,"Nao"]
[null,"Nao"]
[null,"Nao"]
[null,"Nao"]
[null,"Nao"]
[null,"Nao"]
[null,"Nao"]
[null,"Nao"]
[null,"Nao"]
[null,"Nao"]
[null,"Nao"]
[null,"Nao"]
[null,"Nao"]
[null,"Nao"]
[null,"Nao"]
[null,"Nao"]
[null,"Nao"]
[null,"Nao"]
[null,"Nao"]
[null,"Nao"]
[null,"Nao"]
[null,"Nao"]
[null,"Nao"]
[null,"Nao"]
[null,"Nao"]
[null,"Nao"]
[null,{"$f":"IF(A21591>0,\"Offhire\",\"Nao\")","v":"Nao"}]
[null,"Nao"]
[null,"Nao"]
[null,"Nao"]
[null,"Nao"]
[null,"Nao"]
[null,"Nao"]
[null,"Nao"]
[null,"Nao"]
[null,"Nao"]
[null,"Nao"]
[null,"Nao"]
[null,"Nao"]
[null,"Nao"]
[null,"Nao"]
[null,"Nao"]
[null,"Nao"]
[null,"Nao"]
[null,"Nao"]
[null,"Nao"]
[null,"Nao"]
[null,"Nao"]
[null,"Nao"]
[null,"Nao"]
[null,"Nao"]
[null,"Nao"]
[null,"Nao"]
[null,"Nao"]
[null,"Nao"]
[null,"Nao"]
[null,"Nao"]
[null,"Nao"]
[null,"Nao"]
[null,"Nao"]
[null,"Nao"]
[null,"Nao"]
[null,"Nao"]
[null,"Nao"]
[null,"Nao"]
[null,"Nao"]
[null,"Nao"]
[null,"Nao"]
[null,"Nao"]
[null,"Nao"]
[null,"Nao"]
[null,"Nao"]
[null,"Nao"]
[null,"Nao"]
[null,"Nao"]
[null,"Nao"]
[null,"Nao"]
[null,"Nao"]
[null,"Nao"]
[null,"Nao"]
[null,"Nao"]
[null,"Nao"]
[null,"Nao"]
[null,"Nao"]
[null,"Nao"]
[null,"Nao"]
[null,"Nao"]
[null,"Nao"]
[null,"Nao"]
[null,"Nao"]
[null,{"$f":"IF(A21655>0,\"Offhire\",\"Nao\")","v":"Nao"}]
[null,"Nao"]
[null,"Nao"]
[null,"Nao"]
[null,"Nao"]
[null,"Nao"]
[null,"Nao"]
[null,"Nao"]
[null,"Nao"]
[null,"Nao"]
[null,"Nao"]
[null,"Nao"]
[null,"Nao"]
[null,"Nao"]
[null,"Nao"]
[null,"Nao"]
[null,"Nao"]
[null,"Nao"]
[null,"Nao"]
[null,"Nao"]
[null,"Nao"]
[null,"Nao"]
[null,"Nao"]
[null,"Nao"]
[null,"Nao"]
[null,"Nao"]
[null,"Nao"]
[null,"Nao"]
[null,"Nao"]
[null,"Nao"]
[null,"Nao"]
[null,"Nao"]
[null,"Nao"]
[null,"Nao"]
[null,"Nao"]
[null,"Nao"]
[null,"Nao"]
[null,"Nao"]
[null,"Nao"]
[null,"Nao"]
[null,"Nao"]
[null,"Nao"]
[null,"Nao"]
[null,"Nao"]
[null,"Nao"]
[null,"Nao"]
[null,"Nao"]
[null,"Nao"]
[null,"Nao"]
[null,"Nao"]
[null,"Nao"]
[null,"Nao"]
[null,"Nao"]
[null,"Nao"]
[null,"Nao"]
[null,"Nao"]
[null,"Nao"]
[null,"Nao"]
[null,"Nao"]
[null,"Nao"]
[null,"Nao"]
[null,"Nao"]
[null,"Nao"]
[null,"Nao"]
[null,{"$f":"IF(A21719>0,\"Offhire\",\"Nao\")","v":"Nao"}]
[null,"Nao"]
[null,"Nao"]
[null,"Nao"]
[null,"Nao"]
[null,"Nao"]
[null,"Nao"]
[null,"Nao"]
[null,"Nao"]
[null,"Nao"]
[null,"Nao"]
[null,"Nao"]
[null,"Nao"]
[null,"Nao"]
[null,"Nao"]
[null,"Nao"]
[null,"Nao"]
[null,"Nao"]
[null,"Nao"]
[null,"Nao"]
[null,"Nao"]
[null,"Nao"]
[null,"Nao"]
[null,"Nao"]
[null,"Nao"]
[null,"Nao"]
[null,"Nao"]
[null,"Nao"]
[null,"Nao"]
[null,"Nao"]
[null,"Nao"]
[null,"Nao"]
[null,"Nao"]
[null,"Nao"]
[null,"Nao"]
[null,"Nao"]
[null,"Nao"]
[null,"Nao"]
[null,"Nao"]
[null,"Nao"]
[null,"Nao"]
[null,"Nao"]
[null,"Nao"]
[null,"Nao"]
[null,"Nao"]
[null,"Nao"]
[null,"Nao"]
[null,"Nao"]
[null,"Nao"]
[null,"Nao"]
[null,"Nao"]
[null,"Nao"]
[null,"Nao"]
[null,"Nao"]
[null,"Nao"]
[null,"Nao"]
[null,"Nao"]
[null,"Nao"]
[null,"Nao"]
[null,"Nao"]
[null,"Nao"]
[null,"Nao"]
[null,"Nao"]
[null,"Nao"]
[null,{"$f":"IF(A21783>0,\"Offhire\",\"Nao\")","v":"Nao"}]
[null,"Nao"]
[null,"Nao"]
[null,"Nao"]
[null,"Nao"]
[null,"Nao"]
[null,"Nao"]
[null,"Nao"]
[null,"Nao"]
[null,"Nao"]
[null,"Nao"]
[null,"Nao"]
[null,"Nao"]
[null,"Nao"]
[null,"Nao"]
[null,"Nao"]
[null,"Nao"]
[null,"Nao"]
[null,"Nao"]
[null,"Nao"]
[null,"Nao"]
[null,"Nao"]
[null,"Nao"]
[null,"Nao"]
[null,"Nao"]
[null,"Nao"]
[null,"Nao"]
[null,"Nao"]
[null,"Nao"]
[null,"Nao"]
[null,"Nao"]
[null,"Nao"]
[null,"Nao"]
[null,"Nao"]
[null,"Nao"]
[null,"Nao"]
[null,"Nao"]
[null,"Nao"]
[null,"Nao"]
[null,"Nao"]
[null,"Nao"]
[null,"Nao"]
[null,"Nao"]
[null,"Nao"]
[null,"Nao"]
[null,"Nao"]
[null,"Nao"]
[null,"Nao"]
[null,"Nao"]
[null,"Nao"]
[null,"Nao"]
[null,"Nao"]
[null,"Nao"]
[null,"Nao"]
[null,"Nao"]
[null,"Nao"]
[null,"Nao"]
[null,"Nao"]
[null,"Nao"]
[null,"Nao"]
[null,"Nao"]
[null,"Nao"]
[null,"Nao"]
[null,"Nao"]
[null,{"$f":"IF(A21847>0,\"Offhire\",\"Nao\")","v":"Nao"}]
[null,"Nao"]
[null,"Nao"]
[null,"Nao"]
[null,"Nao"]
[null,"Nao"]
[null,"Nao"]
[null,"Nao"]
[null,"Nao"]
[null,"Nao"]
[null,"Nao"]
[null,"Nao"]
[null,"Nao"]
[null,"Nao"]
[null,"Nao"]
[null,"Nao"]
[null,"Nao"]
[null,"Nao"]
[null,"Nao"]
[null,"Nao"]
[null,"Nao"]
[null,"Nao"]
[null,"Nao"]
[null,"Nao"]
[null,"Nao"]
[null,"Nao"]
[null,"Nao"]
[null,"Nao"]
[null,"Nao"]
[null,"Nao"]
[null,"Nao"]
[null,"Nao"]
[null,"Nao"]
[null,"Nao"]
[null,"Nao"]
[null,"Nao"]
[null,"Nao"]
[null,"Nao"]
[null,"Nao"]
[null,"Nao"]
[null,"Nao"]
[null,"Nao"]
[null,"Nao"]
[null,"Nao"]
[null,"Nao"]
[null,"Nao"]
[null,"Nao"]
[null,"Nao"]
[null,"Nao"]
[null,"Nao"]
[null,"Nao"]
[null,"Nao"]
[null,"Nao"]
[null,"Nao"]
[null,"Nao"]
[null,"Nao"]
[null,"Nao"]
[null,"Nao"]
[null,"Nao"]
[null,"Nao"]
[null,"Nao"]
[null,"Nao"]
[null,"Nao"]
[null,"Nao"]
[null,{"$f":"IF(A21911>0,\"Offhire\",\"Nao\")","v":"Nao"}]
[null,"Nao"]
[null,"Nao"]
[null,"Nao"]
[null,"Nao"]
[null,"Nao"]
[null,"Nao"]
[null,"Nao"]
[null,"Nao"]
[null,"Nao"]
[null,"Nao"]
[null,"Nao"]
[null,"Nao"]
[null,"Nao"]
[null,"Nao"]
[null,"Nao"]
[null,"Nao"]
[null,"Nao"]
[null,"Nao"]
[null,"Nao"]
[null,"Nao"]
[null,"Nao"]
[null,"Nao"]
[null,"Nao"]
[null,"Nao"]
[null,"Nao"]
[null,"Nao"]
[null,"Nao"]
[null,"Nao"]
[null,"Nao"]
[null,"Nao"]
[null,"Nao"]
[null,"Nao"]
[null,"Nao"]
[null,"Nao"]
[null,"Nao"]
[null,"Nao"]
[null,"Nao"]
[null,"Nao"]
[null,"Nao"]
[null,"Nao"]
[null,"Nao"]
[null,"Nao"]
[null,"Nao"]
[null,"Nao"]
[null,"Nao"]
[null,"Nao"]
[null,"Nao"]
[null,"Nao"]
[null,"Nao"]
[null,"Nao"]
[null,"Nao"]
[null,"Nao"]
[null,"Nao"]
[null,"Nao"]
[null,"Nao"]
[null,"Nao"]
[null,"Nao"]
[null,"Nao"]
[null,"Nao"]
[null,"Nao"]
[null,"Nao"]
[null,"Nao"]
[null,"Nao"]
[null,{"$f":"IF(A21975>0,\"Offhire\",\"Nao\")","v":"Nao"}]
[null,"Nao"]
[null,"Nao"]
[null,"Nao"]
[null,"Nao"]
[null,"Nao"]
[null,"Nao"]
[null,"Nao"]
[null,"Nao"]
[null,"Nao"]
[null,"Nao"]
[null,"Nao"]
[null,"Nao"]
[null,"Nao"]
[null,"Nao"]
[null,"Nao"]
[null,"Nao"]
[null,"Nao"]
[null,"Nao"]
[null,"Nao"]
[null,"Nao"]
[null,"Nao"]
[null,"Nao"]
[null,"Nao"]
[null,"Nao"]
[null,"Nao"]
[null,"Nao"]
[null,"Nao"]
[null,"Nao"]
[null,"Nao"]
[null,"Nao"]
[null,"Nao"]
[null,"Nao"]
[null,"Nao"]
[null,"Nao"]
[null,"Nao"]
[null,"Nao"]
[null,"Nao"]
[null,"Nao"]
[null,"Nao"]
[null,"Nao"]
[null,"Nao"]
[null,"Nao"]
[null,"Nao"]
[null,"Nao"]
[null,"Nao"]
[null,"Nao"]
[null,"Nao"]
[null,"Nao"]
[null,"Nao"]
[null,"Nao"]
[null,"Nao"]
[null,"Nao"]
[null,"Nao"]
[null,"Nao"]
[null,"Nao"]
[null,"Nao"]
[null,"Nao"]
[null,"Nao"]
[null,"Nao"]
[null,"Nao"]
[null,"Nao"]
[null,"Nao"]
[null,"Nao"]
[null,{"$f":"IF(A22039>0,\"Offhire\",\"Nao\")","v":"Nao"}]
[null,"Nao"]
[null,"Nao"]
[null,"Nao"]
[null,"Nao"]
[null,"Nao"]
[null,"Nao"]
[null,"Nao"]
[null,"Nao"]
[null,"Nao"]
[null,"Nao"]
[null,"Nao"]
[null,"Nao"]
[null,"Nao"]
[null,"Nao"]
[null,"Nao"]
[null,"Nao"]
[null,"Nao"]
[null,"Nao"]
[null,"Nao"]
[null,"Nao"]
[null,"Nao"]
[null,"Nao"]
[null,"Nao"]
[null,"Nao"]
[null,"Nao"]
[null,"Nao"]
[null,"Nao"]
[null,"Nao"]
[null,"Nao"]
[null,"Nao"]
[null,"Nao"]
[null,"Nao"]
[null,"Nao"]
[null,"Nao"]
[null,"Nao"]
[null,"Nao"]
[null,"Nao"]
[null,"Nao"]
[null,"Nao"]
[null,"Nao"]
[null,"Nao"]
[null,"Nao"]
[null,"Nao"]
[null,"Nao"]
[null,"Nao"]
[null,"Nao"]
[null,"Nao"]
[null,"Nao"]
[null,"Nao"]
[null,"Nao"]
[null,"Nao"]
[null,"Nao"]
[null,"Nao"]
[null,"Nao"]
[null,"Nao"]
[null,"Nao"]
[null,"Nao"]
[null,"Nao"]
[null,"Nao"]
[null,"Nao"]
[null,"Nao"]
[null,"Nao"]
[null,"Nao"]
[null,{"$f":"IF(A22103>0,\"Offhire\",\"Nao\")","v":"Nao"}]
[null,"Nao"]
[null,"Nao"]
[null,"Nao"]
[null,"Nao"]
[null,"Nao"]
[null,"Nao"]
[null,"Nao"]
[null,"Nao"]
[null,"Nao"]
[null,"Nao"]
[null,"Nao"]
[null,"Nao"]
[null,"Nao"]
[null,"Nao"]
[null,"Nao"]
[null,"Nao"]
[null,"Nao"]
[null,"Nao"]
[null,"Nao"]
[null,"Nao"]
[null,"Nao"]
[null,"Nao"]
[null,"Nao"]
[null,"Nao"]
[null,"Nao"]
[null,"Nao"]
[null,"Nao"]
[null,"Nao"]
[null,"Nao"]
[null,"Nao"]
[null,"Nao"]
[null,"Nao"]
[null,"Nao"]
[null,"Nao"]
[null,"Nao"]
[null,"Nao"]
[null,"Nao"]
[null,"Nao"]
[null,"Nao"]
[null,"Nao"]
[null,"Nao"]
[null,"Nao"]
[null,"Nao"]
[null,"Nao"]
[null,"Nao"]
[null,"Nao"]
[null,"Nao"]
[null,"Nao"]
[null,"Nao"]
[null,"Nao"]
[null,"Nao"]
[null,"Nao"]
[null,"Nao"]
[null,"Nao"]
[null,"Nao"]
[null,"Nao"]
[null,"Nao"]
[null,"Nao"]
[null,"Nao"]
[null,"Nao"]
[null,"Nao"]
[null,"Nao"]
[null,"Nao"]
[null,{"$f":"IF(A22167>0,\"Offhire\",\"Nao\")","v":"Nao"}]
[null,"Nao"]
[null,"Nao"]
[null,"Nao"]
[null,"Nao"]
[null,"Nao"]
[null,"Nao"]
[null,"Nao"]
[null,"Nao"]
[null,"Nao"]
[null,"Nao"]
[null,"Nao"]
[null,"Nao"]
[null,"Nao"]
[null,"Nao"]
[null,"Nao"]
[null,"Nao"]
[null,"Nao"]
[null,"Nao"]
[null,"Nao"]
[null,"Nao"]
[null,"Nao"]
[null,"Nao"]
[null,"Nao"]
[null,"Nao"]
[null,"Nao"]
[null,"Nao"]
[null,"Nao"]
[null,"Nao"]
[null,"Nao"]
[null,"Nao"]
[null,"Nao"]
[null,"Nao"]
[null,"Nao"]
[null,"Nao"]
[null,"Nao"]
[null,"Nao"]
[null,"Nao"]
[null,"Nao"]
[null,"Nao"]
[null,"Nao"]
[null,"Nao"]
[null,"Nao"]
[null,"Nao"]
[null,"Nao"]
[null,"Nao"]
[null,"Nao"]
[null,"Nao"]
[null,"Nao"]
[null,"Nao"]
[null,"Nao"]
[null,"Nao"]
[null,"Nao"]
[null,"Nao"]
[null,"Nao"]
[null,"Nao"]
[null,"Nao"]
[null,"Nao"]
[null,"Nao"]
[null,"Nao"]
[null,"Nao"]
[null,"Nao"]
[null,"Nao"]
[null,"Nao"]
[null,{"$f":"IF(A22231>0,\"Offhire\",\"Nao\")","v":"Nao"}]
[null,"Nao"]
[null,"Nao"]
[null,"Nao"]
[null,"Nao"]
[null,"Nao"]
[null,"Nao"]
[null,"Nao"]
[null,"Nao"]
[null,"Nao"]
[null,"Nao"]
[null,"Nao"]
[null,"Nao"]
[null,"Nao"]
[null,"Nao"]
[null,"Nao"]
[null,"Nao"]
[null,"Nao"]
[null,"Nao"]
[null,"Nao"]
[null,"Nao"]
[null,"Nao"]
[null,"Nao"]
[null,"Nao"]
[null,"Nao"]
[null,"Nao"]
[null,"Nao"]
[null,"Nao"]
[null,"Nao"]
[null,"Nao"]
[null,"Nao"]
[null,"Nao"]
[null,"Nao"]
[null,"Nao"]
[null,"Nao"]
[null,"Nao"]
[null,"Nao"]
[null,"Nao"]
[null,"Nao"]
[null,"Nao"]
[null,"Nao"]
[null,"Nao"]
[null,"Nao"]
[null,"Nao"]
[null,"Nao"]
[null,"Nao"]
[null,"Nao"]
[null,"Nao"]
[null,"Nao"]
[null,"Nao"]
[null,"Nao"]
[null,"Nao"]
[null,"Nao"]
[null,"Nao"]
[null,"Nao"]
[null,"Nao"]
[null,"Nao"]
[null,"Nao"]
[null,"Nao"]
[null,"Nao"]
[null,"Nao"]
[null,"Nao"]
[null,"Nao"]
[null,"Nao"]
[null,{"$f":"IF(A22295>0,\"Offhire\",\"Nao\")","v":"Nao"}]
[null,"Nao"]
[null,"Nao"]
[null,"Nao"]
[null,"Nao"]
[null,"Nao"]
[null,"Nao"]
[null,"Nao"]
[null,"Nao"]
[null,"Nao"]
[null,"Nao"]
[null,"Nao"]
[null,"Nao"]
[null,"Nao"]
[null,"Nao"]
[null,"Nao"]
[null,"Nao"]
[null,"Nao"]
[null,"Nao"]
[null,"Nao"]
[null,"Nao"]
[null,"Nao"]
[null,"Nao"]
[null,"Nao"]
[null,"Nao"]
[null,"Nao"]
[null,"Nao"]
[null,"Nao"]
[null,"Nao"]
[null,"Nao"]
[null,"Nao"]
[null,"Nao"]
[null,"Nao"]
[null,"Nao"]
[null,"Nao"]
[null,"Nao"]
[null,"Nao"]
[null,"Nao"]
[null,"Nao"]
[null,"Nao"]
[null,"Nao"]
[null,"Nao"]
[null,"Nao"]
[null,"Nao"]
[null,"Nao"]
[null,"Nao"]
[null,"Nao"]
[null,"Nao"]
[null,"Nao"]
[null,"Nao"]
[null,"Nao"]
[null,"Nao"]
[null,"Nao"]
[null,"Nao"]
[null,"Nao"]
[null,"Nao"]
[null,"Nao"]
[null,"Nao"]
[null,"Nao"]
[null,"Nao"]
[null,"Nao"]
[null,"Nao"]
[null,"Nao"]
[null,"Nao"]
[null,{"$f":"IF(A22359>0,\"Offhire\",\"Nao\")","v":"Nao"}]
[null,"Nao"]
[null,"Nao"]
[null,"Nao"]
[null,"Nao"]
[null,"Nao"]
[null,"Nao"]
[null,"Nao"]
[null,"Nao"]
[null,"Nao"]
[null,"Nao"]
[null,"Nao"]
[null,"Nao"]
[null,"Nao"]
[null,"Nao"]
[null,"Nao"]
[null,"Nao"]
[null,"Nao"]
[null,"Nao"]
[null,"Nao"]
[null,"Nao"]
[null,"Nao"]
[null,"Nao"]
[null,"Nao"]
[null,"Nao"]
[null,"Nao"]
[null,"Nao"]
[null,"Nao"]
[null,"Nao"]
[null,"Nao"]
[null,"Nao"]
[null,"Nao"]
[null,"Nao"]
[null,"Nao"]
[null,"Nao"]
[null,"Nao"]
[null,"Nao"]
[null,"Nao"]
[null,"Nao"]
[null,"Nao"]
[null,"Nao"]
[null,"Nao"]
[null,"Nao"]
[null,"Nao"]
[null,"Nao"]
[null,"Nao"]
[null,"Nao"]
[null,"Nao"]
[null,"Nao"]
[null,"Nao"]
[null,"Nao"]
[null,"Nao"]
[null,"Nao"]
[null,"Nao"]
[null,"Nao"]
[null,"Nao"]
[null,"Nao"]
[null,"Nao"]
[null,"Nao"]
[null,"Nao"]
[null,"Nao"]
[null,"Nao"]
[null,"Nao"]
[null,"Nao"]
[null,{"$f":"IF(A22423>0,\"Offhire\",\"Nao\")","v":"Nao"}]
[null,"Nao"]
[null,"Nao"]
[null,"Nao"]
[null,"Nao"]
[null,"Nao"]
[null,"Nao"]
[null,"Nao"]
[null,"Nao"]
[null,"Nao"]
[null,"Nao"]
[null,"Nao"]
[null,"Nao"]
[null,"Nao"]
[null,"Nao"]
[null,"Nao"]
[null,"Nao"]
[null,"Nao"]
[null,"Nao"]
[null,"Nao"]
[null,"Nao"]
[null,"Nao"]
[null,"Nao"]
[null,"Nao"]
[null,"Nao"]
[null,"Nao"]
[null,"Nao"]
[null,"Nao"]
[null,"Nao"]
[null,"Nao"]
[null,"Nao"]
[null,"Nao"]
[null,"Nao"]
[null,"Nao"]
[null,"Nao"]
[null,"Nao"]
[null,"Nao"]
[null,"Nao"]
[null,"Nao"]
[null,"Nao"]
[null,"Nao"]
[null,"Nao"]
[null,"Nao"]
[null,"Nao"]
[null,"Nao"]
[null,"Nao"]
[null,"Nao"]
[null,"Nao"]
[null,"Nao"]
[null,"Nao"]
[null,"Nao"]
[null,"Nao"]
[null,"Nao"]
[null,"Nao"]
[null,"Nao"]
[null,"Nao"]
[null,"Nao"]
[null,"Nao"]
[null,"Nao"]
[null,"Nao"]
[null,"Nao"]
[null,"Nao"]
[null,"Nao"]
[null,"Nao"]
[null,{"$f":"IF(A22487>0,\"Offhire\",\"Nao\")","v":"Nao"}]
[null,"Nao"]
[null,"Nao"]
[null,"Nao"]
[null,"Nao"]
[null,"Nao"]
[null,"Nao"]
[null,"Nao"]
[null,"Nao"]
[null,"Nao"]
[null,"Nao"]
[null,"Nao"]
[null,"Nao"]
[null,"Nao"]
[null,"Nao"]
[null,"Nao"]
[null,"Nao"]
[null,"Nao"]
[null,"Nao"]
[null,"Nao"]
[null,"Nao"]
[null,"Nao"]
[null,"Nao"]
[null,"Nao"]
[null,"Nao"]
[null,"Nao"]
[null,"Nao"]
[null,"Nao"]
[null,"Nao"]
[null,"Nao"]
[null,"Nao"]
[null,"Nao"]
[null,"Nao"]
[null,"Nao"]
[null,"Nao"]
[null,"Nao"]
[null,"Nao"]
[null,"Nao"]
[null,"Nao"]
[null,"Nao"]
[null,"Nao"]
[null,"Nao"]
[null,"Nao"]
[null,"Nao"]
[null,"Nao"]
[null,"Nao"]
[null,"Nao"]
[null,"Nao"]
[null,"Nao"]
[null,"Nao"]
[null,"Nao"]
[null,"Nao"]
[null,"Nao"]
[null,"Nao"]
[null,"Nao"]
[null,"Nao"]
[null,"Nao"]
[null,"Nao"]
[null,"Nao"]
[null,"Nao"]
[null,"Nao"]
[null,"Nao"]
[null,"Nao"]
[null,"Nao"]
[null,{"$f":"IF(A22551>0,\"Offhire\",\"Nao\")","v":"Nao"}]
[null,"Nao"]
[null,"Nao"]
[null,"Nao"]
[null,"Nao"]
[null,"Nao"]
[null,"Nao"]
[null,"Nao"]
[null,"Nao"]
[null,"Nao"]
[null,"Nao"]
[null,"Nao"]
[null,"Nao"]
[null,"Nao"]
[null,"Nao"]
[null,"Nao"]
[null,"Nao"]
[null,"Nao"]
[null,"Nao"]
[null,"Nao"]
[null,"Nao"]
[null,"Nao"]
[null,"Nao"]
[null,"Nao"]
[null,"Nao"]
[null,"Nao"]
[null,"Nao"]
[null,"Nao"]
[null,"Nao"]
[null,"Nao"]
[null,"Nao"]
[null,"Nao"]
[null,"Nao"]
[null,"Nao"]
[null,"Nao"]
[null,"Nao"]
[null,"Nao"]
[null,"Nao"]
[null,"Nao"]
[null,"Nao"]
[null,"Nao"]
[null,"Nao"]
[null,"Nao"]
[null,"Nao"]
[null,"Nao"]
[null,"Nao"]
[null,"Nao"]
[null,"Nao"]
[null,"Nao"]
[null,"Nao"]
[null,"Nao"]
[null,"Nao"]
[null,"Nao"]
[null,"Nao"]
[null,"Nao"]
[null,"Nao"]
[null,"Nao"]
[null,"Nao"]
[null,"Nao"]
[null,"Nao"]
[null,"Nao"]
[null,"Nao"]
[null,"Nao"]
[null,"Nao"]
[null,{"$f":"IF(A22615>0,\"Offhire\",\"Nao\")","v":"Nao"}]
[null,"Nao"]
[null,"Nao"]
[null,"Nao"]
[null,"Nao"]
[null,"Nao"]
[null,"Nao"]
[null,"Nao"]
[null,"Nao"]
[null,"Nao"]
[null,"Nao"]
[null,"Nao"]
[null,"Nao"]
[null,"Nao"]
[null,"Nao"]
[null,"Nao"]
[null,"Nao"]
[null,"Nao"]
[null,"Nao"]
[null,"Nao"]
[null,"Nao"]
[null,"Nao"]
[null,"Nao"]
[null,"Nao"]
[null,"Nao"]
[null,"Nao"]
[null,"Nao"]
[null,"Nao"]
[null,"Nao"]
[null,"Nao"]
[null,"Nao"]
[null,"Nao"]
[null,"Nao"]
[null,"Nao"]
[null,"Nao"]
[null,"Nao"]
[null,"Nao"]
[null,"Nao"]
[null,"Nao"]
[null,"Nao"]
[null,"Nao"]
[null,"Nao"]
[null,"Nao"]
[null,"Nao"]
[null,"Nao"]
[null,"Nao"]
[null,"Nao"]
[null,"Nao"]
[null,"Nao"]
[null,"Nao"]
[null,"Nao"]
[null,"Nao"]
[null,"Nao"]
[null,"Nao"]
[null,"Nao"]
[null,"Nao"]
[null,"Nao"]
[null,"Nao"]
[null,"Nao"]
[null,"Nao"]
[null,"Nao"]
[null,"Nao"]
[null,"Nao"]
[null,"Nao"]
[null,{"$f":"IF(A22679>0,\"Offhire\",\"Nao\")","v":"Nao"}]
[null,"Nao"]
[null,"Nao"]
[null,"Nao"]
[null,"Nao"]
[null,"Nao"]
[null,"Nao"]
[null,"Nao"]
[null,"Nao"]
[null,"Nao"]
[null,"Nao"]
[null,"Nao"]
[null,"Nao"]
[null,"Nao"]
[null,"Nao"]
[null,"Nao"]
[null,"Nao"]
[null,"Nao"]
[null,"Nao"]
[null,"Nao"]
[null,"Nao"]
[null,"Nao"]
[null,"Nao"]
[null,"Nao"]
[null,"Nao"]
[null,"Nao"]
[null,"Nao"]
[null,"Nao"]
[null,"Nao"]
[null,"Nao"]
[null,"Nao"]
[null,"Nao"]
[null,"Nao"]
[null,"Nao"]
[null,"Nao"]
[null,"Nao"]
[null,"Nao"]
[null,"Nao"]
[null,"Nao"]
[null,"Nao"]
[null,"Nao"]
[null,"Nao"]
[null,"Nao"]
[null,"Nao"]
[null,"Nao"]
[null,"Nao"]
[null,"Nao"]
[null,"Nao"]
[null,"Nao"]
[null,"Nao"]
[null,"Nao"]
[null,"Nao"]
[null,"Nao"]
[null,"Nao"]
[null,"Nao"]
[null,"Nao"]
[null,"Nao"]
[null,"Nao"]
[null,"Nao"]
[null,"Nao"]
[null,"Nao"]
[null,"Nao"]
[null,"Nao"]
[null,"Nao"]
[null,{"$f":"IF(A22743>0,\"Offhire\",\"Nao\")","v":"Nao"}]
[null,"Nao"]
[null,"Nao"]
[null,"Nao"]
[null,"Nao"]
[null,"Nao"]
[null,"Nao"]
[null,"Nao"]
[null,"Nao"]
[null,"Nao"]
[null,"Nao"]
[null,"Nao"]
[null,"Nao"]
[null,"Nao"]
[null,"Nao"]
[null,"Nao"]
[null,"Nao"]
[null,"Nao"]
[null,"Nao"]
[null,"Nao"]
[null,"Nao"]
[null,"Nao"]
[null,"Nao"]
[null,"Nao"]
[null,"Nao"]
[null,"Nao"]
[null,"Nao"]
[null,"Nao"]
[null,"Nao"]
[null,"Nao"]
[null,"Nao"]
[null,"Nao"]
[null,"Nao"]
[null,"Nao"]
[null,"Nao"]
[null,"Nao"]
[null,"Nao"]
[null,"Nao"]
[null,"Nao"]
[null,"Nao"]
[null,"Nao"]
[null,"Nao"]
[null,"Nao"]
[null,"Nao"]
[null,"Nao"]
[null,"Nao"]
[null,"Nao"]
[null,"Nao"]
[null,"Nao"]
[null,"Nao"]
[null,"Nao"]
[null,"Nao"]
[null,"Nao"]
[null,"Nao"]
[null,"Nao"]
[null,"Nao"]
[null,"Nao"]
[null,"Nao"]
[null,"Nao"]
[null,"Nao"]
[null,"Nao"]
[null,"Nao"]
[null,"Nao"]
[null,"Nao"]
[null,{"$f":"IF(A22807>0,\"Offhire\",\"Nao\")","v":"Nao"}]
[null,"Nao"]
[null,"Nao"]
[null,"Nao"]
[null,"Nao"]
[null,"Nao"]
[null,"Nao"]
[null,"Nao"]
[null,"Nao"]
[null,"Nao"]
[null,"Nao"]
[null,"Nao"]
[null,"Nao"]
[null,"Nao"]
[null,"Nao"]
[null,"Nao"]
[null,"Nao"]
[null,"Nao"]
[null,"Nao"]
[null,"Nao"]
[null,"Nao"]
[null,"Nao"]
[null,"Nao"]
[null,"Nao"]
[null,"Nao"]
[null,"Nao"]
[null,"Nao"]
[null,"Nao"]
[null,"Nao"]
[null,"Nao"]
[null,"Nao"]
[null,"Nao"]
[null,"Nao"]
[null,"Nao"]
[null,"Nao"]
[null,"Nao"]
[null,"Nao"]
[null,"Nao"]
[null,"Nao"]
[null,"Nao"]
[null,"Nao"]
[null,"Nao"]
[null,"Nao"]
[null,"Nao"]
[null,"Nao"]
[null,"Nao"]
[null,"Nao"]
[null,"Nao"]
[null,"Nao"]
[null,"Nao"]
[null,"Nao"]
[null,"Nao"]
[null,"Nao"]
[null,"Nao"]
[null,"Nao"]
[null,"Nao"]
[null,"Nao"]
[null,"Nao"]
[null,"Nao"]
[null,"Nao"]
[null,"Nao"]
[null,"Nao"]
[null,"Nao"]
[null,"Nao"]
[null,{"$f":"IF(A22871>0,\"Offhire\",\"Nao\")","v":"Nao"}]
[null,"Nao"]
[null,"Nao"]
[null,"Nao"]
[null,"Nao"]
[null,"Nao"]
[null,"Nao"]
[null,"Nao"]
[null,"Nao"]
[null,"Nao"]
[null,"Nao"]
[null,"Nao"]
[null,"Nao"]
[null,"Nao"]
[null,"Nao"]
[null,"Nao"]
[null,"Nao"]
[null,"Nao"]
[null,"Nao"]
[null,"Nao"]
[null,"Nao"]
[null,"Nao"]
[null,"Nao"]
[null,"Nao"]
[null,"Nao"]
[null,"Nao"]
[null,"Nao"]
[null,"Nao"]
[null,"Nao"]
[null,"Nao"]
[null,"Nao"]
[null,"Nao"]
[null,"Nao"]
[null,"Nao"]
[null,"Nao"]
[null,"Nao"]
[null,"Nao"]
[null,"Nao"]
[null,"Nao"]
[null,"Nao"]
[null,"Nao"]
[null,"Nao"]
[null,"Nao"]
[null,"Nao"]
[null,"Nao"]
[null,"Nao"]
[null,"Nao"]
[null,"Nao"]
[null,"Nao"]
[null,"Nao"]
[null,"Nao"]
[null,"Nao"]
[null,"Nao"]
[null,"Nao"]
[null,"Nao"]
[null,"Nao"]
[null,"Nao"]
[null,"Nao"]
[null,"Nao"]
[null,"Nao"]
[null,"Nao"]
[null,"Nao"]
[null,"Nao"]
[null,"Nao"]
[null,{"$f":"IF(A22935>0,\"Offhire\",\"Nao\")","v":"Nao"}]
[null,"Nao"]
[null,"Nao"]
[null,"Nao"]
[null,"Nao"]
[null,"Nao"]
[null,"Nao"]
[null,"Nao"]
[null,"Nao"]
[null,"Nao"]
[null,"Nao"]
[null,"Nao"]
[null,"Nao"]
[null,"Nao"]
[null,"Nao"]
[null,"Nao"]
[null,"Nao"]
[null,"Nao"]
[null,"Nao"]
[null,"Nao"]
[null,"Nao"]
[null,"Nao"]
[null,"Nao"]
[null,"Nao"]
[null,"Nao"]
[null,"Nao"]
[null,"Nao"]
[null,"Nao"]
[null,"Nao"]
[null,"Nao"]
[null,"Nao"]
[null,"Nao"]
[null,"Nao"]
[null,"Nao"]
[null,"Nao"]
[null,"Nao"]
[null,"Nao"]
[null,"Nao"]
[null,"Nao"]
[null,"Nao"]
[null,"Nao"]
[null,"Nao"]
[null,"Nao"]
[null,"Nao"]
[null,"Nao"]
[null,"Nao"]
[null,"Nao"]
[null,"Nao"]
[null,"Nao"]
[null,"Nao"]
[null,"Nao"]
[null,"Nao"]
[null,"Nao"]
[null,"Nao"]
[null,"Nao"]
[null,"Nao"]
[null,"Nao"]
[null,"Nao"]
[null,"Nao"]
[null,"Nao"]
[null,"Nao"]
[null,"Nao"]
[null,"Nao"]
[null,"Nao"]
[null,{"$f":"IF(A22999>0,\"Offhire\",\"Nao\")","v":"Nao"}]
[null,"Nao"]
[null,"Nao"]
[null,"Nao"]
[null,"Nao"]
[null,"Nao"]
[null,"Nao"]
[null,"Nao"]
[null,"Nao"]
[null,"Nao"]
[null,"Nao"]
[null,"Nao"]
[null,"Nao"]
[null,"Nao"]
[null,"Nao"]
[null,"Nao"]
[null,"Nao"]
[null,"Nao"]
[null,"Nao"]
[null,"Nao"]
[null,"Nao"]
[null,"Nao"]
[null,"Nao"]
[null,"Nao"]
[null,"Nao"]
[null,"Nao"]
[null,"Nao"]
[null,"Nao"]
[null,"Nao"]
[null,"Nao"]
[null,"Nao"]
[null,"Nao"]
[null,"Nao"]
[null,"Nao"]
[null,"Nao"]
[null,"Nao"]
[null,"Nao"]
[null,"Nao"]
[null,"Nao"]
[null,"Nao"]
[null,"Nao"]
[null,"Nao"]
[null,"Nao"]
[null,"Nao"]
[null,"Nao"]
[null,"Nao"]
[null,"Nao"]
[null,"Nao"]
[null,"Nao"]
[null,"Nao"]
[null,"Nao"]
[null,"Nao"]
[null,"Nao"]
[null,"Nao"]
[null,"Nao"]
[null,"Nao"]
[null,"Nao"]
[null,"Nao"]
[null,"Nao"]
[null,"Nao"]
[null,"Nao"]
[null,"Nao"]
[null,"Nao"]
[null,"Nao"]
[null,{"$f":"IF(A23063>0,\"Offhire\",\"Nao\")","v":"Nao"}]
[null,"Nao"]
[null,"Nao"]
[null,"Nao"]
[null,"Nao"]
[null,"Nao"]
[null,"Nao"]
[null,"Nao"]
[null,"Nao"]
[null,"Nao"]
[null,"Nao"]
[null,"Nao"]
[null,"Nao"]
[null,"Nao"]
[null,"Nao"]
[null,"Nao"]
[null,"Nao"]
[null,"Nao"]
[null,"Nao"]
[null,"Nao"]
[null,"Nao"]
[null,"Nao"]
[null,"Nao"]
[null,"Nao"]
[null,"Nao"]
[null,"Nao"]
[null,"Nao"]
[null,"Nao"]
[null,"Nao"]
[null,"Nao"]
[null,"Nao"]
[null,"Nao"]
[null,"Nao"]
[null,"Nao"]
[null,"Nao"]
[null,"Nao"]
[null,"Nao"]
[null,"Nao"]
[null,"Nao"]
[null,"Nao"]
[null,"Nao"]
[null,"Nao"]
[null,"Nao"]
[null,"Nao"]
[null,"Nao"]
[null,"Nao"]
[null,"Nao"]
[null,"Nao"]
[null,"Nao"]
[null,"Nao"]
[null,"Nao"]
[null,"Nao"]
[null,"Nao"]
[null,"Nao"]
[null,"Nao"]
[null,"Nao"]
[null,"Nao"]
[null,"Nao"]
[null,"Nao"]
[null,"Nao"]
[null,"Nao"]
[null,"Nao"]
[null,"Nao"]
[null,"Nao"]
[null,{"$f":"IF(A23127>0,\"Offhire\",\"Nao\")","v":"Nao"}]
[null,"Nao"]
[null,"Nao"]
[null,"Nao"]
[null,"Nao"]
[null,"Nao"]
[null,"Nao"]
[null,"Nao"]
[null,"Nao"]
[null,"Nao"]
[null,"Nao"]
[null,"Nao"]
[null,"Nao"]
[null,"Nao"]
[null,"Nao"]
[null,"Nao"]
[null,"Nao"]
[null,"Nao"]
[null,"Nao"]
[null,"Nao"]
[null,"Nao"]
[null,"Nao"]
[null,"Nao"]
[null,"Nao"]
[null,"Nao"]
[null,"Nao"]
[null,"Nao"]
[null,"Nao"]
[null,"Nao"]
[null,"Nao"]
[null,"Nao"]
[null,"Nao"]
[null,"Nao"]
[null,"Nao"]
[null,"Nao"]
[null,"Nao"]
[null,"Nao"]
[null,"Nao"]
[null,"Nao"]
[null,"Nao"]
[null,"Nao"]
[null,"Nao"]
[null,"Nao"]
[null,"Nao"]
[null,"Nao"]
[null,"Nao"]
[null,"Nao"]
[null,"Nao"]
[null,"Nao"]
[null,"Nao"]
[null,"Nao"]
[null,"Nao"]
[null,"Nao"]
[null,"Nao"]
[null,"Nao"]
[null,"Nao"]
[null,"Nao"]
[null,"Nao"]
[null,"Nao"]
[null,"Nao"]
[null,"Nao"]
[null,"Nao"]
[null,"Nao"]
[null,"Nao"]
[null,{"$f":"IF(A23191>0,\"Offhire\",\"Nao\")","v":"Nao"}]
[null,"Nao"]
[null,"Nao"]
[null,"Nao"]
[null,"Nao"]
[null,"Nao"]
[null,"Nao"]
[null,"Nao"]
[null,"Nao"]
[null,"Nao"]
[null,"Nao"]
[null,"Nao"]
[null,"Nao"]
[null,"Nao"]
[null,"Nao"]
[null,"Nao"]
[null,"Nao"]
[null,"Nao"]
[null,"Nao"]
[null,"Nao"]
[null,"Nao"]
[null,"Nao"]
[null,"Nao"]
[null,"Nao"]
[null,"Nao"]
[null,"Nao"]
[null,"Nao"]
[null,"Nao"]
[null,"Nao"]
[null,"Nao"]
[null,"Nao"]
[null,"Nao"]
[null,"Nao"]
[null,"Nao"]
[null,"Nao"]
[null,"Nao"]
[null,"Nao"]
[null,"Nao"]
[null,"Nao"]
[null,"Nao"]
[null,"Nao"]
[null,"Nao"]
[null,"Nao"]
[null,"Nao"]
[null,"Nao"]
[null,"Nao"]
[null,"Nao"]
[null,"Nao"]
[null,"Nao"]
[null,"Nao"]
[null,"Nao"]
[null,"Nao"]
[null,"Nao"]
[null,"Nao"]
[null,"Nao"]
[null,"Nao"]
[null,"Nao"]
[null,"Nao"]
[null,"Nao"]
[null,"Nao"]
[null,"Nao"]
[null,"Nao"]
[null,"Nao"]
[null,"Nao"]
[null,{"$f":"IF(A23255>0,\"Offhire\",\"Nao\")","v":"Nao"}]
[null,"Nao"]
[null,"Nao"]
[null,"Nao"]
[null,"Nao"]
[null,"Nao"]
[null,"Nao"]
[null,"Nao"]
[null,"Nao"]
[null,"Nao"]
[null,"Nao"]
[null,"Nao"]
[null,"Nao"]
[null,"Nao"]
[null,"Nao"]
[null,"Nao"]
[null,"Nao"]
[null,"Nao"]
[null,"Nao"]
[null,"Nao"]
[null,"Nao"]
[null,"Nao"]
[null,"Nao"]
[null,"Nao"]
[null,"Nao"]
[null,"Nao"]
[null,"Nao"]
[null,"Nao"]
[null,"Nao"]
[null,"Nao"]
[null,"Nao"]
[null,"Nao"]
[null,"Nao"]
[null,"Nao"]
[null,"Nao"]
[null,"Nao"]
[null,"Nao"]
[null,"Nao"]
[null,"Nao"]
[null,"Nao"]
[null,"Nao"]
[null,"Nao"]
[null,"Nao"]
[null,"Nao"]
[null,"Nao"]
[null,"Nao"]
[null,"Nao"]
[null,"Nao"]
[null,"Nao"]
[null,"Nao"]
[null,"Nao"]
[null,"Nao"]
[null,"Nao"]
[null,"Nao"]
[null,"Nao"]
[null,"Nao"]
[null,"Nao"]
[null,"Nao"]
[null,"Nao"]
[null,"Nao"]
[null,"Nao"]
[null,"Nao"]
[null,"Nao"]
[null,"Nao"]
[null,{"$f":"IF(A23319>0,\"Offhire\",\"Nao\")","v":"Nao"}]
[null,"Nao"]
[null,"Nao"]
[null,"Nao"]
[null,"Nao"]
[null,"Nao"]
[null,"Nao"]
[null,"Nao"]
[null,"Nao"]
[null,"Nao"]
[null,"Nao"]
[null,"Nao"]
[null,"Nao"]
[null,"Nao"]
[null,"Nao"]
[null,"Nao"]
[null,"Nao"]
[null,"Nao"]
[null,"Nao"]
[null,"Nao"]
[null,"Nao"]
[null,"Nao"]
[null,"Nao"]
[null,"Nao"]
[null,"Nao"]
[null,"Nao"]
[null,"Nao"]
[null,"Nao"]
[null,"Nao"]
[null,"Nao"]
[null,"Nao"]
[null,"Nao"]
[null,"Nao"]
[null,"Nao"]
[null,"Nao"]
[null,"Nao"]
[null,"Nao"]
[null,"Nao"]
[null,"Nao"]
[null,"Nao"]
[null,"Nao"]
[null,"Nao"]
[null,"Nao"]
[null,"Nao"]
[null,"Nao"]
[null,"Nao"]
[null,"Nao"]
[null,"Nao"]
[null,"Nao"]
[null,"Nao"]
[null,"Nao"]
[null,"Nao"]
[null,"Nao"]
[null,"Nao"]
[null,"Nao"]
[null,"Nao"]
[null,"Nao"]
[null,"Nao"]
[null,"Nao"]
[null,"Nao"]
[null,"Nao"]
[null,"Nao"]
[null,"Nao"]
[null,"Nao"]
[null,{"$f":"IF(A23383>0,\"Offhire\",\"Nao\")","v":"Nao"}]
[null,"Nao"]
[null,"Nao"]
[null,"Nao"]
[null,"Nao"]
[null,"Nao"]
[null,"Nao"]
[null,"Nao"]
[null,"Nao"]
[null,"Nao"]
[null,"Nao"]
[null,"Nao"]
[null,"Nao"]
[null,"Nao"]
[null,"Nao"]
[null,"Nao"]
[null,"Nao"]
[null,"Nao"]
[null,"Nao"]
[null,"Nao"]
[null,"Nao"]
[null,"Nao"]
[null,"Nao"]
[null,"Nao"]
[null,"Nao"]
[null,"Nao"]
[null,"Nao"]
[null,"Nao"]
[null,"Nao"]
[null,"Nao"]
[null,"Nao"]
[null,"Nao"]
[null,"Nao"]
[null,"Nao"]
[null,"Nao"]
[null,"Nao"]
[null,"Nao"]
[null,"Nao"]
[null,"Nao"]
[null,"Nao"]
[null,"Nao"]
[null,"Nao"]
[null,"Nao"]
[null,"Nao"]
[null,"Nao"]
[null,"Nao"]
[null,"Nao"]
[null,"Nao"]
[null,"Nao"]
[null,"Nao"]
[null,"Nao"]
[null,"Nao"]
[null,"Nao"]
[null,"Nao"]
[null,"Nao"]
[null,"Nao"]
[null,"Nao"]
[null,"Nao"]
[null,"Nao"]
[null,"Nao"]
[null,"Nao"]
[null,"Nao"]
[null,"Nao"]
[null,"Nao"]
[null,{"$f":"IF(A23447>0,\"Offhire\",\"Nao\")","v":"Nao"}]
[null,"Nao"]
[null,"Nao"]
[null,"Nao"]
[null,"Nao"]
[null,"Nao"]
[null,"Nao"]
[null,"Nao"]
[null,"Nao"]
[null,"Nao"]
[null,"Nao"]
[null,"Nao"]
[null,"Nao"]
[null,"Nao"]
[null,"Nao"]
[null,"Nao"]
[null,"Nao"]
[null,"Nao"]
[null,"Nao"]
[null,"Nao"]
[null,"Nao"]
[null,"Nao"]
[null,"Nao"]
[null,"Nao"]
[null,"Nao"]
[null,"Nao"]
[null,"Nao"]
[null,"Nao"]
[null,"Nao"]
[null,"Nao"]
[null,"Nao"]
[null,"Nao"]
[null,"Nao"]
[null,"Nao"]
[null,"Nao"]
[null,"Nao"]
[null,"Nao"]
[null,"Nao"]
[null,"Nao"]
[null,"Nao"]
[null,"Nao"]
[null,"Nao"]
[null,"Nao"]
[null,"Nao"]
[null,"Nao"]
[null,"Nao"]
[null,"Nao"]
[null,"Nao"]
[null,"Nao"]
[null,"Nao"]
[null,"Nao"]
[null,"Nao"]
[null,"Nao"]
[null,"Nao"]
[null,"Nao"]
[null,"Nao"]
[null,"Nao"]
[null,"Nao"]
[null,"Nao"]
[null,"Nao"]
[null,"Nao"]
[null,"Nao"]
[null,"Nao"]
[null,"Nao"]
[null,{"$f":"IF(A23511>0,\"Offhire\",\"Nao\")","v":"Nao"}]
[null,"Nao"]
[null,"Nao"]
[null,"Nao"]
[null,"Nao"]
[null,"Nao"]
[null,"Nao"]
[null,"Nao"]
[null,"Nao"]
[null,"Nao"]
[null,"Nao"]
[null,"Nao"]
[null,"Nao"]
[null,"Nao"]
[null,"Nao"]
[null,"Nao"]
[null,"Nao"]
[null,"Nao"]
[null,"Nao"]
[null,"Nao"]
[null,"Nao"]
[null,"Nao"]
[null,"Nao"]
[null,"Nao"]
[null,"Nao"]
[null,"Nao"]
[null,"Nao"]
[null,"Nao"]
[null,"Nao"]
[null,"Nao"]
[null,"Nao"]
[null,"Nao"]
[null,"Nao"]
[null,"Nao"]
[null,"Nao"]
[null,"Nao"]
[null,"Nao"]
[null,"Nao"]
[null,"Nao"]
[null,"Nao"]
[null,"Nao"]
[null,"Nao"]
[null,"Nao"]
[null,"Nao"]
[null,"Nao"]
[null,"Nao"]
[null,"Nao"]
[null,"Nao"]
[null,"Nao"]
[null,"Nao"]
[null,"Nao"]
[null,"Nao"]
[null,"Nao"]
[null,"Nao"]
[null,"Nao"]
[null,"Nao"]
[null,"Nao"]
[null,"Nao"]
[null,"Nao"]
[null,"Nao"]
[null,"Nao"]
[null,"Nao"]
[null,"Nao"]
[null,"Nao"]
[null,{"$f":"IF(A23575>0,\"Offhire\",\"Nao\")","v":"Nao"}]
[null,"Nao"]
[null,"Nao"]
[null,"Nao"]
[null,"Nao"]
[null,"Nao"]
[null,"Nao"]
[null,"Nao"]
[null,"Nao"]
[null,"Nao"]
[null,"Nao"]
[null,"Nao"]
[null,"Nao"]
[null,"Nao"]
[null,"Nao"]
[null,"Nao"]
[null,"Nao"]
[null,"Nao"]
[null,"Nao"]
[null,"Nao"]
[null,"Nao"]
[null,"Nao"]
[null,"Nao"]
[null,"Nao"]
[null,"Nao"]
[null,"Nao"]
[null,"Nao"]
[null,"Nao"]
[null,"Nao"]
[null,"Nao"]
[null,"Nao"]
[null,"Nao"]
[null,"Nao"]
[null,"Nao"]
[null,"Nao"]
[null,"Nao"]
[null,"Nao"]
[null,"Nao"]
[null,"Nao"]
[null,"Nao"]
[null,"Nao"]
[null,"Nao"]
[null,"Nao"]
[null,"Nao"]
[null,"Nao"]
[null,"Nao"]
[null,"Nao"]
[null,"Nao"]
[null,"Nao"]
[null,"Nao"]
[null,"Nao"]
[null,"Nao"]
[null,"Nao"]
[null,"Nao"]
[null,"Nao"]
[null,"Nao"]
[null,"Nao"]
[null,"Nao"]
[null,"Nao"]
[null,"Nao"]
[null,"Nao"]
[null,"Nao"]
[null,"Nao"]
[null,"Nao"]
[null,{"$f":"IF(A23639>0,\"Offhire\",\"Nao\")","v":"Nao"}]
[null,"Nao"]
[null,"Nao"]
[null,"Nao"]
[null,"Nao"]
[null,"Nao"]
[null,"Nao"]
[null,"Nao"]
[null,"Nao"]
[null,"Nao"]
[null,"Nao"]
[null,"Nao"]
[null,"Nao"]
[null,"Nao"]
[null,"Nao"]
[null,"Nao"]
[null,"Nao"]
[null,"Nao"]
[null,"Nao"]
[null,"Nao"]
[null,"Nao"]
[null,"Nao"]
[null,"Nao"]
[null,"Nao"]
[null,"Nao"]
[null,"Nao"]
[null,"Nao"]
[null,"Nao"]
[null,"Nao"]
[null,"Nao"]
[null,"Nao"]
[null,"Nao"]
[null,"Nao"]
[null,"Nao"]
[null,"Nao"]
[null,"Nao"]
[null,"Nao"]
[null,"Nao"]
[null,"Nao"]
[null,"Nao"]
[null,"Nao"]
[null,"Nao"]
[null,"Nao"]
[null,"Nao"]
[null,"Nao"]
[null,"Nao"]
[null,"Nao"]
[null,"Nao"]
[null,"Nao"]
[null,"Nao"]
[null,"Nao"]
[null,"Nao"]
[null,"Nao"]
[null,"Nao"]
[null,"Nao"]
[null,"Nao"]
[null,"Nao"]
[null,"Nao"]
[null,"Nao"]
[null,"Nao"]
[null,"Nao"]
[null,"Nao"]
[null,"Nao"]
[null,"Nao"]
[null,{"$f":"IF(A23703>0,\"Offhire\",\"Nao\")","v":"Nao"}]
[null,"Nao"]
[null,"Nao"]
[null,"Nao"]
[null,"Nao"]
[null,"Nao"]
[null,"Nao"]
[null,"Nao"]
[null,"Nao"]
[null,"Nao"]
[null,"Nao"]
[null,"Nao"]
[null,"Nao"]
[null,"Nao"]
[null,"Nao"]
[null,"Nao"]
[null,"Nao"]
[null,"Nao"]
[null,"Nao"]
[null,"Nao"]
[null,"Nao"]
[null,"Nao"]
[null,"Nao"]
[null,"Nao"]
[null,"Nao"]
[null,"Nao"]
[null,"Nao"]
[null,"Nao"]
[null,"Nao"]
[null,"Nao"]
[null,"Nao"]
[null,"Nao"]
[null,"Nao"]
[null,"Nao"]
[null,"Nao"]
[null,"Nao"]
[null,"Nao"]
[null,"Nao"]
[null,"Nao"]
[null,"Nao"]
[null,"Nao"]
[null,"Nao"]
[null,"Nao"]
[null,"Nao"]
[null,"Nao"]
[null,"Nao"]
[null,"Nao"]
[null,"Nao"]
[null,"Nao"]
[null,"Nao"]
[null,"Nao"]
[null,"Nao"]
[null,"Nao"]
[null,"Nao"]
[null,"Nao"]
[null,"Nao"]
[null,"Nao"]
[null,"Nao"]
[null,"Nao"]
[null,"Nao"]
[null,"Nao"]
[null,"Nao"]
[null,"Nao"]
[null,"Nao"]
[null,{"$f":"IF(A23767>0,\"Offhire\",\"Nao\")","v":"Nao"}]
[null,"Nao"]
[null,"Nao"]
[null,"Nao"]
[null,"Nao"]
[null,"Nao"]
[null,"Nao"]
[null,"Nao"]
[null,"Nao"]
[null,"Nao"]
[null,"Nao"]
[null,"Nao"]
[null,"Nao"]
[null,"Nao"]
[null,"Nao"]
[null,"Nao"]
[null,"Nao"]
[null,"Nao"]
[null,"Nao"]
[null,"Nao"]
[null,"Nao"]
[null,"Nao"]
[null,"Nao"]
[null,"Nao"]
[null,"Nao"]
[null,"Nao"]
[null,"Nao"]
[null,"Nao"]
[null,"Nao"]
[null,"Nao"]
[null,"Nao"]
[null,"Nao"]
[null,"Nao"]
[null,"Nao"]
[null,"Nao"]
[null,"Nao"]
[null,"Nao"]
[null,"Nao"]
[null,"Nao"]
[null,"Nao"]
[null,"Nao"]
[null,"Nao"]
[null,"Nao"]
[null,"Nao"]
[null,"Nao"]
[null,"Nao"]
[null,"Nao"]
[null,"Nao"]
[null,"Nao"]
[null,"Nao"]
[null,"Nao"]
[null,"Nao"]
[null,"Nao"]
[null,"Nao"]
[null,"Nao"]
[null,"Nao"]
[null,"Nao"]
[null,"Nao"]
[null,"Nao"]
[null,"Nao"]
[null,"Nao"]
[null,"Nao"]
[null,"Nao"]
[null,"Nao"]
[null,{"$f":"IF(A23831>0,\"Offhire\",\"Nao\")","v":"Nao"}]
[null,"Nao"]
[null,"Nao"]
[null,"Nao"]
[null,"Nao"]
[null,"Nao"]
[null,"Nao"]
[null,"Nao"]
[null,"Nao"]
[null,"Nao"]
[null,"Nao"]
[null,"Nao"]
[null,"Nao"]
[null,"Nao"]
[null,"Nao"]
[null,"Nao"]
[null,"Nao"]
[null,"Nao"]
[null,"Nao"]
[null,"Nao"]
[null,"Nao"]
[null,"Nao"]
[null,"Nao"]
[null,"Nao"]
[null,"Nao"]
[null,"Nao"]
[null,"Nao"]
[null,"Nao"]
[null,"Nao"]
[null,"Nao"]
[null,"Nao"]
[null,"Nao"]
[null,"Nao"]
[null,"Nao"]
[null,"Nao"]
[null,"Nao"]
[null,"Nao"]
[null,"Nao"]
[null,"Nao"]
[null,"Nao"]
[null,"Nao"]
[null,"Nao"]
[null,"Nao"]
[null,"Nao"]
[null,"Nao"]
[null,"Nao"]
[null,"Nao"]
[null,"Nao"]
[null,"Nao"]
[null,"Nao"]
[null,"Nao"]
[null,"Nao"]
[null,"Nao"]
[null,"Nao"]
[null,"Nao"]
[null,"Nao"]
[null,"Nao"]
[null,"Nao"]
[null,"Nao"]
[null,"Nao"]
[null,"Nao"]
[null,"Nao"]
[null,"Nao"]
[null,"Nao"]
[null,{"$f":"IF(A23895>0,\"Offhire\",\"Nao\")","v":"Nao"}]
[null,"Nao"]
[null,"Nao"]
[null,"Nao"]
[null,"Nao"]
[null,"Nao"]
[null,"Nao"]
[null,"Nao"]
[null,"Nao"]
[null,"Nao"]
[null,"Nao"]
[null,"Nao"]
[null,"Nao"]
[null,"Nao"]
[null,"Nao"]
[null,"Nao"]
[null,"Nao"]
[null,"Nao"]
[null,"Nao"]
[null,"Nao"]
[null,"Nao"]
[null,"Nao"]
[null,"Nao"]
[null,"Nao"]
[null,"Nao"]
[null,"Nao"]
[null,"Nao"]
[null,"Nao"]
[null,"Nao"]
[null,"Nao"]
[null,"Nao"]
[null,"Nao"]
[null,"Nao"]
[null,"Nao"]
[null,"Nao"]
[null,"Nao"]
[null,"Nao"]
[null,"Nao"]
[null,"Nao"]
[null,"Nao"]
[null,"Nao"]
[null,"Nao"]
[null,"Nao"]
[null,"Nao"]
[null,"Nao"]
[null,"Nao"]
[null,"Nao"]
[null,"Nao"]
[null,"Nao"]
[null,"Nao"]
[null,"Nao"]
[null,"Nao"]
[null,"Nao"]
[null,"Nao"]
[null,"Nao"]
[null,"Nao"]
[null,"Nao"]
[null,"Nao"]
[null,"Nao"]
[null,"Nao"]
[null,"Nao"]
[null,"Nao"]
[null,"Nao"]
[null,"Nao"]
[null,{"$f":"IF(A23959>0,\"Offhire\",\"Nao\")","v":"Nao"}]
[null,"Nao"]
[null,"Nao"]
[null,"Nao"]
[null,"Nao"]
[null,"Nao"]
[null,"Nao"]
[null,"Nao"]
[null,"Nao"]
[null,"Nao"]
[null,"Nao"]
[null,"Nao"]
[null,"Nao"]
[null,"Nao"]
[null,"Nao"]
[null,"Nao"]
[null,"Nao"]
[null,"Nao"]
[null,"Nao"]
[null,"Nao"]
[null,"Nao"]
[null,"Nao"]
[null,"Nao"]
[null,"Nao"]
[null,"Nao"]
[null,"Nao"]
[null,"Nao"]
[null,"Nao"]
[null,"Nao"]
[null,"Nao"]
[null,"Nao"]
[null,"Nao"]
[null,"Nao"]
[null,"Nao"]
[null,"Nao"]
[null,"Nao"]
[null,"Nao"]
[null,"Nao"]
[null,"Nao"]
[null,"Nao"]
[null,"Nao"]
[null,"Nao"]
[null,"Nao"]
[null,"Nao"]
[null,"Nao"]
[null,"Nao"]
[null,"Nao"]
[null,"Nao"]
[null,"Nao"]
[null,"Nao"]
[null,"Nao"]
[null,"Nao"]
[null,"Nao"]
[null,"Nao"]
[null,"Nao"]
[null,"Nao"]
[null,"Nao"]
[null,"Nao"]
[null,"Nao"]
[null,"Nao"]
[null,"Nao"]
[null,"Nao"]
[null,"Nao"]
[null,"Nao"]
[null,{"$f":"IF(A24023>0,\"Offhire\",\"Nao\")","v":"Nao"}]
[null,"Nao"]
[null,"Nao"]
[null,"Nao"]
[null,"Nao"]
[null,"Nao"]
[null,"Nao"]
[null,"Nao"]
[null,"Nao"]
[null,"Nao"]
[null,"Nao"]
[null,"Nao"]
[null,"Nao"]
[null,"Nao"]
[null,"Nao"]
[null,"Nao"]
[null,"Nao"]
[null,"Nao"]
[null,"Nao"]
[null,"Nao"]
[null,"Nao"]
[null,"Nao"]
[null,"Nao"]
[null,"Nao"]
[null,"Nao"]
[null,"Nao"]
[null,"Nao"]
[null,"Nao"]
[null,"Nao"]
[null,"Nao"]
[null,"Nao"]
[null,"Nao"]
[null,"Nao"]
[null,"Nao"]
[null,"Nao"]
[null,"Nao"]
[null,"Nao"]
[null,"Nao"]
[null,"Nao"]
[null,"Nao"]
[null,"Nao"]
[null,"Nao"]
[null,"Nao"]
[null,"Nao"]
[null,"Nao"]
[null,"Nao"]
[null,"Nao"]
[null,"Nao"]
[null,"Nao"]
[null,"Nao"]
[null,"Nao"]
[null,"Nao"]
[null,"Nao"]
[null,"Nao"]
[null,"Nao"]
[null,"Nao"]
[null,"Nao"]
[null,"Nao"]
[null,"Nao"]
[null,"Nao"]
[null,"Nao"]
[null,"Nao"]
[null,"Nao"]
[null,"Nao"]
[null,{"$f":"IF(A24087>0,\"Offhire\",\"Nao\")","v":"Nao"}]
[null,"Nao"]
[null,"Nao"]
[null,"Nao"]
[null,"Nao"]
[null,"Nao"]
[null,"Nao"]
[null,"Nao"]
[null,"Nao"]
[null,"Nao"]
[null,"Nao"]
[null,"Nao"]
[null,"Nao"]
[null,"Nao"]
[null,"Nao"]
[null,"Nao"]
[null,"Nao"]
[null,"Nao"]
[null,"Nao"]
[null,"Nao"]
[null,"Nao"]
[null,"Nao"]
[null,"Nao"]
[null,"Nao"]
[null,"Nao"]
[null,"Nao"]
[null,"Nao"]
[null,"Nao"]
[null,"Nao"]
[null,"Nao"]
[null,"Nao"]
[null,"Nao"]
[null,"Nao"]
[null,"Nao"]
[null,"Nao"]
[null,"Nao"]
[null,"Nao"]
[null,"Nao"]
[null,"Nao"]
[null,"Nao"]
[null,"Nao"]
[null,"Nao"]
[null,"Nao"]
[null,"Nao"]
[null,"Nao"]
[null,"Nao"]
[null,"Nao"]
[null,"Nao"]
[null,"Nao"]
[null,"Nao"]
[null,"Nao"]
[null,"Nao"]
[null,"Nao"]
[null,"Nao"]
[null,"Nao"]
[null,"Nao"]
[null,"Nao"]
[null,"Nao"]
[null,"Nao"]
[null,"Nao"]
[null,"Nao"]
[null,"Nao"]
[null,"Nao"]
[null,"Nao"]
[null,{"$f":"IF(A24151>0,\"Offhire\",\"Nao\")","v":"Nao"}]
[null,"Nao"]
[null,"Nao"]
[null,"Nao"]
[null,"Nao"]
[null,"Nao"]
[null,"Nao"]
[null,"Nao"]
[null,"Nao"]
[null,"Nao"]
[null,"Nao"]
[null,"Nao"]
[null,"Nao"]
[null,"Nao"]
[null,"Nao"]
[null,"Nao"]
[null,"Nao"]
[null,"Nao"]
[null,"Nao"]
[null,"Nao"]
[null,"Nao"]
[null,"Nao"]
[null,"Nao"]
[null,"Nao"]
[null,"Nao"]
[null,"Nao"]
[null,"Nao"]
[null,"Nao"]
[null,"Nao"]
[null,"Nao"]
[null,"Nao"]
[null,"Nao"]
[null,"Nao"]
[null,"Nao"]
[null,"Nao"]
[null,"Nao"]
[null,"Nao"]
[null,"Nao"]
[null,"Nao"]
[null,"Nao"]
[null,"Nao"]
[null,"Nao"]
[null,"Nao"]
[null,"Nao"]
[null,"Nao"]
[null,"Nao"]
[null,"Nao"]
[null,"Nao"]
[null,"Nao"]
[null,"Nao"]
[null,"Nao"]
[null,"Nao"]
[null,"Nao"]
[null,"Nao"]
[null,"Nao"]
[null,"Nao"]
[null,"Nao"]
[null,"Nao"]
[null,"Nao"]
[null,"Nao"]
[null,"Nao"]
[null,"Nao"]
[null,"Nao"]
[null,"Nao"]
[null,{"$f":"IF(A24215>0,\"Offhire\",\"Nao\")","v":"Nao"}]
[null,"Nao"]
[null,"Nao"]
[null,"Nao"]
[null,"Nao"]
[null,"Nao"]
[null,"Nao"]
[null,"Nao"]
[null,"Nao"]
[null,"Nao"]
[null,"Nao"]
[null,"Nao"]
[null,"Nao"]
[null,"Nao"]
[null,"Nao"]
[null,"Nao"]
[null,"Nao"]
[null,"Nao"]
[null,"Nao"]
[null,"Nao"]
[null,"Nao"]
[null,"Nao"]
[null,"Nao"]
[null,"Nao"]
[null,"Nao"]
[null,"Nao"]
[null,"Nao"]
[null,"Nao"]
[null,"Nao"]
[null,"Nao"]
[null,"Nao"]
[null,"Nao"]
[null,"Nao"]
[null,"Nao"]
[null,"Nao"]
[null,"Nao"]
[null,"Nao"]
[null,"Nao"]
[null,"Nao"]
[null,"Nao"]
[null,"Nao"]
[null,"Nao"]
[null,"Nao"]
[null,"Nao"]
[null,"Nao"]
[null,"Nao"]
[null,"Nao"]
[null,"Nao"]
[null,"Nao"]
[null,"Nao"]
[null,"Nao"]
[null,"Nao"]
[null,"Nao"]
[null,"Nao"]
[null,"Nao"]
[null,"Nao"]
[null,"Nao"]
[null,"Nao"]
[null,"Nao"]
[null,"Nao"]
[null,"Nao"]
[null,"Nao"]
[null,"Nao"]
[null,"Nao"]
[null,{"$f":"IF(A24279>0,\"Offhire\",\"Nao\")","v":"Nao"}]
[null,"Nao"]
[null,"Nao"]
[null,"Nao"]
[null,"Nao"]
[null,"Nao"]
[null,"Nao"]
[null,"Nao"]
[null,"Nao"]
[null,"Nao"]
[null,"Nao"]
[null,"Nao"]
[null,"Nao"]
[null,"Nao"]
[null,"Nao"]
[null,"Nao"]
[null,"Nao"]
[null,"Nao"]
[null,"Nao"]
[null,"Nao"]
[null,"Nao"]
[null,"Nao"]
[null,"Nao"]
[null,"Nao"]
[null,"Nao"]
[null,"Nao"]
[null,"Nao"]
[null,"Nao"]
[null,"Nao"]
[null,"Nao"]
[null,"Nao"]
[null,"Nao"]
[null,"Nao"]
[null,"Nao"]
[null,"Nao"]
[null,"Nao"]
[null,"Nao"]
[null,"Nao"]
[null,"Nao"]
[null,"Nao"]
[null,"Nao"]
[null,"Nao"]
[null,"Nao"]
[null,"Nao"]
[null,"Nao"]
[null,"Nao"]
[null,"Nao"]
[null,"Nao"]
[null,"Nao"]
[null,"Nao"]
[null,"Nao"]
[null,"Nao"]
[null,"Nao"]
[null,"Nao"]
[null,"Nao"]
[null,"Nao"]
[null,"Nao"]
[null,"Nao"]
[null,"Nao"]
[null,"Nao"]
[null,"Nao"]
[null,"Nao"]
[null,"Nao"]
[null,"Nao"]
[null,{"$f":"IF(A24343>0,\"Offhire\",\"Nao\")","v":"Nao"}]
[null,"Nao"]
[null,"Nao"]
[null,"Nao"]
[null,"Nao"]
[null,"Nao"]
[null,"Nao"]
[null,"Nao"]
[null,"Nao"]
[null,"Nao"]
[null,"Nao"]
[null,"Nao"]
[null,"Nao"]
[null,"Nao"]
[null,"Nao"]
[null,"Nao"]
[null,"Nao"]
[null,"Nao"]
[null,"Nao"]
[null,"Nao"]
[null,"Nao"]
[null,"Nao"]
[null,"Nao"]
[null,"Nao"]
[null,"Nao"]
[null,"Nao"]
[null,"Nao"]
[null,"Nao"]
[null,"Nao"]
[null,"Nao"]
[null,"Nao"]
[null,"Nao"]
[null,"Nao"]
[null,"Nao"]
[null,"Nao"]
[null,"Nao"]
[null,"Nao"]
[null,"Nao"]
[null,"Nao"]
[null,"Nao"]
[null,"Nao"]
[null,"Nao"]
[null,"Nao"]
[null,"Nao"]
[null,"Nao"]
[null,"Nao"]
[null,"Nao"]
[null,"Nao"]
[null,"Nao"]
[null,"Nao"]
[null,"Nao"]
[null,"Nao"]
[null,"Nao"]
[null,"Nao"]
[null,"Nao"]
[null,"Nao"]
[null,"Nao"]
[null,"Nao"]
[null,"Nao"]
[null,"Nao"]
[null,"Nao"]
[null,"Nao"]
[null,"Nao"]
[null,"Nao"]
[null,{"$f":"IF(A24407>0,\"Offhire\",\"Nao\")","v":"Nao"}]
[null,"Nao"]
[null,"Nao"]
[null,"Nao"]
[null,"Nao"]
[null,"Nao"]
[null,"Nao"]
[null,"Nao"]
[null,"Nao"]
[null,"Nao"]
[null,"Nao"]
[null,"Nao"]
[null,"Nao"]
[null,"Nao"]
[null,"Nao"]
[null,"Nao"]
[null,"Nao"]
[null,"Nao"]
[null,"Nao"]
[null,"Nao"]
[null,"Nao"]
[null,"Nao"]
[null,"Nao"]
[null,"Nao"]
[null,"Nao"]
[null,"Nao"]
[null,"Nao"]
[null,"Nao"]
[null,"Nao"]
[null,"Nao"]
[null,"Nao"]
[null,"Nao"]
[null,"Nao"]
[null,"Nao"]
[null,"Nao"]
[null,"Nao"]
[null,"Nao"]
[null,"Nao"]
[null,"Nao"]
[null,"Nao"]
[null,"Nao"]
[null,"Nao"]
[null,"Nao"]
[null,"Nao"]
[null,"Nao"]
[null,"Nao"]
[null,"Nao"]
[null,"Nao"]
[null,"Nao"]
[null,"Nao"]
[null,"Nao"]
[null,"Nao"]
[null,"Nao"]
[null,"Nao"]
[null,"Nao"]
[null,"Nao"]
[null,"Nao"]
[null,"Nao"]
[null,"Nao"]
[null,"Nao"]
[null,"Nao"]
[null,"Nao"]
[null,"Nao"]
[null,"Nao"]
[null,{"$f":"IF(A24471>0,\"Offhire\",\"Nao\")","v":"Nao"}]
[null,"Nao"]
[null,"Nao"]
[null,"Nao"]
[null,"Nao"]
[null,"Nao"]
[null,"Nao"]
[null,"Nao"]
[null,"Nao"]
[null,"Nao"]
[null,"Nao"]
[null,"Nao"]
[null,"Nao"]
[null,"Nao"]
[null,"Nao"]
[null,"Nao"]
[null,"Nao"]
[null,"Nao"]
[null,"Nao"]
[null,"Nao"]
[null,"Nao"]
[null,"Nao"]
[null,"Nao"]
[null,"Nao"]
[null,"Nao"]
[null,"Nao"]
[null,"Nao"]
[null,"Nao"]
[null,"Nao"]
[null,"Nao"]
[null,"Nao"]
[null,"Nao"]
[null,"Nao"]
[null,"Nao"]
[null,"Nao"]
[null,"Nao"]
[null,"Nao"]
[null,"Nao"]
[null,"Nao"]
[null,"Nao"]
[null,"Nao"]
[null,"Nao"]
[null,"Nao"]
[null,"Nao"]
[null,"Nao"]
[null,"Nao"]
[null,"Nao"]
[null,"Nao"]
[null,"Nao"]
[null,"Nao"]
[null,"Nao"]
[null,"Nao"]
[null,"Nao"]
[null,"Nao"]
[null,"Nao"]
[null,"Nao"]
[null,"Nao"]
[null,"Nao"]
[null,"Nao"]
[null,"Nao"]
[null,"Nao"]
[null,"Nao"]
[null,"Nao"]
[null,"Nao"]
[null,{"$f":"IF(A24535>0,\"Offhire\",\"Nao\")","v":"Nao"}]
[null,"Nao"]
[null,"Nao"]
[null,"Nao"]
[null,"Nao"]
[null,"Nao"]
[null,"Nao"]
[null,"Nao"]
[null,"Nao"]
[null,"Nao"]
[null,"Nao"]
[null,"Nao"]
[null,"Nao"]
[null,"Nao"]
[null,"Nao"]
[null,"Nao"]
[null,"Nao"]
[null,"Nao"]
[null,"Nao"]
[null,"Nao"]
[null,"Nao"]
[null,"Nao"]
[null,"Nao"]
[null,"Nao"]
[null,"Nao"]
[null,"Nao"]
[null,"Nao"]
[null,"Nao"]
[null,"Nao"]
[null,"Nao"]
[null,"Nao"]
[null,"Nao"]
[null,"Nao"]
[null,"Nao"]
[null,"Nao"]
[null,"Nao"]
[null,"Nao"]
[null,"Nao"]
[null,"Nao"]
[null,"Nao"]
[null,"Nao"]
[null,"Nao"]
[null,"Nao"]
[null,"Nao"]
[null,"Nao"]
[null,"Nao"]
[null,"Nao"]
[null,"Nao"]
[null,"Nao"]
[null,"Nao"]
[null,"Nao"]
[null,"Nao"]
[null,"Nao"]
[null,"Nao"]
[null,"Nao"]
[null,"Nao"]
[null,"Nao"]
[null,"Nao"]
[null,"Nao"]
[null,"Nao"]
[null,"Nao"]
[null,"Nao"]
[null,"Nao"]
[null,"Nao"]
[null,{"$f":"IF(A24599>0,\"Offhire\",\"Nao\")","v":"Nao"}]
[null,"Nao"]
[null,"Nao"]
[null,"Nao"]
[null,"Nao"]
[null,"Nao"]
[null,"Nao"]
[null,"Nao"]
[null,"Nao"]
[null,"Nao"]
[null,"Nao"]
[null,"Nao"]
[null,"Nao"]
[null,"Nao"]
[null,"Nao"]
[null,"Nao"]
[null,"Nao"]
[null,"Nao"]
[null,"Nao"]
[null,"Nao"]
[null,"Nao"]
[null,"Nao"]
[null,"Nao"]
[null,"Nao"]
[null,"Nao"]
[null,"Nao"]
[null,"Nao"]
[null,"Nao"]
[null,"Nao"]
[null,"Nao"]
[null,"Nao"]
[null,"Nao"]
[null,"Nao"]
[null,"Nao"]
[null,"Nao"]
[null,"Nao"]
[null,"Nao"]
[null,"Nao"]
[null,"Nao"]
[null,"Nao"]
[null,"Nao"]
[null,"Nao"]
[null,"Nao"]
[null,"Nao"]
[null,"Nao"]
[null,"Nao"]
[null,"Nao"]
[null,"Nao"]
[null,"Nao"]
[null,"Nao"]
[null,"Nao"]
[null,"Nao"]
[null,"Nao"]
[null,"Nao"]
[null,"Nao"]
[null,"Nao"]
[null,"Nao"]
[null,"Nao"]
[null,"Nao"]
[null,"Nao"]
[null,"Nao"]
[null,"Nao"]
[null,"Nao"]
[null,"Nao"]
[null,{"$f":"IF(A24663>0,\"Offhire\",\"Nao\")","v":"Nao"}]
[null,"Nao"]
[null,"Nao"]
[null,"Nao"]
[null,"Nao"]
[null,"Nao"]
[null,"Nao"]
[null,"Nao"]
[null,"Nao"]
[null,"Nao"]
[null,"Nao"]
[null,"Nao"]
[null,"Nao"]
[null,"Nao"]
[null,"Nao"]
[null,"Nao"]
[null,"Nao"]
[null,"Nao"]
[null,"Nao"]
[null,"Nao"]
[null,"Nao"]
[null,"Nao"]
[null,"Nao"]
[null,"Nao"]
[null,"Nao"]
[null,"Nao"]
[null,"Nao"]
[null,"Nao"]
[null,"Nao"]
[null,"Nao"]
[null,"Nao"]
[null,"Nao"]
[null,"Nao"]
[null,"Nao"]
[null,"Nao"]
[null,"Nao"]
[null,"Nao"]
[null,"Nao"]
[null,"Nao"]
[null,"Nao"]
[null,"Nao"]
[null,"Nao"]
[null,"Nao"]
[null,"Nao"]
[null,"Nao"]
[null,"Nao"]
[null,"Nao"]
[null,"Nao"]
[null,"Nao"]
[null,"Nao"]
[null,"Nao"]
[null,"Nao"]
[null,"Nao"]
[null,"Nao"]
[null,"Nao"]
[null,"Nao"]
[null,"Nao"]
[null,"Nao"]
[null,"Nao"]
[null,"Nao"]
[null,"Nao"]
[null,"Nao"]
[null,"Nao"]
[null,"Nao"]
[null,{"$f":"IF(A24727>0,\"Offhire\",\"Nao\")","v":"Nao"}]
[null,"Nao"]
[null,"Nao"]
[null,"Nao"]
[null,"Nao"]
[null,"Nao"]
[null,"Nao"]
[null,"Nao"]
[null,"Nao"]
[null,"Nao"]
[null,"Nao"]
[null,"Nao"]
[null,"Nao"]
[null,"Nao"]
[null,"Nao"]
[null,"Nao"]
[null,"Nao"]
[null,"Nao"]
[null,"Nao"]
[null,"Nao"]
[null,"Nao"]
[null,"Nao"]
[null,"Nao"]
[null,"Nao"]
[null,"Nao"]
[null,"Nao"]
[null,"Nao"]
[null,"Nao"]
[null,"Nao"]
[null,"Nao"]
[null,"Nao"]
[null,"Nao"]
[null,"Nao"]
[null,"Nao"]
[null,"Nao"]
[null,"Nao"]
[null,"Nao"]
[null,"Nao"]
[null,"Nao"]
[null,"Nao"]
[null,"Nao"]
[null,"Nao"]
[null,"Nao"]
[null,"Nao"]
[null,"Nao"]
[null,"Nao"]
[null,"Nao"]
[null,"Nao"]
[null,"Nao"]
[null,"Nao"]
[null,"Nao"]
[null,"Nao"]
[null,"Nao"]
[null,"Nao"]
[null,"Nao"]
[null,"Nao"]
[null,"Nao"]
[null,"Nao"]
[null,"Nao"]
[null,"Nao"]
[null,"Nao"]
[null,"Nao"]
[null,"Nao"]
[null,"Nao"]
[null,{"$f":"IF(A24791>0,\"Offhire\",\"Nao\")","v":"Nao"}]
[null,"Nao"]
[null,"Nao"]
[null,"Nao"]
[null,"Nao"]
[null,"Nao"]
[null,"Nao"]
[null,"Nao"]
[null,"Nao"]
[null,"Nao"]
[null,"Nao"]
[null,"Nao"]
[null,"Nao"]
[null,"Nao"]
[null,"Nao"]
[null,"Nao"]
[null,"Nao"]
[null,"Nao"]
[null,"Nao"]
[null,"Nao"]
[null,"Nao"]
[null,"Nao"]
[null,"Nao"]
[null,"Nao"]
[null,"Nao"]
[null,"Nao"]
[null,"Nao"]
[null,"Nao"]
[null,"Nao"]
[null,"Nao"]
[null,"Nao"]
[null,"Nao"]
[null,"Nao"]
[null,"Nao"]
[null,"Nao"]
[null,"Nao"]
[null,"Nao"]
[null,"Nao"]
[null,"Nao"]
[null,"Nao"]
[null,"Nao"]
[null,"Nao"]
[null,"Nao"]
[null,"Nao"]
[null,"Nao"]
[null,"Nao"]
[null,"Nao"]
[null,"Nao"]
[null,"Nao"]
[null,"Nao"]
[null,"Nao"]
[null,"Nao"]
[null,"Nao"]
[null,"Nao"]
[null,"Nao"]
[null,"Nao"]
[null,"Nao"]
[null,"Nao"]
[null,"Nao"]
[null,"Nao"]
[null,"Nao"]
[null,"Nao"]
[null,"Nao"]
[null,"Nao"]
[null,{"$f":"IF(A24855>0,\"Offhire\",\"Nao\")","v":"Nao"}]
[null,"Nao"]
[null,"Nao"]
[null,"Nao"]
[null,"Nao"]
[null,"Nao"]
[null,"Nao"]
[null,"Nao"]
[null,"Nao"]
[null,"Nao"]
[null,"Nao"]
[null,"Nao"]
[null,"Nao"]
[null,"Nao"]
[null,"Nao"]
[null,"Nao"]
[null,"Nao"]
[null,"Nao"]
[null,"Nao"]
[null,"Nao"]
[null,"Nao"]
[null,"Nao"]
[null,"Nao"]
[null,"Nao"]
[null,"Nao"]
[null,"Nao"]
[null,"Nao"]
[null,"Nao"]
[null,"Nao"]
[null,"Nao"]
[null,"Nao"]
[null,"Nao"]
[null,"Nao"]
[null,"Nao"]
[null,"Nao"]
[null,"Nao"]
[null,"Nao"]
[null,"Nao"]
[null,"Nao"]
[null,"Nao"]
[null,"Nao"]
[null,"Nao"]
[null,"Nao"]
[null,"Nao"]
[null,"Nao"]
[null,"Nao"]
[null,"Nao"]
[null,"Nao"]
[null,"Nao"]
[null,"Nao"]
[null,"Nao"]
[null,"Nao"]
[null,"Nao"]
[null,"Nao"]
[null,"Nao"]
[null,"Nao"]
[null,"Nao"]
[null,"Nao"]
[null,"Nao"]
[null,"Nao"]
[null,"Nao"]
[null,"Nao"]
[null,"Nao"]
[null,"Nao"]
[null,{"$f":"IF(A24919>0,\"Offhire\",\"Nao\")","v":"Nao"}]
[null,"Nao"]
[null,"Nao"]
[null,"Nao"]
[null,"Nao"]
[null,"Nao"]
[null,"Nao"]
[null,"Nao"]
[null,"Nao"]
[null,"Nao"]
[null,"Nao"]
[null,"Nao"]
[null,"Nao"]
[null,"Nao"]
[null,"Nao"]
[null,"Nao"]
[null,"Nao"]
[null,"Nao"]
[null,"Nao"]
[null,"Nao"]
[null,"Nao"]
[null,"Nao"]
[null,"Nao"]
[null,"Nao"]
[null,"Nao"]
[null,"Nao"]
[null,"Nao"]
[null,"Nao"]
[null,"Nao"]
[null,"Nao"]
[null,"Nao"]
[null,"Nao"]
[null,"Nao"]
[null,"Nao"]
[null,"Nao"]
[null,"Nao"]
[null,"Nao"]
[null,"Nao"]
[null,"Nao"]
[null,"Nao"]
[null,"Nao"]
[null,"Nao"]
[null,"Nao"]
[null,"Nao"]
[null,"Nao"]
[null,"Nao"]
[null,"Nao"]
[null,"Nao"]
[null,"Nao"]
[null,"Nao"]
[null,"Nao"]
[null,"Nao"]
[null,"Nao"]
[null,"Nao"]
[null,"Nao"]
[null,"Nao"]
[null,"Nao"]
[null,"Nao"]
[null,"Nao"]
[null,"Nao"]
[null,"Nao"]
[null,"Nao"]
[null,"Nao"]
[null,"Nao"]
[null,{"$f":"IF(A24983>0,\"Offhire\",\"Nao\")","v":"Nao"}]
[null,"Nao"]
[null,"Nao"]
[null,"Nao"]
[null,"Nao"]
[null,"Nao"]
[null,"Nao"]
[null,"Nao"]
[null,"Nao"]
[null,"Nao"]
[null,"Nao"]
[null,"Nao"]
[null,"Nao"]
[null,"Nao"]
[null,"Nao"]
[null,"Nao"]
[null,"Nao"]
[null,"Nao"]
[null,"Nao"]
[null,"Nao"]
[null,"Nao"]
[null,"Nao"]
[null,"Nao"]
[null,"Nao"]
[null,"Nao"]
[null,"Nao"]
[null,"Nao"]
[null,"Nao"]
[null,"Nao"]
[null,"Nao"]
[null,"Nao"]
[null,"Nao"]
[null,"Nao"]
[null,"Nao"]
[null,"Nao"]
[null,"Nao"]
[null,"Nao"]
[null,"Nao"]
[null,"Nao"]
[null,"Nao"]
[null,"Nao"]
[null,"Nao"]
[null,"Nao"]
[null,"Nao"]
[null,"Nao"]
[null,"Nao"]
[null,"Nao"]
[null,"Nao"]
[null,"Nao"]
[null,"Nao"]
[null,"Nao"]
[null,"Nao"]
[null,"Nao"]
[null,"Nao"]
[null,"Nao"]
[null,"Nao"]
[null,"Nao"]
[null,"Nao"]
[null,"Nao"]
[null,"Nao"]
[null,"Nao"]
[null,"Nao"]
[null,"Nao"]
[null,"Nao"]
[null,{"$f":"IF(A25047>0,\"Offhire\",\"Nao\")","v":"Nao"}]
[null,"Nao"]
[null,"Nao"]
[null,"Nao"]
[null,"Nao"]
[null,"Nao"]
[null,"Nao"]
[null,"Nao"]
[null,"Nao"]
[null,"Nao"]
[null,"Nao"]
[null,"Nao"]
[null,"Nao"]
[null,"Nao"]
[null,"Nao"]
[null,"Nao"]
[null,"Nao"]
[null,"Nao"]
[null,"Nao"]
[null,"Nao"]
[null,"Nao"]
[null,"Nao"]
[null,"Nao"]
[null,"Nao"]
[null,"Nao"]
[null,"Nao"]
[null,"Nao"]
[null,"Nao"]
[null,"Nao"]
[null,"Nao"]
[null,"Nao"]
[null,"Nao"]
[null,"Nao"]
[null,"Nao"]
[null,"Nao"]
[null,"Nao"]
[null,"Nao"]
[null,"Nao"]
[null,"Nao"]
[null,"Nao"]
[null,"Nao"]
[null,"Nao"]
[null,"Nao"]
[null,"Nao"]
[null,"Nao"]
[null,"Nao"]
[null,"Nao"]
[null,"Nao"]
[null,"Nao"]
[null,"Nao"]
[null,"Nao"]
[null,"Nao"]
[null,"Nao"]
[null,"Nao"]
[null,"Nao"]
[null,"Nao"]
[null,"Nao"]
[null,"Nao"]
[null,"Nao"]
[null,"Nao"]
[null,"Nao"]
[null,"Nao"]
[null,"Nao"]
[null,"Nao"]
[null,{"$f":"IF(A25111>0,\"Offhire\",\"Nao\")","v":"Nao"}]
[null,"Nao"]
[null,"Nao"]
[null,"Nao"]
[null,"Nao"]
[null,"Nao"]
[null,"Nao"]
[null,"Nao"]
[null,"Nao"]
[null,"Nao"]
[null,"Nao"]
[null,"Nao"]
[null,"Nao"]
[null,"Nao"]
[null,"Nao"]
[null,"Nao"]
[null,"Nao"]
[null,"Nao"]
[null,"Nao"]
[null,"Nao"]
[null,"Nao"]
[null,"Nao"]
[null,"Nao"]
[null,"Nao"]
[null,"Nao"]
[null,"Nao"]
[null,"Nao"]
[null,"Nao"]
[null,"Nao"]
[null,"Nao"]
[null,"Nao"]
[null,"Nao"]
[null,"Nao"]
[null,"Nao"]
[null,"Nao"]
[null,"Nao"]
[null,"Nao"]
[null,"Nao"]
[null,"Nao"]
[null,"Nao"]
[null,"Nao"]
[null,"Nao"]
[null,"Nao"]
[null,"Nao"]
[null,"Nao"]
[null,"Nao"]
[null,"Nao"]
[null,"Nao"]
[null,"Nao"]
[null,"Nao"]
[null,"Nao"]
[null,"Nao"]
[null,"Nao"]
[null,"Nao"]
[null,"Nao"]
[null,"Nao"]
[null,"Nao"]
[null,"Nao"]
[null,"Nao"]
[null,"Nao"]
[null,"Nao"]
[null,"Nao"]
[null,"Nao"]
[null,"Nao"]
[null,{"$f":"IF(A25175>0,\"Offhire\",\"Nao\")","v":"Nao"}]
[null,"Nao"]
[null,"Nao"]
[null,"Nao"]
[null,"Nao"]
[null,"Nao"]
[null,"Nao"]
[null,"Nao"]
[null,"Nao"]
[null,"Nao"]
[null,"Nao"]
[null,"Nao"]
[null,"Nao"]
[null,"Nao"]
[null,"Nao"]
[null,"Nao"]
[null,"Nao"]
[null,"Nao"]
[null,"Nao"]
[null,"Nao"]
[null,"Nao"]
[null,"Nao"]
[null,"Nao"]
[null,"Nao"]
[null,"Nao"]
[null,"Nao"]
[null,"Nao"]
[null,"Nao"]
[null,"Nao"]
[null,"Nao"]
[null,"Nao"]
[null,"Nao"]
[null,"Nao"]
[null,"Nao"]
[null,"Nao"]
[null,"Nao"]
[null,"Nao"]
[null,"Nao"]
[null,"Nao"]
[null,"Nao"]
[null,"Nao"]
[null,"Nao"]
[null,"Nao"]
[null,"Nao"]
[null,"Nao"]
[null,"Nao"]
[null,"Nao"]
[null,"Nao"]
[null,"Nao"]
[null,"Nao"]
[null,"Nao"]
[null,"Nao"]
[null,"Nao"]
[null,"Nao"]
[null,"Nao"]
[null,"Nao"]
[null,"Nao"]
[null,"Nao"]
[null,"Nao"]
[null,"Nao"]
[null,"Nao"]
[null,"Nao"]
[null,"Nao"]
[null,"Nao"]
[null,{"$f":"IF(A25239>0,\"Offhire\",\"Nao\")","v":"Nao"}]
[null,"Nao"]
[null,"Nao"]
[null,"Nao"]
[null,"Nao"]
[null,"Nao"]
[null,"Nao"]
[null,"Nao"]
[null,"Nao"]
[null,"Nao"]
[null,"Nao"]
[null,"Nao"]
[null,"Nao"]
[null,"Nao"]
[null,"Nao"]
[null,"Nao"]
[null,"Nao"]
[null,"Nao"]
[null,"Nao"]
[null,"Nao"]
[null,"Nao"]
[null,"Nao"]
[null,"Nao"]
[null,"Nao"]
[null,"Nao"]
[null,"Nao"]
[null,"Nao"]
[null,"Nao"]
[null,"Nao"]
[null,"Nao"]
[null,"Nao"]
[null,"Nao"]
[null,"Nao"]
[null,"Nao"]
[null,"Nao"]
[null,"Nao"]
[null,"Nao"]
[null,"Nao"]
[null,"Nao"]
[null,"Nao"]
[null,"Nao"]
[null,"Nao"]
[null,"Nao"]
[null,"Nao"]
[null,"Nao"]
[null,"Nao"]
[null,"Nao"]
[null,"Nao"]
[null,"Nao"]
[null,"Nao"]
[null,"Nao"]
[null,"Nao"]
[null,"Nao"]
[null,"Nao"]
[null,"Nao"]
[null,"Nao"]
[null,"Nao"]
[null,"Nao"]
[null,"Nao"]
[null,"Nao"]
[null,"Nao"]
[null,"Nao"]
[null,"Nao"]
[null,"Nao"]
[null,{"$f":"IF(A25303>0,\"Offhire\",\"Nao\")","v":"Nao"}]
[null,"Nao"]
[null,"Nao"]
[null,"Nao"]
[null,"Nao"]
[null,"Nao"]
[null,"Nao"]
[null,"Nao"]
[null,"Nao"]
[null,"Nao"]
[null,"Nao"]
[null,"Nao"]
[null,"Nao"]
[null,"Nao"]
[null,"Nao"]
[null,"Nao"]
[null,"Nao"]
[null,"Nao"]
[null,"Nao"]
[null,"Nao"]
[null,"Nao"]
[null,"Nao"]
[null,"Nao"]
[null,"Nao"]
[null,"Nao"]
[null,"Nao"]
[null,"Nao"]
[null,"Nao"]
[null,"Nao"]
[null,"Nao"]
[null,"Nao"]
[null,"Nao"]
[null,"Nao"]
[null,"Nao"]
[null,"Nao"]
[null,"Nao"]
[null,"Nao"]
[null,"Nao"]
[null,"Nao"]
[null,"Nao"]
[null,"Nao"]
[null,"Nao"]
[null,"Nao"]
[null,"Nao"]
[null,"Nao"]
[null,"Nao"]
[null,"Nao"]
[null,"Nao"]
[null,"Nao"]
[null,"Nao"]
[null,"Nao"]
[null,"Nao"]
[null,"Nao"]
[null,"Nao"]
[null,"Nao"]
[null,"Nao"]
[null,"Nao"]
[null,"Nao"]
[null,"Nao"]
[null,"Nao"]
[null,"Nao"]
[null,"Nao"]
[null,"Nao"]
[null,"Nao"]
[null,{"$f":"IF(A25367>0,\"Offhire\",\"Nao\")","v":"Nao"}]
[null,"Nao"]
[null,"Nao"]
[null,"Nao"]
[null,"Nao"]
[null,"Nao"]
[null,"Nao"]
[null,"Nao"]
[null,"Nao"]
[null,"Nao"]
[null,"Nao"]
[null,"Nao"]
[null,"Nao"]
[null,"Nao"]
[null,"Nao"]
[null,"Nao"]
[null,"Nao"]
[null,"Nao"]
[null,"Nao"]
[null,"Nao"]
[null,"Nao"]
[null,"Nao"]
[null,"Nao"]
[null,"Nao"]
[null,"Nao"]
[null,"Nao"]
[null,"Nao"]
[null,"Nao"]
[null,"Nao"]
[null,"Nao"]
[null,"Nao"]
[null,"Nao"]
[null,"Nao"]
[null,"Nao"]
[null,"Nao"]
[null,"Nao"]
[null,"Nao"]
[null,"Nao"]
[null,"Nao"]
[null,"Nao"]
[null,"Nao"]
[null,"Nao"]
[null,"Nao"]
[null,"Nao"]
[null,"Nao"]
[null,"Nao"]
[null,"Nao"]
[null,"Nao"]
[null,"Nao"]
[null,"Nao"]
[null,"Nao"]
[null,"Nao"]
[null,"Nao"]
[null,"Nao"]
[null,"Nao"]
[null,"Nao"]
[null,"Nao"]
[null,"Nao"]
[null,"Nao"]
[null,"Nao"]
[null,"Nao"]
[null,"Nao"]
[null,"Nao"]
[null,"Nao"]
[null,{"$f":"IF(A25431>0,\"Offhire\",\"Nao\")","v":"Nao"}]
[null,"Nao"]
[null,"Nao"]
[null,"Nao"]
[null,"Nao"]
[null,"Nao"]
[null,"Nao"]
[null,"Nao"]
[null,"Nao"]
[null,"Nao"]
[null,"Nao"]
[null,"Nao"]
[null,"Nao"]
[null,"Nao"]
[null,"Nao"]
[null,"Nao"]
[null,"Nao"]
[null,"Nao"]
[null,"Nao"]
[null,"Nao"]
[null,"Nao"]
[null,"Nao"]
[null,"Nao"]
[null,"Nao"]
[null,"Nao"]
[null,"Nao"]
[null,"Nao"]
[null,"Nao"]
[null,"Nao"]
[null,"Nao"]
[null,"Nao"]
[null,"Nao"]
[null,"Nao"]
[null,"Nao"]
[null,"Nao"]
[null,"Nao"]
[null,"Nao"]
[null,"Nao"]
[null,"Nao"]
[null,"Nao"]
[null,"Nao"]
[null,"Nao"]
[null,"Nao"]
[null,"Nao"]
[null,"Nao"]
[null,"Nao"]
[null,"Nao"]
[null,"Nao"]
[null,"Nao"]
[null,"Nao"]
[null,"Nao"]
[null,"Nao"]
[null,"Nao"]
[null,"Nao"]
[null,"Nao"]
[null,"Nao"]
[null,"Nao"]
[null,"Nao"]
[null,"Nao"]
[null,"Nao"]
[null,"Nao"]
[null,"Nao"]
[null,"Nao"]
[null,"Nao"]
[null,{"$f":"IF(A25495>0,\"Offhire\",\"Nao\")","v":"Nao"}]
[null,"Nao"]
[null,"Nao"]
[null,"Nao"]
[null,"Nao"]
[null,"Nao"]
[null,"Nao"]
[null,"Nao"]
[null,"Nao"]
[null,"Nao"]
[null,"Nao"]
[null,"Nao"]
[null,"Nao"]
[null,"Nao"]
[null,"Nao"]
[null,"Nao"]
[null,"Nao"]
[null,"Nao"]
[null,"Nao"]
[null,"Nao"]
[null,"Nao"]
[null,"Nao"]
[null,"Nao"]
[null,"Nao"]
[null,"Nao"]
[null,"Nao"]
[null,"Nao"]
[null,"Nao"]
[null,"Nao"]
[null,"Nao"]
[null,"Nao"]
[null,"Nao"]
[null,"Nao"]
[null,"Nao"]
[null,"Nao"]
[null,"Nao"]
[null,"Nao"]
[null,"Nao"]
[null,"Nao"]
[null,"Nao"]
[null,"Nao"]
[null,"Nao"]
[null,"Nao"]
[null,"Nao"]
[null,"Nao"]
[null,"Nao"]
[null,"Nao"]
[null,"Nao"]
[null,"Nao"]
[null,"Nao"]
[null,"Nao"]
[null,"Nao"]
[null,"Nao"]
[null,"Nao"]
[null,"Nao"]
[null,"Nao"]
[null,"Nao"]
[null,"Nao"]
[null,"Nao"]
[null,"Nao"]
[null,"Nao"]
[null,"Nao"]
[null,"Nao"]
[null,"Nao"]
[null,{"$f":"IF(A25559>0,\"Offhire\",\"Nao\")","v":"Nao"}]
[null,"Nao"]
[null,"Nao"]
[null,"Nao"]
[null,"Nao"]
[null,"Nao"]
[null,"Nao"]
[null,"Nao"]
[null,"Nao"]
[null,"Nao"]
[null,"Nao"]
[null,"Nao"]
[null,"Nao"]
[null,"Nao"]
[null,"Nao"]
[null,"Nao"]
[null,"Nao"]
[null,"Nao"]
[null,"Nao"]
[null,"Nao"]
[null,"Nao"]
[null,"Nao"]
[null,"Nao"]
[null,"Nao"]
[null,"Nao"]
[null,"Nao"]
[null,"Nao"]
[null,"Nao"]
[null,"Nao"]
[null,"Nao"]
[null,"Nao"]
[null,"Nao"]
[null,"Nao"]
[null,"Nao"]
[null,"Nao"]
[null,"Nao"]
[null,"Nao"]
[null,"Nao"]
[null,"Nao"]
[null,"Nao"]
[null,"Nao"]
[null,"Nao"]
[null,"Nao"]
[null,"Nao"]
[null,"Nao"]
[null,"Nao"]
[null,"Nao"]
[null,"Nao"]
[null,"Nao"]
[null,"Nao"]
[null,"Nao"]
[null,"Nao"]
[null,"Nao"]
[null,"Nao"]
[null,"Nao"]
[null,"Nao"]
[null,"Nao"]
[null,"Nao"]
[null,"Nao"]
[null,"Nao"]
[null,"Nao"]
[null,"Nao"]
[null,"Nao"]
[null,"Nao"]
[null,{"$f":"IF(A25623>0,\"Offhire\",\"Nao\")","v":"Nao"}]
[null,"Nao"]
[null,"Nao"]
[null,"Nao"]
[null,"Nao"]
[null,"Nao"]
[null,"Nao"]
[null,"Nao"]
[null,"Nao"]
[null,"Nao"]
[null,"Nao"]
[null,"Nao"]
[null,"Nao"]
[null,"Nao"]
[null,"Nao"]
[null,"Nao"]
[null,"Nao"]
[null,"Nao"]
[null,"Nao"]
[null,"Nao"]
[null,"Nao"]
[null,"Nao"]
[null,"Nao"]
[null,"Nao"]
[null,"Nao"]
[null,"Nao"]
[null,"Nao"]
[null,"Nao"]
[null,"Nao"]
[null,"Nao"]
[null,"Nao"]
[null,"Nao"]
[null,"Nao"]
[null,"Nao"]
[null,"Nao"]
[null,"Nao"]
[null,"Nao"]
[null,"Nao"]
[null,"Nao"]
[null,"Nao"]
[null,"Nao"]
[null,"Nao"]
[null,"Nao"]
[null,"Nao"]
[null,"Nao"]
[null,"Nao"]
[null,"Nao"]
[null,"Nao"]
[null,"Nao"]
[null,"Nao"]
[null,"Nao"]
[null,"Nao"]
[null,"Nao"]
[null,"Nao"]
[null,"Nao"]
[null,"Nao"]
[null,"Nao"]
[null,"Nao"]
[null,"Nao"]
[null,"Nao"]
[null,"Nao"]
[null,"Nao"]
[null,"Nao"]
[null,"Nao"]
[null,{"$f":"IF(A25687>0,\"Offhire\",\"Nao\")","v":"Nao"}]
[null,"Nao"]
[null,"Nao"]
[null,"Nao"]
[null,"Nao"]
[null,"Nao"]
[null,"Nao"]
[null,"Nao"]
[null,"Nao"]
[null,"Nao"]
[null,"Nao"]
[null,"Nao"]
[null,"Nao"]
[null,"Nao"]
[null,"Nao"]
[null,"Nao"]
[null,"Nao"]
[null,"Nao"]
[null,"Nao"]
[null,"Nao"]
[null,"Nao"]
[null,"Nao"]
[null,"Nao"]
[null,"Nao"]
[null,"Nao"]
[null,"Nao"]
[null,"Nao"]
[null,"Nao"]
[null,"Nao"]
[null,"Nao"]
[null,"Nao"]
[null,"Nao"]
[null,"Nao"]
[null,"Nao"]
[null,"Nao"]
[null,"Nao"]
[null,"Nao"]
[null,"Nao"]
[null,"Nao"]
[null,"Nao"]
[null,"Nao"]
[null,"Nao"]
[null,"Nao"]
[null,"Nao"]
[null,"Nao"]
[null,"Nao"]
[null,"Nao"]
[null,"Nao"]
[null,"Nao"]
[null,"Nao"]
[null,"Nao"]
[null,"Nao"]
[null,"Nao"]
[null,"Nao"]
[null,"Nao"]
[null,"Nao"]
[null,"Nao"]
[null,"Nao"]
[null,"Nao"]
[null,"Nao"]
[null,"Nao"]
[null,"Nao"]
[null,"Nao"]
[null,"Nao"]
[null,{"$f":"IF(A25751>0,\"Offhire\",\"Nao\")","v":"Nao"}]
[null,"Nao"]
[null,"Nao"]
[null,"Nao"]
[null,"Nao"]
[null,"Nao"]
[null,"Nao"]
[null,"Nao"]
[null,"Nao"]
[null,"Nao"]
[null,"Nao"]
[null,"Nao"]
[null,"Nao"]
[null,"Nao"]
[null,"Nao"]
[null,"Nao"]
[null,"Nao"]
[null,"Nao"]
[null,"Nao"]
[null,"Nao"]
[null,"Nao"]
[null,"Nao"]
[null,"Nao"]
[null,"Nao"]
[null,"Nao"]
[null,"Nao"]
[null,"Nao"]
[null,"Nao"]
[null,"Nao"]
[null,"Nao"]
[null,"Nao"]
[null,"Nao"]
[null,"Nao"]
[null,"Nao"]
[null,"Nao"]
[null,"Nao"]
[null,"Nao"]
[null,"Nao"]
[null,"Nao"]
[null,"Nao"]
[null,"Nao"]
[null,"Nao"]
[null,"Nao"]
[null,"Nao"]
[null,"Nao"]
[null,"Nao"]
[null,"Nao"]
[null,"Nao"]
[null,"Nao"]
[null,"Nao"]
[null,"Nao"]
[null,"Nao"]
[null,"Nao"]
[null,"Nao"]
[null,"Nao"]
[null,"Nao"]
[null,"Nao"]
[null,"Nao"]
[null,"Nao"]
[null,"Nao"]
[null,"Nao"]
[null,"Nao"]
[null,"Nao"]
[null,"Nao"]
[null,{"$f":"IF(A25815>0,\"Offhire\",\"Nao\")","v":"Nao"}]
[null,"Nao"]
[null,"Nao"]
[null,"Nao"]
[null,"Nao"]
[null,"Nao"]
[null,"Nao"]
[null,"Nao"]
[null,"Nao"]
[null,"Nao"]
[null,"Nao"]
[null,"Nao"]
[null,"Nao"]
[null,"Nao"]
[null,"Nao"]
[null,"Nao"]
[null,"Nao"]
[null,"Nao"]
[null,"Nao"]
[null,"Nao"]
[null,"Nao"]
[null,"Nao"]
[null,"Nao"]
[null,"Nao"]
[null,"Nao"]
[null,"Nao"]
[null,"Nao"]
[null,"Nao"]
[null,"Nao"]
[null,"Nao"]
[null,"Nao"]
[null,"Nao"]
[null,"Nao"]
[null,"Nao"]
[null,"Nao"]
[null,"Nao"]
[null,"Nao"]
[null,"Nao"]
[null,"Nao"]
[null,"Nao"]
[null,"Nao"]
[null,"Nao"]
[null,"Nao"]
[null,"Nao"]
[null,"Nao"]
[null,"Nao"]
[null,"Nao"]
[null,"Nao"]
[null,"Nao"]
[null,"Nao"]
[null,"Nao"]
[null,"Nao"]
[null,"Nao"]
[null,"Nao"]
[null,"Nao"]
[null,"Nao"]
[null,"Nao"]
[null,"Nao"]
[null,"Nao"]
[null,"Nao"]
[null,"Nao"]
[null,"Nao"]
[null,"Nao"]
[null,"Nao"]
[null,{"$f":"IF(A25879>0,\"Offhire\",\"Nao\")","v":"Nao"}]
[null,"Nao"]
[null,"Nao"]
[null,"Nao"]
[null,"Nao"]
[null,"Nao"]
[null,"Nao"]
[null,"Nao"]
[null,"Nao"]
[null,"Nao"]
[null,"Nao"]
[null,"Nao"]
[null,"Nao"]
[null,"Nao"]
[null,"Nao"]
[null,"Nao"]
[null,"Nao"]
[null,"Nao"]
[null,"Nao"]
[null,"Nao"]
[null,"Nao"]
[null,"Nao"]
[null,"Nao"]
[null,"Nao"]
[null,"Nao"]
[null,"Nao"]
[null,"Nao"]
[null,"Nao"]
[null,"Nao"]
[null,"Nao"]
[null,"Nao"]
[null,"Nao"]
[null,"Nao"]
[null,"Nao"]
[null,"Nao"]
[null,"Nao"]
[null,"Nao"]
[null,"Nao"]
[null,"Nao"]
[null,"Nao"]
[null,"Nao"]
[null,"Nao"]
[null,"Nao"]
[null,"Nao"]
[null,"Nao"]
[null,"Nao"]
[null,"Nao"]
[null,"Nao"]
[null,"Nao"]
[null,"Nao"]
[null,"Nao"]
[null,"Nao"]
[null,"Nao"]
[null,"Nao"]
[null,"Nao"]
[null,"Nao"]
[null,"Nao"]
[null,"Nao"]
[null,"Nao"]
[null,"Nao"]
[null,"Nao"]
[null,"Nao"]
[null,"Nao"]
[null,"Nao"]
[null,{"$f":"IF(A25943>0,\"Offhire\",\"Nao\")","v":"Nao"}]
[null,"Nao"]
[null,"Nao"]
[null,"Nao"]
[null,"Nao"]
[null,"Nao"]
[null,"Nao"]
[null,"Nao"]
[null,"Nao"]
[null,"Nao"]
[null,"Nao"]
[null,"Nao"]
[null,"Nao"]
[null,"Nao"]
[null,"Nao"]
[null,"Nao"]
[null,"Nao"]
[null,"Nao"]
[null,"Nao"]
[null,"Nao"]
[null,"Nao"]
[null,"Nao"]
[null,"Nao"]
[null,"Nao"]
[null,"Nao"]
[null,"Nao"]
[null,"Nao"]
[null,"Nao"]
[null,"Nao"]
[null,"Nao"]
[null,"Nao"]
[null,"Nao"]
[null,"Nao"]
[null,"Nao"]
[null,"Nao"]
[null,"Nao"]
[null,"Nao"]
[null,"Nao"]
[null,"Nao"]
[null,"Nao"]
[null,"Nao"]
[null,"Nao"]
[null,"Nao"]
[null,"Nao"]
[null,"Nao"]
[null,"Nao"]
[null,"Nao"]
[null,"Nao"]
[null,"Nao"]
[null,"Nao"]
[null,"Nao"]
[null,"Nao"]
[null,"Nao"]
[null,"Nao"]
[null,"Nao"]
[null,"Nao"]
[null,"Nao"]
[null,"Nao"]
[null,"Nao"]
[null,"Nao"]
[null,"Nao"]
[null,"Nao"]
[null,"Nao"]
[null,"Nao"]
[null,{"$f":"IF(A26007>0,\"Offhire\",\"Nao\")","v":"Nao"}]
[null,"Nao"]
[null,"Nao"]
[null,"Nao"]
[null,"Nao"]
[null,"Nao"]
[null,"Nao"]
[null,"Nao"]
[null,"Nao"]
[null,"Nao"]
[null,"Nao"]
[null,"Nao"]
[null,"Nao"]
[null,"Nao"]
[null,"Nao"]
[null,"Nao"]
[null,"Nao"]
[null,"Nao"]
[null,"Nao"]
[null,"Nao"]
[null,"Nao"]
[null,"Nao"]
[null,"Nao"]
[null,"Nao"]
[null,"Nao"]
[null,"Nao"]
[null,"Nao"]
[null,"Nao"]
[null,"Nao"]
[null,"Nao"]
[null,"Nao"]
[null,"Nao"]
[null,"Nao"]
[null,"Nao"]
[null,"Nao"]
[null,"Nao"]
[null,"Nao"]
[null,"Nao"]
[null,"Nao"]
[null,"Nao"]
[null,"Nao"]
[null,"Nao"]
[null,"Nao"]
[null,"Nao"]
[null,"Nao"]
[null,"Nao"]
[null,"Nao"]
[null,"Nao"]
[null,"Nao"]
[null,"Nao"]
[null,"Nao"]
[null,"Nao"]
[null,"Nao"]
[null,"Nao"]
[null,"Nao"]
[null,"Nao"]
[null,"Nao"]
[null,"Nao"]
[null,"Nao"]
[null,"Nao"]
[null,"Nao"]
[null,"Nao"]
[null,"Nao"]
[null,"Nao"]
[null,{"$f":"IF(A26071>0,\"Offhire\",\"Nao\")","v":"Nao"}]
[null,"Nao"]
[null,"Nao"]
[null,"Nao"]
[null,"Nao"]
[null,"Nao"]
[null,"Nao"]
[null,"Nao"]
[null,"Nao"]
[null,"Nao"]
[null,"Nao"]
[null,"Nao"]
[null,"Nao"]
[null,"Nao"]
[null,"Nao"]
[null,"Nao"]
[null,"Nao"]
[null,"Nao"]
[null,"Nao"]
[null,"Nao"]
[null,"Nao"]
[null,"Nao"]
[null,"Nao"]
[null,"Nao"]
[null,"Nao"]
[null,"Nao"]
[null,"Nao"]
[null,"Nao"]
[null,"Nao"]
[null,"Nao"]
[null,"Nao"]
[null,"Nao"]
[null,"Nao"]
[null,"Nao"]
[null,"Nao"]
[null,"Nao"]
[null,"Nao"]
[null,"Nao"]
[null,"Nao"]
[null,"Nao"]
[null,"Nao"]
[null,"Nao"]
[null,"Nao"]
[null,"Nao"]
[null,"Nao"]
[null,"Nao"]
[null,"Nao"]
[null,"Nao"]
[null,"Nao"]
[null,"Nao"]
[null,"Nao"]
[null,"Nao"]
[null,"Nao"]
[null,"Nao"]
[null,"Nao"]
[null,"Nao"]
[null,"Nao"]
[null,"Nao"]
[null,"Nao"]
[null,"Nao"]
[null,"Nao"]
[null,"Nao"]
[null,"Nao"]
[null,"Nao"]
[null,{"$f":"IF(A26135>0,\"Offhire\",\"Nao\")","v":"Nao"}]
[null,"Nao"]
[null,"Nao"]
[null,"Nao"]
[null,"Nao"]
[null,"Nao"]
[null,"Nao"]
[null,"Nao"]
[null,"Nao"]
[null,"Nao"]
[null,"Nao"]
[null,"Nao"]
[null,"Nao"]
[null,"Nao"]
[null,"Nao"]
[null,"Nao"]
[null,"Nao"]
[null,"Nao"]
[null,"Nao"]
[null,"Nao"]
[null,"Nao"]
[null,"Nao"]
[null,"Nao"]
[null,"Nao"]
[null,"Nao"]
[null,"Nao"]
[null,"Nao"]
[null,"Nao"]
[null,"Nao"]
[null,"Nao"]
[null,"Nao"]
[null,"Nao"]
[null,"Nao"]
[null,"Nao"]
[null,"Nao"]
[null,"Nao"]
[null,"Nao"]
[null,"Nao"]
[null,"Nao"]
[null,"Nao"]
[null,"Nao"]
[null,"Nao"]
[null,"Nao"]
[null,"Nao"]
[null,"Nao"]
[null,"Nao"]
[null,"Nao"]
[null,"Nao"]
[null,"Nao"]
[null,"Nao"]
[null,"Nao"]
[null,"Nao"]
[null,"Nao"]
[null,"Nao"]
[null,"Nao"]
[null,"Nao"]
[null,"Nao"]
[null,"Nao"]
[null,"Nao"]
[null,"Nao"]
[null,"Nao"]
[null,"Nao"]
[null,"Nao"]
[null,"Nao"]
[null,{"$f":"IF(A26199>0,\"Offhire\",\"Nao\")","v":"Nao"}]
[null,"Nao"]
[null,"Nao"]
[null,"Nao"]
[null,"Nao"]
[null,"Nao"]
[null,"Nao"]
[null,"Nao"]
[null,"Nao"]
[null,"Nao"]
[null,"Nao"]
[null,"Nao"]
[null,"Nao"]
[null,"Nao"]
[null,"Nao"]
[null,"Nao"]
[null,"Nao"]
[null,"Nao"]
[null,"Nao"]
[null,"Nao"]
[null,"Nao"]
[null,"Nao"]
[null,"Nao"]
[null,"Nao"]
[null,"Nao"]
[null,"Nao"]
[null,"Nao"]
[null,"Nao"]
[null,"Nao"]
[null,"Nao"]
[null,"Nao"]
[null,"Nao"]
[null,"Nao"]
[null,"Nao"]
[null,"Nao"]
[null,"Nao"]
[null,"Nao"]
[null,"Nao"]
[null,"Nao"]
[null,"Nao"]
[null,"Nao"]
[null,"Nao"]
[null,"Nao"]
[null,"Nao"]
[null,"Nao"]
[null,"Nao"]
[null,"Nao"]
[null,"Nao"]
[null,"Nao"]
[null,"Nao"]
[null,"Nao"]
[null,"Nao"]
[null,"Nao"]
[null,"Nao"]
[null,"Nao"]
[null,"Nao"]
[null,"Nao"]
[null,"Nao"]
[null,"Nao"]
[null,"Nao"]
[null,"Nao"]
[null,"Nao"]
[null,"Nao"]
[null,"Nao"]
[null,{"$f":"IF(A26263>0,\"Offhire\",\"Nao\")","v":"Nao"}]
[null,"Nao"]
[null,"Nao"]
[null,"Nao"]
[null,"Nao"]
[null,"Nao"]
[null,"Nao"]
[null,"Nao"]
[null,"Nao"]
[null,"Nao"]
[null,"Nao"]
[null,"Nao"]
[null,"Nao"]
[null,"Nao"]
[null,"Nao"]
[null,"Nao"]
[null,"Nao"]
[null,"Nao"]
[null,"Nao"]
[null,"Nao"]
[null,"Nao"]
[null,"Nao"]
[null,"Nao"]
[null,"Nao"]
[null,"Nao"]
[null,"Nao"]
[null,"Nao"]
[null,"Nao"]
[null,"Nao"]
[null,"Nao"]
[null,"Nao"]
[null,"Nao"]
[null,"Nao"]
[null,"Nao"]
[null,"Nao"]
[null,"Nao"]
[null,"Nao"]
[null,"Nao"]
[null,"Nao"]
[null,"Nao"]
[null,"Nao"]
[null,"Nao"]
[null,"Nao"]
[null,"Nao"]
[null,"Nao"]
[null,"Nao"]
[null,"Nao"]
[null,"Nao"]
[null,"Nao"]
[null,"Nao"]
[null,"Nao"]
[null,"Nao"]
[null,"Nao"]
[null,"Nao"]
[null,"Nao"]
[null,"Nao"]
[null,"Nao"]
[null,"Nao"]
[null,"Nao"]
[null,"Nao"]
[null,"Nao"]
[null,"Nao"]
[null,"Nao"]
[null,"Nao"]
[null,{"$f":"IF(A26327>0,\"Offhire\",\"Nao\")","v":"Nao"}]
[null,"Nao"]
[null,"Nao"]
[null,"Nao"]
[null,"Nao"]
[null,"Nao"]
[null,"Nao"]
[null,"Nao"]
[null,"Nao"]
[null,"Nao"]
[null,"Nao"]
[null,"Nao"]
[null,"Nao"]
[null,"Nao"]
[null,"Nao"]
[null,"Nao"]
[null,"Nao"]
[null,"Nao"]
[null,"Nao"]
[null,"Nao"]
[null,"Nao"]
[null,"Nao"]
[null,"Nao"]
[null,"Nao"]
[null,"Nao"]
[null,"Nao"]
[null,"Nao"]
[null,"Nao"]
[null,"Nao"]
[null,"Nao"]
[null,"Nao"]
[null,"Nao"]
[null,"Nao"]
[null,"Nao"]
[null,"Nao"]
[null,"Nao"]
[null,"Nao"]
[null,"Nao"]
[null,"Nao"]
[null,"Nao"]
[null,"Nao"]
[null,"Nao"]
[null,"Nao"]
[null,"Nao"]
[null,"Nao"]
[null,"Nao"]
[null,"Nao"]
[null,"Nao"]
[null,"Nao"]
[null,"Nao"]
[null,"Nao"]
[null,"Nao"]
[null,"Nao"]
[null,"Nao"]
[null,"Nao"]
[null,"Nao"]
[null,"Nao"]
[null,"Nao"]
[null,"Nao"]
[null,"Nao"]
[null,"Nao"]
[null,"Nao"]
[null,"Nao"]
[null,"Nao"]
[null,{"$f":"IF(A26391>0,\"Offhire\",\"Nao\")","v":"Nao"}]
[null,"Nao"]
[null,"Nao"]
[null,"Nao"]
[null,"Nao"]
[null,"Nao"]
[null,"Nao"]
[null,"Nao"]
[null,"Nao"]
[null,"Nao"]
[null,"Nao"]
[null,"Nao"]
[null,"Nao"]
[null,"Nao"]
[null,"Nao"]
[null,"Nao"]
[null,"Nao"]
[null,"Nao"]
[null,"Nao"]
[null,"Nao"]
[null,"Nao"]
[null,"Nao"]
[null,"Nao"]
[null,"Nao"]
[null,"Nao"]
[null,"Nao"]
[null,"Nao"]
[null,"Nao"]
[null,"Nao"]
[null,"Nao"]
[null,"Nao"]
[null,"Nao"]
[null,"Nao"]
[null,"Nao"]
[null,"Nao"]
[null,"Nao"]
[null,"Nao"]
[null,"Nao"]
[null,"Nao"]
[null,"Nao"]
[null,"Nao"]
[null,"Nao"]
[null,"Nao"]
[null,"Nao"]
[null,"Nao"]
[null,"Nao"]
[null,"Nao"]
[null,"Nao"]
[null,"Nao"]
[null,"Nao"]
[null,"Nao"]
[null,"Nao"]
[null,"Nao"]
[null,"Nao"]
[null,"Nao"]
[null,"Nao"]
[null,"Nao"]
[null,"Nao"]
[null,"Nao"]
[null,"Nao"]
[null,"Nao"]
[null,"Nao"]
[null,"Nao"]
[null,"Nao"]
[null,{"$f":"IF(A26455>0,\"Offhire\",\"Nao\")","v":"Nao"}]
[null,"Nao"]
[null,"Nao"]
[null,"Nao"]
[null,"Nao"]
[null,"Nao"]
[null,"Nao"]
[null,"Nao"]
[null,"Nao"]
[null,"Nao"]
[null,"Nao"]
[null,"Nao"]
[null,"Nao"]
[null,"Nao"]
[null,"Nao"]
[null,"Nao"]
[null,"Nao"]
[null,"Nao"]
[null,"Nao"]
[null,"Nao"]
[null,"Nao"]
[null,"Nao"]
[null,"Nao"]
[null,"Nao"]
[null,"Nao"]
[null,"Nao"]
[null,"Nao"]
[null,"Nao"]
[null,"Nao"]
[null,"Nao"]
[null,"Nao"]
[null,"Nao"]
[null,"Nao"]
[null,"Nao"]
[null,"Nao"]
[null,"Nao"]
[null,"Nao"]
[null,"Nao"]
[null,"Nao"]
[null,"Nao"]
[null,"Nao"]
[null,"Nao"]
[null,"Nao"]
[null,"Nao"]
[null,"Nao"]
[null,"Nao"]
[null,"Nao"]
[null,"Nao"]
[null,"Nao"]
[null,"Nao"]
[null,"Nao"]
[null,"Nao"]
[null,"Nao"]
[null,"Nao"]
[null,"Nao"]
[null,"Nao"]
[null,"Nao"]
[null,"Nao"]
[null,"Nao"]
[null,"Nao"]
[null,"Nao"]
[null,"Nao"]
[null,"Nao"]
[null,"Nao"]
[null,{"$f":"IF(A26519>0,\"Offhire\",\"Nao\")","v":"Nao"}]
[null,"Nao"]
[null,"Nao"]
[null,"Nao"]
[null,"Nao"]
[null,"Nao"]
[null,"Nao"]
[null,"Nao"]
[null,"Nao"]
[null,"Nao"]
[null,"Nao"]
[null,"Nao"]
[null,"Nao"]
[null,"Nao"]
[null,"Nao"]
[null,"Nao"]
[null,"Nao"]
[null,"Nao"]
[null,"Nao"]
[null,"Nao"]
[null,"Nao"]
[null,"Nao"]
[null,"Nao"]
[null,"Nao"]
[null,"Nao"]
[null,"Nao"]
[null,"Nao"]
[null,"Nao"]
[null,"Nao"]
[null,"Nao"]
[null,"Nao"]
[null,"Nao"]
[null,"Nao"]
[null,"Nao"]
[null,"Nao"]
[null,"Nao"]
[null,"Nao"]
[null,"Nao"]
[null,"Nao"]
[null,"Nao"]
[null,"Nao"]
[null,"Nao"]
[null,"Nao"]
[null,"Nao"]
[null,"Nao"]
[null,"Nao"]
[null,"Nao"]
[null,"Nao"]
[null,"Nao"]
[null,"Nao"]
[null,"Nao"]
[null,"Nao"]
[null,"Nao"]
[null,"Nao"]
[null,"Nao"]
[null,"Nao"]
[null,"Nao"]
[null,"Nao"]
[null,"Nao"]
[null,"Nao"]
[null,"Nao"]
[null,"Nao"]
[null,"Nao"]
[null,"Nao"]
[null,{"$f":"IF(A26583>0,\"Offhire\",\"Nao\")","v":"Nao"}]
[null,"Nao"]
[null,"Nao"]
[null,"Nao"]
[null,"Nao"]
[null,"Nao"]
[null,"Nao"]
[null,"Nao"]
[null,"Nao"]
[null,"Nao"]
[null,"Nao"]
[null,"Nao"]
[null,"Nao"]
[null,"Nao"]
[null,"Nao"]
[null,"Nao"]
[null,"Nao"]
[null,"Nao"]
[null,"Nao"]
[null,"Nao"]
[null,"Nao"]
[null,"Nao"]
[null,"Nao"]
[null,"Nao"]
[null,"Nao"]
[null,"Nao"]
[null,"Nao"]
[null,"Nao"]
[null,"Nao"]
[null,"Nao"]
[null,"Nao"]
[null,"Nao"]
[null,"Nao"]
[null,"Nao"]
[null,"Nao"]
[null,"Nao"]
[null,"Nao"]
[null,"Nao"]
[null,"Nao"]
[null,"Nao"]
[null,"Nao"]
[null,"Nao"]
[null,"Nao"]
[null,"Nao"]
[null,"Nao"]
[null,"Nao"]
[null,"Nao"]
[null,"Nao"]
[null,"Nao"]
[null,"Nao"]
[null,"Nao"]
[null,"Nao"]
[null,"Nao"]
[null,"Nao"]
[null,"Nao"]
[null,"Nao"]
[null,"Nao"]
[null,"Nao"]
[null,"Nao"]
[null,"Nao"]
[null,"Nao"]
[null,"Nao"]
[null,"Nao"]
[null,"Nao"]
[null,{"$f":"IF(A26647>0,\"Offhire\",\"Nao\")","v":"Nao"}]
[null,"Nao"]
[null,"Nao"]
[null,"Nao"]
[null,"Nao"]
[null,"Nao"]
[null,"Nao"]
[null,"Nao"]
[null,"Nao"]
[null,"Nao"]
[null,"Nao"]
[null,"Nao"]
[null,"Nao"]
[null,"Nao"]
[null,"Nao"]
[null,"Nao"]
[null,"Nao"]
[null,"Nao"]
[null,"Nao"]
[null,"Nao"]
[null,"Nao"]
[null,"Nao"]
[null,"Nao"]
[null,"Nao"]
[null,"Nao"]
[null,"Nao"]
[null,"Nao"]
[null,"Nao"]
[null,"Nao"]
[null,"Nao"]
[null,"Nao"]
[null,"Nao"]
[null,"Nao"]
[null,"Nao"]
[null,"Nao"]
[null,"Nao"]
[null,"Nao"]
[null,"Nao"]
[null,"Nao"]
[null,"Nao"]
[null,"Nao"]
[null,"Nao"]
[null,"Nao"]
[null,"Nao"]
[null,"Nao"]
[null,"Nao"]
[null,"Nao"]
[null,"Nao"]
[null,"Nao"]
[null,"Nao"]
[null,"Nao"]
[null,"Nao"]
[null,"Nao"]
[null,"Nao"]
[null,"Nao"]
[null,"Nao"]
[null,"Nao"]
[null,"Nao"]
[null,"Nao"]
[null,"Nao"]
[null,"Nao"]
[null,"Nao"]
[null,"Nao"]
[null,"Nao"]
[null,{"$f":"IF(A26711>0,\"Offhire\",\"Nao\")","v":"Nao"}]
[null,"Nao"]
[null,"Nao"]
[null,"Nao"]
[null,"Nao"]
[null,"Nao"]
[null,"Nao"]
[null,"Nao"]
[null,"Nao"]
[null,"Nao"]
[null,"Nao"]
[null,"Nao"]
[null,"Nao"]
[null,"Nao"]
[null,"Nao"]
[null,"Nao"]
[null,"Nao"]
[null,"Nao"]
[null,"Nao"]
[null,"Nao"]
[null,"Nao"]
[null,"Nao"]
[null,"Nao"]
[null,"Nao"]
[null,"Nao"]
[null,"Nao"]
[null,"Nao"]
[null,"Nao"]
[null,"Nao"]
[null,"Nao"]
[null,"Nao"]
[null,"Nao"]
[null,"Nao"]
[null,"Nao"]
[null,"Nao"]
[null,"Nao"]
[null,"Nao"]
[null,"Nao"]
[null,"Nao"]
[null,"Nao"]
[null,"Nao"]
[null,"Nao"]
[null,"Nao"]
[null,"Nao"]
[null,"Nao"]
[null,"Nao"]
[null,"Nao"]
[null,"Nao"]
[null,"Nao"]
[null,"Nao"]
[null,"Nao"]
[null,"Nao"]
[null,"Nao"]
[null,"Nao"]
[null,"Nao"]
[null,"Nao"]
[null,"Nao"]
[null,"Nao"]
[null,"Nao"]
[null,"Nao"]
[null,"Nao"]
[null,"Nao"]
[null,"Nao"]
[null,"Nao"]
[null,{"$f":"IF(A26775>0,\"Offhire\",\"Nao\")","v":"Nao"}]
[null,"Nao"]
[null,"Nao"]
[null,"Nao"]
[null,"Nao"]
[null,"Nao"]
[null,"Nao"]
[null,"Nao"]
[null,"Nao"]
[null,"Nao"]
[null,"Nao"]
[null,"Nao"]
[null,"Nao"]
[null,"Nao"]
[null,"Nao"]
[null,"Nao"]
[null,"Nao"]
[null,"Nao"]
[null,"Nao"]
[null,"Nao"]
[null,"Nao"]
[null,"Nao"]
[null,"Nao"]
[null,"Nao"]
[null,"Nao"]
[null,"Nao"]
[null,"Nao"]
[null,"Nao"]
[null,"Nao"]
[null,"Nao"]
[null,"Nao"]
[null,"Nao"]
[null,"Nao"]
[null,"Nao"]
[null,"Nao"]
[null,"Nao"]
[null,"Nao"]
[null,"Nao"]
[null,"Nao"]
[null,"Nao"]
[null,"Nao"]
[null,"Nao"]
[null,"Nao"]
[null,"Nao"]
[null,"Nao"]
[null,"Nao"]
[null,"Nao"]
[null,"Nao"]
[null,"Nao"]
[null,"Nao"]
[null,"Nao"]
[null,"Nao"]
[null,"Nao"]
[null,"Nao"]
[null,"Nao"]
[null,"Nao"]
[null,"Nao"]
[null,"Nao"]
[null,"Nao"]
[null,"Nao"]
[null,"Nao"]
[null,"Nao"]
[null,"Nao"]
[null,"Nao"]
[null,{"$f":"IF(A26839>0,\"Offhire\",\"Nao\")","v":"Nao"}]
[null,"Nao"]
[null,"Nao"]
[null,"Nao"]
[null,"Nao"]
[null,"Nao"]
[null,"Nao"]
[null,"Nao"]
[null,"Nao"]
[null,"Nao"]
[null,"Nao"]
[null,"Nao"]
[null,"Nao"]
[null,"Nao"]
[null,"Nao"]
[null,"Nao"]
[null,"Nao"]
[null,"Nao"]
[null,"Nao"]
[null,"Nao"]
[null,"Nao"]
[null,"Nao"]
[null,"Nao"]
[null,"Nao"]
[null,"Nao"]
[null,"Nao"]
[null,"Nao"]
[null,"Nao"]
[null,"Nao"]
[null,"Nao"]
[null,"Nao"]
[null,"Nao"]
[null,"Nao"]
[null,"Nao"]
[null,"Nao"]
[null,"Nao"]
[null,"Nao"]
[null,"Nao"]
[null,"Nao"]
[null,"Nao"]
[null,"Nao"]
[null,"Nao"]
[null,"Nao"]
[null,"Nao"]
[null,"Nao"]
[null,"Nao"]
[null,"Nao"]
[null,"Nao"]
[null,"Nao"]
[null,"Nao"]
[null,"Nao"]
[null,"Nao"]
[null,"Nao"]
[null,"Nao"]
[null,"Nao"]
[null,"Nao"]
[null,"Nao"]
[null,"Nao"]
[null,"Nao"]
[null,"Nao"]
[null,"Nao"]
[null,"Nao"]
[null,"Nao"]
[null,"Nao"]
[null,{"$f":"IF(A26903>0,\"Offhire\",\"Nao\")","v":"Nao"}]
[null,"Nao"]
[null,"Nao"]
[null,"Nao"]
[null,"Nao"]
[null,"Nao"]
[null,"Nao"]
[null,"Nao"]
[null,"Nao"]
[null,"Nao"]
[null,"Nao"]
[null,"Nao"]
[null,"Nao"]
[null,"Nao"]
[null,"Nao"]
[null,"Nao"]
[null,"Nao"]
[null,"Nao"]
[null,"Nao"]
[null,"Nao"]
[null,"Nao"]
[null,"Nao"]
[null,"Nao"]
[null,"Nao"]
[null,"Nao"]
[null,"Nao"]
[null,"Nao"]
[null,"Nao"]
[null,"Nao"]
[null,"Nao"]
[null,"Nao"]
[null,"Nao"]
[null,"Nao"]
[null,"Nao"]
[null,"Nao"]
[null,"Nao"]
[null,"Nao"]
[null,"Nao"]
[null,"Nao"]
[null,"Nao"]
[null,"Nao"]
[null,"Nao"]
[null,"Nao"]
[null,"Nao"]
[null,"Nao"]
[null,"Nao"]
[null,"Nao"]
[null,"Nao"]
[null,"Nao"]
[null,"Nao"]
[null,"Nao"]
[null,"Nao"]
[null,"Nao"]
[null,"Nao"]
[null,"Nao"]
[null,"Nao"]
[null,"Nao"]
[null,"Nao"]
[null,"Nao"]
[null,"Nao"]
[null,"Nao"]
[null,"Nao"]
[null,"Nao"]
[null,"Nao"]
[null,{"$f":"IF(A26967>0,\"Offhire\",\"Nao\")","v":"Nao"}]
[null,"Nao"]
[null,"Nao"]
[null,"Nao"]
[null,"Nao"]
[null,"Nao"]
[null,"Nao"]
[null,"Nao"]
[null,"Nao"]
[null,"Nao"]
[null,"Nao"]
[null,"Nao"]
[null,"Nao"]
[null,"Nao"]
[null,"Nao"]
[null,"Nao"]
[null,"Nao"]
[null,"Nao"]
[null,"Nao"]
[null,"Nao"]
[null,"Nao"]
[null,"Nao"]
[null,"Nao"]
[null,"Nao"]
[null,"Nao"]
[null,"Nao"]
[null,"Nao"]
[null,"Nao"]
[null,"Nao"]
[null,"Nao"]
[null,"Nao"]
[null,"Nao"]
[null,"Nao"]
[null,"Nao"]
[null,"Nao"]
[null,"Nao"]
[null,"Nao"]
[null,"Nao"]
[null,"Nao"]
[null,"Nao"]
[null,"Nao"]
[null,"Nao"]
[null,"Nao"]
[null,"Nao"]
[null,"Nao"]
[null,"Nao"]
[null,"Nao"]
[null,"Nao"]
[null,"Nao"]
[null,"Nao"]
[null,"Nao"]
[null,"Nao"]
[null,"Nao"]
[null,"Nao"]
[null,"Nao"]
[null,"Nao"]
[null,"Nao"]
[null,"Nao"]
[null,"Nao"]
[null,"Nao"]
[null,"Nao"]
[null,"Nao"]
[null,"Nao"]
[null,"Nao"]
[null,{"$f":"IF(A27031>0,\"Offhire\",\"Nao\")","v":"Nao"}]
[null,"Nao"]
[null,"Nao"]
[null,"Nao"]
[null,"Nao"]
[null,"Nao"]
[null,"Nao"]
[null,"Nao"]
[null,"Nao"]
[null,"Nao"]
[null,"Nao"]
[null,"Nao"]
[null,"Nao"]
[null,"Nao"]
[null,"Nao"]
[null,"Nao"]
[null,"Nao"]
[null,"Nao"]
[null,"Nao"]
[null,"Nao"]
[null,"Nao"]
[null,"Nao"]
[null,"Nao"]
[null,"Nao"]
[null,"Nao"]
[null,"Nao"]
[null,"Nao"]
[null,"Nao"]
[null,"Nao"]
[null,"Nao"]
[null,"Nao"]
[null,"Nao"]
[null,"Nao"]
[null,"Nao"]
[null,"Nao"]
[null,"Nao"]
[null,"Nao"]
[null,"Nao"]
[null,"Nao"]
[null,"Nao"]
[null,"Nao"]
[null,"Nao"]
[null,"Nao"]
[null,"Nao"]
[null,"Nao"]
[null,"Nao"]
[null,"Nao"]
[null,"Nao"]
[null,"Nao"]
[null,"Nao"]
[null,"Nao"]
[null,"Nao"]
[null,"Nao"]
[null,"Nao"]
[null,"Nao"]
[null,"Nao"]
[null,"Nao"]
[null,"Nao"]
[null,"Nao"]
[null,"Nao"]
[null,"Nao"]
[null,"Nao"]
[null,"Nao"]
[null,"Nao"]
[null,{"$f":"IF(A27095>0,\"Offhire\",\"Nao\")","v":"Nao"}]
[null,"Nao"]
[null,"Nao"]
[null,"Nao"]
[null,"Nao"]
[null,"Nao"]
[null,"Nao"]
[null,"Nao"]
[null,"Nao"]
[null,"Nao"]
[null,"Nao"]
[null,"Nao"]
[null,"Nao"]
[null,"Nao"]
[null,"Nao"]
[null,"Nao"]
[null,"Nao"]
[null,"Nao"]
[null,"Nao"]
[null,"Nao"]
[null,"Nao"]
[null,"Nao"]
[null,"Nao"]
[null,"Nao"]
[null,"Nao"]
[null,"Nao"]
[null,"Nao"]
[null,"Nao"]
[null,"Nao"]
[null,"Nao"]
[null,"Nao"]
[null,"Nao"]
[null,"Nao"]
[null,"Nao"]
[null,"Nao"]
[null,"Nao"]
[null,"Nao"]
[null,"Nao"]
[null,"Nao"]
[null,"Nao"]
[null,"Nao"]
[null,"Nao"]
[null,"Nao"]
[null,"Nao"]
[null,"Nao"]
[null,"Nao"]
[null,"Nao"]
[null,"Nao"]
[null,"Nao"]
[null,"Nao"]
[null,"Nao"]
[null,"Nao"]
[null,"Nao"]
[null,"Nao"]
[null,"Nao"]
[null,"Nao"]
[null,"Nao"]
[null,"Nao"]
[null,"Nao"]
[null,"Nao"]
[null,"Nao"]
[null,"Nao"]
[null,"Nao"]
[null,"Nao"]
[null,{"$f":"IF(A27159>0,\"Offhire\",\"Nao\")","v":"Nao"}]
[null,"Nao"]
[null,"Nao"]
[null,"Nao"]
[null,"Nao"]
[null,"Nao"]
[null,"Nao"]
[null,"Nao"]
[null,"Nao"]
[null,"Nao"]
[null,"Nao"]
[null,"Nao"]
[null,"Nao"]
[null,"Nao"]
[null,"Nao"]
[null,"Nao"]
[null,"Nao"]
[null,"Nao"]
[null,"Nao"]
[null,"Nao"]
[null,"Nao"]
[null,"Nao"]
[null,"Nao"]
[null,"Nao"]
[null,"Nao"]
[null,"Nao"]
[null,"Nao"]
[null,"Nao"]
[null,"Nao"]
[null,"Nao"]
[null,"Nao"]
[null,"Nao"]
[null,"Nao"]
[null,"Nao"]
[null,"Nao"]
[null,"Nao"]
[null,"Nao"]
[null,"Nao"]
[null,"Nao"]
[null,"Nao"]
[null,"Nao"]
[null,"Nao"]
[null,"Nao"]
[null,"Nao"]
[null,"Nao"]
[null,"Nao"]
[null,"Nao"]
[null,"Nao"]
[null,"Nao"]
[null,"Nao"]
[null,"Nao"]
[null,"Nao"]
[null,"Nao"]
[null,"Nao"]
[null,"Nao"]
[null,"Nao"]
[null,"Nao"]
[null,"Nao"]
[null,"Nao"]
[null,"Nao"]
[null,"Nao"]
[null,"Nao"]
[null,"Nao"]
[null,"Nao"]
[null,{"$f":"IF(A27223>0,\"Offhire\",\"Nao\")","v":"Nao"}]
[null,"Nao"]
[null,"Nao"]
[null,"Nao"]
[null,"Nao"]
[null,"Nao"]
[null,"Nao"]
[null,"Nao"]
[null,"Nao"]
[null,"Nao"]
[null,"Nao"]
[null,"Nao"]
[null,"Nao"]
[null,"Nao"]
[null,"Nao"]
[null,"Nao"]
[null,"Nao"]
[null,"Nao"]
[null,"Nao"]
[null,"Nao"]
[null,"Nao"]
[null,"Nao"]
[null,"Nao"]
[null,"Nao"]
[null,"Nao"]
[null,"Nao"]
[null,"Nao"]
[null,"Nao"]
[null,"Nao"]
[null,"Nao"]
[null,"Nao"]
[null,"Nao"]
[null,"Nao"]
[null,"Nao"]
[null,"Nao"]
[null,"Nao"]
[null,"Nao"]
[null,"Nao"]
[null,"Nao"]
[null,"Nao"]
[null,"Nao"]
[null,"Nao"]
[null,"Nao"]
[null,"Nao"]
[null,"Nao"]
[null,"Nao"]
[null,"Nao"]
[null,"Nao"]
[null,"Nao"]
[null,"Nao"]
[null,"Nao"]
[null,"Nao"]
[null,"Nao"]
[null,"Nao"]
[null,"Nao"]
[null,"Nao"]
[null,"Nao"]
[null,"Nao"]
[null,"Nao"]
[null,"Nao"]
[null,"Nao"]
[null,"Nao"]
[null,"Nao"]
[null,"Nao"]
[null,{"$f":"IF(A27287>0,\"Offhire\",\"Nao\")","v":"Nao"}]
[null,"Nao"]
[null,"Nao"]
[null,"Nao"]
[null,"Nao"]
[null,"Nao"]
[null,"Nao"]
[null,"Nao"]
[null,"Nao"]
[null,"Nao"]
[null,"Nao"]
[null,"Nao"]
[null,"Nao"]
[null,"Nao"]
[null,"Nao"]
[null,"Nao"]
[null,"Nao"]
[null,"Nao"]
[null,"Nao"]
[null,"Nao"]
[null,"Nao"]
[null,"Nao"]
[null,"Nao"]
[null,"Nao"]
[null,"Nao"]
[null,"Nao"]
[null,"Nao"]
[null,"Nao"]
[null,"Nao"]
[null,"Nao"]
[null,"Nao"]
[null,"Nao"]
[null,"Nao"]
[null,"Nao"]
[null,"Nao"]
[null,"Nao"]
[null,"Nao"]
[null,"Nao"]
[null,"Nao"]
[null,"Nao"]
[null,"Nao"]
[null,"Nao"]
[null,"Nao"]
[null,"Nao"]
[null,"Nao"]
[null,"Nao"]
[null,"Nao"]
[null,"Nao"]
[null,"Nao"]
[null,"Nao"]
[null,"Nao"]
[null,"Nao"]
[null,"Nao"]
[null,"Nao"]
[null,"Nao"]
[null,"Nao"]
[null,"Nao"]
[null,"Nao"]
[null,"Nao"]
[null,"Nao"]
[null,"Nao"]
[null,"Nao"]
[null,"Nao"]
[null,"Nao"]
[null,{"$f":"IF(A27351>0,\"Offhire\",\"Nao\")","v":"Nao"}]
[null,"Nao"]
[null,"Nao"]
[null,"Nao"]
[null,"Nao"]
[null,"Nao"]
[null,"Nao"]
[null,"Nao"]
[null,"Nao"]
[null,"Nao"]
[null,"Nao"]
[null,"Nao"]
[null,"Nao"]
[null,"Nao"]
[null,"Nao"]
[null,"Nao"]
[null,"Nao"]
[null,"Nao"]
[null,"Nao"]
[null,"Nao"]
[null,"Nao"]
[null,"Nao"]
[null,"Nao"]
[null,"Nao"]
[null,"Nao"]
[null,"Nao"]
[null,"Nao"]
[null,"Nao"]
[null,"Nao"]
[null,"Nao"]
[null,"Nao"]
[null,"Nao"]
[null,"Nao"]
[null,"Nao"]
[null,"Nao"]
[null,"Nao"]
[null,"Nao"]
[null,"Nao"]
[null,"Nao"]
[null,"Nao"]
[null,"Nao"]
[null,"Nao"]
[null,"Nao"]
[null,"Nao"]
[null,"Nao"]
[null,"Nao"]
[null,"Nao"]
[null,"Nao"]
[null,"Nao"]
[null,"Nao"]
[null,"Nao"]
[null,"Nao"]
[null,"Nao"]
[null,"Nao"]
[null,"Nao"]
[null,"Nao"]
[null,"Nao"]
[null,"Nao"]
[null,"Nao"]
[null,"Nao"]
[null,"Nao"]
[null,"Nao"]
[null,"Nao"]
[null,"Nao"]
[null,{"$f":"IF(A27415>0,\"Offhire\",\"Nao\")","v":"Nao"}]
[null,"Nao"]
[null,"Nao"]
[null,"Nao"]
[null,"Nao"]
[null,"Nao"]
[null,"Nao"]
[null,"Nao"]
[null,"Nao"]
[null,"Nao"]
[null,"Nao"]
[null,"Nao"]
[null,"Nao"]
[null,"Nao"]
[null,"Nao"]
[null,"Nao"]
[null,"Nao"]
[null,"Nao"]
[null,"Nao"]
[null,"Nao"]
[null,"Nao"]
[null,"Nao"]
[null,"Nao"]
[null,"Nao"]
[null,"Nao"]
[null,"Nao"]
[null,"Nao"]
[null,"Nao"]
[null,"Nao"]
[null,"Nao"]
[null,"Nao"]
[null,"Nao"]
[null,"Nao"]
[null,"Nao"]
[null,"Nao"]
[null,"Nao"]
[null,"Nao"]
[null,"Nao"]
[null,"Nao"]
[null,"Nao"]
[null,"Nao"]
[null,"Nao"]
[null,"Nao"]
[null,"Nao"]
[null,"Nao"]
[null,"Nao"]
[null,"Nao"]
[null,"Nao"]
[null,"Nao"]
[null,"Nao"]
[null,"Nao"]
[null,"Nao"]
[null,"Nao"]
[null,"Nao"]
[null,"Nao"]
[null,"Nao"]
[null,"Nao"]
[null,"Nao"]
[null,"Nao"]
[null,"Nao"]
[null,"Nao"]
[null,"Nao"]
[null,"Nao"]
[null,"Nao"]
[null,{"$f":"IF(A27479>0,\"Offhire\",\"Nao\")","v":"Nao"}]
[null,"Nao"]
[null,"Nao"]
[null,"Nao"]
[null,"Nao"]
[null,"Nao"]
[null,"Nao"]
[null,"Nao"]
[null,"Nao"]
[null,"Nao"]
[null,"Nao"]
[null,"Nao"]
[null,"Nao"]
[null,"Nao"]
[null,"Nao"]
[null,"Nao"]
[null,"Nao"]
[null,"Nao"]
[null,"Nao"]
[null,"Nao"]
[null,"Nao"]
[null,"Nao"]
[null,"Nao"]
[null,"Nao"]
[null,"Nao"]
[null,"Nao"]
[null,"Nao"]
[null,"Nao"]
[null,"Nao"]
[null,"Nao"]
[null,"Nao"]
[null,"Nao"]
[null,"Nao"]
[null,"Nao"]
[null,"Nao"]
[null,"Nao"]
[null,"Nao"]
[null,"Nao"]
[null,"Nao"]
[null,"Nao"]
[null,"Nao"]
[null,"Nao"]
[null,"Nao"]
[null,"Nao"]
[null,"Nao"]
[null,"Nao"]
[null,"Nao"]
[null,"Nao"]
[null,"Nao"]
[null,"Nao"]
[null,"Nao"]
[null,"Nao"]
[null,"Nao"]
[null,"Nao"]
[null,"Nao"]
[null,"Nao"]
[null,"Nao"]
[null,"Nao"]
[null,"Nao"]
[null,"Nao"]
[null,"Nao"]
[null,"Nao"]
[null,"Nao"]
[null,"Nao"]
[null,{"$f":"IF(A27543>0,\"Offhire\",\"Nao\")","v":"Nao"}]
[null,"Nao"]
[null,"Nao"]
[null,"Nao"]
[null,"Nao"]
[null,"Nao"]
[null,"Nao"]
[null,"Nao"]
[null,"Nao"]
[null,"Nao"]
[null,"Nao"]
[null,"Nao"]
[null,"Nao"]
[null,"Nao"]
[null,"Nao"]
[null,"Nao"]
[null,"Nao"]
[null,"Nao"]
[null,"Nao"]
[null,"Nao"]
[null,"Nao"]
[null,"Nao"]
[null,"Nao"]
[null,"Nao"]
[null,"Nao"]
[null,"Nao"]
[null,"Nao"]
[null,"Nao"]
[null,"Nao"]
[null,"Nao"]
[null,"Nao"]
[null,"Nao"]
[null,"Nao"]
[null,"Nao"]
[null,"Nao"]
[null,"Nao"]
[null,"Nao"]
[null,"Nao"]
[null,"Nao"]
[null,"Nao"]
[null,"Nao"]
[null,"Nao"]
[null,"Nao"]
[null,"Nao"]
[null,"Nao"]
[null,"Nao"]
[null,"Nao"]
[null,"Nao"]
[null,"Nao"]
[null,"Nao"]
[null,"Nao"]
[null,"Nao"]
[null,"Nao"]
[null,"Nao"]
[null,"Nao"]
[null,"Nao"]
[null,"Nao"]
[null,"Nao"]
[null,"Nao"]
[null,"Nao"]
[null,"Nao"]
[null,"Nao"]
[null,"Nao"]
[null,"Nao"]
[null,{"$f":"IF(A27607>0,\"Offhire\",\"Nao\")","v":"Nao"}]
[null,"Nao"]
[null,"Nao"]
[null,"Nao"]
[null,"Nao"]
[null,"Nao"]
[null,"Nao"]
[null,"Nao"]
[null,"Nao"]
[null,"Nao"]
[null,"Nao"]
[null,"Nao"]
[null,"Nao"]
[null,"Nao"]
[null,"Nao"]
[null,"Nao"]
[null,"Nao"]
[null,"Nao"]
[null,"Nao"]
[null,"Nao"]
[null,"Nao"]
[null,"Nao"]
[null,"Nao"]
[null,"Nao"]
[null,"Nao"]
[null,"Nao"]
[null,"Nao"]
[null,"Nao"]
[null,"Nao"]
[null,"Nao"]
[null,"Nao"]
[null,"Nao"]
[null,"Nao"]
[null,"Nao"]
[null,"Nao"]
[null,"Nao"]
[null,"Nao"]
[null,"Nao"]
[null,"Nao"]
[null,"Nao"]
[null,"Nao"]
[null,"Nao"]
[null,"Nao"]
[null,"Nao"]
[null,"Nao"]
[null,"Nao"]
[null,"Nao"]
[null,"Nao"]
[null,"Nao"]
[null,"Nao"]
[null,"Nao"]
[null,"Nao"]
[null,"Nao"]
[null,"Nao"]
[null,"Nao"]
[null,"Nao"]
[null,"Nao"]
[null,"Nao"]
[null,"Nao"]
[null,"Nao"]
[null,"Nao"]
[null,"Nao"]
[null,"Nao"]
[null,"Nao"]
[null,{"$f":"IF(A27671>0,\"Offhire\",\"Nao\")","v":"Nao"}]
[null,"Nao"]
[null,"Nao"]
[null,"Nao"]
[null,"Nao"]
[null,"Nao"]
[null,"Nao"]
[null,"Nao"]
[null,"Nao"]
[null,"Nao"]
[null,"Nao"]
[null,"Nao"]
[null,"Nao"]
[null,"Nao"]
[null,"Nao"]
[null,"Nao"]
[null,"Nao"]
[null,"Nao"]
[null,"Nao"]
[null,"Nao"]
[null,"Nao"]
[null,"Nao"]
[null,"Nao"]
[null,"Nao"]
[null,"Nao"]
[null,"Nao"]
[null,"Nao"]
[null,"Nao"]
[null,"Nao"]
[null,"Nao"]
[null,"Nao"]
[null,"Nao"]
[null,"Nao"]
[null,"Nao"]
[null,"Nao"]
[null,"Nao"]
[null,"Nao"]
[null,"Nao"]
[null,"Nao"]
[null,"Nao"]
[null,"Nao"]
[null,"Nao"]
[null,"Nao"]
[null,"Nao"]
[null,"Nao"]
[null,"Nao"]
[null,"Nao"]
[null,"Nao"]
[null,"Nao"]
[null,"Nao"]
[null,"Nao"]
[null,"Nao"]
[null,"Nao"]
[null,"Nao"]
[null,"Nao"]
[null,"Nao"]
[null,"Nao"]
[null,"Nao"]
[null,"Nao"]
[null,"Nao"]
[null,"Nao"]
[null,"Nao"]
[null,"Nao"]
[null,"Nao"]
[null,{"$f":"IF(A27735>0,\"Offhire\",\"Nao\")","v":"Nao"}]
[null,"Nao"]
[null,"Nao"]
[null,"Nao"]
[null,"Nao"]
[null,"Nao"]
[null,"Nao"]
[null,"Nao"]
[null,"Nao"]
[null,"Nao"]
[null,"Nao"]
[null,"Nao"]
[null,"Nao"]
[null,"Nao"]
[null,"Nao"]
[null,"Nao"]
[null,"Nao"]
[null,"Nao"]
[null,"Nao"]
[null,"Nao"]
[null,"Nao"]
[null,"Nao"]
[null,"Nao"]
[null,"Nao"]
[null,"Nao"]
[null,"Nao"]
[null,"Nao"]
[null,"Nao"]
[null,"Nao"]
[null,"Nao"]
[null,"Nao"]
[null,"Nao"]
[null,"Nao"]
[null,"Nao"]
[null,"Nao"]
[null,"Nao"]
[null,"Nao"]
[null,"Nao"]
[null,"Nao"]
[null,"Nao"]
[null,"Nao"]
[null,"Nao"]
[null,"Nao"]
[null,"Nao"]
[null,"Nao"]
[null,"Nao"]
[null,"Nao"]
[null,"Nao"]
[null,"Nao"]
[null,"Nao"]
[null,"Nao"]
[null,"Nao"]
[null,"Nao"]
[null,"Nao"]
[null,"Nao"]
[null,"Nao"]
[null,"Nao"]
[null,"Nao"]
[null,"Nao"]
[null,"Nao"]
[null,"Nao"]
[null,"Nao"]
[null,"Nao"]
[null,"Nao"]
[null,{"$f":"IF(A27799>0,\"Offhire\",\"Nao\")","v":"Nao"}]
[null,"Nao"]
[null,"Nao"]
[null,"Nao"]
[null,"Nao"]
[null,"Nao"]
[null,"Nao"]
[null,"Nao"]
[null,"Nao"]
[null,"Nao"]
[null,"Nao"]
[null,"Nao"]
[null,"Nao"]
[null,"Nao"]
[null,"Nao"]
[null,"Nao"]
[null,"Nao"]
[null,"Nao"]
[null,"Nao"]
[null,"Nao"]
[null,"Nao"]
[null,"Nao"]
[null,"Nao"]
[null,"Nao"]
[null,"Nao"]
[null,"Nao"]
[null,"Nao"]
[null,"Nao"]
[null,"Nao"]
[null,"Nao"]
[null,"Nao"]
[null,"Nao"]
[null,"Nao"]
[null,"Nao"]
[null,"Nao"]
[null,"Nao"]
[null,"Nao"]
[null,"Nao"]
[null,"Nao"]
[null,"Nao"]
[null,"Nao"]
[null,"Nao"]
[null,"Nao"]
[null,"Nao"]
[null,"Nao"]
[null,"Nao"]
[null,"Nao"]
[null,"Nao"]
[null,"Nao"]
[null,"Nao"]
[null,"Nao"]
[null,"Nao"]
[null,"Nao"]
[null,"Nao"]
[null,"Nao"]
[null,"Nao"]
[null,"Nao"]
[null,"Nao"]
[null,"Nao"]
[null,"Nao"]
[null,"Nao"]
[null,"Nao"]
[null,"Nao"]
[null,"Nao"]
[null,{"$f":"IF(A27863>0,\"Offhire\",\"Nao\")","v":"Nao"}]
[null,"Nao"]
[null,"Nao"]
[null,"Nao"]
[null,"Nao"]
[null,"Nao"]
[null,"Nao"]
[null,"Nao"]
[null,"Nao"]
[null,"Nao"]
[null,"Nao"]
[null,"Nao"]
[null,"Nao"]
[null,"Nao"]
[null,"Nao"]
[null,"Nao"]
[null,"Nao"]
[null,"Nao"]
[null,"Nao"]
[null,"Nao"]
[null,"Nao"]
[null,"Nao"]
[null,"Nao"]
[null,"Nao"]
[null,"Nao"]
[null,"Nao"]
[null,"Nao"]
[null,"Nao"]
[null,"Nao"]
[null,"Nao"]
[null,"Nao"]
[null,"Nao"]
[null,"Nao"]
[null,"Nao"]
[null,"Nao"]
[null,"Nao"]
[null,"Nao"]
[null,"Nao"]
[null,"Nao"]
[null,"Nao"]
[null,"Nao"]
[null,"Nao"]
[null,"Nao"]
[null,"Nao"]
[null,"Nao"]
[null,"Nao"]
[null,"Nao"]
[null,"Nao"]
[null,"Nao"]
[null,"Nao"]
[null,"Nao"]
[null,"Nao"]
[null,"Nao"]
[null,"Nao"]
[null,"Nao"]
[null,"Nao"]
[null,"Nao"]
[null,"Nao"]
[null,"Nao"]
[null,"Nao"]
[null,"Nao"]
[null,"Nao"]
[null,"Nao"]
[null,"Nao"]
[null,{"$f":"IF(A27927>0,\"Offhire\",\"Nao\")","v":"Nao"}]
[null,"Nao"]
[null,"Nao"]
[null,"Nao"]
[null,"Nao"]
[null,"Nao"]
[null,"Nao"]
[null,"Nao"]
[null,"Nao"]
[null,"Nao"]
[null,"Nao"]
[null,"Nao"]
[null,"Nao"]
[null,"Nao"]
[null,"Nao"]
[null,"Nao"]
[null,"Nao"]
[null,"Nao"]
[null,"Nao"]
[null,"Nao"]
[null,"Nao"]
[null,"Nao"]
[null,"Nao"]
[null,"Nao"]
[null,"Nao"]
[null,"Nao"]
[null,"Nao"]
[null,"Nao"]
[null,"Nao"]
[null,"Nao"]
[null,"Nao"]
[null,"Nao"]
[null,"Nao"]
[null,"Nao"]
[null,"Nao"]
[null,"Nao"]
[null,"Nao"]
[null,"Nao"]
[null,"Nao"]
[null,"Nao"]
[null,"Nao"]
[null,"Nao"]
[null,"Nao"]
[null,"Nao"]
[null,"Nao"]
[null,"Nao"]
[null,"Nao"]
[null,"Nao"]
[null,"Nao"]
[null,"Nao"]
[null,"Nao"]
[null,"Nao"]
[null,"Nao"]
[null,"Nao"]
[null,"Nao"]
[null,"Nao"]
[null,"Nao"]
[null,"Nao"]
[null,"Nao"]
[null,"Nao"]
[null,"Nao"]
[null,"Nao"]
[null,"Nao"]
[null,"Nao"]
[null,{"$f":"IF(A27991>0,\"Offhire\",\"Nao\")","v":"Nao"}]
[null,"Nao"]
[null,"Nao"]
[null,"Nao"]
[null,"Nao"]
[null,"Nao"]
[null,"Nao"]
[null,"Nao"]
[null,"Nao"]
[null,"Nao"]
[null,"Nao"]
[null,"Nao"]
[null,"Nao"]
[null,"Nao"]
[null,"Nao"]
[null,"Nao"]
[null,"Nao"]
[null,"Nao"]
[null,"Nao"]
[null,"Nao"]
[null,"Nao"]
[null,"Nao"]
[null,"Nao"]
[null,"Nao"]
[null,"Nao"]
[null,"Nao"]
[null,"Nao"]
[null,"Nao"]
[null,"Nao"]
[null,"Nao"]
[null,"Nao"]
[null,"Nao"]
[null,"Nao"]
[null,"Nao"]
[null,"Nao"]
[null,"Nao"]
[null,"Nao"]
[null,"Nao"]
[null,"Nao"]
[null,"Nao"]
[null,"Nao"]
[null,"Nao"]
[null,"Nao"]
[null,"Nao"]
[null,"Nao"]
[null,"Nao"]
[null,"Nao"]
[null,"Nao"]
[null,"Nao"]
[null,"Nao"]
[null,"Nao"]
[null,"Nao"]
[null,"Nao"]
[null,"Nao"]
[null,"Nao"]
[null,"Nao"]
[null,"Nao"]
[null,"Nao"]
[null,"Nao"]
[null,"Nao"]
[null,"Nao"]
[null,"Nao"]
[null,"Nao"]
[null,"Nao"]
[null,{"$f":"IF(A28055>0,\"Offhire\",\"Nao\")","v":"Nao"}]
[null,"Nao"]
[null,"Nao"]
[null,"Nao"]
[null,"Nao"]
[null,"Nao"]
[null,"Nao"]
[null,"Nao"]
[null,"Nao"]
[null,"Nao"]
[null,"Nao"]
[null,"Nao"]
[null,"Nao"]
[null,"Nao"]
[null,"Nao"]
[null,"Nao"]
[null,"Nao"]
[null,"Nao"]
[null,"Nao"]
[null,"Nao"]
[null,"Nao"]
[null,"Nao"]
[null,"Nao"]
[null,"Nao"]
[null,"Nao"]
[null,"Nao"]
[null,"Nao"]
[null,"Nao"]
[null,"Nao"]
[null,"Nao"]
[null,"Nao"]
[null,"Nao"]
[null,"Nao"]
[null,"Nao"]
[null,"Nao"]
[null,"Nao"]
[null,"Nao"]
[null,"Nao"]
[null,"Nao"]
[null,"Nao"]
[null,"Nao"]
[null,"Nao"]
[null,"Nao"]
[null,"Nao"]
[null,"Nao"]
[null,"Nao"]
[null,"Nao"]
[null,"Nao"]
[null,"Nao"]
[null,"Nao"]
[null,"Nao"]
[null,"Nao"]
[null,"Nao"]
[null,"Nao"]
[null,"Nao"]
[null,"Nao"]
[null,"Nao"]
[null,"Nao"]
[null,"Nao"]
[null,"Nao"]
[null,"Nao"]
[null,"Nao"]
[null,"Nao"]
[null,"Nao"]
[null,{"$f":"IF(A28119>0,\"Offhire\",\"Nao\")","v":"Nao"}]
[null,"Nao"]
[null,"Nao"]
[null,"Nao"]
[null,"Nao"]
[null,"Nao"]
[null,"Nao"]
[null,"Nao"]
[null,"Nao"]
[null,"Nao"]
[null,"Nao"]
[null,"Nao"]
[null,"Nao"]
[null,"Nao"]
[null,"Nao"]
[null,"Nao"]
[null,"Nao"]
[null,"Nao"]
[null,"Nao"]
[null,"Nao"]
[null,"Nao"]
[null,"Nao"]
[null,"Nao"]
[null,"Nao"]
[null,"Nao"]
[null,"Nao"]
[null,"Nao"]
[null,"Nao"]
[null,"Nao"]
[null,"Nao"]
[null,"Nao"]
[null,"Nao"]
[null,"Nao"]
[null,"Nao"]
[null,"Nao"]
[null,"Nao"]
[null,"Nao"]
[null,"Nao"]
[null,"Nao"]
[null,"Nao"]
[null,"Nao"]
[null,"Nao"]
[null,"Nao"]
[null,"Nao"]
[null,"Nao"]
[null,"Nao"]
[null,"Nao"]
[null,"Nao"]
[null,"Nao"]
[null,"Nao"]
[null,"Nao"]
[null,"Nao"]
[null,"Nao"]
[null,"Nao"]
[null,"Nao"]
[null,"Nao"]
[null,"Nao"]
[null,"Nao"]
[null,"Nao"]
[null,"Nao"]
[null,"Nao"]
[null,"Nao"]
[null,"Nao"]
[null,"Nao"]
[null,{"$f":"IF(A28183>0,\"Offhire\",\"Nao\")","v":"Nao"}]
[null,"Nao"]
[null,"Nao"]
[null,"Nao"]
[null,"Nao"]
[null,"Nao"]
[null,"Nao"]
[null,"Nao"]
[null,"Nao"]
[null,"Nao"]
[null,"Nao"]
[null,"Nao"]
[null,"Nao"]
[null,"Nao"]
[null,"Nao"]
[null,"Nao"]
[null,"Nao"]
[null,"Nao"]
[null,"Nao"]
[null,"Nao"]
[null,"Nao"]
[null,"Nao"]
[null,"Nao"]
[null,"Nao"]
[null,"Nao"]
[null,"Nao"]
[null,"Nao"]
[null,"Nao"]
[null,"Nao"]
[null,"Nao"]
[null,"Nao"]
[null,"Nao"]
[null,"Nao"]
[null,"Nao"]
[null,"Nao"]
[null,"Nao"]
[null,"Nao"]
[null,"Nao"]
[null,"Nao"]
[null,"Nao"]
[null,"Nao"]
[null,"Nao"]
[null,"Nao"]
[null,"Nao"]
[null,"Nao"]
[null,"Nao"]
[null,"Nao"]
[null,"Nao"]
[null,"Nao"]
[null,"Nao"]
[null,"Nao"]
[null,"Nao"]
[null,"Nao"]
[null,"Nao"]
[null,"Nao"]
[null,"Nao"]
[null,"Nao"]
[null,"Nao"]
[null,"Nao"]
[null,"Nao"]
[null,"Nao"]
[null,"Nao"]
[null,"Nao"]
[null,"Nao"]
[null,{"$f":"IF(A28247>0,\"Offhire\",\"Nao\")","v":"Nao"}]
[null,"Nao"]
[null,"Nao"]
[null,"Nao"]
[null,"Nao"]
[null,"Nao"]
[null,"Nao"]
[null,"Nao"]
[null,"Nao"]
[null,"Nao"]
[null,"Nao"]
[null,"Nao"]
[null,"Nao"]
[null,"Nao"]
[null,"Nao"]
[null,"Nao"]
[null,"Nao"]
[null,"Nao"]
[null,"Nao"]
[null,"Nao"]
[null,"Nao"]
[null,"Nao"]
[null,"Nao"]
[null,"Nao"]
[null,"Nao"]
[null,"Nao"]
[null,"Nao"]
[null,"Nao"]
[null,"Nao"]
[null,"Nao"]
[null,"Nao"]
[null,"Nao"]
[null,"Nao"]
[null,"Nao"]
[null,"Nao"]
[null,"Nao"]
[null,"Nao"]
[null,"Nao"]
[null,"Nao"]
[null,"Nao"]
[null,"Nao"]
[null,"Nao"]
[null,"Nao"]
[null,"Nao"]
[null,"Nao"]
[null,"Nao"]
[null,"Nao"]
[null,"Nao"]
[null,"Nao"]
[null,"Nao"]
[null,"Nao"]
[null,"Nao"]
[null,"Nao"]
[null,"Nao"]
[null,"Nao"]
[null,"Nao"]
[null,"Nao"]
[null,"Nao"]
[null,"Nao"]
[null,"Nao"]
[null,"Nao"]
[null,"Nao"]
[null,"Nao"]
[null,"Nao"]
[null,{"$f":"IF(A28311>0,\"Offhire\",\"Nao\")","v":"Nao"}]
[null,"Nao"]
[null,"Nao"]
[null,"Nao"]
[null,"Nao"]
[null,"Nao"]
[null,"Nao"]
[null,"Nao"]
[null,"Nao"]
[null,"Nao"]
[null,"Nao"]
[null,"Nao"]
[null,"Nao"]
[null,"Nao"]
[null,"Nao"]
[null,"Nao"]
[null,"Nao"]
[null,"Nao"]
[null,"Nao"]
[null,"Nao"]
[null,"Nao"]
[null,"Nao"]
[null,"Nao"]
[null,"Nao"]
[null,"Nao"]
[null,"Nao"]
[null,"Nao"]
[null,"Nao"]
[null,"Nao"]
[null,"Nao"]
[null,"Nao"]
[null,"Nao"]
[null,"Nao"]
[null,"Nao"]
[null,"Nao"]
[null,"Nao"]
[null,"Nao"]
[null,"Nao"]
[null,"Nao"]
[null,"Nao"]
[null,"Nao"]
[null,"Nao"]
[null,"Nao"]
[null,"Nao"]
[null,"Nao"]
[null,"Nao"]
[null,"Nao"]
[null,"Nao"]
[null,"Nao"]
[null,"Nao"]
[null,"Nao"]
[null,"Nao"]
[null,"Nao"]
[null,"Nao"]
[null,"Nao"]
[null,"Nao"]
[null,"Nao"]
[null,"Nao"]
[null,"Nao"]
[null,"Nao"]
[null,"Nao"]
[null,"Nao"]
[null,"Nao"]
[null,"Nao"]
[null,{"$f":"IF(A28375>0,\"Offhire\",\"Nao\")","v":"Nao"}]
[null,"Nao"]
[null,"Nao"]
[null,"Nao"]
[null,"Nao"]
[null,"Nao"]
[null,"Nao"]
[null,"Nao"]
[null,"Nao"]
[null,"Nao"]
[null,"Nao"]
[null,"Nao"]
[null,"Nao"]
[null,"Nao"]
[null,"Nao"]
[null,"Nao"]
[null,"Nao"]
[null,"Nao"]
[null,"Nao"]
[null,"Nao"]
[null,"Nao"]
[null,"Nao"]
[null,"Nao"]
[null,"Nao"]
[null,"Nao"]
[null,"Nao"]
[null,"Nao"]
[null,"Nao"]
[null,"Nao"]
[null,"Nao"]
[null,"Nao"]
[null,"Nao"]
[null,"Nao"]
[null,"Nao"]
[null,"Nao"]
[null,"Nao"]
[null,"Nao"]
[null,"Nao"]
[null,"Nao"]
[null,"Nao"]
[null,"Nao"]
[null,"Nao"]
[null,"Nao"]
[null,"Nao"]
[null,"Nao"]
[null,"Nao"]
[null,"Nao"]
[null,"Nao"]
[null,"Nao"]
[null,"Nao"]
[null,"Nao"]
[null,"Nao"]
[null,"Nao"]
[null,"Nao"]
[null,"Nao"]
[null,"Nao"]
[null,"Nao"]
[null,"Nao"]
[null,"Nao"]
[null,"Nao"]
[null,"Nao"]
[null,"Nao"]
[null,"Nao"]
[null,"Nao"]
[null,{"$f":"IF(A28439>0,\"Offhire\",\"Nao\")","v":"Nao"}]
[null,"Nao"]
[null,"Nao"]
[null,"Nao"]
[null,"Nao"]
[null,"Nao"]
[null,"Nao"]
[null,"Nao"]
[null,"Nao"]
[null,"Nao"]
[null,"Nao"]
[null,"Nao"]
[null,"Nao"]
[null,"Nao"]
[null,"Nao"]
[null,"Nao"]
[null,"Nao"]
[null,"Nao"]
[null,"Nao"]
[null,"Nao"]
[null,"Nao"]
[null,"Nao"]
[null,"Nao"]
[null,"Nao"]
[null,"Nao"]
[null,"Nao"]
[null,"Nao"]
[null,"Nao"]
[null,"Nao"]
[null,"Nao"]
[null,"Nao"]
[null,"Nao"]
[null,"Nao"]
[null,"Nao"]
[null,"Nao"]
[null,"Nao"]
[null,"Nao"]
[null,"Nao"]
[null,"Nao"]
[null,"Nao"]
[null,"Nao"]
[null,"Nao"]
[null,"Nao"]
[null,"Nao"]
[null,"Nao"]
[null,"Nao"]
[null,"Nao"]
[null,"Nao"]
[null,"Nao"]
[null,"Nao"]
[null,"Nao"]
[null,"Nao"]
[null,"Nao"]
[null,"Nao"]
[null,"Nao"]
[null,"Nao"]
[null,"Nao"]
[null,"Nao"]
[null,"Nao"]
[null,"Nao"]
[null,"Nao"]
[null,"Nao"]
[null,"Nao"]
[null,"Nao"]
[null,{"$f":"IF(A28503>0,\"Offhire\",\"Nao\")","v":"Nao"}]
[null,"Nao"]
[null,"Nao"]
[null,"Nao"]
[null,"Nao"]
[null,"Nao"]
[null,"Nao"]
[null,"Nao"]
[null,"Nao"]
[null,"Nao"]
[null,"Nao"]
[null,"Nao"]
[null,"Nao"]
[null,"Nao"]
[null,"Nao"]
[null,"Nao"]
[null,"Nao"]
[null,"Nao"]
[null,"Nao"]
[null,"Nao"]
[null,"Nao"]
[null,"Nao"]
[null,"Nao"]
[null,"Nao"]
[null,"Nao"]
[null,"Nao"]
[null,"Nao"]
[null,"Nao"]
[null,"Nao"]
[null,"Nao"]
[null,"Nao"]
[null,"Nao"]
[null,"Nao"]
[null,"Nao"]
[null,"Nao"]
[null,"Nao"]
[null,"Nao"]
[null,"Nao"]
[null,"Nao"]
[null,"Nao"]
[null,"Nao"]
[null,"Nao"]
[null,"Nao"]
[null,"Nao"]
[null,"Nao"]
[null,"Nao"]
[null,"Nao"]
[null,"Nao"]
[null,"Nao"]
[null,"Nao"]
[null,"Nao"]
[null,"Nao"]
[null,"Nao"]
[null,"Nao"]
[null,"Nao"]
[null,"Nao"]
[null,"Nao"]
[null,"Nao"]
[null,"Nao"]
[null,"Nao"]
[null,"Nao"]
[null,"Nao"]
[null,"Nao"]
[null,"Nao"]
[null,{"$f":"IF(A28567>0,\"Offhire\",\"Nao\")","v":"Nao"}]
[null,"Nao"]
[null,"Nao"]
[null,"Nao"]
[null,"Nao"]
[null,"Nao"]
[null,"Nao"]
[null,"Nao"]
[null,"Nao"]
[null,"Nao"]
[null,"Nao"]
[null,"Nao"]
[null,"Nao"]
[null,"Nao"]
[null,"Nao"]
[null,"Nao"]
[null,"Nao"]
[null,"Nao"]
[null,"Nao"]
[null,"Nao"]
[null,"Nao"]
[null,"Nao"]
[null,"Nao"]
[null,"Nao"]
[null,"Nao"]
[null,"Nao"]
[null,"Nao"]
[null,"Nao"]
[null,"Nao"]
[null,"Nao"]
[null,"Nao"]
[null,"Nao"]
[null,"Nao"]
[null,"Nao"]
[null,"Nao"]
[null,"Nao"]
[null,"Nao"]
[null,"Nao"]
[null,"Nao"]
[null,"Nao"]
[null,"Nao"]
[null,"Nao"]
[null,"Nao"]
[null,"Nao"]
[null,"Nao"]
[null,"Nao"]
[null,"Nao"]
[null,"Nao"]
[null,"Nao"]
[null,"Nao"]
[null,"Nao"]
[null,"Nao"]
[null,"Nao"]
[null,"Nao"]
[null,"Nao"]
[null,"Nao"]
[null,"Nao"]
[null,"Nao"]
[null,"Nao"]
[null,"Nao"]
[null,"Nao"]
[null,"Nao"]
[null,"Nao"]
[null,"Nao"]
[null,{"$f":"IF(A28631>0,\"Offhire\",\"Nao\")","v":"Nao"}]
[null,"Nao"]
[null,"Nao"]
[null,"Nao"]
[null,"Nao"]
[null,"Nao"]
[null,"Nao"]
[null,"Nao"]
[null,"Nao"]
[null,"Nao"]
[null,"Nao"]
[null,"Nao"]
[null,"Nao"]
[null,"Nao"]
[null,"Nao"]
[null,"Nao"]
[null,"Nao"]
[null,"Nao"]
[null,"Nao"]
[null,"Nao"]
[null,"Nao"]
[null,"Nao"]
[null,"Nao"]
[null,"Nao"]
[null,"Nao"]
[null,"Nao"]
[null,"Nao"]
[null,"Nao"]
[null,"Nao"]
[null,"Nao"]
[null,"Nao"]
[null,"Nao"]
[null,"Nao"]
[null,"Nao"]
[null,"Nao"]
[null,"Nao"]
[null,"Nao"]
[null,"Nao"]
[null,"Nao"]
[null,"Nao"]
[null,"Nao"]
[null,"Nao"]
[null,"Nao"]
[null,"Nao"]
[null,"Nao"]
[null,"Nao"]
[null,"Nao"]
[null,"Nao"]
[null,"Nao"]
[null,"Nao"]
[null,"Nao"]
[null,"Nao"]
[null,"Nao"]
[null,"Nao"]
[null,"Nao"]
[null,"Nao"]
[null,"Nao"]
[null,"Nao"]
[null,"Nao"]
[null,"Nao"]
[null,"Nao"]
[null,"Nao"]
[null,"Nao"]
[null,"Nao"]
[null,{"$f":"IF(A28695>0,\"Offhire\",\"Nao\")","v":"Nao"}]
[null,"Nao"]
[null,"Nao"]
[null,"Nao"]
[null,"Nao"]
[null,"Nao"]
[null,"Nao"]
[null,"Nao"]
[null,"Nao"]
[null,"Nao"]
[null,"Nao"]
[null,"Nao"]
[null,"Nao"]
[null,"Nao"]
[null,"Nao"]
[null,"Nao"]
[null,"Nao"]
[null,"Nao"]
[null,"Nao"]
[null,"Nao"]
[null,"Nao"]
[null,"Nao"]
[null,"Nao"]
[null,"Nao"]
[null,"Nao"]
[null,"Nao"]
[null,"Nao"]
[null,"Nao"]
[null,"Nao"]
[null,"Nao"]
[null,"Nao"]
[null,"Nao"]
[null,"Nao"]
[null,"Nao"]
[null,"Nao"]
[null,"Nao"]
[null,"Nao"]
[null,"Nao"]
[null,"Nao"]
[null,"Nao"]
[null,"Nao"]
[null,"Nao"]
[null,"Nao"]
[null,"Nao"]
[null,"Nao"]
[null,"Nao"]
[null,"Nao"]
[null,"Nao"]
[null,"Nao"]
[null,"Nao"]
[null,"Nao"]
[null,"Nao"]
[null,"Nao"]
[null,"Nao"]
[null,"Nao"]
[null,"Nao"]
[null,"Nao"]
[null,"Nao"]
[null,"Nao"]
[null,"Nao"]
[null,"Nao"]
[null,"Nao"]
[null,"Nao"]
[null,"Nao"]
[null,{"$f":"IF(A28759>0,\"Offhire\",\"Nao\")","v":"Nao"}]
[null,"Nao"]
[null,"Nao"]
[null,"Nao"]
[null,"Nao"]
[null,"Nao"]
[null,"Nao"]
[null,"Nao"]
[null,"Nao"]
[null,"Nao"]
[null,"Nao"]
[null,"Nao"]
[null,"Nao"]
[null,"Nao"]
[null,"Nao"]
[null,"Nao"]
[null,"Nao"]
[null,"Nao"]
[null,"Nao"]
[null,"Nao"]
[null,"Nao"]
[null,"Nao"]
[null,"Nao"]
[null,"Nao"]
[null,"Nao"]
[null,"Nao"]
[null,"Nao"]
[null,"Nao"]
[null,"Nao"]
[null,"Nao"]
[null,"Nao"]
[null,"Nao"]
[null,"Nao"]
[null,"Nao"]
[null,"Nao"]
[null,"Nao"]
[null,"Nao"]
[null,"Nao"]
[null,"Nao"]
[null,"Nao"]
[null,"Nao"]
[null,"Nao"]
[null,"Nao"]
[null,"Nao"]
[null,"Nao"]
[null,"Nao"]
[null,"Nao"]
[null,"Nao"]
[null,"Nao"]
[null,"Nao"]
[null,"Nao"]
[null,"Nao"]
[null,"Nao"]
[null,"Nao"]
[null,"Nao"]
[null,"Nao"]
[null,"Nao"]
[null,"Nao"]
[null,"Nao"]
[null,"Nao"]
[null,"Nao"]
[null,"Nao"]
[null,"Nao"]
[null,"Nao"]
[null,{"$f":"IF(A28823>0,\"Offhire\",\"Nao\")","v":"Nao"}]
[null,"Nao"]
[null,"Nao"]
[null,"Nao"]
[null,"Nao"]
[null,"Nao"]
[null,"Nao"]
[null,"Nao"]
[null,"Nao"]
[null,"Nao"]
[null,"Nao"]
[null,"Nao"]
[null,"Nao"]
[null,"Nao"]
[null,"Nao"]
[null,"Nao"]
[null,"Nao"]
[null,"Nao"]
[null,"Nao"]
[null,"Nao"]
[null,"Nao"]
[null,"Nao"]
[null,"Nao"]
[null,"Nao"]
[null,"Nao"]
[null,"Nao"]
[null,"Nao"]
[null,"Nao"]
[null,"Nao"]
[null,"Nao"]
[null,"Nao"]
[null,"Nao"]
[null,"Nao"]
[null,"Nao"]
[null,"Nao"]
[null,"Nao"]
[null,"Nao"]
[null,"Nao"]
[null,"Nao"]
[null,"Nao"]
[null,"Nao"]
[null,"Nao"]
[null,"Nao"]
[null,"Nao"]
[null,"Nao"]
[null,"Nao"]
[null,"Nao"]
[null,"Nao"]
[null,"Nao"]
[null,"Nao"]
[null,"Nao"]
[null,"Nao"]
[null,"Nao"]
[null,"Nao"]
[null,"Nao"]
[null,"Nao"]
[null,"Nao"]
[null,"Nao"]
[null,"Nao"]
[null,"Nao"]
[null,"Nao"]
[null,"Nao"]
[null,"Nao"]
[null,"Nao"]
[null,{"$f":"IF(A28887>0,\"Offhire\",\"Nao\")","v":"Nao"}]
[null,"Nao"]
[null,"Nao"]
[null,"Nao"]
[null,"Nao"]
[null,"Nao"]
[null,"Nao"]
[null,"Nao"]
[null,"Nao"]
[null,"Nao"]
[null,"Nao"]
[null,"Nao"]
[null,"Nao"]
[null,"Nao"]
[null,"Nao"]
[null,"Nao"]
[null,"Nao"]
[null,"Nao"]
[null,"Nao"]
[null,"Nao"]
[null,"Nao"]
[null,"Nao"]
[null,"Nao"]
[null,"Nao"]
[null,"Nao"]
[null,"Nao"]
[null,"Nao"]
[null,"Nao"]
[null,"Nao"]
[null,"Nao"]
[null,"Nao"]
[null,"Nao"]
[null,"Nao"]
[null,"Nao"]
[null,"Nao"]
[null,"Nao"]
[null,"Nao"]
[null,"Nao"]
[null,"Nao"]
[null,"Nao"]
[null,"Nao"]
[null,"Nao"]
[null,"Nao"]
[null,"Nao"]
[null,"Nao"]
[null,"Nao"]
[null,"Nao"]
[null,"Nao"]
[null,"Nao"]
[null,"Nao"]
[null,"Nao"]
[null,"Nao"]
[null,"Nao"]
[null,"Nao"]
[null,"Nao"]
[null,"Nao"]
[null,"Nao"]
[null,"Nao"]
[null,"Nao"]
[null,"Nao"]
[null,"Nao"]
[null,"Nao"]
[null,"Nao"]
[null,"Nao"]
[null,{"$f":"IF(A28951>0,\"Offhire\",\"Nao\")","v":"Nao"}]
[null,"Nao"]
[null,"Nao"]
[null,"Nao"]
[null,"Nao"]
[null,"Nao"]
[null,"Nao"]
[null,"Nao"]
[null,"Nao"]
[null,"Nao"]
[null,"Nao"]
[null,"Nao"]
[null,"Nao"]
[null,"Nao"]
[null,"Nao"]
[null,"Nao"]
[null,"Nao"]
[null,"Nao"]
[null,"Nao"]
[null,"Nao"]
[null,"Nao"]
[null,"Nao"]
[null,"Nao"]
[null,"Nao"]
[null,"Nao"]
[null,"Nao"]
[null,"Nao"]
[null,"Nao"]
[null,"Nao"]
[null,"Nao"]
[null,"Nao"]
[null,"Nao"]
[null,"Nao"]
[null,"Nao"]
[null,"Nao"]
[null,"Nao"]
[null,"Nao"]
[null,"Nao"]
[null,"Nao"]
[null,"Nao"]
[null,"Nao"]
[null,"Nao"]
[null,"Nao"]
[null,"Nao"]
[null,"Nao"]
[null,"Nao"]
[null,"Nao"]
[null,"Nao"]
[null,"Nao"]
[null,"Nao"]
[null,"Nao"]
[null,"Nao"]
[null,"Nao"]
[null,"Nao"]
[null,"Nao"]
[null,"Nao"]
[null,"Nao"]
[null,"Nao"]
[null,"Nao"]
[null,"Nao"]
[null,"Nao"]
[null,"Nao"]
[null,"Nao"]
[null,"Nao"]
[null,{"$f":"IF(A29015>0,\"Offhire\",\"Nao\")","v":"Nao"}]
[null,"Nao"]
[null,"Nao"]
[null,"Nao"]
[null,"Nao"]
[null,"Nao"]
[null,"Nao"]
[null,"Nao"]
[null,"Nao"]
[null,"Nao"]
[null,"Nao"]
[null,"Nao"]
[null,"Nao"]
[null,"Nao"]
[null,"Nao"]
[null,"Nao"]
[null,"Nao"]
[null,"Nao"]
[null,"Nao"]
[null,"Nao"]
[null,"Nao"]
[null,"Nao"]
[null,"Nao"]
[null,"Nao"]
[null,"Nao"]
[null,"Nao"]
[null,"Nao"]
[null,"Nao"]
[null,"Nao"]
[null,"Nao"]
[null,"Nao"]
[null,"Nao"]
[null,"Nao"]
[null,"Nao"]
[null,"Nao"]
[null,"Nao"]
[null,"Nao"]
[null,"Nao"]
[null,"Nao"]
[null,"Nao"]
[null,"Nao"]
[null,"Nao"]
[null,"Nao"]
[null,"Nao"]
[null,"Nao"]
[null,"Nao"]
[null,"Nao"]
[null,"Nao"]
[null,"Nao"]
[null,"Nao"]
[null,"Nao"]
[null,"Nao"]
[null,"Nao"]
[null,"Nao"]
[null,"Nao"]
[null,"Nao"]
[null,"Nao"]
[null,"Nao"]
[null,"Nao"]
[null,"Nao"]
[null,"Nao"]
[null,"Nao"]
[null,"Nao"]
[null,"Nao"]
[null,{"$f":"IF(A29079>0,\"Offhire\",\"Nao\")","v":"Nao"}]
[null,"Nao"]
[null,"Nao"]
[null,"Nao"]
[null,"Nao"]
[null,"Nao"]
[null,"Nao"]
[null,"Nao"]
[null,"Nao"]
[null,"Nao"]
[null,"Nao"]
[null,"Nao"]
[null,"Nao"]
[null,"Nao"]
[null,"Nao"]
[null,"Nao"]
[null,"Nao"]
[null,"Nao"]
[null,"Nao"]
[null,"Nao"]
[null,"Nao"]
[null,"Nao"]
[null,"Nao"]
[null,"Nao"]
[null,"Nao"]
[null,"Nao"]
[null,"Nao"]
[null,"Nao"]
[null,"Nao"]
[null,"Nao"]
[null,"Nao"]
[null,"Nao"]
[null,"Nao"]
[null,"Nao"]
[null,"Nao"]
[null,"Nao"]
[null,"Nao"]
[null,"Nao"]
[null,"Nao"]
[null,"Nao"]
[null,"Nao"]
[null,"Nao"]
[null,"Nao"]
[null,"Nao"]
[null,"Nao"]
[null,"Nao"]
[null,"Nao"]
[null,"Nao"]
[null,"Nao"]
[null,"Nao"]
[null,"Nao"]
[null,"Nao"]
[null,"Nao"]
[null,"Nao"]
[null,"Nao"]
[null,"Nao"]
[null,"Nao"]
[null,"Nao"]
[null,"Nao"]
[null,"Nao"]
[null,"Nao"]
[null,"Nao"]
[null,"Nao"]
[null,"Nao"]
[null,{"$f":"IF(A29143>0,\"Offhire\",\"Nao\")","v":"Nao"}]
[null,"Nao"]
[null,"Nao"]
[null,"Nao"]
[null,"Nao"]
[null,"Nao"]
[null,"Nao"]
[null,"Nao"]
[null,"Nao"]
[null,"Nao"]
[null,"Nao"]
[null,"Nao"]
[null,"Nao"]
[null,"Nao"]
[null,"Nao"]
[null,"Nao"]
[null,"Nao"]
[null,"Nao"]
[null,"Nao"]
[null,"Nao"]
[null,"Nao"]
[null,"Nao"]
[null,"Nao"]
[null,"Nao"]
[null,"Nao"]
[null,"Nao"]
[null,"Nao"]
[null,"Nao"]
[null,"Nao"]
[null,"Nao"]
[null,"Nao"]
[null,"Nao"]
[null,"Nao"]
[null,"Nao"]
[null,"Nao"]
[null,"Nao"]
[null,"Nao"]
[null,"Nao"]
[null,"Nao"]
[null,"Nao"]
[null,"Nao"]
[null,"Nao"]
[null,"Nao"]
[null,"Nao"]
[null,"Nao"]
[null,"Nao"]
[null,"Nao"]
[null,"Nao"]
[null,"Nao"]
[null,"Nao"]
[null,"Nao"]
[null,"Nao"]
[null,"Nao"]
[null,"Nao"]
[null,"Nao"]
[null,"Nao"]
[null,"Nao"]
[null,"Nao"]
[null,"Nao"]
[null,"Nao"]
[null,"Nao"]
[null,"Nao"]
[null,"Nao"]
[null,"Nao"]
[null,{"$f":"IF(A29207>0,\"Offhire\",\"Nao\")","v":"Nao"}]
[null,"Nao"]
[null,"Nao"]
[null,"Nao"]
[null,"Nao"]
[null,"Nao"]
[null,"Nao"]
[null,"Nao"]
[null,"Nao"]
[null,"Nao"]
[null,"Nao"]
[null,"Nao"]
[null,"Nao"]
[null,"Nao"]
[null,"Nao"]
[null,"Nao"]
[null,"Nao"]
[null,"Nao"]
[null,"Nao"]
[null,"Nao"]
[null,"Nao"]
[null,"Nao"]
[null,"Nao"]
[null,"Nao"]
[null,"Nao"]
[null,"Nao"]
[null,"Nao"]
[null,"Nao"]
[null,"Nao"]
[null,"Nao"]
[null,"Nao"]
[null,"Nao"]
[null,"Nao"]
[null,"Nao"]
[null,"Nao"]
[null,"Nao"]
[null,"Nao"]
[null,"Nao"]
[null,"Nao"]
[null,"Nao"]
[null,"Nao"]
[null,"Nao"]
[null,"Nao"]
[null,"Nao"]
[null,"Nao"]
[null,"Nao"]
[null,"Nao"]
[null,"Nao"]
[null,"Nao"]
[null,"Nao"]
[null,"Nao"]
[null,"Nao"]
[null,"Nao"]
[null,"Nao"]
[null,"Nao"]
[null,"Nao"]
[null,"Nao"]
[null,"Nao"]
[null,"Nao"]
[null,"Nao"]
[null,"Nao"]
[null,"Nao"]
[null,"Nao"]
[null,"Nao"]
[null,{"$f":"IF(A29271>0,\"Offhire\",\"Nao\")","v":"Nao"}]
[null,"Nao"]
[null,"Nao"]
[null,"Nao"]
[null,"Nao"]
[null,"Nao"]
[null,"Nao"]
[null,"Nao"]
[null,"Nao"]
[null,"Nao"]
[null,"Nao"]
[null,"Nao"]
[null,"Nao"]
[null,"Nao"]
[null,"Nao"]
[null,"Nao"]
[null,"Nao"]
[null,"Nao"]
[null,"Nao"]
[null,"Nao"]
[null,"Nao"]
[null,"Nao"]
[null,"Nao"]
[null,"Nao"]
[null,"Nao"]
[null,"Nao"]
[null,"Nao"]
[null,"Nao"]
[null,"Nao"]
[null,"Nao"]
[null,"Nao"]
[null,"Nao"]
[null,"Nao"]
[null,"Nao"]
[null,"Nao"]
[null,"Nao"]
[null,"Nao"]
[null,"Nao"]
[null,"Nao"]
[null,"Nao"]
[null,"Nao"]
[null,"Nao"]
[null,"Nao"]
[null,"Nao"]
[null,"Nao"]
[null,"Nao"]
[null,"Nao"]
[null,"Nao"]
[null,"Nao"]
[null,"Nao"]
[null,"Nao"]
[null,"Nao"]
[null,"Nao"]
[null,"Nao"]
[null,"Nao"]
[null,"Nao"]
[null,"Nao"]
[null,"Nao"]
[null,"Nao"]
[null,"Nao"]
[null,"Nao"]
[null,"Nao"]
[null,"Nao"]
[null,"Nao"]
[null,{"$f":"IF(A29335>0,\"Offhire\",\"Nao\")","v":"Nao"}]
[null,"Nao"]
[null,"Nao"]
[null,"Nao"]
[null,"Nao"]
[null,"Nao"]
[null,"Nao"]
[null,"Nao"]
[null,"Nao"]
[null,"Nao"]
[null,"Nao"]
[null,"Nao"]
[null,"Nao"]
[null,"Nao"]
[null,"Nao"]
[null,"Nao"]
[null,"Nao"]
[null,"Nao"]
[null,"Nao"]
[null,"Nao"]
[null,"Nao"]
[null,"Nao"]
[null,"Nao"]
[null,"Nao"]
[null,"Nao"]
[null,"Nao"]
[null,"Nao"]
[null,"Nao"]
[null,"Nao"]
[null,"Nao"]
[null,"Nao"]
[null,"Nao"]
[null,"Nao"]
[null,"Nao"]
[null,"Nao"]
[null,"Nao"]
[null,"Nao"]
[null,"Nao"]
[null,"Nao"]
[null,"Nao"]
[null,"Nao"]
[null,"Nao"]
[null,"Nao"]
[null,"Nao"]
[null,"Nao"]
[null,"Nao"]
[null,"Nao"]
[null,"Nao"]
[null,"Nao"]
[null,"Nao"]
[null,"Nao"]
[null,"Nao"]
[null,"Nao"]
[null,"Nao"]
[null,"Nao"]
[null,"Nao"]
[null,"Nao"]
[null,"Nao"]
[null,"Nao"]
[null,"Nao"]
[null,"Nao"]
[null,"Nao"]
[null,"Nao"]
[null,"Nao"]
[null,{"$f":"IF(A29399>0,\"Offhire\",\"Nao\")","v":"Nao"}]
[null,"Nao"]
[null,"Nao"]
[null,"Nao"]
[null,"Nao"]
[null,"Nao"]
[null,"Nao"]
[null,"Nao"]
[null,"Nao"]
[null,"Nao"]
[null,"Nao"]
[null,"Nao"]
[null,"Nao"]
[null,"Nao"]
[null,"Nao"]
[null,"Nao"]
[null,"Nao"]
[null,"Nao"]
[null,"Nao"]
[null,"Nao"]
[null,"Nao"]
[null,"Nao"]
[null,"Nao"]
[null,"Nao"]
[null,"Nao"]
[null,"Nao"]
[null,"Nao"]
[null,"Nao"]
[null,"Nao"]
[null,"Nao"]
[null,"Nao"]
[null,"Nao"]
[null,"Nao"]
[null,"Nao"]
[null,"Nao"]
[null,"Nao"]
[null,"Nao"]
[null,"Nao"]
[null,"Nao"]
[null,"Nao"]
[null,"Nao"]
[null,"Nao"]
[null,"Nao"]
[null,"Nao"]
[null,"Nao"]
[null,"Nao"]
[null,"Nao"]
[null,"Nao"]
[null,"Nao"]
[null,"Nao"]
[null,"Nao"]
[null,"Nao"]
[null,"Nao"]
[null,"Nao"]
[null,"Nao"]
[null,"Nao"]
[null,"Nao"]
[null,"Nao"]
[null,"Nao"]
[null,"Nao"]
[null,"Nao"]
[null,"Nao"]
[null,"Nao"]
[null,"Nao"]
[null,{"$f":"IF(A29463>0,\"Offhire\",\"Nao\")","v":"Nao"}]
[null,"Nao"]
[null,"Nao"]
[null,"Nao"]
[null,"Nao"]
[null,"Nao"]
[null,"Nao"]
[null,"Nao"]
[null,"Nao"]
[null,"Nao"]
[null,"Nao"]
[null,"Nao"]
[null,"Nao"]
[null,"Nao"]
[null,"Nao"]
[null,"Nao"]
[null,"Nao"]
[null,"Nao"]
[null,"Nao"]
[null,"Nao"]
[null,"Nao"]
[null,"Nao"]
[null,"Nao"]
[null,"Nao"]
[null,"Nao"]
[null,"Nao"]
[null,"Nao"]
[null,"Nao"]
[null,"Nao"]
[null,"Nao"]
[null,"Nao"]
[null,"Nao"]
[null,"Nao"]
[null,"Nao"]
[null,"Nao"]
[null,"Nao"]
[null,"Nao"]
[null,"Nao"]
[null,"Nao"]
[null,"Nao"]
[null,"Nao"]
[null,"Nao"]
[null,"Nao"]
[null,"Nao"]
[null,"Nao"]
[null,"Nao"]

{"sheet":"Check devoluções","index":3,"n_rows":43,"n_cols":2,"rows_kept":43,"cut":false,"hidden":true,"merged":[]}
[]
["Offhire","(Tudo)"]
[]
["Rótulos de Linha","Count of Unit"]
["Conexão",1927]
["Granelmar",1541]
["Mercotainer",612]
["Rogério Philippi",283]
["TCP",65]
["Tecon Suape",859]
["Transtec Sts",200]
["Wilport",275]
["Off Hire SC",5]
["Off Hire RG",8]
["TMC Terminais"]
["22GP",28]
["42UT",13]
["45GP",5]
["45PC",2]
["45UT",3]
["Isis Cubatão ( Somente com avaria leve )"]
["45GP",246]
["45RT",17]
["Lechman IOA"]
["22GP",341]
["22RT",1]
["42GP",15]
["42UT",9]
["45GP",302]
["45PC",4]
["45RT",91]
["45UT",1]
["Lechman Navegantes"]
["22GP",488]
["42GP",104]
["45GP",1208]
["45RT",530]
["APMT PNG"]
["22GP",27]
["45GP",45]
["APM TERMINALS - ITAJAI"]
["45RT",50]
["Total Geral",9305]

{"sheet":"Padrão mensagem","index":4,"n_rows":67,"n_cols":2,"rows_kept":67,"cut":false,"hidden":true,"merged":[]}
[]
["Depot","Contato"]
["APMT","APMT        -        (47) 2103-5650  |  ioacisops@apmterminals.com"]
["ATM","ATM        -        (47) 3443-8293  |  E-mail: gate@atmmodal.com.br"]
["APMT ITJ","atendimentoitj@apmterminals.com"]
["Porto Itapoá","Porto de Itapoa        -        (47) 3443-8584  |  E-mail: atendimento@portoitapoa.com"]
["Conexão","Conexão Marítima        -        (47) 3405-2260  |  E-mail: atendimento.vazios@cmaritima.com.br "]
["Rogério Philippi","Rogério Philippi        -        (47) 3319-8915  |  E-mail: liberacao.rpnvt@rogeriophilippi.com.br"]
["Portonave","Portonave        -        (47) 2104-3464  |  E-mail: gate@portonave.com.br"]
["MAFRO TRANSPORTES","Rua José Vicente, 254 - Sitio Cafezal - Cubatão/SP - CEP 11505-010 - Telefone: (19) 99713-0868 - E-mail:\ndepot.cubatao@mafrotransportes.com.br"]
["Transtec Sts","Transtec Santos        -        (13) 3295-9595 / 4010-4316  |  operacional@transtecworld.com"]
["Transtec Gja","Transtec Guarujá        -        (13) 4010-4319  |  E-mail: documentalgja@transtecworld.com"]
["Lechman Guaruja","Lechman Guarujá        -        (13) 3347-9406  |  E-mail: lechmandepot@lechman.com.br"]
["Depot Dp World","Depot Dp Word        -        (13) 3213-0714  |  E-mail: depot.ssz@dpworld.com"]
["Wilport","Wilport        -        (71) 3293-9259  |  E-mail: estimators.depottsv@teconsalvador.com.br"]
["Ziranlog SUA ","Ziranlog SUA       -        (21) 973373045  |  E-mail: Controle@zirannordeste.com.br; gate@zirannordeste.com.br"]
["Daniel Transportes","Daniel Transportes        -        (85) 3052-4040  |  E-mail: depot@danieltransportes.com.br"]
["SUPER TERMINAIS","Depot Super Terminais - (92) 3616-2650 / E-mails: coordenacao.depot@superterminais.com.br; reparos.container@superterminais.com.br"]
["Movecta (LOCALFIRO)","Depot Movecta(Local Frio) - (81) 3501-1009 | E-mail: gate.suape.t2@movecta.com.br"]
["Tecon Suape","Tecon Suape - Acessar o site\nhttps://www.teconsuape.com/portalservicos/#!/login\ne informar o número de booking DDHLLMTY202401"]
["Depot TCP","Depot TCP        -        (41) 2152-5836  |  E-mail: depot.controle@tcp.com.br"]
["Granelmar","Granelmar        -        (41) 3422-9170 / 99246-8781  |  E-mail: granelmar@granelmar.com.br"]
["Granelmar (Paranagua) ou VMGLog (São José dos Pinhais)","Granelmar        -        (41) 3422-9170 / 99246-8781  |  E-mail: granelmar@granelmar.com.br   \"OU\"   VMGLog        -        (41) TELEFONE  |  E-mail: XXXXX"]
["TCL","TCL        -        (41) 3423-9110  |  gate@tclterminais.com.br"]
["Mercotainer","Mercotainer        -        (53) 3234-1202  |  gategeral@mercotainer.com.br"]
["Intersul","Intersul CTIL - gate.itj@intersulterminais.com.br"]
["Ziranlog Rio ","Ziranlog RIO -  (21) 3889 7810 | e-mail: controle.container@ziranlog.com.br ou gate.depot@ziranlog.com.br"]
["Vila Velha Terminais","Vila Velha Terminais  (27) 3329 9352 - | e-mail controle@vilavelhaterminais.com.br"]
["APMT PNG","APMT Paranaguá        -        (41) 2152-5776"]
["Isis Cubatão ( Somente com avaria leve )","Isis        -        (13) 4009-7645 / (13) 981450078  |  marcel@isisredex.com.br / agendamentopt1@isisredex.com.br"]
["S.Magalhães Alemoa ( Somente com avaria leve )","S. Magalhães        -        (13) 3295-4433  |  expedicao.ta@smagalhaes.com.br e jefferson.rocha@smagalhaes.com.br"]
["ALS ITAJAI ","ALS - Avenida Governador Adolfo Konder, nº 2600, bairro São Vicente, Itajaí/SC, CEP 88308-004 (antigo Rogério Philippi ITJ)"]
["VMG ITAPOA","depot.ioa@elitecargas.com"]
["VMG NVT","depot.nvt@elitecargas.com"]
["Off Hire SZ","Entrar em contato pelo email: logistic.santos@hlag.com "]
["Off Hire SC","Entrar em contato pelo email: logistic.santacatarina@hlag.com "]
["Off Hire ND","Entrar em contato pelo email: logistic.nordeste@hlag.com "]
["Off Hire PR","Entrar em contato pelo email: logistic.parana@hlag.com "]
["Off Hire RG","Entrar em contato pelo email: logistic.riogrande@hlag.com "]
["Off Hire SD","Entrar em contato pelo email: logistic.sudeste@hlag.com "]
["Vila Velha Terminais","Vila Velha Terminais        -        (27) 3329 9352 - | e-mail controle@vilavelhaterminais.com.br"]
["DEPOT AURORA","DEPOT AURORA E-MAIL: terminal-auroraitj@auroracoop.com.br / 47 33906817 - 33906816"]
["DET IOA","DET Itapoá - contato: planejamento@detterminal.com.br / (47)33057710 - 33057711"]
["Mdlog IOA","Mdlog IOA        -        (41) 98426-0344  |  E-mail: itapoa@mdlogsul.com.br"]
["TCP","TCP - Acessar o site https://www.portal.tcp.com.br > solicitações e consultas > solicitações > serviços > devolução vazio TCP"]
["Porto Itapoá ou Conexão Itajaí","Porto de Itapoa   -   (47) 3443-8584  |  E-mail: atendimento@portoitapoa.com     OU     Conexão Marítima   -   (47) 3405-2260  |  E-mail: atendimento.vazios@cmaritima.com.br "]
["MDLog Itapoá ou Conexão Itajaí","Mdlog IOA    -   (41) 98426-0344  |  E-mail: itapoa@mdlogsul.com.br     OU     Conexão Marítima   -   (47) 3405-2260  |  E-mail: atendimento.vazios@cmaritima.com.br "]
["ATM Itapoá ou Conexão Itajaí","ATM   -   (47) 3443-8293  |  E-mail: gate@atmmodal.com.br     OU     Conexão Marítima   -   (47) 3405-2260  |  E-mail: atendimento.vazios@cmaritima.com.br "]
["CDI IOA","lrodrigo@cdi-terminais.com.br"]
["Ziranlog SSA","Ziranlog SSA -  (71) 98836-1306   |  E-mails: gate@ziransalvador.com.br / controle@ziransalvador.com.br "]
["Lechman IOA","Lechman IOA -  (47) 99181-6639 ou (47) 3055-7884   |  E-mails: depot.lechmanita@lechman.com.br / http://agendamento-ioa.lechman.com.br "]
["ICTSI Rio de Janeiro","ICTSI Rio de Janeiro -  (21) 2585-8565   |  E-mails: devolucao.vazios@ictsirio.com  | Favor informar CNPJ e printar a tela de nosso site ao enviar o e-mail junto ao Porto."]
["TMC Terminais","TMC Terminais - (85) 99136-5165 , (85) 99937-8868 e (85) 99605-1866|   E-mails: depot@tmcterminais.com.br; planejamento@tmcterminais.com.br; gerenteterminal@tmcterminais.com.br"]
["TERMACO TERMINAIS","Depot Termaco Terminais - (85) 99213 7266 | E-mail:gate.cac@termaco.com.br"]
["Tracker","Tracker Logística - (21) 96737 - 0922 / (21) 3889 - 7676 |  E-mails: depot@itracker.com.br"]
["GT Minas - Caju","Depot GT Minas - (21) 99934-6219 | E-mail: depotrj@gtminas.com.br"]
["APMT PNG","APMT Paranaguá        -        (41) 2152-5776"]
["VBR SSA","Depot  VBR - (71) 3176-2957 | E-mail: vbrdepot@globalba.com.br; tdionei@vbrlogistica.com.br; depot@vbrlogistica.com.br"]
["Ziranlog PNG","Ziranlog PNG - (41) 3424-2517 | E-mail: gate02@ziranparanagua.com.br"]
["Klog","Depot Klog - (21) 2018-4700 | E-mails : demilson.rosa@kloglogistica.com.br / controle@kloglogistica.com.br / gate@kloglogistica.com.br"]
["Multirio Terminais","Multirio Terminais - Tel. (021) 3289-4816 / E-mails: booking@multiterminais.com.br; Elaine.Melo@multiterminais.com.br"]
["Lechman PNG","Lechman - (41) 995890299 | E-mail: depot.png@lechman.com.br"]
["DEPOT PONTUAL","Depot Pontual - (71) /3594-5732 | E-mails: marjorie@depotpontual.com.br; caio@depotpontual.com.br; Operacional01@depotpontual.com.br; operacionnal@depotpontual.com.br"]
["Lechman Navegantes","Lechman NVT - suellen.ventura@lechman.com.br"]
["APM TERMINALS - ITAJAI","atendimentoitj@apmterminals.com / (47) 32241134 e (47)32241135"]
["ALS ITAJAI ","ALS - Avenida Governador Adolfo Konder, nº 2600, bairro São Vicente, Itajaí/SC, CEP 88308-004 (antigo Rogério Philippi ITJ)"]
["ziranlog Itapoa","Ziranlog IOA - estimativa@ziranitapoa.com.br"]