{"text_format":"1","workbook":"xlsx","n_sheets":8,"sheets":["Main Menu","Free Time Calculator by Cntr","Free time Calculator by BL","Free time Calculator by BL (DT)","Raw Data - Free time","Work Out","FIS - Container sizetype code","process file"],"not_rendered":{"charts":0,"images":0,"macros":1,"external_links":0,"defined_names":2,"comments":0,"pivot_tables":0},"unopened":[],"bounds":{"document_bytes":16777216,"sheet_cells":100000,"rows_first":2000,"rows_last":500,"rows_between":2000,"halvings":0,"cell_chars":16384,"cell_head_chars":4096},"cells_cut":0,"cells_raw":0,"read":"whole","date_system":"1900"}

{"sheet":"Main Menu","index":0,"n_rows":42,"n_cols":11,"rows_kept":42,"cut":false,"hidden":false,"merged":[[41,2,41,9],[7,7,8,7],[7,8,8,8],[34,2,35,9],[26,2,27,9],[28,2,29,9],[19,2,19,6],[17,7,18,7],[17,8,18,8],[17,9,18,9],[17,10,18,10],[7,9,8,9],[7,10,8,10],[36,2,40,9],[3,3,3,14],[14,2,14,6],[9,2,9,6],[12,7,13,7],[12,8,13,8],[12,9,13,9],[12,10,13,10],[26,10,33,13],[30,2,31,7],[30,8,30,9],[32,2,33,9]]}
[]
[]
[]
[null,null,null,"IMPORT  DETENTION  CALCULATOR"]
[]
[]
[]
[null,null,null,null,null,null,null,"Container Number\nxxxx0000000","Master BL Type","Enter Start date\n(DD/MM/YYYY)","Enter validity till date\n(MM/DD/YYYY)"]
[]
[null,null,"Calculate Detention by Container Number:",null,null,null,null,null,{"$f":"'Free Time Calculator by Cntr'!$B$15","v":{"$error":"#N/A"}},null,"2023-06-08"]
[]
[]
[null,null,null,null,null,null,null,"Master Bill of Lading\nNumber\nHLCUxxx000000000","Master BL Type","Enter Start date\n(DD/MM/YYYY)","Enter validity till date\n(MM/DD/YYYY)"]
[]
[null,null,"Calculate Detention by Master BL Number:",null,null,null,null,"HLCUBSC2303APLA8",{"$f":"'Free time Calculator by BL'!$B$3","v":"BL"},null,"2023-06-20"]
[]
[]
[null,null,null,null,null,null,null,"Master Bill of Lading\nNumber\nHLCUxxx000000000","Master BL Type","Enter Start date\n(DD/MM/YYYY)","Enter validity till date\n(MM/DD/YYYY)"]
[]
[null,null,"Calculate Detention by Master BL Number:",null,null,null,null,null,{"$f":"'Free time Calculator by BL (DT)'!$B$3","v":{"$error":"#N/A"}},"2023-04-04","2023-06-08"]
[null,null,"          Note: Particular day(s) Detention checker."]
[]
[]
[]
[]
[]
[null,"Note:","If BL body is showing whatever Free Days and Calcalutor is not matching so in \nthis respect kindly contact to shipper/vendor to get it resolve.",null,null,null,null,null,null,null,{"$f":"'Work Out'!$B$4","v":"pakistan@service.hlag.com"}]
[]
[null,null,"If you found any discrepany while using it so kindly send email to == >>"]
[]
[null,null,"Customer can check detention shipment arrived from  \ntill to-date despite kindly send email to == >>",null,null,null,null,null,{"$f":"'Work Out'!$B$5","v":"2022-04-20"}]
[]
[null,null,"If customer has special approval in detention except tariff, kindly send email to == >>"]
[]
[null,null,"Calculation based on Tariff"]
[]
[null,null,"1. Free time data available for the containers arrived @ Pakistan after XXX-22. \n2. Given free time valid till date is calculated based on report generated after the time of containers discharged @ Pakistan.\n3. Amount reflecting on Hapag invoice will be the final for payment.\n4. If any special \"Detention contract\", then freetime calculator will not support. Please contact our customer service at Pakistan@service.hlag.com"]
[]
[]
[]
[]
[null,null,"Entered Container or Master BL number is not found in our discharge records - Please check online for correct ETA or check the container or Master BL number."]

{"sheet":"Free Time Calculator by Cntr","index":1,"n_rows":15,"n_cols":15,"rows_kept":15,"cut":false,"hidden":false,"merged":[[9,12,9,13],[0,1,0,2]]}
[{"$f":"'Work Out'!$B$2","v":"Pakistan"}," - Import - Free time calculator"]
["Container number","Free time ends on","Enter validity till date\n(DD/MM/YYYY)",null,null,null,"Go to Main Menu"]
[{"$f":"'Main Menu'!$H$10","v":0},{"$f":"VLOOKUP(A3,'Raw Data - Free time'!$C:$I,7,0)","v":{"$error":"#N/A"}},{"$f":"'Main Menu'!$K$10","v":"2023-06-08"}]
[]
[]
[]
[]
[]
[]
["Serial Number","BL Number","Container Number","Size","DIFU","Free Time End \nOn","Free Days","Customer require \nDetention till","Total Detention \nDays","Per day\nRent","Total USD","ROE","Total PKR"]
[1,{"$f":"IFERROR(VLOOKUP($A$3,'Raw Data - Free time'!$C:$J,2,0),\"\")","v":""},{"$f":"$A$3","v":0},{"$f":"IFERROR(VLOOKUP($A$3,'Raw Data - Free time'!$C:$J,3,0),\"\")","v":""},{"$f":"IFERROR(VLOOKUP($A$3,'Raw Data - Free time'!$C:$J,6,0),\"\")","v":""},{"$f":"IFERROR(VLOOKUP($A$3,'Raw Data - Free time'!$C:$J,7,0),\"\")","v":""},{"$f":"IFERROR(F11-E11+1,\"\")","v":""},{"$f":"IFERROR(IF($G11=\"\",\"\",$C$3),\"\")","v":""},{"$f":"IFERROR($H11-$F11,\"\")","v":""},{"$f":"IFERROR(VLOOKUP(D11,'Work Out'!G8:J36,4,0),\"\")","v":""},{"$f":"IFERROR($I11*$J11,\"\")","v":""},{"$f":"IFERROR(VLOOKUP($A$3,'Raw Data - Free time'!$C:$J,8,0),\"\")","v":""},{"$f":"IFERROR(IF(L11=\"\",\"\",'Work Out'!$B$3),\"\")","v":""},{"$f":"IFERROR($K11*$L11,\"\")","v":""},{"$f":"IFERROR(IF($N11=\"\",\"\",\"P\"),\"\")","v":""}]
[]
[]
[null,"Master BL Type"]
[null,{"$f":"VLOOKUP($A$3,'Raw Data - Free time'!C:K,9,0)","v":{"$error":"#N/A"}}]

{"sheet":"Free time Calculator by BL","index":2,"n_rows":105,"n_cols":20,"rows_kept":105,"cut":false,"hidden":false,"merged":[[1,11,1,13],[4,12,4,13],[0,1,0,2],[29,17,30,17],[4,17,5,17],[9,17,10,17],[14,17,15,17],[19,17,20,17],[24,17,25,17],[2,11,2,13]]}
[{"$f":"'Work Out'!$B$2","v":"Pakistan"}," - Import - Free time calculator"]
["Master Bill of Lading\nNumber\nHLCUxxx000000000","Master BL Type","Enter validity till date\n(DD/MM/YYYY)",null,null,"ALL CONTAINERs FREE DAYS","TOTAL DAYS OF\nDETENTION","TOTAL DETENTION\nIN USD","TOTAL DETENTION\nIN",{"$f":"'Work Out'!$B$3","v":"PKR"},null,"Go to Main Menu"]
[{"$f":"'Main Menu'!$H$15","v":"HLCUBSC2303APLA8"},{"$f":"VLOOKUP($A$3,'Raw Data - Free time'!B:K,10,0)","v":"BL"},{"$f":"'Main Menu'!$K$15","v":"2023-06-20"},null,null,{"$f":"SUM(G6:G105)","v":12},{"$f":"SUM(I6:I105)","v":43},{"$f":"SUM(K6:K105)","v":4644},{"$f":"SUM($N6:$N105)","v":1328184},{"$f":"'Work Out'!$B$3","v":"PKR"},null,{"$f":"IF($C$3=$F$6,\"Detention Free\",IF($I$3=0,\"Please put correct Date\",\"Detention Calculated\"))","v":"Detention Calculated"}]
[null,null," "]
["Serial Number","BL Number","Container Number","Size","DIFU","Free Time End \nOn","Free Days","Customer require \nDetention till","Total Detention \nDays","Per day\nRent","Total USD","ROE","Total PKR",null,null,null,null,"Period","20 Dry"]
[1,{"$f":"IFERROR(VLOOKUP($A$3&\":\"&$A6,'Raw Data - Free time'!$A:$J,2,0),\"\")","v":"HLCUBSC2303APLA8"},{"$f":"IFERROR(VLOOKUP($A$3&\":\"&$A6,'Raw Data - Free time'!$A:$J,3,0),\"\")","v":"CAIU7916240"},{"$f":"IFERROR(VLOOKUP($A$3&\":\"&$A6,'Raw Data - Free time'!$A:$J,5,0),\"\")","v":"40 Dry"},{"$f":"IFERROR(VLOOKUP($A$3&\":\"&$A6,'Raw Data - Free time'!$A:$J,8,0),\"\")","v":"2023-04-27"},{"$f":"IFERROR(VLOOKUP($A$3&\":\"&$A6,'Raw Data - Free time'!$A:$J,9,0),\"\")","v":"2023-05-08"},{"$f":"IFERROR(F6-E6+1,\"\")","v":12},{"$f":"IFERROR(IF($G6=\"\",\"\",$C$3),\"\")","v":"2023-06-20"},{"$f":"IFERROR($H6-$F6,\"\")","v":43},{"$f":"IFERROR(IF($I6<=0,\"\",VLOOKUP(D6,$Q$5:$T$33,4,0)),\"\")","v":108},{"$f":"IFERROR($I6*$J6,\"\")","v":4644},{"$f":"IFERROR(IF($K6=\"\",\"\",VLOOKUP($A$3&\":\"&$A6,'Raw Data - Free time'!$A:$J,10,0)),\"\")","v":286},{"$f":"IFERROR(IF($N6=\"\",\"\",'Work Out'!$B$3),\"\")","v":"PKR"},{"$f":"IFERROR($K6*$L6,\"\")","v":1328184},{"$f":"IFERROR(IF($N6=\"\",\"\",\"P\"),\"\")","v":"P"},null,null,null,"Calendar days","Rate per day in USD"]
[2,{"$f":"IFERROR(VLOOKUP($A$3&\":\"&$A7,'Raw Data - Free time'!$A:$J,2,0),\"\")","v":""},{"$f":"IFERROR(VLOOKUP($A$3&\":\"&$A7,'Raw Data - Free time'!$A:$J,3,0),\"\")","v":""},{"$f":"IFERROR(VLOOKUP($A$3&\":\"&$A7,'Raw Data - Free time'!$A:$J,5,0),\"\")","v":""},{"$f":"IFERROR(VLOOKUP($A$3&\":\"&$A7,'Raw Data - Free time'!$A:$J,8,0),\"\")","v":""},{"$f":"IFERROR(VLOOKUP($A$3&\":\"&$A7,'Raw Data - Free time'!$A:$J,9,0),\"\")","v":""},{"$f":"IFERROR(F7-E7+1,\"\")","v":""},"","",{"$f":"IFERROR(IF($I7<=0,\"\",VLOOKUP(D7,$Q$5:$T$33,4,0)),\"\")","v":""},"",{"$f":"IFERROR(IF($K7=\"\",\"\",VLOOKUP($A$3&\":\"&$A7,'Raw Data - Free time'!$A:$J,10,0)),\"\")","v":""},{"$f":"IFERROR(IF($N7=\"\",\"\",'Work Out'!$B$3),\"\")","v":""},{"$f":"IFERROR($K7*$L7,\"\")","v":""},{"$f":"IFERROR(IF($N7=\"\",\"\",\"P\"),\"\")","v":""},null,null,"Tariff free time",5,0]
[3,{"$f":"IFERROR(VLOOKUP($A$3&\":\"&$A8,'Raw Data - Free time'!$A:$J,2,0),\"\")","v":""},{"$f":"IFERROR(VLOOKUP($A$3&\":\"&$A8,'Raw Data - Free time'!$A:$J,3,0),\"\")","v":""},{"$f":"IFERROR(VLOOKUP($A$3&\":\"&$A8,'Raw Data - Free time'!$A:$J,5,0),\"\")","v":""},{"$f":"IFERROR(VLOOKUP($A$3&\":\"&$A8,'Raw Data - Free time'!$A:$J,8,0),\"\")","v":""},{"$f":"IFERROR(VLOOKUP($A$3&\":\"&$A8,'Raw Data - Free time'!$A:$J,9,0),\"\")","v":""},"","","","","",{"$f":"IFERROR(IF($K8=\"\",\"\",VLOOKUP($A$3&\":\"&$A8,'Raw Data - Free time'!$A:$J,10,0)),\"\")","v":""},{"$f":"IFERROR(IF($N8=\"\",\"\",'Work Out'!$B$3),\"\")","v":""},"","",null,"20 Dry","Thereafter",null,54]
[4,{"$f":"IFERROR(VLOOKUP($A$3&\":\"&$A9,'Raw Data - Free time'!$A:$J,2,0),\"\")","v":""},{"$f":"IFERROR(VLOOKUP($A$3&\":\"&$A9,'Raw Data - Free time'!$A:$J,3,0),\"\")","v":""},{"$f":"IFERROR(VLOOKUP($A$3&\":\"&$A9,'Raw Data - Free time'!$A:$J,5,0),\"\")","v":""},{"$f":"IFERROR(VLOOKUP($A$3&\":\"&$A9,'Raw Data - Free time'!$A:$J,8,0),\"\")","v":""},{"$f":"IFERROR(VLOOKUP($A$3&\":\"&$A9,'Raw Data - Free time'!$A:$J,9,0),\"\")","v":""},"","","","","",{"$f":"IFERROR(IF($K9=\"\",\"\",VLOOKUP($A$3&\":\"&$A9,'Raw Data - Free time'!$A:$J,10,0)),\"\")","v":""},{"$f":"IFERROR(IF($N9=\"\",\"\",'Work Out'!$B$3),\"\")","v":""},"",""]
[5,{"$f":"IFERROR(VLOOKUP($A$3&\":\"&$A10,'Raw Data - Free time'!$A:$J,2,0),\"\")","v":""},{"$f":"IFERROR(VLOOKUP($A$3&\":\"&$A10,'Raw Data - Free time'!$A:$J,3,0),\"\")","v":""},{"$f":"IFERROR(VLOOKUP($A$3&\":\"&$A10,'Raw Data - Free time'!$A:$J,5,0),\"\")","v":""},{"$f":"IFERROR(VLOOKUP($A$3&\":\"&$A10,'Raw Data - Free time'!$A:$J,8,0),\"\")","v":""},{"$f":"IFERROR(VLOOKUP($A$3&\":\"&$A10,'Raw Data - Free time'!$A:$J,9,0),\"\")","v":""},"","","","","",{"$f":"IFERROR(IF($K10=\"\",\"\",VLOOKUP($A$3&\":\"&$A10,'Raw Data - Free time'!$A:$J,10,0)),\"\")","v":""},{"$f":"IFERROR(IF($N10=\"\",\"\",'Work Out'!$B$3),\"\")","v":""},"","",null,null,"Period","40 Dry"]
[6,{"$f":"IFERROR(VLOOKUP($A$3&\":\"&$A11,'Raw Data - Free time'!$A:$J,2,0),\"\")","v":""},{"$f":"IFERROR(VLOOKUP($A$3&\":\"&$A11,'Raw Data - Free time'!$A:$J,3,0),\"\")","v":""},{"$f":"IFERROR(VLOOKUP($A$3&\":\"&$A11,'Raw Data - Free time'!$A:$J,5,0),\"\")","v":""},{"$f":"IFERROR(VLOOKUP($A$3&\":\"&$A11,'Raw Data - Free time'!$A:$J,8,0),\"\")","v":""},{"$f":"IFERROR(VLOOKUP($A$3&\":\"&$A11,'Raw Data - Free time'!$A:$J,9,0),\"\")","v":""},"","","","","",{"$f":"IFERROR(IF($K11=\"\",\"\",VLOOKUP($A$3&\":\"&$A11,'Raw Data - Free time'!$A:$J,10,0)),\"\")","v":""},{"$f":"IFERROR(IF($N11=\"\",\"\",'Work Out'!$B$3),\"\")","v":""},"","",null,null,null,"Calendar days","Rate per day in USD"]
[7,{"$f":"IFERROR(VLOOKUP($A$3&\":\"&$A12,'Raw Data - Free time'!$A:$J,2,0),\"\")","v":""},{"$f":"IFERROR(VLOOKUP($A$3&\":\"&$A12,'Raw Data - Free time'!$A:$J,3,0),\"\")","v":""},{"$f":"IFERROR(VLOOKUP($A$3&\":\"&$A12,'Raw Data - Free time'!$A:$J,5,0),\"\")","v":""},{"$f":"IFERROR(VLOOKUP($A$3&\":\"&$A12,'Raw Data - Free time'!$A:$J,8,0),\"\")","v":""},{"$f":"IFERROR(VLOOKUP($A$3&\":\"&$A12,'Raw Data - Free time'!$A:$J,9,0),\"\")","v":""},"","","","","",{"$f":"IFERROR(IF($K12=\"\",\"\",VLOOKUP($A$3&\":\"&$A12,'Raw Data - Free time'!$A:$J,10,0)),\"\")","v":""},{"$f":"IFERROR(IF($N12=\"\",\"\",'Work Out'!$B$3),\"\")","v":""},"","",null,null,"Tariff free time",5,0]
[8,{"$f":"IFERROR(VLOOKUP($A$3&\":\"&$A13,'Raw Data - Free time'!$A:$J,2,0),\"\")","v":""},{"$f":"IFERROR(VLOOKUP($A$3&\":\"&$A13,'Raw Data - Free time'!$A:$J,3,0),\"\")","v":""},{"$f":"IFERROR(VLOOKUP($A$3&\":\"&$A13,'Raw Data - Free time'!$A:$J,5,0),\"\")","v":""},{"$f":"IFERROR(VLOOKUP($A$3&\":\"&$A13,'Raw Data - Free time'!$A:$J,8,0),\"\")","v":""},{"$f":"IFERROR(VLOOKUP($A$3&\":\"&$A13,'Raw Data - Free time'!$A:$J,9,0),\"\")","v":""},"","","","","",{"$f":"IFERROR(IF($K13=\"\",\"\",VLOOKUP($A$3&\":\"&$A13,'Raw Data - Free time'!$A:$J,10,0)),\"\")","v":""},{"$f":"IFERROR(IF($N13=\"\",\"\",'Work Out'!$B$3),\"\")","v":""},"","",null,"40 Dry","Thereafter",null,108]
[9,{"$f":"IFERROR(VLOOKUP($A$3&\":\"&$A14,'Raw Data - Free time'!$A:$J,2,0),\"\")","v":""},{"$f":"IFERROR(VLOOKUP($A$3&\":\"&$A14,'Raw Data - Free time'!$A:$J,3,0),\"\")","v":""},{"$f":"IFERROR(VLOOKUP($A$3&\":\"&$A14,'Raw Data - Free time'!$A:$J,5,0),\"\")","v":""},{"$f":"IFERROR(VLOOKUP($A$3&\":\"&$A14,'Raw Data - Free time'!$A:$J,8,0),\"\")","v":""},{"$f":"IFERROR(VLOOKUP($A$3&\":\"&$A14,'Raw Data - Free time'!$A:$J,9,0),\"\")","v":""},"","","","","",{"$f":"IFERROR(IF($K14=\"\",\"\",VLOOKUP($A$3&\":\"&$A14,'Raw Data - Free time'!$A:$J,10,0)),\"\")","v":""},{"$f":"IFERROR(IF($N14=\"\",\"\",'Work Out'!$B$3),\"\")","v":""},"",""]
[10,{"$f":"IFERROR(VLOOKUP($A$3&\":\"&$A15,'Raw Data - Free time'!$A:$J,2,0),\"\")","v":""},{"$f":"IFERROR(VLOOKUP($A$3&\":\"&$A15,'Raw Data - Free time'!$A:$J,3,0),\"\")","v":""},{"$f":"IFERROR(VLOOKUP($A$3&\":\"&$A15,'Raw Data - Free time'!$A:$J,5,0),\"\")","v":""},{"$f":"IFERROR(VLOOKUP($A$3&\":\"&$A15,'Raw Data - Free time'!$A:$J,8,0),\"\")","v":""},{"$f":"IFERROR(VLOOKUP($A$3&\":\"&$A15,'Raw Data - Free time'!$A:$J,9,0),\"\")","v":""},"","","","","",{"$f":"IFERROR(IF($K15=\"\",\"\",VLOOKUP($A$3&\":\"&$A15,'Raw Data - Free time'!$A:$J,10,0)),\"\")","v":""},{"$f":"IFERROR(IF($N15=\"\",\"\",'Work Out'!$B$3),\"\")","v":""},"","",null,null,"Period","20 Reefer"]
[11,{"$f":"IFERROR(VLOOKUP($A$3&\":\"&$A16,'Raw Data - Free time'!$A:$J,2,0),\"\")","v":""},{"$f":"IFERROR(VLOOKUP($A$3&\":\"&$A16,'Raw Data - Free time'!$A:$J,3,0),\"\")","v":""},{"$f":"IFERROR(VLOOKUP($A$3&\":\"&$A16,'Raw Data - Free time'!$A:$J,5,0),\"\")","v":""},{"$f":"IFERROR(VLOOKUP($A$3&\":\"&$A16,'Raw Data - Free time'!$A:$J,8,0),\"\")","v":""},{"$f":"IFERROR(VLOOKUP($A$3&\":\"&$A16,'Raw Data - Free time'!$A:$J,9,0),\"\")","v":""},"","","","","",{"$f":"IFERROR(IF($K16=\"\",\"\",VLOOKUP($A$3&\":\"&$A16,'Raw Data - Free time'!$A:$J,10,0)),\"\")","v":""},{"$f":"IFERROR(IF($N16=\"\",\"\",'Work Out'!$B$3),\"\")","v":""},"","",null,null,null,"Calendar days","Rate per day in USD"]
[12,{"$f":"IFERROR(VLOOKUP($A$3&\":\"&$A17,'Raw Data - Free time'!$A:$J,2,0),\"\")","v":""},{"$f":"IFERROR(VLOOKUP($A$3&\":\"&$A17,'Raw Data - Free time'!$A:$J,3,0),\"\")","v":""},{"$f":"IFERROR(VLOOKUP($A$3&\":\"&$A17,'Raw Data - Free time'!$A:$J,5,0),\"\")","v":""},{"$f":"IFERROR(VLOOKUP($A$3&\":\"&$A17,'Raw Data - Free time'!$A:$J,8,0),\"\")","v":""},{"$f":"IFERROR(VLOOKUP($A$3&\":\"&$A17,'Raw Data - Free time'!$A:$J,9,0),\"\")","v":""},"","","","","",{"$f":"IFERROR(IF($K17=\"\",\"\",VLOOKUP($A$3&\":\"&$A17,'Raw Data - Free time'!$A:$J,10,0)),\"\")","v":""},{"$f":"IFERROR(IF($N17=\"\",\"\",'Work Out'!$B$3),\"\")","v":""},"","",null,null,"Tariff free time",3,0]
[13,{"$f":"IFERROR(VLOOKUP($A$3&\":\"&$A18,'Raw Data - Free time'!$A:$J,2,0),\"\")","v":""},{"$f":"IFERROR(VLOOKUP($A$3&\":\"&$A18,'Raw Data - Free time'!$A:$J,3,0),\"\")","v":""},{"$f":"IFERROR(VLOOKUP($A$3&\":\"&$A18,'Raw Data - Free time'!$A:$J,5,0),\"\")","v":""},{"$f":"IFERROR(VLOOKUP($A$3&\":\"&$A18,'Raw Data - Free time'!$A:$J,8,0),\"\")","v":""},{"$f":"IFERROR(VLOOKUP($A$3&\":\"&$A18,'Raw Data - Free time'!$A:$J,9,0),\"\")","v":""},"","","","","",{"$f":"IFERROR(IF($K18=\"\",\"\",VLOOKUP($A$3&\":\"&$A18,'Raw Data - Free time'!$A:$J,10,0)),\"\")","v":""},{"$f":"IFERROR(IF($N18=\"\",\"\",'Work Out'!$B$3),\"\")","v":""},"","",null,"20 Reefer","Thereafter",null,100]
[14,{"$f":"IFERROR(VLOOKUP($A$3&\":\"&$A19,'Raw Data - Free time'!$A:$J,2,0),\"\")","v":""},{"$f":"IFERROR(VLOOKUP($A$3&\":\"&$A19,'Raw Data - Free time'!$A:$J,3,0),\"\")","v":""},{"$f":"IFERROR(VLOOKUP($A$3&\":\"&$A19,'Raw Data - Free time'!$A:$J,5,0),\"\")","v":""},{"$f":"IFERROR(VLOOKUP($A$3&\":\"&$A19,'Raw Data - Free time'!$A:$J,8,0),\"\")","v":""},{"$f":"IFERROR(VLOOKUP($A$3&\":\"&$A19,'Raw Data - Free time'!$A:$J,9,0),\"\")","v":""},"","","","","",{"$f":"IFERROR(IF($K19=\"\",\"\",VLOOKUP($A$3&\":\"&$A19,'Raw Data - Free time'!$A:$J,10,0)),\"\")","v":""},{"$f":"IFERROR(IF($N19=\"\",\"\",'Work Out'!$B$3),\"\")","v":""},"",""]
[15,{"$f":"IFERROR(VLOOKUP($A$3&\":\"&$A20,'Raw Data - Free time'!$A:$J,2,0),\"\")","v":""},{"$f":"IFERROR(VLOOKUP($A$3&\":\"&$A20,'Raw Data - Free time'!$A:$J,3,0),\"\")","v":""},{"$f":"IFERROR(VLOOKUP($A$3&\":\"&$A20,'Raw Data - Free time'!$A:$J,5,0),\"\")","v":""},{"$f":"IFERROR(VLOOKUP($A$3&\":\"&$A20,'Raw Data - Free time'!$A:$J,8,0),\"\")","v":""},{"$f":"IFERROR(VLOOKUP($A$3&\":\"&$A20,'Raw Data - Free time'!$A:$J,9,0),\"\")","v":""},"","","","","",{"$f":"IFERROR(IF($K20=\"\",\"\",VLOOKUP($A$3&\":\"&$A20,'Raw Data - Free time'!$A:$J,10,0)),\"\")","v":""},{"$f":"IFERROR(IF($N20=\"\",\"\",'Work Out'!$B$3),\"\")","v":""},"","",null,null,"Period","40 Reefer"]
[16,{"$f":"IFERROR(VLOOKUP($A$3&\":\"&$A21,'Raw Data - Free time'!$A:$J,2,0),\"\")","v":""},{"$f":"IFERROR(VLOOKUP($A$3&\":\"&$A21,'Raw Data - Free time'!$A:$J,3,0),\"\")","v":""},{"$f":"IFERROR(VLOOKUP($A$3&\":\"&$A21,'Raw Data - Free time'!$A:$J,5,0),\"\")","v":""},{"$f":"IFERROR(VLOOKUP($A$3&\":\"&$A21,'Raw Data - Free time'!$A:$J,8,0),\"\")","v":""},{"$f":"IFERROR(VLOOKUP($A$3&\":\"&$A21,'Raw Data - Free time'!$A:$J,9,0),\"\")","v":""},"","","","","",{"$f":"IFERROR(IF($K21=\"\",\"\",VLOOKUP($A$3&\":\"&$A21,'Raw Data - Free time'!$A:$J,10,0)),\"\")","v":""},{"$f":"IFERROR(IF($N21=\"\",\"\",'Work Out'!$B$3),\"\")","v":""},"","",null,null,null,"Calendar days","Rate per day in USD"]
[17,{"$f":"IFERROR(VLOOKUP($A$3&\":\"&$A22,'Raw Data - Free time'!$A:$J,2,0),\"\")","v":""},{"$f":"IFERROR(VLOOKUP($A$3&\":\"&$A22,'Raw Data - Free time'!$A:$J,3,0),\"\")","v":""},{"$f":"IFERROR(VLOOKUP($A$3&\":\"&$A22,'Raw Data - Free time'!$A:$J,5,0),\"\")","v":""},{"$f":"IFERROR(VLOOKUP($A$3&\":\"&$A22,'Raw Data - Free time'!$A:$J,8,0),\"\")","v":""},{"$f":"IFERROR(VLOOKUP($A$3&\":\"&$A22,'Raw Data - Free time'!$A:$J,9,0),\"\")","v":""},"","","","","",{"$f":"IFERROR(IF($K22=\"\",\"\",VLOOKUP($A$3&\":\"&$A22,'Raw Data - Free time'!$A:$J,10,0)),\"\")","v":""},{"$f":"IFERROR(IF($N22=\"\",\"\",'Work Out'!$B$3),\"\")","v":""},"","",null,null,"Tariff free time",3,0]
[18,{"$f":"IFERROR(VLOOKUP($A$3&\":\"&$A23,'Raw Data - Free time'!$A:$J,2,0),\"\")","v":""},{"$f":"IFERROR(VLOOKUP($A$3&\":\"&$A23,'Raw Data - Free time'!$A:$J,3,0),\"\")","v":""},{"$f":"IFERROR(VLOOKUP($A$3&\":\"&$A23,'Raw Data - Free time'!$A:$J,5,0),\"\")","v":""},{"$f":"IFERROR(VLOOKUP($A$3&\":\"&$A23,'Raw Data - Free time'!$A:$J,8,0),\"\")","v":""},{"$f":"IFERROR(VLOOKUP($A$3&\":\"&$A23,'Raw Data - Free time'!$A:$J,9,0),\"\")","v":""},"","","","","",{"$f":"IFERROR(IF($K23=\"\",\"\",VLOOKUP($A$3&\":\"&$A23,'Raw Data - Free time'!$A:$J,10,0)),\"\")","v":""},{"$f":"IFERROR(IF($N23=\"\",\"\",'Work Out'!$B$3),\"\")","v":""},"","",null,"40 Reefer","Thereafter",null,150]
[19,{"$f":"IFERROR(VLOOKUP($A$3&\":\"&$A24,'Raw Data - Free time'!$A:$J,2,0),\"\")","v":""},{"$f":"IFERROR(VLOOKUP($A$3&\":\"&$A24,'Raw Data - Free time'!$A:$J,3,0),\"\")","v":""},{"$f":"IFERROR(VLOOKUP($A$3&\":\"&$A24,'Raw Data - Free time'!$A:$J,5,0),\"\")","v":""},{"$f":"IFERROR(VLOOKUP($A$3&\":\"&$A24,'Raw Data - Free time'!$A:$J,8,0),\"\")","v":""},{"$f":"IFERROR(VLOOKUP($A$3&\":\"&$A24,'Raw Data - Free time'!$A:$J,9,0),\"\")","v":""},"","","","","",{"$f":"IFERROR(IF($K24=\"\",\"\",VLOOKUP($A$3&\":\"&$A24,'Raw Data - Free time'!$A:$J,10,0)),\"\")","v":""},{"$f":"IFERROR(IF($N24=\"\",\"\",'Work Out'!$B$3),\"\")","v":""},"",""]
[20,{"$f":"IFERROR(VLOOKUP($A$3&\":\"&$A25,'Raw Data - Free time'!$A:$J,2,0),\"\")","v":""},{"$f":"IFERROR(VLOOKUP($A$3&\":\"&$A25,'Raw Data - Free time'!$A:$J,3,0),\"\")","v":""},{"$f":"IFERROR(VLOOKUP($A$3&\":\"&$A25,'Raw Data - Free time'!$A:$J,5,0),\"\")","v":""},{"$f":"IFERROR(VLOOKUP($A$3&\":\"&$A25,'Raw Data - Free time'!$A:$J,8,0),\"\")","v":""},{"$f":"IFERROR(VLOOKUP($A$3&\":\"&$A25,'Raw Data - Free time'!$A:$J,9,0),\"\")","v":""},"","","","","",{"$f":"IFERROR(IF($K25=\"\",\"\",VLOOKUP($A$3&\":\"&$A25,'Raw Data - Free time'!$A:$J,10,0)),\"\")","v":""},{"$f":"IFERROR(IF($N25=\"\",\"\",'Work Out'!$B$3),\"\")","v":""},"","",null,null,"Period","20 Special"]
[21,{"$f":"IFERROR(VLOOKUP($A$3&\":\"&$A26,'Raw Data - Free time'!$A:$J,2,0),\"\")","v":""},{"$f":"IFERROR(VLOOKUP($A$3&\":\"&$A26,'Raw Data - Free time'!$A:$J,3,0),\"\")","v":""},{"$f":"IFERROR(VLOOKUP($A$3&\":\"&$A26,'Raw Data - Free time'!$A:$J,5,0),\"\")","v":""},{"$f":"IFERROR(VLOOKUP($A$3&\":\"&$A26,'Raw Data - Free time'!$A:$J,8,0),\"\")","v":""},{"$f":"IFERROR(VLOOKUP($A$3&\":\"&$A26,'Raw Data - Free time'!$A:$J,9,0),\"\")","v":""},"","","","","",{"$f":"IFERROR(IF($K26=\"\",\"\",VLOOKUP($A$3&\":\"&$A26,'Raw Data - Free time'!$A:$J,10,0)),\"\")","v":""},{"$f":"IFERROR(IF($N26=\"\",\"\",'Work Out'!$B$3),\"\")","v":""},"","",null,null,null,"Calendar days","Rate per day in USD"]
[22,{"$f":"IFERROR(VLOOKUP($A$3&\":\"&$A27,'Raw Data - Free time'!$A:$J,2,0),\"\")","v":""},{"$f":"IFERROR(VLOOKUP($A$3&\":\"&$A27,'Raw Data - Free time'!$A:$J,3,0),\"\")","v":""},{"$f":"IFERROR(VLOOKUP($A$3&\":\"&$A27,'Raw Data - Free time'!$A:$J,5,0),\"\")","v":""},{"$f":"IFERROR(VLOOKUP($A$3&\":\"&$A27,'Raw Data - Free time'!$A:$J,8,0),\"\")","v":""},{"$f":"IFERROR(VLOOKUP($A$3&\":\"&$A27,'Raw Data - Free time'!$A:$J,9,0),\"\")","v":""},"","","","","",{"$f":"IFERROR(IF($K27=\"\",\"\",VLOOKUP($A$3&\":\"&$A27,'Raw Data - Free time'!$A:$J,10,0)),\"\")","v":""},{"$f":"IFERROR(IF($N27=\"\",\"\",'Work Out'!$B$3),\"\")","v":""},"","",null,null,"Tariff free time",5,0]
[23,{"$f":"IFERROR(VLOOKUP($A$3&\":\"&$A28,'Raw Data - Free time'!$A:$J,2,0),\"\")","v":""},{"$f":"IFERROR(VLOOKUP($A$3&\":\"&$A28,'Raw Data - Free time'!$A:$J,3,0),\"\")","v":""},{"$f":"IFERROR(VLOOKUP($A$3&\":\"&$A28,'Raw Data - Free time'!$A:$J,5,0),\"\")","v":""},{"$f":"IFERROR(VLOOKUP($A$3&\":\"&$A28,'Raw Data - Free time'!$A:$J,8,0),\"\")","v":""},{"$f":"IFERROR(VLOOKUP($A$3&\":\"&$A28,'Raw Data - Free time'!$A:$J,9,0),\"\")","v":""},"","","","","",{"$f":"IFERROR(IF($K28=\"\",\"\",VLOOKUP($A$3&\":\"&$A28,'Raw Data - Free time'!$A:$J,10,0)),\"\")","v":""},{"$f":"IFERROR(IF($N28=\"\",\"\",'Work Out'!$B$3),\"\")","v":""},"","",null,"20 Special","Thereafter",null,120]
[24,{"$f":"IFERROR(VLOOKUP($A$3&\":\"&$A29,'Raw Data - Free time'!$A:$J,2,0),\"\")","v":""},{"$f":"IFERROR(VLOOKUP($A$3&\":\"&$A29,'Raw Data - Free time'!$A:$J,3,0),\"\")","v":""},{"$f":"IFERROR(VLOOKUP($A$3&\":\"&$A29,'Raw Data - Free time'!$A:$J,5,0),\"\")","v":""},{"$f":"IFERROR(VLOOKUP($A$3&\":\"&$A29,'Raw Data - Free time'!$A:$J,8,0),\"\")","v":""},{"$f":"IFERROR(VLOOKUP($A$3&\":\"&$A29,'Raw Data - Free time'!$A:$J,9,0),\"\")","v":""},"","","","","",{"$f":"IFERROR(IF($K29=\"\",\"\",VLOOKUP($A$3&\":\"&$A29,'Raw Data - Free time'!$A:$J,10,0)),\"\")","v":""},{"$f":"IFERROR(IF($N29=\"\",\"\",'Work Out'!$B$3),\"\")","v":""},"",""]
[25,{"$f":"IFERROR(VLOOKUP($A$3&\":\"&$A30,'Raw Data - Free time'!$A:$J,2,0),\"\")","v":""},{"$f":"IFERROR(VLOOKUP($A$3&\":\"&$A30,'Raw Data - Free time'!$A:$J,3,0),\"\")","v":""},{"$f":"IFERROR(VLOOKUP($A$3&\":\"&$A30,'Raw Data - Free time'!$A:$J,5,0),\"\")","v":""},{"$f":"IFERROR(VLOOKUP($A$3&\":\"&$A30,'Raw Data - Free time'!$A:$J,8,0),\"\")","v":""},{"$f":"IFERROR(VLOOKUP($A$3&\":\"&$A30,'Raw Data - Free time'!$A:$J,9,0),\"\")","v":""},"","","","","",{"$f":"IFERROR(IF($K30=\"\",\"\",VLOOKUP($A$3&\":\"&$A30,'Raw Data - Free time'!$A:$J,10,0)),\"\")","v":""},{"$f":"IFERROR(IF($N30=\"\",\"\",'Work Out'!$B$3),\"\")","v":""},"","",null,null,"Period","40 Special"]
[26,{"$f":"IFERROR(VLOOKUP($A$3&\":\"&$A31,'Raw Data - Free time'!$A:$J,2,0),\"\")","v":""},{"$f":"IFERROR(VLOOKUP($A$3&\":\"&$A31,'Raw Data - Free time'!$A:$J,3,0),\"\")","v":""},{"$f":"IFERROR(VLOOKUP($A$3&\":\"&$A31,'Raw Data - Free time'!$A:$J,5,0),\"\")","v":""},{"$f":"IFERROR(VLOOKUP($A$3&\":\"&$A31,'Raw Data - Free time'!$A:$J,8,0),\"\")","v":""},{"$f":"IFERROR(VLOOKUP($A$3&\":\"&$A31,'Raw Data - Free time'!$A:$J,9,0),\"\")","v":""},"","","","","",{"$f":"IFERROR(IF($K31=\"\",\"\",VLOOKUP($A$3&\":\"&$A31,'Raw Data - Free time'!$A:$J,10,0)),\"\")","v":""},{"$f":"IFERROR(IF($N31=\"\",\"\",'Work Out'!$B$3),\"\")","v":""},"","",null,null,null,"Calendar days","Rate per day in USD"]
[27,{"$f":"IFERROR(VLOOKUP($A$3&\":\"&$A32,'Raw Data - Free time'!$A:$J,2,0),\"\")","v":""},{"$f":"IFERROR(VLOOKUP($A$3&\":\"&$A32,'Raw Data - Free time'!$A:$J,3,0),\"\")","v":""},{"$f":"IFERROR(VLOOKUP($A$3&\":\"&$A32,'Raw Data - Free time'!$A:$J,5,0),\"\")","v":""},{"$f":"IFERROR(VLOOKUP($A$3&\":\"&$A32,'Raw Data - Free time'!$A:$J,8,0),\"\")","v":""},{"$f":"IFERROR(VLOOKUP($A$3&\":\"&$A32,'Raw Data - Free time'!$A:$J,9,0),\"\")","v":""},"","","","","",{"$f":"IFERROR(IF($K32=\"\",\"\",VLOOKUP($A$3&\":\"&$A32,'Raw Data - Free time'!$A:$J,10,0)),\"\")","v":""},{"$f":"IFERROR(IF($N32=\"\",\"\",'Work Out'!$B$3),\"\")","v":""},"","",null,null,"Tariff free time",5,0]
[28,{"$f":"IFERROR(VLOOKUP($A$3&\":\"&$A33,'Raw Data - Free time'!$A:$J,2,0),\"\")","v":""},{"$f":"IFERROR(VLOOKUP($A$3&\":\"&$A33,'Raw Data - Free time'!$A:$J,3,0),\"\")","v":""},{"$f":"IFERROR(VLOOKUP($A$3&\":\"&$A33,'Raw Data - Free time'!$A:$J,5,0),\"\")","v":""},{"$f":"IFERROR(VLOOKUP($A$3&\":\"&$A33,'Raw Data - Free time'!$A:$J,8,0),\"\")","v":""},{"$f":"IFERROR(VLOOKUP($A$3&\":\"&$A33,'Raw Data - Free time'!$A:$J,9,0),\"\")","v":""},"","","","","",{"$f":"IFERROR(IF($K33=\"\",\"\",VLOOKUP($A$3&\":\"&$A33,'Raw Data - Free time'!$A:$J,10,0)),\"\")","v":""},{"$f":"IFERROR(IF($N33=\"\",\"\",'Work Out'!$B$3),\"\")","v":""},"","",null,"40 Special","Thereafter",null,150]
[29,{"$f":"IFERROR(VLOOKUP($A$3&\":\"&$A34,'Raw Data - Free time'!$A:$J,2,0),\"\")","v":""},{"$f":"IFERROR(VLOOKUP($A$3&\":\"&$A34,'Raw Data - Free time'!$A:$J,3,0),\"\")","v":""},{"$f":"IFERROR(VLOOKUP($A$3&\":\"&$A34,'Raw Data - Free time'!$A:$J,5,0),\"\")","v":""},{"$f":"IFERROR(VLOOKUP($A$3&\":\"&$A34,'Raw Data - Free time'!$A:$J,8,0),\"\")","v":""},{"$f":"IFERROR(VLOOKUP($A$3&\":\"&$A34,'Raw Data - Free time'!$A:$J,9,0),\"\")","v":""},"","","","","",{"$f":"IFERROR(IF($K34=\"\",\"\",VLOOKUP($A$3&\":\"&$A34,'Raw Data - Free time'!$A:$J,10,0)),\"\")","v":""},{"$f":"IFERROR(IF($N34=\"\",\"\",'Work Out'!$B$3),\"\")","v":""},"",""]
[30,{"$f":"IFERROR(VLOOKUP($A$3&\":\"&$A35,'Raw Data - Free time'!$A:$J,2,0),\"\")","v":""},{"$f":"IFERROR(VLOOKUP($A$3&\":\"&$A35,'Raw Data - Free time'!$A:$J,3,0),\"\")","v":""},{"$f":"IFERROR(VLOOKUP($A$3&\":\"&$A35,'Raw Data - Free time'!$A:$J,5,0),\"\")","v":""},{"$f":"IFERROR(VLOOKUP($A$3&\":\"&$A35,'Raw Data - Free time'!$A:$J,8,0),\"\")","v":""},{"$f":"IFERROR(VLOOKUP($A$3&\":\"&$A35,'Raw Data - Free time'!$A:$J,9,0),\"\")","v":""},"","","","","",{"$f":"IFERROR(IF($K35=\"\",\"\",VLOOKUP($A$3&\":\"&$A35,'Raw Data - Free time'!$A:$J,10,0)),\"\")","v":""},{"$f":"IFERROR(IF($N35=\"\",\"\",'Work Out'!$B$3),\"\")","v":""},"",""]
[31,{"$f":"IFERROR(VLOOKUP($A$3&\":\"&$A36,'Raw Data - Free time'!$A:$J,2,0),\"\")","v":""},{"$f":"IFERROR(VLOOKUP($A$3&\":\"&$A36,'Raw Data - Free time'!$A:$J,3,0),\"\")","v":""},{"$f":"IFERROR(VLOOKUP($A$3&\":\"&$A36,'Raw Data - Free time'!$A:$J,5,0),\"\")","v":""},{"$f":"IFERROR(VLOOKUP($A$3&\":\"&$A36,'Raw Data - Free time'!$A:$J,8,0),\"\")","v":""},{"$f":"IFERROR(VLOOKUP($A$3&\":\"&$A36,'Raw Data - Free time'!$A:$J,9,0),\"\")","v":""},"","","","","",{"$f":"IFERROR(IF($K36=\"\",\"\",VLOOKUP($A$3&\":\"&$A36,'Raw Data - Free time'!$A:$J,10,0)),\"\")","v":""},{"$f":"IFERROR(IF($N36=\"\",\"\",'Work Out'!$B$3),\"\")","v":""},"",""]
[32,{"$f":"IFERROR(VLOOKUP($A$3&\":\"&$A37,'Raw Data - Free time'!$A:$J,2,0),\"\")","v":""},{"$f":"IFERROR(VLOOKUP($A$3&\":\"&$A37,'Raw Data - Free time'!$A:$J,3,0),\"\")","v":""},{"$f":"IFERROR(VLOOKUP($A$3&\":\"&$A37,'Raw Data - Free time'!$A:$J,5,0),\"\")","v":""},{"$f":"IFERROR(VLOOKUP($A$3&\":\"&$A37,'Raw Data - Free time'!$A:$J,8,0),\"\")","v":""},{"$f":"IFERROR(VLOOKUP($A$3&\":\"&$A37,'Raw Data - Free time'!$A:$J,9,0),\"\")","v":""},"","","","","",{"$f":"IFERROR(IF($K37=\"\",\"\",VLOOKUP($A$3&\":\"&$A37,'Raw Data - Free time'!$A:$J,10,0)),\"\")","v":""},{"$f":"IFERROR(IF($N37=\"\",\"\",'Work Out'!$B$3),\"\")","v":""},"",""]
[33,{"$f":"IFERROR(VLOOKUP($A$3&\":\"&$A38,'Raw Data - Free time'!$A:$J,2,0),\"\")","v":""},{"$f":"IFERROR(VLOOKUP($A$3&\":\"&$A38,'Raw Data - Free time'!$A:$J,3,0),\"\")","v":""},{"$f":"IFERROR(VLOOKUP($A$3&\":\"&$A38,'Raw Data - Free time'!$A:$J,5,0),\"\")","v":""},{"$f":"IFERROR(VLOOKUP($A$3&\":\"&$A38,'Raw Data - Free time'!$A:$J,8,0),\"\")","v":""},{"$f":"IFERROR(VLOOKUP($A$3&\":\"&$A38,'Raw Data - Free time'!$A:$J,9,0),\"\")","v":""},"","","","","",{"$f":"IFERROR(IF($K38=\"\",\"\",VLOOKUP($A$3&\":\"&$A38,'Raw Data - Free time'!$A:$J,10,0)),\"\")","v":""},{"$f":"IFERROR(IF($N38=\"\",\"\",'Work Out'!$B$3),\"\")","v":""},"",""]
[34,{"$f":"IFERROR(VLOOKUP($A$3&\":\"&$A39,'Raw Data - Free time'!$A:$J,2,0),\"\")","v":""},{"$f":"IFERROR(VLOOKUP($A$3&\":\"&$A39,'Raw Data - Free time'!$A:$J,3,0),\"\")","v":""},{"$f":"IFERROR(VLOOKUP($A$3&\":\"&$A39,'Raw Data - Free time'!$A:$J,5,0),\"\")","v":""},{"$f":"IFERROR(VLOOKUP($A$3&\":\"&$A39,'Raw Data - Free time'!$A:$J,8,0),\"\")","v":""},{"$f":"IFERROR(VLOOKUP($A$3&\":\"&$A39,'Raw Data - Free time'!$A:$J,9,0),\"\")","v":""},"","","","","",{"$f":"IFERROR(IF($K39=\"\",\"\",VLOOKUP($A$3&\":\"&$A39,'Raw Data - Free time'!$A:$J,10,0)),\"\")","v":""},{"$f":"IFERROR(IF($N39=\"\",\"\",'Work Out'!$B$3),\"\")","v":""},"",""]
[35,{"$f":"IFERROR(VLOOKUP($A$3&\":\"&$A40,'Raw Data - Free time'!$A:$J,2,0),\"\")","v":""},{"$f":"IFERROR(VLOOKUP($A$3&\":\"&$A40,'Raw Data - Free time'!$A:$J,3,0),\"\")","v":""},{"$f":"IFERROR(VLOOKUP($A$3&\":\"&$A40,'Raw Data - Free time'!$A:$J,5,0),\"\")","v":""},{"$f":"IFERROR(VLOOKUP($A$3&\":\"&$A40,'Raw Data - Free time'!$A:$J,8,0),\"\")","v":""},{"$f":"IFERROR(VLOOKUP($A$3&\":\"&$A40,'Raw Data - Free time'!$A:$J,9,0),\"\")","v":""},"","","","","",{"$f":"IFERROR(IF($K40=\"\",\"\",VLOOKUP($A$3&\":\"&$A40,'Raw Data - Free time'!$A:$J,10,0)),\"\")","v":""},{"$f":"IFERROR(IF($N40=\"\",\"\",'Work Out'!$B$3),\"\")","v":""},"",""]
[36,{"$f":"IFERROR(VLOOKUP($A$3&\":\"&$A41,'Raw Data - Free time'!$A:$J,2,0),\"\")","v":""},{"$f":"IFERROR(VLOOKUP($A$3&\":\"&$A41,'Raw Data - Free time'!$A:$J,3,0),\"\")","v":""},{"$f":"IFERROR(VLOOKUP($A$3&\":\"&$A41,'Raw Data - Free time'!$A:$J,5,0),\"\")","v":""},{"$f":"IFERROR(VLOOKUP($A$3&\":\"&$A41,'Raw Data - Free time'!$A:$J,8,0),\"\")","v":""},{"$f":"IFERROR(VLOOKUP($A$3&\":\"&$A41,'Raw Data - Free time'!$A:$J,9,0),\"\")","v":""},"","","","","",{"$f":"IFERROR(IF($K41=\"\",\"\",VLOOKUP($A$3&\":\"&$A41,'Raw Data - Free time'!$A:$J,10,0)),\"\")","v":""},{"$f":"IFERROR(IF($N41=\"\",\"\",'Work Out'!$B$3),\"\")","v":""},"",""]
[37,{"$f":"IFERROR(VLOOKUP($A$3&\":\"&$A42,'Raw Data - Free time'!$A:$J,2,0),\"\")","v":""},{"$f":"IFERROR(VLOOKUP($A$3&\":\"&$A42,'Raw Data - Free time'!$A:$J,3,0),\"\")","v":""},{"$f":"IFERROR(VLOOKUP($A$3&\":\"&$A42,'Raw Data - Free time'!$A:$J,5,0),\"\")","v":""},{"$f":"IFERROR(VLOOKUP($A$3&\":\"&$A42,'Raw Data - Free time'!$A:$J,8,0),\"\")","v":""},{"$f":"IFERROR(VLOOKUP($A$3&\":\"&$A42,'Raw Data - Free time'!$A:$J,9,0),\"\")","v":""},"","","","","",{"$f":"IFERROR(IF($K42=\"\",\"\",VLOOKUP($A$3&\":\"&$A42,'Raw Data - Free time'!$A:$J,10,0)),\"\")","v":""},{"$f":"IFERROR(IF($N42=\"\",\"\",'Work Out'!$B$3),\"\")","v":""},"",""]
[38,{"$f":"IFERROR(VLOOKUP($A$3&\":\"&$A43,'Raw Data - Free time'!$A:$J,2,0),\"\")","v":""},{"$f":"IFERROR(VLOOKUP($A$3&\":\"&$A43,'Raw Data - Free time'!$A:$J,3,0),\"\")","v":""},{"$f":"IFERROR(VLOOKUP($A$3&\":\"&$A43,'Raw Data - Free time'!$A:$J,5,0),\"\")","v":""},{"$f":"IFERROR(VLOOKUP($A$3&\":\"&$A43,'Raw Data - Free time'!$A:$J,8,0),\"\")","v":""},{"$f":"IFERROR(VLOOKUP($A$3&\":\"&$A43,'Raw Data - Free time'!$A:$J,9,0),\"\")","v":""},"","","","","",{"$f":"IFERROR(IF($K43=\"\",\"\",VLOOKUP($A$3&\":\"&$A43,'Raw Data - Free time'!$A:$J,10,0)),\"\")","v":""},{"$f":"IFERROR(IF($N43=\"\",\"\",'Work Out'!$B$3),\"\")","v":""},"",""]
[39,{"$f":"IFERROR(VLOOKUP($A$3&\":\"&$A44,'Raw Data - Free time'!$A:$J,2,0),\"\")","v":""},{"$f":"IFERROR(VLOOKUP($A$3&\":\"&$A44,'Raw Data - Free time'!$A:$J,3,0),\"\")","v":""},{"$f":"IFERROR(VLOOKUP($A$3&\":\"&$A44,'Raw Data - Free time'!$A:$J,5,0),\"\")","v":""},{"$f":"IFERROR(VLOOKUP($A$3&\":\"&$A44,'Raw Data - Free time'!$A:$J,8,0),\"\")","v":""},{"$f":"IFERROR(VLOOKUP($A$3&\":\"&$A44,'Raw Data - Free time'!$A:$J,9,0),\"\")","v":""},"","","","","",{"$f":"IFERROR(IF($K44=\"\",\"\",VLOOKUP($A$3&\":\"&$A44,'Raw Data - Free time'!$A:$J,10,0)),\"\")","v":""},{"$f":"IFERROR(IF($N44=\"\",\"\",'Work Out'!$B$3),\"\")","v":""},"",""]
[40,{"$f":"IFERROR(VLOOKUP($A$3&\":\"&$A45,'Raw Data - Free time'!$A:$J,2,0),\"\")","v":""},{"$f":"IFERROR(VLOOKUP($A$3&\":\"&$A45,'Raw Data - Free time'!$A:$J,3,0),\"\")","v":""},{"$f":"IFERROR(VLOOKUP($A$3&\":\"&$A45,'Raw Data - Free time'!$A:$J,5,0),\"\")","v":""},{"$f":"IFERROR(VLOOKUP($A$3&\":\"&$A45,'Raw Data - Free time'!$A:$J,8,0),\"\")","v":""},{"$f":"IFERROR(VLOOKUP($A$3&\":\"&$A45,'Raw Data - Free time'!$A:$J,9,0),\"\")","v":""},"","","","","",{"$f":"IFERROR(IF($K45=\"\",\"\",VLOOKUP($A$3&\":\"&$A45,'Raw Data - Free time'!$A:$J,10,0)),\"\")","v":""},{"$f":"IFERROR(IF($N45=\"\",\"\",'Work Out'!$B$3),\"\")","v":""},"",""]
[41,{"$f":"IFERROR(VLOOKUP($A$3&\":\"&$A46,'Raw Data - Free time'!$A:$J,2,0),\"\")","v":""},{"$f":"IFERROR(VLOOKUP($A$3&\":\"&$A46,'Raw Data - Free time'!$A:$J,3,0),\"\")","v":""},{"$f":"IFERROR(VLOOKUP($A$3&\":\"&$A46,'Raw Data - Free time'!$A:$J,5,0),\"\")","v":""},{"$f":"IFERROR(VLOOKUP($A$3&\":\"&$A46,'Raw Data - Free time'!$A:$J,8,0),\"\")","v":""},{"$f":"IFERROR(VLOOKUP($A$3&\":\"&$A46,'Raw Data - Free time'!$A:$J,9,0),\"\")","v":""},"","","","","",{"$f":"IFERROR(IF($K46=\"\",\"\",VLOOKUP($A$3&\":\"&$A46,'Raw Data - Free time'!$A:$J,10,0)),\"\")","v":""},{"$f":"IFERROR(IF($N46=\"\",\"\",'Work Out'!$B$3),\"\")","v":""},"",""]
[42,{"$f":"IFERROR(VLOOKUP($A$3&\":\"&$A47,'Raw Data - Free time'!$A:$J,2,0),\"\")","v":""},{"$f":"IFERROR(VLOOKUP($A$3&\":\"&$A47,'Raw Data - Free time'!$A:$J,3,0),\"\")","v":""},{"$f":"IFERROR(VLOOKUP($A$3&\":\"&$A47,'Raw Data - Free time'!$A:$J,5,0),\"\")","v":""},{"$f":"IFERROR(VLOOKUP($A$3&\":\"&$A47,'Raw Data - Free time'!$A:$J,8,0),\"\")","v":""},{"$f":"IFERROR(VLOOKUP($A$3&\":\"&$A47,'Raw Data - Free time'!$A:$J,9,0),\"\")","v":""},"","","","","",{"$f":"IFERROR(IF($K47=\"\",\"\",VLOOKUP($A$3&\":\"&$A47,'Raw Data - Free time'!$A:$J,10,0)),\"\")","v":""},{"$f":"IFERROR(IF($N47=\"\",\"\",'Work Out'!$B$3),\"\")","v":""},"",""]
[43,{"$f":"IFERROR(VLOOKUP($A$3&\":\"&$A48,'Raw Data - Free time'!$A:$J,2,0),\"\")","v":""},{"$f":"IFERROR(VLOOKUP($A$3&\":\"&$A48,'Raw Data - Free time'!$A:$J,3,0),\"\")","v":""},{"$f":"IFERROR(VLOOKUP($A$3&\":\"&$A48,'Raw Data - Free time'!$A:$J,5,0),\"\")","v":""},{"$f":"IFERROR(VLOOKUP($A$3&\":\"&$A48,'Raw Data - Free time'!$A:$J,8,0),\"\")","v":""},{"$f":"IFERROR(VLOOKUP($A$3&\":\"&$A48,'Raw Data - Free time'!$A:$J,9,0),\"\")","v":""},"","","","","",{"$f":"IFERROR(IF($K48=\"\",\"\",VLOOKUP($A$3&\":\"&$A48,'Raw Data - Free time'!$A:$J,10,0)),\"\")","v":""},{"$f":"IFERROR(IF($N48=\"\",\"\",'Work Out'!$B$3),\"\")","v":""},"",""]
[44,{"$f":"IFERROR(VLOOKUP($A$3&\":\"&$A49,'Raw Data - Free time'!$A:$J,2,0),\"\")","v":""},{"$f":"IFERROR(VLOOKUP($A$3&\":\"&$A49,'Raw Data - Free time'!$A:$J,3,0),\"\")","v":""},{"$f":"IFERROR(VLOOKUP($A$3&\":\"&$A49,'Raw Data - Free time'!$A:$J,5,0),\"\")","v":""},{"$f":"IFERROR(VLOOKUP($A$3&\":\"&$A49,'Raw Data - Free time'!$A:$J,8,0),\"\")","v":""},{"$f":"IFERROR(VLOOKUP($A$3&\":\"&$A49,'Raw Data - Free time'!$A:$J,9,0),\"\")","v":""},"","","","","",{"$f":"IFERROR(IF($K49=\"\",\"\",VLOOKUP($A$3&\":\"&$A49,'Raw Data - Free time'!$A:$J,10,0)),\"\")","v":""},{"$f":"IFERROR(IF($N49=\"\",\"\",'Work Out'!$B$3),\"\")","v":""},"",""]
[45,{"$f":"IFERROR(VLOOKUP($A$3&\":\"&$A50,'Raw Data - Free time'!$A:$J,2,0),\"\")","v":""},{"$f":"IFERROR(VLOOKUP($A$3&\":\"&$A50,'Raw Data - Free time'!$A:$J,3,0),\"\")","v":""},{"$f":"IFERROR(VLOOKUP($A$3&\":\"&$A50,'Raw Data - Free time'!$A:$J,5,0),\"\")","v":""},{"$f":"IFERROR(VLOOKUP($A$3&\":\"&$A50,'Raw Data - Free time'!$A:$J,8,0),\"\")","v":""},{"$f":"IFERROR(VLOOKUP($A$3&\":\"&$A50,'Raw Data - Free time'!$A:$J,9,0),\"\")","v":""},"","","","","",{"$f":"IFERROR(IF($K50=\"\",\"\",VLOOKUP($A$3&\":\"&$A50,'Raw Data - Free time'!$A:$J,10,0)),\"\")","v":""},{"$f":"IFERROR(IF($N50=\"\",\"\",'Work Out'!$B$3),\"\")","v":""},"",""]
[46,{"$f":"IFERROR(VLOOKUP($A$3&\":\"&$A51,'Raw Data - Free time'!$A:$J,2,0),\"\")","v":""},{"$f":"IFERROR(VLOOKUP($A$3&\":\"&$A51,'Raw Data - Free time'!$A:$J,3,0),\"\")","v":""},{"$f":"IFERROR(VLOOKUP($A$3&\":\"&$A51,'Raw Data - Free time'!$A:$J,5,0),\"\")","v":""},{"$f":"IFERROR(VLOOKUP($A$3&\":\"&$A51,'Raw Data - Free time'!$A:$J,8,0),\"\")","v":""},{"$f":"IFERROR(VLOOKUP($A$3&\":\"&$A51,'Raw Data - Free time'!$A:$J,9,0),\"\")","v":""},"","","","","",{"$f":"IFERROR(IF($K51=\"\",\"\",VLOOKUP($A$3&\":\"&$A51,'Raw Data - Free time'!$A:$J,10,0)),\"\")","v":""},{"$f":"IFERROR(IF($N51=\"\",\"\",'Work Out'!$B$3),\"\")","v":""},"",""]
[47,{"$f":"IFERROR(VLOOKUP($A$3&\":\"&$A52,'Raw Data - Free time'!$A:$J,2,0),\"\")","v":""},{"$f":"IFERROR(VLOOKUP($A$3&\":\"&$A52,'Raw Data - Free time'!$A:$J,3,0),\"\")","v":""},{"$f":"IFERROR(VLOOKUP($A$3&\":\"&$A52,'Raw Data - Free time'!$A:$J,5,0),\"\")","v":""},{"$f":"IFERROR(VLOOKUP($A$3&\":\"&$A52,'Raw Data - Free time'!$A:$J,8,0),\"\")","v":""},{"$f":"IFERROR(VLOOKUP($A$3&\":\"&$A52,'Raw Data - Free time'!$A:$J,9,0),\"\")","v":""},"","","","","",{"$f":"IFERROR(IF($K52=\"\",\"\",VLOOKUP($A$3&\":\"&$A52,'Raw Data - Free time'!$A:$J,10,0)),\"\")","v":""},{"$f":"IFERROR(IF($N52=\"\",\"\",'Work Out'!$B$3),\"\")","v":""},"",""]
[48,{"$f":"IFERROR(VLOOKUP($A$3&\":\"&$A53,'Raw Data - Free time'!$A:$J,2,0),\"\")","v":""},{"$f":"IFERROR(VLOOKUP($A$3&\":\"&$A53,'Raw Data - Free time'!$A:$J,3,0),\"\")","v":""},{"$f":"IFERROR(VLOOKUP($A$3&\":\"&$A53,'Raw Data - Free time'!$A:$J,5,0),\"\")","v":""},{"$f":"IFERROR(VLOOKUP($A$3&\":\"&$A53,'Raw Data - Free time'!$A:$J,8,0),\"\")","v":""},{"$f":"IFERROR(VLOOKUP($A$3&\":\"&$A53,'Raw Data - Free time'!$A:$J,9,0),\"\")","v":""},"","","","","",{"$f":"IFERROR(IF($K53=\"\",\"\",VLOOKUP($A$3&\":\"&$A53,'Raw Data - Free time'!$A:$J,10,0)),\"\")","v":""},{"$f":"IFERROR(IF($N53=\"\",\"\",'Work Out'!$B$3),\"\")","v":""},"",""]
[49,{"$f":"IFERROR(VLOOKUP($A$3&\":\"&$A54,'Raw Data - Free time'!$A:$J,2,0),\"\")","v":""},{"$f":"IFERROR(VLOOKUP($A$3&\":\"&$A54,'Raw Data - Free time'!$A:$J,3,0),\"\")","v":""},{"$f":"IFERROR(VLOOKUP($A$3&\":\"&$A54,'Raw Data - Free time'!$A:$J,5,0),\"\")","v":""},{"$f":"IFERROR(VLOOKUP($A$3&\":\"&$A54,'Raw Data - Free time'!$A:$J,8,0),\"\")","v":""},{"$f":"IFERROR(VLOOKUP($A$3&\":\"&$A54,'Raw Data - Free time'!$A:$J,9,0),\"\")","v":""},"","","","","",{"$f":"IFERROR(IF($K54=\"\",\"\",VLOOKUP($A$3&\":\"&$A54,'Raw Data - Free time'!$A:$J,10,0)),\"\")","v":""},{"$f":"IFERROR(IF($N54=\"\",\"\",'Work Out'!$B$3),\"\")","v":""},"",""]
[50,{"$f":"IFERROR(VLOOKUP($A$3&\":\"&$A55,'Raw Data - Free time'!$A:$J,2,0),\"\")","v":""},{"$f":"IFERROR(VLOOKUP($A$3&\":\"&$A55,'Raw Data - Free time'!$A:$J,3,0),\"\")","v":""},{"$f":"IFERROR(VLOOKUP($A$3&\":\"&$A55,'Raw Data - Free time'!$A:$J,5,0),\"\")","v":""},{"$f":"IFERROR(VLOOKUP($A$3&\":\"&$A55,'Raw Data - Free time'!$A:$J,8,0),\"\")","v":""},{"$f":"IFERROR(VLOOKUP($A$3&\":\"&$A55,'Raw Data - Free time'!$A:$J,9,0),\"\")","v":""},"","","","","",{"$f":"IFERROR(IF($K55=\"\",\"\",VLOOKUP($A$3&\":\"&$A55,'Raw Data - Free time'!$A:$J,10,0)),\"\")","v":""},{"$f":"IFERROR(IF($N55=\"\",\"\",'Work Out'!$B$3),\"\")","v":""},"",""]
[51,{"$f":"IFERROR(VLOOKUP($A$3&\":\"&$A56,'Raw Data - Free time'!$A:$J,2,0),\"\")","v":""},{"$f":"IFERROR(VLOOKUP($A$3&\":\"&$A56,'Raw Data - Free time'!$A:$J,3,0),\"\")","v":""},{"$f":"IFERROR(VLOOKUP($A$3&\":\"&$A56,'Raw Data - Free time'!$A:$J,5,0),\"\")","v":""},{"$f":"IFERROR(VLOOKUP($A$3&\":\"&$A56,'Raw Data - Free time'!$A:$J,8,0),\"\")","v":""},{"$f":"IFERROR(VLOOKUP($A$3&\":\"&$A56,'Raw Data - Free time'!$A:$J,9,0),\"\")","v":""},"","","","","",{"$f":"IFERROR(IF($K56=\"\",\"\",VLOOKUP($A$3&\":\"&$A56,'Raw Data - Free time'!$A:$J,10,0)),\"\")","v":""},{"$f":"IFERROR(IF($N56=\"\",\"\",'Work Out'!$B$3),\"\")","v":""},"",""]
[52,{"$f":"IFERROR(VLOOKUP($A$3&\":\"&$A57,'Raw Data - Free time'!$A:$J,2,0),\"\")","v":""},{"$f":"IFERROR(VLOOKUP($A$3&\":\"&$A57,'Raw Data - Free time'!$A:$J,3,0),\"\")","v":""},{"$f":"IFERROR(VLOOKUP($A$3&\":\"&$A57,'Raw Data - Free time'!$A:$J,5,0),\"\")","v":""},{"$f":"IFERROR(VLOOKUP($A$3&\":\"&$A57,'Raw Data - Free time'!$A:$J,8,0),\"\")","v":""},{"$f":"IFERROR(VLOOKUP($A$3&\":\"&$A57,'Raw Data - Free time'!$A:$J,9,0),\"\")","v":""},"","","","","",{"$f":"IFERROR(IF($K57=\"\",\"\",VLOOKUP($A$3&\":\"&$A57,'Raw Data - Free time'!$A:$J,10,0)),\"\")","v":""},{"$f":"IFERROR(IF($N57=\"\",\"\",'Work Out'!$B$3),\"\")","v":""},"",""]
[53,{"$f":"IFERROR(VLOOKUP($A$3&\":\"&$A58,'Raw Data - Free time'!$A:$J,2,0),\"\")","v":""},{"$f":"IFERROR(VLOOKUP($A$3&\":\"&$A58,'Raw Data - Free time'!$A:$J,3,0),\"\")","v":""},{"$f":"IFERROR(VLOOKUP($A$3&\":\"&$A58,'Raw Data - Free time'!$A:$J,5,0),\"\")","v":""},{"$f":"IFERROR(VLOOKUP($A$3&\":\"&$A58,'Raw Data - Free time'!$A:$J,8,0),\"\")","v":""},{"$f":"IFERROR(VLOOKUP($A$3&\":\"&$A58,'Raw Data - Free time'!$A:$J,9,0),\"\")","v":""},"","","","","",{"$f":"IFERROR(IF($K58=\"\",\"\",VLOOKUP($A$3&\":\"&$A58,'Raw Data - Free time'!$A:$J,10,0)),\"\")","v":""},{"$f":"IFERROR(IF($N58=\"\",\"\",'Work Out'!$B$3),\"\")","v":""},"",""]
[54,{"$f":"IFERROR(VLOOKUP($A$3&\":\"&$A59,'Raw Data - Free time'!$A:$J,2,0),\"\")","v":""},{"$f":"IFERROR(VLOOKUP($A$3&\":\"&$A59,'Raw Data - Free time'!$A:$J,3,0),\"\")","v":""},{"$f":"IFERROR(VLOOKUP($A$3&\":\"&$A59,'Raw Data - Free time'!$A:$J,5,0),\"\")","v":""},{"$f":"IFERROR(VLOOKUP($A$3&\":\"&$A59,'Raw Data - Free time'!$A:$J,8,0),\"\")","v":""},{"$f":"IFERROR(VLOOKUP($A$3&\":\"&$A59,'Raw Data - Free time'!$A:$J,9,0),\"\")","v":""},"","","","","",{"$f":"IFERROR(IF($K59=\"\",\"\",VLOOKUP($A$3&\":\"&$A59,'Raw Data - Free time'!$A:$J,10,0)),\"\")","v":""},{"$f":"IFERROR(IF($N59=\"\",\"\",'Work Out'!$B$3),\"\")","v":""},"",""]
[55,{"$f":"IFERROR(VLOOKUP($A$3&\":\"&$A60,'Raw Data - Free time'!$A:$J,2,0),\"\")","v":""},{"$f":"IFERROR(VLOOKUP($A$3&\":\"&$A60,'Raw Data - Free time'!$A:$J,3,0),\"\")","v":""},{"$f":"IFERROR(VLOOKUP($A$3&\":\"&$A60,'Raw Data - Free time'!$A:$J,5,0),\"\")","v":""},{"$f":"IFERROR(VLOOKUP($A$3&\":\"&$A60,'Raw Data - Free time'!$A:$J,8,0),\"\")","v":""},{"$f":"IFERROR(VLOOKUP($A$3&\":\"&$A60,'Raw Data - Free time'!$A:$J,9,0),\"\")","v":""},"","","","","",{"$f":"IFERROR(IF($K60=\"\",\"\",VLOOKUP($A$3&\":\"&$A60,'Raw Data - Free time'!$A:$J,10,0)),\"\")","v":""},{"$f":"IFERROR(IF($N60=\"\",\"\",'Work Out'!$B$3),\"\")","v":""},"",""]
[56,{"$f":"IFERROR(VLOOKUP($A$3&\":\"&$A61,'Raw Data - Free time'!$A:$J,2,0),\"\")","v":""},{"$f":"IFERROR(VLOOKUP($A$3&\":\"&$A61,'Raw Data - Free time'!$A:$J,3,0),\"\")","v":""},{"$f":"IFERROR(VLOOKUP($A$3&\":\"&$A61,'Raw Data - Free time'!$A:$J,5,0),\"\")","v":""},{"$f":"IFERROR(VLOOKUP($A$3&\":\"&$A61,'Raw Data - Free time'!$A:$J,8,0),\"\")","v":""},{"$f":"IFERROR(VLOOKUP($A$3&\":\"&$A61,'Raw Data - Free time'!$A:$J,9,0),\"\")","v":""},"","","","","",{"$f":"IFERROR(IF($K61=\"\",\"\",VLOOKUP($A$3&\":\"&$A61,'Raw Data - Free time'!$A:$J,10,0)),\"\")","v":""},{"$f":"IFERROR(IF($N61=\"\",\"\",'Work Out'!$B$3),\"\")","v":""},"",""]
[57,{"$f":"IFERROR(VLOOKUP($A$3&\":\"&$A62,'Raw Data - Free time'!$A:$J,2,0),\"\")","v":""},{"$f":"IFERROR(VLOOKUP($A$3&\":\"&$A62,'Raw Data - Free time'!$A:$J,3,0),\"\")","v":""},{"$f":"IFERROR(VLOOKUP($A$3&\":\"&$A62,'Raw Data - Free time'!$A:$J,5,0),\"\")","v":""},{"$f":"IFERROR(VLOOKUP($A$3&\":\"&$A62,'Raw Data - Free time'!$A:$J,8,0),\"\")","v":""},{"$f":"IFERROR(VLOOKUP($A$3&\":\"&$A62,'Raw Data - Free time'!$A:$J,9,0),\"\")","v":""},"","","","","",{"$f":"IFERROR(IF($K62=\"\",\"\",VLOOKUP($A$3&\":\"&$A62,'Raw Data - Free time'!$A:$J,10,0)),\"\")","v":""},{"$f":"IFERROR(IF($N62=\"\",\"\",'Work Out'!$B$3),\"\")","v":""},"",""]
[58,{"$f":"IFERROR(VLOOKUP($A$3&\":\"&$A63,'Raw Data - Free time'!$A:$J,2,0),\"\")","v":""},{"$f":"IFERROR(VLOOKUP($A$3&\":\"&$A63,'Raw Data - Free time'!$A:$J,3,0),\"\")","v":""},{"$f":"IFERROR(VLOOKUP($A$3&\":\"&$A63,'Raw Data - Free time'!$A:$J,5,0),\"\")","v":""},{"$f":"IFERROR(VLOOKUP($A$3&\":\"&$A63,'Raw Data - Free time'!$A:$J,8,0),\"\")","v":""},{"$f":"IFERROR(VLOOKUP($A$3&\":\"&$A63,'Raw Data - Free time'!$A:$J,9,0),\"\")","v":""},"","","","","",{"$f":"IFERROR(IF($K63=\"\",\"\",VLOOKUP($A$3&\":\"&$A63,'Raw Data - Free time'!$A:$J,10,0)),\"\")","v":""},{"$f":"IFERROR(IF($N63=\"\",\"\",'Work Out'!$B$3),\"\")","v":""},"",""]
[59,{"$f":"IFERROR(VLOOKUP($A$3&\":\"&$A64,'Raw Data - Free time'!$A:$J,2,0),\"\")","v":""},{"$f":"IFERROR(VLOOKUP($A$3&\":\"&$A64,'Raw Data - Free time'!$A:$J,3,0),\"\")","v":""},{"$f":"IFERROR(VLOOKUP($A$3&\":\"&$A64,'Raw Data - Free time'!$A:$J,5,0),\"\")","v":""},{"$f":"IFERROR(VLOOKUP($A$3&\":\"&$A64,'Raw Data - Free time'!$A:$J,8,0),\"\")","v":""},{"$f":"IFERROR(VLOOKUP($A$3&\":\"&$A64,'Raw Data - Free time'!$A:$J,9,0),\"\")","v":""},"","","","","",{"$f":"IFERROR(IF($K64=\"\",\"\",VLOOKUP($A$3&\":\"&$A64,'Raw Data - Free time'!$A:$J,10,0)),\"\")","v":""},{"$f":"IFERROR(IF($N64=\"\",\"\",'Work Out'!$B$3),\"\")","v":""},"",""]
[60,{"$f":"IFERROR(VLOOKUP($A$3&\":\"&$A65,'Raw Data - Free time'!$A:$J,2,0),\"\")","v":""},{"$f":"IFERROR(VLOOKUP($A$3&\":\"&$A65,'Raw Data - Free time'!$A:$J,3,0),\"\")","v":""},{"$f":"IFERROR(VLOOKUP($A$3&\":\"&$A65,'Raw Data - Free time'!$A:$J,5,0),\"\")","v":""},{"$f":"IFERROR(VLOOKUP($A$3&\":\"&$A65,'Raw Data - Free time'!$A:$J,8,0),\"\")","v":""},{"$f":"IFERROR(VLOOKUP($A$3&\":\"&$A65,'Raw Data - Free time'!$A:$J,9,0),\"\")","v":""},"","","","","",{"$f":"IFERROR(IF($K65=\"\",\"\",VLOOKUP($A$3&\":\"&$A65,'Raw Data - Free time'!$A:$J,10,0)),\"\")","v":""},{"$f":"IFERROR(IF($N65=\"\",\"\",'Work Out'!$B$3),\"\")","v":""},"",""]
[61,{"$f":"IFERROR(VLOOKUP($A$3&\":\"&$A66,'Raw Data - Free time'!$A:$J,2,0),\"\")","v":""},{"$f":"IFERROR(VLOOKUP($A$3&\":\"&$A66,'Raw Data - Free time'!$A:$J,3,0),\"\")","v":""},{"$f":"IFERROR(VLOOKUP($A$3&\":\"&$A66,'Raw Data - Free time'!$A:$J,5,0),\"\")","v":""},{"$f":"IFERROR(VLOOKUP($A$3&\":\"&$A66,'Raw Data - Free time'!$A:$J,8,0),\"\")","v":""},{"$f":"IFERROR(VLOOKUP($A$3&\":\"&$A66,'Raw Data - Free time'!$A:$J,9,0),\"\")","v":""},"","","","","",{"$f":"IFERROR(IF($K66=\"\",\"\",VLOOKUP($A$3&\":\"&$A66,'Raw Data - Free time'!$A:$J,10,0)),\"\")","v":""},{"$f":"IFERROR(IF($N66=\"\",\"\",'Work Out'!$B$3),\"\")","v":""},"",""]
[62,{"$f":"IFERROR(VLOOKUP($A$3&\":\"&$A67,'Raw Data - Free time'!$A:$J,2,0),\"\")","v":""},{"$f":"IFERROR(VLOOKUP($A$3&\":\"&$A67,'Raw Data - Free time'!$A:$J,3,0),\"\")","v":""},{"$f":"IFERROR(VLOOKUP($A$3&\":\"&$A67,'Raw Data - Free time'!$A:$J,5,0),\"\")","v":""},{"$f":"IFERROR(VLOOKUP($A$3&\":\"&$A67,'Raw Data - Free time'!$A:$J,8,0),\"\")","v":""},{"$f":"IFERROR(VLOOKUP($A$3&\":\"&$A67,'Raw Data - Free time'!$A:$J,9,0),\"\")","v":""},"","","","","",{"$f":"IFERROR(IF($K67=\"\",\"\",VLOOKUP($A$3&\":\"&$A67,'Raw Data - Free time'!$A:$J,10,0)),\"\")","v":""},{"$f":"IFERROR(IF($N67=\"\",\"\",'Work Out'!$B$3),\"\")","v":""},"",""]
[63,{"$f":"IFERROR(VLOOKUP($A$3&\":\"&$A68,'Raw Data - Free time'!$A:$J,2,0),\"\")","v":""},{"$f":"IFERROR(VLOOKUP($A$3&\":\"&$A68,'Raw Data - Free time'!$A:$J,3,0),\"\")","v":""},{"$f":"IFERROR(VLOOKUP($A$3&\":\"&$A68,'Raw Data - Free time'!$A:$J,5,0),\"\")","v":""},{"$f":"IFERROR(VLOOKUP($A$3&\":\"&$A68,'Raw Data - Free time'!$A:$J,8,0),\"\")","v":""},{"$f":"IFERROR(VLOOKUP($A$3&\":\"&$A68,'Raw Data - Free time'!$A:$J,9,0),\"\")","v":""},"","","","","",{"$f":"IFERROR(IF($K68=\"\",\"\",VLOOKUP($A$3&\":\"&$A68,'Raw Data - Free time'!$A:$J,10,0)),\"\")","v":""},{"$f":"IFERROR(IF($N68=\"\",\"\",'Work Out'!$B$3),\"\")","v":""},"",""]
[64,{"$f":"IFERROR(VLOOKUP($A$3&\":\"&$A69,'Raw Data - Free time'!$A:$J,2,0),\"\")","v":""},{"$f":"IFERROR(VLOOKUP($A$3&\":\"&$A69,'Raw Data - Free time'!$A:$J,3,0),\"\")","v":""},{"$f":"IFERROR(VLOOKUP($A$3&\":\"&$A69,'Raw Data - Free time'!$A:$J,5,0),\"\")","v":""},{"$f":"IFERROR(VLOOKUP($A$3&\":\"&$A69,'Raw Data - Free time'!$A:$J,8,0),\"\")","v":""},{"$f":"IFERROR(VLOOKUP($A$3&\":\"&$A69,'Raw Data - Free time'!$A:$J,9,0),\"\")","v":""},"","","","","",{"$f":"IFERROR(IF($K69=\"\",\"\",VLOOKUP($A$3&\":\"&$A69,'Raw Data - Free time'!$A:$J,10,0)),\"\")","v":""},{"$f":"IFERROR(IF($N69=\"\",\"\",'Work Out'!$B$3),\"\")","v":""},"",""]
[65,{"$f":"IFERROR(VLOOKUP($A$3&\":\"&$A70,'Raw Data - Free time'!$A:$J,2,0),\"\")","v":""},{"$f":"IFERROR(VLOOKUP($A$3&\":\"&$A70,'Raw Data - Free time'!$A:$J,3,0),\"\")","v":""},{"$f":"IFERROR(VLOOKUP($A$3&\":\"&$A70,'Raw Data - Free time'!$A:$J,5,0),\"\")","v":""},{"$f":"IFERROR(VLOOKUP($A$3&\":\"&$A70,'Raw Data - Free time'!$A:$J,8,0),\"\")","v":""},{"$f":"IFERROR(VLOOKUP($A$3&\":\"&$A70,'Raw Data - Free time'!$A:$J,9,0),\"\")","v":""},"","",{"$f":"IFERROR($H70-$F70,\"\")","v":""},"",{"$f":"IFERROR($I70*$J70,\"\")","v":""},{"$f":"IFERROR(IF($K70=\"\",\"\",VLOOKUP($A$3&\":\"&$A70,'Raw Data - Free time'!$A:$J,10,0)),\"\")","v":""},{"$f":"IFERROR(IF($N70=\"\",\"\",'Work Out'!$B$3),\"\")","v":""},"",""]
[66,{"$f":"IFERROR(VLOOKUP($A$3&\":\"&$A71,'Raw Data - Free time'!$A:$J,2,0),\"\")","v":""},{"$f":"IFERROR(VLOOKUP($A$3&\":\"&$A71,'Raw Data - Free time'!$A:$J,3,0),\"\")","v":""},{"$f":"IFERROR(VLOOKUP($A$3&\":\"&$A71,'Raw Data - Free time'!$A:$J,5,0),\"\")","v":""},{"$f":"IFERROR(VLOOKUP($A$3&\":\"&$A71,'Raw Data - Free time'!$A:$J,8,0),\"\")","v":""},{"$f":"IFERROR(VLOOKUP($A$3&\":\"&$A71,'Raw Data - Free time'!$A:$J,9,0),\"\")","v":""},{"$f":"IFERROR(F71-E71+1,\"\")","v":""},{"$f":"IFERROR(IF($G71=\"\",\"\",$C$3),\"\")","v":""},"",{"$f":"IFERROR(IF($I71<=0,\"\",VLOOKUP(D71,$Q$5:$T$33,4,0)),\"\")","v":""},"",{"$f":"IFERROR(IF($K71=\"\",\"\",VLOOKUP($A$3&\":\"&$A71,'Raw Data - Free time'!$A:$J,10,0)),\"\")","v":""},{"$f":"IFERROR(IF($N71=\"\",\"\",'Work Out'!$B$3),\"\")","v":""},{"$f":"IFERROR($K71*$L71,\"\")","v":""},{"$f":"IFERROR(IF($N71=\"\",\"\",\"P\"),\"\")","v":""}]
[67,{"$f":"IFERROR(VLOOKUP($A$3&\":\"&$A72,'Raw Data - Free time'!$A:$J,2,0),\"\")","v":""},{"$f":"IFERROR(VLOOKUP($A$3&\":\"&$A72,'Raw Data - Free time'!$A:$J,3,0),\"\")","v":""},{"$f":"IFERROR(VLOOKUP($A$3&\":\"&$A72,'Raw Data - Free time'!$A:$J,5,0),\"\")","v":""},{"$f":"IFERROR(VLOOKUP($A$3&\":\"&$A72,'Raw Data - Free time'!$A:$J,8,0),\"\")","v":""},{"$f":"IFERROR(VLOOKUP($A$3&\":\"&$A72,'Raw Data - Free time'!$A:$J,9,0),\"\")","v":""},"","","","","",{"$f":"IFERROR(IF($K72=\"\",\"\",VLOOKUP($A$3&\":\"&$A72,'Raw Data - Free time'!$A:$J,10,0)),\"\")","v":""},{"$f":"IFERROR(IF($N72=\"\",\"\",'Work Out'!$B$3),\"\")","v":""},"",""]
[68,{"$f":"IFERROR(VLOOKUP($A$3&\":\"&$A73,'Raw Data - Free time'!$A:$J,2,0),\"\")","v":""},{"$f":"IFERROR(VLOOKUP($A$3&\":\"&$A73,'Raw Data - Free time'!$A:$J,3,0),\"\")","v":""},{"$f":"IFERROR(VLOOKUP($A$3&\":\"&$A73,'Raw Data - Free time'!$A:$J,5,0),\"\")","v":""},{"$f":"IFERROR(VLOOKUP($A$3&\":\"&$A73,'Raw Data - Free time'!$A:$J,8,0),\"\")","v":""},{"$f":"IFERROR(VLOOKUP($A$3&\":\"&$A73,'Raw Data - Free time'!$A:$J,9,0),\"\")","v":""},"","","","","",{"$f":"IFERROR(IF($K73=\"\",\"\",VLOOKUP($A$3&\":\"&$A73,'Raw Data - Free time'!$A:$J,10,0)),\"\")","v":""},{"$f":"IFERROR(IF($N73=\"\",\"\",'Work Out'!$B$3),\"\")","v":""},"",""]
[69,{"$f":"IFERROR(VLOOKUP($A$3&\":\"&$A74,'Raw Data - Free time'!$A:$J,2,0),\"\")","v":""},{"$f":"IFERROR(VLOOKUP($A$3&\":\"&$A74,'Raw Data - Free time'!$A:$J,3,0),\"\")","v":""},{"$f":"IFERROR(VLOOKUP($A$3&\":\"&$A74,'Raw Data - Free time'!$A:$J,5,0),\"\")","v":""},{"$f":"IFERROR(VLOOKUP($A$3&\":\"&$A74,'Raw Data - Free time'!$A:$J,8,0),\"\")","v":""},{"$f":"IFERROR(VLOOKUP($A$3&\":\"&$A74,'Raw Data - Free time'!$A:$J,9,0),\"\")","v":""},"","","","","",{"$f":"IFERROR(IF($K74=\"\",\"\",VLOOKUP($A$3&\":\"&$A74,'Raw Data - Free time'!$A:$J,10,0)),\"\")","v":""},{"$f":"IFERROR(IF($N74=\"\",\"\",'Work Out'!$B$3),\"\")","v":""},"",""]
[70,{"$f":"IFERROR(VLOOKUP($A$3&\":\"&$A75,'Raw Data - Free time'!$A:$J,2,0),\"\")","v":""},{"$f":"IFERROR(VLOOKUP($A$3&\":\"&$A75,'Raw Data - Free time'!$A:$J,3,0),\"\")","v":""},{"$f":"IFERROR(VLOOKUP($A$3&\":\"&$A75,'Raw Data - Free time'!$A:$J,5,0),\"\")","v":""},{"$f":"IFERROR(VLOOKUP($A$3&\":\"&$A75,'Raw Data - Free time'!$A:$J,8,0),\"\")","v":""},{"$f":"IFERROR(VLOOKUP($A$3&\":\"&$A75,'Raw Data - Free time'!$A:$J,9,0),\"\")","v":""},"","","","","",{"$f":"IFERROR(IF($K75=\"\",\"\",VLOOKUP($A$3&\":\"&$A75,'Raw Data - Free time'!$A:$J,10,0)),\"\")","v":""},{"$f":"IFERROR(IF($N75=\"\",\"\",'Work Out'!$B$3),\"\")","v":""},"",""]
[71,{"$f":"IFERROR(VLOOKUP($A$3&\":\"&$A76,'Raw Data - Free time'!$A:$J,2,0),\"\")","v":""},{"$f":"IFERROR(VLOOKUP($A$3&\":\"&$A76,'Raw Data - Free time'!$A:$J,3,0),\"\")","v":""},{"$f":"IFERROR(VLOOKUP($A$3&\":\"&$A76,'Raw Data - Free time'!$A:$J,5,0),\"\")","v":""},{"$f":"IFERROR(VLOOKUP($A$3&\":\"&$A76,'Raw Data - Free time'!$A:$J,8,0),\"\")","v":""},{"$f":"IFERROR(VLOOKUP($A$3&\":\"&$A76,'Raw Data - Free time'!$A:$J,9,0),\"\")","v":""},"","","","","",{"$f":"IFERROR(IF($K76=\"\",\"\",VLOOKUP($A$3&\":\"&$A76,'Raw Data - Free time'!$A:$J,10,0)),\"\")","v":""},{"$f":"IFERROR(IF($N76=\"\",\"\",'Work Out'!$B$3),\"\")","v":""},"",""]
[72,{"$f":"IFERROR(VLOOKUP($A$3&\":\"&$A77,'Raw Data - Free time'!$A:$J,2,0),\"\")","v":""},{"$f":"IFERROR(VLOOKUP($A$3&\":\"&$A77,'Raw Data - Free time'!$A:$J,3,0),\"\")","v":""},{"$f":"IFERROR(VLOOKUP($A$3&\":\"&$A77,'Raw Data - Free time'!$A:$J,5,0),\"\")","v":""},{"$f":"IFERROR(VLOOKUP($A$3&\":\"&$A77,'Raw Data - Free time'!$A:$J,8,0),\"\")","v":""},{"$f":"IFERROR(VLOOKUP($A$3&\":\"&$A77,'Raw Data - Free time'!$A:$J,9,0),\"\")","v":""},"","","","","",{"$f":"IFERROR(IF($K77=\"\",\"\",VLOOKUP($A$3&\":\"&$A77,'Raw Data - Free time'!$A:$J,10,0)),\"\")","v":""},{"$f":"IFERROR(IF($N77=\"\",\"\",'Work Out'!$B$3),\"\")","v":""},"",""]
[73,{"$f":"IFERROR(VLOOKUP($A$3&\":\"&$A78,'Raw Data - Free time'!$A:$J,2,0),\"\")","v":""},{"$f":"IFERROR(VLOOKUP($A$3&\":\"&$A78,'Raw Data - Free time'!$A:$J,3,0),\"\")","v":""},{"$f":"IFERROR(VLOOKUP($A$3&\":\"&$A78,'Raw Data - Free time'!$A:$J,5,0),\"\")","v":""},{"$f":"IFERROR(VLOOKUP($A$3&\":\"&$A78,'Raw Data - Free time'!$A:$J,8,0),\"\")","v":""},{"$f":"IFERROR(VLOOKUP($A$3&\":\"&$A78,'Raw Data - Free time'!$A:$J,9,0),\"\")","v":""},"","","","","",{"$f":"IFERROR(IF($K78=\"\",\"\",VLOOKUP($A$3&\":\"&$A78,'Raw Data - Free time'!$A:$J,10,0)),\"\")","v":""},{"$f":"IFERROR(IF($N78=\"\",\"\",'Work Out'!$B$3),\"\")","v":""},"",""]
[74,{"$f":"IFERROR(VLOOKUP($A$3&\":\"&$A79,'Raw Data - Free time'!$A:$J,2,0),\"\")","v":""},{"$f":"IFERROR(VLOOKUP($A$3&\":\"&$A79,'Raw Data - Free time'!$A:$J,3,0),\"\")","v":""},{"$f":"IFERROR(VLOOKUP($A$3&\":\"&$A79,'Raw Data - Free time'!$A:$J,5,0),\"\")","v":""},{"$f":"IFERROR(VLOOKUP($A$3&\":\"&$A79,'Raw Data - Free time'!$A:$J,8,0),\"\")","v":""},{"$f":"IFERROR(VLOOKUP($A$3&\":\"&$A79,'Raw Data - Free time'!$A:$J,9,0),\"\")","v":""},"","","","","",{"$f":"IFERROR(IF($K79=\"\",\"\",VLOOKUP($A$3&\":\"&$A79,'Raw Data - Free time'!$A:$J,10,0)),\"\")","v":""},{"$f":"IFERROR(IF($N79=\"\",\"\",'Work Out'!$B$3),\"\")","v":""},"",""]
[75,{"$f":"IFERROR(VLOOKUP($A$3&\":\"&$A80,'Raw Data - Free time'!$A:$J,2,0),\"\")","v":""},{"$f":"IFERROR(VLOOKUP($A$3&\":\"&$A80,'Raw Data - Free time'!$A:$J,3,0),\"\")","v":""},{"$f":"IFERROR(VLOOKUP($A$3&\":\"&$A80,'Raw Data - Free time'!$A:$J,5,0),\"\")","v":""},{"$f":"IFERROR(VLOOKUP($A$3&\":\"&$A80,'Raw Data - Free time'!$A:$J,8,0),\"\")","v":""},{"$f":"IFERROR(VLOOKUP($A$3&\":\"&$A80,'Raw Data - Free time'!$A:$J,9,0),\"\")","v":""},"","","","","",{"$f":"IFERROR(IF($K80=\"\",\"\",VLOOKUP($A$3&\":\"&$A80,'Raw Data - Free time'!$A:$J,10,0)),\"\")","v":""},{"$f":"IFERROR(IF($N80=\"\",\"\",'Work Out'!$B$3),\"\")","v":""},"",""]
[76,{"$f":"IFERROR(VLOOKUP($A$3&\":\"&$A81,'Raw Data - Free time'!$A:$J,2,0),\"\")","v":""},{"$f":"IFERROR(VLOOKUP($A$3&\":\"&$A81,'Raw Data - Free time'!$A:$J,3,0),\"\")","v":""},{"$f":"IFERROR(VLOOKUP($A$3&\":\"&$A81,'Raw Data - Free time'!$A:$J,5,0),\"\")","v":""},{"$f":"IFERROR(VLOOKUP($A$3&\":\"&$A81,'Raw Data - Free time'!$A:$J,8,0),\"\")","v":""},{"$f":"IFERROR(VLOOKUP($A$3&\":\"&$A81,'Raw Data - Free time'!$A:$J,9,0),\"\")","v":""},"","","","","",{"$f":"IFERROR(IF($K81=\"\",\"\",VLOOKUP($A$3&\":\"&$A81,'Raw Data - Free time'!$A:$J,10,0)),\"\")","v":""},{"$f":"IFERROR(IF($N81=\"\",\"\",'Work Out'!$B$3),\"\")","v":""},"",""]
[77,{"$f":"IFERROR(VLOOKUP($A$3&\":\"&$A82,'Raw Data - Free time'!$A:$J,2,0),\"\")","v":""},{"$f":"IFERROR(VLOOKUP($A$3&\":\"&$A82,'Raw Data - Free time'!$A:$J,3,0),\"\")","v":""},{"$f":"IFERROR(VLOOKUP($A$3&\":\"&$A82,'Raw Data - Free time'!$A:$J,5,0),\"\")","v":""},{"$f":"IFERROR(VLOOKUP($A$3&\":\"&$A82,'Raw Data - Free time'!$A:$J,8,0),\"\")","v":""},{"$f":"IFERROR(VLOOKUP($A$3&\":\"&$A82,'Raw Data - Free time'!$A:$J,9,0),\"\")","v":""},"","","","","",{"$f":"IFERROR(IF($K82=\"\",\"\",VLOOKUP($A$3&\":\"&$A82,'Raw Data - Free time'!$A:$J,10,0)),\"\")","v":""},{"$f":"IFERROR(IF($N82=\"\",\"\",'Work Out'!$B$3),\"\")","v":""},"",""]
[78,{"$f":"IFERROR(VLOOKUP($A$3&\":\"&$A83,'Raw Data - Free time'!$A:$J,2,0),\"\")","v":""},{"$f":"IFERROR(VLOOKUP($A$3&\":\"&$A83,'Raw Data - Free time'!$A:$J,3,0),\"\")","v":""},{"$f":"IFERROR(VLOOKUP($A$3&\":\"&$A83,'Raw Data - Free time'!$A:$J,5,0),\"\")","v":""},{"$f":"IFERROR(VLOOKUP($A$3&\":\"&$A83,'Raw Data - Free time'!$A:$J,8,0),\"\")","v":""},{"$f":"IFERROR(VLOOKUP($A$3&\":\"&$A83,'Raw Data - Free time'!$A:$J,9,0),\"\")","v":""},"","","","","",{"$f":"IFERROR(IF($K83=\"\",\"\",VLOOKUP($A$3&\":\"&$A83,'Raw Data - Free time'!$A:$J,10,0)),\"\")","v":""},{"$f":"IFERROR(IF($N83=\"\",\"\",'Work Out'!$B$3),\"\")","v":""},"",""]
[79,{"$f":"IFERROR(VLOOKUP($A$3&\":\"&$A84,'Raw Data - Free time'!$A:$J,2,0),\"\")","v":""},{"$f":"IFERROR(VLOOKUP($A$3&\":\"&$A84,'Raw Data - Free time'!$A:$J,3,0),\"\")","v":""},{"$f":"IFERROR(VLOOKUP($A$3&\":\"&$A84,'Raw Data - Free time'!$A:$J,5,0),\"\")","v":""},{"$f":"IFERROR(VLOOKUP($A$3&\":\"&$A84,'Raw Data - Free time'!$A:$J,8,0),\"\")","v":""},{"$f":"IFERROR(VLOOKUP($A$3&\":\"&$A84,'Raw Data - Free time'!$A:$J,9,0),\"\")","v":""},"","","","","",{"$f":"IFERROR(IF($K84=\"\",\"\",VLOOKUP($A$3&\":\"&$A84,'Raw Data - Free time'!$A:$J,10,0)),\"\")","v":""},{"$f":"IFERROR(IF($N84=\"\",\"\",'Work Out'!$B$3),\"\")","v":""},"",""]
[80,{"$f":"IFERROR(VLOOKUP($A$3&\":\"&$A85,'Raw Data - Free time'!$A:$J,2,0),\"\")","v":""},{"$f":"IFERROR(VLOOKUP($A$3&\":\"&$A85,'Raw Data - Free time'!$A:$J,3,0),\"\")","v":""},{"$f":"IFERROR(VLOOKUP($A$3&\":\"&$A85,'Raw Data - Free time'!$A:$J,5,0),\"\")","v":""},{"$f":"IFERROR(VLOOKUP($A$3&\":\"&$A85,'Raw Data - Free time'!$A:$J,8,0),\"\")","v":""},{"$f":"IFERROR(VLOOKUP($A$3&\":\"&$A85,'Raw Data - Free time'!$A:$J,9,0),\"\")","v":""},"","","","","",{"$f":"IFERROR(IF($K85=\"\",\"\",VLOOKUP($A$3&\":\"&$A85,'Raw Data - Free time'!$A:$J,10,0)),\"\")","v":""},{"$f":"IFERROR(IF($N85=\"\",\"\",'Work Out'!$B$3),\"\")","v":""},"",""]
[81,{"$f":"IFERROR(VLOOKUP($A$3&\":\"&$A86,'Raw Data - Free time'!$A:$J,2,0),\"\")","v":""},{"$f":"IFERROR(VLOOKUP($A$3&\":\"&$A86,'Raw Data - Free time'!$A:$J,3,0),\"\")","v":""},{"$f":"IFERROR(VLOOKUP($A$3&\":\"&$A86,'Raw Data - Free time'!$A:$J,5,0),\"\")","v":""},{"$f":"IFERROR(VLOOKUP($A$3&\":\"&$A86,'Raw Data - Free time'!$A:$J,8,0),\"\")","v":""},{"$f":"IFERROR(VLOOKUP($A$3&\":\"&$A86,'Raw Data - Free time'!$A:$J,9,0),\"\")","v":""},"","","","","",{"$f":"IFERROR(IF($K86=\"\",\"\",VLOOKUP($A$3&\":\"&$A86,'Raw Data - Free time'!$A:$J,10,0)),\"\")","v":""},{"$f":"IFERROR(IF($N86=\"\",\"\",'Work Out'!$B$3),\"\")","v":""},"",""]
[82,{"$f":"IFERROR(VLOOKUP($A$3&\":\"&$A87,'Raw Data - Free time'!$A:$J,2,0),\"\")","v":""},{"$f":"IFERROR(VLOOKUP($A$3&\":\"&$A87,'Raw Data - Free time'!$A:$J,3,0),\"\")","v":""},{"$f":"IFERROR(VLOOKUP($A$3&\":\"&$A87,'Raw Data - Free time'!$A:$J,5,0),\"\")","v":""},{"$f":"IFERROR(VLOOKUP($A$3&\":\"&$A87,'Raw Data - Free time'!$A:$J,8,0),\"\")","v":""},{"$f":"IFERROR(VLOOKUP($A$3&\":\"&$A87,'Raw Data - Free time'!$A:$J,9,0),\"\")","v":""},"","","","","",{"$f":"IFERROR(IF($K87=\"\",\"\",VLOOKUP($A$3&\":\"&$A87,'Raw Data - Free time'!$A:$J,10,0)),\"\")","v":""},{"$f":"IFERROR(IF($N87=\"\",\"\",'Work Out'!$B$3),\"\")","v":""},"",""]
[83,{"$f":"IFERROR(VLOOKUP($A$3&\":\"&$A88,'Raw Data - Free time'!$A:$J,2,0),\"\")","v":""},{"$f":"IFERROR(VLOOKUP($A$3&\":\"&$A88,'Raw Data - Free time'!$A:$J,3,0),\"\")","v":""},{"$f":"IFERROR(VLOOKUP($A$3&\":\"&$A88,'Raw Data - Free time'!$A:$J,5,0),\"\")","v":""},{"$f":"IFERROR(VLOOKUP($A$3&\":\"&$A88,'Raw Data - Free time'!$A:$J,8,0),\"\")","v":""},{"$f":"IFERROR(VLOOKUP($A$3&\":\"&$A88,'Raw Data - Free time'!$A:$J,9,0),\"\")","v":""},"","","","","",{"$f":"IFERROR(IF($K88=\"\",\"\",VLOOKUP($A$3&\":\"&$A88,'Raw Data - Free time'!$A:$J,10,0)),\"\")","v":""},{"$f":"IFERROR(IF($N88=\"\",\"\",'Work Out'!$B$3),\"\")","v":""},"",""]
[84,{"$f":"IFERROR(VLOOKUP($A$3&\":\"&$A89,'Raw Data - Free time'!$A:$J,2,0),\"\")","v":""},{"$f":"IFERROR(VLOOKUP($A$3&\":\"&$A89,'Raw Data - Free time'!$A:$J,3,0),\"\")","v":""},{"$f":"IFERROR(VLOOKUP($A$3&\":\"&$A89,'Raw Data - Free time'!$A:$J,5,0),\"\")","v":""},{"$f":"IFERROR(VLOOKUP($A$3&\":\"&$A89,'Raw Data - Free time'!$A:$J,8,0),\"\")","v":""},{"$f":"IFERROR(VLOOKUP($A$3&\":\"&$A89,'Raw Data - Free time'!$A:$J,9,0),\"\")","v":""},"","","","","",{"$f":"IFERROR(IF($K89=\"\",\"\",VLOOKUP($A$3&\":\"&$A89,'Raw Data - Free time'!$A:$J,10,0)),\"\")","v":""},{"$f":"IFERROR(IF($N89=\"\",\"\",'Work Out'!$B$3),\"\")","v":""},"",""]
[85,{"$f":"IFERROR(VLOOKUP($A$3&\":\"&$A90,'Raw Data - Free time'!$A:$J,2,0),\"\")","v":""},{"$f":"IFERROR(VLOOKUP($A$3&\":\"&$A90,'Raw Data - Free time'!$A:$J,3,0),\"\")","v":""},{"$f":"IFERROR(VLOOKUP($A$3&\":\"&$A90,'Raw Data - Free time'!$A:$J,5,0),\"\")","v":""},{"$f":"IFERROR(VLOOKUP($A$3&\":\"&$A90,'Raw Data - Free time'!$A:$J,8,0),\"\")","v":""},{"$f":"IFERROR(VLOOKUP($A$3&\":\"&$A90,'Raw Data - Free time'!$A:$J,9,0),\"\")","v":""},"","","","","",{"$f":"IFERROR(IF($K90=\"\",\"\",VLOOKUP($A$3&\":\"&$A90,'Raw Data - Free time'!$A:$J,10,0)),\"\")","v":""},{"$f":"IFERROR(IF($N90=\"\",\"\",'Work Out'!$B$3),\"\")","v":""},"",""]
[86,{"$f":"IFERROR(VLOOKUP($A$3&\":\"&$A91,'Raw Data - Free time'!$A:$J,2,0),\"\")","v":""},{"$f":"IFERROR(VLOOKUP($A$3&\":\"&$A91,'Raw Data - Free time'!$A:$J,3,0),\"\")","v":""},{"$f":"IFERROR(VLOOKUP($A$3&\":\"&$A91,'Raw Data - Free time'!$A:$J,5,0),\"\")","v":""},{"$f":"IFERROR(VLOOKUP($A$3&\":\"&$A91,'Raw Data - Free time'!$A:$J,8,0),\"\")","v":""},{"$f":"IFERROR(VLOOKUP($A$3&\":\"&$A91,'Raw Data - Free time'!$A:$J,9,0),\"\")","v":""},"","","","","",{"$f":"IFERROR(IF($K91=\"\",\"\",VLOOKUP($A$3&\":\"&$A91,'Raw Data - Free time'!$A:$J,10,0)),\"\")","v":""},{"$f":"IFERROR(IF($N91=\"\",\"\",'Work Out'!$B$3),\"\")","v":""},"",""]
[87,{"$f":"IFERROR(VLOOKUP($A$3&\":\"&$A92,'Raw Data - Free time'!$A:$J,2,0),\"\")","v":""},{"$f":"IFERROR(VLOOKUP($A$3&\":\"&$A92,'Raw Data - Free time'!$A:$J,3,0),\"\")","v":""},{"$f":"IFERROR(VLOOKUP($A$3&\":\"&$A92,'Raw Data - Free time'!$A:$J,5,0),\"\")","v":""},{"$f":"IFERROR(VLOOKUP($A$3&\":\"&$A92,'Raw Data - Free time'!$A:$J,8,0),\"\")","v":""},{"$f":"IFERROR(VLOOKUP($A$3&\":\"&$A92,'Raw Data - Free time'!$A:$J,9,0),\"\")","v":""},"","","","","",{"$f":"IFERROR(IF($K92=\"\",\"\",VLOOKUP($A$3&\":\"&$A92,'Raw Data - Free time'!$A:$J,10,0)),\"\")","v":""},{"$f":"IFERROR(IF($N92=\"\",\"\",'Work Out'!$B$3),\"\")","v":""},"",""]
[88,{"$f":"IFERROR(VLOOKUP($A$3&\":\"&$A93,'Raw Data - Free time'!$A:$J,2,0),\"\")","v":""},{"$f":"IFERROR(VLOOKUP($A$3&\":\"&$A93,'Raw Data - Free time'!$A:$J,3,0),\"\")","v":""},{"$f":"IFERROR(VLOOKUP($A$3&\":\"&$A93,'Raw Data - Free time'!$A:$J,5,0),\"\")","v":""},{"$f":"IFERROR(VLOOKUP($A$3&\":\"&$A93,'Raw Data - Free time'!$A:$J,8,0),\"\")","v":""},{"$f":"IFERROR(VLOOKUP($A$3&\":\"&$A93,'Raw Data - Free time'!$A:$J,9,0),\"\")","v":""},"","","","","",{"$f":"IFERROR(IF($K93=\"\",\"\",VLOOKUP($A$3&\":\"&$A93,'Raw Data - Free time'!$A:$J,10,0)),\"\")","v":""},{"$f":"IFERROR(IF($N93=\"\",\"\",'Work Out'!$B$3),\"\")","v":""},"",""]
[89,{"$f":"IFERROR(VLOOKUP($A$3&\":\"&$A94,'Raw Data - Free time'!$A:$J,2,0),\"\")","v":""},{"$f":"IFERROR(VLOOKUP($A$3&\":\"&$A94,'Raw Data - Free time'!$A:$J,3,0),\"\")","v":""},{"$f":"IFERROR(VLOOKUP($A$3&\":\"&$A94,'Raw Data - Free time'!$A:$J,5,0),\"\")","v":""},{"$f":"IFERROR(VLOOKUP($A$3&\":\"&$A94,'Raw Data - Free time'!$A:$J,8,0),\"\")","v":""},{"$f":"IFERROR(VLOOKUP($A$3&\":\"&$A94,'Raw Data - Free time'!$A:$J,9,0),\"\")","v":""},"","","","","",{"$f":"IFERROR(IF($K94=\"\",\"\",VLOOKUP($A$3&\":\"&$A94,'Raw Data - Free time'!$A:$J,10,0)),\"\")","v":""},{"$f":"IFERROR(IF($N94=\"\",\"\",'Work Out'!$B$3),\"\")","v":""},"",""]
[90,{"$f":"IFERROR(VLOOKUP($A$3&\":\"&$A95,'Raw Data - Free time'!$A:$J,2,0),\"\")","v":""},{"$f":"IFERROR(VLOOKUP($A$3&\":\"&$A95,'Raw Data - Free time'!$A:$J,3,0),\"\")","v":""},{"$f":"IFERROR(VLOOKUP($A$3&\":\"&$A95,'Raw Data - Free time'!$A:$J,5,0),\"\")","v":""},{"$f":"IFERROR(VLOOKUP($A$3&\":\"&$A95,'Raw Data - Free time'!$A:$J,8,0),\"\")","v":""},{"$f":"IFERROR(VLOOKUP($A$3&\":\"&$A95,'Raw Data - Free time'!$A:$J,9,0),\"\")","v":""},"","","","","",{"$f":"IFERROR(IF($K95=\"\",\"\",VLOOKUP($A$3&\":\"&$A95,'Raw Data - Free time'!$A:$J,10,0)),\"\")","v":""},{"$f":"IFERROR(IF($N95=\"\",\"\",'Work Out'!$B$3),\"\")","v":""},"",""]
[91,{"$f":"IFERROR(VLOOKUP($A$3&\":\"&$A96,'Raw Data - Free time'!$A:$J,2,0),\"\")","v":""},{"$f":"IFERROR(VLOOKUP($A$3&\":\"&$A96,'Raw Data - Free time'!$A:$J,3,0),\"\")","v":""},{"$f":"IFERROR(VLOOKUP($A$3&\":\"&$A96,'Raw Data - Free time'!$A:$J,5,0),\"\")","v":""},{"$f":"IFERROR(VLOOKUP($A$3&\":\"&$A96,'Raw Data - Free time'!$A:$J,8,0),\"\")","v":""},{"$f":"IFERROR(VLOOKUP($A$3&\":\"&$A96,'Raw Data - Free time'!$A:$J,9,0),\"\")","v":""},"","","","","",{"$f":"IFERROR(IF($K96=\"\",\"\",VLOOKUP($A$3&\":\"&$A96,'Raw Data - Free time'!$A:$J,10,0)),\"\")","v":""},{"$f":"IFERROR(IF($N96=\"\",\"\",'Work Out'!$B$3),\"\")","v":""},"",""]
[92,{"$f":"IFERROR(VLOOKUP($A$3&\":\"&$A97,'Raw Data - Free time'!$A:$J,2,0),\"\")","v":""},{"$f":"IFERROR(VLOOKUP($A$3&\":\"&$A97,'Raw Data - Free time'!$A:$J,3,0),\"\")","v":""},{"$f":"IFERROR(VLOOKUP($A$3&\":\"&$A97,'Raw Data - Free time'!$A:$J,5,0),\"\")","v":""},{"$f":"IFERROR(VLOOKUP($A$3&\":\"&$A97,'Raw Data - Free time'!$A:$J,8,0),\"\")","v":""},{"$f":"IFERROR(VLOOKUP($A$3&\":\"&$A97,'Raw Data - Free time'!$A:$J,9,0),\"\")","v":""},"","","","","",{"$f":"IFERROR(IF($K97=\"\",\"\",VLOOKUP($A$3&\":\"&$A97,'Raw Data - Free time'!$A:$J,10,0)),\"\")","v":""},{"$f":"IFERROR(IF($N97=\"\",\"\",'Work Out'!$B$3),\"\")","v":""},"",""]
[93,{"$f":"IFERROR(VLOOKUP($A$3&\":\"&$A98,'Raw Data - Free time'!$A:$J,2,0),\"\")","v":""},{"$f":"IFERROR(VLOOKUP($A$3&\":\"&$A98,'Raw Data - Free time'!$A:$J,3,0),\"\")","v":""},{"$f":"IFERROR(VLOOKUP($A$3&\":\"&$A98,'Raw Data - Free time'!$A:$J,5,0),\"\")","v":""},{"$f":"IFERROR(VLOOKUP($A$3&\":\"&$A98,'Raw Data - Free time'!$A:$J,8,0),\"\")","v":""},{"$f":"IFERROR(VLOOKUP($A$3&\":\"&$A98,'Raw Data - Free time'!$A:$J,9,0),\"\")","v":""},"","","","","",{"$f":"IFERROR(IF($K98=\"\",\"\",VLOOKUP($A$3&\":\"&$A98,'Raw Data - Free time'!$A:$J,10,0)),\"\")","v":""},{"$f":"IFERROR(IF($N98=\"\",\"\",'Work Out'!$B$3),\"\")","v":""},"",""]
[94,{"$f":"IFERROR(VLOOKUP($A$3&\":\"&$A99,'Raw Data - Free time'!$A:$J,2,0),\"\")","v":""},{"$f":"IFERROR(VLOOKUP($A$3&\":\"&$A99,'Raw Data - Free time'!$A:$J,3,0),\"\")","v":""},{"$f":"IFERROR(VLOOKUP($A$3&\":\"&$A99,'Raw Data - Free time'!$A:$J,5,0),\"\")","v":""},{"$f":"IFERROR(VLOOKUP($A$3&\":\"&$A99,'Raw Data - Free time'!$A:$J,8,0),\"\")","v":""},{"$f":"IFERROR(VLOOKUP($A$3&\":\"&$A99,'Raw Data - Free time'!$A:$J,9,0),\"\")","v":""},"","","","","",{"$f":"IFERROR(IF($K99=\"\",\"\",VLOOKUP($A$3&\":\"&$A99,'Raw Data - Free time'!$A:$J,10,0)),\"\")","v":""},{"$f":"IFERROR(IF($N99=\"\",\"\",'Work Out'!$B$3),\"\")","v":""},"",""]
[95,{"$f":"IFERROR(VLOOKUP($A$3&\":\"&$A100,'Raw Data - Free time'!$A:$J,2,0),\"\")","v":""},{"$f":"IFERROR(VLOOKUP($A$3&\":\"&$A100,'Raw Data - Free time'!$A:$J,3,0),\"\")","v":""},{"$f":"IFERROR(VLOOKUP($A$3&\":\"&$A100,'Raw Data - Free time'!$A:$J,5,0),\"\")","v":""},{"$f":"IFERROR(VLOOKUP($A$3&\":\"&$A100,'Raw Data - Free time'!$A:$J,8,0),\"\")","v":""},{"$f":"IFERROR(VLOOKUP($A$3&\":\"&$A100,'Raw Data - Free time'!$A:$J,9,0),\"\")","v":""},"","","","","",{"$f":"IFERROR(IF($K100=\"\",\"\",VLOOKUP($A$3&\":\"&$A100,'Raw Data - Free time'!$A:$J,10,0)),\"\")","v":""},{"$f":"IFERROR(IF($N100=\"\",\"\",'Work Out'!$B$3),\"\")","v":""},"",""]
[96,{"$f":"IFERROR(VLOOKUP($A$3&\":\"&$A101,'Raw Data - Free time'!$A:$J,2,0),\"\")","v":""},{"$f":"IFERROR(VLOOKUP($A$3&\":\"&$A101,'Raw Data - Free time'!$A:$J,3,0),\"\")","v":""},{"$f":"IFERROR(VLOOKUP($A$3&\":\"&$A101,'Raw Data - Free time'!$A:$J,5,0),\"\")","v":""},{"$f":"IFERROR(VLOOKUP($A$3&\":\"&$A101,'Raw Data - Free time'!$A:$J,8,0),\"\")","v":""},{"$f":"IFERROR(VLOOKUP($A$3&\":\"&$A101,'Raw Data - Free time'!$A:$J,9,0),\"\")","v":""},"","","","","",{"$f":"IFERROR(IF($K101=\"\",\"\",VLOOKUP($A$3&\":\"&$A101,'Raw Data - Free time'!$A:$J,10,0)),\"\")","v":""},{"$f":"IFERROR(IF($N101=\"\",\"\",'Work Out'!$B$3),\"\")","v":""},"",""]
[97,{"$f":"IFERROR(VLOOKUP($A$3&\":\"&$A102,'Raw Data - Free time'!$A:$J,2,0),\"\")","v":""},{"$f":"IFERROR(VLOOKUP($A$3&\":\"&$A102,'Raw Data - Free time'!$A:$J,3,0),\"\")","v":""},{"$f":"IFERROR(VLOOKUP($A$3&\":\"&$A102,'Raw Data - Free time'!$A:$J,5,0),\"\")","v":""},{"$f":"IFERROR(VLOOKUP($A$3&\":\"&$A102,'Raw Data - Free time'!$A:$J,8,0),\"\")","v":""},{"$f":"IFERROR(VLOOKUP($A$3&\":\"&$A102,'Raw Data - Free time'!$A:$J,9,0),\"\")","v":""},"","","","","",{"$f":"IFERROR(IF($K102=\"\",\"\",VLOOKUP($A$3&\":\"&$A102,'Raw Data - Free time'!$A:$J,10,0)),\"\")","v":""},{"$f":"IFERROR(IF($N102=\"\",\"\",'Work Out'!$B$3),\"\")","v":""},"",""]
[98,{"$f":"IFERROR(VLOOKUP($A$3&\":\"&$A103,'Raw Data - Free time'!$A:$J,2,0),\"\")","v":""},{"$f":"IFERROR(VLOOKUP($A$3&\":\"&$A103,'Raw Data - Free time'!$A:$J,3,0),\"\")","v":""},{"$f":"IFERROR(VLOOKUP($A$3&\":\"&$A103,'Raw Data - Free time'!$A:$J,5,0),\"\")","v":""},{"$f":"IFERROR(VLOOKUP($A$3&\":\"&$A103,'Raw Data - Free time'!$A:$J,8,0),\"\")","v":""},{"$f":"IFERROR(VLOOKUP($A$3&\":\"&$A103,'Raw Data - Free time'!$A:$J,9,0),\"\")","v":""},"","","","","",{"$f":"IFERROR(IF($K103=\"\",\"\",VLOOKUP($A$3&\":\"&$A103,'Raw Data - Free time'!$A:$J,10,0)),\"\")","v":""},{"$f":"IFERROR(IF($N103=\"\",\"\",'Work Out'!$B$3),\"\")","v":""},"",""]
[99,{"$f":"IFERROR(VLOOKUP($A$3&\":\"&$A104,'Raw Data - Free time'!$A:$J,2,0),\"\")","v":""},{"$f":"IFERROR(VLOOKUP($A$3&\":\"&$A104,'Raw Data - Free time'!$A:$J,3,0),\"\")","v":""},{"$f":"IFERROR(VLOOKUP($A$3&\":\"&$A104,'Raw Data - Free time'!$A:$J,5,0),\"\")","v":""},{"$f":"IFERROR(VLOOKUP($A$3&\":\"&$A104,'Raw Data - Free time'!$A:$J,8,0),\"\")","v":""},{"$f":"IFERROR(VLOOKUP($A$3&\":\"&$A104,'Raw Data - Free time'!$A:$J,9,0),\"\")","v":""},"","","","","",{"$f":"IFERROR(IF($K104=\"\",\"\",VLOOKUP($A$3&\":\"&$A104,'Raw Data - Free time'!$A:$J,10,0)),\"\")","v":""},{"$f":"IFERROR(IF($N104=\"\",\"\",'Work Out'!$B$3),\"\")","v":""},"",""]
[100,{"$f":"IFERROR(VLOOKUP($A$3&\":\"&$A105,'Raw Data - Free time'!$A:$J,2,0),\"\")","v":""},{"$f":"IFERROR(VLOOKUP($A$3&\":\"&$A105,'Raw Data - Free time'!$A:$J,3,0),\"\")","v":""},{"$f":"IFERROR(VLOOKUP($A$3&\":\"&$A105,'Raw Data - Free time'!$A:$J,5,0),\"\")","v":""},{"$f":"IFERROR(VLOOKUP($A$3&\":\"&$A105,'Raw Data - Free time'!$A:$J,8,0),\"\")","v":""},{"$f":"IFERROR(VLOOKUP($A$3&\":\"&$A105,'Raw Data - Free time'!$A:$J,9,0),\"\")","v":""},"","","","","",{"$f":"IFERROR(IF($K105=\"\",\"\",VLOOKUP($A$3&\":\"&$A105,'Raw Data - Free time'!$A:$J,10,0)),\"\")","v":""},{"$f":"IFERROR(IF($N105=\"\",\"\",'Work Out'!$B$3),\"\")","v":""},"",""]

{"sheet":"Free time Calculator by BL (DT)","index":3,"n_rows":134,"n_cols":21,"rows_kept":134,"cut":false,"hidden":false,"merged":[[0,1,0,2],[2,11,2,14],[14,18,15,18],[19,18,20,18],[24,18,25,18],[29,18,30,18],[1,11,1,12],[4,18,5,18],[9,18,10,18],[4,13,4,14]]}
[{"$f":"'Work Out'!$B$2","v":"Pakistan"}," - Import - Free time calculator"]
["Master Bill of Lading\nNumber\nHLCUxxx000000000","Master BL Type","Enter Start date\n(DD/MM/YYYY)","Enter validity till date\n(DD/MM/YYYY)",null,"TOTAL FREE \n     DAYS","TOTAL DAYS OF\nDETENTION","TOTAL DETENTION\nIN USD","TOTAL DETENTION\nIN",{"$f":"'Work Out'!$B$3","v":"PKR"},null,"Go to Main Menu"]
[{"$f":"'Main Menu'!$H$20","v":"00:00:00"},{"$f":"VLOOKUP($A$3,'Raw Data - Free time'!B:K,10,0)","v":{"$error":"#N/A"}},{"$f":"'Main Menu'!$J$20","v":"2023-04-04"},{"$f":"'Main Menu'!$K$20","v":"2023-06-08"},null,{"$f":"SUM(G6:G105)","v":0},{"$f":"SUM(J6:J105)","v":0},{"$f":"SUM(L6:L105)","v":0},{"$f":"SUM($O6:$O105)","v":0},{"$f":"'Work Out'!$B$3","v":"PKR"},null,{"$f":"IF($C$3<$F$6,$H$6,IF($C$3=$F$6,$H$6,IF($D$3<$C$3,\"End Date should be Greater then Start Date or Equal\",\"Detention Calculated\")))","v":""}]
[null,null," "]
["Serial Number","BL Number","Container Number","Size","DIFU","Free Time End \nOn","Free Days","Customer\nrequire start \ndate","Customer require \nDetention till","Require Detention \nDays","Per day\nRent","Total USD","ROE","Total PKR",null,null,null,null,"Period","20 Dry"]
[1,{"$f":"IFERROR(VLOOKUP($A$3&\":\"&$A6,'Raw Data - Free time'!$A:$J,2,0),\"\")","v":""},{"$f":"IFERROR(VLOOKUP($A$3&\":\"&$A6,'Raw Data - Free time'!$A:$J,3,0),\"\")","v":""},{"$f":"IFERROR(VLOOKUP($A$3&\":\"&$A6,'Raw Data - Free time'!$A:$J,5,0),\"\")","v":""},{"$f":"IFERROR(VLOOKUP($A$3&\":\"&$A6,'Raw Data - Free time'!$A:$J,8,0),\"\")","v":""},{"$f":"IFERROR(VLOOKUP($A$3&\":\"&$A6,'Raw Data - Free time'!$A:$J,9,0),\"\")","v":""},{"$f":"IFERROR(F6-E6+1,\"\")","v":""},{"$f":"IFERROR(IF($F6=\"\",\"\",IF($C$3>$F6,$C$3,\"Star date should be Greater then Free Day\")),\"\")","v":""},{"$f":"IFERROR(IF($D$3>=$H6,$D$3,\"\"),\"\")","v":""},{"$f":"IFERROR($I6-$H6+1,\"\")","v":""},{"$f":"IFERROR(IF($J6=\"\",\"\",VLOOKUP(D6,$R$5:$U$33,4,0)),\"\")","v":""},{"$f":"IFERROR($J6*$K6,\"\")","v":""},{"$f":"IFERROR(IF($L6=\"\",\"\",VLOOKUP($A$3&\":\"&$A6,'Raw Data - Free time'!$A:$J,10,0)),\"\")","v":""},{"$f":"IFERROR(IF($O6=\"\",\"\",'Work Out'!$B$3),\"\")","v":""},{"$f":"IFERROR($L6*$M6,\"\")","v":""},{"$f":"IFERROR(IF($O6=\"\",\"\",\"P\"),\"\")","v":""},null,null,null,"Calendar days","Rate per day in USD"]
[2,{"$f":"IFERROR(VLOOKUP($A$3&\":\"&$A7,'Raw Data - Free time'!$A:$J,2,0),\"\")","v":""},{"$f":"IFERROR(VLOOKUP($A$3&\":\"&$A7,'Raw Data - Free time'!$A:$J,3,0),\"\")","v":""},{"$f":"IFERROR(VLOOKUP($A$3&\":\"&$A7,'Raw Data - Free time'!$A:$J,5,0),\"\")","v":""},{"$f":"IFERROR(VLOOKUP($A$3&\":\"&$A7,'Raw Data - Free time'!$A:$J,8,0),\"\")","v":""},{"$f":"IFERROR(VLOOKUP($A$3&\":\"&$A7,'Raw Data - Free time'!$A:$J,9,0),\"\")","v":""},{"$f":"IFERROR(F7-E7+1,\"\")","v":""},{"$f":"IFERROR(IF($F7=\"\",\"\",IF($C$3>$F7,$C$3,\"Star date should be Greater then Free Day\")),\"\")","v":""},{"$f":"IFERROR(IF($D$3>=$H7,$D$3,\"\"),\"\")","v":""},{"$f":"IFERROR($I7-$H7+1,\"\")","v":""},{"$f":"IFERROR(IF($J7=\"\",\"\",VLOOKUP(D7,$R$5:$U$33,4,0)),\"\")","v":""},{"$f":"IFERROR($J7*$K7,\"\")","v":""},{"$f":"IFERROR(IF($L7=\"\",\"\",VLOOKUP($A$3&\":\"&$A7,'Raw Data - Free time'!$A:$J,10,0)),\"\")","v":""},{"$f":"IFERROR(IF($O7=\"\",\"\",'Work Out'!$B$3),\"\")","v":""},{"$f":"IFERROR($L7*$M7,\"\")","v":""},{"$f":"IFERROR(IF($O7=\"\",\"\",\"P\"),\"\")","v":""},null,null,"Tariff free time",5,0]
[3,{"$f":"IFERROR(VLOOKUP($A$3&\":\"&$A8,'Raw Data - Free time'!$A:$J,2,0),\"\")","v":""},{"$f":"IFERROR(VLOOKUP($A$3&\":\"&$A8,'Raw Data - Free time'!$A:$J,3,0),\"\")","v":""},{"$f":"IFERROR(VLOOKUP($A$3&\":\"&$A8,'Raw Data - Free time'!$A:$J,5,0),\"\")","v":""},{"$f":"IFERROR(VLOOKUP($A$3&\":\"&$A8,'Raw Data - Free time'!$A:$J,8,0),\"\")","v":""},{"$f":"IFERROR(VLOOKUP($A$3&\":\"&$A8,'Raw Data - Free time'!$A:$J,9,0),\"\")","v":""},"","","","","","",{"$f":"IFERROR(IF($L8=\"\",\"\",VLOOKUP($A$3&\":\"&$A8,'Raw Data - Free time'!$A:$J,10,0)),\"\")","v":""},{"$f":"IFERROR(IF($O8=\"\",\"\",'Work Out'!$B$3),\"\")","v":""},"","",null,"20 Dry","Thereafter",null,54]
[4,{"$f":"IFERROR(VLOOKUP($A$3&\":\"&$A9,'Raw Data - Free time'!$A:$J,2,0),\"\")","v":""},{"$f":"IFERROR(VLOOKUP($A$3&\":\"&$A9,'Raw Data - Free time'!$A:$J,3,0),\"\")","v":""},{"$f":"IFERROR(VLOOKUP($A$3&\":\"&$A9,'Raw Data - Free time'!$A:$J,5,0),\"\")","v":""},{"$f":"IFERROR(VLOOKUP($A$3&\":\"&$A9,'Raw Data - Free time'!$A:$J,8,0),\"\")","v":""},{"$f":"IFERROR(VLOOKUP($A$3&\":\"&$A9,'Raw Data - Free time'!$A:$J,9,0),\"\")","v":""},"","","","","","",{"$f":"IFERROR(IF($L9=\"\",\"\",VLOOKUP($A$3&\":\"&$A9,'Raw Data - Free time'!$A:$J,10,0)),\"\")","v":""},{"$f":"IFERROR(IF($O9=\"\",\"\",'Work Out'!$B$3),\"\")","v":""},"",""]
[5,{"$f":"IFERROR(VLOOKUP($A$3&\":\"&$A10,'Raw Data - Free time'!$A:$J,2,0),\"\")","v":""},{"$f":"IFERROR(VLOOKUP($A$3&\":\"&$A10,'Raw Data - Free time'!$A:$J,3,0),\"\")","v":""},{"$f":"IFERROR(VLOOKUP($A$3&\":\"&$A10,'Raw Data - Free time'!$A:$J,5,0),\"\")","v":""},{"$f":"IFERROR(VLOOKUP($A$3&\":\"&$A10,'Raw Data - Free time'!$A:$J,8,0),\"\")","v":""},{"$f":"IFERROR(VLOOKUP($A$3&\":\"&$A10,'Raw Data - Free time'!$A:$J,9,0),\"\")","v":""},"","","","","","",{"$f":"IFERROR(IF($L10=\"\",\"\",VLOOKUP($A$3&\":\"&$A10,'Raw Data - Free time'!$A:$J,10,0)),\"\")","v":""},{"$f":"IFERROR(IF($O10=\"\",\"\",'Work Out'!$B$3),\"\")","v":""},"","",null,null,"Period","40 Dry"]
[6,{"$f":"IFERROR(VLOOKUP($A$3&\":\"&$A11,'Raw Data - Free time'!$A:$J,2,0),\"\")","v":""},{"$f":"IFERROR(VLOOKUP($A$3&\":\"&$A11,'Raw Data - Free time'!$A:$J,3,0),\"\")","v":""},{"$f":"IFERROR(VLOOKUP($A$3&\":\"&$A11,'Raw Data - Free time'!$A:$J,5,0),\"\")","v":""},{"$f":"IFERROR(VLOOKUP($A$3&\":\"&$A11,'Raw Data - Free time'!$A:$J,8,0),\"\")","v":""},{"$f":"IFERROR(VLOOKUP($A$3&\":\"&$A11,'Raw Data - Free time'!$A:$J,9,0),\"\")","v":""},"","","","","","",{"$f":"IFERROR(IF($L11=\"\",\"\",VLOOKUP($A$3&\":\"&$A11,'Raw Data - Free time'!$A:$J,10,0)),\"\")","v":""},{"$f":"IFERROR(IF($O11=\"\",\"\",'Work Out'!$B$3),\"\")","v":""},"","",null,null,null,"Calendar days","Rate per day in USD"]
[7,{"$f":"IFERROR(VLOOKUP($A$3&\":\"&$A12,'Raw Data - Free time'!$A:$J,2,0),\"\")","v":""},{"$f":"IFERROR(VLOOKUP($A$3&\":\"&$A12,'Raw Data - Free time'!$A:$J,3,0),\"\")","v":""},{"$f":"IFERROR(VLOOKUP($A$3&\":\"&$A12,'Raw Data - Free time'!$A:$J,5,0),\"\")","v":""},{"$f":"IFERROR(VLOOKUP($A$3&\":\"&$A12,'Raw Data - Free time'!$A:$J,8,0),\"\")","v":""},{"$f":"IFERROR(VLOOKUP($A$3&\":\"&$A12,'Raw Data - Free time'!$A:$J,9,0),\"\")","v":""},"","","","","","",{"$f":"IFERROR(IF($L12=\"\",\"\",VLOOKUP($A$3&\":\"&$A12,'Raw Data - Free time'!$A:$J,10,0)),\"\")","v":""},{"$f":"IFERROR(IF($O12=\"\",\"\",'Work Out'!$B$3),\"\")","v":""},"","",null,null,"Tariff free time",5,0]
[8,{"$f":"IFERROR(VLOOKUP($A$3&\":\"&$A13,'Raw Data - Free time'!$A:$J,2,0),\"\")","v":""},{"$f":"IFERROR(VLOOKUP($A$3&\":\"&$A13,'Raw Data - Free time'!$A:$J,3,0),\"\")","v":""},{"$f":"IFERROR(VLOOKUP($A$3&\":\"&$A13,'Raw Data - Free time'!$A:$J,5,0),\"\")","v":""},{"$f":"IFERROR(VLOOKUP($A$3&\":\"&$A13,'Raw Data - Free time'!$A:$J,8,0),\"\")","v":""},{"$f":"IFERROR(VLOOKUP($A$3&\":\"&$A13,'Raw Data - Free time'!$A:$J,9,0),\"\")","v":""},"","","","","","",{"$f":"IFERROR(IF($L13=\"\",\"\",VLOOKUP($A$3&\":\"&$A13,'Raw Data - Free time'!$A:$J,10,0)),\"\")","v":""},{"$f":"IFERROR(IF($O13=\"\",\"\",'Work Out'!$B$3),\"\")","v":""},"","",null,"40 Dry","Thereafter",null,108]
[9,{"$f":"IFERROR(VLOOKUP($A$3&\":\"&$A14,'Raw Data - Free time'!$A:$J,2,0),\"\")","v":""},{"$f":"IFERROR(VLOOKUP($A$3&\":\"&$A14,'Raw Data - Free time'!$A:$J,3,0),\"\")","v":""},{"$f":"IFERROR(VLOOKUP($A$3&\":\"&$A14,'Raw Data - Free time'!$A:$J,5,0),\"\")","v":""},{"$f":"IFERROR(VLOOKUP($A$3&\":\"&$A14,'Raw Data - Free time'!$A:$J,8,0),\"\")","v":""},{"$f":"IFERROR(VLOOKUP($A$3&\":\"&$A14,'Raw Data - Free time'!$A:$J,9,0),\"\")","v":""},"","","","","","",{"$f":"IFERROR(IF($L14=\"\",\"\",VLOOKUP($A$3&\":\"&$A14,'Raw Data - Free time'!$A:$J,10,0)),\"\")","v":""},{"$f":"IFERROR(IF($O14=\"\",\"\",'Work Out'!$B$3),\"\")","v":""},"",""]
[10,{"$f":"IFERROR(VLOOKUP($A$3&\":\"&$A15,'Raw Data - Free time'!$A:$J,2,0),\"\")","v":""},{"$f":"IFERROR(VLOOKUP($A$3&\":\"&$A15,'Raw Data - Free time'!$A:$J,3,0),\"\")","v":""},{"$f":"IFERROR(VLOOKUP($A$3&\":\"&$A15,'Raw Data - Free time'!$A:$J,5,0),\"\")","v":""},{"$f":"IFERROR(VLOOKUP($A$3&\":\"&$A15,'Raw Data - Free time'!$A:$J,8,0),\"\")","v":""},{"$f":"IFERROR(VLOOKUP($A$3&\":\"&$A15,'Raw Data - Free time'!$A:$J,9,0),\"\")","v":""},"","","","","","",{"$f":"IFERROR(IF($L15=\"\",\"\",VLOOKUP($A$3&\":\"&$A15,'Raw Data - Free time'!$A:$J,10,0)),\"\")","v":""},{"$f":"IFERROR(IF($O15=\"\",\"\",'Work Out'!$B$3),\"\")","v":""},"","",null,null,"Period","20 Reefer"]
[11,{"$f":"IFERROR(VLOOKUP($A$3&\":\"&$A16,'Raw Data - Free time'!$A:$J,2,0),\"\")","v":""},{"$f":"IFERROR(VLOOKUP($A$3&\":\"&$A16,'Raw Data - Free time'!$A:$J,3,0),\"\")","v":""},{"$f":"IFERROR(VLOOKUP($A$3&\":\"&$A16,'Raw Data - Free time'!$A:$J,5,0),\"\")","v":""},{"$f":"IFERROR(VLOOKUP($A$3&\":\"&$A16,'Raw Data - Free time'!$A:$J,8,0),\"\")","v":""},{"$f":"IFERROR(VLOOKUP($A$3&\":\"&$A16,'Raw Data - Free time'!$A:$J,9,0),\"\")","v":""},"","","","","","",{"$f":"IFERROR(IF($L16=\"\",\"\",VLOOKUP($A$3&\":\"&$A16,'Raw Data - Free time'!$A:$J,10,0)),\"\")","v":""},{"$f":"IFERROR(IF($O16=\"\",\"\",'Work Out'!$B$3),\"\")","v":""},"","",null,null,null,"Calendar days","Rate per day in USD"]
[12,{"$f":"IFERROR(VLOOKUP($A$3&\":\"&$A17,'Raw Data - Free time'!$A:$J,2,0),\"\")","v":""},{"$f":"IFERROR(VLOOKUP($A$3&\":\"&$A17,'Raw Data - Free time'!$A:$J,3,0),\"\")","v":""},{"$f":"IFERROR(VLOOKUP($A$3&\":\"&$A17,'Raw Data - Free time'!$A:$J,5,0),\"\")","v":""},{"$f":"IFERROR(VLOOKUP($A$3&\":\"&$A17,'Raw Data - Free time'!$A:$J,8,0),\"\")","v":""},{"$f":"IFERROR(VLOOKUP($A$3&\":\"&$A17,'Raw Data - Free time'!$A:$J,9,0),\"\")","v":""},"","","","","","",{"$f":"IFERROR(IF($L17=\"\",\"\",VLOOKUP($A$3&\":\"&$A17,'Raw Data - Free time'!$A:$J,10,0)),\"\")","v":""},{"$f":"IFERROR(IF($O17=\"\",\"\",'Work Out'!$B$3),\"\")","v":""},"","",null,null,"Tariff free time",3,0]
[13,{"$f":"IFERROR(VLOOKUP($A$3&\":\"&$A18,'Raw Data - Free time'!$A:$J,2,0),\"\")","v":""},{"$f":"IFERROR(VLOOKUP($A$3&\":\"&$A18,'Raw Data - Free time'!$A:$J,3,0),\"\")","v":""},{"$f":"IFERROR(VLOOKUP($A$3&\":\"&$A18,'Raw Data - Free time'!$A:$J,5,0),\"\")","v":""},{"$f":"IFERROR(VLOOKUP($A$3&\":\"&$A18,'Raw Data - Free time'!$A:$J,8,0),\"\")","v":""},{"$f":"IFERROR(VLOOKUP($A$3&\":\"&$A18,'Raw Data - Free time'!$A:$J,9,0),\"\")","v":""},"","","","","","",{"$f":"IFERROR(IF($L18=\"\",\"\",VLOOKUP($A$3&\":\"&$A18,'Raw Data - Free time'!$A:$J,10,0)),\"\")","v":""},{"$f":"IFERROR(IF($O18=\"\",\"\",'Work Out'!$B$3),\"\")","v":""},"","",null,"20 Reefer","Thereafter",null,100]
[14,{"$f":"IFERROR(VLOOKUP($A$3&\":\"&$A19,'Raw Data - Free time'!$A:$J,2,0),\"\")","v":""},{"$f":"IFERROR(VLOOKUP($A$3&\":\"&$A19,'Raw Data - Free time'!$A:$J,3,0),\"\")","v":""},{"$f":"IFERROR(VLOOKUP($A$3&\":\"&$A19,'Raw Data - Free time'!$A:$J,5,0),\"\")","v":""},{"$f":"IFERROR(VLOOKUP($A$3&\":\"&$A19,'Raw Data - Free time'!$A:$J,8,0),\"\")","v":""},{"$f":"IFERROR(VLOOKUP($A$3&\":\"&$A19,'Raw Data - Free time'!$A:$J,9,0),\"\")","v":""},"","","","","","",{"$f":"IFERROR(IF($L19=\"\",\"\",VLOOKUP($A$3&\":\"&$A19,'Raw Data - Free time'!$A:$J,10,0)),\"\")","v":""},{"$f":"IFERROR(IF($O19=\"\",\"\",'Work Out'!$B$3),\"\")","v":""},"",""]
[15,{"$f":"IFERROR(VLOOKUP($A$3&\":\"&$A20,'Raw Data - Free time'!$A:$J,2,0),\"\")","v":""},{"$f":"IFERROR(VLOOKUP($A$3&\":\"&$A20,'Raw Data - Free time'!$A:$J,3,0),\"\")","v":""},{"$f":"IFERROR(VLOOKUP($A$3&\":\"&$A20,'Raw Data - Free time'!$A:$J,5,0),\"\")","v":""},{"$f":"IFERROR(VLOOKUP($A$3&\":\"&$A20,'Raw Data - Free time'!$A:$J,8,0),\"\")","v":""},{"$f":"IFERROR(VLOOKUP($A$3&\":\"&$A20,'Raw Data - Free time'!$A:$J,9,0),\"\")","v":""},"","","","","","",{"$f":"IFERROR(IF($L20=\"\",\"\",VLOOKUP($A$3&\":\"&$A20,'Raw Data - Free time'!$A:$J,10,0)),\"\")","v":""},{"$f":"IFERROR(IF($O20=\"\",\"\",'Work Out'!$B$3),\"\")","v":""},"","",null,null,"Period","40 Reefer"]
[16,{"$f":"IFERROR(VLOOKUP($A$3&\":\"&$A21,'Raw Data - Free time'!$A:$J,2,0),\"\")","v":""},{"$f":"IFERROR(VLOOKUP($A$3&\":\"&$A21,'Raw Data - Free time'!$A:$J,3,0),\"\")","v":""},{"$f":"IFERROR(VLOOKUP($A$3&\":\"&$A21,'Raw Data - Free time'!$A:$J,5,0),\"\")","v":""},{"$f":"IFERROR(VLOOKUP($A$3&\":\"&$A21,'Raw Data - Free time'!$A:$J,8,0),\"\")","v":""},{"$f":"IFERROR(VLOOKUP($A$3&\":\"&$A21,'Raw Data - Free time'!$A:$J,9,0),\"\")","v":""},"","","","","","",{"$f":"IFERROR(IF($L21=\"\",\"\",VLOOKUP($A$3&\":\"&$A21,'Raw Data - Free time'!$A:$J,10,0)),\"\")","v":""},{"$f":"IFERROR(IF($O21=\"\",\"\",'Work Out'!$B$3),\"\")","v":""},"","",null,null,null,"Calendar days","Rate per day in USD"]
[17,{"$f":"IFERROR(VLOOKUP($A$3&\":\"&$A22,'Raw Data - Free time'!$A:$J,2,0),\"\")","v":""},{"$f":"IFERROR(VLOOKUP($A$3&\":\"&$A22,'Raw Data - Free time'!$A:$J,3,0),\"\")","v":""},{"$f":"IFERROR(VLOOKUP($A$3&\":\"&$A22,'Raw Data - Free time'!$A:$J,5,0),\"\")","v":""},{"$f":"IFERROR(VLOOKUP($A$3&\":\"&$A22,'Raw Data - Free time'!$A:$J,8,0),\"\")","v":""},{"$f":"IFERROR(VLOOKUP($A$3&\":\"&$A22,'Raw Data - Free time'!$A:$J,9,0),\"\")","v":""},"","","","","","",{"$f":"IFERROR(IF($L22=\"\",\"\",VLOOKUP($A$3&\":\"&$A22,'Raw Data - Free time'!$A:$J,10,0)),\"\")","v":""},{"$f":"IFERROR(IF($O22=\"\",\"\",'Work Out'!$B$3),\"\")","v":""},"","",null,null,"Tariff free time",3,0]
[18,{"$f":"IFERROR(VLOOKUP($A$3&\":\"&$A23,'Raw Data - Free time'!$A:$J,2,0),\"\")","v":""},{"$f":"IFERROR(VLOOKUP($A$3&\":\"&$A23,'Raw Data - Free time'!$A:$J,3,0),\"\")","v":""},{"$f":"IFERROR(VLOOKUP($A$3&\":\"&$A23,'Raw Data - Free time'!$A:$J,5,0),\"\")","v":""},{"$f":"IFERROR(VLOOKUP($A$3&\":\"&$A23,'Raw Data - Free time'!$A:$J,8,0),\"\")","v":""},{"$f":"IFERROR(VLOOKUP($A$3&\":\"&$A23,'Raw Data - Free time'!$A:$J,9,0),\"\")","v":""},"","","","","","",{"$f":"IFERROR(IF($L23=\"\",\"\",VLOOKUP($A$3&\":\"&$A23,'Raw Data - Free time'!$A:$J,10,0)),\"\")","v":""},{"$f":"IFERROR(IF($O23=\"\",\"\",'Work Out'!$B$3),\"\")","v":""},"","",null,"40 Reefer","Thereafter",null,150]
[19,{"$f":"IFERROR(VLOOKUP($A$3&\":\"&$A24,'Raw Data - Free time'!$A:$J,2,0),\"\")","v":""},{"$f":"IFERROR(VLOOKUP($A$3&\":\"&$A24,'Raw Data - Free time'!$A:$J,3,0),\"\")","v":""},{"$f":"IFERROR(VLOOKUP($A$3&\":\"&$A24,'Raw Data - Free time'!$A:$J,5,0),\"\")","v":""},{"$f":"IFERROR(VLOOKUP($A$3&\":\"&$A24,'Raw Data - Free time'!$A:$J,8,0),\"\")","v":""},{"$f":"IFERROR(VLOOKUP($A$3&\":\"&$A24,'Raw Data - Free time'!$A:$J,9,0),\"\")","v":""},"","","","","","",{"$f":"IFERROR(IF($L24=\"\",\"\",VLOOKUP($A$3&\":\"&$A24,'Raw Data - Free time'!$A:$J,10,0)),\"\")","v":""},{"$f":"IFERROR(IF($O24=\"\",\"\",'Work Out'!$B$3),\"\")","v":""},"",""]
[20,{"$f":"IFERROR(VLOOKUP($A$3&\":\"&$A25,'Raw Data - Free time'!$A:$J,2,0),\"\")","v":""},{"$f":"IFERROR(VLOOKUP($A$3&\":\"&$A25,'Raw Data - Free time'!$A:$J,3,0),\"\")","v":""},{"$f":"IFERROR(VLOOKUP($A$3&\":\"&$A25,'Raw Data - Free time'!$A:$J,5,0),\"\")","v":""},{"$f":"IFERROR(VLOOKUP($A$3&\":\"&$A25,'Raw Data - Free time'!$A:$J,8,0),\"\")","v":""},{"$f":"IFERROR(VLOOKUP($A$3&\":\"&$A25,'Raw Data - Free time'!$A:$J,9,0),\"\")","v":""},"","","","","","",{"$f":"IFERROR(IF($L25=\"\",\"\",VLOOKUP($A$3&\":\"&$A25,'Raw Data - Free time'!$A:$J,10,0)),\"\")","v":""},{"$f":"IFERROR(IF($O25=\"\",\"\",'Work Out'!$B$3),\"\")","v":""},"","",null,null,"Period","20 Special"]
[21,{"$f":"IFERROR(VLOOKUP($A$3&\":\"&$A26,'Raw Data - Free time'!$A:$J,2,0),\"\")","v":""},{"$f":"IFERROR(VLOOKUP($A$3&\":\"&$A26,'Raw Data - Free time'!$A:$J,3,0),\"\")","v":""},{"$f":"IFERROR(VLOOKUP($A$3&\":\"&$A26,'Raw Data - Free time'!$A:$J,5,0),\"\")","v":""},{"$f":"IFERROR(VLOOKUP($A$3&\":\"&$A26,'Raw Data - Free time'!$A:$J,8,0),\"\")","v":""},{"$f":"IFERROR(VLOOKUP($A$3&\":\"&$A26,'Raw Data - Free time'!$A:$J,9,0),\"\")","v":""},"","","","","","",{"$f":"IFERROR(IF($L26=\"\",\"\",VLOOKUP($A$3&\":\"&$A26,'Raw Data - Free time'!$A:$J,10,0)),\"\")","v":""},{"$f":"IFERROR(IF($O26=\"\",\"\",'Work Out'!$B$3),\"\")","v":""},"","",null,null,null,"Calendar days","Rate per day in USD"]
[22,{"$f":"IFERROR(VLOOKUP($A$3&\":\"&$A27,'Raw Data - Free time'!$A:$J,2,0),\"\")","v":""},{"$f":"IFERROR(VLOOKUP($A$3&\":\"&$A27,'Raw Data - Free time'!$A:$J,3,0),\"\")","v":""},{"$f":"IFERROR(VLOOKUP($A$3&\":\"&$A27,'Raw Data - Free time'!$A:$J,5,0),\"\")","v":""},{"$f":"IFERROR(VLOOKUP($A$3&\":\"&$A27,'Raw Data - Free time'!$A:$J,8,0),\"\")","v":""},{"$f":"IFERROR(VLOOKUP($A$3&\":\"&$A27,'Raw Data - Free time'!$A:$J,9,0),\"\")","v":""},"","","","","","",{"$f":"IFERROR(IF($L27=\"\",\"\",VLOOKUP($A$3&\":\"&$A27,'Raw Data - Free time'!$A:$J,10,0)),\"\")","v":""},{"$f":"IFERROR(IF($O27=\"\",\"\",'Work Out'!$B$3),\"\")","v":""},"","",null,null,"Tariff free time",5,0]
[23,{"$f":"IFERROR(VLOOKUP($A$3&\":\"&$A28,'Raw Data - Free time'!$A:$J,2,0),\"\")","v":""},{"$f":"IFERROR(VLOOKUP($A$3&\":\"&$A28,'Raw Data - Free time'!$A:$J,3,0),\"\")","v":""},{"$f":"IFERROR(VLOOKUP($A$3&\":\"&$A28,'Raw Data - Free time'!$A:$J,5,0),\"\")","v":""},{"$f":"IFERROR(VLOOKUP($A$3&\":\"&$A28,'Raw Data - Free time'!$A:$J,8,0),\"\")","v":""},{"$f":"IFERROR(VLOOKUP($A$3&\":\"&$A28,'Raw Data - Free time'!$A:$J,9,0),\"\")","v":""},"","","","","","",{"$f":"IFERROR(IF($L28=\"\",\"\",VLOOKUP($A$3&\":\"&$A28,'Raw Data - Free time'!$A:$J,10,0)),\"\")","v":""},{"$f":"IFERROR(IF($O28=\"\",\"\",'Work Out'!$B$3),\"\")","v":""},"","",null,"20 Special","Thereafter",null,120]
[24,{"$f":"IFERROR(VLOOKUP($A$3&\":\"&$A29,'Raw Data - Free time'!$A:$J,2,0),\"\")","v":""},{"$f":"IFERROR(VLOOKUP($A$3&\":\"&$A29,'Raw Data - Free time'!$A:$J,3,0),\"\")","v":""},{"$f":"IFERROR(VLOOKUP($A$3&\":\"&$A29,'Raw Data - Free time'!$A:$J,5,0),\"\")","v":""},{"$f":"IFERROR(VLOOKUP($A$3&\":\"&$A29,'Raw Data - Free time'!$A:$J,8,0),\"\")","v":""},{"$f":"IFERROR(VLOOKUP($A$3&\":\"&$A29,'Raw Data - Free time'!$A:$J,9,0),\"\")","v":""},"","","","","","",{"$f":"IFERROR(IF($L29=\"\",\"\",VLOOKUP($A$3&\":\"&$A29,'Raw Data - Free time'!$A:$J,10,0)),\"\")","v":""},{"$f":"IFERROR(IF($O29=\"\",\"\",'Work Out'!$B$3),\"\")","v":""},"",""]
[25,{"$f":"IFERROR(VLOOKUP($A$3&\":\"&$A30,'Raw Data - Free time'!$A:$J,2,0),\"\")","v":""},{"$f":"IFERROR(VLOOKUP($A$3&\":\"&$A30,'Raw Data - Free time'!$A:$J,3,0),\"\")","v":""},{"$f":"IFERROR(VLOOKUP($A$3&\":\"&$A30,'Raw Data - Free time'!$A:$J,5,0),\"\")","v":""},{"$f":"IFERROR(VLOOKUP($A$3&\":\"&$A30,'Raw Data - Free time'!$A:$J,8,0),\"\")","v":""},{"$f":"IFERROR(VLOOKUP($A$3&\":\"&$A30,'Raw Data - Free time'!$A:$J,9,0),\"\")","v":""},"","","","","","",{"$f":"IFERROR(IF($L30=\"\",\"\",VLOOKUP($A$3&\":\"&$A30,'Raw Data - Free time'!$A:$J,10,0)),\"\")","v":""},{"$f":"IFERROR(IF($O30=\"\",\"\",'Work Out'!$B$3),\"\")","v":""},"","",null,null,"Period","40 Special"]
[26,{"$f":"IFERROR(VLOOKUP($A$3&\":\"&$A31,'Raw Data - Free time'!$A:$J,2,0),\"\")","v":""},{"$f":"IFERROR(VLOOKUP($A$3&\":\"&$A31,'Raw Data - Free time'!$A:$J,3,0),\"\")","v":""},{"$f":"IFERROR(VLOOKUP($A$3&\":\"&$A31,'Raw Data - Free time'!$A:$J,5,0),\"\")","v":""},{"$f":"IFERROR(VLOOKUP($A$3&\":\"&$A31,'Raw Data - Free time'!$A:$J,8,0),\"\")","v":""},{"$f":"IFERROR(VLOOKUP($A$3&\":\"&$A31,'Raw Data - Free time'!$A:$J,9,0),\"\")","v":""},"","","","","","",{"$f":"IFERROR(IF($L31=\"\",\"\",VLOOKUP($A$3&\":\"&$A31,'Raw Data - Free time'!$A:$J,10,0)),\"\")","v":""},{"$f":"IFERROR(IF($O31=\"\",\"\",'Work Out'!$B$3),\"\")","v":""},"","",null,null,null,"Calendar days","Rate per day in USD"]
[27,{"$f":"IFERROR(VLOOKUP($A$3&\":\"&$A32,'Raw Data - Free time'!$A:$J,2,0),\"\")","v":""},{"$f":"IFERROR(VLOOKUP($A$3&\":\"&$A32,'Raw Data - Free time'!$A:$J,3,0),\"\")","v":""},{"$f":"IFERROR(VLOOKUP($A$3&\":\"&$A32,'Raw Data - Free time'!$A:$J,5,0),\"\")","v":""},{"$f":"IFERROR(VLOOKUP($A$3&\":\"&$A32,'Raw Data - Free time'!$A:$J,8,0),\"\")","v":""},{"$f":"IFERROR(VLOOKUP($A$3&\":\"&$A32,'Raw Data - Free time'!$A:$J,9,0),\"\")","v":""},"","","","","","",{"$f":"IFERROR(IF($L32=\"\",\"\",VLOOKUP($A$3&\":\"&$A32,'Raw Data - Free time'!$A:$J,10,0)),\"\")","v":""},{"$f":"IFERROR(IF($O32=\"\",\"\",'Work Out'!$B$3),\"\")","v":""},"","",null,null,"Tariff free time",5,0]
[28,{"$f":"IFERROR(VLOOKUP($A$3&\":\"&$A33,'Raw Data - Free time'!$A:$J,2,0),\"\")","v":""},{"$f":"IFERROR(VLOOKUP($A$3&\":\"&$A33,'Raw Data - Free time'!$A:$J,3,0),\"\")","v":""},{"$f":"IFERROR(VLOOKUP($A$3&\":\"&$A33,'Raw Data - Free time'!$A:$J,5,0),\"\")","v":""},{"$f":"IFERROR(VLOOKUP($A$3&\":\"&$A33,'Raw Data - Free time'!$A:$J,8,0),\"\")","v":""},{"$f":"IFERROR(VLOOKUP($A$3&\":\"&$A33,'Raw Data - Free time'!$A:$J,9,0),\"\")","v":""},"","","","","","",{"$f":"IFERROR(IF($L33=\"\",\"\",VLOOKUP($A$3&\":\"&$A33,'Raw Data - Free time'!$A:$J,10,0)),\"\")","v":""},{"$f":"IFERROR(IF($O33=\"\",\"\",'Work Out'!$B$3),\"\")","v":""},"","",null,"40 Special","Thereafter",null,150]
[29,{"$f":"IFERROR(VLOOKUP($A$3&\":\"&$A34,'Raw Data - Free time'!$A:$J,2,0),\"\")","v":""},{"$f":"IFERROR(VLOOKUP($A$3&\":\"&$A34,'Raw Data - Free time'!$A:$J,3,0),\"\")","v":""},{"$f":"IFERROR(VLOOKUP($A$3&\":\"&$A34,'Raw Data - Free time'!$A:$J,5,0),\"\")","v":""},{"$f":"IFERROR(VLOOKUP($A$3&\":\"&$A34,'Raw Data - Free time'!$A:$J,8,0),\"\")","v":""},{"$f":"IFERROR(VLOOKUP($A$3&\":\"&$A34,'Raw Data - Free time'!$A:$J,9,0),\"\")","v":""},"","","","","","",{"$f":"IFERROR(IF($L34=\"\",\"\",VLOOKUP($A$3&\":\"&$A34,'Raw Data - Free time'!$A:$J,10,0)),\"\")","v":""},{"$f":"IFERROR(IF($O34=\"\",\"\",'Work Out'!$B$3),\"\")","v":""},"",""]
[30,{"$f":"IFERROR(VLOOKUP($A$3&\":\"&$A35,'Raw Data - Free time'!$A:$J,2,0),\"\")","v":""},{"$f":"IFERROR(VLOOKUP($A$3&\":\"&$A35,'Raw Data - Free time'!$A:$J,3,0),\"\")","v":""},{"$f":"IFERROR(VLOOKUP($A$3&\":\"&$A35,'Raw Data - Free time'!$A:$J,5,0),\"\")","v":""},{"$f":"IFERROR(VLOOKUP($A$3&\":\"&$A35,'Raw Data - Free time'!$A:$J,8,0),\"\")","v":""},{"$f":"IFERROR(VLOOKUP($A$3&\":\"&$A35,'Raw Data - Free time'!$A:$J,9,0),\"\")","v":""},"","","","","","",{"$f":"IFERROR(IF($L35=\"\",\"\",VLOOKUP($A$3&\":\"&$A35,'Raw Data - Free time'!$A:$J,10,0)),\"\")","v":""},{"$f":"IFERROR(IF($O35=\"\",\"\",'Work Out'!$B$3),\"\")","v":""},"",""]
[31,{"$f":"IFERROR(VLOOKUP($A$3&\":\"&$A36,'Raw Data - Free time'!$A:$J,2,0),\"\")","v":""},{"$f":"IFERROR(VLOOKUP($A$3&\":\"&$A36,'Raw Data - Free time'!$A:$J,3,0),\"\")","v":""},{"$f":"IFERROR(VLOOKUP($A$3&\":\"&$A36,'Raw Data - Free time'!$A:$J,5,0),\"\")","v":""},{"$f":"IFERROR(VLOOKUP($A$3&\":\"&$A36,'Raw Data - Free time'!$A:$J,8,0),\"\")","v":""},{"$f":"IFERROR(VLOOKUP($A$3&\":\"&$A36,'Raw Data - Free time'!$A:$J,9,0),\"\")","v":""},"","","","","","",{"$f":"IFERROR(IF($L36=\"\",\"\",VLOOKUP($A$3&\":\"&$A36,'Raw Data - Free time'!$A:$J,10,0)),\"\")","v":""},{"$f":"IFERROR(IF($O36=\"\",\"\",'Work Out'!$B$3),\"\")","v":""},"",""]
[32,{"$f":"IFERROR(VLOOKUP($A$3&\":\"&$A37,'Raw Data - Free time'!$A:$J,2,0),\"\")","v":""},{"$f":"IFERROR(VLOOKUP($A$3&\":\"&$A37,'Raw Data - Free time'!$A:$J,3,0),\"\")","v":""},{"$f":"IFERROR(VLOOKUP($A$3&\":\"&$A37,'Raw Data - Free time'!$A:$J,5,0),\"\")","v":""},{"$f":"IFERROR(VLOOKUP($A$3&\":\"&$A37,'Raw Data - Free time'!$A:$J,8,0),\"\")","v":""},{"$f":"IFERROR(VLOOKUP($A$3&\":\"&$A37,'Raw Data - Free time'!$A:$J,9,0),\"\")","v":""},"","","","","","",{"$f":"IFERROR(IF($L37=\"\",\"\",VLOOKUP($A$3&\":\"&$A37,'Raw Data - Free time'!$A:$J,10,0)),\"\")","v":""},{"$f":"IFERROR(IF($O37=\"\",\"\",'Work Out'!$B$3),\"\")","v":""},"",""]
[33,{"$f":"IFERROR(VLOOKUP($A$3&\":\"&$A38,'Raw Data - Free time'!$A:$J,2,0),\"\")","v":""},{"$f":"IFERROR(VLOOKUP($A$3&\":\"&$A38,'Raw Data - Free time'!$A:$J,3,0),\"\")","v":""},{"$f":"IFERROR(VLOOKUP($A$3&\":\"&$A38,'Raw Data - Free time'!$A:$J,5,0),\"\")","v":""},{"$f":"IFERROR(VLOOKUP($A$3&\":\"&$A38,'Raw Data - Free time'!$A:$J,8,0),\"\")","v":""},{"$f":"IFERROR(VLOOKUP($A$3&\":\"&$A38,'Raw Data - Free time'!$A:$J,9,0),\"\")","v":""},"","","","","","",{"$f":"IFERROR(IF($L38=\"\",\"\",VLOOKUP($A$3&\":\"&$A38,'Raw Data - Free time'!$A:$J,10,0)),\"\")","v":""},{"$f":"IFERROR(IF($O38=\"\",\"\",'Work Out'!$B$3),\"\")","v":""},"",""]
[34,{"$f":"IFERROR(VLOOKUP($A$3&\":\"&$A39,'Raw Data - Free time'!$A:$J,2,0),\"\")","v":""},{"$f":"IFERROR(VLOOKUP($A$3&\":\"&$A39,'Raw Data - Free time'!$A:$J,3,0),\"\")","v":""},{"$f":"IFERROR(VLOOKUP($A$3&\":\"&$A39,'Raw Data - Free time'!$A:$J,5,0),\"\")","v":""},{"$f":"IFERROR(VLOOKUP($A$3&\":\"&$A39,'Raw Data - Free time'!$A:$J,8,0),\"\")","v":""},{"$f":"IFERROR(VLOOKUP($A$3&\":\"&$A39,'Raw Data - Free time'!$A:$J,9,0),\"\")","v":""},"","","","","","",{"$f":"IFERROR(IF($L39=\"\",\"\",VLOOKUP($A$3&\":\"&$A39,'Raw Data - Free time'!$A:$J,10,0)),\"\")","v":""},{"$f":"IFERROR(IF($O39=\"\",\"\",'Work Out'!$B$3),\"\")","v":""},"",""]
[35,{"$f":"IFERROR(VLOOKUP($A$3&\":\"&$A40,'Raw Data - Free time'!$A:$J,2,0),\"\")","v":""},{"$f":"IFERROR(VLOOKUP($A$3&\":\"&$A40,'Raw Data - Free time'!$A:$J,3,0),\"\")","v":""},{"$f":"IFERROR(VLOOKUP($A$3&\":\"&$A40,'Raw Data - Free time'!$A:$J,5,0),\"\")","v":""},{"$f":"IFERROR(VLOOKUP($A$3&\":\"&$A40,'Raw Data - Free time'!$A:$J,8,0),\"\")","v":""},{"$f":"IFERROR(VLOOKUP($A$3&\":\"&$A40,'Raw Data - Free time'!$A:$J,9,0),\"\")","v":""},"","","","","","",{"$f":"IFERROR(IF($L40=\"\",\"\",VLOOKUP($A$3&\":\"&$A40,'Raw Data - Free time'!$A:$J,10,0)),\"\")","v":""},{"$f":"IFERROR(IF($O40=\"\",\"\",'Work Out'!$B$3),\"\")","v":""},"",""]
[36,{"$f":"IFERROR(VLOOKUP($A$3&\":\"&$A41,'Raw Data - Free time'!$A:$J,2,0),\"\")","v":""},{"$f":"IFERROR(VLOOKUP($A$3&\":\"&$A41,'Raw Data - Free time'!$A:$J,3,0),\"\")","v":""},{"$f":"IFERROR(VLOOKUP($A$3&\":\"&$A41,'Raw Data - Free time'!$A:$J,5,0),\"\")","v":""},{"$f":"IFERROR(VLOOKUP($A$3&\":\"&$A41,'Raw Data - Free time'!$A:$J,8,0),\"\")","v":""},{"$f":"IFERROR(VLOOKUP($A$3&\":\"&$A41,'Raw Data - Free time'!$A:$J,9,0),\"\")","v":""},"","","","","","",{"$f":"IFERROR(IF($L41=\"\",\"\",VLOOKUP($A$3&\":\"&$A41,'Raw Data - Free time'!$A:$J,10,0)),\"\")","v":""},{"$f":"IFERROR(IF($O41=\"\",\"\",'Work Out'!$B$3),\"\")","v":""},"",""]
[37,{"$f":"IFERROR(VLOOKUP($A$3&\":\"&$A42,'Raw Data - Free time'!$A:$J,2,0),\"\")","v":""},{"$f":"IFERROR(VLOOKUP($A$3&\":\"&$A42,'Raw Data - Free time'!$A:$J,3,0),\"\")","v":""},{"$f":"IFERROR(VLOOKUP($A$3&\":\"&$A42,'Raw Data - Free time'!$A:$J,5,0),\"\")","v":""},{"$f":"IFERROR(VLOOKUP($A$3&\":\"&$A42,'Raw Data - Free time'!$A:$J,8,0),\"\")","v":""},{"$f":"IFERROR(VLOOKUP($A$3&\":\"&$A42,'Raw Data - Free time'!$A:$J,9,0),\"\")","v":""},"","","","","","",{"$f":"IFERROR(IF($L42=\"\",\"\",VLOOKUP($A$3&\":\"&$A42,'Raw Data - Free time'!$A:$J,10,0)),\"\")","v":""},{"$f":"IFERROR(IF($O42=\"\",\"\",'Work Out'!$B$3),\"\")","v":""},"",""]
[38,{"$f":"IFERROR(VLOOKUP($A$3&\":\"&$A43,'Raw Data - Free time'!$A:$J,2,0),\"\")","v":""},{"$f":"IFERROR(VLOOKUP($A$3&\":\"&$A43,'Raw Data - Free time'!$A:$J,3,0),\"\")","v":""},{"$f":"IFERROR(VLOOKUP($A$3&\":\"&$A43,'Raw Data - Free time'!$A:$J,5,0),\"\")","v":""},{"$f":"IFERROR(VLOOKUP($A$3&\":\"&$A43,'Raw Data - Free time'!$A:$J,8,0),\"\")","v":""},{"$f":"IFERROR(VLOOKUP($A$3&\":\"&$A43,'Raw Data - Free time'!$A:$J,9,0),\"\")","v":""},"","","","","","",{"$f":"IFERROR(IF($L43=\"\",\"\",VLOOKUP($A$3&\":\"&$A43,'Raw Data - Free time'!$A:$J,10,0)),\"\")","v":""},{"$f":"IFERROR(IF($O43=\"\",\"\",'Work Out'!$B$3),\"\")","v":""},"",""]
[39,{"$f":"IFERROR(VLOOKUP($A$3&\":\"&$A44,'Raw Data - Free time'!$A:$J,2,0),\"\")","v":""},{"$f":"IFERROR(VLOOKUP($A$3&\":\"&$A44,'Raw Data - Free time'!$A:$J,3,0),\"\")","v":""},{"$f":"IFERROR(VLOOKUP($A$3&\":\"&$A44,'Raw Data - Free time'!$A:$J,5,0),\"\")","v":""},{"$f":"IFERROR(VLOOKUP($A$3&\":\"&$A44,'Raw Data - Free time'!$A:$J,8,0),\"\")","v":""},{"$f":"IFERROR(VLOOKUP($A$3&\":\"&$A44,'Raw Data - Free time'!$A:$J,9,0),\"\")","v":""},"","","","","","",{"$f":"IFERROR(IF($L44=\"\",\"\",VLOOKUP($A$3&\":\"&$A44,'Raw Data - Free time'!$A:$J,10,0)),\"\")","v":""},{"$f":"IFERROR(IF($O44=\"\",\"\",'Work Out'!$B$3),\"\")","v":""},"",""]
[40,{"$f":"IFERROR(VLOOKUP($A$3&\":\"&$A45,'Raw Data - Free time'!$A:$J,2,0),\"\")","v":""},{"$f":"IFERROR(VLOOKUP($A$3&\":\"&$A45,'Raw Data - Free time'!$A:$J,3,0),\"\")","v":""},{"$f":"IFERROR(VLOOKUP($A$3&\":\"&$A45,'Raw Data - Free time'!$A:$J,5,0),\"\")","v":""},{"$f":"IFERROR(VLOOKUP($A$3&\":\"&$A45,'Raw Data - Free time'!$A:$J,8,0),\"\")","v":""},{"$f":"IFERROR(VLOOKUP($A$3&\":\"&$A45,'Raw Data - Free time'!$A:$J,9,0),\"\")","v":""},"","","","","","",{"$f":"IFERROR(IF($L45=\"\",\"\",VLOOKUP($A$3&\":\"&$A45,'Raw Data - Free time'!$A:$J,10,0)),\"\")","v":""},{"$f":"IFERROR(IF($O45=\"\",\"\",'Work Out'!$B$3),\"\")","v":""},"",""]
[41,{"$f":"IFERROR(VLOOKUP($A$3&\":\"&$A46,'Raw Data - Free time'!$A:$J,2,0),\"\")","v":""},{"$f":"IFERROR(VLOOKUP($A$3&\":\"&$A46,'Raw Data - Free time'!$A:$J,3,0),\"\")","v":""},{"$f":"IFERROR(VLOOKUP($A$3&\":\"&$A46,'Raw Data - Free time'!$A:$J,5,0),\"\")","v":""},{"$f":"IFERROR(VLOOKUP($A$3&\":\"&$A46,'Raw Data - Free time'!$A:$J,8,0),\"\")","v":""},{"$f":"IFERROR(VLOOKUP($A$3&\":\"&$A46,'Raw Data - Free time'!$A:$J,9,0),\"\")","v":""},"","","","","","",{"$f":"IFERROR(IF($L46=\"\",\"\",VLOOKUP($A$3&\":\"&$A46,'Raw Data - Free time'!$A:$J,10,0)),\"\")","v":""},{"$f":"IFERROR(IF($O46=\"\",\"\",'Work Out'!$B$3),\"\")","v":""},"",""]
[42,{"$f":"IFERROR(VLOOKUP($A$3&\":\"&$A47,'Raw Data - Free time'!$A:$J,2,0),\"\")","v":""},{"$f":"IFERROR(VLOOKUP($A$3&\":\"&$A47,'Raw Data - Free time'!$A:$J,3,0),\"\")","v":""},{"$f":"IFERROR(VLOOKUP($A$3&\":\"&$A47,'Raw Data - Free time'!$A:$J,5,0),\"\")","v":""},{"$f":"IFERROR(VLOOKUP($A$3&\":\"&$A47,'Raw Data - Free time'!$A:$J,8,0),\"\")","v":""},{"$f":"IFERROR(VLOOKUP($A$3&\":\"&$A47,'Raw Data - Free time'!$A:$J,9,0),\"\")","v":""},"","","","","","",{"$f":"IFERROR(IF($L47=\"\",\"\",VLOOKUP($A$3&\":\"&$A47,'Raw Data - Free time'!$A:$J,10,0)),\"\")","v":""},{"$f":"IFERROR(IF($O47=\"\",\"\",'Work Out'!$B$3),\"\")","v":""},"",""]
[43,{"$f":"IFERROR(VLOOKUP($A$3&\":\"&$A48,'Raw Data - Free time'!$A:$J,2,0),\"\")","v":""},{"$f":"IFERROR(VLOOKUP($A$3&\":\"&$A48,'Raw Data - Free time'!$A:$J,3,0),\"\")","v":""},{"$f":"IFERROR(VLOOKUP($A$3&\":\"&$A48,'Raw Data - Free time'!$A:$J,5,0),\"\")","v":""},{"$f":"IFERROR(VLOOKUP($A$3&\":\"&$A48,'Raw Data - Free time'!$A:$J,8,0),\"\")","v":""},{"$f":"IFERROR(VLOOKUP($A$3&\":\"&$A48,'Raw Data - Free time'!$A:$J,9,0),\"\")","v":""},"","","","","","",{"$f":"IFERROR(IF($L48=\"\",\"\",VLOOKUP($A$3&\":\"&$A48,'Raw Data - Free time'!$A:$J,10,0)),\"\")","v":""},{"$f":"IFERROR(IF($O48=\"\",\"\",'Work Out'!$B$3),\"\")","v":""},"",""]
[44,{"$f":"IFERROR(VLOOKUP($A$3&\":\"&$A49,'Raw Data - Free time'!$A:$J,2,0),\"\")","v":""},{"$f":"IFERROR(VLOOKUP($A$3&\":\"&$A49,'Raw Data - Free time'!$A:$J,3,0),\"\")","v":""},{"$f":"IFERROR(VLOOKUP($A$3&\":\"&$A49,'Raw Data - Free time'!$A:$J,5,0),\"\")","v":""},{"$f":"IFERROR(VLOOKUP($A$3&\":\"&$A49,'Raw Data - Free time'!$A:$J,8,0),\"\")","v":""},{"$f":"IFERROR(VLOOKUP($A$3&\":\"&$A49,'Raw Data - Free time'!$A:$J,9,0),\"\")","v":""},"","","","","","",{"$f":"IFERROR(IF($L49=\"\",\"\",VLOOKUP($A$3&\":\"&$A49,'Raw Data - Free time'!$A:$J,10,0)),\"\")","v":""},{"$f":"IFERROR(IF($O49=\"\",\"\",'Work Out'!$B$3),\"\")","v":""},"",""]
[45,{"$f":"IFERROR(VLOOKUP($A$3&\":\"&$A50,'Raw Data - Free time'!$A:$J,2,0),\"\")","v":""},{"$f":"IFERROR(VLOOKUP($A$3&\":\"&$A50,'Raw Data - Free time'!$A:$J,3,0),\"\")","v":""},{"$f":"IFERROR(VLOOKUP($A$3&\":\"&$A50,'Raw Data - Free time'!$A:$J,5,0),\"\")","v":""},{"$f":"IFERROR(VLOOKUP($A$3&\":\"&$A50,'Raw Data - Free time'!$A:$J,8,0),\"\")","v":""},{"$f":"IFERROR(VLOOKUP($A$3&\":\"&$A50,'Raw Data - Free time'!$A:$J,9,0),\"\")","v":""},"","","","","","",{"$f":"IFERROR(IF($L50=\"\",\"\",VLOOKUP($A$3&\":\"&$A50,'Raw Data - Free time'!$A:$J,10,0)),\"\")","v":""},{"$f":"IFERROR(IF($O50=\"\",\"\",'Work Out'!$B$3),\"\")","v":""},"",""]
[46,{"$f":"IFERROR(VLOOKUP($A$3&\":\"&$A51,'Raw Data - Free time'!$A:$J,2,0),\"\")","v":""},{"$f":"IFERROR(VLOOKUP($A$3&\":\"&$A51,'Raw Data - Free time'!$A:$J,3,0),\"\")","v":""},{"$f":"IFERROR(VLOOKUP($A$3&\":\"&$A51,'Raw Data - Free time'!$A:$J,5,0),\"\")","v":""},{"$f":"IFERROR(VLOOKUP($A$3&\":\"&$A51,'Raw Data - Free time'!$A:$J,8,0),\"\")","v":""},{"$f":"IFERROR(VLOOKUP($A$3&\":\"&$A51,'Raw Data - Free time'!$A:$J,9,0),\"\")","v":""},"","","","","","",{"$f":"IFERROR(IF($L51=\"\",\"\",VLOOKUP($A$3&\":\"&$A51,'Raw Data - Free time'!$A:$J,10,0)),\"\")","v":""},{"$f":"IFERROR(IF($O51=\"\",\"\",'Work Out'!$B$3),\"\")","v":""},"",""]
[47,{"$f":"IFERROR(VLOOKUP($A$3&\":\"&$A52,'Raw Data - Free time'!$A:$J,2,0),\"\")","v":""},{"$f":"IFERROR(VLOOKUP($A$3&\":\"&$A52,'Raw Data - Free time'!$A:$J,3,0),\"\")","v":""},{"$f":"IFERROR(VLOOKUP($A$3&\":\"&$A52,'Raw Data - Free time'!$A:$J,5,0),\"\")","v":""},{"$f":"IFERROR(VLOOKUP($A$3&\":\"&$A52,'Raw Data - Free time'!$A:$J,8,0),\"\")","v":""},{"$f":"IFERROR(VLOOKUP($A$3&\":\"&$A52,'Raw Data - Free time'!$A:$J,9,0),\"\")","v":""},"","","","","","",{"$f":"IFERROR(IF($L52=\"\",\"\",VLOOKUP($A$3&\":\"&$A52,'Raw Data - Free time'!$A:$J,10,0)),\"\")","v":""},{"$f":"IFERROR(IF($O52=\"\",\"\",'Work Out'!$B$3),\"\")","v":""},"",""]
[48,{"$f":"IFERROR(VLOOKUP($A$3&\":\"&$A53,'Raw Data - Free time'!$A:$J,2,0),\"\")","v":""},{"$f":"IFERROR(VLOOKUP($A$3&\":\"&$A53,'Raw Data - Free time'!$A:$J,3,0),\"\")","v":""},{"$f":"IFERROR(VLOOKUP($A$3&\":\"&$A53,'Raw Data - Free time'!$A:$J,5,0),\"\")","v":""},{"$f":"IFERROR(VLOOKUP($A$3&\":\"&$A53,'Raw Data - Free time'!$A:$J,8,0),\"\")","v":""},{"$f":"IFERROR(VLOOKUP($A$3&\":\"&$A53,'Raw Data - Free time'!$A:$J,9,0),\"\")","v":""},"","","","","","",{"$f":"IFERROR(IF($L53=\"\",\"\",VLOOKUP($A$3&\":\"&$A53,'Raw Data - Free time'!$A:$J,10,0)),\"\")","v":""},{"$f":"IFERROR(IF($O53=\"\",\"\",'Work Out'!$B$3),\"\")","v":""},"",""]
[49,{"$f":"IFERROR(VLOOKUP($A$3&\":\"&$A54,'Raw Data - Free time'!$A:$J,2,0),\"\")","v":""},{"$f":"IFERROR(VLOOKUP($A$3&\":\"&$A54,'Raw Data - Free time'!$A:$J,3,0),\"\")","v":""},{"$f":"IFERROR(VLOOKUP($A$3&\":\"&$A54,'Raw Data - Free time'!$A:$J,5,0),\"\")","v":""},{"$f":"IFERROR(VLOOKUP($A$3&\":\"&$A54,'Raw Data - Free time'!$A:$J,8,0),\"\")","v":""},{"$f":"IFERROR(VLOOKUP($A$3&\":\"&$A54,'Raw Data - Free time'!$A:$J,9,0),\"\")","v":""},"","","","","","",{"$f":"IFERROR(IF($L54=\"\",\"\",VLOOKUP($A$3&\":\"&$A54,'Raw Data - Free time'!$A:$J,10,0)),\"\")","v":""},{"$f":"IFERROR(IF($O54=\"\",\"\",'Work Out'!$B$3),\"\")","v":""},"",""]
[50,{"$f":"IFERROR(VLOOKUP($A$3&\":\"&$A55,'Raw Data - Free time'!$A:$J,2,0),\"\")","v":""},{"$f":"IFERROR(VLOOKUP($A$3&\":\"&$A55,'Raw Data - Free time'!$A:$J,3,0),\"\")","v":""},{"$f":"IFERROR(VLOOKUP($A$3&\":\"&$A55,'Raw Data - Free time'!$A:$J,5,0),\"\")","v":""},{"$f":"IFERROR(VLOOKUP($A$3&\":\"&$A55,'Raw Data - Free time'!$A:$J,8,0),\"\")","v":""},{"$f":"IFERROR(VLOOKUP($A$3&\":\"&$A55,'Raw Data - Free time'!$A:$J,9,0),\"\")","v":""},"","","","","","",{"$f":"IFERROR(IF($L55=\"\",\"\",VLOOKUP($A$3&\":\"&$A55,'Raw Data - Free time'!$A:$J,10,0)),\"\")","v":""},{"$f":"IFERROR(IF($O55=\"\",\"\",'Work Out'!$B$3),\"\")","v":""},"",""]
[51,{"$f":"IFERROR(VLOOKUP($A$3&\":\"&$A56,'Raw Data - Free time'!$A:$J,2,0),\"\")","v":""},{"$f":"IFERROR(VLOOKUP($A$3&\":\"&$A56,'Raw Data - Free time'!$A:$J,3,0),\"\")","v":""},{"$f":"IFERROR(VLOOKUP($A$3&\":\"&$A56,'Raw Data - Free time'!$A:$J,5,0),\"\")","v":""},{"$f":"IFERROR(VLOOKUP($A$3&\":\"&$A56,'Raw Data - Free time'!$A:$J,8,0),\"\")","v":""},{"$f":"IFERROR(VLOOKUP($A$3&\":\"&$A56,'Raw Data - Free time'!$A:$J,9,0),\"\")","v":""},"","","","","","",{"$f":"IFERROR(IF($L56=\"\",\"\",VLOOKUP($A$3&\":\"&$A56,'Raw Data - Free time'!$A:$J,10,0)),\"\")","v":""},{"$f":"IFERROR(IF($O56=\"\",\"\",'Work Out'!$B$3),\"\")","v":""},"",""]
[52,{"$f":"IFERROR(VLOOKUP($A$3&\":\"&$A57,'Raw Data - Free time'!$A:$J,2,0),\"\")","v":""},{"$f":"IFERROR(VLOOKUP($A$3&\":\"&$A57,'Raw Data - Free time'!$A:$J,3,0),\"\")","v":""},{"$f":"IFERROR(VLOOKUP($A$3&\":\"&$A57,'Raw Data - Free time'!$A:$J,5,0),\"\")","v":""},{"$f":"IFERROR(VLOOKUP($A$3&\":\"&$A57,'Raw Data - Free time'!$A:$J,8,0),\"\")","v":""},{"$f":"IFERROR(VLOOKUP($A$3&\":\"&$A57,'Raw Data - Free time'!$A:$J,9,0),\"\")","v":""},"","","","","","",{"$f":"IFERROR(IF($L57=\"\",\"\",VLOOKUP($A$3&\":\"&$A57,'Raw Data - Free time'!$A:$J,10,0)),\"\")","v":""},{"$f":"IFERROR(IF($O57=\"\",\"\",'Work Out'!$B$3),\"\")","v":""},"",""]
[53,{"$f":"IFERROR(VLOOKUP($A$3&\":\"&$A58,'Raw Data - Free time'!$A:$J,2,0),\"\")","v":""},{"$f":"IFERROR(VLOOKUP($A$3&\":\"&$A58,'Raw Data - Free time'!$A:$J,3,0),\"\")","v":""},{"$f":"IFERROR(VLOOKUP($A$3&\":\"&$A58,'Raw Data - Free time'!$A:$J,5,0),\"\")","v":""},{"$f":"IFERROR(VLOOKUP($A$3&\":\"&$A58,'Raw Data - Free time'!$A:$J,8,0),\"\")","v":""},{"$f":"IFERROR(VLOOKUP($A$3&\":\"&$A58,'Raw Data - Free time'!$A:$J,9,0),\"\")","v":""},"","","","","","",{"$f":"IFERROR(IF($L58=\"\",\"\",VLOOKUP($A$3&\":\"&$A58,'Raw Data - Free time'!$A:$J,10,0)),\"\")","v":""},{"$f":"IFERROR(IF($O58=\"\",\"\",'Work Out'!$B$3),\"\")","v":""},"",""]
[54,{"$f":"IFERROR(VLOOKUP($A$3&\":\"&$A59,'Raw Data - Free time'!$A:$J,2,0),\"\")","v":""},{"$f":"IFERROR(VLOOKUP($A$3&\":\"&$A59,'Raw Data - Free time'!$A:$J,3,0),\"\")","v":""},{"$f":"IFERROR(VLOOKUP($A$3&\":\"&$A59,'Raw Data - Free time'!$A:$J,5,0),\"\")","v":""},{"$f":"IFERROR(VLOOKUP($A$3&\":\"&$A59,'Raw Data - Free time'!$A:$J,8,0),\"\")","v":""},{"$f":"IFERROR(VLOOKUP($A$3&\":\"&$A59,'Raw Data - Free time'!$A:$J,9,0),\"\")","v":""},"","","","","","",{"$f":"IFERROR(IF($L59=\"\",\"\",VLOOKUP($A$3&\":\"&$A59,'Raw Data - Free time'!$A:$J,10,0)),\"\")","v":""},{"$f":"IFERROR(IF($O59=\"\",\"\",'Work Out'!$B$3),\"\")","v":""},"",""]
[55,{"$f":"IFERROR(VLOOKUP($A$3&\":\"&$A60,'Raw Data - Free time'!$A:$J,2,0),\"\")","v":""},{"$f":"IFERROR(VLOOKUP($A$3&\":\"&$A60,'Raw Data - Free time'!$A:$J,3,0),\"\")","v":""},{"$f":"IFERROR(VLOOKUP($A$3&\":\"&$A60,'Raw Data - Free time'!$A:$J,5,0),\"\")","v":""},{"$f":"IFERROR(VLOOKUP($A$3&\":\"&$A60,'Raw Data - Free time'!$A:$J,8,0),\"\")","v":""},{"$f":"IFERROR(VLOOKUP($A$3&\":\"&$A60,'Raw Data - Free time'!$A:$J,9,0),\"\")","v":""},"","","","","","",{"$f":"IFERROR(IF($L60=\"\",\"\",VLOOKUP($A$3&\":\"&$A60,'Raw Data - Free time'!$A:$J,10,0)),\"\")","v":""},{"$f":"IFERROR(IF($O60=\"\",\"\",'Work Out'!$B$3),\"\")","v":""},"",""]
[56,{"$f":"IFERROR(VLOOKUP($A$3&\":\"&$A61,'Raw Data - Free time'!$A:$J,2,0),\"\")","v":""},{"$f":"IFERROR(VLOOKUP($A$3&\":\"&$A61,'Raw Data - Free time'!$A:$J,3,0),\"\")","v":""},{"$f":"IFERROR(VLOOKUP($A$3&\":\"&$A61,'Raw Data - Free time'!$A:$J,5,0),\"\")","v":""},{"$f":"IFERROR(VLOOKUP($A$3&\":\"&$A61,'Raw Data - Free time'!$A:$J,8,0),\"\")","v":""},{"$f":"IFERROR(VLOOKUP($A$3&\":\"&$A61,'Raw Data - Free time'!$A:$J,9,0),\"\")","v":""},"","","","","","",{"$f":"IFERROR(IF($L61=\"\",\"\",VLOOKUP($A$3&\":\"&$A61,'Raw Data - Free time'!$A:$J,10,0)),\"\")","v":""},{"$f":"IFERROR(IF($O61=\"\",\"\",'Work Out'!$B$3),\"\")","v":""},"",""]
[57,{"$f":"IFERROR(VLOOKUP($A$3&\":\"&$A62,'Raw Data - Free time'!$A:$J,2,0),\"\")","v":""},{"$f":"IFERROR(VLOOKUP($A$3&\":\"&$A62,'Raw Data - Free time'!$A:$J,3,0),\"\")","v":""},{"$f":"IFERROR(VLOOKUP($A$3&\":\"&$A62,'Raw Data - Free time'!$A:$J,5,0),\"\")","v":""},{"$f":"IFERROR(VLOOKUP($A$3&\":\"&$A62,'Raw Data - Free time'!$A:$J,8,0),\"\")","v":""},{"$f":"IFERROR(VLOOKUP($A$3&\":\"&$A62,'Raw Data - Free time'!$A:$J,9,0),\"\")","v":""},"","","","","","",{"$f":"IFERROR(IF($L62=\"\",\"\",VLOOKUP($A$3&\":\"&$A62,'Raw Data - Free time'!$A:$J,10,0)),\"\")","v":""},{"$f":"IFERROR(IF($O62=\"\",\"\",'Work Out'!$B$3),\"\")","v":""},"",""]
[58,{"$f":"IFERROR(VLOOKUP($A$3&\":\"&$A63,'Raw Data - Free time'!$A:$J,2,0),\"\")","v":""},{"$f":"IFERROR(VLOOKUP($A$3&\":\"&$A63,'Raw Data - Free time'!$A:$J,3,0),\"\")","v":""},{"$f":"IFERROR(VLOOKUP($A$3&\":\"&$A63,'Raw Data - Free time'!$A:$J,5,0),\"\")","v":""},{"$f":"IFERROR(VLOOKUP($A$3&\":\"&$A63,'Raw Data - Free time'!$A:$J,8,0),\"\")","v":""},{"$f":"IFERROR(VLOOKUP($A$3&\":\"&$A63,'Raw Data - Free time'!$A:$J,9,0),\"\")","v":""},"","","","","","",{"$f":"IFERROR(IF($L63=\"\",\"\",VLOOKUP($A$3&\":\"&$A63,'Raw Data - Free time'!$A:$J,10,0)),\"\")","v":""},{"$f":"IFERROR(IF($O63=\"\",\"\",'Work Out'!$B$3),\"\")","v":""},"",""]
[59,{"$f":"IFERROR(VLOOKUP($A$3&\":\"&$A64,'Raw Data - Free time'!$A:$J,2,0),\"\")","v":""},{"$f":"IFERROR(VLOOKUP($A$3&\":\"&$A64,'Raw Data - Free time'!$A:$J,3,0),\"\")","v":""},{"$f":"IFERROR(VLOOKUP($A$3&\":\"&$A64,'Raw Data - Free time'!$A:$J,5,0),\"\")","v":""},{"$f":"IFERROR(VLOOKUP($A$3&\":\"&$A64,'Raw Data - Free time'!$A:$J,8,0),\"\")","v":""},{"$f":"IFERROR(VLOOKUP($A$3&\":\"&$A64,'Raw Data - Free time'!$A:$J,9,0),\"\")","v":""},"","","","","","",{"$f":"IFERROR(IF($L64=\"\",\"\",VLOOKUP($A$3&\":\"&$A64,'Raw Data - Free time'!$A:$J,10,0)),\"\")","v":""},{"$f":"IFERROR(IF($O64=\"\",\"\",'Work Out'!$B$3),\"\")","v":""},"",""]
[60,{"$f":"IFERROR(VLOOKUP($A$3&\":\"&$A65,'Raw Data - Free time'!$A:$J,2,0),\"\")","v":""},{"$f":"IFERROR(VLOOKUP($A$3&\":\"&$A65,'Raw Data - Free time'!$A:$J,3,0),\"\")","v":""},{"$f":"IFERROR(VLOOKUP($A$3&\":\"&$A65,'Raw Data - Free time'!$A:$J,5,0),\"\")","v":""},{"$f":"IFERROR(VLOOKUP($A$3&\":\"&$A65,'Raw Data - Free time'!$A:$J,8,0),\"\")","v":""},{"$f":"IFERROR(VLOOKUP($A$3&\":\"&$A65,'Raw Data - Free time'!$A:$J,9,0),\"\")","v":""},"","","","","","",{"$f":"IFERROR(IF($L65=\"\",\"\",VLOOKUP($A$3&\":\"&$A65,'Raw Data - Free time'!$A:$J,10,0)),\"\")","v":""},{"$f":"IFERROR(IF($O65=\"\",\"\",'Work Out'!$B$3),\"\")","v":""},"",""]
[61,{"$f":"IFERROR(VLOOKUP($A$3&\":\"&$A66,'Raw Data - Free time'!$A:$J,2,0),\"\")","v":""},{"$f":"IFERROR(VLOOKUP($A$3&\":\"&$A66,'Raw Data - Free time'!$A:$J,3,0),\"\")","v":""},{"$f":"IFERROR(VLOOKUP($A$3&\":\"&$A66,'Raw Data - Free time'!$A:$J,5,0),\"\")","v":""},{"$f":"IFERROR(VLOOKUP($A$3&\":\"&$A66,'Raw Data - Free time'!$A:$J,8,0),\"\")","v":""},{"$f":"IFERROR(VLOOKUP($A$3&\":\"&$A66,'Raw Data - Free time'!$A:$J,9,0),\"\")","v":""},"","","","","","",{"$f":"IFERROR(IF($L66=\"\",\"\",VLOOKUP($A$3&\":\"&$A66,'Raw Data - Free time'!$A:$J,10,0)),\"\")","v":""},{"$f":"IFERROR(IF($O66=\"\",\"\",'Work Out'!$B$3),\"\")","v":""},"",""]
[62,{"$f":"IFERROR(VLOOKUP($A$3&\":\"&$A67,'Raw Data - Free time'!$A:$J,2,0),\"\")","v":""},{"$f":"IFERROR(VLOOKUP($A$3&\":\"&$A67,'Raw Data - Free time'!$A:$J,3,0),\"\")","v":""},{"$f":"IFERROR(VLOOKUP($A$3&\":\"&$A67,'Raw Data - Free time'!$A:$J,5,0),\"\")","v":""},{"$f":"IFERROR(VLOOKUP($A$3&\":\"&$A67,'Raw Data - Free time'!$A:$J,8,0),\"\")","v":""},{"$f":"IFERROR(VLOOKUP($A$3&\":\"&$A67,'Raw Data - Free time'!$A:$J,9,0),\"\")","v":""},"","","","","","",{"$f":"IFERROR(IF($L67=\"\",\"\",VLOOKUP($A$3&\":\"&$A67,'Raw Data - Free time'!$A:$J,10,0)),\"\")","v":""},{"$f":"IFERROR(IF($O67=\"\",\"\",'Work Out'!$B$3),\"\")","v":""},"",""]
[63,{"$f":"IFERROR(VLOOKUP($A$3&\":\"&$A68,'Raw Data - Free time'!$A:$J,2,0),\"\")","v":""},{"$f":"IFERROR(VLOOKUP($A$3&\":\"&$A68,'Raw Data - Free time'!$A:$J,3,0),\"\")","v":""},{"$f":"IFERROR(VLOOKUP($A$3&\":\"&$A68,'Raw Data - Free time'!$A:$J,5,0),\"\")","v":""},{"$f":"IFERROR(VLOOKUP($A$3&\":\"&$A68,'Raw Data - Free time'!$A:$J,8,0),\"\")","v":""},{"$f":"IFERROR(VLOOKUP($A$3&\":\"&$A68,'Raw Data - Free time'!$A:$J,9,0),\"\")","v":""},"","","","","","",{"$f":"IFERROR(IF($L68=\"\",\"\",VLOOKUP($A$3&\":\"&$A68,'Raw Data - Free time'!$A:$J,10,0)),\"\")","v":""},{"$f":"IFERROR(IF($O68=\"\",\"\",'Work Out'!$B$3),\"\")","v":""},"",""]
[64,{"$f":"IFERROR(VLOOKUP($A$3&\":\"&$A69,'Raw Data - Free time'!$A:$J,2,0),\"\")","v":""},{"$f":"IFERROR(VLOOKUP($A$3&\":\"&$A69,'Raw Data - Free time'!$A:$J,3,0),\"\")","v":""},{"$f":"IFERROR(VLOOKUP($A$3&\":\"&$A69,'Raw Data - Free time'!$A:$J,5,0),\"\")","v":""},{"$f":"IFERROR(VLOOKUP($A$3&\":\"&$A69,'Raw Data - Free time'!$A:$J,8,0),\"\")","v":""},{"$f":"IFERROR(VLOOKUP($A$3&\":\"&$A69,'Raw Data - Free time'!$A:$J,9,0),\"\")","v":""},"","","","","","",{"$f":"IFERROR(IF($L69=\"\",\"\",VLOOKUP($A$3&\":\"&$A69,'Raw Data - Free time'!$A:$J,10,0)),\"\")","v":""},{"$f":"IFERROR(IF($O69=\"\",\"\",'Work Out'!$B$3),\"\")","v":""},"",""]
[65,{"$f":"IFERROR(VLOOKUP($A$3&\":\"&$A70,'Raw Data - Free time'!$A:$J,2,0),\"\")","v":""},{"$f":"IFERROR(VLOOKUP($A$3&\":\"&$A70,'Raw Data - Free time'!$A:$J,3,0),\"\")","v":""},{"$f":"IFERROR(VLOOKUP($A$3&\":\"&$A70,'Raw Data - Free time'!$A:$J,5,0),\"\")","v":""},{"$f":"IFERROR(VLOOKUP($A$3&\":\"&$A70,'Raw Data - Free time'!$A:$J,8,0),\"\")","v":""},{"$f":"IFERROR(VLOOKUP($A$3&\":\"&$A70,'Raw Data - Free time'!$A:$J,9,0),\"\")","v":""},"","","","","","",{"$f":"IFERROR(IF($L70=\"\",\"\",VLOOKUP($A$3&\":\"&$A70,'Raw Data - Free time'!$A:$J,10,0)),\"\")","v":""},{"$f":"IFERROR(IF($O70=\"\",\"\",'Work Out'!$B$3),\"\")","v":""},"",""]
[66,{"$f":"IFERROR(VLOOKUP($A$3&\":\"&$A71,'Raw Data - Free time'!$A:$J,2,0),\"\")","v":""},{"$f":"IFERROR(VLOOKUP($A$3&\":\"&$A71,'Raw Data - Free time'!$A:$J,3,0),\"\")","v":""},{"$f":"IFERROR(VLOOKUP($A$3&\":\"&$A71,'Raw Data - Free time'!$A:$J,5,0),\"\")","v":""},{"$f":"IFERROR(VLOOKUP($A$3&\":\"&$A71,'Raw Data - Free time'!$A:$J,8,0),\"\")","v":""},{"$f":"IFERROR(VLOOKUP($A$3&\":\"&$A71,'Raw Data - Free time'!$A:$J,9,0),\"\")","v":""},{"$f":"IFERROR(F71-E71+1,\"\")","v":""},{"$f":"IFERROR(IF($F71=\"\",\"\",IF($C$3>$F71,$C$3,\"Star date should be Greater then Free Day\")),\"\")","v":""},{"$f":"IFERROR(IF($D$3>=$H71,$D$3,\"\"),\"\")","v":""},{"$f":"IFERROR($I71-$H71+1,\"\")","v":""},{"$f":"IFERROR(IF($J71=\"\",\"\",VLOOKUP(D71,$R$5:$U$33,4,0)),\"\")","v":""},{"$f":"IFERROR($J71*$K71,\"\")","v":""},{"$f":"IFERROR(IF($L71=\"\",\"\",VLOOKUP($A$3&\":\"&$A71,'Raw Data - Free time'!$A:$J,10,0)),\"\")","v":""},{"$f":"IFERROR(IF($O71=\"\",\"\",'Work Out'!$B$3),\"\")","v":""},{"$f":"IFERROR($L71*$M71,\"\")","v":""},{"$f":"IFERROR(IF($O71=\"\",\"\",\"P\"),\"\")","v":""}]
[67,{"$f":"IFERROR(VLOOKUP($A$3&\":\"&$A72,'Raw Data - Free time'!$A:$J,2,0),\"\")","v":""},{"$f":"IFERROR(VLOOKUP($A$3&\":\"&$A72,'Raw Data - Free time'!$A:$J,3,0),\"\")","v":""},{"$f":"IFERROR(VLOOKUP($A$3&\":\"&$A72,'Raw Data - Free time'!$A:$J,5,0),\"\")","v":""},{"$f":"IFERROR(VLOOKUP($A$3&\":\"&$A72,'Raw Data - Free time'!$A:$J,8,0),\"\")","v":""},{"$f":"IFERROR(VLOOKUP($A$3&\":\"&$A72,'Raw Data - Free time'!$A:$J,9,0),\"\")","v":""},"","","","","","",{"$f":"IFERROR(IF($L72=\"\",\"\",VLOOKUP($A$3&\":\"&$A72,'Raw Data - Free time'!$A:$J,10,0)),\"\")","v":""},{"$f":"IFERROR(IF($O72=\"\",\"\",'Work Out'!$B$3),\"\")","v":""},"",""]
[68,{"$f":"IFERROR(VLOOKUP($A$3&\":\"&$A73,'Raw Data - Free time'!$A:$J,2,0),\"\")","v":""},{"$f":"IFERROR(VLOOKUP($A$3&\":\"&$A73,'Raw Data - Free time'!$A:$J,3,0),\"\")","v":""},{"$f":"IFERROR(VLOOKUP($A$3&\":\"&$A73,'Raw Data - Free time'!$A:$J,5,0),\"\")","v":""},{"$f":"IFERROR(VLOOKUP($A$3&\":\"&$A73,'Raw Data - Free time'!$A:$J,8,0),\"\")","v":""},{"$f":"IFERROR(VLOOKUP($A$3&\":\"&$A73,'Raw Data - Free time'!$A:$J,9,0),\"\")","v":""},"","","","","","",{"$f":"IFERROR(IF($L73=\"\",\"\",VLOOKUP($A$3&\":\"&$A73,'Raw Data - Free time'!$A:$J,10,0)),\"\")","v":""},{"$f":"IFERROR(IF($O73=\"\",\"\",'Work Out'!$B$3),\"\")","v":""},"",""]
[69,{"$f":"IFERROR(VLOOKUP($A$3&\":\"&$A74,'Raw Data - Free time'!$A:$J,2,0),\"\")","v":""},{"$f":"IFERROR(VLOOKUP($A$3&\":\"&$A74,'Raw Data - Free time'!$A:$J,3,0),\"\")","v":""},{"$f":"IFERROR(VLOOKUP($A$3&\":\"&$A74,'Raw Data - Free time'!$A:$J,5,0),\"\")","v":""},{"$f":"IFERROR(VLOOKUP($A$3&\":\"&$A74,'Raw Data - Free time'!$A:$J,8,0),\"\")","v":""},{"$f":"IFERROR(VLOOKUP($A$3&\":\"&$A74,'Raw Data - Free time'!$A:$J,9,0),\"\")","v":""},"","","","","","",{"$f":"IFERROR(IF($L74=\"\",\"\",VLOOKUP($A$3&\":\"&$A74,'Raw Data - Free time'!$A:$J,10,0)),\"\")","v":""},{"$f":"IFERROR(IF($O74=\"\",\"\",'Work Out'!$B$3),\"\")","v":""},"",""]
[70,{"$f":"IFERROR(VLOOKUP($A$3&\":\"&$A75,'Raw Data - Free time'!$A:$J,2,0),\"\")","v":""},{"$f":"IFERROR(VLOOKUP($A$3&\":\"&$A75,'Raw Data - Free time'!$A:$J,3,0),\"\")","v":""},{"$f":"IFERROR(VLOOKUP($A$3&\":\"&$A75,'Raw Data - Free time'!$A:$J,5,0),\"\")","v":""},{"$f":"IFERROR(VLOOKUP($A$3&\":\"&$A75,'Raw Data - Free time'!$A:$J,8,0),\"\")","v":""},{"$f":"IFERROR(VLOOKUP($A$3&\":\"&$A75,'Raw Data - Free time'!$A:$J,9,0),\"\")","v":""},"","","","","","",{"$f":"IFERROR(IF($L75=\"\",\"\",VLOOKUP($A$3&\":\"&$A75,'Raw Data - Free time'!$A:$J,10,0)),\"\")","v":""},{"$f":"IFERROR(IF($O75=\"\",\"\",'Work Out'!$B$3),\"\")","v":""},"",""]
[71,{"$f":"IFERROR(VLOOKUP($A$3&\":\"&$A76,'Raw Data - Free time'!$A:$J,2,0),\"\")","v":""},{"$f":"IFERROR(VLOOKUP($A$3&\":\"&$A76,'Raw Data - Free time'!$A:$J,3,0),\"\")","v":""},{"$f":"IFERROR(VLOOKUP($A$3&\":\"&$A76,'Raw Data - Free time'!$A:$J,5,0),\"\")","v":""},{"$f":"IFERROR(VLOOKUP($A$3&\":\"&$A76,'Raw Data - Free time'!$A:$J,8,0),\"\")","v":""},{"$f":"IFERROR(VLOOKUP($A$3&\":\"&$A76,'Raw Data - Free time'!$A:$J,9,0),\"\")","v":""},"","","","","","",{"$f":"IFERROR(IF($L76=\"\",\"\",VLOOKUP($A$3&\":\"&$A76,'Raw Data - Free time'!$A:$J,10,0)),\"\")","v":""},{"$f":"IFERROR(IF($O76=\"\",\"\",'Work Out'!$B$3),\"\")","v":""},"",""]
[72,{"$f":"IFERROR(VLOOKUP($A$3&\":\"&$A77,'Raw Data - Free time'!$A:$J,2,0),\"\")","v":""},{"$f":"IFERROR(VLOOKUP($A$3&\":\"&$A77,'Raw Data - Free time'!$A:$J,3,0),\"\")","v":""},{"$f":"IFERROR(VLOOKUP($A$3&\":\"&$A77,'Raw Data - Free time'!$A:$J,5,0),\"\")","v":""},{"$f":"IFERROR(VLOOKUP($A$3&\":\"&$A77,'Raw Data - Free time'!$A:$J,8,0),\"\")","v":""},{"$f":"IFERROR(VLOOKUP($A$3&\":\"&$A77,'Raw Data - Free time'!$A:$J,9,0),\"\")","v":""},"","","","","","",{"$f":"IFERROR(IF($L77=\"\",\"\",VLOOKUP($A$3&\":\"&$A77,'Raw Data - Free time'!$A:$J,10,0)),\"\")","v":""},{"$f":"IFERROR(IF($O77=\"\",\"\",'Work Out'!$B$3),\"\")","v":""},"",""]
[73,{"$f":"IFERROR(VLOOKUP($A$3&\":\"&$A78,'Raw Data - Free time'!$A:$J,2,0),\"\")","v":""},{"$f":"IFERROR(VLOOKUP($A$3&\":\"&$A78,'Raw Data - Free time'!$A:$J,3,0),\"\")","v":""},{"$f":"IFERROR(VLOOKUP($A$3&\":\"&$A78,'Raw Data - Free time'!$A:$J,5,0),\"\")","v":""},{"$f":"IFERROR(VLOOKUP($A$3&\":\"&$A78,'Raw Data - Free time'!$A:$J,8,0),\"\")","v":""},{"$f":"IFERROR(VLOOKUP($A$3&\":\"&$A78,'Raw Data - Free time'!$A:$J,9,0),\"\")","v":""},"","","","","","",{"$f":"IFERROR(IF($L78=\"\",\"\",VLOOKUP($A$3&\":\"&$A78,'Raw Data - Free time'!$A:$J,10,0)),\"\")","v":""},{"$f":"IFERROR(IF($O78=\"\",\"\",'Work Out'!$B$3),\"\")","v":""},"",""]
[74,{"$f":"IFERROR(VLOOKUP($A$3&\":\"&$A79,'Raw Data - Free time'!$A:$J,2,0),\"\")","v":""},{"$f":"IFERROR(VLOOKUP($A$3&\":\"&$A79,'Raw Data - Free time'!$A:$J,3,0),\"\")","v":""},{"$f":"IFERROR(VLOOKUP($A$3&\":\"&$A79,'Raw Data - Free time'!$A:$J,5,0),\"\")","v":""},{"$f":"IFERROR(VLOOKUP($A$3&\":\"&$A79,'Raw Data - Free time'!$A:$J,8,0),\"\")","v":""},{"$f":"IFERROR(VLOOKUP($A$3&\":\"&$A79,'Raw Data - Free time'!$A:$J,9,0),\"\")","v":""},"","","","","","",{"$f":"IFERROR(IF($L79=\"\",\"\",VLOOKUP($A$3&\":\"&$A79,'Raw Data - Free time'!$A:$J,10,0)),\"\")","v":""},{"$f":"IFERROR(IF($O79=\"\",\"\",'Work Out'!$B$3),\"\")","v":""},"",""]
[75,{"$f":"IFERROR(VLOOKUP($A$3&\":\"&$A80,'Raw Data - Free time'!$A:$J,2,0),\"\")","v":""},{"$f":"IFERROR(VLOOKUP($A$3&\":\"&$A80,'Raw Data - Free time'!$A:$J,3,0),\"\")","v":""},{"$f":"IFERROR(VLOOKUP($A$3&\":\"&$A80,'Raw Data - Free time'!$A:$J,5,0),\"\")","v":""},{"$f":"IFERROR(VLOOKUP($A$3&\":\"&$A80,'Raw Data - Free time'!$A:$J,8,0),\"\")","v":""},{"$f":"IFERROR(VLOOKUP($A$3&\":\"&$A80,'Raw Data - Free time'!$A:$J,9,0),\"\")","v":""},"","","","","","",{"$f":"IFERROR(IF($L80=\"\",\"\",VLOOKUP($A$3&\":\"&$A80,'Raw Data - Free time'!$A:$J,10,0)),\"\")","v":""},{"$f":"IFERROR(IF($O80=\"\",\"\",'Work Out'!$B$3),\"\")","v":""},"",""]
[76,{"$f":"IFERROR(VLOOKUP($A$3&\":\"&$A81,'Raw Data - Free time'!$A:$J,2,0),\"\")","v":""},{"$f":"IFERROR(VLOOKUP($A$3&\":\"&$A81,'Raw Data - Free time'!$A:$J,3,0),\"\")","v":""},{"$f":"IFERROR(VLOOKUP($A$3&\":\"&$A81,'Raw Data - Free time'!$A:$J,5,0),\"\")","v":""},{"$f":"IFERROR(VLOOKUP($A$3&\":\"&$A81,'Raw Data - Free time'!$A:$J,8,0),\"\")","v":""},{"$f":"IFERROR(VLOOKUP($A$3&\":\"&$A81,'Raw Data - Free time'!$A:$J,9,0),\"\")","v":""},"","","","","","",{"$f":"IFERROR(IF($L81=\"\",\"\",VLOOKUP($A$3&\":\"&$A81,'Raw Data - Free time'!$A:$J,10,0)),\"\")","v":""},{"$f":"IFERROR(IF($O81=\"\",\"\",'Work Out'!$B$3),\"\")","v":""},"",""]
[77,{"$f":"IFERROR(VLOOKUP($A$3&\":\"&$A82,'Raw Data - Free time'!$A:$J,2,0),\"\")","v":""},{"$f":"IFERROR(VLOOKUP($A$3&\":\"&$A82,'Raw Data - Free time'!$A:$J,3,0),\"\")","v":""},{"$f":"IFERROR(VLOOKUP($A$3&\":\"&$A82,'Raw Data - Free time'!$A:$J,5,0),\"\")","v":""},{"$f":"IFERROR(VLOOKUP($A$3&\":\"&$A82,'Raw Data - Free time'!$A:$J,8,0),\"\")","v":""},{"$f":"IFERROR(VLOOKUP($A$3&\":\"&$A82,'Raw Data - Free time'!$A:$J,9,0),\"\")","v":""},"","","","","","",{"$f":"IFERROR(IF($L82=\"\",\"\",VLOOKUP($A$3&\":\"&$A82,'Raw Data - Free time'!$A:$J,10,0)),\"\")","v":""},{"$f":"IFERROR(IF($O82=\"\",\"\",'Work Out'!$B$3),\"\")","v":""},"",""]
[78,{"$f":"IFERROR(VLOOKUP($A$3&\":\"&$A83,'Raw Data - Free time'!$A:$J,2,0),\"\")","v":""},{"$f":"IFERROR(VLOOKUP($A$3&\":\"&$A83,'Raw Data - Free time'!$A:$J,3,0),\"\")","v":""},{"$f":"IFERROR(VLOOKUP($A$3&\":\"&$A83,'Raw Data - Free time'!$A:$J,5,0),\"\")","v":""},{"$f":"IFERROR(VLOOKUP($A$3&\":\"&$A83,'Raw Data - Free time'!$A:$J,8,0),\"\")","v":""},{"$f":"IFERROR(VLOOKUP($A$3&\":\"&$A83,'Raw Data - Free time'!$A:$J,9,0),\"\")","v":""},"","","","","","",{"$f":"IFERROR(IF($L83=\"\",\"\",VLOOKUP($A$3&\":\"&$A83,'Raw Data - Free time'!$A:$J,10,0)),\"\")","v":""},{"$f":"IFERROR(IF($O83=\"\",\"\",'Work Out'!$B$3),\"\")","v":""},"",""]
[79,{"$f":"IFERROR(VLOOKUP($A$3&\":\"&$A84,'Raw Data - Free time'!$A:$J,2,0),\"\")","v":""},{"$f":"IFERROR(VLOOKUP($A$3&\":\"&$A84,'Raw Data - Free time'!$A:$J,3,0),\"\")","v":""},{"$f":"IFERROR(VLOOKUP($A$3&\":\"&$A84,'Raw Data - Free time'!$A:$J,5,0),\"\")","v":""},{"$f":"IFERROR(VLOOKUP($A$3&\":\"&$A84,'Raw Data - Free time'!$A:$J,8,0),\"\")","v":""},{"$f":"IFERROR(VLOOKUP($A$3&\":\"&$A84,'Raw Data - Free time'!$A:$J,9,0),\"\")","v":""},"","","","","","",{"$f":"IFERROR(IF($L84=\"\",\"\",VLOOKUP($A$3&\":\"&$A84,'Raw Data - Free time'!$A:$J,10,0)),\"\")","v":""},{"$f":"IFERROR(IF($O84=\"\",\"\",'Work Out'!$B$3),\"\")","v":""},"",""]
[80,{"$f":"IFERROR(VLOOKUP($A$3&\":\"&$A85,'Raw Data - Free time'!$A:$J,2,0),\"\")","v":""},{"$f":"IFERROR(VLOOKUP($A$3&\":\"&$A85,'Raw Data - Free time'!$A:$J,3,0),\"\")","v":""},{"$f":"IFERROR(VLOOKUP($A$3&\":\"&$A85,'Raw Data - Free time'!$A:$J,5,0),\"\")","v":""},{"$f":"IFERROR(VLOOKUP($A$3&\":\"&$A85,'Raw Data - Free time'!$A:$J,8,0),\"\")","v":""},{"$f":"IFERROR(VLOOKUP($A$3&\":\"&$A85,'Raw Data - Free time'!$A:$J,9,0),\"\")","v":""},"","","","","","",{"$f":"IFERROR(IF($L85=\"\",\"\",VLOOKUP($A$3&\":\"&$A85,'Raw Data - Free time'!$A:$J,10,0)),\"\")","v":""},{"$f":"IFERROR(IF($O85=\"\",\"\",'Work Out'!$B$3),\"\")","v":""},"",""]
[81,{"$f":"IFERROR(VLOOKUP($A$3&\":\"&$A86,'Raw Data - Free time'!$A:$J,2,0),\"\")","v":""},{"$f":"IFERROR(VLOOKUP($A$3&\":\"&$A86,'Raw Data - Free time'!$A:$J,3,0),\"\")","v":""},{"$f":"IFERROR(VLOOKUP($A$3&\":\"&$A86,'Raw Data - Free time'!$A:$J,5,0),\"\")","v":""},{"$f":"IFERROR(VLOOKUP($A$3&\":\"&$A86,'Raw Data - Free time'!$A:$J,8,0),\"\")","v":""},{"$f":"IFERROR(VLOOKUP($A$3&\":\"&$A86,'Raw Data - Free time'!$A:$J,9,0),\"\")","v":""},"","","","","","",{"$f":"IFERROR(IF($L86=\"\",\"\",VLOOKUP($A$3&\":\"&$A86,'Raw Data - Free time'!$A:$J,10,0)),\"\")","v":""},{"$f":"IFERROR(IF($O86=\"\",\"\",'Work Out'!$B$3),\"\")","v":""},"",""]
[82,{"$f":"IFERROR(VLOOKUP($A$3&\":\"&$A87,'Raw Data - Free time'!$A:$J,2,0),\"\")","v":""},{"$f":"IFERROR(VLOOKUP($A$3&\":\"&$A87,'Raw Data - Free time'!$A:$J,3,0),\"\")","v":""},{"$f":"IFERROR(VLOOKUP($A$3&\":\"&$A87,'Raw Data - Free time'!$A:$J,5,0),\"\")","v":""},{"$f":"IFERROR(VLOOKUP($A$3&\":\"&$A87,'Raw Data - Free time'!$A:$J,8,0),\"\")","v":""},{"$f":"IFERROR(VLOOKUP($A$3&\":\"&$A87,'Raw Data - Free time'!$A:$J,9,0),\"\")","v":""},"","","","","","",{"$f":"IFERROR(IF($L87=\"\",\"\",VLOOKUP($A$3&\":\"&$A87,'Raw Data - Free time'!$A:$J,10,0)),\"\")","v":""},{"$f":"IFERROR(IF($O87=\"\",\"\",'Work Out'!$B$3),\"\")","v":""},"",""]
[83,{"$f":"IFERROR(VLOOKUP($A$3&\":\"&$A88,'Raw Data - Free time'!$A:$J,2,0),\"\")","v":""},{"$f":"IFERROR(VLOOKUP($A$3&\":\"&$A88,'Raw Data - Free time'!$A:$J,3,0),\"\")","v":""},{"$f":"IFERROR(VLOOKUP($A$3&\":\"&$A88,'Raw Data - Free time'!$A:$J,5,0),\"\")","v":""},{"$f":"IFERROR(VLOOKUP($A$3&\":\"&$A88,'Raw Data - Free time'!$A:$J,8,0),\"\")","v":""},{"$f":"IFERROR(VLOOKUP($A$3&\":\"&$A88,'Raw Data - Free time'!$A:$J,9,0),\"\")","v":""},"","","","","","",{"$f":"IFERROR(IF($L88=\"\",\"\",VLOOKUP($A$3&\":\"&$A88,'Raw Data - Free time'!$A:$J,10,0)),\"\")","v":""},{"$f":"IFERROR(IF($O88=\"\",\"\",'Work Out'!$B$3),\"\")","v":""},"",""]
[84,{"$f":"IFERROR(VLOOKUP($A$3&\":\"&$A89,'Raw Data - Free time'!$A:$J,2,0),\"\")","v":""},{"$f":"IFERROR(VLOOKUP($A$3&\":\"&$A89,'Raw Data - Free time'!$A:$J,3,0),\"\")","v":""},{"$f":"IFERROR(VLOOKUP($A$3&\":\"&$A89,'Raw Data - Free time'!$A:$J,5,0),\"\")","v":""},{"$f":"IFERROR(VLOOKUP($A$3&\":\"&$A89,'Raw Data - Free time'!$A:$J,8,0),\"\")","v":""},{"$f":"IFERROR(VLOOKUP($A$3&\":\"&$A89,'Raw Data - Free time'!$A:$J,9,0),\"\")","v":""},"","","","","","",{"$f":"IFERROR(IF($L89=\"\",\"\",VLOOKUP($A$3&\":\"&$A89,'Raw Data - Free time'!$A:$J,10,0)),\"\")","v":""},{"$f":"IFERROR(IF($O89=\"\",\"\",'Work Out'!$B$3),\"\")","v":""},"",""]
[85,{"$f":"IFERROR(VLOOKUP($A$3&\":\"&$A90,'Raw Data - Free time'!$A:$J,2,0),\"\")","v":""},{"$f":"IFERROR(VLOOKUP($A$3&\":\"&$A90,'Raw Data - Free time'!$A:$J,3,0),\"\")","v":""},{"$f":"IFERROR(VLOOKUP($A$3&\":\"&$A90,'Raw Data - Free time'!$A:$J,5,0),\"\")","v":""},{"$f":"IFERROR(VLOOKUP($A$3&\":\"&$A90,'Raw Data - Free time'!$A:$J,8,0),\"\")","v":""},{"$f":"IFERROR(VLOOKUP($A$3&\":\"&$A90,'Raw Data - Free time'!$A:$J,9,0),\"\")","v":""},"","","","","","",{"$f":"IFERROR(IF($L90=\"\",\"\",VLOOKUP($A$3&\":\"&$A90,'Raw Data - Free time'!$A:$J,10,0)),\"\")","v":""},{"$f":"IFERROR(IF($O90=\"\",\"\",'Work Out'!$B$3),\"\")","v":""},"",""]
[86,{"$f":"IFERROR(VLOOKUP($A$3&\":\"&$A91,'Raw Data - Free time'!$A:$J,2,0),\"\")","v":""},{"$f":"IFERROR(VLOOKUP($A$3&\":\"&$A91,'Raw Data - Free time'!$A:$J,3,0),\"\")","v":""},{"$f":"IFERROR(VLOOKUP($A$3&\":\"&$A91,'Raw Data - Free time'!$A:$J,5,0),\"\")","v":""},{"$f":"IFERROR(VLOOKUP($A$3&\":\"&$A91,'Raw Data - Free time'!$A:$J,8,0),\"\")","v":""},{"$f":"IFERROR(VLOOKUP($A$3&\":\"&$A91,'Raw Data - Free time'!$A:$J,9,0),\"\")","v":""},"","","","","","",{"$f":"IFERROR(IF($L91=\"\",\"\",VLOOKUP($A$3&\":\"&$A91,'Raw Data - Free time'!$A:$J,10,0)),\"\")","v":""},{"$f":"IFERROR(IF($O91=\"\",\"\",'Work Out'!$B$3),\"\")","v":""},"",""]
[87,{"$f":"IFERROR(VLOOKUP($A$3&\":\"&$A92,'Raw Data - Free time'!$A:$J,2,0),\"\")","v":""},{"$f":"IFERROR(VLOOKUP($A$3&\":\"&$A92,'Raw Data - Free time'!$A:$J,3,0),\"\")","v":""},{"$f":"IFERROR(VLOOKUP($A$3&\":\"&$A92,'Raw Data - Free time'!$A:$J,5,0),\"\")","v":""},{"$f":"IFERROR(VLOOKUP($A$3&\":\"&$A92,'Raw Data - Free time'!$A:$J,8,0),\"\")","v":""},{"$f":"IFERROR(VLOOKUP($A$3&\":\"&$A92,'Raw Data - Free time'!$A:$J,9,0),\"\")","v":""},"","","","","","",{"$f":"IFERROR(IF($L92=\"\",\"\",VLOOKUP($A$3&\":\"&$A92,'Raw Data - Free time'!$A:$J,10,0)),\"\")","v":""},{"$f":"IFERROR(IF($O92=\"\",\"\",'Work Out'!$B$3),\"\")","v":""},"",""]
[88,{"$f":"IFERROR(VLOOKUP($A$3&\":\"&$A93,'Raw Data - Free time'!$A:$J,2,0),\"\")","v":""},{"$f":"IFERROR(VLOOKUP($A$3&\":\"&$A93,'Raw Data - Free time'!$A:$J,3,0),\"\")","v":""},{"$f":"IFERROR(VLOOKUP($A$3&\":\"&$A93,'Raw Data - Free time'!$A:$J,5,0),\"\")","v":""},{"$f":"IFERROR(VLOOKUP($A$3&\":\"&$A93,'Raw Data - Free time'!$A:$J,8,0),\"\")","v":""},{"$f":"IFERROR(VLOOKUP($A$3&\":\"&$A93,'Raw Data - Free time'!$A:$J,9,0),\"\")","v":""},"","","","","","",{"$f":"IFERROR(IF($L93=\"\",\"\",VLOOKUP($A$3&\":\"&$A93,'Raw Data - Free time'!$A:$J,10,0)),\"\")","v":""},{"$f":"IFERROR(IF($O93=\"\",\"\",'Work Out'!$B$3),\"\")","v":""},"",""]
[89,{"$f":"IFERROR(VLOOKUP($A$3&\":\"&$A94,'Raw Data - Free time'!$A:$J,2,0),\"\")","v":""},{"$f":"IFERROR(VLOOKUP($A$3&\":\"&$A94,'Raw Data - Free time'!$A:$J,3,0),\"\")","v":""},{"$f":"IFERROR(VLOOKUP($A$3&\":\"&$A94,'Raw Data - Free time'!$A:$J,5,0),\"\")","v":""},{"$f":"IFERROR(VLOOKUP($A$3&\":\"&$A94,'Raw Data - Free time'!$A:$J,8,0),\"\")","v":""},{"$f":"IFERROR(VLOOKUP($A$3&\":\"&$A94,'Raw Data - Free time'!$A:$J,9,0),\"\")","v":""},"","","","","","",{"$f":"IFERROR(IF($L94=\"\",\"\",VLOOKUP($A$3&\":\"&$A94,'Raw Data - Free time'!$A:$J,10,0)),\"\")","v":""},{"$f":"IFERROR(IF($O94=\"\",\"\",'Work Out'!$B$3),\"\")","v":""},"",""]
[90,{"$f":"IFERROR(VLOOKUP($A$3&\":\"&$A95,'Raw Data - Free time'!$A:$J,2,0),\"\")","v":""},{"$f":"IFERROR(VLOOKUP($A$3&\":\"&$A95,'Raw Data - Free time'!$A:$J,3,0),\"\")","v":""},{"$f":"IFERROR(VLOOKUP($A$3&\":\"&$A95,'Raw Data - Free time'!$A:$J,5,0),\"\")","v":""},{"$f":"IFERROR(VLOOKUP($A$3&\":\"&$A95,'Raw Data - Free time'!$A:$J,8,0),\"\")","v":""},{"$f":"IFERROR(VLOOKUP($A$3&\":\"&$A95,'Raw Data - Free time'!$A:$J,9,0),\"\")","v":""},"","","","","","",{"$f":"IFERROR(IF($L95=\"\",\"\",VLOOKUP($A$3&\":\"&$A95,'Raw Data - Free time'!$A:$J,10,0)),\"\")","v":""},{"$f":"IFERROR(IF($O95=\"\",\"\",'Work Out'!$B$3),\"\")","v":""},"",""]
[91,{"$f":"IFERROR(VLOOKUP($A$3&\":\"&$A96,'Raw Data - Free time'!$A:$J,2,0),\"\")","v":""},{"$f":"IFERROR(VLOOKUP($A$3&\":\"&$A96,'Raw Data - Free time'!$A:$J,3,0),\"\")","v":""},{"$f":"IFERROR(VLOOKUP($A$3&\":\"&$A96,'Raw Data - Free time'!$A:$J,5,0),\"\")","v":""},{"$f":"IFERROR(VLOOKUP($A$3&\":\"&$A96,'Raw Data - Free time'!$A:$J,8,0),\"\")","v":""},{"$f":"IFERROR(VLOOKUP($A$3&\":\"&$A96,'Raw Data - Free time'!$A:$J,9,0),\"\")","v":""},"","","","","","",{"$f":"IFERROR(IF($L96=\"\",\"\",VLOOKUP($A$3&\":\"&$A96,'Raw Data - Free time'!$A:$J,10,0)),\"\")","v":""},{"$f":"IFERROR(IF($O96=\"\",\"\",'Work Out'!$B$3),\"\")","v":""},"",""]
[92,{"$f":"IFERROR(VLOOKUP($A$3&\":\"&$A97,'Raw Data - Free time'!$A:$J,2,0),\"\")","v":""},{"$f":"IFERROR(VLOOKUP($A$3&\":\"&$A97,'Raw Data - Free time'!$A:$J,3,0),\"\")","v":""},{"$f":"IFERROR(VLOOKUP($A$3&\":\"&$A97,'Raw Data - Free time'!$A:$J,5,0),\"\")","v":""},{"$f":"IFERROR(VLOOKUP($A$3&\":\"&$A97,'Raw Data - Free time'!$A:$J,8,0),\"\")","v":""},{"$f":"IFERROR(VLOOKUP($A$3&\":\"&$A97,'Raw Data - Free time'!$A:$J,9,0),\"\")","v":""},"","","","","","",{"$f":"IFERROR(IF($L97=\"\",\"\",VLOOKUP($A$3&\":\"&$A97,'Raw Data - Free time'!$A:$J,10,0)),\"\")","v":""},{"$f":"IFERROR(IF($O97=\"\",\"\",'Work Out'!$B$3),\"\")","v":""},"",""]
[93,{"$f":"IFERROR(VLOOKUP($A$3&\":\"&$A98,'Raw Data - Free time'!$A:$J,2,0),\"\")","v":""},{"$f":"IFERROR(VLOOKUP($A$3&\":\"&$A98,'Raw Data - Free time'!$A:$J,3,0),\"\")","v":""},{"$f":"IFERROR(VLOOKUP($A$3&\":\"&$A98,'Raw Data - Free time'!$A:$J,5,0),\"\")","v":""},{"$f":"IFERROR(VLOOKUP($A$3&\":\"&$A98,'Raw Data - Free time'!$A:$J,8,0),\"\")","v":""},{"$f":"IFERROR(VLOOKUP($A$3&\":\"&$A98,'Raw Data - Free time'!$A:$J,9,0),\"\")","v":""},"","","","","","",{"$f":"IFERROR(IF($L98=\"\",\"\",VLOOKUP($A$3&\":\"&$A98,'Raw Data - Free time'!$A:$J,10,0)),\"\")","v":""},{"$f":"IFERROR(IF($O98=\"\",\"\",'Work Out'!$B$3),\"\")","v":""},"",""]
[94,{"$f":"IFERROR(VLOOKUP($A$3&\":\"&$A99,'Raw Data - Free time'!$A:$J,2,0),\"\")","v":""},{"$f":"IFERROR(VLOOKUP($A$3&\":\"&$A99,'Raw Data - Free time'!$A:$J,3,0),\"\")","v":""},{"$f":"IFERROR(VLOOKUP($A$3&\":\"&$A99,'Raw Data - Free time'!$A:$J,5,0),\"\")","v":""},{"$f":"IFERROR(VLOOKUP($A$3&\":\"&$A99,'Raw Data - Free time'!$A:$J,8,0),\"\")","v":""},{"$f":"IFERROR(VLOOKUP($A$3&\":\"&$A99,'Raw Data - Free time'!$A:$J,9,0),\"\")","v":""},"","","","","","",{"$f":"IFERROR(IF($L99=\"\",\"\",VLOOKUP($A$3&\":\"&$A99,'Raw Data - Free time'!$A:$J,10,0)),\"\")","v":""},{"$f":"IFERROR(IF($O99=\"\",\"\",'Work Out'!$B$3),\"\")","v":""},"",""]
[95,{"$f":"IFERROR(VLOOKUP($A$3&\":\"&$A100,'Raw Data - Free time'!$A:$J,2,0),\"\")","v":""},{"$f":"IFERROR(VLOOKUP($A$3&\":\"&$A100,'Raw Data - Free time'!$A:$J,3,0),\"\")","v":""},{"$f":"IFERROR(VLOOKUP($A$3&\":\"&$A100,'Raw Data - Free time'!$A:$J,5,0),\"\")","v":""},{"$f":"IFERROR(VLOOKUP($A$3&\":\"&$A100,'Raw Data - Free time'!$A:$J,8,0),\"\")","v":""},{"$f":"IFERROR(VLOOKUP($A$3&\":\"&$A100,'Raw Data - Free time'!$A:$J,9,0),\"\")","v":""},"","","","","","",{"$f":"IFERROR(IF($L100=\"\",\"\",VLOOKUP($A$3&\":\"&$A100,'Raw Data - Free time'!$A:$J,10,0)),\"\")","v":""},{"$f":"IFERROR(IF($O100=\"\",\"\",'Work Out'!$B$3),\"\")","v":""},"",""]
[96,{"$f":"IFERROR(VLOOKUP($A$3&\":\"&$A101,'Raw Data - Free time'!$A:$J,2,0),\"\")","v":""},{"$f":"IFERROR(VLOOKUP($A$3&\":\"&$A101,'Raw Data - Free time'!$A:$J,3,0),\"\")","v":""},{"$f":"IFERROR(VLOOKUP($A$3&\":\"&$A101,'Raw Data - Free time'!$A:$J,5,0),\"\")","v":""},{"$f":"IFERROR(VLOOKUP($A$3&\":\"&$A101,'Raw Data - Free time'!$A:$J,8,0),\"\")","v":""},{"$f":"IFERROR(VLOOKUP($A$3&\":\"&$A101,'Raw Data - Free time'!$A:$J,9,0),\"\")","v":""},"","","","","","",{"$f":"IFERROR(IF($L101=\"\",\"\",VLOOKUP($A$3&\":\"&$A101,'Raw Data - Free time'!$A:$J,10,0)),\"\")","v":""},{"$f":"IFERROR(IF($O101=\"\",\"\",'Work Out'!$B$3),\"\")","v":""},"",""]
[97,{"$f":"IFERROR(VLOOKUP($A$3&\":\"&$A102,'Raw Data - Free time'!$A:$J,2,0),\"\")","v":""},{"$f":"IFERROR(VLOOKUP($A$3&\":\"&$A102,'Raw Data - Free time'!$A:$J,3,0),\"\")","v":""},{"$f":"IFERROR(VLOOKUP($A$3&\":\"&$A102,'Raw Data - Free time'!$A:$J,5,0),\"\")","v":""},{"$f":"IFERROR(VLOOKUP($A$3&\":\"&$A102,'Raw Data - Free time'!$A:$J,8,0),\"\")","v":""},{"$f":"IFERROR(VLOOKUP($A$3&\":\"&$A102,'Raw Data - Free time'!$A:$J,9,0),\"\")","v":""},"","","","","","",{"$f":"IFERROR(IF($L102=\"\",\"\",VLOOKUP($A$3&\":\"&$A102,'Raw Data - Free time'!$A:$J,10,0)),\"\")","v":""},{"$f":"IFERROR(IF($O102=\"\",\"\",'Work Out'!$B$3),\"\")","v":""},"",""]
[98,{"$f":"IFERROR(VLOOKUP($A$3&\":\"&$A103,'Raw Data - Free time'!$A:$J,2,0),\"\")","v":""},{"$f":"IFERROR(VLOOKUP($A$3&\":\"&$A103,'Raw Data - Free time'!$A:$J,3,0),\"\")","v":""},{"$f":"IFERROR(VLOOKUP($A$3&\":\"&$A103,'Raw Data - Free time'!$A:$J,5,0),\"\")","v":""},{"$f":"IFERROR(VLOOKUP($A$3&\":\"&$A103,'Raw Data - Free time'!$A:$J,8,0),\"\")","v":""},{"$f":"IFERROR(VLOOKUP($A$3&\":\"&$A103,'Raw Data - Free time'!$A:$J,9,0),\"\")","v":""},"","","","","","",{"$f":"IFERROR(IF($L103=\"\",\"\",VLOOKUP($A$3&\":\"&$A103,'Raw Data - Free time'!$A:$J,10,0)),\"\")","v":""},{"$f":"IFERROR(IF($O103=\"\",\"\",'Work Out'!$B$3),\"\")","v":""},"",""]
[99,{"$f":"IFERROR(VLOOKUP($A$3&\":\"&$A104,'Raw Data - Free time'!$A:$J,2,0),\"\")","v":""},{"$f":"IFERROR(VLOOKUP($A$3&\":\"&$A104,'Raw Data - Free time'!$A:$J,3,0),\"\")","v":""},{"$f":"IFERROR(VLOOKUP($A$3&\":\"&$A104,'Raw Data - Free time'!$A:$J,5,0),\"\")","v":""},{"$f":"IFERROR(VLOOKUP($A$3&\":\"&$A104,'Raw Data - Free time'!$A:$J,8,0),\"\")","v":""},{"$f":"IFERROR(VLOOKUP($A$3&\":\"&$A104,'Raw Data - Free time'!$A:$J,9,0),\"\")","v":""},"","","","","","",{"$f":"IFERROR(IF($L104=\"\",\"\",VLOOKUP($A$3&\":\"&$A104,'Raw Data - Free time'!$A:$J,10,0)),\"\")","v":""},{"$f":"IFERROR(IF($O104=\"\",\"\",'Work Out'!$B$3),\"\")","v":""},"",""]
[100,{"$f":"IFERROR(VLOOKUP($A$3&\":\"&$A105,'Raw Data - Free time'!$A:$J,2,0),\"\")","v":""},{"$f":"IFERROR(VLOOKUP($A$3&\":\"&$A105,'Raw Data - Free time'!$A:$J,3,0),\"\")","v":""},{"$f":"IFERROR(VLOOKUP($A$3&\":\"&$A105,'Raw Data - Free time'!$A:$J,5,0),\"\")","v":""},{"$f":"IFERROR(VLOOKUP($A$3&\":\"&$A105,'Raw Data - Free time'!$A:$J,8,0),\"\")","v":""},{"$f":"IFERROR(VLOOKUP($A$3&\":\"&$A105,'Raw Data - Free time'!$A:$J,9,0),\"\")","v":""},"","","","","","",{"$f":"IFERROR(IF($L105=\"\",\"\",VLOOKUP($A$3&\":\"&$A105,'Raw Data - Free time'!$A:$J,10,0)),\"\")","v":""},{"$f":"IFERROR(IF($O105=\"\",\"\",'Work Out'!$B$3),\"\")","v":""},"",""]
[101,{"$f":"IFERROR(VLOOKUP($A$3&\":\"&$A106,'Raw Data - Free time'!$A:$J,2,0),\"\")","v":""},{"$f":"IFERROR(VLOOKUP($A$3&\":\"&$A106,'Raw Data - Free time'!$A:$J,3,0),\"\")","v":""},{"$f":"IFERROR(VLOOKUP($A$3&\":\"&$A106,'Raw Data - Free time'!$A:$J,5,0),\"\")","v":""},{"$f":"IFERROR(VLOOKUP($A$3&\":\"&$A106,'Raw Data - Free time'!$A:$J,8,0),\"\")","v":""},{"$f":"IFERROR(VLOOKUP($A$3&\":\"&$A106,'Raw Data - Free time'!$A:$J,9,0),\"\")","v":""},{"$f":"IFERROR(F106-E106+1,\"\")","v":""},"","","",{"$f":"IFERROR(IF($J106=\"\",\"\",VLOOKUP(D106,$R$5:$U$33,4,0)),\"\")","v":""},"",{"$f":"IFERROR(IF($L106=\"\",\"\",VLOOKUP($A$3&\":\"&$A106,'Raw Data - Free time'!$A:$J,10,0)),\"\")","v":""},{"$f":"IFERROR(IF($O106=\"\",\"\",'Work Out'!$B$3),\"\")","v":""},"",""]
[102,{"$f":"IFERROR(VLOOKUP($A$3&\":\"&$A107,'Raw Data - Free time'!$A:$J,2,0),\"\")","v":""},{"$f":"IFERROR(VLOOKUP($A$3&\":\"&$A107,'Raw Data - Free time'!$A:$J,3,0),\"\")","v":""},{"$f":"IFERROR(VLOOKUP($A$3&\":\"&$A107,'Raw Data - Free time'!$A:$J,5,0),\"\")","v":""},{"$f":"IFERROR(VLOOKUP($A$3&\":\"&$A107,'Raw Data - Free time'!$A:$J,8,0),\"\")","v":""},{"$f":"IFERROR(VLOOKUP($A$3&\":\"&$A107,'Raw Data - Free time'!$A:$J,9,0),\"\")","v":""},"","","","","","",{"$f":"IFERROR(IF($L107=\"\",\"\",VLOOKUP($A$3&\":\"&$A107,'Raw Data - Free time'!$A:$J,10,0)),\"\")","v":""},{"$f":"IFERROR(IF($O107=\"\",\"\",'Work Out'!$B$3),\"\")","v":""},"",""]
[103,{"$f":"IFERROR(VLOOKUP($A$3&\":\"&$A108,'Raw Data - Free time'!$A:$J,2,0),\"\")","v":""},{"$f":"IFERROR(VLOOKUP($A$3&\":\"&$A108,'Raw Data - Free time'!$A:$J,3,0),\"\")","v":""},{"$f":"IFERROR(VLOOKUP($A$3&\":\"&$A108,'Raw Data - Free time'!$A:$J,5,0),\"\")","v":""},{"$f":"IFERROR(VLOOKUP($A$3&\":\"&$A108,'Raw Data - Free time'!$A:$J,8,0),\"\")","v":""},{"$f":"IFERROR(VLOOKUP($A$3&\":\"&$A108,'Raw Data - Free time'!$A:$J,9,0),\"\")","v":""},"","","","","","",{"$f":"IFERROR(IF($L108=\"\",\"\",VLOOKUP($A$3&\":\"&$A108,'Raw Data - Free time'!$A:$J,10,0)),\"\")","v":""},{"$f":"IFERROR(IF($O108=\"\",\"\",'Work Out'!$B$3),\"\")","v":""},"",""]
[104,{"$f":"IFERROR(VLOOKUP($A$3&\":\"&$A109,'Raw Data - Free time'!$A:$J,2,0),\"\")","v":""},{"$f":"IFERROR(VLOOKUP($A$3&\":\"&$A109,'Raw Data - Free time'!$A:$J,3,0),\"\")","v":""},{"$f":"IFERROR(VLOOKUP($A$3&\":\"&$A109,'Raw Data - Free time'!$A:$J,5,0),\"\")","v":""},{"$f":"IFERROR(VLOOKUP($A$3&\":\"&$A109,'Raw Data - Free time'!$A:$J,8,0),\"\")","v":""},{"$f":"IFERROR(VLOOKUP($A$3&\":\"&$A109,'Raw Data - Free time'!$A:$J,9,0),\"\")","v":""},"","","","","","",{"$f":"IFERROR(IF($L109=\"\",\"\",VLOOKUP($A$3&\":\"&$A109,'Raw Data - Free time'!$A:$J,10,0)),\"\")","v":""},{"$f":"IFERROR(IF($O109=\"\",\"\",'Work Out'!$B$3),\"\")","v":""},"",""]
[105,{"$f":"IFERROR(VLOOKUP($A$3&\":\"&$A110,'Raw Data - Free time'!$A:$J,2,0),\"\")","v":""},{"$f":"IFERROR(VLOOKUP($A$3&\":\"&$A110,'Raw Data - Free time'!$A:$J,3,0),\"\")","v":""},{"$f":"IFERROR(VLOOKUP($A$3&\":\"&$A110,'Raw Data - Free time'!$A:$J,5,0),\"\")","v":""},{"$f":"IFERROR(VLOOKUP($A$3&\":\"&$A110,'Raw Data - Free time'!$A:$J,8,0),\"\")","v":""},{"$f":"IFERROR(VLOOKUP($A$3&\":\"&$A110,'Raw Data - Free time'!$A:$J,9,0),\"\")","v":""},"","","","","","",{"$f":"IFERROR(IF($L110=\"\",\"\",VLOOKUP($A$3&\":\"&$A110,'Raw Data - Free time'!$A:$J,10,0)),\"\")","v":""},{"$f":"IFERROR(IF($O110=\"\",\"\",'Work Out'!$B$3),\"\")","v":""},"",""]
[106,{"$f":"IFERROR(VLOOKUP($A$3&\":\"&$A111,'Raw Data - Free time'!$A:$J,2,0),\"\")","v":""},{"$f":"IFERROR(VLOOKUP($A$3&\":\"&$A111,'Raw Data - Free time'!$A:$J,3,0),\"\")","v":""},{"$f":"IFERROR(VLOOKUP($A$3&\":\"&$A111,'Raw Data - Free time'!$A:$J,5,0),\"\")","v":""},{"$f":"IFERROR(VLOOKUP($A$3&\":\"&$A111,'Raw Data - Free time'!$A:$J,8,0),\"\")","v":""},{"$f":"IFERROR(VLOOKUP($A$3&\":\"&$A111,'Raw Data - Free time'!$A:$J,9,0),\"\")","v":""},"","","","","","",{"$f":"IFERROR(IF($L111=\"\",\"\",VLOOKUP($A$3&\":\"&$A111,'Raw Data - Free time'!$A:$J,10,0)),\"\")","v":""},{"$f":"IFERROR(IF($O111=\"\",\"\",'Work Out'!$B$3),\"\")","v":""},"",""]
[107,{"$f":"IFERROR(VLOOKUP($A$3&\":\"&$A112,'Raw Data - Free time'!$A:$J,2,0),\"\")","v":""},{"$f":"IFERROR(VLOOKUP($A$3&\":\"&$A112,'Raw Data - Free time'!$A:$J,3,0),\"\")","v":""},{"$f":"IFERROR(VLOOKUP($A$3&\":\"&$A112,'Raw Data - Free time'!$A:$J,5,0),\"\")","v":""},{"$f":"IFERROR(VLOOKUP($A$3&\":\"&$A112,'Raw Data - Free time'!$A:$J,8,0),\"\")","v":""},{"$f":"IFERROR(VLOOKUP($A$3&\":\"&$A112,'Raw Data - Free time'!$A:$J,9,0),\"\")","v":""},"","","","","","",{"$f":"IFERROR(IF($L112=\"\",\"\",VLOOKUP($A$3&\":\"&$A112,'Raw Data - Free time'!$A:$J,10,0)),\"\")","v":""},{"$f":"IFERROR(IF($O112=\"\",\"\",'Work Out'!$B$3),\"\")","v":""},"",""]
[108,{"$f":"IFERROR(VLOOKUP($A$3&\":\"&$A113,'Raw Data - Free time'!$A:$J,2,0),\"\")","v":""},{"$f":"IFERROR(VLOOKUP($A$3&\":\"&$A113,'Raw Data - Free time'!$A:$J,3,0),\"\")","v":""},{"$f":"IFERROR(VLOOKUP($A$3&\":\"&$A113,'Raw Data - Free time'!$A:$J,5,0),\"\")","v":""},{"$f":"IFERROR(VLOOKUP($A$3&\":\"&$A113,'Raw Data - Free time'!$A:$J,8,0),\"\")","v":""},{"$f":"IFERROR(VLOOKUP($A$3&\":\"&$A113,'Raw Data - Free time'!$A:$J,9,0),\"\")","v":""},"","","","","","",{"$f":"IFERROR(IF($L113=\"\",\"\",VLOOKUP($A$3&\":\"&$A113,'Raw Data - Free time'!$A:$J,10,0)),\"\")","v":""},{"$f":"IFERROR(IF($O113=\"\",\"\",'Work Out'!$B$3),\"\")","v":""},"",""]
[109,{"$f":"IFERROR(VLOOKUP($A$3&\":\"&$A114,'Raw Data - Free time'!$A:$J,2,0),\"\")","v":""},{"$f":"IFERROR(VLOOKUP($A$3&\":\"&$A114,'Raw Data - Free time'!$A:$J,3,0),\"\")","v":""},{"$f":"IFERROR(VLOOKUP($A$3&\":\"&$A114,'Raw Data - Free time'!$A:$J,5,0),\"\")","v":""},{"$f":"IFERROR(VLOOKUP($A$3&\":\"&$A114,'Raw Data - Free time'!$A:$J,8,0),\"\")","v":""},{"$f":"IFERROR(VLOOKUP($A$3&\":\"&$A114,'Raw Data - Free time'!$A:$J,9,0),\"\")","v":""},"","","","","","",{"$f":"IFERROR(IF($L114=\"\",\"\",VLOOKUP($A$3&\":\"&$A114,'Raw Data - Free time'!$A:$J,10,0)),\"\")","v":""},{"$f":"IFERROR(IF($O114=\"\",\"\",'Work Out'!$B$3),\"\")","v":""},"",""]
[110,{"$f":"IFERROR(VLOOKUP($A$3&\":\"&$A115,'Raw Data - Free time'!$A:$J,2,0),\"\")","v":""},{"$f":"IFERROR(VLOOKUP($A$3&\":\"&$A115,'Raw Data - Free time'!$A:$J,3,0),\"\")","v":""},{"$f":"IFERROR(VLOOKUP($A$3&\":\"&$A115,'Raw Data - Free time'!$A:$J,5,0),\"\")","v":""},{"$f":"IFERROR(VLOOKUP($A$3&\":\"&$A115,'Raw Data - Free time'!$A:$J,8,0),\"\")","v":""},{"$f":"IFERROR(VLOOKUP($A$3&\":\"&$A115,'Raw Data - Free time'!$A:$J,9,0),\"\")","v":""},"","","","","","",{"$f":"IFERROR(IF($L115=\"\",\"\",VLOOKUP($A$3&\":\"&$A115,'Raw Data - Free time'!$A:$J,10,0)),\"\")","v":""},{"$f":"IFERROR(IF($O115=\"\",\"\",'Work Out'!$B$3),\"\")","v":""},"",""]
[111,{"$f":"IFERROR(VLOOKUP($A$3&\":\"&$A116,'Raw Data - Free time'!$A:$J,2,0),\"\")","v":""},{"$f":"IFERROR(VLOOKUP($A$3&\":\"&$A116,'Raw Data - Free time'!$A:$J,3,0),\"\")","v":""},{"$f":"IFERROR(VLOOKUP($A$3&\":\"&$A116,'Raw Data - Free time'!$A:$J,5,0),\"\")","v":""},{"$f":"IFERROR(VLOOKUP($A$3&\":\"&$A116,'Raw Data - Free time'!$A:$J,8,0),\"\")","v":""},{"$f":"IFERROR(VLOOKUP($A$3&\":\"&$A116,'Raw Data - Free time'!$A:$J,9,0),\"\")","v":""},"","","","","","",{"$f":"IFERROR(IF($L116=\"\",\"\",VLOOKUP($A$3&\":\"&$A116,'Raw Data - Free time'!$A:$J,10,0)),\"\")","v":""},{"$f":"IFERROR(IF($O116=\"\",\"\",'Work Out'!$B$3),\"\")","v":""},"",""]
[112,{"$f":"IFERROR(VLOOKUP($A$3&\":\"&$A117,'Raw Data - Free time'!$A:$J,2,0),\"\")","v":""},{"$f":"IFERROR(VLOOKUP($A$3&\":\"&$A117,'Raw Data - Free time'!$A:$J,3,0),\"\")","v":""},{"$f":"IFERROR(VLOOKUP($A$3&\":\"&$A117,'Raw Data - Free time'!$A:$J,5,0),\"\")","v":""},{"$f":"IFERROR(VLOOKUP($A$3&\":\"&$A117,'Raw Data - Free time'!$A:$J,8,0),\"\")","v":""},{"$f":"IFERROR(VLOOKUP($A$3&\":\"&$A117,'Raw Data - Free time'!$A:$J,9,0),\"\")","v":""},"","","","","","",{"$f":"IFERROR(IF($L117=\"\",\"\",VLOOKUP($A$3&\":\"&$A117,'Raw Data - Free time'!$A:$J,10,0)),\"\")","v":""},{"$f":"IFERROR(IF($O117=\"\",\"\",'Work Out'!$B$3),\"\")","v":""},"",""]
[113,{"$f":"IFERROR(VLOOKUP($A$3&\":\"&$A118,'Raw Data - Free time'!$A:$J,2,0),\"\")","v":""},{"$f":"IFERROR(VLOOKUP($A$3&\":\"&$A118,'Raw Data - Free time'!$A:$J,3,0),\"\")","v":""},{"$f":"IFERROR(VLOOKUP($A$3&\":\"&$A118,'Raw Data - Free time'!$A:$J,5,0),\"\")","v":""},{"$f":"IFERROR(VLOOKUP($A$3&\":\"&$A118,'Raw Data - Free time'!$A:$J,8,0),\"\")","v":""},{"$f":"IFERROR(VLOOKUP($A$3&\":\"&$A118,'Raw Data - Free time'!$A:$J,9,0),\"\")","v":""},"","","","","","",{"$f":"IFERROR(IF($L118=\"\",\"\",VLOOKUP($A$3&\":\"&$A118,'Raw Data - Free time'!$A:$J,10,0)),\"\")","v":""},{"$f":"IFERROR(IF($O118=\"\",\"\",'Work Out'!$B$3),\"\")","v":""},"",""]
[114,{"$f":"IFERROR(VLOOKUP($A$3&\":\"&$A119,'Raw Data - Free time'!$A:$J,2,0),\"\")","v":""},{"$f":"IFERROR(VLOOKUP($A$3&\":\"&$A119,'Raw Data - Free time'!$A:$J,3,0),\"\")","v":""},{"$f":"IFERROR(VLOOKUP($A$3&\":\"&$A119,'Raw Data - Free time'!$A:$J,5,0),\"\")","v":""},{"$f":"IFERROR(VLOOKUP($A$3&\":\"&$A119,'Raw Data - Free time'!$A:$J,8,0),\"\")","v":""},{"$f":"IFERROR(VLOOKUP($A$3&\":\"&$A119,'Raw Data - Free time'!$A:$J,9,0),\"\")","v":""},"","","","","","",{"$f":"IFERROR(IF($L119=\"\",\"\",VLOOKUP($A$3&\":\"&$A119,'Raw Data - Free time'!$A:$J,10,0)),\"\")","v":""},{"$f":"IFERROR(IF($O119=\"\",\"\",'Work Out'!$B$3),\"\")","v":""},"",""]
[115,{"$f":"IFERROR(VLOOKUP($A$3&\":\"&$A120,'Raw Data - Free time'!$A:$J,2,0),\"\")","v":""},{"$f":"IFERROR(VLOOKUP($A$3&\":\"&$A120,'Raw Data - Free time'!$A:$J,3,0),\"\")","v":""},{"$f":"IFERROR(VLOOKUP($A$3&\":\"&$A120,'Raw Data - Free time'!$A:$J,5,0),\"\")","v":""},{"$f":"IFERROR(VLOOKUP($A$3&\":\"&$A120,'Raw Data - Free time'!$A:$J,8,0),\"\")","v":""},{"$f":"IFERROR(VLOOKUP($A$3&\":\"&$A120,'Raw Data - Free time'!$A:$J,9,0),\"\")","v":""},"","","","","","",{"$f":"IFERROR(IF($L120=\"\",\"\",VLOOKUP($A$3&\":\"&$A120,'Raw Data - Free time'!$A:$J,10,0)),\"\")","v":""},{"$f":"IFERROR(IF($O120=\"\",\"\",'Work Out'!$B$3),\"\")","v":""},"",""]
[116,{"$f":"IFERROR(VLOOKUP($A$3&\":\"&$A121,'Raw Data - Free time'!$A:$J,2,0),\"\")","v":""},{"$f":"IFERROR(VLOOKUP($A$3&\":\"&$A121,'Raw Data - Free time'!$A:$J,3,0),\"\")","v":""},{"$f":"IFERROR(VLOOKUP($A$3&\":\"&$A121,'Raw Data - Free time'!$A:$J,5,0),\"\")","v":""},{"$f":"IFERROR(VLOOKUP($A$3&\":\"&$A121,'Raw Data - Free time'!$A:$J,8,0),\"\")","v":""},{"$f":"IFERROR(VLOOKUP($A$3&\":\"&$A121,'Raw Data - Free time'!$A:$J,9,0),\"\")","v":""},"","","","","","",{"$f":"IFERROR(IF($L121=\"\",\"\",VLOOKUP($A$3&\":\"&$A121,'Raw Data - Free time'!$A:$J,10,0)),\"\")","v":""},{"$f":"IFERROR(IF($O121=\"\",\"\",'Work Out'!$B$3),\"\")","v":""},"",""]
[117,{"$f":"IFERROR(VLOOKUP($A$3&\":\"&$A122,'Raw Data - Free time'!$A:$J,2,0),\"\")","v":""},{"$f":"IFERROR(VLOOKUP($A$3&\":\"&$A122,'Raw Data - Free time'!$A:$J,3,0),\"\")","v":""},{"$f":"IFERROR(VLOOKUP($A$3&\":\"&$A122,'Raw Data - Free time'!$A:$J,5,0),\"\")","v":""},{"$f":"IFERROR(VLOOKUP($A$3&\":\"&$A122,'Raw Data - Free time'!$A:$J,8,0),\"\")","v":""},{"$f":"IFERROR(VLOOKUP($A$3&\":\"&$A122,'Raw Data - Free time'!$A:$J,9,0),\"\")","v":""},"","","","","","",{"$f":"IFERROR(IF($L122=\"\",\"\",VLOOKUP($A$3&\":\"&$A122,'Raw Data - Free time'!$A:$J,10,0)),\"\")","v":""},{"$f":"IFERROR(IF($O122=\"\",\"\",'Work Out'!$B$3),\"\")","v":""},"",""]
[118,{"$f":"IFERROR(VLOOKUP($A$3&\":\"&$A123,'Raw Data - Free time'!$A:$J,2,0),\"\")","v":""},{"$f":"IFERROR(VLOOKUP($A$3&\":\"&$A123,'Raw Data - Free time'!$A:$J,3,0),\"\")","v":""},{"$f":"IFERROR(VLOOKUP($A$3&\":\"&$A123,'Raw Data - Free time'!$A:$J,5,0),\"\")","v":""},{"$f":"IFERROR(VLOOKUP($A$3&\":\"&$A123,'Raw Data - Free time'!$A:$J,8,0),\"\")","v":""},{"$f":"IFERROR(VLOOKUP($A$3&\":\"&$A123,'Raw Data - Free time'!$A:$J,9,0),\"\")","v":""},"","","","","","",{"$f":"IFERROR(IF($L123=\"\",\"\",VLOOKUP($A$3&\":\"&$A123,'Raw Data - Free time'!$A:$J,10,0)),\"\")","v":""},{"$f":"IFERROR(IF($O123=\"\",\"\",'Work Out'!$B$3),\"\")","v":""},"",""]
[119,{"$f":"IFERROR(VLOOKUP($A$3&\":\"&$A124,'Raw Data - Free time'!$A:$J,2,0),\"\")","v":""},{"$f":"IFERROR(VLOOKUP($A$3&\":\"&$A124,'Raw Data - Free time'!$A:$J,3,0),\"\")","v":""},{"$f":"IFERROR(VLOOKUP($A$3&\":\"&$A124,'Raw Data - Free time'!$A:$J,5,0),\"\")","v":""},{"$f":"IFERROR(VLOOKUP($A$3&\":\"&$A124,'Raw Data - Free time'!$A:$J,8,0),\"\")","v":""},{"$f":"IFERROR(VLOOKUP($A$3&\":\"&$A124,'Raw Data - Free time'!$A:$J,9,0),\"\")","v":""},"","","","","","",{"$f":"IFERROR(IF($L124=\"\",\"\",VLOOKUP($A$3&\":\"&$A124,'Raw Data - Free time'!$A:$J,10,0)),\"\")","v":""},{"$f":"IFERROR(IF($O124=\"\",\"\",'Work Out'!$B$3),\"\")","v":""},"",""]
[120,{"$f":"IFERROR(VLOOKUP($A$3&\":\"&$A125,'Raw Data - Free time'!$A:$J,2,0),\"\")","v":""},{"$f":"IFERROR(VLOOKUP($A$3&\":\"&$A125,'Raw Data - Free time'!$A:$J,3,0),\"\")","v":""},{"$f":"IFERROR(VLOOKUP($A$3&\":\"&$A125,'Raw Data - Free time'!$A:$J,5,0),\"\")","v":""},{"$f":"IFERROR(VLOOKUP($A$3&\":\"&$A125,'Raw Data - Free time'!$A:$J,8,0),\"\")","v":""},{"$f":"IFERROR(VLOOKUP($A$3&\":\"&$A125,'Raw Data - Free time'!$A:$J,9,0),\"\")","v":""},"","","","","","",{"$f":"IFERROR(IF($L125=\"\",\"\",VLOOKUP($A$3&\":\"&$A125,'Raw Data - Free time'!$A:$J,10,0)),\"\")","v":""},{"$f":"IFERROR(IF($O125=\"\",\"\",'Work Out'!$B$3),\"\")","v":""},"",""]
[121,{"$f":"IFERROR(VLOOKUP($A$3&\":\"&$A126,'Raw Data - Free time'!$A:$J,2,0),\"\")","v":""},{"$f":"IFERROR(VLOOKUP($A$3&\":\"&$A126,'Raw Data - Free time'!$A:$J,3,0),\"\")","v":""},{"$f":"IFERROR(VLOOKUP($A$3&\":\"&$A126,'Raw Data - Free time'!$A:$J,5,0),\"\")","v":""},{"$f":"IFERROR(VLOOKUP($A$3&\":\"&$A126,'Raw Data - Free time'!$A:$J,8,0),\"\")","v":""},{"$f":"IFERROR(VLOOKUP($A$3&\":\"&$A126,'Raw Data - Free time'!$A:$J,9,0),\"\")","v":""},"","","","","","",{"$f":"IFERROR(IF($L126=\"\",\"\",VLOOKUP($A$3&\":\"&$A126,'Raw Data - Free time'!$A:$J,10,0)),\"\")","v":""},{"$f":"IFERROR(IF($O126=\"\",\"\",'Work Out'!$B$3),\"\")","v":""},"",""]
[122,{"$f":"IFERROR(VLOOKUP($A$3&\":\"&$A127,'Raw Data - Free time'!$A:$J,2,0),\"\")","v":""},{"$f":"IFERROR(VLOOKUP($A$3&\":\"&$A127,'Raw Data - Free time'!$A:$J,3,0),\"\")","v":""},{"$f":"IFERROR(VLOOKUP($A$3&\":\"&$A127,'Raw Data - Free time'!$A:$J,5,0),\"\")","v":""},{"$f":"IFERROR(VLOOKUP($A$3&\":\"&$A127,'Raw Data - Free time'!$A:$J,8,0),\"\")","v":""},{"$f":"IFERROR(VLOOKUP($A$3&\":\"&$A127,'Raw Data - Free time'!$A:$J,9,0),\"\")","v":""},"","","","","","",{"$f":"IFERROR(IF($L127=\"\",\"\",VLOOKUP($A$3&\":\"&$A127,'Raw Data - Free time'!$A:$J,10,0)),\"\")","v":""},{"$f":"IFERROR(IF($O127=\"\",\"\",'Work Out'!$B$3),\"\")","v":""},"",""]
[123,{"$f":"IFERROR(VLOOKUP($A$3&\":\"&$A128,'Raw Data - Free time'!$A:$J,2,0),\"\")","v":""},{"$f":"IFERROR(VLOOKUP($A$3&\":\"&$A128,'Raw Data - Free time'!$A:$J,3,0),\"\")","v":""},{"$f":"IFERROR(VLOOKUP($A$3&\":\"&$A128,'Raw Data - Free time'!$A:$J,5,0),\"\")","v":""},{"$f":"IFERROR(VLOOKUP($A$3&\":\"&$A128,'Raw Data - Free time'!$A:$J,8,0),\"\")","v":""},{"$f":"IFERROR(VLOOKUP($A$3&\":\"&$A128,'Raw Data - Free time'!$A:$J,9,0),\"\")","v":""},"","","","","","",{"$f":"IFERROR(IF($L128=\"\",\"\",VLOOKUP($A$3&\":\"&$A128,'Raw Data - Free time'!$A:$J,10,0)),\"\")","v":""},{"$f":"IFERROR(IF($O128=\"\",\"\",'Work Out'!$B$3),\"\")","v":""},"",""]
[124,{"$f":"IFERROR(VLOOKUP($A$3&\":\"&$A129,'Raw Data - Free time'!$A:$J,2,0),\"\")","v":""},{"$f":"IFERROR(VLOOKUP($A$3&\":\"&$A129,'Raw Data - Free time'!$A:$J,3,0),\"\")","v":""},{"$f":"IFERROR(VLOOKUP($A$3&\":\"&$A129,'Raw Data - Free time'!$A:$J,5,0),\"\")","v":""},{"$f":"IFERROR(VLOOKUP($A$3&\":\"&$A129,'Raw Data - Free time'!$A:$J,8,0),\"\")","v":""},{"$f":"IFERROR(VLOOKUP($A$3&\":\"&$A129,'Raw Data - Free time'!$A:$J,9,0),\"\")","v":""},"","","","","","",{"$f":"IFERROR(IF($L129=\"\",\"\",VLOOKUP($A$3&\":\"&$A129,'Raw Data - Free time'!$A:$J,10,0)),\"\")","v":""},{"$f":"IFERROR(IF($O129=\"\",\"\",'Work Out'!$B$3),\"\")","v":""},"",""]
[125,{"$f":"IFERROR(VLOOKUP($A$3&\":\"&$A130,'Raw Data - Free time'!$A:$J,2,0),\"\")","v":""},{"$f":"IFERROR(VLOOKUP($A$3&\":\"&$A130,'Raw Data - Free time'!$A:$J,3,0),\"\")","v":""},{"$f":"IFERROR(VLOOKUP($A$3&\":\"&$A130,'Raw Data - Free time'!$A:$J,5,0),\"\")","v":""},{"$f":"IFERROR(VLOOKUP($A$3&\":\"&$A130,'Raw Data - Free time'!$A:$J,8,0),\"\")","v":""},{"$f":"IFERROR(VLOOKUP($A$3&\":\"&$A130,'Raw Data - Free time'!$A:$J,9,0),\"\")","v":""},"","","","","","",{"$f":"IFERROR(IF($L130=\"\",\"\",VLOOKUP($A$3&\":\"&$A130,'Raw Data - Free time'!$A:$J,10,0)),\"\")","v":""},{"$f":"IFERROR(IF($O130=\"\",\"\",'Work Out'!$B$3),\"\")","v":""},"",""]
[126,{"$f":"IFERROR(VLOOKUP($A$3&\":\"&$A131,'Raw Data - Free time'!$A:$J,2,0),\"\")","v":""},{"$f":"IFERROR(VLOOKUP($A$3&\":\"&$A131,'Raw Data - Free time'!$A:$J,3,0),\"\")","v":""},{"$f":"IFERROR(VLOOKUP($A$3&\":\"&$A131,'Raw Data - Free time'!$A:$J,5,0),\"\")","v":""},{"$f":"IFERROR(VLOOKUP($A$3&\":\"&$A131,'Raw Data - Free time'!$A:$J,8,0),\"\")","v":""},{"$f":"IFERROR(VLOOKUP($A$3&\":\"&$A131,'Raw Data - Free time'!$A:$J,9,0),\"\")","v":""},"","","","","","",{"$f":"IFERROR(IF($L131=\"\",\"\",VLOOKUP($A$3&\":\"&$A131,'Raw Data - Free time'!$A:$J,10,0)),\"\")","v":""},{"$f":"IFERROR(IF($O131=\"\",\"\",'Work Out'!$B$3),\"\")","v":""},"",""]
[127,{"$f":"IFERROR(VLOOKUP($A$3&\":\"&$A132,'Raw Data - Free time'!$A:$J,2,0),\"\")","v":""},{"$f":"IFERROR(VLOOKUP($A$3&\":\"&$A132,'Raw Data - Free time'!$A:$J,3,0),\"\")","v":""},{"$f":"IFERROR(VLOOKUP($A$3&\":\"&$A132,'Raw Data - Free time'!$A:$J,5,0),\"\")","v":""},{"$f":"IFERROR(VLOOKUP($A$3&\":\"&$A132,'Raw Data - Free time'!$A:$J,8,0),\"\")","v":""},{"$f":"IFERROR(VLOOKUP($A$3&\":\"&$A132,'Raw Data - Free time'!$A:$J,9,0),\"\")","v":""},"","","","","","",{"$f":"IFERROR(IF($L132=\"\",\"\",VLOOKUP($A$3&\":\"&$A132,'Raw Data - Free time'!$A:$J,10,0)),\"\")","v":""},{"$f":"IFERROR(IF($O132=\"\",\"\",'Work Out'!$B$3),\"\")","v":""},"",""]
[128,{"$f":"IFERROR(VLOOKUP($A$3&\":\"&$A133,'Raw Data - Free time'!$A:$J,2,0),\"\")","v":""},{"$f":"IFERROR(VLOOKUP($A$3&\":\"&$A133,'Raw Data - Free time'!$A:$J,3,0),\"\")","v":""},{"$f":"IFERROR(VLOOKUP($A$3&\":\"&$A133,'Raw Data - Free time'!$A:$J,5,0),\"\")","v":""},{"$f":"IFERROR(VLOOKUP($A$3&\":\"&$A133,'Raw Data - Free time'!$A:$J,8,0),\"\")","v":""},{"$f":"IFERROR(VLOOKUP($A$3&\":\"&$A133,'Raw Data - Free time'!$A:$J,9,0),\"\")","v":""},"","","","","","",{"$f":"IFERROR(IF($L133=\"\",\"\",VLOOKUP($A$3&\":\"&$A133,'Raw Data - Free time'!$A:$J,10,0)),\"\")","v":""},{"$f":"IFERROR(IF($O133=\"\",\"\",'Work Out'!$B$3),\"\")","v":""},"",""]
[129,{"$f":"IFERROR(VLOOKUP($A$3&\":\"&$A134,'Raw Data - Free time'!$A:$J,2,0),\"\")","v":""},{"$f":"IFERROR(VLOOKUP($A$3&\":\"&$A134,'Raw Data - Free time'!$A:$J,3,0),\"\")","v":""},{"$f":"IFERROR(VLOOKUP($A$3&\":\"&$A134,'Raw Data - Free time'!$A:$J,5,0),\"\")","v":""},{"$f":"IFERROR(VLOOKUP($A$3&\":\"&$A134,'Raw Data - Free time'!$A:$J,8,0),\"\")","v":""},{"$f":"IFERROR(VLOOKUP($A$3&\":\"&$A134,'Raw Data - Free time'!$A:$J,9,0),\"\")","v":""},"","","","","","",{"$f":"IFERROR(IF($L134=\"\",\"\",VLOOKUP($A$3&\":\"&$A134,'Raw Data - Free time'!$A:$J,10,0)),\"\")","v":""},{"$f":"IFERROR(IF($O134=\"\",\"\",'Work Out'!$B$3),\"\")","v":""},"",""]

{"sheet":"Raw Data - Free time","index":4,"n_rows":33752,"n_cols":12,"rows_kept":4500,"cut":true,"hidden":true,"merged":[],"bounds":{"rows_first":2000,"rows_last":500,"rows_between":2000,"halvings":0}}
[null,"BL number","Container","BL number","Size/type","POD","DP Voy","DIFU Date","Detention End Date","ROE","BL Type"]
[{"$f":"B2&\":\"&COUNTIF($B$2:B2,B2)","v":"HLCURTM220947923:1"},"HLCURTM220947923","UACU6021179","HLCURTM220947923","40 Dry","PKKHI",289609,"2022-11-03","2022-11-12",222.35,"BL"]
[{"$f":"B3&\":\"&COUNTIF($B$2:B3,B3)","v":"HLCUHAM2208AYLK0:1"},"HLCUHAM2208AYLK0","CAIU4791494","HLCUHAM2208AYLK0","40 Dry","PKKHI",289609,"2022-11-03","2022-11-12",222.35,"SW"]
[{"$f":"B4&\":\"&COUNTIF($B$2:B4,B4)","v":"HLCULIV220930230:1"},"HLCULIV220930230","FANU1353879","HLCULIV220930230","20 Dry","PKKHI",289609,"2022-11-03","2022-11-17",222.35,"SW"]
[{"$f":"B5&\":\"&COUNTIF($B$2:B5,B5)","v":"HLCUCPH220811524:1"},"HLCUCPH220811524","CAIU2615140","HLCUCPH220811524","20 Dry","PKKHI",289609,"2022-11-03","2022-11-12",222.35,"BL"]
[{"$f":"B6&\":\"&COUNTIF($B$2:B6,B6)","v":"HLCUCPH220811524:2"},"HLCUCPH220811524","FBIU0435001","HLCUCPH220811524","20 Dry","PKKHI",289609,"2022-11-03","2022-11-12",222.35,"BL"]
[{"$f":"B7&\":\"&COUNTIF($B$2:B7,B7)","v":"HLCUCPH220811524:3"},"HLCUCPH220811524","FTAU1558213","HLCUCPH220811524","20 Dry","PKKHI",289609,"2022-11-03","2022-11-12",222.35,"BL"]
[{"$f":"B8&\":\"&COUNTIF($B$2:B8,B8)","v":"HLCUCPH220811524:4"},"HLCUCPH220811524","UACU3724120","HLCUCPH220811524","20 Dry","PKKHI",289609,"2022-11-03","2022-11-12",222.35,"BL"]
[{"$f":"B9&\":\"&COUNTIF($B$2:B9,B9)","v":"HLCUCPH220811524:5"},"HLCUCPH220811524","HLXU1372350","HLCUCPH220811524","20 Dry","PKKHI",289609,"2022-11-03","2022-11-12",222.35,"BL"]
[{"$f":"B10&\":\"&COUNTIF($B$2:B10,B10)","v":"HLCUCPH220811524:6"},"HLCUCPH220811524","TLLU2547014","HLCUCPH220811524","20 Dry","PKKHI",289609,"2022-11-03","2022-11-12",222.35,"BL"]
[{"$f":"B11&\":\"&COUNTIF($B$2:B11,B11)","v":"HLCUCPH220811524:7"},"HLCUCPH220811524","TEMU5983031","HLCUCPH220811524","20 Dry","PKKHI",289609,"2022-11-03","2022-11-12",222.35,"BL"]
[{"$f":"B12&\":\"&COUNTIF($B$2:B12,B12)","v":"HLCUCPH220811524:8"},"HLCUCPH220811524","UACU3785281","HLCUCPH220811524","20 Dry","PKKHI",289609,"2022-11-03","2022-11-12",222.35,"BL"]
[{"$f":"B13&\":\"&COUNTIF($B$2:B13,B13)","v":"HLCUCPH221003633:1"},"HLCUCPH221003633","UACU3828830","HLCUCPH221003633","20 Dry","PKKHI",289609,"2022-11-02","2022-11-11",222.35,"BL"]
[{"$f":"B14&\":\"&COUNTIF($B$2:B14,B14)","v":"HLCUCPH221003633:2"},"HLCUCPH221003633","GESU3654571","HLCUCPH221003633","20 Dry","PKKHI",289609,"2022-11-03","2022-11-12",222.35,"BL"]
[{"$f":"B15&\":\"&COUNTIF($B$2:B15,B15)","v":"HLCUCPH221003633:3"},"HLCUCPH221003633","SEGU2695267","HLCUCPH221003633","20 Dry","PKKHI",289609,"2022-11-03","2022-11-12",222.35,"BL"]
[{"$f":"B16&\":\"&COUNTIF($B$2:B16,B16)","v":"HLCUCPH221003633:4"},"HLCUCPH221003633","DFSU1383715","HLCUCPH221003633","20 Dry","PKKHI",289609,"2022-11-03","2022-11-12",222.35,"BL"]
[{"$f":"B17&\":\"&COUNTIF($B$2:B17,B17)","v":"HLCUCPH221003633:5"},"HLCUCPH221003633","FSCU7988627","HLCUCPH221003633","20 Dry","PKKHI",289609,"2022-11-03","2022-11-12",222.35,"BL"]
[{"$f":"B18&\":\"&COUNTIF($B$2:B18,B18)","v":"HLCURTM220234669:1"},"HLCURTM220234669","SEGU5625113","HLCURTM220234669","40 Dry","PKKHI",289609,"2022-11-03","2022-11-12",222.35,"BL"]
[{"$f":"B19&\":\"&COUNTIF($B$2:B19,B19)","v":"HLCURTM220836937:1"},"HLCURTM220836937","TGHU9151685","HLCURTM220836937","40 Dry","PKKHI",289609,"2022-11-03","2022-11-12",222.35,"BL"]
[{"$f":"B20&\":\"&COUNTIF($B$2:B20,B20)","v":"HLCUALY221004350:1"},"HLCUALY221004350","TEMU1479824","HLCUALY221004350","20 Dry","PKKHI",289609,"2022-11-02","2022-11-13",222.35,"BL"]
[{"$f":"B21&\":\"&COUNTIF($B$2:B21,B21)","v":"HLCUALY221004350:2"},"HLCUALY221004350","TEMU2621893","HLCUALY221004350","20 Dry","PKKHI",289609,"2022-11-02","2022-11-13",222.35,"BL"]
[{"$f":"B22&\":\"&COUNTIF($B$2:B22,B22)","v":"HLCUALY221004668:1"},"HLCUALY221004668","TCLU3604553","HLCUALY221004668","20 Dry","PKKHI",289609,"2022-11-02","2022-11-13",222.35,"BL"]
[{"$f":"B23&\":\"&COUNTIF($B$2:B23,B23)","v":"HLCUALY221004668:2"},"HLCUALY221004668","BMOU2934390","HLCUALY221004668","20 Dry","PKKHI",289609,"2022-11-02","2022-11-13",222.35,"BL"]
[{"$f":"B24&\":\"&COUNTIF($B$2:B24,B24)","v":"HLCUJE2221002320:1"},"HLCUJE2221002320","HLBU1711461","HLCUJE2221002320","40 Dry","PKKHI",289609,"2022-11-03","2022-11-14",222.35,"SW"]
[{"$f":"B25&\":\"&COUNTIF($B$2:B25,B25)","v":"HLCUJE2221002330:1"},"HLCUJE2221002330","TCLU5533736","HLCUJE2221002330","40 Dry","PKKHI",289609,"2022-11-02","2022-11-13",222.35,"SW"]
[{"$f":"B26&\":\"&COUNTIF($B$2:B26,B26)","v":"HLCUJE2221002341:1"},"HLCUJE2221002341","UACU5650351","HLCUJE2221002341","40 Dry","PKKHI",289609,"2022-11-02","2022-11-13",222.35,"SW"]
[{"$f":"B27&\":\"&COUNTIF($B$2:B27,B27)","v":"HLCUJE2221002352:1"},"HLCUJE2221002352","FANU1914120","HLCUJE2221002352","40 Dry","PKKHI",289609,"2022-11-02","2022-11-13",222.35,"SW"]
[{"$f":"B28&\":\"&COUNTIF($B$2:B28,B28)","v":"HLCUJE2221001784:1"},"HLCUJE2221001784","BMOU4098880","HLCUJE2221001784","40 Dry","PKKHI",289609,"2022-11-02","2022-11-15",222.35,"SW"]
[{"$f":"B29&\":\"&COUNTIF($B$2:B29,B29)","v":"HLCUJE2221001784:2"},"HLCUJE2221001784","SEKU6366310","HLCUJE2221001784","40 Dry","PKKHI",289609,"2022-11-02","2022-11-15",222.35,"SW"]
[{"$f":"B30&\":\"&COUNTIF($B$2:B30,B30)","v":"HLCUJE2221001784:3"},"HLCUJE2221001784","SEKU6418100","HLCUJE2221001784","40 Dry","PKKHI",289609,"2022-11-02","2022-11-15",222.35,"SW"]
[{"$f":"B31&\":\"&COUNTIF($B$2:B31,B31)","v":"HLCUBEL220802844:1"},"HLCUBEL220802844","HLBU2031197","HLCUBEL220802844","40 Dry","PKKHI",289609,"2022-11-03","2022-11-12",222.35,"BL"]
[{"$f":"B32&\":\"&COUNTIF($B$2:B32,B32)","v":"HLCUBEL220802844:2"},"HLCUBEL220802844","HLBU2708333","HLCUBEL220802844","40 Dry","PKKHI",289609,"2022-11-03","2022-11-12",222.35,"BL"]
[{"$f":"B33&\":\"&COUNTIF($B$2:B33,B33)","v":"HLCUBEL220802844:3"},"HLCUBEL220802844","FFAU2857905","HLCUBEL220802844","40 Dry","PKKHI",289609,"2022-11-03","2022-11-12",222.35,"BL"]
[{"$f":"B34&\":\"&COUNTIF($B$2:B34,B34)","v":"HLCUBEL220802844:4"},"HLCUBEL220802844","HLBU1657967","HLCUBEL220802844","40 Dry","PKKHI",289609,"2022-11-03","2022-11-12",222.35,"BL"]
[{"$f":"B35&\":\"&COUNTIF($B$2:B35,B35)","v":"HLCULIV220944080:1"},"HLCULIV220944080","FFAU2107705","HLCULIV220944080","40 Dry","PKKHI",289609,"2022-11-03","2022-11-13",222.35,"SW"]
[{"$f":"B36&\":\"&COUNTIF($B$2:B36,B36)","v":"HLCUHAM2209BIKD5:1"},"HLCUHAM2209BIKD5","HLXU3562410","HLCUHAM2209BIKD5","20 Dry","PKKHI",289609,"2022-11-03","2022-11-14",222.35,"SW"]
[{"$f":"B37&\":\"&COUNTIF($B$2:B37,B37)","v":"HLCUBC1220927750:1"},"HLCUBC1220927750","FDCU0178878","HLCUBC1220927750","40 Dry","PKKHI",289609,"2022-11-03","2022-11-07",222.35,"BL"]
[{"$f":"B38&\":\"&COUNTIF($B$2:B38,B38)","v":"HLCUBC1220927750:2"},"HLCUBC1220927750","BMOU5630180","HLCUBC1220927750","40 Dry","PKKHI",289609,"2022-11-03","2022-11-07",222.35,"BL"]
[{"$f":"B39&\":\"&COUNTIF($B$2:B39,B39)","v":"HLCUBC1220927750:3"},"HLCUBC1220927750","FFAU1786155","HLCUBC1220927750","40 Dry","PKKHI",289609,"2022-11-03","2022-11-07",222.35,"BL"]
[{"$f":"B40&\":\"&COUNTIF($B$2:B40,B40)","v":"HLCUHAM220987350:1"},"HLCUHAM220987350","HLBU9073580","HLCUHAM220987350","40 Reefer","PKKHI",289609,"2022-11-03","2022-11-05",222.35,"SW"]
[{"$f":"B41&\":\"&COUNTIF($B$2:B41,B41)","v":"HLCURTM220836904:1"},"HLCURTM220836904","HLBU1910437","HLCURTM220836904","40 Dry","PKKHI",289609,"2022-11-03","2022-11-12",222.35,"BL"]
[{"$f":"B42&\":\"&COUNTIF($B$2:B42,B42)","v":"HLCURUH221000343:1"},"HLCURUH221000343","TCLU5981896","HLCURUH221000343","40 Dry","PKKHI",289609,"2022-11-03","2022-11-23",222.35,"BL"]
[{"$f":"B43&\":\"&COUNTIF($B$2:B43,B43)","v":"HLCURUH221000343:2"},"HLCURUH221000343","FANU1413005","HLCURUH221000343","40 Dry","PKKHI",289609,"2022-11-02","2022-11-22",222.35,"BL"]
[{"$f":"B44&\":\"&COUNTIF($B$2:B44,B44)","v":"HLCURUH221000343:3"},"HLCURUH221000343","TGBU6119862","HLCURUH221000343","40 Dry","PKKHI",289609,"2022-11-03","2022-11-23",222.35,"BL"]
[{"$f":"B45&\":\"&COUNTIF($B$2:B45,B45)","v":"HLCURUH221000343:4"},"HLCURUH221000343","NIDU5206211","HLCURUH221000343","40 Dry","PKKHI",289609,"2022-11-02","2022-11-22",222.35,"BL"]
[{"$f":"B46&\":\"&COUNTIF($B$2:B46,B46)","v":"HLCURUH221000354:1"},"HLCURUH221000354","UACU5489191","HLCURUH221000354","40 Dry","PKKHI",289609,"2022-11-03","2022-11-23",222.35,"BL"]
[{"$f":"B47&\":\"&COUNTIF($B$2:B47,B47)","v":"HLCURUH221000354:2"},"HLCURUH221000354","TGCU5167535","HLCURUH221000354","40 Dry","PKKHI",289609,"2022-11-02","2022-11-22",222.35,"BL"]
[{"$f":"B48&\":\"&COUNTIF($B$2:B48,B48)","v":"HLCURUH221000354:3"},"HLCURUH221000354","CAIU8076529","HLCURUH221000354","40 Dry","PKKHI",289609,"2022-11-03","2022-11-23",222.35,"BL"]
[{"$f":"B49&\":\"&COUNTIF($B$2:B49,B49)","v":"HLCURUH221000354:4"},"HLCURUH221000354","DFSU7483141","HLCURUH221000354","40 Dry","PKKHI",289609,"2022-11-02","2022-11-22",222.35,"BL"]
[{"$f":"B50&\":\"&COUNTIF($B$2:B50,B50)","v":"HLCUHAM2207BSPS6:1"},"HLCUHAM2207BSPS6","TCLU3277126","HLCUHAM2207BSPS6","20 Dry","PKKHI",289609,"2022-11-03","2022-11-12",222.35,"SW"]
[{"$f":"B51&\":\"&COUNTIF($B$2:B51,B51)","v":"HLCULI2220903115:1"},"HLCULI2220903115","UACU5189738","HLCULI2220903115","40 Dry","PKKHI",289609,"2022-11-03","2022-11-07",222.35,"BL"]
[{"$f":"B52&\":\"&COUNTIF($B$2:B52,B52)","v":"HLCUPRG220903060:1"},"HLCUPRG220903060","WSCU6811634","HLCUPRG220903060","20 Dry","PKKHI",289609,"2022-11-02","",222.35,"BL"]
[{"$f":"B53&\":\"&COUNTIF($B$2:B53,B53)","v":"HLCULIV220850508:1"},"HLCULIV220850508","HLXU5614410","HLCULIV220850508","40 Special","PKKHI",289609,"2022-11-03","2022-11-07",222.35,"BL"]
[{"$f":"B54&\":\"&COUNTIF($B$2:B54,B54)","v":"HLCULIV220931667:1"},"HLCULIV220931667","UACU8582693","HLCULIV220931667","40 Dry","PKKHI",289609,"2022-11-03","2022-11-07",222.35,"SW"]
[{"$f":"B55&\":\"&COUNTIF($B$2:B55,B55)","v":"HLCUHAM2209BEWG3:1"},"HLCUHAM2209BEWG3","FANU1539550","HLCUHAM2209BEWG3","40 Dry","PKKHI",289609,"2022-11-03","2022-11-07",222.35,"SW"]
[{"$f":"B56&\":\"&COUNTIF($B$2:B56,B56)","v":"HLCUHAM2208CBQG5:1"},"HLCUHAM2208CBQG5","HLBU2868666","HLCUHAM2208CBQG5","40 Dry","PKKHI",289609,"2022-11-02","2022-11-11",222.35,"SW"]
[{"$f":"B57&\":\"&COUNTIF($B$2:B57,B57)","v":"HLCUHAM2209BHAX2:1"},"HLCUHAM2209BHAX2","BSIU9650529","HLCUHAM2209BHAX2","40 Dry","PKKHI",289609,"2022-11-02","2022-11-15",222.35,"BL"]
[{"$f":"B58&\":\"&COUNTIF($B$2:B58,B58)","v":"HLCUHAM2209BHAX2:2"},"HLCUHAM2209BHAX2","CAIU4982417","HLCUHAM2209BHAX2","40 Dry","PKKHI",289609,"2022-11-02","2022-11-15",222.35,"BL"]
[{"$f":"B59&\":\"&COUNTIF($B$2:B59,B59)","v":"HLCURDS220900265:1"},"HLCURDS220900265","HLXU8355478","HLCURDS220900265","40 Dry","PKKHI",289609,"2022-11-03","2022-11-12",222.35,"SW"]
[{"$f":"B60&\":\"&COUNTIF($B$2:B60,B60)","v":"HLCURDS220900265:2"},"HLCURDS220900265","TLLU5274680","HLCURDS220900265","40 Dry","PKKHI",289609,"2022-11-03","2022-11-12",222.35,"SW"]
[{"$f":"B61&\":\"&COUNTIF($B$2:B61,B61)","v":"HLCUHAM2208BCZN3:1"},"HLCUHAM2208BCZN3","BGBU5139321","HLCUHAM2208BCZN3","20 Dry","PKKHI",289609,"2022-11-02","",222.35,"SW"]
[{"$f":"B62&\":\"&COUNTIF($B$2:B62,B62)","v":"HLCUHAM2208BCZN3:2"},"HLCUHAM2208BCZN3","BGBU5122695","HLCUHAM2208BCZN3","20 Dry","PKKHI",289609,"2022-11-02","",222.35,"SW"]
[{"$f":"B63&\":\"&COUNTIF($B$2:B63,B63)","v":"HLCUHAM2208BCZN3:3"},"HLCUHAM2208BCZN3","BGBU5120481","HLCUHAM2208BCZN3","20 Dry","PKKHI",289609,"2022-11-02","",222.35,"SW"]
[{"$f":"B64&\":\"&COUNTIF($B$2:B64,B64)","v":"HLCUHAM220947238:1"},"HLCUHAM220947238","TTNU4944368","HLCUHAM220947238","40 Dry","PKKHI",289609,"2022-11-03","2022-11-16",222.35,"SW"]
[{"$f":"B65&\":\"&COUNTIF($B$2:B65,B65)","v":"HLCULIV2208APDL3:1"},"HLCULIV2208APDL3","PULU2022013","HLCULIV2208APDL3","20 Dry","PKKHI",289609,"2022-11-02","",222.35,"BL"]
[{"$f":"B66&\":\"&COUNTIF($B$2:B66,B66)","v":"HLCULIV2208APDL3:2"},"HLCULIV2208APDL3","PULU2022029","HLCULIV2208APDL3","20 Dry","PKKHI",289609,"2022-11-02","",222.35,"BL"]
[{"$f":"B67&\":\"&COUNTIF($B$2:B67,B67)","v":"HLCUJE2221003176:1"},"HLCUJE2221003176","TCLU8119020","HLCUJE2221003176","40 Dry","PKKHI",289609,"2022-11-02","2022-11-11",222.35,"BL"]
[{"$f":"B68&\":\"&COUNTIF($B$2:B68,B68)","v":"HLCUJE2221003176:2"},"HLCUJE2221003176","CAAU5540443","HLCUJE2221003176","40 Dry","PKKHI",289609,"2022-11-02","2022-11-11",222.35,"BL"]
[{"$f":"B69&\":\"&COUNTIF($B$2:B69,B69)","v":"HLCURDS220900243:1"},"HLCURDS220900243","TCLU5499879","HLCURDS220900243","40 Dry","PKKHI",289609,"2022-11-03","2022-11-12",222.35,"BL"]
[{"$f":"B70&\":\"&COUNTIF($B$2:B70,B70)","v":"HLCURUH221000300:1"},"HLCURUH221000300","TEMU6704595","HLCURUH221000300","40 Dry","PKKHI",289609,"2022-11-03","2022-11-23",222.35,"BL"]
[{"$f":"B71&\":\"&COUNTIF($B$2:B71,B71)","v":"HLCURUH221000300:2"},"HLCURUH221000300","BMOU5828900","HLCURUH221000300","40 Dry","PKKHI",289609,"2022-11-03","2022-11-23",222.35,"BL"]
[{"$f":"B72&\":\"&COUNTIF($B$2:B72,B72)","v":"HLCURUH221000300:3"},"HLCURUH221000300","UACU5345511","HLCURUH221000300","40 Dry","PKKHI",289609,"2022-11-03","2022-11-23",222.35,"BL"]
[{"$f":"B73&\":\"&COUNTIF($B$2:B73,B73)","v":"HLCURUH221000300:4"},"HLCURUH221000300","HLBU3398124","HLCURUH221000300","40 Dry","PKKHI",289609,"2022-11-02","2022-11-22",222.35,"BL"]
[{"$f":"B74&\":\"&COUNTIF($B$2:B74,B74)","v":"HLCURTM220763973:1"},"HLCURTM220763973","HLBU2499676","HLCURTM220763973","40 Dry","PKKHI",289609,"2022-11-03","2022-11-23",222.35,"BL"]
[{"$f":"B75&\":\"&COUNTIF($B$2:B75,B75)","v":"HLCUHAM2209BGHA0:1"},"HLCUHAM2209BGHA0","CICU2623731","HLCUHAM2209BGHA0","40 Dry","PKKHI",289609,"2022-11-02","",222.35,"SW"]
[{"$f":"B76&\":\"&COUNTIF($B$2:B76,B76)","v":"HLCUHAM2209BGHA0:2"},"HLCUHAM2209BGHA0","CICU2623726","HLCUHAM2209BGHA0","40 Dry","PKKHI",289609,"2022-11-02","",222.35,"SW"]
[{"$f":"B77&\":\"&COUNTIF($B$2:B77,B77)","v":"HLCULIV220875800:1"},"HLCULIV220875800","TCNU1785260","HLCULIV220875800","40 Dry","PKKHI",289609,"2022-11-03","2022-11-07",222.35,"SW"]
[{"$f":"B78&\":\"&COUNTIF($B$2:B78,B78)","v":"HLCURTM220967133:1"},"HLCURTM220967133","CCLU7189330","HLCURTM220967133","40 Dry","PKKHI",289609,"2022-11-02","",222.35,"SW"]
[{"$f":"B79&\":\"&COUNTIF($B$2:B79,B79)","v":"HLCUAB1220903384:1"},"HLCUAB1220903384","TEMU4273396","HLCUAB1220903384","20 Dry","PKKHI",289609,"2022-11-03","2022-11-07",222.35,"BL"]
[{"$f":"B80&\":\"&COUNTIF($B$2:B80,B80)","v":"HLCURDS220900287:1"},"HLCURDS220900287","HLXU8555178","HLCURDS220900287","40 Dry","PKKHI",289609,"2022-11-03","2022-11-12",222.35,"SW"]
[{"$f":"B81&\":\"&COUNTIF($B$2:B81,B81)","v":"HLCURDS220900287:2"},"HLCURDS220900287","TCLU5096636","HLCURDS220900287","40 Dry","PKKHI",289609,"2022-11-03","2022-11-12",222.35,"SW"]
[{"$f":"B82&\":\"&COUNTIF($B$2:B82,B82)","v":"HLCURDS220900287:3"},"HLCURDS220900287","TCLU6519012","HLCURDS220900287","40 Dry","PKKHI",289609,"2022-11-03","2022-11-12",222.35,"SW"]
[{"$f":"B83&\":\"&COUNTIF($B$2:B83,B83)","v":"HLCURDS220900287:4"},"HLCURDS220900287","UACU5794451","HLCURDS220900287","40 Dry","PKKHI",289609,"2022-11-03","2022-11-12",222.35,"SW"]
[{"$f":"B84&\":\"&COUNTIF($B$2:B84,B84)","v":"HLCURDS220900287:5"},"HLCURDS220900287","UASU1031113","HLCURDS220900287","40 Dry","PKKHI",289609,"2022-11-03","2022-11-12",222.35,"SW"]
[{"$f":"B85&\":\"&COUNTIF($B$2:B85,B85)","v":"HLCURTM220208270:1"},"HLCURTM220208270","HAMU1158870","HLCURTM220208270","40 Dry","PKKHI",289609,"2022-11-03","2022-11-12",222.35,"BL"]
[{"$f":"B86&\":\"&COUNTIF($B$2:B86,B86)","v":"HLCUHAM2208CDCL4:1"},"HLCUHAM2208CDCL4","UACU5212709","HLCUHAM2208CDCL4","40 Dry","PKKHI",289609,"2022-11-03","2022-11-12",222.35,"SW"]
[{"$f":"B87&\":\"&COUNTIF($B$2:B87,B87)","v":"HLCURDS220900411:1"},"HLCURDS220900411","SEGU6890277","HLCURDS220900411","40 Dry","PKKHI",289609,"2022-11-03","2022-11-12",222.35,"SW"]
[{"$f":"B88&\":\"&COUNTIF($B$2:B88,B88)","v":"HLCURDS220900411:2"},"HLCURDS220900411","UETU5742339","HLCURDS220900411","40 Dry","PKKHI",289609,"2022-11-03","2022-11-12",222.35,"SW"]
[{"$f":"B89&\":\"&COUNTIF($B$2:B89,B89)","v":"HLCURUH221000310:1"},"HLCURUH221000310","SEGU5637367","HLCURUH221000310","40 Dry","PKKHI",289609,"2022-11-03","2022-11-23",222.35,"BL"]
[{"$f":"B90&\":\"&COUNTIF($B$2:B90,B90)","v":"HLCURUH221000310:2"},"HLCURUH221000310","XINU8119300","HLCURUH221000310","40 Dry","PKKHI",289609,"2022-11-03","2022-11-23",222.35,"BL"]
[{"$f":"B91&\":\"&COUNTIF($B$2:B91,B91)","v":"HLCURUH221000310:3"},"HLCURUH221000310","FANU1769721","HLCURUH221000310","40 Dry","PKKHI",289609,"2022-11-03","2022-11-23",222.35,"BL"]
[{"$f":"B92&\":\"&COUNTIF($B$2:B92,B92)","v":"HLCURUH221000310:4"},"HLCURUH221000310","HLXU8140947","HLCURUH221000310","40 Dry","PKKHI",289609,"2022-11-03","2022-11-23",222.35,"BL"]
[{"$f":"B93&\":\"&COUNTIF($B$2:B93,B93)","v":"HLCUHAM220981606:1"},"HLCUHAM220981606","HLBU9007280","HLCUHAM220981606","40 Reefer","PKKHI",289609,"2022-11-03","2022-11-05",222.35,"SW"]
[{"$f":"B94&\":\"&COUNTIF($B$2:B94,B94)","v":"HLCUHAM2209AYTB4:1"},"HLCUHAM2209AYTB4","MTSU9674837","HLCUHAM2209AYTB4","40 Dry","PKKHI",289609,"2022-11-02","2022-11-06",222.35,"SW"]
[{"$f":"B95&\":\"&COUNTIF($B$2:B95,B95)","v":"HLCUHAM2209AYTB4:2"},"HLCUHAM2209AYTB4","HLXU6555137","HLCUHAM2209AYTB4","40 Dry","PKKHI",289609,"2022-11-03","2022-11-07",222.35,"SW"]
[{"$f":"B96&\":\"&COUNTIF($B$2:B96,B96)","v":"HLCUJE2221002363:1"},"HLCUJE2221002363","HLBU2219097","HLCUJE2221002363","40 Dry","PKKHI",289609,"2022-11-02","2022-11-13",222.35,"SW"]
[{"$f":"B97&\":\"&COUNTIF($B$2:B97,B97)","v":"HLCUJE2221002374:1"},"HLCUJE2221002374","FCIU8099749","HLCUJE2221002374","40 Dry","PKKHI",289609,"2022-11-02","2022-11-13",222.35,"SW"]
[{"$f":"B98&\":\"&COUNTIF($B$2:B98,B98)","v":"HLCUJE2221002385:1"},"HLCUJE2221002385","FCIU9106884","HLCUJE2221002385","40 Dry","PKKHI",289609,"2022-11-02","2022-11-13",222.35,"SW"]
[{"$f":"B99&\":\"&COUNTIF($B$2:B99,B99)","v":"HLCUBEL220900752:1"},"HLCUBEL220900752","BMOU6637106","HLCUBEL220900752","40 Dry","PKKHI",289609,"2022-11-03","2022-11-12",222.35,"BL"]
[{"$f":"B100&\":\"&COUNTIF($B$2:B100,B100)","v":"HLCUBEL220900752:2"},"HLCUBEL220900752","HLBU3170108","HLCUBEL220900752","40 Dry","PKKHI",289609,"2022-11-03","2022-11-12",222.35,"BL"]
[{"$f":"B101&\":\"&COUNTIF($B$2:B101,B101)","v":"HLCUBEL220900752:3"},"HLCUBEL220900752","FANU1855645","HLCUBEL220900752","40 Dry","PKKHI",289609,"2022-11-03","2022-11-12",222.35,"BL"]
[{"$f":"B102&\":\"&COUNTIF($B$2:B102,B102)","v":"HLCUBEL220900752:4"},"HLCUBEL220900752","FANU1944845","HLCUBEL220900752","40 Dry","PKKHI",289609,"2022-11-03","2022-11-12",222.35,"BL"]
[{"$f":"B103&\":\"&COUNTIF($B$2:B103,B103)","v":"HLCUANR220920848:1"},"HLCUANR220920848","HLBU1081969","HLCUANR220920848","40 Dry","PKKHI",289609,"2022-11-03","2022-11-16",222.35,"BL"]
[{"$f":"B104&\":\"&COUNTIF($B$2:B104,B104)","v":"HLCUANR220920848:2"},"HLCUANR220920848","HLBU3366873","HLCUANR220920848","40 Dry","PKKHI",289609,"2022-11-03","2022-11-16",222.35,"BL"]
[{"$f":"B105&\":\"&COUNTIF($B$2:B105,B105)","v":"HLCUGOT220819898:1"},"HLCUGOT220819898","HLXU8298188","HLCUGOT220819898","40 Dry","PKKHI",289609,"2022-11-03","2022-11-12",222.35,"BL"]
[{"$f":"B106&\":\"&COUNTIF($B$2:B106,B106)","v":"HLCUGOT220819898:2"},"HLCUGOT220819898","UACU5917812","HLCUGOT220819898","40 Dry","PKKHI",289609,"2022-11-03","2022-11-12",222.35,"BL"]
[{"$f":"B107&\":\"&COUNTIF($B$2:B107,B107)","v":"HLCUGOT220819898:3"},"HLCUGOT220819898","UACU5282917","HLCUGOT220819898","40 Dry","PKKHI",289609,"2022-11-03","2022-11-12",222.35,"BL"]
[{"$f":"B108&\":\"&COUNTIF($B$2:B108,B108)","v":"HLCUGOT220819898:4"},"HLCUGOT220819898","HLBU2101036","HLCUGOT220819898","40 Dry","PKKHI",289609,"2022-11-03","2022-11-12",222.35,"BL"]
[{"$f":"B109&\":\"&COUNTIF($B$2:B109,B109)","v":"HLCUGOT220819898:5"},"HLCUGOT220819898","SLSU8037521","HLCUGOT220819898","40 Dry","PKKHI",289609,"2022-11-02","2022-11-11",222.35,"BL"]
[{"$f":"B110&\":\"&COUNTIF($B$2:B110,B110)","v":"HLCUGOT220819898:6"},"HLCUGOT220819898","UACU5163625","HLCUGOT220819898","40 Dry","PKKHI",289609,"2022-11-02","2022-11-11",222.35,"BL"]
[{"$f":"B111&\":\"&COUNTIF($B$2:B111,B111)","v":"HLCUGOT220819898:7"},"HLCUGOT220819898","TLLU5234353","HLCUGOT220819898","40 Dry","PKKHI",289609,"2022-11-03","2022-11-12",222.35,"BL"]
[{"$f":"B112&\":\"&COUNTIF($B$2:B112,B112)","v":"HLCUGOT220819898:8"},"HLCUGOT220819898","HLXU8202885","HLCUGOT220819898","40 Dry","PKKHI",289609,"2022-11-03","2022-11-12",222.35,"BL"]
[{"$f":"B113&\":\"&COUNTIF($B$2:B113,B113)","v":"HLCUGOT220819898:9"},"HLCUGOT220819898","HLXU8509980","HLCUGOT220819898","40 Dry","PKKHI",289609,"2022-11-03","2022-11-12",222.35,"BL"]
[{"$f":"B114&\":\"&COUNTIF($B$2:B114,B114)","v":"HLCUGOT220819898:10"},"HLCUGOT220819898","FANU1439611","HLCUGOT220819898","40 Dry","PKKHI",289609,"2022-11-03","2022-11-12",222.35,"BL"]
[{"$f":"B115&\":\"&COUNTIF($B$2:B115,B115)","v":"HLCUGOT220819898:11"},"HLCUGOT220819898","HLXU8315808","HLCUGOT220819898","40 Dry","PKKHI",289609,"2022-11-03","2022-11-12",222.35,"BL"]
[{"$f":"B116&\":\"&COUNTIF($B$2:B116,B116)","v":"HLCUGOT220819898:12"},"HLCUGOT220819898","NIDU5170700","HLCUGOT220819898","40 Dry","PKKHI",289609,"2022-11-03","2022-11-12",222.35,"BL"]
[{"$f":"B117&\":\"&COUNTIF($B$2:B117,B117)","v":"HLCUGOT220819898:13"},"HLCUGOT220819898","HAMU1276512","HLCUGOT220819898","40 Dry","PKKHI",289609,"2022-11-03","2022-11-12",222.35,"BL"]
[{"$f":"B118&\":\"&COUNTIF($B$2:B118,B118)","v":"HLCUGOT220819898:14"},"HLCUGOT220819898","TEMU7580499","HLCUGOT220819898","40 Dry","PKKHI",289609,"2022-11-03","2022-11-12",222.35,"BL"]
[{"$f":"B119&\":\"&COUNTIF($B$2:B119,B119)","v":"HLCUGOT220819898:15"},"HLCUGOT220819898","FANU1596293","HLCUGOT220819898","40 Dry","PKKHI",289609,"2022-11-03","2022-11-12",222.35,"BL"]
[{"$f":"B120&\":\"&COUNTIF($B$2:B120,B120)","v":"HLCUGOT220819898:16"},"HLCUGOT220819898","UACU5310346","HLCUGOT220819898","40 Dry","PKKHI",289609,"2022-11-03","2022-11-12",222.35,"BL"]
[{"$f":"B121&\":\"&COUNTIF($B$2:B121,B121)","v":"HLCUGOT220819898:17"},"HLCUGOT220819898","FANU1529546","HLCUGOT220819898","40 Dry","PKKHI",289609,"2022-11-03","2022-11-12",222.35,"BL"]
[{"$f":"B122&\":\"&COUNTIF($B$2:B122,B122)","v":"HLCUGOT220819898:18"},"HLCUGOT220819898","FANU1200885","HLCUGOT220819898","40 Dry","PKKHI",289609,"2022-11-03","2022-11-12",222.35,"BL"]
[{"$f":"B123&\":\"&COUNTIF($B$2:B123,B123)","v":"HLCUGOT220819898:19"},"HLCUGOT220819898","BEAU5354386","HLCUGOT220819898","40 Dry","PKKHI",289609,"2022-11-03","2022-11-12",222.35,"BL"]
[{"$f":"B124&\":\"&COUNTIF($B$2:B124,B124)","v":"HLCUGOT220819898:20"},"HLCUGOT220819898","UACU5454106","HLCUGOT220819898","40 Dry","PKKHI",289609,"2022-11-03","2022-11-12",222.35,"BL"]
[{"$f":"B125&\":\"&COUNTIF($B$2:B125,B125)","v":"HLCUGOT220819898:21"},"HLCUGOT220819898","HLBU2719277","HLCUGOT220819898","40 Dry","PKKHI",289609,"2022-11-03","2022-11-12",222.35,"BL"]
[{"$f":"B126&\":\"&COUNTIF($B$2:B126,B126)","v":"HLCUGOT220819898:22"},"HLCUGOT220819898","HLXU6363730","HLCUGOT220819898","40 Dry","PKKHI",289609,"2022-11-03","2022-11-12",222.35,"BL"]
[{"$f":"B127&\":\"&COUNTIF($B$2:B127,B127)","v":"HLCUGOT220819898:23"},"HLCUGOT220819898","UACU5869490","HLCUGOT220819898","40 Dry","PKKHI",289609,"2022-11-03","2022-11-12",222.35,"BL"]
[{"$f":"B128&\":\"&COUNTIF($B$2:B128,B128)","v":"HLCUGOT220819898:24"},"HLCUGOT220819898","BMOU6656240","HLCUGOT220819898","40 Dry","PKKHI",289609,"2022-11-03","2022-11-12",222.35,"BL"]
[{"$f":"B129&\":\"&COUNTIF($B$2:B129,B129)","v":"HLCUGOT220814912:1"},"HLCUGOT220814912","TGBU2218620","HLCUGOT220814912","20 Dry","PKKHI",289609,"2022-11-03","2022-11-12",222.35,"SW"]
[{"$f":"B130&\":\"&COUNTIF($B$2:B130,B130)","v":"HLCUHAM2209AVEU7:1"},"HLCUHAM2209AVEU7","FCIU3468335","HLCUHAM2209AVEU7","20 Dry","PKKHI",289609,"2022-11-03","2022-11-14",222.35,"SW"]
[{"$f":"B131&\":\"&COUNTIF($B$2:B131,B131)","v":"HLCURTM2208APHQ0:1"},"HLCURTM2208APHQ0","HLXU8345084","HLCURTM2208APHQ0","40 Dry","PKKHI",289609,"2022-11-03","2022-11-23",222.35,"BL"]
[{"$f":"B132&\":\"&COUNTIF($B$2:B132,B132)","v":"HLCURTM2208APHQ0:2"},"HLCURTM2208APHQ0","TLLU5944397","HLCURTM2208APHQ0","40 Dry","PKKHI",289609,"2022-11-03","2022-11-23",222.35,"BL"]
[{"$f":"B133&\":\"&COUNTIF($B$2:B133,B133)","v":"HLCURTM2208APHQ0:3"},"HLCURTM2208APHQ0","TGHU8662438","HLCURTM2208APHQ0","40 Dry","PKKHI",289609,"2022-11-03","2022-11-23",222.35,"BL"]
[{"$f":"B134&\":\"&COUNTIF($B$2:B134,B134)","v":"HLCURTM2208APHQ0:4"},"HLCURTM2208APHQ0","FCIU7344857","HLCURTM2208APHQ0","40 Dry","PKKHI",289609,"2022-11-03","2022-11-23",222.35,"BL"]
[{"$f":"B135&\":\"&COUNTIF($B$2:B135,B135)","v":"HLCURTM2208APHQ0:5"},"HLCURTM2208APHQ0","HAMU1255361","HLCURTM2208APHQ0","40 Dry","PKKHI",289609,"2022-11-03","2022-11-23",222.35,"BL"]
[{"$f":"B136&\":\"&COUNTIF($B$2:B136,B136)","v":"HLCURTM2208APHQ0:6"},"HLCURTM2208APHQ0","GESU6513730","HLCURTM2208APHQ0","40 Dry","PKKHI",289609,"2022-11-03","2022-11-23",222.35,"BL"]
[{"$f":"B137&\":\"&COUNTIF($B$2:B137,B137)","v":"HLCURTM2208APHQ0:7"},"HLCURTM2208APHQ0","HLBU3388091","HLCURTM2208APHQ0","40 Dry","PKKHI",289609,"2022-11-03","2022-11-23",222.35,"BL"]
[{"$f":"B138&\":\"&COUNTIF($B$2:B138,B138)","v":"HLCURTM2208APHQ0:8"},"HLCURTM2208APHQ0","HLBU3323697","HLCURTM2208APHQ0","40 Dry","PKKHI",289609,"2022-11-03","2022-11-23",222.35,"BL"]
[{"$f":"B139&\":\"&COUNTIF($B$2:B139,B139)","v":"HLCULIV220850530:1"},"HLCULIV220850530","TRLU6427701","HLCULIV220850530","40 Special","PKKHI",289609,"2022-11-03","2022-11-07",222.35,"BL"]
[{"$f":"B140&\":\"&COUNTIF($B$2:B140,B140)","v":"HLCUPRG220816700:1"},"HLCUPRG220816700","TCNU8413984","HLCUPRG220816700","40 Dry","PKKHI",289609,"2022-11-02","2022-11-06",222.35,"BL"]
[{"$f":"B141&\":\"&COUNTIF($B$2:B141,B141)","v":"HLCUHAM220911031:1"},"HLCUHAM220911031","HLBU1860906","HLCUHAM220911031","40 Dry","PKKHI",289609,"2022-11-02","2022-11-06",222.35,"BL"]
[{"$f":"B142&\":\"&COUNTIF($B$2:B142,B142)","v":"HLCULIV220902046:1"},"HLCULIV220902046","FSCU8238144","HLCULIV220902046","40 Dry","PKKHI",289609,"2022-11-03","2022-11-12",222.35,"BL"]
[{"$f":"B143&\":\"&COUNTIF($B$2:B143,B143)","v":"HLCUHAM2209BHAR6:1"},"HLCUHAM2209BHAR6","FANU1911163","HLCUHAM2209BHAR6","40 Dry","PKKHI",289609,"2022-11-02","2022-11-15",222.35,"BL"]
[{"$f":"B144&\":\"&COUNTIF($B$2:B144,B144)","v":"HLCUHAM2209BHAR6:2"},"HLCUHAM2209BHAR6","HLBU2889777","HLCUHAM2209BHAR6","40 Dry","PKKHI",289609,"2022-11-02","2022-11-15",222.35,"BL"]
[{"$f":"B145&\":\"&COUNTIF($B$2:B145,B145)","v":"HLCUHAM2209BAWY8:1"},"HLCUHAM2209BAWY8","CAIU2650352","HLCUHAM2209BAWY8","20 Dry","PKKHI",289609,"2022-11-03","2022-11-07",222.35,"SW"]
[{"$f":"B146&\":\"&COUNTIF($B$2:B146,B146)","v":"HLCUHAM2209BAWY8:2"},"HLCUHAM2209BAWY8","CAIU2615747","HLCUHAM2209BAWY8","20 Dry","PKKHI",289609,"2022-11-03","2022-11-07",222.35,"SW"]
[{"$f":"B147&\":\"&COUNTIF($B$2:B147,B147)","v":"HLCULIV220935138:1"},"HLCULIV220935138","TCLU5417422","HLCULIV220935138","40 Dry","PKKHI",289609,"2022-11-03","2022-11-07",222.35,"SW"]
[{"$f":"B148&\":\"&COUNTIF($B$2:B148,B148)","v":"HLCULIV220876719:1"},"HLCULIV220876719","HLBU9734864","HLCULIV220876719","20 Reefer","PKKHI",289609,"2022-11-03","2022-11-05",222.35,"BL"]
[{"$f":"B149&\":\"&COUNTIF($B$2:B149,B149)","v":"HLCUALY221002440:1"},"HLCUALY221002440","DFSU1277333","HLCUALY221002440","20 Dry","PKKHI",289609,"2022-11-03","2022-11-14",222.35,"BL"]
[{"$f":"B150&\":\"&COUNTIF($B$2:B150,B150)","v":"HLCUALY221002440:2"},"HLCUALY221002440","UETU2736923","HLCUALY221002440","20 Dry","PKKHI",289609,"2022-11-03","2022-11-14",222.35,"BL"]
[{"$f":"B151&\":\"&COUNTIF($B$2:B151,B151)","v":"HLCUTOR220919910:1"},"HLCUTOR220919910","SEGU5456219","HLCUTOR220919910","40 Dry","PKKHI",289609,"2022-11-03","2022-11-14",222.35,"SW"]
[{"$f":"B152&\":\"&COUNTIF($B$2:B152,B152)","v":"HLCUTOR220917015:1"},"HLCUTOR220917015","FANU1882511","HLCUTOR220917015","40 Dry","PKKHI",289609,"2022-11-03","2022-11-14",222.35,"SW"]
[{"$f":"B153&\":\"&COUNTIF($B$2:B153,B153)","v":"HLCUTOR220907728:1"},"HLCUTOR220907728","TCLU6522588","HLCUTOR220907728","40 Dry","PKKHI",289609,"2022-11-03","2022-11-14",222.35,"SW"]
[{"$f":"B154&\":\"&COUNTIF($B$2:B154,B154)","v":"HLCUTOR220916129:1"},"HLCUTOR220916129","CAIU8875947","HLCUTOR220916129","40 Dry","PKKHI",289609,"2022-11-03","2022-11-14",222.35,"BL"]
[{"$f":"B155&\":\"&COUNTIF($B$2:B155,B155)","v":"HLCUTOR220916129:2"},"HLCUTOR220916129","HLBU3114589","HLCUTOR220916129","40 Dry","PKKHI",289609,"2022-11-03","2022-11-14",222.35,"BL"]
[{"$f":"B156&\":\"&COUNTIF($B$2:B156,B156)","v":"HLCUTOR220910100:1"},"HLCUTOR220910100","HLXU8277610","HLCUTOR220910100","40 Dry","PKKHI",289609,"2022-11-03","2022-11-14",222.35,"SW"]
[{"$f":"B157&\":\"&COUNTIF($B$2:B157,B157)","v":"HLCUTOR220919624:1"},"HLCUTOR220919624","TLLU5266392","HLCUTOR220919624","40 Dry","PKKHI",289609,"2022-11-03","2022-11-14",222.35,"SW"]
[{"$f":"B158&\":\"&COUNTIF($B$2:B158,B158)","v":"HLCUPRG220908656:1"},"HLCUPRG220908656","UACU5299376","HLCUPRG220908656","40 Dry","PKKHI",289609,"2022-11-02","2022-11-11",222.35,"BL"]
[{"$f":"B159&\":\"&COUNTIF($B$2:B159,B159)","v":"HLCUTOR220917026:1"},"HLCUTOR220917026","FANU1072296","HLCUTOR220917026","40 Dry","PKKHI",289609,"2022-11-03","2022-11-14",222.35,"SW"]
[{"$f":"B160&\":\"&COUNTIF($B$2:B160,B160)","v":"HLCURI5220734022:1"},"HLCURI5220734022","TGHU0622151","HLCURI5220734022","20 Dry","PKKHI",289609,"2022-11-03","2022-11-07",222.35,"SW"]
[{"$f":"B161&\":\"&COUNTIF($B$2:B161,B161)","v":"HLCURI5220734022:2"},"HLCURI5220734022","TEMU1618175","HLCURI5220734022","20 Dry","PKKHI",289609,"2022-11-03","2022-11-07",222.35,"SW"]
[{"$f":"B162&\":\"&COUNTIF($B$2:B162,B162)","v":"HLCURI5220734022:3"},"HLCURI5220734022","BMOU2901165","HLCURI5220734022","20 Dry","PKKHI",289609,"2022-11-03","2022-11-07",222.35,"SW"]
[{"$f":"B163&\":\"&COUNTIF($B$2:B163,B163)","v":"HLCURI5220734022:4"},"HLCURI5220734022","TGHU0083466","HLCURI5220734022","20 Dry","PKKHI",289609,"2022-11-03","2022-11-07",222.35,"SW"]
[{"$f":"B164&\":\"&COUNTIF($B$2:B164,B164)","v":"HLCURI5220734022:5"},"HLCURI5220734022","UACU3672990","HLCURI5220734022","20 Dry","PKKHI",289609,"2022-11-03","2022-11-07",222.35,"SW"]
[{"$f":"B165&\":\"&COUNTIF($B$2:B165,B165)","v":"HLCUTOR220917048:1"},"HLCUTOR220917048","UACU5768257","HLCUTOR220917048","40 Dry","PKKHI",289609,"2022-11-03","2022-11-14",222.35,"SW"]
[{"$f":"B166&\":\"&COUNTIF($B$2:B166,B166)","v":"HLCUTOR220921121:1"},"HLCUTOR220921121","FANU1729694","HLCUTOR220921121","40 Dry","PKKHI",289609,"2022-11-03","2022-11-14",222.35,"BL"]
[{"$f":"B167&\":\"&COUNTIF($B$2:B167,B167)","v":"HLCUBSC2209AXOO8:1"},"HLCUBSC2209AXOO8","UETU2802394","HLCUBSC2209AXOO8","20 Dry","PKKHI",289609,"2022-11-02","2022-11-06",222.35,"BL"]
[{"$f":"B168&\":\"&COUNTIF($B$2:B168,B168)","v":"HLCUBSC2209AXOO8:2"},"HLCUBSC2209AXOO8","HLBU3420167","HLCUBSC2209AXOO8","40 Dry","PKKHI",289609,"2022-11-02","2022-11-06",222.35,"BL"]
[{"$f":"B169&\":\"&COUNTIF($B$2:B169,B169)","v":"HLCURI5220734033:1"},"HLCURI5220734033","BMOU2118648","HLCURI5220734033","20 Dry","PKKHI",289609,"2022-11-03","2022-11-07",222.35,"SW"]
[{"$f":"B170&\":\"&COUNTIF($B$2:B170,B170)","v":"HLCURI5220734033:2"},"HLCURI5220734033","BSIU2271797","HLCURI5220734033","20 Dry","PKKHI",289609,"2022-11-03","2022-11-07",222.35,"SW"]
[{"$f":"B171&\":\"&COUNTIF($B$2:B171,B171)","v":"HLCURI5220734033:3"},"HLCURI5220734033","UACU3700807","HLCURI5220734033","20 Dry","PKKHI",289609,"2022-11-03","2022-11-07",222.35,"SW"]
[{"$f":"B172&\":\"&COUNTIF($B$2:B172,B172)","v":"HLCURI5220734033:4"},"HLCURI5220734033","DFSU2881780","HLCURI5220734033","20 Dry","PKKHI",289609,"2022-11-03","2022-11-07",222.35,"SW"]
[{"$f":"B173&\":\"&COUNTIF($B$2:B173,B173)","v":"HLCUTOR220906970:1"},"HLCUTOR220906970","TXGU7141462","HLCUTOR220906970","40 Dry","PKKHI",289609,"2022-11-03","2022-11-14",222.35,"SW"]
[{"$f":"B174&\":\"&COUNTIF($B$2:B174,B174)","v":"HLCUHAM2209BGPS7:1"},"HLCUHAM2209BGPS7","TCLU8229100","HLCUHAM2209BGPS7","40 Dry","PKKHI",289609,"2022-11-03","2022-11-07",222.35,"SW"]
[{"$f":"B175&\":\"&COUNTIF($B$2:B175,B175)","v":"HLCUME3220858639:1"},"HLCUME3220858639","TTNU4497378","HLCUME3220858639","40 Dry","PKKHI",289609,"2022-11-03","2022-11-07",222.35,"SW"]
[{"$f":"B176&\":\"&COUNTIF($B$2:B176,B176)","v":"HLCUVAN220904930:1"},"HLCUVAN220904930","FANU1707859","HLCUVAN220904930","40 Dry","PKKHI",289609,"2022-11-03","2022-11-14",222.35,"SW"]
[{"$f":"B177&\":\"&COUNTIF($B$2:B177,B177)","v":"HLCUMTR220923174:1"},"HLCUMTR220923174","HLBU9432268","HLCUMTR220923174","40 Reefer","PKKHI",289609,"2022-11-03","2022-11-09",222.35,"SW"]
[{"$f":"B178&\":\"&COUNTIF($B$2:B178,B178)","v":"HLCUMTR220923174:2"},"HLCUMTR220923174","MGNU3312570","HLCUMTR220923174","40 Reefer","PKKHI",289609,"2022-11-03","2022-11-09",222.35,"SW"]
[{"$f":"B179&\":\"&COUNTIF($B$2:B179,B179)","v":"HLCUMTR220923174:3"},"HLCUMTR220923174","UACU4761406","HLCUMTR220923174","40 Reefer","PKKHI",289609,"2022-11-03","2022-11-09",222.35,"SW"]
[{"$f":"B180&\":\"&COUNTIF($B$2:B180,B180)","v":"HLCUMTR220923174:4"},"HLCUMTR220923174","HLBU9243834","HLCUMTR220923174","40 Reefer","PKKHI",289609,"2022-11-03","2022-11-09",222.35,"SW"]
[{"$f":"B181&\":\"&COUNTIF($B$2:B181,B181)","v":"HLCUMTR220923174:5"},"HLCUMTR220923174","HLBU9522464","HLCUMTR220923174","40 Reefer","PKKHI",289609,"2022-11-03","2022-11-09",222.35,"SW"]
[{"$f":"B182&\":\"&COUNTIF($B$2:B182,B182)","v":"HLCUTOR220921070:1"},"HLCUTOR220921070","FANU3065803","HLCUTOR220921070","40 Dry","PKKHI",289609,"2022-11-03","2022-11-14",222.35,"SW"]
[{"$f":"B183&\":\"&COUNTIF($B$2:B183,B183)","v":"HLCUTOR220906981:1"},"HLCUTOR220906981","FSCU8233100","HLCUTOR220906981","40 Dry","PKKHI",289609,"2022-11-03","2022-11-14",222.35,"SW"]
[{"$f":"B184&\":\"&COUNTIF($B$2:B184,B184)","v":"HLCUTOR220921059:1"},"HLCUTOR220921059","HLXU8570969","HLCUTOR220921059","40 Dry","PKKHI",289609,"2022-11-03","2022-11-14",222.35,"SW"]
[{"$f":"B185&\":\"&COUNTIF($B$2:B185,B185)","v":"HLCUTOR220919098:1"},"HLCUTOR220919098","FCIU9214739","HLCUTOR220919098","40 Dry","PKKHI",289609,"2022-11-03","2022-11-14",222.35,"SW"]
[{"$f":"B186&\":\"&COUNTIF($B$2:B186,B186)","v":"HLCURTM220938868:1"},"HLCURTM220938868","FCIU6294561","HLCURTM220938868","20 Dry","PKKHI",289609,"2022-11-03","2022-11-14",222.35,"SW"]
[{"$f":"B187&\":\"&COUNTIF($B$2:B187,B187)","v":"HLCUTOR220916213:1"},"HLCUTOR220916213","FANU1802162","HLCUTOR220916213","40 Dry","PKKHI",289609,"2022-11-03","2022-11-14",222.35,"SW"]
[{"$f":"B188&\":\"&COUNTIF($B$2:B188,B188)","v":"HLCUPSE220850272:1"},"HLCUPSE220850272","AMFU8927636","HLCUPSE220850272","40 Dry","PKKHI",289609,"2022-11-03","",222.35,"BL"]
[{"$f":"B189&\":\"&COUNTIF($B$2:B189,B189)","v":"HLCUPSE220850272:2"},"HLCUPSE220850272","HLXU6503529","HLCUPSE220850272","40 Dry","PKKHI",289609,"2022-11-03","",222.35,"BL"]
[{"$f":"B190&\":\"&COUNTIF($B$2:B190,B190)","v":"HLCUPSE220850272:3"},"HLCUPSE220850272","BEAU4639580","HLCUPSE220850272","40 Dry","PKKHI",289609,"2022-11-03","",222.35,"BL"]
[{"$f":"B191&\":\"&COUNTIF($B$2:B191,B191)","v":"HLCUPSE220850272:4"},"HLCUPSE220850272","CAAU5511424","HLCUPSE220850272","40 Dry","PKKHI",289609,"2022-11-03","",222.35,"BL"]
[{"$f":"B192&\":\"&COUNTIF($B$2:B192,B192)","v":"HLCUPSE220850272:5"},"HLCUPSE220850272","HLBU3207871","HLCUPSE220850272","40 Dry","PKKHI",289609,"2022-11-03","",222.35,"BL"]
[{"$f":"B193&\":\"&COUNTIF($B$2:B193,B193)","v":"HLCUPSE220850272:6"},"HLCUPSE220850272","HLBU3343780","HLCUPSE220850272","40 Dry","PKKHI",289609,"2022-11-03","",222.35,"BL"]
[{"$f":"B194&\":\"&COUNTIF($B$2:B194,B194)","v":"HLCUPSE220850272:7"},"HLCUPSE220850272","HLBU2425138","HLCUPSE220850272","40 Dry","PKKHI",289609,"2022-11-03","",222.35,"BL"]
[{"$f":"B195&\":\"&COUNTIF($B$2:B195,B195)","v":"HLCUPSE220850272:8"},"HLCUPSE220850272","TGHU9141012","HLCUPSE220850272","40 Dry","PKKHI",289609,"2022-11-03","",222.35,"BL"]
[{"$f":"B196&\":\"&COUNTIF($B$2:B196,B196)","v":"HLCUPSE220850272:9"},"HLCUPSE220850272","SKIU9115100","HLCUPSE220850272","40 Dry","PKKHI",289609,"2022-11-03","",222.35,"BL"]
[{"$f":"B197&\":\"&COUNTIF($B$2:B197,B197)","v":"HLCUPSE220850272:10"},"HLCUPSE220850272","TCLU5786544","HLCUPSE220850272","40 Dry","PKKHI",289609,"2022-11-03","",222.35,"BL"]
[{"$f":"B198&\":\"&COUNTIF($B$2:B198,B198)","v":"HLCUTOR220906992:1"},"HLCUTOR220906992","FANU1675200","HLCUTOR220906992","40 Dry","PKKHI",289609,"2022-11-03","2022-11-14",222.35,"SW"]
[{"$f":"B199&\":\"&COUNTIF($B$2:B199,B199)","v":"HLCUTOR220919719:1"},"HLCUTOR220919719","TCLU5245874","HLCUTOR220919719","40 Dry","PKKHI",289609,"2022-11-03","2022-11-14",222.35,"SW"]
[{"$f":"B200&\":\"&COUNTIF($B$2:B200,B200)","v":"HLCUTOR220920257:1"},"HLCUTOR220920257","FCIU7435453","HLCUTOR220920257","40 Dry","PKKHI",289609,"2022-11-03","2022-11-14",222.35,"SW"]
[{"$f":"B201&\":\"&COUNTIF($B$2:B201,B201)","v":"HLCUTOR220917607:1"},"HLCUTOR220917607","TCNU1751439","HLCUTOR220917607","40 Dry","PKKHI",289609,"2022-11-03","2022-11-14",222.35,"BL"]
[{"$f":"B202&\":\"&COUNTIF($B$2:B202,B202)","v":"HLCUTOR220909450:1"},"HLCUTOR220909450","FBLU0122974","HLCUTOR220909450","40 Dry","PKKHI",289609,"2022-11-03","2022-11-14",222.35,"SW"]
[{"$f":"B203&\":\"&COUNTIF($B$2:B203,B203)","v":"HLCUTEM220901924:1"},"HLCUTEM220901924","FANU1743563","HLCUTEM220901924","40 Dry","PKKHI",289609,"2022-11-03","2022-11-07",222.35,"BL"]
[{"$f":"B204&\":\"&COUNTIF($B$2:B204,B204)","v":"HLCUALY220921517:1"},"HLCUALY220921517","HLXU1008414","HLCUALY220921517","20 Dry","PKKHI",289609,"2022-11-03","2022-11-14",222.35,"BL"]
[{"$f":"B205&\":\"&COUNTIF($B$2:B205,B205)","v":"HLCUALY220921517:2"},"HLCUALY220921517","TGBU2556479","HLCUALY220921517","20 Dry","PKKHI",289609,"2022-11-02","2022-11-13",222.35,"BL"]
[{"$f":"B206&\":\"&COUNTIF($B$2:B206,B206)","v":"HLCUALY220921517:3"},"HLCUALY220921517","CAIU3327679","HLCUALY220921517","20 Dry","PKKHI",289609,"2022-11-03","2022-11-14",222.35,"BL"]
[{"$f":"B207&\":\"&COUNTIF($B$2:B207,B207)","v":"HLCUALY220921517:4"},"HLCUALY220921517","TEMU1603030","HLCUALY220921517","20 Dry","PKKHI",289609,"2022-11-03","2022-11-14",222.35,"BL"]
[{"$f":"B208&\":\"&COUNTIF($B$2:B208,B208)","v":"HLCUALY220921517:5"},"HLCUALY220921517","GLDU5736079","HLCUALY220921517","20 Dry","PKKHI",289609,"2022-11-02","2022-11-13",222.35,"BL"]
[{"$f":"B209&\":\"&COUNTIF($B$2:B209,B209)","v":"HLCUALY220921517:6"},"HLCUALY220921517","UACU4053562","HLCUALY220921517","20 Dry","PKKHI",289609,"2022-11-03","2022-11-14",222.35,"BL"]
[{"$f":"B210&\":\"&COUNTIF($B$2:B210,B210)","v":"HLCUALY220921517:7"},"HLCUALY220921517","NIDU2363449","HLCUALY220921517","20 Dry","PKKHI",289609,"2022-11-03","2022-11-14",222.35,"BL"]
[{"$f":"B211&\":\"&COUNTIF($B$2:B211,B211)","v":"HLCUALY220921517:8"},"HLCUALY220921517","BEAU2216779","HLCUALY220921517","20 Dry","PKKHI",289609,"2022-11-03","2022-11-14",222.35,"BL"]
[{"$f":"B212&\":\"&COUNTIF($B$2:B212,B212)","v":"HLCUALY220921517:9"},"HLCUALY220921517","UACU3726118","HLCUALY220921517","20 Dry","PKKHI",289609,"2022-11-03","2022-11-14",222.35,"BL"]
[{"$f":"B213&\":\"&COUNTIF($B$2:B213,B213)","v":"HLCUALY220921517:10"},"HLCUALY220921517","HLBU1028347","HLCUALY220921517","20 Dry","PKKHI",289609,"2022-11-02","2022-11-13",222.35,"BL"]
[{"$f":"B214&\":\"&COUNTIF($B$2:B214,B214)","v":"HLCUALY220921517:11"},"HLCUALY220921517","HLXU1230170","HLCUALY220921517","20 Dry","PKKHI",289609,"2022-11-03","2022-11-14",222.35,"BL"]
[{"$f":"B215&\":\"&COUNTIF($B$2:B215,B215)","v":"HLCUALY220921517:12"},"HLCUALY220921517","HLBU2374597","HLCUALY220921517","20 Dry","PKKHI",289609,"2022-11-03","2022-11-14",222.35,"BL"]
[{"$f":"B216&\":\"&COUNTIF($B$2:B216,B216)","v":"HLCUALY220921517:13"},"HLCUALY220921517","FANU1379174","HLCUALY220921517","20 Dry","PKKHI",289609,"2022-11-02","2022-11-13",222.35,"BL"]
[{"$f":"B217&\":\"&COUNTIF($B$2:B217,B217)","v":"HLCUALY220921517:14"},"HLCUALY220921517","UACU3922580","HLCUALY220921517","20 Dry","PKKHI",289609,"2022-11-03","2022-11-14",222.35,"BL"]
[{"$f":"B218&\":\"&COUNTIF($B$2:B218,B218)","v":"HLCUALY220921517:15"},"HLCUALY220921517","TEMU5097305","HLCUALY220921517","20 Dry","PKKHI",289609,"2022-11-03","2022-11-14",222.35,"BL"]
[{"$f":"B219&\":\"&COUNTIF($B$2:B219,B219)","v":"HLCUALY220921517:16"},"HLCUALY220921517","FCIU6516761","HLCUALY220921517","20 Dry","PKKHI",289609,"2022-11-02","2022-11-13",222.35,"BL"]
[{"$f":"B220&\":\"&COUNTIF($B$2:B220,B220)","v":"HLCUALY220921517:17"},"HLCUALY220921517","CAIU6986556","HLCUALY220921517","20 Dry","PKKHI",289609,"2022-11-02","2022-11-13",222.35,"BL"]
[{"$f":"B221&\":\"&COUNTIF($B$2:B221,B221)","v":"HLCUALY220921517:18"},"HLCUALY220921517","FCIU6611033","HLCUALY220921517","20 Dry","PKKHI",289609,"2022-11-02","2022-11-13",222.35,"BL"]
[{"$f":"B222&\":\"&COUNTIF($B$2:B222,B222)","v":"HLCUALY220921517:19"},"HLCUALY220921517","BMOU2756534","HLCUALY220921517","20 Dry","PKKHI",289609,"2022-11-03","2022-11-14",222.35,"BL"]
[{"$f":"B223&\":\"&COUNTIF($B$2:B223,B223)","v":"HLCUALY220921517:20"},"HLCUALY220921517","CLHU3896720","HLCUALY220921517","20 Dry","PKKHI",289609,"2022-11-03","2022-11-14",222.35,"BL"]
[{"$f":"B224&\":\"&COUNTIF($B$2:B224,B224)","v":"HLCUALY220921517:21"},"HLCUALY220921517","UACU3606494","HLCUALY220921517","20 Dry","PKKHI",289609,"2022-11-02","2022-11-13",222.35,"BL"]
[{"$f":"B225&\":\"&COUNTIF($B$2:B225,B225)","v":"HLCUALY220921517:22"},"HLCUALY220921517","HAMU1124989","HLCUALY220921517","20 Dry","PKKHI",289609,"2022-11-03","2022-11-14",222.35,"BL"]
[{"$f":"B226&\":\"&COUNTIF($B$2:B226,B226)","v":"HLCUALY220921517:23"},"HLCUALY220921517","HLBU1738360","HLCUALY220921517","20 Dry","PKKHI",289609,"2022-11-03","2022-11-14",222.35,"BL"]
[{"$f":"B227&\":\"&COUNTIF($B$2:B227,B227)","v":"HLCUALY220921517:24"},"HLCUALY220921517","UACU3810722","HLCUALY220921517","20 Dry","PKKHI",289609,"2022-11-03","2022-11-14",222.35,"BL"]
[{"$f":"B228&\":\"&COUNTIF($B$2:B228,B228)","v":"HLCUALY220921517:25"},"HLCUALY220921517","HLXU1344996","HLCUALY220921517","20 Dry","PKKHI",289609,"2022-11-03","2022-11-14",222.35,"BL"]
[{"$f":"B229&\":\"&COUNTIF($B$2:B229,B229)","v":"HLCUALY220921517:26"},"HLCUALY220921517","UACU3545418","HLCUALY220921517","20 Dry","PKKHI",289609,"2022-11-02","2022-11-13",222.35,"BL"]
[{"$f":"B230&\":\"&COUNTIF($B$2:B230,B230)","v":"HLCUALY220921517:27"},"HLCUALY220921517","TEMU2220165","HLCUALY220921517","20 Dry","PKKHI",289609,"2022-11-03","2022-11-14",222.35,"BL"]
[{"$f":"B231&\":\"&COUNTIF($B$2:B231,B231)","v":"HLCUALY220921517:28"},"HLCUALY220921517","HLXU3519579","HLCUALY220921517","20 Dry","PKKHI",289609,"2022-11-03","2022-11-14",222.35,"BL"]
[{"$f":"B232&\":\"&COUNTIF($B$2:B232,B232)","v":"HLCUALY220921517:29"},"HLCUALY220921517","HAMU1102064","HLCUALY220921517","20 Dry","PKKHI",289609,"2022-11-02","2022-11-13",222.35,"BL"]
[{"$f":"B233&\":\"&COUNTIF($B$2:B233,B233)","v":"HLCUALY220921517:30"},"HLCUALY220921517","HLBU3463908","HLCUALY220921517","20 Dry","PKKHI",289609,"2022-11-02","2022-11-13",222.35,"BL"]
[{"$f":"B234&\":\"&COUNTIF($B$2:B234,B234)","v":"HLCUALY220921517:31"},"HLCUALY220921517","GLDU3408506","HLCUALY220921517","20 Dry","PKKHI",289609,"2022-11-03","2022-11-14",222.35,"BL"]
[{"$f":"B235&\":\"&COUNTIF($B$2:B235,B235)","v":"HLCUALY220921517:32"},"HLCUALY220921517","HLBU3466390","HLCUALY220921517","20 Dry","PKKHI",289609,"2022-11-02","2022-11-13",222.35,"BL"]
[{"$f":"B236&\":\"&COUNTIF($B$2:B236,B236)","v":"HLCUALY220921517:33"},"HLCUALY220921517","HLBU1726190","HLCUALY220921517","20 Dry","PKKHI",289609,"2022-11-03","2022-11-14",222.35,"BL"]
[{"$f":"B237&\":\"&COUNTIF($B$2:B237,B237)","v":"HLCUALY220921517:34"},"HLCUALY220921517","UACU4078365","HLCUALY220921517","20 Dry","PKKHI",289609,"2022-11-03","2022-11-14",222.35,"BL"]
[{"$f":"B238&\":\"&COUNTIF($B$2:B238,B238)","v":"HLCUALY220921517:35"},"HLCUALY220921517","FBIU0090466","HLCUALY220921517","20 Dry","PKKHI",289609,"2022-11-02","2022-11-13",222.35,"BL"]
[{"$f":"B239&\":\"&COUNTIF($B$2:B239,B239)","v":"HLCUALY220921517:36"},"HLCUALY220921517","HLXU1415106","HLCUALY220921517","20 Dry","PKKHI",289609,"2022-11-02","2022-11-13",222.35,"BL"]
[{"$f":"B240&\":\"&COUNTIF($B$2:B240,B240)","v":"HLCUALY220921517:37"},"HLCUALY220921517","TGBU2173361","HLCUALY220921517","20 Dry","PKKHI",289609,"2022-11-03","2022-11-14",222.35,"BL"]
[{"$f":"B241&\":\"&COUNTIF($B$2:B241,B241)","v":"HLCUALY220921517:38"},"HLCUALY220921517","HAMU1025029","HLCUALY220921517","20 Dry","PKKHI",289609,"2022-11-03","2022-11-14",222.35,"BL"]
[{"$f":"B242&\":\"&COUNTIF($B$2:B242,B242)","v":"HLCUALY220921517:39"},"HLCUALY220921517","FCIU6319757","HLCUALY220921517","20 Dry","PKKHI",289609,"2022-11-03","2022-11-14",222.35,"BL"]
[{"$f":"B243&\":\"&COUNTIF($B$2:B243,B243)","v":"HLCUALY220921517:40"},"HLCUALY220921517","GLDU5319460","HLCUALY220921517","20 Dry","PKKHI",289609,"2022-11-03","2022-11-14",222.35,"BL"]
[{"$f":"B244&\":\"&COUNTIF($B$2:B244,B244)","v":"HLCUALY220921517:41"},"HLCUALY220921517","BMOU1412529","HLCUALY220921517","20 Dry","PKKHI",289609,"2022-11-02","2022-11-13",222.35,"BL"]
[{"$f":"B245&\":\"&COUNTIF($B$2:B245,B245)","v":"HLCUALY220921517:42"},"HLCUALY220921517","IPXU3922643","HLCUALY220921517","20 Dry","PKKHI",289609,"2022-11-02","2022-11-13",222.35,"BL"]
[{"$f":"B246&\":\"&COUNTIF($B$2:B246,B246)","v":"HLCUALY220921517:43"},"HLCUALY220921517","HAMU1016897","HLCUALY220921517","20 Dry","PKKHI",289609,"2022-11-03","2022-11-14",222.35,"BL"]
[{"$f":"B247&\":\"&COUNTIF($B$2:B247,B247)","v":"HLCUALY220921517:44"},"HLCUALY220921517","TGHU1217220","HLCUALY220921517","20 Dry","PKKHI",289609,"2022-11-02","2022-11-13",222.35,"BL"]
[{"$f":"B248&\":\"&COUNTIF($B$2:B248,B248)","v":"HLCUALY220921517:45"},"HLCUALY220921517","HLBU3065400","HLCUALY220921517","20 Dry","PKKHI",289609,"2022-11-03","2022-11-14",222.35,"BL"]
[{"$f":"B249&\":\"&COUNTIF($B$2:B249,B249)","v":"HLCUALY220921517:46"},"HLCUALY220921517","HLBU2944426","HLCUALY220921517","20 Dry","PKKHI",289609,"2022-11-03","2022-11-14",222.35,"BL"]
[{"$f":"B250&\":\"&COUNTIF($B$2:B250,B250)","v":"HLCUALY220921517:47"},"HLCUALY220921517","UACU4051390","HLCUALY220921517","20 Dry","PKKHI",289609,"2022-11-03","2022-11-14",222.35,"BL"]
[{"$f":"B251&\":\"&COUNTIF($B$2:B251,B251)","v":"HLCUALY220921517:48"},"HLCUALY220921517","HLXU1328402","HLCUALY220921517","20 Dry","PKKHI",289609,"2022-11-02","2022-11-13",222.35,"BL"]
[{"$f":"B252&\":\"&COUNTIF($B$2:B252,B252)","v":"HLCUALY220921517:49"},"HLCUALY220921517","FCIU2545144","HLCUALY220921517","20 Dry","PKKHI",289609,"2022-11-02","2022-11-13",222.35,"BL"]
[{"$f":"B253&\":\"&COUNTIF($B$2:B253,B253)","v":"HLCUALY220921517:50"},"HLCUALY220921517","BMOU1324990","HLCUALY220921517","20 Dry","PKKHI",289609,"2022-11-03","2022-11-14",222.35,"BL"]
[{"$f":"B254&\":\"&COUNTIF($B$2:B254,B254)","v":"HLCUALY220921517:51"},"HLCUALY220921517","UACU3859738","HLCUALY220921517","20 Dry","PKKHI",289609,"2022-11-02","2022-11-13",222.35,"BL"]
[{"$f":"B255&\":\"&COUNTIF($B$2:B255,B255)","v":"HLCUALY220921517:52"},"HLCUALY220921517","FCIU4746940","HLCUALY220921517","20 Dry","PKKHI",289609,"2022-11-03","2022-11-14",222.35,"BL"]
[{"$f":"B256&\":\"&COUNTIF($B$2:B256,B256)","v":"HLCURUH221000292:1"},"HLCURUH221000292","UACU5653772","HLCURUH221000292","40 Dry","PKKHI",289609,"2022-11-03","2022-11-23",222.35,"BL"]
[{"$f":"B257&\":\"&COUNTIF($B$2:B257,B257)","v":"HLCURUH221000292:2"},"HLCURUH221000292","HLBU2007631","HLCURUH221000292","40 Dry","PKKHI",289609,"2022-11-03","2022-11-23",222.35,"BL"]
[{"$f":"B258&\":\"&COUNTIF($B$2:B258,B258)","v":"HLCURUH221000292:3"},"HLCURUH221000292","HLBU1469131","HLCURUH221000292","40 Dry","PKKHI",289609,"2022-11-03","2022-11-23",222.35,"BL"]
[{"$f":"B259&\":\"&COUNTIF($B$2:B259,B259)","v":"HLCURUH221000292:4"},"HLCURUH221000292","HLXU8123410","HLCURUH221000292","40 Dry","PKKHI",289609,"2022-11-03","2022-11-23",222.35,"BL"]
[{"$f":"B260&\":\"&COUNTIF($B$2:B260,B260)","v":"HLCURDS220900276:1"},"HLCURDS220900276","CAIU8455029","HLCURDS220900276","40 Dry","PKKHI",289609,"2022-11-03","2022-11-12",222.35,"SW"]
[{"$f":"B261&\":\"&COUNTIF($B$2:B261,B261)","v":"HLCURDS220900276:2"},"HLCURDS220900276","DFSU6196954","HLCURDS220900276","40 Dry","PKKHI",289609,"2022-11-03","2022-11-12",222.35,"SW"]
[{"$f":"B262&\":\"&COUNTIF($B$2:B262,B262)","v":"HLCURDS220900276:3"},"HLCURDS220900276","FANU3222651","HLCURDS220900276","40 Dry","PKKHI",289609,"2022-11-03","2022-11-12",222.35,"SW"]
[{"$f":"B263&\":\"&COUNTIF($B$2:B263,B263)","v":"HLCURDS220900276:4"},"HLCURDS220900276","FCIU9157916","HLCURDS220900276","40 Dry","PKKHI",289609,"2022-11-03","2022-11-12",222.35,"SW"]
[{"$f":"B264&\":\"&COUNTIF($B$2:B264,B264)","v":"HLCURDS220900276:5"},"HLCURDS220900276","HAMU1205566","HLCURDS220900276","40 Dry","PKKHI",289609,"2022-11-03","2022-11-12",222.35,"SW"]
[{"$f":"B265&\":\"&COUNTIF($B$2:B265,B265)","v":"HLCUALY221002483:1"},"HLCUALY221002483","HLBU3004283","HLCUALY221002483","20 Dry","PKKHI",289609,"2022-11-03","2022-11-14",222.35,"BL"]
[{"$f":"B266&\":\"&COUNTIF($B$2:B266,B266)","v":"HLCUALY221002483:2"},"HLCUALY221002483","UACU3487245","HLCUALY221002483","20 Dry","PKKHI",289609,"2022-11-03","2022-11-14",222.35,"BL"]
[{"$f":"B267&\":\"&COUNTIF($B$2:B267,B267)","v":"HLCULE1220864307:1"},"HLCULE1220864307","TCNU6287697","HLCULE1220864307","40 Dry","PKKHI",289609,"2022-11-03","2022-11-07",222.35,"SW"]
[{"$f":"B268&\":\"&COUNTIF($B$2:B268,B268)","v":"HLCUHAM2209BFQQ8:1"},"HLCUHAM2209BFQQ8","TCNU1491060","HLCUHAM2209BFQQ8","40 Dry","PKKHI",289609,"2022-11-03","2022-11-14",222.35,"SW"]
[{"$f":"B269&\":\"&COUNTIF($B$2:B269,B269)","v":"HLCURTM220837487:1"},"HLCURTM220837487","UACU5260055","HLCURTM220837487","40 Dry","PKKHI",289609,"2022-11-03","2022-11-12",222.35,"BL"]
[{"$f":"B270&\":\"&COUNTIF($B$2:B270,B270)","v":"HLCULIV220963789:1"},"HLCULIV220963789","TCLU4761897","HLCULIV220963789","40 Dry","PKKHI",289609,"2022-11-03","2022-11-07",222.35,"SW"]
[{"$f":"B271&\":\"&COUNTIF($B$2:B271,B271)","v":"HLCULIV220922038:1"},"HLCULIV220922038","FANU1404024","HLCULIV220922038","40 Dry","PKKHI",289609,"2022-11-02","2022-11-06",222.35,"SW"]
[{"$f":"B272&\":\"&COUNTIF($B$2:B272,B272)","v":"HLCUANR220909554:1"},"HLCUANR220909554","EXFU5607471","HLCUANR220909554","20 Dry","PKKHI",289609,"2022-11-02","",222.35,"SW"]
[{"$f":"B273&\":\"&COUNTIF($B$2:B273,B273)","v":"HLCUANR220909554:2"},"HLCUANR220909554","NLLU2801524","HLCUANR220909554","20 Dry","PKKHI",289609,"2022-11-02","",222.35,"SW"]
[{"$f":"B274&\":\"&COUNTIF($B$2:B274,B274)","v":"HLCUANR220909554:3"},"HLCUANR220909554","NLLU2801680","HLCUANR220909554","20 Dry","PKKHI",289609,"2022-11-02","",222.35,"SW"]
[{"$f":"B275&\":\"&COUNTIF($B$2:B275,B275)","v":"HLCURDS220900382:1"},"HLCURDS220900382","HLBU3257620","HLCURDS220900382","40 Dry","PKKHI",289609,"2022-11-03","2022-11-12",222.35,"BL"]
[{"$f":"B276&\":\"&COUNTIF($B$2:B276,B276)","v":"HLCURDS220900382:2"},"HLCURDS220900382","DFSU7482037","HLCURDS220900382","40 Dry","PKKHI",289609,"2022-11-03","2022-11-12",222.35,"BL"]
[{"$f":"B277&\":\"&COUNTIF($B$2:B277,B277)","v":"HLCURDS220900382:3"},"HLCURDS220900382","HLBU2665925","HLCURDS220900382","40 Dry","PKKHI",289609,"2022-11-03","2022-11-12",222.35,"BL"]
[{"$f":"B278&\":\"&COUNTIF($B$2:B278,B278)","v":"HLCURDS220900382:4"},"HLCURDS220900382","UACU5076496","HLCURDS220900382","40 Dry","PKKHI",289609,"2022-11-03","2022-11-12",222.35,"BL"]
[{"$f":"B279&\":\"&COUNTIF($B$2:B279,B279)","v":"HLCURDS220900382:5"},"HLCURDS220900382","FFAU2104460","HLCURDS220900382","40 Dry","PKKHI",289609,"2022-11-03","2022-11-12",222.35,"BL"]
[{"$f":"B280&\":\"&COUNTIF($B$2:B280,B280)","v":"HLCUHAM2209AWSN5:1"},"HLCUHAM2209AWSN5","FANU1299232","HLCUHAM2209AWSN5","40 Dry","PKKHI",289609,"2022-11-02","2022-11-13",222.35,"BL"]
[{"$f":"B281&\":\"&COUNTIF($B$2:B281,B281)","v":"HLCUALY221006981:1"},"HLCUALY221006981","HLBU9660925","HLCUALY221006981","40 Reefer","PKKHI",289609,"2022-11-02","2022-11-09",222.35,"BL"]
[{"$f":"B282&\":\"&COUNTIF($B$2:B282,B282)","v":"HLCUALY221006981:2"},"HLCUALY221006981","BMOU9252638","HLCUALY221006981","40 Reefer","PKKHI",289609,"2022-11-02","2022-11-09",222.35,"BL"]
[{"$f":"B283&\":\"&COUNTIF($B$2:B283,B283)","v":"HLCUALY221006981:3"},"HLCUALY221006981","TCLU1313965","HLCUALY221006981","40 Reefer","PKKHI",289609,"2022-11-02","2022-11-09",222.35,"BL"]
[{"$f":"B284&\":\"&COUNTIF($B$2:B284,B284)","v":"HLCUALY221006981:4"},"HLCUALY221006981","HLBU9171884","HLCUALY221006981","40 Reefer","PKKHI",289609,"2022-11-02","2022-11-09",222.35,"BL"]
[{"$f":"B285&\":\"&COUNTIF($B$2:B285,B285)","v":"HLCUALY221006981:5"},"HLCUALY221006981","HLBU9572146","HLCUALY221006981","40 Reefer","PKKHI",289609,"2022-11-02","2022-11-09",222.35,"BL"]
[{"$f":"B286&\":\"&COUNTIF($B$2:B286,B286)","v":"HLCURDS220900338:1"},"HLCURDS220900338","BEAU4966880","HLCURDS220900338","40 Dry","PKKHI",289609,"2022-11-03","2022-11-12",222.35,"BL"]
[{"$f":"B287&\":\"&COUNTIF($B$2:B287,B287)","v":"HLCURDS220900338:2"},"HLCURDS220900338","TGBU6049282","HLCURDS220900338","40 Dry","PKKHI",289609,"2022-11-03","2022-11-12",222.35,"BL"]
[{"$f":"B288&\":\"&COUNTIF($B$2:B288,B288)","v":"HLCURDS220900338:3"},"HLCURDS220900338","HLBU2673176","HLCURDS220900338","40 Dry","PKKHI",289609,"2022-11-03","2022-11-12",222.35,"BL"]
[{"$f":"B289&\":\"&COUNTIF($B$2:B289,B289)","v":"HLCURDS220900338:4"},"HLCURDS220900338","HLBU1883809","HLCURDS220900338","40 Dry","PKKHI",289609,"2022-11-03","2022-11-12",222.35,"BL"]
[{"$f":"B290&\":\"&COUNTIF($B$2:B290,B290)","v":"HLCULIV2208APXN5:1"},"HLCULIV2208APXN5","TCLU9232577","HLCULIV2208APXN5","40 Dry","PKKHI",289609,"2022-11-03","2022-11-12",222.35,"SW"]
[{"$f":"B291&\":\"&COUNTIF($B$2:B291,B291)","v":"HLCUALY221007644:1"},"HLCUALY221007644","HLBU9243304","HLCUALY221007644","40 Reefer","PKKHI",289609,"2022-11-02","2022-11-09",222.35,"BL"]
[{"$f":"B292&\":\"&COUNTIF($B$2:B292,B292)","v":"HLCUALY221007644:2"},"HLCUALY221007644","GESU9536766","HLCUALY221007644","40 Reefer","PKKHI",289609,"2022-11-02","2022-11-09",222.35,"BL"]
[{"$f":"B293&\":\"&COUNTIF($B$2:B293,B293)","v":"HLCURDS220900053:1"},"HLCURDS220900053","GESU6407493","HLCURDS220900053","40 Dry","PKKHI",289609,"2022-11-03","2022-11-12",222.35,"BL"]
[{"$f":"B294&\":\"&COUNTIF($B$2:B294,B294)","v":"HLCURDS220900053:2"},"HLCURDS220900053","TGBU6185545","HLCURDS220900053","40 Dry","PKKHI",289609,"2022-11-03","2022-11-12",222.35,"BL"]
[{"$f":"B295&\":\"&COUNTIF($B$2:B295,B295)","v":"HLCURDS220900053:3"},"HLCURDS220900053","CAAU5750440","HLCURDS220900053","40 Dry","PKKHI",289609,"2022-11-03","2022-11-12",222.35,"BL"]
[{"$f":"B296&\":\"&COUNTIF($B$2:B296,B296)","v":"HLCURDS220900053:4"},"HLCURDS220900053","CAAU5547176","HLCURDS220900053","40 Dry","PKKHI",289609,"2022-11-03","2022-11-12",222.35,"BL"]
[{"$f":"B297&\":\"&COUNTIF($B$2:B297,B297)","v":"HLCURDS220900053:5"},"HLCURDS220900053","HLBU1309787","HLCURDS220900053","40 Dry","PKKHI",289609,"2022-11-03","2022-11-12",222.35,"BL"]
[{"$f":"B298&\":\"&COUNTIF($B$2:B298,B298)","v":"HLCURDS220900053:6"},"HLCURDS220900053","TCLU8111288","HLCURDS220900053","40 Dry","PKKHI",289609,"2022-11-03","2022-11-12",222.35,"BL"]
[{"$f":"B299&\":\"&COUNTIF($B$2:B299,B299)","v":"HLCURDS220900053:7"},"HLCURDS220900053","FSCU7154429","HLCURDS220900053","40 Dry","PKKHI",289609,"2022-11-03","2022-11-12",222.35,"BL"]
[{"$f":"B300&\":\"&COUNTIF($B$2:B300,B300)","v":"HLCUDX3221031630:1"},"HLCUDX3221031630","UASU1058270","HLCUDX3221031630","40 Dry","PKKHI",291022,"2022-11-03","2022-11-16",223.15,"BL"]
[{"$f":"B301&\":\"&COUNTIF($B$2:B301,B301)","v":"HLCUDX3221031630:2"},"HLCUDX3221031630","HLBU1994741","HLCUDX3221031630","40 Dry","PKKHI",291022,"2022-11-03","2022-11-16",223.15,"BL"]
[{"$f":"B302&\":\"&COUNTIF($B$2:B302,B302)","v":"HLCUDX3221031630:3"},"HLCUDX3221031630","CLHU8324040","HLCUDX3221031630","40 Dry","PKKHI",291022,"2022-11-03","2022-11-16",223.15,"BL"]
[{"$f":"B303&\":\"&COUNTIF($B$2:B303,B303)","v":"HLCUSYD220880262:1"},"HLCUSYD220880262","TCNU8671865","HLCUSYD220880262","40 Dry","PKKHI",291022,"2022-11-03","2022-11-17",223.15,"BL"]
[{"$f":"B304&\":\"&COUNTIF($B$2:B304,B304)","v":"HLCUSYD220904227:1"},"HLCUSYD220904227","HLBU2484043","HLCUSYD220904227","40 Dry","PKKHI",291022,"2022-11-03","2022-11-07",223.15,"SW"]
[{"$f":"B305&\":\"&COUNTIF($B$2:B305,B305)","v":"HLCUSYD220877880:1"},"HLCUSYD220877880","FANU1309388","HLCUSYD220877880","40 Dry","PKKHI",291022,"2022-11-03","2022-11-16",223.15,"SW"]
[{"$f":"B306&\":\"&COUNTIF($B$2:B306,B306)","v":"HLCUDX3221026173:1"},"HLCUDX3221026173","UACU5466370","HLCUDX3221026173","40 Dry","PKKHI",291022,"2022-11-03","2022-11-07",223.15,"SW"]
[{"$f":"B307&\":\"&COUNTIF($B$2:B307,B307)","v":"HLCUDX3221026173:2"},"HLCUDX3221026173","UETU5863011","HLCUDX3221026173","40 Dry","PKKHI",291022,"2022-11-03","2022-11-07",223.15,"SW"]
[{"$f":"B308&\":\"&COUNTIF($B$2:B308,B308)","v":"HLCUSYD220869210:1"},"HLCUSYD220869210","HLXU8178876","HLCUSYD220869210","40 Dry","PKKHI",291022,"2022-11-03","2022-11-16",223.15,"SW"]
[{"$f":"B309&\":\"&COUNTIF($B$2:B309,B309)","v":"HLCURTM2209AQSK0:1"},"HLCURTM2209AQSK0","FBIU0047433","HLCURTM2209AQSK0","20 Dry","PKBQM",293442,"2022-11-03","2022-11-16",222.35,"BL"]
[{"$f":"B310&\":\"&COUNTIF($B$2:B310,B310)","v":"HLCURTM220928510:1"},"HLCURTM220928510","TEMU1463900","HLCURTM220928510","20 Dry","PKBQM",293442,"2022-11-03","2022-11-16",222.35,"BL"]
[{"$f":"B311&\":\"&COUNTIF($B$2:B311,B311)","v":"HLCURTM220928510:2"},"HLCURTM220928510","TLLU8176651","HLCURTM220928510","20 Dry","PKBQM",293442,"2022-11-03","2022-11-16",222.35,"BL"]
[{"$f":"B312&\":\"&COUNTIF($B$2:B312,B312)","v":"HLCURTM220928510:3"},"HLCURTM220928510","CAIU2685127","HLCURTM220928510","20 Dry","PKBQM",293442,"2022-11-03","2022-11-16",222.35,"BL"]
[{"$f":"B313&\":\"&COUNTIF($B$2:B313,B313)","v":"HLCURTM220928510:4"},"HLCURTM220928510","GESU3851652","HLCURTM220928510","20 Dry","PKBQM",293442,"2022-11-03","2022-11-16",222.35,"BL"]
[{"$f":"B314&\":\"&COUNTIF($B$2:B314,B314)","v":"HLCURTM220928510:5"},"HLCURTM220928510","TCLU3297523","HLCURTM220928510","20 Dry","PKBQM",293442,"2022-11-03","2022-11-16",222.35,"BL"]
[{"$f":"B315&\":\"&COUNTIF($B$2:B315,B315)","v":"HLCURTM220928510:6"},"HLCURTM220928510","TEMU1392196","HLCURTM220928510","20 Dry","PKBQM",293442,"2022-11-03","2022-11-16",222.35,"BL"]
[{"$f":"B316&\":\"&COUNTIF($B$2:B316,B316)","v":"HLCURTM220928510:7"},"HLCURTM220928510","BEAU2187393","HLCURTM220928510","20 Dry","PKBQM",293442,"2022-11-03","2022-11-16",222.35,"BL"]
[{"$f":"B317&\":\"&COUNTIF($B$2:B317,B317)","v":"HLCURTM220928510:8"},"HLCURTM220928510","UACU3473350","HLCURTM220928510","20 Dry","PKBQM",293442,"2022-11-03","2022-11-16",222.35,"BL"]
[{"$f":"B318&\":\"&COUNTIF($B$2:B318,B318)","v":"HLCURTM220928510:9"},"HLCURTM220928510","FCIU4739874","HLCURTM220928510","20 Dry","PKBQM",293442,"2022-11-03","2022-11-16",222.35,"BL"]
[{"$f":"B319&\":\"&COUNTIF($B$2:B319,B319)","v":"HLCUJE2220910632:1"},"HLCUJE2220910632","HLXU8028557","HLCUJE2220910632","40 Dry","PKBQM",293442,"2022-11-03","2022-11-14",222.35,"SW"]
[{"$f":"B320&\":\"&COUNTIF($B$2:B320,B320)","v":"HLCUJE2220910643:1"},"HLCUJE2220910643","TCNU8551880","HLCUJE2220910643","40 Dry","PKBQM",293442,"2022-11-03","2022-11-14",222.35,"SW"]
[{"$f":"B321&\":\"&COUNTIF($B$2:B321,B321)","v":"HLCUJE2220910654:1"},"HLCUJE2220910654","TCLU6488652","HLCUJE2220910654","40 Dry","PKBQM",293442,"2022-11-03","2022-11-14",222.35,"SW"]
[{"$f":"B322&\":\"&COUNTIF($B$2:B322,B322)","v":"HLCUJE2220911986:1"},"HLCUJE2220911986","HLBU1076999","HLCUJE2220911986","40 Dry","PKBQM",293442,"2022-11-03","2022-11-14",222.35,"SW"]
[{"$f":"B323&\":\"&COUNTIF($B$2:B323,B323)","v":"HLCUJE2221002732:1"},"HLCUJE2221002732","FANU1717116","HLCUJE2221002732","40 Dry","PKBQM",293442,"2022-11-03","2022-11-16",222.35,"SW"]
[{"$f":"B324&\":\"&COUNTIF($B$2:B324,B324)","v":"HLCURTM220917818:1"},"HLCURTM220917818","TLLU5200728","HLCURTM220917818","40 Dry","PKBQM",293442,"2022-11-03","2022-11-16",222.35,"SW"]
[{"$f":"B325&\":\"&COUNTIF($B$2:B325,B325)","v":"HLCUHAM2209BSRQ1:1"},"HLCUHAM2209BSRQ1","CAIU2339000","HLCUHAM2209BSRQ1","20 Dry","PKBQM",293442,"2022-11-03","2022-11-12",222.35,"BL"]
[{"$f":"B326&\":\"&COUNTIF($B$2:B326,B326)","v":"HLCUHAM2209BSRQ1:2"},"HLCUHAM2209BSRQ1","HLXU3450826","HLCUHAM2209BSRQ1","20 Dry","PKBQM",293442,"2022-11-03","2022-11-12",222.35,"BL"]
[{"$f":"B327&\":\"&COUNTIF($B$2:B327,B327)","v":"HLCUPZU220900666:1"},"HLCUPZU220900666","TRLU9127117","HLCUPZU220900666","20 Dry","PKBQM",293442,"2022-11-03","2022-11-12",222.35,"BL"]
[{"$f":"B328&\":\"&COUNTIF($B$2:B328,B328)","v":"HLCUPZU220900666:2"},"HLCUPZU220900666","UACU3772772","HLCUPZU220900666","20 Dry","PKBQM",293442,"2022-11-03","2022-11-12",222.35,"BL"]
[{"$f":"B329&\":\"&COUNTIF($B$2:B329,B329)","v":"HLCUPZU220900666:3"},"HLCUPZU220900666","FCIU3675287","HLCUPZU220900666","20 Dry","PKBQM",293442,"2022-11-03","2022-11-12",222.35,"BL"]
[{"$f":"B330&\":\"&COUNTIF($B$2:B330,B330)","v":"HLCUPZU220900666:4"},"HLCUPZU220900666","TRLU9155320","HLCUPZU220900666","20 Dry","PKBQM",293442,"2022-11-03","2022-11-12",222.35,"BL"]
[{"$f":"B331&\":\"&COUNTIF($B$2:B331,B331)","v":"HLCUPZU220900772:1"},"HLCUPZU220900772","TCLU3224023","HLCUPZU220900772","20 Dry","PKBQM",293442,"2022-11-03","2022-11-12",222.35,"BL"]
[{"$f":"B332&\":\"&COUNTIF($B$2:B332,B332)","v":"HLCUPZU220900772:2"},"HLCUPZU220900772","HLXU1217688","HLCUPZU220900772","20 Dry","PKBQM",293442,"2022-11-03","2022-11-12",222.35,"BL"]
[{"$f":"B333&\":\"&COUNTIF($B$2:B333,B333)","v":"HLCUPZU220900772:3"},"HLCUPZU220900772","BEAU2179973","HLCUPZU220900772","20 Dry","PKBQM",293442,"2022-11-03","2022-11-12",222.35,"BL"]
[{"$f":"B334&\":\"&COUNTIF($B$2:B334,B334)","v":"HLCUPZU220900772:4"},"HLCUPZU220900772","CAIU3223289","HLCUPZU220900772","20 Dry","PKBQM",293442,"2022-11-03","2022-11-12",222.35,"BL"]
[{"$f":"B335&\":\"&COUNTIF($B$2:B335,B335)","v":"HLCULIV220889216:1"},"HLCULIV220889216","FBIU0430524","HLCULIV220889216","20 Dry","PKBQM",293442,"2022-11-03","2022-11-18",222.35,"BL"]
[{"$f":"B336&\":\"&COUNTIF($B$2:B336,B336)","v":"HLCULIV220889216:2"},"HLCULIV220889216","CARU3831156","HLCULIV220889216","20 Dry","PKBQM",293442,"2022-11-03","2022-11-16",222.35,"BL"]
[{"$f":"B337&\":\"&COUNTIF($B$2:B337,B337)","v":"HLCULIV220889216:3"},"HLCULIV220889216","CLHU3959156","HLCULIV220889216","20 Dry","PKBQM",293442,"2022-11-03","2022-11-16",222.35,"BL"]
[{"$f":"B338&\":\"&COUNTIF($B$2:B338,B338)","v":"HLCULIV220889216:4"},"HLCULIV220889216","FBIU0093439","HLCULIV220889216","20 Dry","PKBQM",293442,"2022-11-03","2022-11-16",222.35,"BL"]
[{"$f":"B339&\":\"&COUNTIF($B$2:B339,B339)","v":"HLCULIV220889216:5"},"HLCULIV220889216","FCIU2210897","HLCULIV220889216","20 Dry","PKBQM",293442,"2022-11-03","2022-11-16",222.35,"BL"]
[{"$f":"B340&\":\"&COUNTIF($B$2:B340,B340)","v":"HLCULIV220889216:6"},"HLCULIV220889216","FCIU2751628","HLCULIV220889216","20 Dry","PKBQM",293442,"2022-11-03","2022-11-16",222.35,"BL"]
[{"$f":"B341&\":\"&COUNTIF($B$2:B341,B341)","v":"HLCULIV220889216:7"},"HLCULIV220889216","FCIU6567012","HLCULIV220889216","20 Dry","PKBQM",293442,"2022-11-03","2022-11-16",222.35,"BL"]
[{"$f":"B342&\":\"&COUNTIF($B$2:B342,B342)","v":"HLCULIV220889216:8"},"HLCULIV220889216","FCIU6647118","HLCULIV220889216","20 Dry","PKBQM",293442,"2022-11-03","2022-11-16",222.35,"BL"]
[{"$f":"B343&\":\"&COUNTIF($B$2:B343,B343)","v":"HLCULIV220889216:9"},"HLCULIV220889216","HLBU1231950","HLCULIV220889216","20 Dry","PKBQM",293442,"2022-11-03","2022-11-16",222.35,"BL"]
[{"$f":"B344&\":\"&COUNTIF($B$2:B344,B344)","v":"HLCULIV220889216:10"},"HLCULIV220889216","HLXU1024842","HLCULIV220889216","20 Dry","PKBQM",293442,"2022-11-03","2022-11-16",222.35,"BL"]
[{"$f":"B345&\":\"&COUNTIF($B$2:B345,B345)","v":"HLCULIV220889216:11"},"HLCULIV220889216","HLXU1056599","HLCULIV220889216","20 Dry","PKBQM",293442,"2022-11-03","2022-11-16",222.35,"BL"]
[{"$f":"B346&\":\"&COUNTIF($B$2:B346,B346)","v":"HLCULIV220889216:12"},"HLCULIV220889216","TEMU1900785","HLCULIV220889216","20 Dry","PKBQM",293442,"2022-11-03","2022-11-16",222.35,"BL"]
[{"$f":"B347&\":\"&COUNTIF($B$2:B347,B347)","v":"HLCULIV220889216:13"},"HLCULIV220889216","TEMU4283347","HLCULIV220889216","20 Dry","PKBQM",293442,"2022-11-03","2022-11-16",222.35,"BL"]
[{"$f":"B348&\":\"&COUNTIF($B$2:B348,B348)","v":"HLCULIV220889216:14"},"HLCULIV220889216","UACU3631080","HLCULIV220889216","20 Dry","PKBQM",293442,"2022-11-03","2022-11-16",222.35,"BL"]
[{"$f":"B349&\":\"&COUNTIF($B$2:B349,B349)","v":"HLCULIV220889216:15"},"HLCULIV220889216","UACU3823669","HLCULIV220889216","20 Dry","PKBQM",293442,"2022-11-03","2022-11-16",222.35,"BL"]
[{"$f":"B350&\":\"&COUNTIF($B$2:B350,B350)","v":"HLCULIV220889216:16"},"HLCULIV220889216","UACU3908961","HLCULIV220889216","20 Dry","PKBQM",293442,"2022-11-03","2022-11-16",222.35,"BL"]
[{"$f":"B351&\":\"&COUNTIF($B$2:B351,B351)","v":"HLCULIV220889216:17"},"HLCULIV220889216","HLXU3484929","HLCULIV220889216","20 Dry","PKBQM",293442,"2022-11-03","2022-11-18",222.35,"BL"]
[{"$f":"B352&\":\"&COUNTIF($B$2:B352,B352)","v":"HLCURTM220963567:1"},"HLCURTM220963567","HLXU1052612","HLCURTM220963567","20 Dry","PKBQM",293442,"2022-11-03","2022-11-12",222.35,"BL"]
[{"$f":"B353&\":\"&COUNTIF($B$2:B353,B353)","v":"HLCURTM220963567:2"},"HLCURTM220963567","TCLU2651606","HLCURTM220963567","20 Dry","PKBQM",293442,"2022-11-03","2022-11-12",222.35,"BL"]
[{"$f":"B354&\":\"&COUNTIF($B$2:B354,B354)","v":"HLCURTM220963567:3"},"HLCURTM220963567","GESU1156121","HLCURTM220963567","20 Dry","PKBQM",293442,"2022-11-03","2022-11-12",222.35,"BL"]
[{"$f":"B355&\":\"&COUNTIF($B$2:B355,B355)","v":"HLCUHAM2208BTAB8:1"},"HLCUHAM2208BTAB8","UACU4155266","HLCUHAM2208BTAB8","20 Dry","PKBQM",293442,"2022-11-03","2022-11-12",222.35,"BL"]
[{"$f":"B356&\":\"&COUNTIF($B$2:B356,B356)","v":"HLCUHAM2208BTAB8:2"},"HLCUHAM2208BTAB8","HLXU3334770","HLCUHAM2208BTAB8","20 Dry","PKBQM",293442,"2022-11-03","2022-11-12",222.35,"BL"]
[{"$f":"B357&\":\"&COUNTIF($B$2:B357,B357)","v":"HLCUHAM2208BTAB8:3"},"HLCUHAM2208BTAB8","CXDU1736276","HLCUHAM2208BTAB8","20 Dry","PKBQM",293442,"2022-11-03","2022-11-12",222.35,"BL"]
[{"$f":"B358&\":\"&COUNTIF($B$2:B358,B358)","v":"HLCUHAM2208BTAB8:4"},"HLCUHAM2208BTAB8","HLBU2605485","HLCUHAM2208BTAB8","20 Dry","PKBQM",293442,"2022-11-03","2022-11-12",222.35,"BL"]
[{"$f":"B359&\":\"&COUNTIF($B$2:B359,B359)","v":"HLCUHAM2208BTAB8:5"},"HLCUHAM2208BTAB8","HLBU2298579","HLCUHAM2208BTAB8","20 Dry","PKBQM",293442,"2022-11-03","2022-11-12",222.35,"BL"]
[{"$f":"B360&\":\"&COUNTIF($B$2:B360,B360)","v":"HLCUHAM2208BTAB8:6"},"HLCUHAM2208BTAB8","TCKU1589112","HLCUHAM2208BTAB8","20 Dry","PKBQM",293442,"2022-11-03","2022-11-12",222.35,"BL"]
[{"$f":"B361&\":\"&COUNTIF($B$2:B361,B361)","v":"HLCUCPH220905498:1"},"HLCUCPH220905498","HLXU3498769","HLCUCPH220905498","20 Dry","PKBQM",293442,"2022-11-03","2022-11-12",222.35,"BL"]
[{"$f":"B362&\":\"&COUNTIF($B$2:B362,B362)","v":"HLCUHAM220970969:1"},"HLCUHAM220970969","HLXU1161953","HLCUHAM220970969","20 Dry","PKBQM",293442,"2022-11-03","2022-11-12",222.35,"BL"]
[{"$f":"B363&\":\"&COUNTIF($B$2:B363,B363)","v":"HLCUHAM220970969:2"},"HLCUHAM220970969","BSIU3228687","HLCUHAM220970969","20 Dry","PKBQM",293442,"2022-11-03","2022-11-12",222.35,"BL"]
[{"$f":"B364&\":\"&COUNTIF($B$2:B364,B364)","v":"HLCUHAM220970969:3"},"HLCUHAM220970969","HLBU1725779","HLCUHAM220970969","20 Dry","PKBQM",293442,"2022-11-03","2022-11-12",222.35,"BL"]
[{"$f":"B365&\":\"&COUNTIF($B$2:B365,B365)","v":"HLCUJE2220912024:1"},"HLCUJE2220912024","FANU1568347","HLCUJE2220912024","40 Dry","PKBQM",293442,"2022-11-03","2022-11-14",222.35,"SW"]
[{"$f":"B366&\":\"&COUNTIF($B$2:B366,B366)","v":"HLCUJE2220912492:1"},"HLCUJE2220912492","UACU5779035","HLCUJE2220912492","40 Dry","PKBQM",293442,"2022-11-03","2022-11-14",222.35,"SW"]
[{"$f":"B367&\":\"&COUNTIF($B$2:B367,B367)","v":"HLCUBSC2209AVNE7:1"},"HLCUBSC2209AVNE7","IALU8229799","HLCUBSC2209AVNE7","20 Dry","PKBQM",293442,"2022-11-03","2022-11-14",222.35,"BL"]
[{"$f":"B368&\":\"&COUNTIF($B$2:B368,B368)","v":"HLCUBSC2209AVNE7:2"},"HLCUBSC2209AVNE7","IPXU3700332","HLCUBSC2209AVNE7","20 Dry","PKBQM",293442,"2022-11-03","2022-11-14",222.35,"BL"]
[{"$f":"B369&\":\"&COUNTIF($B$2:B369,B369)","v":"HLCUANR220978060:1"},"HLCUANR220978060","TLLU2569414","HLCUANR220978060","20 Dry","PKBQM",293442,"2022-11-03","2022-11-12",222.35,"BL"]
[{"$f":"B370&\":\"&COUNTIF($B$2:B370,B370)","v":"HLCUANR220978060:2"},"HLCUANR220978060","HLXU1366932","HLCUANR220978060","20 Dry","PKBQM",293442,"2022-11-03","2022-11-12",222.35,"BL"]
[{"$f":"B371&\":\"&COUNTIF($B$2:B371,B371)","v":"HLCUANR220978060:3"},"HLCUANR220978060","UACU3548063","HLCUANR220978060","20 Dry","PKBQM",293442,"2022-11-03","2022-11-12",222.35,"BL"]
[{"$f":"B372&\":\"&COUNTIF($B$2:B372,B372)","v":"HLCUANR220978060:4"},"HLCUANR220978060","HLXU1352076","HLCUANR220978060","20 Dry","PKBQM",293442,"2022-11-03","2022-11-12",222.35,"BL"]
[{"$f":"B373&\":\"&COUNTIF($B$2:B373,B373)","v":"HLCUANR220978060:5"},"HLCUANR220978060","DRYU2165893","HLCUANR220978060","20 Dry","PKBQM",293442,"2022-11-03","2022-11-12",222.35,"BL"]
[{"$f":"B374&\":\"&COUNTIF($B$2:B374,B374)","v":"HLCUANR220978060:6"},"HLCUANR220978060","UACU4157382","HLCUANR220978060","20 Dry","PKBQM",293442,"2022-11-03","2022-11-12",222.35,"BL"]
[{"$f":"B375&\":\"&COUNTIF($B$2:B375,B375)","v":"HLCUANR220978060:7"},"HLCUANR220978060","HLXU1334914","HLCUANR220978060","20 Dry","PKBQM",293442,"2022-11-03","2022-11-12",222.35,"BL"]
[{"$f":"B376&\":\"&COUNTIF($B$2:B376,B376)","v":"HLCUANR220978060:8"},"HLCUANR220978060","HLBU2337422","HLCUANR220978060","20 Dry","PKBQM",293442,"2022-11-03","2022-11-12",222.35,"BL"]
[{"$f":"B377&\":\"&COUNTIF($B$2:B377,B377)","v":"HLCUANR220978060:9"},"HLCUANR220978060","NIDU2335555","HLCUANR220978060","20 Dry","PKBQM",293442,"2022-11-03","2022-11-12",222.35,"BL"]
[{"$f":"B378&\":\"&COUNTIF($B$2:B378,B378)","v":"HLCUANR220978060:10"},"HLCUANR220978060","HLBU1109752","HLCUANR220978060","20 Dry","PKBQM",293442,"2022-11-03","2022-11-12",222.35,"BL"]
[{"$f":"B379&\":\"&COUNTIF($B$2:B379,B379)","v":"HLCULIV220960473:1"},"HLCULIV220960473","CXDU1108808","HLCULIV220960473","20 Dry","PKBQM",293442,"2022-11-03","2022-11-12",222.35,"BL"]
[{"$f":"B380&\":\"&COUNTIF($B$2:B380,B380)","v":"HLCUJE2221005657:1"},"HLCUJE2221005657","EMCU3921475","HLCUJE2221005657","20 Dry","PKBQM",293442,"2022-11-03","",222.35,"BL"]
[{"$f":"B381&\":\"&COUNTIF($B$2:B381,B381)","v":"HLCUJE2220911880:1"},"HLCUJE2220911880","HLBU1597533","HLCUJE2220911880","40 Dry","PKBQM",293442,"2022-11-03","2022-11-12",222.35,"SW"]
[{"$f":"B382&\":\"&COUNTIF($B$2:B382,B382)","v":"HLCULIV220906493:1"},"HLCULIV220906493","HLBU3213431","HLCULIV220906493","40 Dry","PKBQM",293442,"2022-11-03","2022-11-12",222.35,"BL"]
[{"$f":"B383&\":\"&COUNTIF($B$2:B383,B383)","v":"HLCUTOR220832546:1"},"HLCUTOR220832546","FANU1244815","HLCUTOR220832546","40 Dry","PKBQM",293442,"2022-11-03","2022-11-14",222.35,"SW"]
[{"$f":"B384&\":\"&COUNTIF($B$2:B384,B384)","v":"HLCULIV220927349:1"},"HLCULIV220927349","HLXU8127890","HLCULIV220927349","40 Dry","PKBQM",293442,"2022-11-03","2022-11-16",222.35,"BL"]
[{"$f":"B385&\":\"&COUNTIF($B$2:B385,B385)","v":"HLCUHAM2208CBID3:1"},"HLCUHAM2208CBID3","HLBU1116411","HLCUHAM2208CBID3","20 Dry","PKBQM",293442,"2022-11-03","2022-11-12",222.35,"BL"]
[{"$f":"B386&\":\"&COUNTIF($B$2:B386,B386)","v":"HLCUHAM2208CBID3:2"},"HLCUHAM2208CBID3","HLBU1508808","HLCUHAM2208CBID3","20 Dry","PKBQM",293442,"2022-11-03","2022-11-12",222.35,"BL"]
[{"$f":"B387&\":\"&COUNTIF($B$2:B387,B387)","v":"HLCUHAM2208CBID3:3"},"HLCUHAM2208CBID3","CAIU2678600","HLCUHAM2208CBID3","20 Dry","PKBQM",293442,"2022-11-03","2022-11-12",222.35,"BL"]
[{"$f":"B388&\":\"&COUNTIF($B$2:B388,B388)","v":"HLCUHAM2208CBID3:4"},"HLCUHAM2208CBID3","CAIU6504551","HLCUHAM2208CBID3","20 Dry","PKBQM",293442,"2022-11-03","2022-11-12",222.35,"BL"]
[{"$f":"B389&\":\"&COUNTIF($B$2:B389,B389)","v":"HLCULIV220955956:1"},"HLCULIV220955956","HLBU8152540","HLCULIV220955956","40 Special","PKBQM",293442,"2022-11-03","2022-11-07",222.35,"SW"]
[{"$f":"B390&\":\"&COUNTIF($B$2:B390,B390)","v":"HLCULIV220978014:1"},"HLCULIV220978014","BMOU2727990","HLCULIV220978014","20 Dry","PKBQM",293442,"2022-11-03","2022-11-12",222.35,"BL"]
[{"$f":"B391&\":\"&COUNTIF($B$2:B391,B391)","v":"HLCUSYD220911598:1"},"HLCUSYD220911598","TCLU3014135","HLCUSYD220911598","20 Dry","PKBQM",293442,"2022-11-03","2022-11-07",222.35,"BL"]
[{"$f":"B392&\":\"&COUNTIF($B$2:B392,B392)","v":"HLCUSYD220727634:1"},"HLCUSYD220727634","HLBU3152001","HLCUSYD220727634","40 Dry","PKBQM",293442,"2022-11-03","2022-11-07",222.35,"SW"]
[{"$f":"B393&\":\"&COUNTIF($B$2:B393,B393)","v":"HLCUJE2221007027:1"},"HLCUJE2221007027","HLXU8412990","HLCUJE2221007027","40 Dry","PKBQM",293442,"2022-11-03","2022-11-12",222.35,"SW"]
[{"$f":"B394&\":\"&COUNTIF($B$2:B394,B394)","v":"HLCURTM220952038:1"},"HLCURTM220952038","TGBU9641464","HLCURTM220952038","40 Dry","PKBQM",293442,"2022-11-03","2022-11-12",222.35,"BL"]
[{"$f":"B395&\":\"&COUNTIF($B$2:B395,B395)","v":"HLCUBSC2209BFCT0:1"},"HLCUBSC2209BFCT0","HLXU1353869","HLCUBSC2209BFCT0","20 Dry","PKBQM",293442,"2022-11-03","2022-11-14",222.35,"BL"]
[{"$f":"B396&\":\"&COUNTIF($B$2:B396,B396)","v":"HLCUJE2221006554:1"},"HLCUJE2221006554","TEMU7651798","HLCUJE2221006554","40 Dry","PKBQM",293442,"2022-11-03","2022-11-16",222.35,"SW"]
[{"$f":"B397&\":\"&COUNTIF($B$2:B397,B397)","v":"HLCUJE2221006565:1"},"HLCUJE2221006565","TLLU5407510","HLCUJE2221006565","40 Dry","PKBQM",293442,"2022-11-03","2022-11-16",222.35,"SW"]
[{"$f":"B398&\":\"&COUNTIF($B$2:B398,B398)","v":"HLCUJE2221006576:1"},"HLCUJE2221006576","HLBU3208923","HLCUJE2221006576","40 Dry","PKBQM",293442,"2022-11-03","2022-11-16",222.35,"SW"]
[{"$f":"B399&\":\"&COUNTIF($B$2:B399,B399)","v":"HLCUJE2221006587:1"},"HLCUJE2221006587","CAIU8039079","HLCUJE2221006587","40 Dry","PKBQM",293442,"2022-11-03","2022-11-16",222.35,"SW"]
[{"$f":"B400&\":\"&COUNTIF($B$2:B400,B400)","v":"HLCUJE2221005602:1"},"HLCUJE2221005602","FANU1179005","HLCUJE2221005602","40 Dry","PKBQM",293442,"2022-11-03","2022-11-16",222.35,"SW"]
[{"$f":"B401&\":\"&COUNTIF($B$2:B401,B401)","v":"HLCULIV220906471:1"},"HLCULIV220906471","TCKU6461016","HLCULIV220906471","40 Dry","PKBQM",293442,"2022-11-03","2022-11-12",222.35,"BL"]
[{"$f":"B402&\":\"&COUNTIF($B$2:B402,B402)","v":"HLCUVAN220905604:1"},"HLCUVAN220905604","UACU5947400","HLCUVAN220905604","40 Dry","PKBQM",293442,"2022-11-03","2022-11-14",222.35,"SW"]
[{"$f":"B403&\":\"&COUNTIF($B$2:B403,B403)","v":"HLCUBSC2209BPFT6:1"},"HLCUBSC2209BPFT6","TCKU3199941","HLCUBSC2209BPFT6","20 Dry","PKBQM",293442,"2022-11-03","2022-11-14",222.35,"BL"]
[{"$f":"B404&\":\"&COUNTIF($B$2:B404,B404)","v":"HLCUTOR220920955:1"},"HLCUTOR220920955","TGHU9054540","HLCUTOR220920955","40 Dry","PKBQM",293442,"2022-11-03","2022-11-14",222.35,"BL"]
[{"$f":"B405&\":\"&COUNTIF($B$2:B405,B405)","v":"HLCUBSC2209BPVU5:1"},"HLCUBSC2209BPVU5","FBIU0485553","HLCUBSC2209BPVU5","20 Dry","PKBQM",293442,"2022-11-03","2022-11-19",222.35,"BL"]
[{"$f":"B406&\":\"&COUNTIF($B$2:B406,B406)","v":"HLCUBSC2210AQGZ3:1"},"HLCUBSC2210AQGZ3","IPXU3937108","HLCUBSC2210AQGZ3","20 Dry","PKBQM",293442,"2022-11-03","2022-11-19",222.35,"BL"]
[{"$f":"B407&\":\"&COUNTIF($B$2:B407,B407)","v":"HLCUTOR220932416:1"},"HLCUTOR220932416","FANU3082014","HLCUTOR220932416","40 Dry","PKBQM",293442,"2022-11-03","2022-11-14",222.35,"SW"]
[{"$f":"B408&\":\"&COUNTIF($B$2:B408,B408)","v":"HLCUBSC2209BBTW0:1"},"HLCUBSC2209BBTW0","TCLU5439756","HLCUBSC2209BBTW0","40 Dry","PKBQM",293442,"2022-11-03","2022-11-14",222.35,"SW"]
[{"$f":"B409&\":\"&COUNTIF($B$2:B409,B409)","v":"HLCUBSC2209BEQJ9:1"},"HLCUBSC2209BEQJ9","GLDU9540084","HLCUBSC2209BEQJ9","20 Dry","PKBQM",293442,"2022-11-03","2022-11-14",222.35,"BL"]
[{"$f":"B410&\":\"&COUNTIF($B$2:B410,B410)","v":"HLCUBSC2209BEQJ9:2"},"HLCUBSC2209BEQJ9","DFSU2785473","HLCUBSC2209BEQJ9","20 Dry","PKBQM",293442,"2022-11-03","2022-11-14",222.35,"BL"]
[{"$f":"B411&\":\"&COUNTIF($B$2:B411,B411)","v":"HLCUBSC2209BEQJ9:3"},"HLCUBSC2209BEQJ9","HLXU3288145","HLCUBSC2209BEQJ9","20 Dry","PKBQM",293442,"2022-11-03","2022-11-14",222.35,"BL"]
[{"$f":"B412&\":\"&COUNTIF($B$2:B412,B412)","v":"HLCUBSC2209BEQJ9:4"},"HLCUBSC2209BEQJ9","HLXU3242550","HLCUBSC2209BEQJ9","20 Dry","PKBQM",293442,"2022-11-03","2022-11-14",222.35,"BL"]
[{"$f":"B413&\":\"&COUNTIF($B$2:B413,B413)","v":"HLCUBSC2209AXEC6:1"},"HLCUBSC2209AXEC6","FCIU9165742","HLCUBSC2209AXEC6","40 Dry","PKBQM",293442,"2022-11-03","2022-11-07",222.35,"SW"]
[{"$f":"B414&\":\"&COUNTIF($B$2:B414,B414)","v":"HLCUBSC2209BASO1:1"},"HLCUBSC2209BASO1","TCLU5241713","HLCUBSC2209BASO1","40 Dry","PKBQM",293442,"2022-11-03","2022-11-14",222.35,"SW"]
[{"$f":"B415&\":\"&COUNTIF($B$2:B415,B415)","v":"HLCUBSC2209BQKD0:1"},"HLCUBSC2209BQKD0","HLBU3461504","HLCUBSC2209BQKD0","20 Dry","PKBQM",293442,"2022-11-03","2022-11-14",222.35,"BL"]
[{"$f":"B416&\":\"&COUNTIF($B$2:B416,B416)","v":"HLCUBSC2209BQKD0:2"},"HLCUBSC2209BQKD0","HLXU1104315","HLCUBSC2209BQKD0","20 Dry","PKBQM",293442,"2022-11-03","2022-11-14",222.35,"BL"]
[{"$f":"B417&\":\"&COUNTIF($B$2:B417,B417)","v":"HLCUBSC2209BQKD0:3"},"HLCUBSC2209BQKD0","UACU4099645","HLCUBSC2209BQKD0","20 Dry","PKBQM",293442,"2022-11-03","2022-11-14",222.35,"BL"]
[{"$f":"B418&\":\"&COUNTIF($B$2:B418,B418)","v":"HLCUBSC2209BQKD0:4"},"HLCUBSC2209BQKD0","GESU3487047","HLCUBSC2209BQKD0","20 Dry","PKBQM",293442,"2022-11-03","2022-11-14",222.35,"BL"]
[{"$f":"B419&\":\"&COUNTIF($B$2:B419,B419)","v":"HLCUBSC2209BPWH8:1"},"HLCUBSC2209BPWH8","HLBU2927080","HLCUBSC2209BPWH8","20 Dry","PKBQM",293442,"2022-11-03","2022-11-14",222.35,"BL"]
[{"$f":"B420&\":\"&COUNTIF($B$2:B420,B420)","v":"HLCUBSC2209BJIL6:1"},"HLCUBSC2209BJIL6","BSIU2900396","HLCUBSC2209BJIL6","20 Dry","PKBQM",293442,"2022-11-03","2022-11-07",222.35,"SW"]
[{"$f":"B421&\":\"&COUNTIF($B$2:B421,B421)","v":"HLCUBSC2209AUSL6:1"},"HLCUBSC2209AUSL6","TCLU2875015","HLCUBSC2209AUSL6","20 Dry","PKBQM",293442,"2022-11-03","2022-11-14",222.35,"BL"]
[{"$f":"B422&\":\"&COUNTIF($B$2:B422,B422)","v":"HLCUBSC2209AUSL6:2"},"HLCUBSC2209AUSL6","CAIU3361884","HLCUBSC2209AUSL6","20 Dry","PKBQM",293442,"2022-11-03","2022-11-14",222.35,"BL"]
[{"$f":"B423&\":\"&COUNTIF($B$2:B423,B423)","v":"HLCUBSC2209AUSL6:3"},"HLCUBSC2209AUSL6","FCIU4439244","HLCUBSC2209AUSL6","20 Dry","PKBQM",293442,"2022-11-03","2022-11-14",222.35,"BL"]
[{"$f":"B424&\":\"&COUNTIF($B$2:B424,B424)","v":"HLCUBSC2209BBSP8:1"},"HLCUBSC2209BBSP8","FSCU8234637","HLCUBSC2209BBSP8","40 Dry","PKBQM",293442,"2022-11-03","2022-11-07",222.35,"SW"]
[{"$f":"B425&\":\"&COUNTIF($B$2:B425,B425)","v":"HLCUBSC2209BPGW5:1"},"HLCUBSC2209BPGW5","HLBU2007842","HLCUBSC2209BPGW5","40 Dry","PKBQM",293442,"2022-11-03","2022-11-14",222.35,"BL"]
[{"$f":"B426&\":\"&COUNTIF($B$2:B426,B426)","v":"HLCUBSC2209BPGW5:2"},"HLCUBSC2209BPGW5","TXGU6524030","HLCUBSC2209BPGW5","40 Dry","PKBQM",293442,"2022-11-03","2022-11-14",222.35,"BL"]
[{"$f":"B427&\":\"&COUNTIF($B$2:B427,B427)","v":"HLCUTOR220917472:1"},"HLCUTOR220917472","TCLU8117590","HLCUTOR220917472","40 Dry","PKBQM",293442,"2022-11-03","2022-11-14",222.35,"SW"]
[{"$f":"B428&\":\"&COUNTIF($B$2:B428,B428)","v":"HLCUBSC2209BMWN6:1"},"HLCUBSC2209BMWN6","HLXU8257717","HLCUBSC2209BMWN6","40 Dry","PKBQM",293442,"2022-11-03","2022-11-07",222.35,"BL"]
[{"$f":"B429&\":\"&COUNTIF($B$2:B429,B429)","v":"HLCUBSC2209BQJN5:1"},"HLCUBSC2209BQJN5","PCIU1704920","HLCUBSC2209BQJN5","20 Dry","PKBQM",293442,"2022-11-03","2022-11-14",222.35,"SW"]
[{"$f":"B430&\":\"&COUNTIF($B$2:B430,B430)","v":"HLCUTOR220917523:1"},"HLCUTOR220917523","UACU6005223","HLCUTOR220917523","40 Dry","PKBQM",293442,"2022-11-03","2022-11-14",222.35,"SW"]
[{"$f":"B431&\":\"&COUNTIF($B$2:B431,B431)","v":"HLCUBSC2209BIPB7:1"},"HLCUBSC2209BIPB7","UETU5437422","HLCUBSC2209BIPB7","40 Dry","PKBQM",293442,"2022-11-03","2022-11-14",222.35,"BL"]
[{"$f":"B432&\":\"&COUNTIF($B$2:B432,B432)","v":"HLCUBSC2209BPSQ0:1"},"HLCUBSC2209BPSQ0","HLXU1418194","HLCUBSC2209BPSQ0","20 Dry","PKBQM",293442,"2022-11-03","2022-11-07",222.35,"BL"]
[{"$f":"B433&\":\"&COUNTIF($B$2:B433,B433)","v":"HLCUBSC2209CBEI5:1"},"HLCUBSC2209CBEI5","HLBU2318063","HLCUBSC2209CBEI5","20 Dry","PKBQM",293442,"","",222.35,"SW"]
[{"$f":"B434&\":\"&COUNTIF($B$2:B434,B434)","v":"HLCUBSC2209CBEM0:1"},"HLCUBSC2209CBEM0","UACU3545104","HLCUBSC2209CBEM0","20 Dry","PKBQM",293442,"","",222.35,"BL"]
[{"$f":"B435&\":\"&COUNTIF($B$2:B435,B435)","v":"HLCUBSC2209AXUI4:1"},"HLCUBSC2209AXUI4","FANU1205892","HLCUBSC2209AXUI4","40 Dry","PKBQM",293442,"2022-11-03","2022-11-16",222.35,"SW"]
[{"$f":"B436&\":\"&COUNTIF($B$2:B436,B436)","v":"HLCUBSC2209ARLR5:1"},"HLCUBSC2209ARLR5","HLBU2270036","HLCUBSC2209ARLR5","40 Dry","PKBQM",293442,"2022-11-03","2022-11-14",222.35,"SW"]
[{"$f":"B437&\":\"&COUNTIF($B$2:B437,B437)","v":"HLCUVAN220906100:1"},"HLCUVAN220906100","HLXU6558096","HLCUVAN220906100","40 Dry","PKBQM",293442,"2022-11-03","2022-11-14",222.35,"SW"]
[{"$f":"B438&\":\"&COUNTIF($B$2:B438,B438)","v":"HLCUBSC2209BEPN8:1"},"HLCUBSC2209BEPN8","TGBU6135550","HLCUBSC2209BEPN8","40 Dry","PKBQM",293442,"2022-11-03","2022-11-21",222.35,"BL"]
[{"$f":"B439&\":\"&COUNTIF($B$2:B439,B439)","v":"HLCUBSC2209BEPN8:2"},"HLCUBSC2209BEPN8","GATU8270824","HLCUBSC2209BEPN8","40 Dry","PKBQM",293442,"2022-11-03","2022-11-21",222.35,"BL"]
[{"$f":"B440&\":\"&COUNTIF($B$2:B440,B440)","v":"HLCUBSC2209AWTH5:1"},"HLCUBSC2209AWTH5","CAIU8553410","HLCUBSC2209AWTH5","40 Dry","PKBQM",293442,"2022-11-03","2022-11-14",222.35,"SW"]
[{"$f":"B441&\":\"&COUNTIF($B$2:B441,B441)","v":"HLCUBSC2209BQIY0:1"},"HLCUBSC2209BQIY0","TCLU3088170","HLCUBSC2209BQIY0","20 Dry","PKBQM",293442,"2022-11-03","2022-11-14",222.35,"BL"]
[{"$f":"B442&\":\"&COUNTIF($B$2:B442,B442)","v":"HLCUBSC2209BOMX1:1"},"HLCUBSC2209BOMX1","HLBU2595474","HLCUBSC2209BOMX1","40 Dry","PKBQM",293442,"2022-11-03","2022-11-14",222.35,"BL"]
[{"$f":"B443&\":\"&COUNTIF($B$2:B443,B443)","v":"HLCUBSC2209BQDS7:1"},"HLCUBSC2209BQDS7","BMOU6605686","HLCUBSC2209BQDS7","40 Dry","PKBQM",293442,"2022-11-03","2022-11-14",222.35,"BL"]
[{"$f":"B444&\":\"&COUNTIF($B$2:B444,B444)","v":"HLCUBSC2209BQDS7:2"},"HLCUBSC2209BQDS7","GESU6415539","HLCUBSC2209BQDS7","40 Dry","PKBQM",293442,"2022-11-03","2022-11-14",222.35,"BL"]
[{"$f":"B445&\":\"&COUNTIF($B$2:B445,B445)","v":"HLCUBSC2209BQDS7:3"},"HLCUBSC2209BQDS7","TCNU1789481","HLCUBSC2209BQDS7","40 Dry","PKBQM",293442,"2022-11-03","2022-11-14",222.35,"BL"]
[{"$f":"B446&\":\"&COUNTIF($B$2:B446,B446)","v":"HLCUBSC2209BQDS7:4"},"HLCUBSC2209BQDS7","HLBU2218573","HLCUBSC2209BQDS7","40 Dry","PKBQM",293442,"2022-11-03","2022-11-14",222.35,"BL"]
[{"$f":"B447&\":\"&COUNTIF($B$2:B447,B447)","v":"HLCUBSC2209BQDS7:5"},"HLCUBSC2209BQDS7","HLBU3302668","HLCUBSC2209BQDS7","40 Dry","PKBQM",293442,"2022-11-03","2022-11-14",222.35,"BL"]
[{"$f":"B448&\":\"&COUNTIF($B$2:B448,B448)","v":"HLCUBSC2209BPNA6:1"},"HLCUBSC2209BPNA6","HLXU4696917","HLCUBSC2209BPNA6","40 Special","PKBQM",293442,"2022-11-03","",222.35,"SW"]
[{"$f":"B449&\":\"&COUNTIF($B$2:B449,B449)","v":"HLCUBSC2209BCZT8:1"},"HLCUBSC2209BCZT8","CAIU3672171","HLCUBSC2209BCZT8","20 Dry","PKBQM",293442,"2022-11-03","2022-11-14",222.35,"SW"]
[{"$f":"B450&\":\"&COUNTIF($B$2:B450,B450)","v":"HLCUBSC2209BCZT8:2"},"HLCUBSC2209BCZT8","TGHU3964055","HLCUBSC2209BCZT8","20 Dry","PKBQM",293442,"2022-11-03","2022-11-14",222.35,"SW"]
[{"$f":"B451&\":\"&COUNTIF($B$2:B451,B451)","v":"HLCUTOR220927910:1"},"HLCUTOR220927910","FCIU9162743","HLCUTOR220927910","40 Dry","PKBQM",293442,"2022-11-03","2022-11-14",222.35,"SW"]
[{"$f":"B452&\":\"&COUNTIF($B$2:B452,B452)","v":"HLCUBSC2209ASZI0:1"},"HLCUBSC2209ASZI0","CAIU6825823","HLCUBSC2209ASZI0","20 Dry","PKBQM",293442,"2022-11-03","2022-11-14",222.35,"BL"]
[{"$f":"B453&\":\"&COUNTIF($B$2:B453,B453)","v":"HLCUBSC2209ASZI0:2"},"HLCUBSC2209ASZI0","FCIU6293992","HLCUBSC2209ASZI0","20 Dry","PKBQM",293442,"2022-11-03","2022-11-14",222.35,"BL"]
[{"$f":"B454&\":\"&COUNTIF($B$2:B454,B454)","v":"HLCUBSC2209ASZI0:3"},"HLCUBSC2209ASZI0","HLXU1358583","HLCUBSC2209ASZI0","20 Dry","PKBQM",293442,"2022-11-03","2022-11-14",222.35,"BL"]
[{"$f":"B455&\":\"&COUNTIF($B$2:B455,B455)","v":"HLCUBSC2209ASZI0:4"},"HLCUBSC2209ASZI0","HLBU2304711","HLCUBSC2209ASZI0","20 Dry","PKBQM",293442,"2022-11-03","2022-11-14",222.35,"BL"]
[{"$f":"B456&\":\"&COUNTIF($B$2:B456,B456)","v":"HLCUBSC2209ASZI0:5"},"HLCUBSC2209ASZI0","HLBU2623236","HLCUBSC2209ASZI0","20 Dry","PKBQM",293442,"2022-11-03","2022-11-14",222.35,"BL"]
[{"$f":"B457&\":\"&COUNTIF($B$2:B457,B457)","v":"HLCUBSC2209ASZJ1:1"},"HLCUBSC2209ASZJ1","FCIU6559640","HLCUBSC2209ASZJ1","20 Dry","PKBQM",293442,"2022-11-03","2022-11-14",222.35,"BL"]
[{"$f":"B458&\":\"&COUNTIF($B$2:B458,B458)","v":"HLCUBSC2209ASZJ1:2"},"HLCUBSC2209ASZJ1","HLXU1348923","HLCUBSC2209ASZJ1","20 Dry","PKBQM",293442,"2022-11-03","2022-11-14",222.35,"BL"]
[{"$f":"B459&\":\"&COUNTIF($B$2:B459,B459)","v":"HLCUBSC2209ASZJ1:3"},"HLCUBSC2209ASZJ1","HLXU1084501","HLCUBSC2209ASZJ1","20 Dry","PKBQM",293442,"2022-11-03","2022-11-14",222.35,"BL"]
[{"$f":"B460&\":\"&COUNTIF($B$2:B460,B460)","v":"HLCUBSC2209ASZJ1:4"},"HLCUBSC2209ASZJ1","UACU4024271","HLCUBSC2209ASZJ1","20 Dry","PKBQM",293442,"2022-11-03","2022-11-14",222.35,"BL"]
[{"$f":"B461&\":\"&COUNTIF($B$2:B461,B461)","v":"HLCUBSC2209ASZJ1:5"},"HLCUBSC2209ASZJ1","BSIU3231145","HLCUBSC2209ASZJ1","20 Dry","PKBQM",293442,"2022-11-03","2022-11-14",222.35,"BL"]
[{"$f":"B462&\":\"&COUNTIF($B$2:B462,B462)","v":"HLCUVAN220904941:1"},"HLCUVAN220904941","CAAU5564614","HLCUVAN220904941","40 Dry","PKBQM",293442,"2022-11-03","2022-11-14",222.35,"SW"]
[{"$f":"B463&\":\"&COUNTIF($B$2:B463,B463)","v":"HLCUBSC2209BPGN6:1"},"HLCUBSC2209BPGN6","TCNU7542293","HLCUBSC2209BPGN6","40 Dry","PKBQM",293442,"2022-11-03","2022-11-07",222.35,"BL"]
[{"$f":"B464&\":\"&COUNTIF($B$2:B464,B464)","v":"HLCUBSC2209BPEM4:1"},"HLCUBSC2209BPEM4","HLXU3620136","HLCUBSC2209BPEM4","20 Special","PKBQM",293442,"2022-11-04","2022-11-08",222.35,"BL"]
[{"$f":"B465&\":\"&COUNTIF($B$2:B465,B465)","v":"HLCUBSC2209BPJC1:1"},"HLCUBSC2209BPJC1","TGBU5843446","HLCUBSC2209BPJC1","40 Dry","PKBQM",293442,"2022-11-03","2022-11-14",222.35,"BL"]
[{"$f":"B466&\":\"&COUNTIF($B$2:B466,B466)","v":"HLCUBSC2209BQJK1:1"},"HLCUBSC2209BQJK1","TGCU2097753","HLCUBSC2209BQJK1","20 Dry","PKBQM",293442,"2022-11-04","2022-11-15",222.35,"BL"]
[{"$f":"B467&\":\"&COUNTIF($B$2:B467,B467)","v":"HLCUBSC2209BEOS7:1"},"HLCUBSC2209BEOS7","DFSU2255431","HLCUBSC2209BEOS7","20 Dry","PKBQM",293442,"2022-11-03","2022-11-14",222.35,"BL"]
[{"$f":"B468&\":\"&COUNTIF($B$2:B468,B468)","v":"HLCUBSC2209BPZN0:1"},"HLCUBSC2209BPZN0","UACU3507254","HLCUBSC2209BPZN0","20 Dry","PKBQM",293442,"2022-11-03","2022-11-14",222.35,"BL"]
[{"$f":"B469&\":\"&COUNTIF($B$2:B469,B469)","v":"HLCUBSC2209BPZN0:2"},"HLCUBSC2209BPZN0","BMOU2817922","HLCUBSC2209BPZN0","20 Dry","PKBQM",293442,"2022-11-03","2022-11-14",222.35,"BL"]
[{"$f":"B470&\":\"&COUNTIF($B$2:B470,B470)","v":"HLCUBSC2209BPZN0:3"},"HLCUBSC2209BPZN0","BEAU2218030","HLCUBSC2209BPZN0","20 Dry","PKBQM",293442,"2022-11-03","2022-11-14",222.35,"BL"]
[{"$f":"B471&\":\"&COUNTIF($B$2:B471,B471)","v":"HLCUBSC2209AYVN3:1"},"HLCUBSC2209AYVN3","GESU3552230","HLCUBSC2209AYVN3","20 Dry","PKBQM",293442,"2022-11-03","2022-11-14",222.35,"BL"]
[{"$f":"B472&\":\"&COUNTIF($B$2:B472,B472)","v":"HLCUBSC2209AYVN3:2"},"HLCUBSC2209AYVN3","HLBU1033997","HLCUBSC2209AYVN3","20 Dry","PKBQM",293442,"2022-11-03","2022-11-14",222.35,"BL"]
[{"$f":"B473&\":\"&COUNTIF($B$2:B473,B473)","v":"HLCUBSC2209AYVN3:3"},"HLCUBSC2209AYVN3","TCKU1388587","HLCUBSC2209AYVN3","20 Dry","PKBQM",293442,"2022-11-03","2022-11-14",222.35,"BL"]
[{"$f":"B474&\":\"&COUNTIF($B$2:B474,B474)","v":"HLCUBSC2209AYVN3:4"},"HLCUBSC2209AYVN3","TEMU0691607","HLCUBSC2209AYVN3","20 Dry","PKBQM",293442,"2022-11-03","2022-11-14",222.35,"BL"]
[{"$f":"B475&\":\"&COUNTIF($B$2:B475,B475)","v":"HLCUBSC2209AYVN3:5"},"HLCUBSC2209AYVN3","UACU3882091","HLCUBSC2209AYVN3","20 Dry","PKBQM",293442,"2022-11-03","2022-11-14",222.35,"BL"]
[{"$f":"B476&\":\"&COUNTIF($B$2:B476,B476)","v":"HLCUBSC2209AYWE0:1"},"HLCUBSC2209AYWE0","TEMU2490200","HLCUBSC2209AYWE0","20 Dry","PKBQM",293442,"2022-11-03","2022-11-14",222.35,"BL"]
[{"$f":"B477&\":\"&COUNTIF($B$2:B477,B477)","v":"HLCUBSC2209AYWE0:2"},"HLCUBSC2209AYWE0","HLXU1388314","HLCUBSC2209AYWE0","20 Dry","PKBQM",293442,"2022-11-03","2022-11-14",222.35,"BL"]
[{"$f":"B478&\":\"&COUNTIF($B$2:B478,B478)","v":"HLCUBSC2209AYWE0:3"},"HLCUBSC2209AYWE0","HLXU1338822","HLCUBSC2209AYWE0","20 Dry","PKBQM",293442,"2022-11-03","2022-11-14",222.35,"BL"]
[{"$f":"B479&\":\"&COUNTIF($B$2:B479,B479)","v":"HLCUBSC2209AYWE0:4"},"HLCUBSC2209AYWE0","GLDU9498929","HLCUBSC2209AYWE0","20 Dry","PKBQM",293442,"2022-11-03","2022-11-14",222.35,"BL"]
[{"$f":"B480&\":\"&COUNTIF($B$2:B480,B480)","v":"HLCUBSC2209AYWE0:5"},"HLCUBSC2209AYWE0","UACU3540186","HLCUBSC2209AYWE0","20 Dry","PKBQM",293442,"2022-11-03","2022-11-14",222.35,"BL"]
[{"$f":"B481&\":\"&COUNTIF($B$2:B481,B481)","v":"HLCUBSC2209AYWF0:1"},"HLCUBSC2209AYWF0","HLXU1027482","HLCUBSC2209AYWF0","20 Dry","PKBQM",293442,"2022-11-03","2022-11-14",222.35,"BL"]
[{"$f":"B482&\":\"&COUNTIF($B$2:B482,B482)","v":"HLCUBSC2209AYWF0:2"},"HLCUBSC2209AYWF0","DFSU3059794","HLCUBSC2209AYWF0","20 Dry","PKBQM",293442,"2022-11-03","2022-11-14",222.35,"BL"]
[{"$f":"B483&\":\"&COUNTIF($B$2:B483,B483)","v":"HLCUBSC2209AYWF0:3"},"HLCUBSC2209AYWF0","TCLU2686752","HLCUBSC2209AYWF0","20 Dry","PKBQM",293442,"2022-11-03","2022-11-14",222.35,"BL"]
[{"$f":"B484&\":\"&COUNTIF($B$2:B484,B484)","v":"HLCUBSC2209AYWF0:4"},"HLCUBSC2209AYWF0","HAMU1098690","HLCUBSC2209AYWF0","20 Dry","PKBQM",293442,"2022-11-03","2022-11-14",222.35,"BL"]
[{"$f":"B485&\":\"&COUNTIF($B$2:B485,B485)","v":"HLCUBSC2209AYWF0:5"},"HLCUBSC2209AYWF0","GLDU5433494","HLCUBSC2209AYWF0","20 Dry","PKBQM",293442,"2022-11-03","2022-11-14",222.35,"BL"]
[{"$f":"B486&\":\"&COUNTIF($B$2:B486,B486)","v":"HLCUTOR220921110:1"},"HLCUTOR220921110","GESU6162359","HLCUTOR220921110","40 Dry","PKBQM",293442,"2022-11-03","2022-11-14",222.35,"BL"]
[{"$f":"B487&\":\"&COUNTIF($B$2:B487,B487)","v":"HLCUTOR220921110:2"},"HLCUTOR220921110","HLBU1661015","HLCUTOR220921110","40 Dry","PKBQM",293442,"2022-11-03","2022-11-14",222.35,"BL"]
[{"$f":"B488&\":\"&COUNTIF($B$2:B488,B488)","v":"HLCUBSC2209AZXP9:1"},"HLCUBSC2209AZXP9","TXGU7173665","HLCUBSC2209AZXP9","40 Dry","PKBQM",293442,"2022-11-03","2022-11-07",222.35,"SW"]
[{"$f":"B489&\":\"&COUNTIF($B$2:B489,B489)","v":"HLCUBSC2209BENE8:1"},"HLCUBSC2209BENE8","UACU3531707","HLCUBSC2209BENE8","20 Dry","PKBQM",293442,"2022-11-03","2022-11-14",222.35,"BL"]
[{"$f":"B490&\":\"&COUNTIF($B$2:B490,B490)","v":"HLCUBSC2209AYTJ2:1"},"HLCUBSC2209AYTJ2","TCLU6376518","HLCUBSC2209AYTJ2","40 Dry","PKBQM",293442,"2022-11-03","2022-11-14",222.35,"SW"]
[{"$f":"B491&\":\"&COUNTIF($B$2:B491,B491)","v":"HLCUBSC2209AZUB3:1"},"HLCUBSC2209AZUB3","CAIU2671062","HLCUBSC2209AZUB3","20 Dry","PKBQM",293442,"2022-11-03","2022-11-14",222.35,"BL"]
[{"$f":"B492&\":\"&COUNTIF($B$2:B492,B492)","v":"HLCUBSC2209AZUB3:2"},"HLCUBSC2209AZUB3","TCLU5374362","HLCUBSC2209AZUB3","20 Dry","PKBQM",293442,"2022-11-03","2022-11-14",222.35,"BL"]
[{"$f":"B493&\":\"&COUNTIF($B$2:B493,B493)","v":"HLCUBSC2209AOWL7:1"},"HLCUBSC2209AOWL7","UACU5558815","HLCUBSC2209AOWL7","40 Dry","PKBQM",293442,"2022-11-03","2022-11-07",222.35,"BL"]
[{"$f":"B494&\":\"&COUNTIF($B$2:B494,B494)","v":"HLCUBSC2209BPXL8:1"},"HLCUBSC2209BPXL8","TGBU6067624","HLCUBSC2209BPXL8","40 Dry","PKBQM",293442,"2022-11-03","2022-11-14",222.35,"BL"]
[{"$f":"B495&\":\"&COUNTIF($B$2:B495,B495)","v":"HLCUBSC2209BPXL8:2"},"HLCUBSC2209BPXL8","TGBU6054632","HLCUBSC2209BPXL8","40 Dry","PKBQM",293442,"2022-11-03","2022-11-14",222.35,"BL"]
[{"$f":"B496&\":\"&COUNTIF($B$2:B496,B496)","v":"HLCUTOR220917501:1"},"HLCUTOR220917501","FANU1157325","HLCUTOR220917501","40 Dry","PKBQM",293442,"2022-11-03","2022-11-14",222.35,"SW"]
[{"$f":"B497&\":\"&COUNTIF($B$2:B497,B497)","v":"HLCUTOR220921015:1"},"HLCUTOR220921015","TCLU5440660","HLCUTOR220921015","40 Dry","PKBQM",293442,"2022-11-03","2022-11-14",222.35,"SW"]
[{"$f":"B498&\":\"&COUNTIF($B$2:B498,B498)","v":"HLCUBSC2209BADH7:1"},"HLCUBSC2209BADH7","UETU2342025","HLCUBSC2209BADH7","20 Dry","PKBQM",293442,"2022-11-03","2022-11-14",222.35,"BL"]
[{"$f":"B499&\":\"&COUNTIF($B$2:B499,B499)","v":"HLCUTOR220918654:1"},"HLCUTOR220918654","FANU1752457","HLCUTOR220918654","40 Dry","PKBQM",293442,"2022-11-03","2022-11-14",222.35,"SW"]
[{"$f":"B500&\":\"&COUNTIF($B$2:B500,B500)","v":"HLCUHAM220959781:1"},"HLCUHAM220959781","TCNU7566696","HLCUHAM220959781","40 Dry","PKBQM",293442,"2022-11-03","2022-11-12",222.35,"BL"]
[{"$f":"B501&\":\"&COUNTIF($B$2:B501,B501)","v":"HLCUHAM220959781:2"},"HLCUHAM220959781","UACU5683843","HLCUHAM220959781","40 Dry","PKBQM",293442,"2022-11-03","2022-11-12",222.35,"BL"]
[{"$f":"B502&\":\"&COUNTIF($B$2:B502,B502)","v":"HLCUHAM220959781:3"},"HLCUHAM220959781","TCNU8839650","HLCUHAM220959781","40 Dry","PKBQM",293442,"2022-11-03","2022-11-12",222.35,"BL"]
[{"$f":"B503&\":\"&COUNTIF($B$2:B503,B503)","v":"HLCUVAN220906037:1"},"HLCUVAN220906037","BEAU4168366","HLCUVAN220906037","40 Dry","PKBQM",293442,"2022-11-03","2022-11-14",222.35,"SW"]
[{"$f":"B504&\":\"&COUNTIF($B$2:B504,B504)","v":"HLCUBSC2209ATVS1:1"},"HLCUBSC2209ATVS1","TCLU2270148","HLCUBSC2209ATVS1","20 Dry","PKBQM",293442,"2022-11-03","2022-11-14",222.35,"BL"]
[{"$f":"B505&\":\"&COUNTIF($B$2:B505,B505)","v":"HLCUBSC2209ATVS1:2"},"HLCUBSC2209ATVS1","NIDU2309915","HLCUBSC2209ATVS1","20 Dry","PKBQM",293442,"2022-11-03","2022-11-14",222.35,"BL"]
[{"$f":"B506&\":\"&COUNTIF($B$2:B506,B506)","v":"HLCUBSC2209ATVS1:3"},"HLCUBSC2209ATVS1","CAIU6995537","HLCUBSC2209ATVS1","20 Dry","PKBQM",293442,"2022-11-03","2022-11-14",222.35,"BL"]
[{"$f":"B507&\":\"&COUNTIF($B$2:B507,B507)","v":"HLCUBSC2209ATVS1:4"},"HLCUBSC2209ATVS1","CAIU6617898","HLCUBSC2209ATVS1","20 Dry","PKBQM",293442,"2022-11-03","2022-11-14",222.35,"BL"]
[{"$f":"B508&\":\"&COUNTIF($B$2:B508,B508)","v":"HLCUBSC2209ATVS1:5"},"HLCUBSC2209ATVS1","HLXU1246496","HLCUBSC2209ATVS1","20 Dry","PKBQM",293442,"2022-11-03","2022-11-14",222.35,"BL"]
[{"$f":"B509&\":\"&COUNTIF($B$2:B509,B509)","v":"HLCUBSC2209ATVU3:1"},"HLCUBSC2209ATVU3","HLBU2305153","HLCUBSC2209ATVU3","20 Dry","PKBQM",293442,"2022-11-03","2022-11-14",222.35,"BL"]
[{"$f":"B510&\":\"&COUNTIF($B$2:B510,B510)","v":"HLCUBSC2209ATVU3:2"},"HLCUBSC2209ATVU3","GESU3867392","HLCUBSC2209ATVU3","20 Dry","PKBQM",293442,"2022-11-03","2022-11-14",222.35,"BL"]
[{"$f":"B511&\":\"&COUNTIF($B$2:B511,B511)","v":"HLCUBSC2209ATVU3:3"},"HLCUBSC2209ATVU3","FBIU0087992","HLCUBSC2209ATVU3","20 Dry","PKBQM",293442,"2022-11-03","2022-11-14",222.35,"BL"]
[{"$f":"B512&\":\"&COUNTIF($B$2:B512,B512)","v":"HLCUBSC2209ATVU3:4"},"HLCUBSC2209ATVU3","UACU4097642","HLCUBSC2209ATVU3","20 Dry","PKBQM",293442,"2022-11-03","2022-11-14",222.35,"BL"]
[{"$f":"B513&\":\"&COUNTIF($B$2:B513,B513)","v":"HLCUBSC2209ATVU3:5"},"HLCUBSC2209ATVU3","DFSU1617393","HLCUBSC2209ATVU3","20 Dry","PKBQM",293442,"2022-11-03","2022-11-14",222.35,"BL"]
[{"$f":"B514&\":\"&COUNTIF($B$2:B514,B514)","v":"HLCUBSC2209BPXB8:1"},"HLCUBSC2209BPXB8","AMFU8901210","HLCUBSC2209BPXB8","40 Dry","PKBQM",293442,"2022-11-03","2022-11-14",222.35,"BL"]
[{"$f":"B515&\":\"&COUNTIF($B$2:B515,B515)","v":"HLCUBSC2209BPXB8:2"},"HLCUBSC2209BPXB8","GLDU9982595","HLCUBSC2209BPXB8","40 Dry","PKBQM",293442,"2022-11-03","2022-11-14",222.35,"BL"]
[{"$f":"B516&\":\"&COUNTIF($B$2:B516,B516)","v":"HLCUBSC2209BPXB8:3"},"HLCUBSC2209BPXB8","UACU5314249","HLCUBSC2209BPXB8","40 Dry","PKBQM",293442,"2022-11-03","2022-11-14",222.35,"BL"]
[{"$f":"B517&\":\"&COUNTIF($B$2:B517,B517)","v":"HLCUBSC2209BPXB8:4"},"HLCUBSC2209BPXB8","FANU1085040","HLCUBSC2209BPXB8","40 Dry","PKBQM",293442,"2022-11-03","2022-11-14",222.35,"BL"]
[{"$f":"B518&\":\"&COUNTIF($B$2:B518,B518)","v":"HLCUBSC2209BEML0:1"},"HLCUBSC2209BEML0","HCIU2004250","HLCUBSC2209BEML0","20 Dry","PKBQM",293442,"2022-11-03","2022-11-14",222.35,"BL"]
[{"$f":"B519&\":\"&COUNTIF($B$2:B519,B519)","v":"HLCUBSC2209BFUI2:1"},"HLCUBSC2209BFUI2","TEMU1305416","HLCUBSC2209BFUI2","20 Dry","PKBQM",293442,"2022-11-03","2022-11-14",222.35,"BL"]
[{"$f":"B520&\":\"&COUNTIF($B$2:B520,B520)","v":"HLCUBSC2209BFUI2:2"},"HLCUBSC2209BFUI2","CAIU3224602","HLCUBSC2209BFUI2","20 Dry","PKBQM",293442,"2022-11-03","2022-11-14",222.35,"BL"]
[{"$f":"B521&\":\"&COUNTIF($B$2:B521,B521)","v":"HLCUBSC2209BFUI2:3"},"HLCUBSC2209BFUI2","BEAU2213527","HLCUBSC2209BFUI2","20 Dry","PKBQM",293442,"2022-11-03","2022-11-14",222.35,"BL"]
[{"$f":"B522&\":\"&COUNTIF($B$2:B522,B522)","v":"HLCUBSC2209BFUI2:4"},"HLCUBSC2209BFUI2","TEMU1458797","HLCUBSC2209BFUI2","20 Dry","PKBQM",293442,"2022-11-03","2022-11-14",222.35,"BL"]
[{"$f":"B523&\":\"&COUNTIF($B$2:B523,B523)","v":"HLCUBSC2209BFUN8:1"},"HLCUBSC2209BFUN8","TCLU2854537","HLCUBSC2209BFUN8","20 Dry","PKBQM",293442,"2022-11-03","2022-11-14",222.35,"BL"]
[{"$f":"B524&\":\"&COUNTIF($B$2:B524,B524)","v":"HLCUBSC2209BFUN8:2"},"HLCUBSC2209BFUN8","CAIU6996256","HLCUBSC2209BFUN8","20 Dry","PKBQM",293442,"2022-11-03","2022-11-14",222.35,"BL"]
[{"$f":"B525&\":\"&COUNTIF($B$2:B525,B525)","v":"HLCUBSC2209BFUT3:1"},"HLCUBSC2209BFUT3","CAIU2695233","HLCUBSC2209BFUT3","20 Dry","PKBQM",293442,"2022-11-03","2022-11-14",222.35,"BL"]
[{"$f":"B526&\":\"&COUNTIF($B$2:B526,B526)","v":"HLCUBSC2209BFUT3:2"},"HLCUBSC2209BFUT3","CAIU2660807","HLCUBSC2209BFUT3","20 Dry","PKBQM",293442,"2022-11-03","2022-11-14",222.35,"BL"]
[{"$f":"B527&\":\"&COUNTIF($B$2:B527,B527)","v":"HLCUBSC2209BFUT3:3"},"HLCUBSC2209BFUT3","TCLU3009416","HLCUBSC2209BFUT3","20 Dry","PKBQM",293442,"2022-11-03","2022-11-14",222.35,"BL"]
[{"$f":"B528&\":\"&COUNTIF($B$2:B528,B528)","v":"HLCUBSC2209BFUT3:4"},"HLCUBSC2209BFUT3","TCLU2877384","HLCUBSC2209BFUT3","20 Dry","PKBQM",293442,"2022-11-03","2022-11-14",222.35,"BL"]
[{"$f":"B529&\":\"&COUNTIF($B$2:B529,B529)","v":"HLCUBSC2209BFYG8:1"},"HLCUBSC2209BFYG8","HLBU1221119","HLCUBSC2209BFYG8","20 Dry","PKBQM",293442,"2022-11-03","2022-11-14",222.35,"BL"]
[{"$f":"B530&\":\"&COUNTIF($B$2:B530,B530)","v":"HLCUBSC2209BFYG8:2"},"HLCUBSC2209BFYG8","HLBU1101730","HLCUBSC2209BFYG8","20 Dry","PKBQM",293442,"2022-11-03","2022-11-14",222.35,"BL"]
[{"$f":"B531&\":\"&COUNTIF($B$2:B531,B531)","v":"HLCUBSC2209BFYG8:3"},"HLCUBSC2209BFYG8","TGHU1221127","HLCUBSC2209BFYG8","20 Dry","PKBQM",293442,"2022-11-03","2022-11-14",222.35,"BL"]
[{"$f":"B532&\":\"&COUNTIF($B$2:B532,B532)","v":"HLCUBSC2209BFYG8:4"},"HLCUBSC2209BFYG8","CAIU6867032","HLCUBSC2209BFYG8","20 Dry","PKBQM",293442,"2022-11-03","2022-11-14",222.35,"BL"]
[{"$f":"B533&\":\"&COUNTIF($B$2:B533,B533)","v":"HLCUBSC2209BFYG8:5"},"HLCUBSC2209BFYG8","GATU1325150","HLCUBSC2209BFYG8","20 Dry","PKBQM",293442,"2022-11-03","2022-11-14",222.35,"BL"]
[{"$f":"B534&\":\"&COUNTIF($B$2:B534,B534)","v":"HLCUBSC2209ARPF5:1"},"HLCUBSC2209ARPF5","UACU4008964","HLCUBSC2209ARPF5","20 Dry","PKBQM",293442,"2022-11-03","2022-11-14",222.35,"BL"]
[{"$f":"B535&\":\"&COUNTIF($B$2:B535,B535)","v":"HLCUBSC2209BPPK7:1"},"HLCUBSC2209BPPK7","UACU5985571","HLCUBSC2209BPPK7","40 Dry","PKBQM",293442,"2022-11-03","2022-11-07",222.35,"SW"]
[{"$f":"B536&\":\"&COUNTIF($B$2:B536,B536)","v":"HLCUBSC2209BQJT0:1"},"HLCUBSC2209BQJT0","HLBU2013470","HLCUBSC2209BQJT0","40 Dry","PKBQM",293442,"2022-11-03","2022-11-14",222.35,"SW"]
[{"$f":"B537&\":\"&COUNTIF($B$2:B537,B537)","v":"HLCUMTR220903931:1"},"HLCUMTR220903931","UACU5220345","HLCUMTR220903931","40 Dry","PKBQM",293442,"2022-11-03","2022-11-14",222.35,"BL"]
[{"$f":"B538&\":\"&COUNTIF($B$2:B538,B538)","v":"HLCUVAN220906757:1"},"HLCUVAN220906757","TRLU7231652","HLCUVAN220906757","40 Dry","PKBQM",293442,"2022-11-03","2022-11-14",222.35,"SW"]
[{"$f":"B539&\":\"&COUNTIF($B$2:B539,B539)","v":"HLCUTOR220918643:1"},"HLCUTOR220918643","TCLU5997932","HLCUTOR220918643","40 Dry","PKBQM",293442,"2022-11-03","2022-11-14",222.35,"SW"]
[{"$f":"B540&\":\"&COUNTIF($B$2:B540,B540)","v":"HLCUBSC2209BLYE5:1"},"HLCUBSC2209BLYE5","FANU1208206","HLCUBSC2209BLYE5","40 Dry","PKBQM",293442,"","",222.35,"SW"]
[{"$f":"B541&\":\"&COUNTIF($B$2:B541,B541)","v":"HLCUBSC2209AUOB4:1"},"HLCUBSC2209AUOB4","GESU3656640","HLCUBSC2209AUOB4","20 Dry","PKBQM",293442,"2022-11-03","2022-11-14",222.35,"BL"]
[{"$f":"B542&\":\"&COUNTIF($B$2:B542,B542)","v":"HLCUBSC2209BPTP4:1"},"HLCUBSC2209BPTP4","UETU5801196","HLCUBSC2209BPTP4","40 Dry","PKBQM",293442,"2022-11-03","2022-11-07",222.35,"SW"]
[{"$f":"B543&\":\"&COUNTIF($B$2:B543,B543)","v":"HLCUBSC2209BPKO9:1"},"HLCUBSC2209BPKO9","UACU5873226","HLCUBSC2209BPKO9","40 Dry","PKBQM",293442,"2022-11-03","2022-11-14",222.35,"SW"]
[{"$f":"B544&\":\"&COUNTIF($B$2:B544,B544)","v":"HLCUBSC2209BPKO9:2"},"HLCUBSC2209BPKO9","UACU6031813","HLCUBSC2209BPKO9","40 Dry","PKBQM",293442,"2022-11-03","2022-11-14",222.35,"SW"]
[{"$f":"B545&\":\"&COUNTIF($B$2:B545,B545)","v":"HLCUVAN220909342:1"},"HLCUVAN220909342","UACU5551092","HLCUVAN220909342","40 Dry","PKBQM",293442,"2022-11-03","2022-11-14",222.35,"SW"]
[{"$f":"B546&\":\"&COUNTIF($B$2:B546,B546)","v":"HLCUBSC2209BRDR9:1"},"HLCUBSC2209BRDR9","FCIU7229489","HLCUBSC2209BRDR9","40 Dry","PKBQM",293442,"2022-11-03","2022-11-14",222.35,"SW"]
[{"$f":"B547&\":\"&COUNTIF($B$2:B547,B547)","v":"HLCUBSC2209BRDR9:2"},"HLCUBSC2209BRDR9","HLBU1658583","HLCUBSC2209BRDR9","40 Dry","PKBQM",293442,"2022-11-03","2022-11-14",222.35,"SW"]
[{"$f":"B548&\":\"&COUNTIF($B$2:B548,B548)","v":"HLCUBSC2209BJQT2:1"},"HLCUBSC2209BJQT2","UACU5437449","HLCUBSC2209BJQT2","40 Dry","PKBQM",293442,"2022-11-03","2022-11-14",222.35,"BL"]
[{"$f":"B549&\":\"&COUNTIF($B$2:B549,B549)","v":"HLCUBSC2209BJQT2:2"},"HLCUBSC2209BJQT2","TCNU8167319","HLCUBSC2209BJQT2","40 Dry","PKBQM",293442,"2022-11-03","2022-11-14",222.35,"BL"]
[{"$f":"B550&\":\"&COUNTIF($B$2:B550,B550)","v":"HLCUBSC2209BJQT2:3"},"HLCUBSC2209BJQT2","HLBU1417987","HLCUBSC2209BJQT2","40 Dry","PKBQM",293442,"2022-11-03","2022-11-14",222.35,"BL"]
[{"$f":"B551&\":\"&COUNTIF($B$2:B551,B551)","v":"HLCUMTR220921113:1"},"HLCUMTR220921113","TCKU6050268","HLCUMTR220921113","40 Dry","PKBQM",293442,"2022-11-03","2022-11-14",222.35,"BL"]
[{"$f":"B552&\":\"&COUNTIF($B$2:B552,B552)","v":"HLCUBSC2209BNZZ7:1"},"HLCUBSC2209BNZZ7","BMOU2546501","HLCUBSC2209BNZZ7","20 Dry","PKBQM",293442,"2022-11-03","2022-11-14",222.35,"BL"]
[{"$f":"B553&\":\"&COUNTIF($B$2:B553,B553)","v":"HLCUBSC2209BRVE5:1"},"HLCUBSC2209BRVE5","HLXU8490307","HLCUBSC2209BRVE5","40 Dry","PKBQM",293442,"2022-11-03","2022-11-14",222.35,"SW"]
[{"$f":"B554&\":\"&COUNTIF($B$2:B554,B554)","v":"HLCUBSC2209BPWJ0:1"},"HLCUBSC2209BPWJ0","TCNU8108804","HLCUBSC2209BPWJ0","40 Dry","PKBQM",293442,"2022-11-03","2022-11-14",222.35,"BL"]
[{"$f":"B555&\":\"&COUNTIF($B$2:B555,B555)","v":"HLCUBSC2209BPXD0:1"},"HLCUBSC2209BPXD0","HLXU8438150","HLCUBSC2209BPXD0","40 Dry","PKBQM",293442,"2022-11-03","2022-11-14",222.35,"BL"]
[{"$f":"B556&\":\"&COUNTIF($B$2:B556,B556)","v":"HLCUBSC2209BPXD0:2"},"HLCUBSC2209BPXD0","HLBU2866684","HLCUBSC2209BPXD0","40 Dry","PKBQM",293442,"2022-11-03","2022-11-14",222.35,"BL"]
[{"$f":"B557&\":\"&COUNTIF($B$2:B557,B557)","v":"HLCUBSC2209BPXD0:3"},"HLCUBSC2209BPXD0","HLBU1623592","HLCUBSC2209BPXD0","40 Dry","PKBQM",293442,"2022-11-03","2022-11-14",222.35,"BL"]
[{"$f":"B558&\":\"&COUNTIF($B$2:B558,B558)","v":"HLCUBSC2209BPXD0:4"},"HLCUBSC2209BPXD0","HLBU2212641","HLCUBSC2209BPXD0","40 Dry","PKBQM",293442,"2022-11-03","2022-11-14",222.35,"BL"]
[{"$f":"B559&\":\"&COUNTIF($B$2:B559,B559)","v":"HLCUBSC2209BQCN7:1"},"HLCUBSC2209BQCN7","HAMU1179889","HLCUBSC2209BQCN7","40 Dry","PKBQM",293442,"2022-11-03","2022-11-21",222.35,"BL"]
[{"$f":"B560&\":\"&COUNTIF($B$2:B560,B560)","v":"HLCUBSC2209BQCN7:2"},"HLCUBSC2209BQCN7","SEKU5725312","HLCUBSC2209BQCN7","40 Dry","PKBQM",293442,"2022-11-03","2022-11-21",222.35,"BL"]
[{"$f":"B561&\":\"&COUNTIF($B$2:B561,B561)","v":"HLCUBSC2209BQCN7:3"},"HLCUBSC2209BQCN7","HLBU1662177","HLCUBSC2209BQCN7","40 Dry","PKBQM",293442,"2022-11-03","2022-11-21",222.35,"BL"]
[{"$f":"B562&\":\"&COUNTIF($B$2:B562,B562)","v":"HLCUBSC2209BQCN7:4"},"HLCUBSC2209BQCN7","GESU6310498","HLCUBSC2209BQCN7","40 Dry","PKBQM",293442,"2022-11-03","2022-11-21",222.35,"BL"]
[{"$f":"B563&\":\"&COUNTIF($B$2:B563,B563)","v":"HLCUBSC2209BQCN7:5"},"HLCUBSC2209BQCN7","UACU5283446","HLCUBSC2209BQCN7","40 Dry","PKBQM",293442,"2022-11-03","2022-11-21",222.35,"BL"]
[{"$f":"B564&\":\"&COUNTIF($B$2:B564,B564)","v":"HLCUBSC2209BPNV8:1"},"HLCUBSC2209BPNV8","FTAU1268359","HLCUBSC2209BPNV8","20 Dry","PKBQM",293442,"2022-11-03","2022-11-14",222.35,"BL"]
[{"$f":"B565&\":\"&COUNTIF($B$2:B565,B565)","v":"HLCUBSC2209BPNV8:2"},"HLCUBSC2209BPNV8","UACU3840413","HLCUBSC2209BPNV8","20 Dry","PKBQM",293442,"2022-11-03","2022-11-14",222.35,"BL"]
[{"$f":"B566&\":\"&COUNTIF($B$2:B566,B566)","v":"HLCUHAM2209AVKP5:1"},"HLCUHAM2209AVKP5","GATU0757626","HLCUHAM2209AVKP5","20 Dry","PKBQM",293442,"2022-11-03","",222.35,"SW"]
[{"$f":"B567&\":\"&COUNTIF($B$2:B567,B567)","v":"HLCUHAM2209AVKP5:2"},"HLCUHAM2209AVKP5","TEMU5400772","HLCUHAM2209AVKP5","20 Dry","PKBQM",293442,"2022-11-03","",222.35,"SW"]
[{"$f":"B568&\":\"&COUNTIF($B$2:B568,B568)","v":"HLCUHAM2209AVKP5:3"},"HLCUHAM2209AVKP5","SGCU1724020","HLCUHAM2209AVKP5","20 Dry","PKBQM",293442,"2022-11-03","",222.35,"SW"]
[{"$f":"B569&\":\"&COUNTIF($B$2:B569,B569)","v":"HLCUHAM2209AVKP5:4"},"HLCUHAM2209AVKP5","KMTU7342106","HLCUHAM2209AVKP5","20 Dry","PKBQM",293442,"2022-11-03","",222.35,"SW"]
[{"$f":"B570&\":\"&COUNTIF($B$2:B570,B570)","v":"HLCUHAM2209AVKP5:5"},"HLCUHAM2209AVKP5","FSCU3368649","HLCUHAM2209AVKP5","20 Dry","PKBQM",293442,"2022-11-03","",222.35,"SW"]
[{"$f":"B571&\":\"&COUNTIF($B$2:B571,B571)","v":"HLCUSYD220881371:1"},"HLCUSYD220881371","HLXU8317610","HLCUSYD220881371","40 Dry","PKBQM",293442,"2022-11-03","2022-11-07",222.35,"SW"]
[{"$f":"B572&\":\"&COUNTIF($B$2:B572,B572)","v":"HLCUJE2220910665:1"},"HLCUJE2220910665","TCLU9563045","HLCUJE2220910665","40 Dry","PKBQM",293442,"2022-11-03","2022-11-14",222.35,"SW"]
[{"$f":"B573&\":\"&COUNTIF($B$2:B573,B573)","v":"HLCUJE2220910676:1"},"HLCUJE2220910676","HLBU3130980","HLCUJE2220910676","40 Dry","PKBQM",293442,"2022-11-03","2022-11-14",222.35,"SW"]
[{"$f":"B574&\":\"&COUNTIF($B$2:B574,B574)","v":"HLCUJE2220910687:1"},"HLCUJE2220910687","HLXU8225303","HLCUJE2220910687","40 Dry","PKBQM",293442,"2022-11-03","2022-11-14",222.35,"SW"]
[{"$f":"B575&\":\"&COUNTIF($B$2:B575,B575)","v":"HLCUJE2220912002:1"},"HLCUJE2220912002","HLBU2159721","HLCUJE2220912002","40 Dry","PKBQM",293442,"2022-11-03","2022-11-14",222.35,"SW"]
[{"$f":"B576&\":\"&COUNTIF($B$2:B576,B576)","v":"HLCUSYD220685640:1"},"HLCUSYD220685640","HLBU1046459","HLCUSYD220685640","20 Dry","PKBQM",293442,"2022-11-03","2022-11-07",222.35,"BL"]
[{"$f":"B577&\":\"&COUNTIF($B$2:B577,B577)","v":"HLCUSYD220685640:2"},"HLCUSYD220685640","CAIU6650793","HLCUSYD220685640","20 Dry","PKBQM",293442,"2022-11-03","2022-11-07",222.35,"BL"]
[{"$f":"B578&\":\"&COUNTIF($B$2:B578,B578)","v":"HLCUSYD221003738:1"},"HLCUSYD221003738","TRHU1673751","HLCUSYD221003738","20 Dry","PKBQM",293442,"2022-11-03","2022-11-07",222.35,"BL"]
[{"$f":"B579&\":\"&COUNTIF($B$2:B579,B579)","v":"HLCUSYD221003738:2"},"HLCUSYD221003738","HLXU3478422","HLCUSYD221003738","20 Dry","PKBQM",293442,"2022-11-03","2022-11-07",222.35,"BL"]
[{"$f":"B580&\":\"&COUNTIF($B$2:B580,B580)","v":"HLCUSYD221003749:1"},"HLCUSYD221003749","RFCU2261009","HLCUSYD221003749","20 Dry","PKBQM",293442,"2022-11-03","2022-11-07",222.35,"BL"]
[{"$f":"B581&\":\"&COUNTIF($B$2:B581,B581)","v":"HLCUSYD221003749:2"},"HLCUSYD221003749","TEMU1457152","HLCUSYD221003749","20 Dry","PKBQM",293442,"2022-11-03","2022-11-07",222.35,"BL"]
[{"$f":"B582&\":\"&COUNTIF($B$2:B582,B582)","v":"HLCUCPH220900059:1"},"HLCUCPH220900059","UACU3541285","HLCUCPH220900059","20 Dry","PKBQM",293442,"2022-11-03","2022-11-12",222.35,"BL"]
[{"$f":"B583&\":\"&COUNTIF($B$2:B583,B583)","v":"HLCUCPH220900059:2"},"HLCUCPH220900059","TEMU5182120","HLCUCPH220900059","20 Dry","PKBQM",293442,"2022-11-03","2022-11-12",222.35,"BL"]
[{"$f":"B584&\":\"&COUNTIF($B$2:B584,B584)","v":"HLCUCPH220900059:3"},"HLCUCPH220900059","BMOU2162379","HLCUCPH220900059","20 Dry","PKBQM",293442,"2022-11-03","2022-11-12",222.35,"BL"]
[{"$f":"B585&\":\"&COUNTIF($B$2:B585,B585)","v":"HLCUCPH220900059:4"},"HLCUCPH220900059","UACU3553732","HLCUCPH220900059","20 Dry","PKBQM",293442,"2022-11-03","2022-11-12",222.35,"BL"]
[{"$f":"B586&\":\"&COUNTIF($B$2:B586,B586)","v":"HLCUCPH220900059:5"},"HLCUCPH220900059","UACU4082323","HLCUCPH220900059","20 Dry","PKBQM",293442,"2022-11-03","2022-11-12",222.35,"BL"]
[{"$f":"B587&\":\"&COUNTIF($B$2:B587,B587)","v":"HLCUCPH220900059:6"},"HLCUCPH220900059","HAMU1037903","HLCUCPH220900059","20 Dry","PKBQM",293442,"2022-11-03","2022-11-12",222.35,"BL"]
[{"$f":"B588&\":\"&COUNTIF($B$2:B588,B588)","v":"HLCUCPH220900059:7"},"HLCUCPH220900059","TCKU1959182","HLCUCPH220900059","20 Dry","PKBQM",293442,"2022-11-03","2022-11-12",222.35,"BL"]
[{"$f":"B589&\":\"&COUNTIF($B$2:B589,B589)","v":"HLCUCPH220900059:8"},"HLCUCPH220900059","TGBU2218419","HLCUCPH220900059","20 Dry","PKBQM",293442,"2022-11-03","2022-11-12",222.35,"BL"]
[{"$f":"B590&\":\"&COUNTIF($B$2:B590,B590)","v":"HLCUCPH220900059:9"},"HLCUCPH220900059","GLDU9322919","HLCUCPH220900059","20 Dry","PKBQM",293442,"2022-11-03","2022-11-12",222.35,"BL"]
[{"$f":"B591&\":\"&COUNTIF($B$2:B591,B591)","v":"HLCUCPH220900059:10"},"HLCUCPH220900059","UACU3667381","HLCUCPH220900059","20 Dry","PKBQM",293442,"2022-11-03","2022-11-12",222.35,"BL"]
[{"$f":"B592&\":\"&COUNTIF($B$2:B592,B592)","v":"HLCUCPH220900059:11"},"HLCUCPH220900059","UACU3656242","HLCUCPH220900059","20 Dry","PKBQM",293442,"2022-11-03","2022-11-12",222.35,"BL"]
[{"$f":"B593&\":\"&COUNTIF($B$2:B593,B593)","v":"HLCUCPH220900059:12"},"HLCUCPH220900059","GESU1090744","HLCUCPH220900059","20 Dry","PKBQM",293442,"2022-11-03","2022-11-12",222.35,"BL"]
[{"$f":"B594&\":\"&COUNTIF($B$2:B594,B594)","v":"HLCUCPH220900059:13"},"HLCUCPH220900059","TEMU1587916","HLCUCPH220900059","20 Dry","PKBQM",293442,"2022-11-03","2022-11-12",222.35,"BL"]
[{"$f":"B595&\":\"&COUNTIF($B$2:B595,B595)","v":"HLCUCPH220900059:14"},"HLCUCPH220900059","HLXU3365010","HLCUCPH220900059","20 Dry","PKBQM",293442,"2022-11-03","2022-11-12",222.35,"BL"]
[{"$f":"B596&\":\"&COUNTIF($B$2:B596,B596)","v":"HLCUCPH220900059:15"},"HLCUCPH220900059","HLXU1310888","HLCUCPH220900059","20 Dry","PKBQM",293442,"2022-11-03","2022-11-12",222.35,"BL"]
[{"$f":"B597&\":\"&COUNTIF($B$2:B597,B597)","v":"HLCUCPH220900059:16"},"HLCUCPH220900059","FCIU6104260","HLCUCPH220900059","20 Dry","PKBQM",293442,"2022-11-03","2022-11-12",222.35,"BL"]
[{"$f":"B598&\":\"&COUNTIF($B$2:B598,B598)","v":"HLCUCPH220900059:17"},"HLCUCPH220900059","UETU2833862","HLCUCPH220900059","20 Dry","PKBQM",293442,"2022-11-03","2022-11-12",222.35,"BL"]
[{"$f":"B599&\":\"&COUNTIF($B$2:B599,B599)","v":"HLCUCPH220900059:18"},"HLCUCPH220900059","TLLU2455047","HLCUCPH220900059","20 Dry","PKBQM",293442,"2022-11-03","2022-11-12",222.35,"BL"]
[{"$f":"B600&\":\"&COUNTIF($B$2:B600,B600)","v":"HLCUCPH220900059:19"},"HLCUCPH220900059","UACU3451509","HLCUCPH220900059","20 Dry","PKBQM",293442,"2022-11-03","2022-11-12",222.35,"BL"]
[{"$f":"B601&\":\"&COUNTIF($B$2:B601,B601)","v":"HLCUBSC2209BEWO2:1"},"HLCUBSC2209BEWO2","UACU3731032","HLCUBSC2209BEWO2","20 Dry","PKBQM",293442,"2022-11-03","2022-11-14",222.35,"BL"]
[{"$f":"B602&\":\"&COUNTIF($B$2:B602,B602)","v":"HLCUBSC2209BEWO2:2"},"HLCUBSC2209BEWO2","HLXU1114720","HLCUBSC2209BEWO2","20 Dry","PKBQM",293442,"2022-11-03","2022-11-14",222.35,"BL"]
[{"$f":"B603&\":\"&COUNTIF($B$2:B603,B603)","v":"HLCUJE2221005646:1"},"HLCUJE2221005646","TRKU2023134","HLCUJE2221005646","20 Dry","PKBQM",293442,"2022-11-03","",222.35,"BL"]
[{"$f":"B604&\":\"&COUNTIF($B$2:B604,B604)","v":"HLCUJE2220911910:1"},"HLCUJE2220911910","HLBU3271850","HLCUJE2220911910","40 Dry","PKBQM",293442,"2022-11-03","2022-11-12",222.35,"SW"]
[{"$f":"B605&\":\"&COUNTIF($B$2:B605,B605)","v":"HLCUTOR220926571:1"},"HLCUTOR220926571","HLBU2883070","HLCUTOR220926571","40 Dry","PKBQM",293152,"2022-11-04","2022-11-15",223.15,"BL"]
[{"$f":"B606&\":\"&COUNTIF($B$2:B606,B606)","v":"HLCUTOR220926571:2"},"HLCUTOR220926571","BEAU4998888","HLCUTOR220926571","40 Dry","PKBQM",293152,"2022-11-04","2022-11-15",223.15,"BL"]
[{"$f":"B607&\":\"&COUNTIF($B$2:B607,B607)","v":"HLCUTOR220926571:3"},"HLCUTOR220926571","TGHU9254580","HLCUTOR220926571","40 Dry","PKBQM",293152,"2022-11-04","2022-11-15",223.15,"BL"]
[{"$f":"B608&\":\"&COUNTIF($B$2:B608,B608)","v":"HLCUBSC2208BWDF5:1"},"HLCUBSC2208BWDF5","TEMU7532926","HLCUBSC2208BWDF5","40 Dry","PKBQM",293152,"2022-11-04","2022-11-15",223.15,"BL"]
[{"$f":"B609&\":\"&COUNTIF($B$2:B609,B609)","v":"HLCUBSC2209BNDT0:1"},"HLCUBSC2209BNDT0","NIDU2364091","HLCUBSC2209BNDT0","20 Dry","PKBQM",293152,"2022-11-04","2022-11-15",223.15,"BL"]
[{"$f":"B610&\":\"&COUNTIF($B$2:B610,B610)","v":"HLCUBSC2208BJST5:1"},"HLCUBSC2208BJST5","TGHU6212540","HLCUBSC2208BJST5","40 Dry","PKBQM",293152,"2022-11-04","2022-11-15",223.15,"BL"]
[{"$f":"B611&\":\"&COUNTIF($B$2:B611,B611)","v":"HLCUBSC2208BJST5:2"},"HLCUBSC2208BJST5","TGBU6132550","HLCUBSC2208BJST5","40 Dry","PKBQM",293152,"2022-11-04","2022-11-15",223.15,"BL"]
[{"$f":"B612&\":\"&COUNTIF($B$2:B612,B612)","v":"HLCUBSC2208BJST5:3"},"HLCUBSC2208BJST5","HLXU8157723","HLCUBSC2208BJST5","40 Dry","PKBQM",293152,"2022-11-04","2022-11-15",223.15,"BL"]
[{"$f":"B613&\":\"&COUNTIF($B$2:B613,B613)","v":"HLCUBSC2209BNFN5:1"},"HLCUBSC2209BNFN5","TGHU0983030","HLCUBSC2209BNFN5","20 Dry","PKBQM",293152,"2022-11-04","2022-11-15",223.15,"BL"]
[{"$f":"B614&\":\"&COUNTIF($B$2:B614,B614)","v":"HLCUBSC2209BNEV8:1"},"HLCUBSC2209BNEV8","UACU4025370","HLCUBSC2209BNEV8","20 Dry","PKBQM",293152,"2022-11-04","2022-11-15",223.15,"BL"]
[{"$f":"B615&\":\"&COUNTIF($B$2:B615,B615)","v":"HLCUBSC2209BMSY0:1"},"HLCUBSC2209BMSY0","FSCU8247336","HLCUBSC2209BMSY0","40 Dry","PKBQM",293152,"2022-11-04","2022-11-15",223.15,"BL"]
[{"$f":"B616&\":\"&COUNTIF($B$2:B616,B616)","v":"HLCUTOR220925810:1"},"HLCUTOR220925810","HLBU1602265","HLCUTOR220925810","40 Dry","PKBQM",293152,"2022-11-04","2022-11-15",223.15,"BL"]
[{"$f":"B617&\":\"&COUNTIF($B$2:B617,B617)","v":"HLCUTOR220925970:1"},"HLCUTOR220925970","TCLU8736017","HLCUTOR220925970","40 Dry","PKBQM",293152,"2022-11-04","2022-11-15",223.15,"SW"]
[{"$f":"B618&\":\"&COUNTIF($B$2:B618,B618)","v":"HLCUBSC2209AUQK3:1"},"HLCUBSC2209AUQK3","BSIU2300534","HLCUBSC2209AUQK3","20 Dry","PKBQM",293152,"2022-11-04","2022-11-15",223.15,"SW"]
[{"$f":"B619&\":\"&COUNTIF($B$2:B619,B619)","v":"HLCUTOR220925831:1"},"HLCUTOR220925831","HLBU2676200","HLCUTOR220925831","40 Dry","PKBQM",293152,"2022-11-04","2022-11-15",223.15,"SW"]
[{"$f":"B620&\":\"&COUNTIF($B$2:B620,B620)","v":"HLCUBSC2209BNCE0:1"},"HLCUBSC2209BNCE0","HLBU1318270","HLCUBSC2209BNCE0","40 Dry","PKBQM",293152,"2022-11-04","2022-11-17",223.15,"BL"]
[{"$f":"B621&\":\"&COUNTIF($B$2:B621,B621)","v":"HLCUBSC2209BNCE0:2"},"HLCUBSC2209BNCE0","HLXU8207974","HLCUBSC2209BNCE0","40 Dry","PKBQM",293152,"2022-11-04","2022-11-17",223.15,"BL"]
[{"$f":"B622&\":\"&COUNTIF($B$2:B622,B622)","v":"HLCUBSC2209BNCE0:3"},"HLCUBSC2209BNCE0","UACU8500205","HLCUBSC2209BNCE0","40 Dry","PKBQM",293152,"2022-11-04","2022-11-17",223.15,"BL"]
[{"$f":"B623&\":\"&COUNTIF($B$2:B623,B623)","v":"HLCUBSC2209BNCE0:4"},"HLCUBSC2209BNCE0","UACU5261555","HLCUBSC2209BNCE0","40 Dry","PKBQM",293152,"2022-11-04","2022-11-17",223.15,"BL"]
[{"$f":"B624&\":\"&COUNTIF($B$2:B624,B624)","v":"HLCUBSC2209BNCE0:5"},"HLCUBSC2209BNCE0","HAMU1159692","HLCUBSC2209BNCE0","40 Dry","PKBQM",293152,"2022-11-04","2022-11-17",223.15,"BL"]
[{"$f":"B625&\":\"&COUNTIF($B$2:B625,B625)","v":"HLCUBSC2209BNCE0:6"},"HLCUBSC2209BNCE0","HLBU3186315","HLCUBSC2209BNCE0","40 Dry","PKBQM",293152,"2022-11-04","2022-11-17",223.15,"BL"]
[{"$f":"B626&\":\"&COUNTIF($B$2:B626,B626)","v":"HLCUBSC2209BNCE0:7"},"HLCUBSC2209BNCE0","HLXU8352592","HLCUBSC2209BNCE0","40 Dry","PKBQM",293152,"2022-11-04","2022-11-17",223.15,"BL"]
[{"$f":"B627&\":\"&COUNTIF($B$2:B627,B627)","v":"HLCUBSC2209BNCE0:8"},"HLCUBSC2209BNCE0","GESU6316921","HLCUBSC2209BNCE0","40 Dry","PKBQM",293152,"2022-11-04","2022-11-17",223.15,"BL"]
[{"$f":"B628&\":\"&COUNTIF($B$2:B628,B628)","v":"HLCUVAN220907877:1"},"HLCUVAN220907877","TCNU1816782","HLCUVAN220907877","40 Dry","PKBQM",293152,"2022-11-04","2022-11-08",223.15,"SW"]
[{"$f":"B629&\":\"&COUNTIF($B$2:B629,B629)","v":"HLCUBSC2209AXGX8:1"},"HLCUBSC2209AXGX8","TRHU2713910","HLCUBSC2209AXGX8","20 Dry","PKBQM",293152,"2022-11-04","2022-11-15",223.15,"BL"]
[{"$f":"B630&\":\"&COUNTIF($B$2:B630,B630)","v":"HLCUBSC220989040:1"},"HLCUBSC220989040","CAIU8651546","HLCUBSC220989040","40 Dry","PKBQM",293152,"2022-11-04","2022-11-08",223.15,"SW"]
[{"$f":"B631&\":\"&COUNTIF($B$2:B631,B631)","v":"HLCUBSC2209BNGH4:1"},"HLCUBSC2209BNGH4","IPXU3924380","HLCUBSC2209BNGH4","20 Dry","PKBQM",293152,"2022-11-04","2022-11-15",223.15,"BL"]
[{"$f":"B632&\":\"&COUNTIF($B$2:B632,B632)","v":"HLCUVAN220904963:1"},"HLCUVAN220904963","UACU5433398","HLCUVAN220904963","40 Dry","PKBQM",293152,"2022-11-04","2022-11-15",223.15,"SW"]
[{"$f":"B633&\":\"&COUNTIF($B$2:B633,B633)","v":"HLCUBSC2208BVFN1:1"},"HLCUBSC2208BVFN1","HLBU1645652","HLCUBSC2208BVFN1","40 Dry","PKBQM",293152,"2022-11-04","2022-11-17",223.15,"BL"]
[{"$f":"B634&\":\"&COUNTIF($B$2:B634,B634)","v":"HLCUBSC2209AWWQ6:1"},"HLCUBSC2209AWWQ6","TCKU2931209","HLCUBSC2209AWWQ6","20 Dry","PKBQM",293152,"2022-11-04","2022-11-15",223.15,"SW"]
[{"$f":"B635&\":\"&COUNTIF($B$2:B635,B635)","v":"HLCUBSC2209AWWQ6:2"},"HLCUBSC2209AWWQ6","HLXU1152627","HLCUBSC2209AWWQ6","20 Dry","PKBQM",293152,"2022-11-04","2022-11-15",223.15,"SW"]
[{"$f":"B636&\":\"&COUNTIF($B$2:B636,B636)","v":"HLCUBSC2209AXKA6:1"},"HLCUBSC2209AXKA6","TLLU2447139","HLCUBSC2209AXKA6","20 Dry","PKBQM",293152,"2022-11-04","2022-11-15",223.15,"BL"]
[{"$f":"B637&\":\"&COUNTIF($B$2:B637,B637)","v":"HLCUBSC2209AXOG0:1"},"HLCUBSC2209AXOG0","UACU8319060","HLCUBSC2209AXOG0","40 Dry","PKBQM",293152,"2022-11-04","2022-11-21",223.15,"BL"]
[{"$f":"B638&\":\"&COUNTIF($B$2:B638,B638)","v":"HLCUBSC2209BPUG0:1"},"HLCUBSC2209BPUG0","GLDU9499226","HLCUBSC2209BPUG0","20 Dry","PKBQM",293152,"2022-11-04","2022-11-15",223.15,"SW"]
[{"$f":"B639&\":\"&COUNTIF($B$2:B639,B639)","v":"HLCUBSC2209BPUG0:2"},"HLCUBSC2209BPUG0","HLBU3447790","HLCUBSC2209BPUG0","20 Dry","PKBQM",293152,"2022-11-04","2022-11-15",223.15,"SW"]
[{"$f":"B640&\":\"&COUNTIF($B$2:B640,B640)","v":"HLCUBSC2209BPUG0:3"},"HLCUBSC2209BPUG0","TEMU1608053","HLCUBSC2209BPUG0","20 Dry","PKBQM",293152,"2022-11-04","2022-11-15",223.15,"SW"]
[{"$f":"B641&\":\"&COUNTIF($B$2:B641,B641)","v":"HLCUVAN220908964:1"},"HLCUVAN220908964","GESU6341689","HLCUVAN220908964","40 Dry","PKBQM",293152,"2022-11-04","2022-11-15",223.15,"SW"]
[{"$f":"B642&\":\"&COUNTIF($B$2:B642,B642)","v":"HLCUBSC2209ASMH3:1"},"HLCUBSC2209ASMH3","FANU1645504","HLCUBSC2209ASMH3","40 Dry","PKBQM",293152,"2022-11-04","2022-11-15",223.15,"BL"]
[{"$f":"B643&\":\"&COUNTIF($B$2:B643,B643)","v":"HLCUBSC2209ASMH3:2"},"HLCUBSC2209ASMH3","FANU1092420","HLCUBSC2209ASMH3","40 Dry","PKBQM",293152,"2022-11-04","2022-11-15",223.15,"BL"]
[{"$f":"B644&\":\"&COUNTIF($B$2:B644,B644)","v":"HLCUTOR220925820:1"},"HLCUTOR220925820","UACU5991466","HLCUTOR220925820","40 Dry","PKBQM",293152,"2022-11-04","2022-11-15",223.15,"SW"]
[{"$f":"B645&\":\"&COUNTIF($B$2:B645,B645)","v":"HLCUBSC2209BGHQ7:1"},"HLCUBSC2209BGHQ7","UACU5461569","HLCUBSC2209BGHQ7","40 Dry","PKBQM",293152,"2022-11-04","2022-11-15",223.15,"SW"]
[{"$f":"B646&\":\"&COUNTIF($B$2:B646,B646)","v":"HLCUTOR220925960:1"},"HLCUTOR220925960","UACU5528512","HLCUTOR220925960","40 Dry","PKBQM",293152,"2022-11-04","2022-11-15",223.15,"SW"]
[{"$f":"B647&\":\"&COUNTIF($B$2:B647,B647)","v":"HLCUBSC2209BKHU1:1"},"HLCUBSC2209BKHU1","HLXU1005293","HLCUBSC2209BKHU1","20 Dry","PKBQM",293152,"2022-11-04","2022-11-15",223.15,"BL"]
[{"$f":"B648&\":\"&COUNTIF($B$2:B648,B648)","v":"HLCUBSC2209AXVB9:1"},"HLCUBSC2209AXVB9","FSCU7171025","HLCUBSC2209AXVB9","40 Dry","PKBQM",293152,"2022-11-04","2022-11-15",223.15,"SW"]
[{"$f":"B649&\":\"&COUNTIF($B$2:B649,B649)","v":"HLCUBSC2209AXVB9:2"},"HLCUBSC2209AXVB9","UACU6007099","HLCUBSC2209AXVB9","40 Dry","PKBQM",293152,"2022-11-04","2022-11-15",223.15,"SW"]
[{"$f":"B650&\":\"&COUNTIF($B$2:B650,B650)","v":"HLCUBSC2209AVTX9:1"},"HLCUBSC2209AVTX9","HLBU3238300","HLCUBSC2209AVTX9","40 Dry","PKBQM",293152,"2022-11-04","2022-11-15",223.15,"SW"]
[{"$f":"B651&\":\"&COUNTIF($B$2:B651,B651)","v":"HLCUVAN220812012:1"},"HLCUVAN220812012","TCKU6562114","HLCUVAN220812012","40 Dry","PKBQM",293152,"2022-11-04","2022-11-15",223.15,"SW"]
[{"$f":"B652&\":\"&COUNTIF($B$2:B652,B652)","v":"HLCUVAN220811835:1"},"HLCUVAN220811835","TGBU9895622","HLCUVAN220811835","40 Dry","PKBQM",293152,"2022-11-04","2022-11-15",223.15,"SW"]
[{"$f":"B653&\":\"&COUNTIF($B$2:B653,B653)","v":"HLCUBSC2209ASAL1:1"},"HLCUBSC2209ASAL1","TCNU7966429","HLCUBSC2209ASAL1","40 Dry","PKBQM",293152,"2022-11-04","2022-11-15",223.15,"BL"]
[{"$f":"B654&\":\"&COUNTIF($B$2:B654,B654)","v":"HLCUBSC2209ASAL1:2"},"HLCUBSC2209ASAL1","HLBU1973287","HLCUBSC2209ASAL1","40 Dry","PKBQM",293152,"2022-11-04","2022-11-15",223.15,"BL"]
[{"$f":"B655&\":\"&COUNTIF($B$2:B655,B655)","v":"HLCUBSC2209BNFF7:1"},"HLCUBSC2209BNFF7","HLXU8229839","HLCUBSC2209BNFF7","40 Dry","PKBQM",293152,"2022-11-04","2022-11-08",223.15,"SW"]
[{"$f":"B656&\":\"&COUNTIF($B$2:B656,B656)","v":"HLCUBSC2209BIQG7:1"},"HLCUBSC2209BIQG7","FCIU6596767","HLCUBSC2209BIQG7","20 Dry","PKBQM",293152,"2022-11-04","2022-11-15",223.15,"BL"]
[{"$f":"B657&\":\"&COUNTIF($B$2:B657,B657)","v":"HLCUBSC2209BIQG7:2"},"HLCUBSC2209BIQG7","CXDU1249703","HLCUBSC2209BIQG7","20 Dry","PKBQM",293152,"2022-11-04","2022-11-15",223.15,"BL"]
[{"$f":"B658&\":\"&COUNTIF($B$2:B658,B658)","v":"HLCUVAN220901954:1"},"HLCUVAN220901954","TCNU1960296","HLCUVAN220901954","40 Dry","PKBQM",293152,"2022-11-04","2022-11-15",223.15,"SW"]
[{"$f":"B659&\":\"&COUNTIF($B$2:B659,B659)","v":"HLCUBSC2209ASQV0:1"},"HLCUBSC2209ASQV0","HLBU2627606","HLCUBSC2209ASQV0","20 Dry","PKBQM",293152,"2022-11-04","2022-11-15",223.15,"BL"]
[{"$f":"B660&\":\"&COUNTIF($B$2:B660,B660)","v":"HLCUBSC2209ASQV0:2"},"HLCUBSC2209ASQV0","HLXU1134114","HLCUBSC2209ASQV0","20 Dry","PKBQM",293152,"2022-11-04","2022-11-15",223.15,"BL"]
[{"$f":"B661&\":\"&COUNTIF($B$2:B661,B661)","v":"HLCUVAN220811762:1"},"HLCUVAN220811762","CAAU5500543","HLCUVAN220811762","40 Dry","PKBQM",293152,"2022-11-04","2022-11-15",223.15,"SW"]
[{"$f":"B662&\":\"&COUNTIF($B$2:B662,B662)","v":"HLCUVAN220801711:1"},"HLCUVAN220801711","FANU1862840","HLCUVAN220801711","40 Dry","PKBQM",293152,"2022-11-04","2022-11-15",223.15,"SW"]
[{"$f":"B663&\":\"&COUNTIF($B$2:B663,B663)","v":"HLCUVAN220901976:1"},"HLCUVAN220901976","HLBU2402723","HLCUVAN220901976","40 Dry","PKBQM",293152,"2022-11-04","2022-11-15",223.15,"SW"]
[{"$f":"B664&\":\"&COUNTIF($B$2:B664,B664)","v":"HLCUBSC2209ASEA7:1"},"HLCUBSC2209ASEA7","UACU5496117","HLCUBSC2209ASEA7","40 Dry","PKBQM",293152,"2022-11-04","2022-11-15",223.15,"SW"]
[{"$f":"B665&\":\"&COUNTIF($B$2:B665,B665)","v":"HLCUBSC2209BBSL4:1"},"HLCUBSC2209BBSL4","BMOU4529463","HLCUBSC2209BBSL4","40 Dry","PKBQM",293152,"2022-11-04","2022-11-15",223.15,"BL"]
[{"$f":"B666&\":\"&COUNTIF($B$2:B666,B666)","v":"HLCUBSC2209BBSL4:2"},"HLCUBSC2209BBSL4","HLXU8305271","HLCUBSC2209BBSL4","40 Dry","PKBQM",293152,"2022-11-04","2022-11-15",223.15,"BL"]
[{"$f":"B667&\":\"&COUNTIF($B$2:B667,B667)","v":"HLCUBSC2209BBMK0:1"},"HLCUBSC2209BBMK0","UACU5800050","HLCUBSC2209BBMK0","40 Dry","PKBQM",293152,"2022-11-04","2022-11-08",223.15,"SW"]
[{"$f":"B668&\":\"&COUNTIF($B$2:B668,B668)","v":"HLCUBSC2209BBMK0:2"},"HLCUBSC2209BBMK0","HLBU3285513","HLCUBSC2209BBMK0","40 Dry","PKBQM",293152,"2022-11-04","2022-11-08",223.15,"SW"]
[{"$f":"B669&\":\"&COUNTIF($B$2:B669,B669)","v":"HLCUBSC2209BBMK0:3"},"HLCUBSC2209BBMK0","GATU8768015","HLCUBSC2209BBMK0","40 Dry","PKBQM",293152,"2022-11-04","2022-11-08",223.15,"SW"]
[{"$f":"B670&\":\"&COUNTIF($B$2:B670,B670)","v":"HLCUBSC2209BMUH3:1"},"HLCUBSC2209BMUH3","UACU3608270","HLCUBSC2209BMUH3","20 Dry","PKBQM",293152,"2022-11-04","2022-11-15",223.15,"BL"]
[{"$f":"B671&\":\"&COUNTIF($B$2:B671,B671)","v":"HLCUBSC2209BKGR3:1"},"HLCUBSC2209BKGR3","UACU5829970","HLCUBSC2209BKGR3","40 Dry","PKBQM",293152,"2022-11-04","2022-11-17",223.15,"BL"]
[{"$f":"B672&\":\"&COUNTIF($B$2:B672,B672)","v":"HLCUBSC2209BMRU0:1"},"HLCUBSC2209BMRU0","HAMU1245717","HLCUBSC2209BMRU0","40 Dry","PKBQM",293152,"2022-11-04","2022-11-08",223.15,"SW"]
[{"$f":"B673&\":\"&COUNTIF($B$2:B673,B673)","v":"HLCUTOR220906495:1"},"HLCUTOR220906495","DFSU6486017","HLCUTOR220906495","40 Dry","PKBQM",293152,"2022-11-04","2022-11-15",223.15,"SW"]
[{"$f":"B674&\":\"&COUNTIF($B$2:B674,B674)","v":"HLCUVAN220811784:1"},"HLCUVAN220811784","FANU1283684","HLCUVAN220811784","40 Dry","PKBQM",293152,"2022-11-04","2022-11-15",223.15,"SW"]
[{"$f":"B675&\":\"&COUNTIF($B$2:B675,B675)","v":"HLCUTOR220903822:1"},"HLCUTOR220903822","FCIU9233512","HLCUTOR220903822","40 Dry","PKBQM",293152,"2022-11-04","2022-11-15",223.15,"SW"]
[{"$f":"B676&\":\"&COUNTIF($B$2:B676,B676)","v":"HLCUVAN220809070:1"},"HLCUVAN220809070","FANU1664130","HLCUVAN220809070","40 Dry","PKBQM",293152,"2022-11-04","2022-11-15",223.15,"SW"]
[{"$f":"B677&\":\"&COUNTIF($B$2:B677,B677)","v":"HLCUBSC2209BMTQ7:1"},"HLCUBSC2209BMTQ7","GESU3610742","HLCUBSC2209BMTQ7","20 Dry","PKBQM",293152,"2022-11-04","2022-11-15",223.15,"BL"]
[{"$f":"B678&\":\"&COUNTIF($B$2:B678,B678)","v":"HLCUBSC2209BMTQ7:2"},"HLCUBSC2209BMTQ7","HAMU1032305","HLCUBSC2209BMTQ7","20 Dry","PKBQM",293152,"2022-11-04","2022-11-15",223.15,"BL"]
[{"$f":"B679&\":\"&COUNTIF($B$2:B679,B679)","v":"HLCUBSC2209BMTQ7:3"},"HLCUBSC2209BMTQ7","CAAU2107698","HLCUBSC2209BMTQ7","20 Dry","PKBQM",293152,"2022-11-04","2022-11-15",223.15,"BL"]
[{"$f":"B680&\":\"&COUNTIF($B$2:B680,B680)","v":"HLCUBSC2209BMTQ7:4"},"HLCUBSC2209BMTQ7","NIDU2310602","HLCUBSC2209BMTQ7","20 Dry","PKBQM",293152,"2022-11-04","2022-11-15",223.15,"BL"]
[{"$f":"B681&\":\"&COUNTIF($B$2:B681,B681)","v":"HLCUBSC2209BMTQ7:5"},"HLCUBSC2209BMTQ7","TCLU2848149","HLCUBSC2209BMTQ7","20 Dry","PKBQM",293152,"2022-11-04","2022-11-15",223.15,"BL"]
[{"$f":"B682&\":\"&COUNTIF($B$2:B682,B682)","v":"HLCUBSC2209BMTQ7:6"},"HLCUBSC2209BMTQ7","UACU3944819","HLCUBSC2209BMTQ7","20 Dry","PKBQM",293152,"2022-11-04","2022-11-15",223.15,"BL"]
[{"$f":"B683&\":\"&COUNTIF($B$2:B683,B683)","v":"HLCUBSC2209BMTQ7:7"},"HLCUBSC2209BMTQ7","UACU3997320","HLCUBSC2209BMTQ7","20 Dry","PKBQM",293152,"2022-11-04","2022-11-15",223.15,"BL"]
[{"$f":"B684&\":\"&COUNTIF($B$2:B684,B684)","v":"HLCUBSC2209BMTQ7:8"},"HLCUBSC2209BMTQ7","UACU3928438","HLCUBSC2209BMTQ7","20 Dry","PKBQM",293152,"2022-11-04","2022-11-15",223.15,"BL"]
[{"$f":"B685&\":\"&COUNTIF($B$2:B685,B685)","v":"HLCUBSC2209BMTQ7:9"},"HLCUBSC2209BMTQ7","TCLU2860925","HLCUBSC2209BMTQ7","20 Dry","PKBQM",293152,"2022-11-04","2022-11-15",223.15,"BL"]
[{"$f":"B686&\":\"&COUNTIF($B$2:B686,B686)","v":"HLCUBSC2209BMTQ7:10"},"HLCUBSC2209BMTQ7","BEAU2236991","HLCUBSC2209BMTQ7","20 Dry","PKBQM",293152,"2022-11-04","2022-11-15",223.15,"BL"]
[{"$f":"B687&\":\"&COUNTIF($B$2:B687,B687)","v":"HLCUBSC2209BMTQ7:11"},"HLCUBSC2209BMTQ7","HLBU1025055","HLCUBSC2209BMTQ7","20 Dry","PKBQM",293152,"2022-11-04","2022-11-15",223.15,"BL"]
[{"$f":"B688&\":\"&COUNTIF($B$2:B688,B688)","v":"HLCUBSC2209BMTQ7:12"},"HLCUBSC2209BMTQ7","CAIU2533314","HLCUBSC2209BMTQ7","20 Dry","PKBQM",293152,"2022-11-04","2022-11-15",223.15,"BL"]
[{"$f":"B689&\":\"&COUNTIF($B$2:B689,B689)","v":"HLCUBSC2209BMTQ7:13"},"HLCUBSC2209BMTQ7","BSIU2277476","HLCUBSC2209BMTQ7","20 Dry","PKBQM",293152,"2022-11-04","2022-11-15",223.15,"BL"]
[{"$f":"B690&\":\"&COUNTIF($B$2:B690,B690)","v":"HLCUBSC2209BMTQ7:14"},"HLCUBSC2209BMTQ7","TCLU3604506","HLCUBSC2209BMTQ7","20 Dry","PKBQM",293152,"2022-11-04","2022-11-15",223.15,"BL"]
[{"$f":"B691&\":\"&COUNTIF($B$2:B691,B691)","v":"HLCUBSC2209BMTQ7:15"},"HLCUBSC2209BMTQ7","TCKU1682483","HLCUBSC2209BMTQ7","20 Dry","PKBQM",293152,"2022-11-04","2022-11-15",223.15,"BL"]
[{"$f":"B692&\":\"&COUNTIF($B$2:B692,B692)","v":"HLCUBSC2209BMTQ7:16"},"HLCUBSC2209BMTQ7","CXDU1414752","HLCUBSC2209BMTQ7","20 Dry","PKBQM",293152,"2022-11-04","2022-11-15",223.15,"BL"]
[{"$f":"B693&\":\"&COUNTIF($B$2:B693,B693)","v":"HLCUBSC2209BMTQ7:17"},"HLCUBSC2209BMTQ7","BEAU2159600","HLCUBSC2209BMTQ7","20 Dry","PKBQM",293152,"2022-11-04","2022-11-15",223.15,"BL"]
[{"$f":"B694&\":\"&COUNTIF($B$2:B694,B694)","v":"HLCUBSC2209BMTQ7:18"},"HLCUBSC2209BMTQ7","HLBU2313246","HLCUBSC2209BMTQ7","20 Dry","PKBQM",293152,"2022-11-04","2022-11-15",223.15,"BL"]
[{"$f":"B695&\":\"&COUNTIF($B$2:B695,B695)","v":"HLCUBSC2209BMTQ7:19"},"HLCUBSC2209BMTQ7","TEMU2605059","HLCUBSC2209BMTQ7","20 Dry","PKBQM",293152,"2022-11-04","2022-11-15",223.15,"BL"]
[{"$f":"B696&\":\"&COUNTIF($B$2:B696,B696)","v":"HLCUBSC2209BMTQ7:20"},"HLCUBSC2209BMTQ7","TEMU1472368","HLCUBSC2209BMTQ7","20 Dry","PKBQM",293152,"2022-11-04","2022-11-15",223.15,"BL"]
[{"$f":"B697&\":\"&COUNTIF($B$2:B697,B697)","v":"HLCUBSC2209BMIO0:1"},"HLCUBSC2209BMIO0","TCNU6039788","HLCUBSC2209BMIO0","40 Dry","PKBQM",293152,"2022-11-04","2022-11-15",223.15,"SW"]
[{"$f":"B698&\":\"&COUNTIF($B$2:B698,B698)","v":"HLCUBSC2209BMJA0:1"},"HLCUBSC2209BMJA0","HLXU8225068","HLCUBSC2209BMJA0","40 Dry","PKBQM",293152,"2022-11-04","2022-11-15",223.15,"SW"]
[{"$f":"B699&\":\"&COUNTIF($B$2:B699,B699)","v":"HLCUBSC2209BKNF5:1"},"HLCUBSC2209BKNF5","CAIU4986650","HLCUBSC2209BKNF5","40 Dry","PKBQM",293152,"2022-11-04","2022-11-15",223.15,"SW"]
[{"$f":"B700&\":\"&COUNTIF($B$2:B700,B700)","v":"HLCUVAN220904996:1"},"HLCUVAN220904996","FFAU2857361","HLCUVAN220904996","40 Dry","PKBQM",293152,"2022-11-04","2022-11-15",223.15,"SW"]
[{"$f":"B701&\":\"&COUNTIF($B$2:B701,B701)","v":"HLCUBSC2209BIQC3:1"},"HLCUBSC2209BIQC3","CAIU6786239","HLCUBSC2209BIQC3","20 Dry","PKBQM",293152,"2022-11-04","2022-11-15",223.15,"BL"]
[{"$f":"B702&\":\"&COUNTIF($B$2:B702,B702)","v":"HLCUBSC2209BIQC3:2"},"HLCUBSC2209BIQC3","HLBU1503473","HLCUBSC2209BIQC3","20 Dry","PKBQM",293152,"2022-11-04","2022-11-15",223.15,"BL"]
[{"$f":"B703&\":\"&COUNTIF($B$2:B703,B703)","v":"HLCUBSC2209BGAS5:1"},"HLCUBSC2209BGAS5","UACU3750789","HLCUBSC2209BGAS5","20 Dry","PKBQM",293152,"2022-11-04","2022-11-15",223.15,"SW"]
[{"$f":"B704&\":\"&COUNTIF($B$2:B704,B704)","v":"HLCUTOR220923339:1"},"HLCUTOR220923339","BMOU6647819","HLCUTOR220923339","40 Dry","PKBQM",293152,"2022-11-04","2022-11-15",223.15,"SW"]
[{"$f":"B705&\":\"&COUNTIF($B$2:B705,B705)","v":"HLCUBSC2209BNCL7:1"},"HLCUBSC2209BNCL7","BEAU2200010","HLCUBSC2209BNCL7","20 Dry","PKBQM",293152,"2022-11-04","2022-11-15",223.15,"BL"]
[{"$f":"B706&\":\"&COUNTIF($B$2:B706,B706)","v":"HLCUTOR220925853:1"},"HLCUTOR220925853","UACU5190750","HLCUTOR220925853","40 Dry","PKBQM",293152,"2022-11-04","2022-11-15",223.15,"SW"]
[{"$f":"B707&\":\"&COUNTIF($B$2:B707,B707)","v":"HLCUBSC2209AXIC8:1"},"HLCUBSC2209AXIC8","BMOU4077086","HLCUBSC2209AXIC8","40 Dry","PKBQM",293152,"2022-11-04","2022-11-15",223.15,"BL"]
[{"$f":"B708&\":\"&COUNTIF($B$2:B708,B708)","v":"HLCUBSC2209BFTO3:1"},"HLCUBSC2209BFTO3","HLXU1269357","HLCUBSC2209BFTO3","20 Dry","PKBQM",293152,"2022-11-04","2022-11-15",223.15,"BL"]
[{"$f":"B709&\":\"&COUNTIF($B$2:B709,B709)","v":"HLCUVAN220810748:1"},"HLCUVAN220810748","BSIU9156347","HLCUVAN220810748","40 Dry","PKBQM",293152,"2022-11-04","2022-11-15",223.15,"SW"]
[{"$f":"B710&\":\"&COUNTIF($B$2:B710,B710)","v":"HLCUBSC2208BGUU9:1"},"HLCUBSC2208BGUU9","FANU1184357","HLCUBSC2208BGUU9","40 Dry","PKBQM",293152,"2022-11-04","2022-11-17",223.15,"BL"]
[{"$f":"B711&\":\"&COUNTIF($B$2:B711,B711)","v":"HLCUBSC2208BGUU9:2"},"HLCUBSC2208BGUU9","HLXU8197428","HLCUBSC2208BGUU9","40 Dry","PKBQM",293152,"2022-11-04","2022-11-17",223.15,"BL"]
[{"$f":"B712&\":\"&COUNTIF($B$2:B712,B712)","v":"HLCUBSC2209BKOS3:1"},"HLCUBSC2209BKOS3","DRYU9868347","HLCUBSC2209BKOS3","40 Dry","PKBQM",293152,"2022-11-04","2022-11-15",223.15,"BL"]
[{"$f":"B713&\":\"&COUNTIF($B$2:B713,B713)","v":"HLCUBSC2209BHRU3:1"},"HLCUBSC2209BHRU3","TCLU9516151","HLCUBSC2209BHRU3","40 Dry","PKBQM",293152,"2022-11-04","2022-11-08",223.15,"SW"]
[{"$f":"B714&\":\"&COUNTIF($B$2:B714,B714)","v":"HLCUBSC220951495:1"},"HLCUBSC220951495","HLBU3343970","HLCUBSC220951495","40 Dry","PKBQM",293152,"2022-11-04","2022-11-15",223.15,"BL"]
[{"$f":"B715&\":\"&COUNTIF($B$2:B715,B715)","v":"HLCUBSC220951495:2"},"HLCUBSC220951495","HLBU1646453","HLCUBSC220951495","40 Dry","PKBQM",293152,"2022-11-04","2022-11-15",223.15,"BL"]
[{"$f":"B716&\":\"&COUNTIF($B$2:B716,B716)","v":"HLCUBSC220951495:3"},"HLCUBSC220951495","RFCU5063814","HLCUBSC220951495","40 Dry","PKBQM",293152,"2022-11-04","2022-11-15",223.15,"BL"]
[{"$f":"B717&\":\"&COUNTIF($B$2:B717,B717)","v":"HLCUTOR220925875:1"},"HLCUTOR220925875","FANU1987256","HLCUTOR220925875","40 Dry","PKBQM",293152,"2022-11-04","2022-11-15",223.15,"SW"]
[{"$f":"B718&\":\"&COUNTIF($B$2:B718,B718)","v":"HLCUBSC2209BNYI4:1"},"HLCUBSC2209BNYI4","SEGU5124127","HLCUBSC2209BNYI4","40 Dry","PKBQM",293152,"2022-11-04","2022-11-15",223.15,"SW"]
[{"$f":"B719&\":\"&COUNTIF($B$2:B719,B719)","v":"HLCUBSC2209BNYI4:2"},"HLCUBSC2209BNYI4","HLXU8078408","HLCUBSC2209BNYI4","40 Dry","PKBQM",293152,"2022-11-04","2022-11-15",223.15,"SW"]
[{"$f":"B720&\":\"&COUNTIF($B$2:B720,B720)","v":"HLCUTOR220927563:1"},"HLCUTOR220927563","FANU1965982","HLCUTOR220927563","40 Dry","PKBQM",293152,"2022-11-04","2022-11-15",223.15,"SW"]
[{"$f":"B721&\":\"&COUNTIF($B$2:B721,B721)","v":"HLCUBSC2209AXGK4:1"},"HLCUBSC2209AXGK4","TEMU1788490","HLCUBSC2209AXGK4","20 Dry","PKBQM",293152,"2022-11-04","2022-11-15",223.15,"SW"]
[{"$f":"B722&\":\"&COUNTIF($B$2:B722,B722)","v":"HLCUBSC2209BLGD5:1"},"HLCUBSC2209BLGD5","HAMU1205524","HLCUBSC2209BLGD5","40 Dry","PKBQM",293152,"2022-11-04","2022-11-15",223.15,"SW"]
[{"$f":"B723&\":\"&COUNTIF($B$2:B723,B723)","v":"HLCUBSC2209BNDL2:1"},"HLCUBSC2209BNDL2","TLLU2553228","HLCUBSC2209BNDL2","20 Dry","PKBQM",293152,"2022-11-04","2022-11-15",223.15,"SW"]
[{"$f":"B724&\":\"&COUNTIF($B$2:B724,B724)","v":"HLCUVAN220900074:1"},"HLCUVAN220900074","FFAU1240734","HLCUVAN220900074","40 Dry","PKBQM",293152,"2022-11-04","2022-11-15",223.15,"SW"]
[{"$f":"B725&\":\"&COUNTIF($B$2:B725,B725)","v":"HLCUBSC2209BIGN4:1"},"HLCUBSC2209BIGN4","TCNU1784129","HLCUBSC2209BIGN4","40 Dry","PKBQM",293152,"2022-11-04","2022-11-10",223.15,"SW"]
[{"$f":"B726&\":\"&COUNTIF($B$2:B726,B726)","v":"HLCUBSC2209APFO9:1"},"HLCUBSC2209APFO9","UACU5938672","HLCUBSC2209APFO9","40 Dry","PKBQM",293152,"2022-11-04","2022-11-15",223.15,"BL"]
[{"$f":"B727&\":\"&COUNTIF($B$2:B727,B727)","v":"HLCUBSC2209BIAG9:1"},"HLCUBSC2209BIAG9","TCNU1828090","HLCUBSC2209BIAG9","40 Dry","PKBQM",293152,"2022-11-04","2022-11-15",223.15,"SW"]
[{"$f":"B728&\":\"&COUNTIF($B$2:B728,B728)","v":"HLCUBSC2209BNEC9:1"},"HLCUBSC2209BNEC9","HLXU1235892","HLCUBSC2209BNEC9","20 Dry","PKBQM",293152,"2022-11-04","2022-11-15",223.15,"BL"]
[{"$f":"B729&\":\"&COUNTIF($B$2:B729,B729)","v":"HLCUTOR220925864:1"},"HLCUTOR220925864","TCLU5033710","HLCUTOR220925864","40 Dry","PKBQM",293152,"2022-11-04","2022-11-15",223.15,"SW"]
[{"$f":"B730&\":\"&COUNTIF($B$2:B730,B730)","v":"HLCUVAN220907370:1"},"HLCUVAN220907370","HLXU8541343","HLCUVAN220907370","40 Dry","PKBQM",293152,"2022-11-04","2022-11-15",223.15,"SW"]
[{"$f":"B731&\":\"&COUNTIF($B$2:B731,B731)","v":"HLCUBSC2209AVZD7:1"},"HLCUBSC2209AVZD7","UACU5562610","HLCUBSC2209AVZD7","40 Dry","PKBQM",293152,"2022-11-04","2022-11-15",223.15,"SW"]
[{"$f":"B732&\":\"&COUNTIF($B$2:B732,B732)","v":"HLCUKW3221001551:1"},"HLCUKW3221001551","CAAU5541650","HLCUKW3221001551","40 Dry","PKKHI",292817,"2022-11-05","2022-11-22",223.15,"BL"]
[{"$f":"B733&\":\"&COUNTIF($B$2:B733,B733)","v":"HLCUKW3221001551:2"},"HLCUKW3221001551","HLBU2669432","HLCUKW3221001551","40 Dry","PKKHI",292817,"2022-11-05","2022-11-22",223.15,"BL"]
[{"$f":"B734&\":\"&COUNTIF($B$2:B734,B734)","v":"HLCUKW3221001551:3"},"HLCUKW3221001551","FANU3200729","HLCUKW3221001551","40 Dry","PKKHI",292817,"2022-11-05","2022-11-22",223.15,"BL"]
[{"$f":"B735&\":\"&COUNTIF($B$2:B735,B735)","v":"HLCUKW3221001551:4"},"HLCUKW3221001551","HLBU1489312","HLCUKW3221001551","40 Dry","PKKHI",292817,"2022-11-05","2022-11-22",223.15,"BL"]
[{"$f":"B736&\":\"&COUNTIF($B$2:B736,B736)","v":"HLCUKW3221001551:5"},"HLCUKW3221001551","FDCU0003170","HLCUKW3221001551","40 Dry","PKKHI",292817,"2022-11-05","2022-11-22",223.15,"BL"]
[{"$f":"B737&\":\"&COUNTIF($B$2:B737,B737)","v":"HLCUKW3221001551:6"},"HLCUKW3221001551","FANU1515394","HLCUKW3221001551","40 Dry","PKKHI",292817,"2022-11-05","2022-11-22",223.15,"BL"]
[{"$f":"B738&\":\"&COUNTIF($B$2:B738,B738)","v":"HLCUKW3221001551:7"},"HLCUKW3221001551","HLBU1636537","HLCUKW3221001551","40 Dry","PKKHI",292817,"2022-11-05","2022-11-22",223.15,"BL"]
[{"$f":"B739&\":\"&COUNTIF($B$2:B739,B739)","v":"HLCUKW3221001551:8"},"HLCUKW3221001551","FANU3172118","HLCUKW3221001551","40 Dry","PKKHI",292817,"2022-11-05","2022-11-22",223.15,"BL"]
[{"$f":"B740&\":\"&COUNTIF($B$2:B740,B740)","v":"HLCUKW3221001551:9"},"HLCUKW3221001551","HLBU3258138","HLCUKW3221001551","40 Dry","PKKHI",292817,"2022-11-05","2022-11-22",223.15,"BL"]
[{"$f":"B741&\":\"&COUNTIF($B$2:B741,B741)","v":"HLCUKW3221001551:10"},"HLCUKW3221001551","TXGU6838067","HLCUKW3221001551","40 Dry","PKKHI",292817,"2022-11-05","2022-11-22",223.15,"BL"]
[{"$f":"B742&\":\"&COUNTIF($B$2:B742,B742)","v":"HLCUKW3221001551:11"},"HLCUKW3221001551","FANU3124779","HLCUKW3221001551","40 Dry","PKKHI",292817,"2022-11-05","2022-11-22",223.15,"BL"]
[{"$f":"B743&\":\"&COUNTIF($B$2:B743,B743)","v":"HLCUKW3221001551:12"},"HLCUKW3221001551","HLBU2468588","HLCUKW3221001551","40 Dry","PKKHI",292817,"2022-11-05","2022-11-22",223.15,"BL"]
[{"$f":"B744&\":\"&COUNTIF($B$2:B744,B744)","v":"HLCURUH221004070:1"},"HLCURUH221004070","CAAU5332835","HLCURUH221004070","40 Dry","PKKHI",292817,"2022-11-05","2022-11-25",223.15,"BL"]
[{"$f":"B745&\":\"&COUNTIF($B$2:B745,B745)","v":"HLCURUH221004070:2"},"HLCURUH221004070","TCLU6686339","HLCURUH221004070","40 Dry","PKKHI",292817,"2022-11-05","2022-11-25",223.15,"BL"]
[{"$f":"B746&\":\"&COUNTIF($B$2:B746,B746)","v":"HLCURUH221004070:3"},"HLCURUH221004070","CAAU5689669","HLCURUH221004070","40 Dry","PKKHI",292817,"2022-11-05","2022-11-25",223.15,"BL"]
[{"$f":"B747&\":\"&COUNTIF($B$2:B747,B747)","v":"HLCURUH221004070:4"},"HLCURUH221004070","HLXU5204837","HLCURUH221004070","40 Dry","PKKHI",292817,"2022-11-05","2022-11-25",223.15,"BL"]
[{"$f":"B748&\":\"&COUNTIF($B$2:B748,B748)","v":"HLCURUH221004070:5"},"HLCURUH221004070","HLBU1750982","HLCURUH221004070","40 Dry","PKKHI",292817,"2022-11-05","2022-11-25",223.15,"BL"]
[{"$f":"B749&\":\"&COUNTIF($B$2:B749,B749)","v":"HLCURUH221004070:6"},"HLCURUH221004070","UACU5807780","HLCURUH221004070","40 Dry","PKKHI",292817,"2022-11-05","2022-11-25",223.15,"BL"]
[{"$f":"B750&\":\"&COUNTIF($B$2:B750,B750)","v":"HLCURUH221004026:1"},"HLCURUH221004026","FFAU2101116","HLCURUH221004026","40 Dry","PKKHI",292817,"2022-11-05","2022-11-25",223.15,"BL"]
[{"$f":"B751&\":\"&COUNTIF($B$2:B751,B751)","v":"HLCUDX3221032570:1"},"HLCUDX3221032570","SEGU6977356","HLCUDX3221032570","40 Dry","PKKHI",292817,"2022-11-05","2022-11-18",223.15,"SW"]
[{"$f":"B752&\":\"&COUNTIF($B$2:B752,B752)","v":"HLCUDX3221033266:1"},"HLCUDX3221033266","GESU5928809","HLCUDX3221033266","40 Dry","PKKHI",292817,"2022-11-05","2022-11-09",223.15,"BL"]
[{"$f":"B753&\":\"&COUNTIF($B$2:B753,B753)","v":"HLCUDX3221033266:2"},"HLCUDX3221033266","HLBU1854159","HLCUDX3221033266","40 Dry","PKKHI",292817,"2022-11-05","2022-11-09",223.15,"BL"]
[{"$f":"B754&\":\"&COUNTIF($B$2:B754,B754)","v":"HLCUDX3221033266:3"},"HLCUDX3221033266","SEKU5769814","HLCUDX3221033266","40 Dry","PKKHI",292817,"2022-11-05","2022-11-09",223.15,"BL"]
[{"$f":"B755&\":\"&COUNTIF($B$2:B755,B755)","v":"HLCUDX3221033266:4"},"HLCUDX3221033266","FFAU2106930","HLCUDX3221033266","40 Dry","PKKHI",292817,"2022-11-05","2022-11-09",223.15,"BL"]
[{"$f":"B756&\":\"&COUNTIF($B$2:B756,B756)","v":"HLCUKW3221001372:1"},"HLCUKW3221001372","TLLU5276451","HLCUKW3221001372","40 Dry","PKKHI",292817,"2022-11-05","2022-11-22",223.15,"BL"]
[{"$f":"B757&\":\"&COUNTIF($B$2:B757,B757)","v":"HLCUKW3221001372:2"},"HLCUKW3221001372","FANU1785907","HLCUKW3221001372","40 Dry","PKKHI",292817,"2022-11-05","2022-11-22",223.15,"BL"]
[{"$f":"B758&\":\"&COUNTIF($B$2:B758,B758)","v":"HLCUKW3221001372:3"},"HLCUKW3221001372","FANU1016630","HLCUKW3221001372","40 Dry","PKKHI",292817,"2022-11-05","2022-11-22",223.15,"BL"]
[{"$f":"B759&\":\"&COUNTIF($B$2:B759,B759)","v":"HLCUKW3221001372:4"},"HLCUKW3221001372","FDCU0037437","HLCUKW3221001372","40 Dry","PKKHI",292817,"2022-11-05","2022-11-22",223.15,"BL"]
[{"$f":"B760&\":\"&COUNTIF($B$2:B760,B760)","v":"HLCUKW3221001372:5"},"HLCUKW3221001372","FANU1468179","HLCUKW3221001372","40 Dry","PKKHI",292817,"2022-11-05","2022-11-22",223.15,"BL"]
[{"$f":"B761&\":\"&COUNTIF($B$2:B761,B761)","v":"HLCUKW3221001372:6"},"HLCUKW3221001372","FANU1010118","HLCUKW3221001372","40 Dry","PKKHI",292817,"2022-11-05","2022-11-22",223.15,"BL"]
[{"$f":"B762&\":\"&COUNTIF($B$2:B762,B762)","v":"HLCUKW3221001372:7"},"HLCUKW3221001372","BEAU4191582","HLCUKW3221001372","40 Dry","PKKHI",292817,"2022-11-05","2022-11-22",223.15,"BL"]
[{"$f":"B763&\":\"&COUNTIF($B$2:B763,B763)","v":"HLCUKW3221001372:8"},"HLCUKW3221001372","FANU1703046","HLCUKW3221001372","40 Dry","PKKHI",292817,"2022-11-05","2022-11-22",223.15,"BL"]
[{"$f":"B764&\":\"&COUNTIF($B$2:B764,B764)","v":"HLCUMCT221001757:1"},"HLCUMCT221001757","FANU3132007","HLCUMCT221001757","40 Dry","PKKHI",292817,"2022-11-05","2022-11-18",223.15,"BL"]
[{"$f":"B765&\":\"&COUNTIF($B$2:B765,B765)","v":"HLCUMCT221001757:2"},"HLCUMCT221001757","HLBU1930393","HLCUMCT221001757","40 Dry","PKKHI",292817,"2022-11-05","2022-11-18",223.15,"BL"]
[{"$f":"B766&\":\"&COUNTIF($B$2:B766,B766)","v":"HLCURUH221002009:1"},"HLCURUH221002009","FANU1438770","HLCURUH221002009","40 Dry","PKKHI",292817,"2022-11-05","2022-11-25",223.15,"BL"]
[{"$f":"B767&\":\"&COUNTIF($B$2:B767,B767)","v":"HLCURUH221002009:2"},"HLCURUH221002009","BEAU4937774","HLCURUH221002009","40 Dry","PKKHI",292817,"2022-11-05","2022-11-25",223.15,"BL"]
[{"$f":"B768&\":\"&COUNTIF($B$2:B768,B768)","v":"HLCURUH221002009:3"},"HLCURUH221002009","FCIU7035164","HLCURUH221002009","40 Dry","PKKHI",292817,"2022-11-05","2022-11-25",223.15,"BL"]
[{"$f":"B769&\":\"&COUNTIF($B$2:B769,B769)","v":"HLCURUH221002009:4"},"HLCURUH221002009","FANU1521951","HLCURUH221002009","40 Dry","PKKHI",292817,"2022-11-05","2022-11-25",223.15,"BL"]
[{"$f":"B770&\":\"&COUNTIF($B$2:B770,B770)","v":"HLCUALY221002523:1"},"HLCUALY221002523","HLBU1389550","HLCUALY221002523","20 Dry","PKKHI",292817,"2022-11-05","2022-11-16",223.15,"BL"]
[{"$f":"B771&\":\"&COUNTIF($B$2:B771,B771)","v":"HLCUALY221002523:2"},"HLCUALY221002523","TGHU0950510","HLCUALY221002523","20 Dry","PKKHI",292817,"2022-11-05","2022-11-16",223.15,"BL"]
[{"$f":"B772&\":\"&COUNTIF($B$2:B772,B772)","v":"HLCUDOH221002472:1"},"HLCUDOH221002472","HLXU8161683","HLCUDOH221002472","40 Dry","PKKHI",292817,"2022-11-05","2022-11-18",223.15,"BL"]
[{"$f":"B773&\":\"&COUNTIF($B$2:B773,B773)","v":"HLCUDOH221002472:2"},"HLCUDOH221002472","SEGU5618705","HLCUDOH221002472","40 Dry","PKKHI",292817,"2022-11-05","2022-11-18",223.15,"BL"]
[{"$f":"B774&\":\"&COUNTIF($B$2:B774,B774)","v":"HLCUDOH221002472:3"},"HLCUDOH221002472","TCNU3630396","HLCUDOH221002472","40 Dry","PKKHI",292817,"2022-11-05","2022-11-18",223.15,"BL"]
[{"$f":"B775&\":\"&COUNTIF($B$2:B775,B775)","v":"HLCUDOH221002472:4"},"HLCUDOH221002472","UACU5544832","HLCUDOH221002472","40 Dry","PKKHI",292817,"2022-11-05","2022-11-18",223.15,"BL"]
[{"$f":"B776&\":\"&COUNTIF($B$2:B776,B776)","v":"HLCUDX3221032029:1"},"HLCUDX3221032029","HLBU3113978","HLCUDX3221032029","40 Dry","PKKHI",292817,"2022-11-05","2022-11-18",223.15,"BL"]
[{"$f":"B777&\":\"&COUNTIF($B$2:B777,B777)","v":"HLCUALY221001798:1"},"HLCUALY221001798","TCLU2813179","HLCUALY221001798","20 Dry","PKKHI",292817,"2022-11-05","2022-11-16",223.15,"BL"]
[{"$f":"B778&\":\"&COUNTIF($B$2:B778,B778)","v":"HLCUDX3221031092:1"},"HLCUDX3221031092","GESU6438067","HLCUDX3221031092","40 Dry","PKKHI",292817,"2022-11-05","2022-11-18",223.15,"BL"]
[{"$f":"B779&\":\"&COUNTIF($B$2:B779,B779)","v":"HLCUDX3221031092:2"},"HLCUDX3221031092","TRHU4971847","HLCUDX3221031092","40 Dry","PKKHI",292817,"2022-11-05","2022-11-18",223.15,"BL"]
[{"$f":"B780&\":\"&COUNTIF($B$2:B780,B780)","v":"HLCUALY221002545:1"},"HLCUALY221002545","HAMU1015400","HLCUALY221002545","20 Dry","PKKHI",292817,"2022-11-05","2022-11-16",223.15,"BL"]
[{"$f":"B781&\":\"&COUNTIF($B$2:B781,B781)","v":"HLCUALY221002545:2"},"HLCUALY221002545","FBIU0474409","HLCUALY221002545","20 Dry","PKKHI",292817,"2022-11-05","2022-11-16",223.15,"BL"]
[{"$f":"B782&\":\"&COUNTIF($B$2:B782,B782)","v":"HLCURUH221002572:1"},"HLCURUH221002572","HLBU3266663","HLCURUH221002572","40 Dry","PKKHI",292817,"2022-11-05","2022-11-25",223.15,"BL"]
[{"$f":"B783&\":\"&COUNTIF($B$2:B783,B783)","v":"HLCURUH221002572:2"},"HLCURUH221002572","FSCU4802322","HLCURUH221002572","40 Dry","PKKHI",292817,"2022-11-05","2022-11-25",223.15,"BL"]
[{"$f":"B784&\":\"&COUNTIF($B$2:B784,B784)","v":"HLCUDA3221001834:1"},"HLCUDA3221001834","GESU1262988","HLCUDA3221001834","20 Dry","PKKHI",292817,"2022-11-06","2022-11-19",223.15,"BL"]
[{"$f":"B785&\":\"&COUNTIF($B$2:B785,B785)","v":"HLCUKW3221001613:1"},"HLCUKW3221001613","TCLU1450130","HLCUKW3221001613","40 Dry","PKKHI",292817,"2022-11-05","2022-11-22",223.15,"BL"]
[{"$f":"B786&\":\"&COUNTIF($B$2:B786,B786)","v":"HLCUKW3221001613:2"},"HLCUKW3221001613","HLBU2253846","HLCUKW3221001613","40 Dry","PKKHI",292817,"2022-11-05","2022-11-22",223.15,"BL"]
[{"$f":"B787&\":\"&COUNTIF($B$2:B787,B787)","v":"HLCUKW3221001613:3"},"HLCUKW3221001613","TCLU9701967","HLCUKW3221001613","40 Dry","PKKHI",292817,"2022-11-05","2022-11-22",223.15,"BL"]
[{"$f":"B788&\":\"&COUNTIF($B$2:B788,B788)","v":"HLCUKW3221001613:4"},"HLCUKW3221001613","BSIU9284780","HLCUKW3221001613","40 Dry","PKKHI",292817,"2022-11-05","2022-11-22",223.15,"BL"]
[{"$f":"B789&\":\"&COUNTIF($B$2:B789,B789)","v":"HLCUALY221010345:1"},"HLCUALY221010345","HLBU3073284","HLCUALY221010345","40 Dry","PKKHI",292817,"2022-11-05","2022-11-09",223.15,"BL"]
[{"$f":"B790&\":\"&COUNTIF($B$2:B790,B790)","v":"HLCUDX3221028866:1"},"HLCUDX3221028866","TEMU7353350","HLCUDX3221028866","40 Dry","PKKHI",292817,"2022-11-05","2022-11-18",223.15,"BL"]
[{"$f":"B791&\":\"&COUNTIF($B$2:B791,B791)","v":"HLCUSYD220856639:1"},"HLCUSYD220856639","HLXU6502862","HLCUSYD220856639","40 Dry","PKKHI",292817,"2022-11-05","2022-11-18",223.15,"SW"]
[{"$f":"B792&\":\"&COUNTIF($B$2:B792,B792)","v":"HLCUSYD220856639:2"},"HLCUSYD220856639","HAMU1178603","HLCUSYD220856639","40 Dry","PKKHI",292817,"2022-11-05","2022-11-18",223.15,"SW"]
[{"$f":"B793&\":\"&COUNTIF($B$2:B793,B793)","v":"HLCURUH221005084:1"},"HLCURUH221005084","TCNU1373067","HLCURUH221005084","40 Dry","PKKHI",292817,"2022-11-05","2022-11-25",223.15,"BL"]
[{"$f":"B794&\":\"&COUNTIF($B$2:B794,B794)","v":"HLCURUH221005084:2"},"HLCURUH221005084","FANU1083602","HLCURUH221005084","40 Dry","PKKHI",292817,"2022-11-05","2022-11-25",223.15,"BL"]
[{"$f":"B795&\":\"&COUNTIF($B$2:B795,B795)","v":"HLCURUH221004165:1"},"HLCURUH221004165","FBLU0126964","HLCURUH221004165","40 Dry","PKKHI",292817,"2022-11-05","2022-11-25",223.15,"BL"]
[{"$f":"B796&\":\"&COUNTIF($B$2:B796,B796)","v":"HLCURUH221004165:2"},"HLCURUH221004165","HLBU1570044","HLCURUH221004165","40 Dry","PKKHI",292817,"2022-11-05","2022-11-25",223.15,"BL"]
[{"$f":"B797&\":\"&COUNTIF($B$2:B797,B797)","v":"HLCURUH221003246:1"},"HLCURUH221003246","HLBU2251714","HLCURUH221003246","40 Dry","PKKHI",292817,"2022-11-05","2022-11-25",223.15,"BL"]
[{"$f":"B798&\":\"&COUNTIF($B$2:B798,B798)","v":"HLCURUH221003246:2"},"HLCURUH221003246","UETU5859602","HLCURUH221003246","40 Dry","PKKHI",292817,"2022-11-05","2022-11-25",223.15,"BL"]
[{"$f":"B799&\":\"&COUNTIF($B$2:B799,B799)","v":"HLCURUH221003246:3"},"HLCURUH221003246","HLXU8565854","HLCURUH221003246","40 Dry","PKKHI",292817,"2022-11-05","2022-11-25",223.15,"BL"]
[{"$f":"B800&\":\"&COUNTIF($B$2:B800,B800)","v":"HLCURUH221003246:4"},"HLCURUH221003246","RFCU5029595","HLCURUH221003246","40 Dry","PKKHI",292817,"2022-11-05","2022-11-25",223.15,"BL"]
[{"$f":"B801&\":\"&COUNTIF($B$2:B801,B801)","v":"HLCUDA3221002446:1"},"HLCUDA3221002446","HLXU1277199","HLCUDA3221002446","20 Dry","PKKHI",292817,"2022-11-05","2022-11-18",223.15,"BL"]
[{"$f":"B802&\":\"&COUNTIF($B$2:B802,B802)","v":"HLCUDA3221002457:1"},"HLCUDA3221002457","HLBU1007426","HLCUDA3221002457","20 Dry","PKKHI",292817,"2022-11-06","2022-11-19",223.15,"BL"]
[{"$f":"B803&\":\"&COUNTIF($B$2:B803,B803)","v":"HLCUDA3221002457:2"},"HLCUDA3221002457","HLBU3455564","HLCUDA3221002457","20 Dry","PKKHI",292817,"2022-11-05","2022-11-18",223.15,"BL"]
[{"$f":"B804&\":\"&COUNTIF($B$2:B804,B804)","v":"HLCUSYD220917952:1"},"HLCUSYD220917952","HLBU3057621","HLCUSYD220917952","20 Dry","PKKHI",292817,"2022-11-05","2022-11-09",223.15,"SW"]
[{"$f":"B805&\":\"&COUNTIF($B$2:B805,B805)","v":"HLCURUH221002583:1"},"HLCURUH221002583","HLBU1910545","HLCURUH221002583","40 Dry","PKKHI",292817,"2022-11-05","2022-11-25",223.15,"BL"]
[{"$f":"B806&\":\"&COUNTIF($B$2:B806,B806)","v":"HLCURUH221002583:2"},"HLCURUH221002583","TRLU7153204","HLCURUH221002583","40 Dry","PKKHI",292817,"2022-11-05","2022-11-25",223.15,"BL"]
[{"$f":"B807&\":\"&COUNTIF($B$2:B807,B807)","v":"HLCURUH221002583:3"},"HLCURUH221002583","HAMU1213392","HLCURUH221002583","40 Dry","PKKHI",292817,"2022-11-05","2022-11-25",223.15,"BL"]
[{"$f":"B808&\":\"&COUNTIF($B$2:B808,B808)","v":"HLCURUH221002583:4"},"HLCURUH221002583","HLXU8252417","HLCURUH221002583","40 Dry","PKKHI",292817,"2022-11-05","2022-11-25",223.15,"BL"]
[{"$f":"B809&\":\"&COUNTIF($B$2:B809,B809)","v":"HLCURUH221002583:5"},"HLCURUH221002583","FANU3067576","HLCURUH221002583","40 Dry","PKKHI",292817,"2022-11-05","2022-11-25",223.15,"BL"]
[{"$f":"B810&\":\"&COUNTIF($B$2:B810,B810)","v":"HLCURUH221002583:6"},"HLCURUH221002583","TCLU9164148","HLCURUH221002583","40 Dry","PKKHI",292817,"2022-11-05","2022-11-25",223.15,"BL"]
[{"$f":"B811&\":\"&COUNTIF($B$2:B811,B811)","v":"HLCURUH221002583:7"},"HLCURUH221002583","TGCU5188060","HLCURUH221002583","40 Dry","PKKHI",292817,"2022-11-05","2022-11-25",223.15,"BL"]
[{"$f":"B812&\":\"&COUNTIF($B$2:B812,B812)","v":"HLCURUH221002583:8"},"HLCURUH221002583","UASU1045631","HLCURUH221002583","40 Dry","PKKHI",292817,"2022-11-05","2022-11-25",223.15,"BL"]
[{"$f":"B813&\":\"&COUNTIF($B$2:B813,B813)","v":"HLCURUH221005135:1"},"HLCURUH221005135","UACU5492955","HLCURUH221005135","40 Dry","PKKHI",292817,"2022-11-05","2022-11-25",223.15,"BL"]
[{"$f":"B814&\":\"&COUNTIF($B$2:B814,B814)","v":"HLCURUH221003023:1"},"HLCURUH221003023","FDCU0002451","HLCURUH221003023","40 Dry","PKKHI",292817,"2022-11-05","2022-11-25",223.15,"BL"]
[{"$f":"B815&\":\"&COUNTIF($B$2:B815,B815)","v":"HLCURUH221003023:2"},"HLCURUH221003023","TCLU8675483","HLCURUH221003023","40 Dry","PKKHI",292817,"2022-11-05","2022-11-25",223.15,"BL"]
[{"$f":"B816&\":\"&COUNTIF($B$2:B816,B816)","v":"HLCURUH221003023:3"},"HLCURUH221003023","HLXU5271727","HLCURUH221003023","40 Dry","PKKHI",292817,"2022-11-05","2022-11-25",223.15,"BL"]
[{"$f":"B817&\":\"&COUNTIF($B$2:B817,B817)","v":"HLCURUH221003023:4"},"HLCURUH221003023","HLXU8146992","HLCURUH221003023","40 Dry","PKKHI",292817,"2022-11-05","2022-11-25",223.15,"BL"]
[{"$f":"B818&\":\"&COUNTIF($B$2:B818,B818)","v":"HLCURUH221003023:5"},"HLCURUH221003023","TRLU7636373","HLCURUH221003023","40 Dry","PKKHI",292817,"2022-11-05","2022-11-25",223.15,"BL"]
[{"$f":"B819&\":\"&COUNTIF($B$2:B819,B819)","v":"HLCUSYD220859732:1"},"HLCUSYD220859732","HLBU3346938","HLCUSYD220859732","40 Dry","PKKHI",292817,"2022-11-05","2022-11-18",223.15,"SW"]
[{"$f":"B820&\":\"&COUNTIF($B$2:B820,B820)","v":"HLCUMCT221002380:1"},"HLCUMCT221002380","TCNU8322689","HLCUMCT221002380","40 Dry","PKKHI",292817,"2022-11-05","2022-11-18",223.15,"BL"]
[{"$f":"B821&\":\"&COUNTIF($B$2:B821,B821)","v":"HLCUMCT221002380:2"},"HLCUMCT221002380","TGHU9449129","HLCUMCT221002380","40 Dry","PKKHI",292817,"2022-11-05","2022-11-18",223.15,"BL"]
[{"$f":"B822&\":\"&COUNTIF($B$2:B822,B822)","v":"HLCUMCT221002380:3"},"HLCUMCT221002380","GCXU5932710","HLCUMCT221002380","40 Dry","PKKHI",292817,"2022-11-05","2022-11-18",223.15,"BL"]
[{"$f":"B823&\":\"&COUNTIF($B$2:B823,B823)","v":"HLCUMCT221002380:4"},"HLCUMCT221002380","XINU8170811","HLCUMCT221002380","40 Dry","PKKHI",292817,"2022-11-06","2022-11-19",223.15,"BL"]
[{"$f":"B824&\":\"&COUNTIF($B$2:B824,B824)","v":"HLCUMCT221002380:5"},"HLCUMCT221002380","HLXU8321821","HLCUMCT221002380","40 Dry","PKKHI",292817,"2022-11-05","2022-11-18",223.15,"BL"]
[{"$f":"B825&\":\"&COUNTIF($B$2:B825,B825)","v":"HLCUMCT221002380:6"},"HLCUMCT221002380","HLXU8116880","HLCUMCT221002380","40 Dry","PKKHI",292817,"2022-11-05","2022-11-18",223.15,"BL"]
[{"$f":"B826&\":\"&COUNTIF($B$2:B826,B826)","v":"HLCUMCT221002380:7"},"HLCUMCT221002380","GLDU7725094","HLCUMCT221002380","40 Dry","PKKHI",292817,"2022-11-05","2022-11-18",223.15,"BL"]
[{"$f":"B827&\":\"&COUNTIF($B$2:B827,B827)","v":"HLCUMCT221002380:8"},"HLCUMCT221002380","TCNU9046081","HLCUMCT221002380","40 Dry","PKKHI",292817,"2022-11-05","2022-11-18",223.15,"BL"]
[{"$f":"B828&\":\"&COUNTIF($B$2:B828,B828)","v":"HLCUMCT221002380:9"},"HLCUMCT221002380","TCNU6651880","HLCUMCT221002380","40 Dry","PKKHI",292817,"2022-11-05","2022-11-18",223.15,"BL"]
[{"$f":"B829&\":\"&COUNTIF($B$2:B829,B829)","v":"HLCUMCT221002380:10"},"HLCUMCT221002380","UACU5469580","HLCUMCT221002380","40 Dry","PKKHI",292817,"2022-11-05","2022-11-18",223.15,"BL"]
[{"$f":"B830&\":\"&COUNTIF($B$2:B830,B830)","v":"HLCUMCT221002380:11"},"HLCUMCT221002380","TRHU4557945","HLCUMCT221002380","40 Dry","PKKHI",292817,"2022-11-05","2022-11-18",223.15,"BL"]
[{"$f":"B831&\":\"&COUNTIF($B$2:B831,B831)","v":"HLCUIZ1220986060:1"},"HLCUIZ1220986060","TCLU5107601","HLCUIZ1220986060","40 Dry","PKKHI",292817,"2022-11-05","2022-11-09",223.15,"SW"]
[{"$f":"B832&\":\"&COUNTIF($B$2:B832,B832)","v":"HLCURUH221004154:1"},"HLCURUH221004154","HLXU8311356","HLCURUH221004154","40 Dry","PKKHI",292817,"2022-11-05","2022-11-25",223.15,"BL"]
[{"$f":"B833&\":\"&COUNTIF($B$2:B833,B833)","v":"HLCURUH221004154:2"},"HLCURUH221004154","UACU5837553","HLCURUH221004154","40 Dry","PKKHI",292817,"2022-11-05","2022-11-25",223.15,"BL"]
[{"$f":"B834&\":\"&COUNTIF($B$2:B834,B834)","v":"HLCURUH221004154:3"},"HLCURUH221004154","FANU1647390","HLCURUH221004154","40 Dry","PKKHI",292817,"2022-11-05","2022-11-25",223.15,"BL"]
[{"$f":"B835&\":\"&COUNTIF($B$2:B835,B835)","v":"HLCURUH221004154:4"},"HLCURUH221004154","CXDU1776535","HLCURUH221004154","40 Dry","PKKHI",292817,"2022-11-05","2022-11-25",223.15,"BL"]
[{"$f":"B836&\":\"&COUNTIF($B$2:B836,B836)","v":"HLCURUH221004154:5"},"HLCURUH221004154","GCXU5930722","HLCURUH221004154","40 Dry","PKKHI",292817,"2022-11-05","2022-11-25",223.15,"BL"]
[{"$f":"B837&\":\"&COUNTIF($B$2:B837,B837)","v":"HLCURUH221004154:6"},"HLCURUH221004154","FANU1903785","HLCURUH221004154","40 Dry","PKKHI",292817,"2022-11-05","2022-11-25",223.15,"BL"]
[{"$f":"B838&\":\"&COUNTIF($B$2:B838,B838)","v":"HLCUDX3221028800:1"},"HLCUDX3221028800","FANU1881747","HLCUDX3221028800","40 Dry","PKKHI",292817,"2022-11-05","2022-11-18",223.15,"BL"]
[{"$f":"B839&\":\"&COUNTIF($B$2:B839,B839)","v":"HLCUSYD220866434:1"},"HLCUSYD220866434","CAIU4980230","HLCUSYD220866434","40 Dry","PKKHI",292817,"2022-11-05","2022-11-18",223.15,"SW"]
[{"$f":"B840&\":\"&COUNTIF($B$2:B840,B840)","v":"HLCUSYD220866434:2"},"HLCUSYD220866434","FSCU9994207","HLCUSYD220866434","40 Dry","PKKHI",292817,"2022-11-05","2022-11-18",223.15,"SW"]
[{"$f":"B841&\":\"&COUNTIF($B$2:B841,B841)","v":"HLCUALY221005080:1"},"HLCUALY221005080","BMOU2074447","HLCUALY221005080","20 Dry","PKKHI",292817,"2022-11-05","2022-11-09",223.15,"BL"]
[{"$f":"B842&\":\"&COUNTIF($B$2:B842,B842)","v":"HLCURUH221003067:1"},"HLCURUH221003067","UASU1009803","HLCURUH221003067","40 Dry","PKKHI",292817,"2022-11-05","2022-11-25",223.15,"BL"]
[{"$f":"B843&\":\"&COUNTIF($B$2:B843,B843)","v":"HLCURUH221003067:2"},"HLCURUH221003067","UACU5524008","HLCURUH221003067","40 Dry","PKKHI",292817,"2022-11-05","2022-11-25",223.15,"BL"]
[{"$f":"B844&\":\"&COUNTIF($B$2:B844,B844)","v":"HLCURUH221000683:1"},"HLCURUH221000683","TGBU6167454","HLCURUH221000683","40 Dry","PKKHI",292817,"2022-11-05","2022-11-25",223.15,"BL"]
[{"$f":"B845&\":\"&COUNTIF($B$2:B845,B845)","v":"HLCURUH221000683:2"},"HLCURUH221000683","FANU1445743","HLCURUH221000683","40 Dry","PKKHI",292817,"2022-11-05","2022-11-25",223.15,"BL"]
[{"$f":"B846&\":\"&COUNTIF($B$2:B846,B846)","v":"HLCUIZ12209AQFV6:1"},"HLCUIZ12209AQFV6","SEKU6251178","HLCUIZ12209AQFV6","40 Dry","PKKHI",292817,"2022-11-05","2022-11-09",223.15,"BL"]
[{"$f":"B847&\":\"&COUNTIF($B$2:B847,B847)","v":"HLCUIZ12209AQFV6:2"},"HLCUIZ12209AQFV6","UACU5407608","HLCUIZ12209AQFV6","40 Dry","PKKHI",292817,"2022-11-05","2022-11-09",223.15,"BL"]
[{"$f":"B848&\":\"&COUNTIF($B$2:B848,B848)","v":"HLCUIZ12209AQFV6:3"},"HLCUIZ12209AQFV6","FANU1568060","HLCUIZ12209AQFV6","40 Dry","PKKHI",292817,"2022-11-05","2022-11-09",223.15,"BL"]
[{"$f":"B849&\":\"&COUNTIF($B$2:B849,B849)","v":"HLCUIZ12209AQFV6:4"},"HLCUIZ12209AQFV6","HLBU3090580","HLCUIZ12209AQFV6","40 Dry","PKKHI",292817,"2022-11-05","2022-11-09",223.15,"BL"]
[{"$f":"B850&\":\"&COUNTIF($B$2:B850,B850)","v":"HLCUIZ12209AQFV6:5"},"HLCUIZ12209AQFV6","SEGU5452996","HLCUIZ12209AQFV6","40 Dry","PKKHI",292817,"2022-11-05","2022-11-09",223.15,"BL"]
[{"$f":"B851&\":\"&COUNTIF($B$2:B851,B851)","v":"HLCUIZ12209AQFV6:6"},"HLCUIZ12209AQFV6","HLBU1686630","HLCUIZ12209AQFV6","40 Dry","PKKHI",292817,"2022-11-05","2022-11-09",223.15,"BL"]
[{"$f":"B852&\":\"&COUNTIF($B$2:B852,B852)","v":"HLCUIZ12209AQFV6:7"},"HLCUIZ12209AQFV6","DFSU7079443","HLCUIZ12209AQFV6","40 Dry","PKKHI",292817,"2022-11-05","2022-11-09",223.15,"BL"]
[{"$f":"B853&\":\"&COUNTIF($B$2:B853,B853)","v":"HLCUIZ12209AQFV6:8"},"HLCUIZ12209AQFV6","HLBU1424230","HLCUIZ12209AQFV6","40 Dry","PKKHI",292817,"2022-11-05","2022-11-09",223.15,"BL"]
[{"$f":"B854&\":\"&COUNTIF($B$2:B854,B854)","v":"HLCUIZ12209AQFV6:9"},"HLCUIZ12209AQFV6","HLXU8405500","HLCUIZ12209AQFV6","40 Dry","PKKHI",292817,"2022-11-05","2022-11-09",223.15,"BL"]
[{"$f":"B855&\":\"&COUNTIF($B$2:B855,B855)","v":"HLCUIZ12209AQFV6:10"},"HLCUIZ12209AQFV6","TCNU1821710","HLCUIZ12209AQFV6","40 Dry","PKKHI",292817,"2022-11-05","2022-11-09",223.15,"BL"]
[{"$f":"B856&\":\"&COUNTIF($B$2:B856,B856)","v":"HLCUIZ12209AQFV6:11"},"HLCUIZ12209AQFV6","UACU5448248","HLCUIZ12209AQFV6","40 Dry","PKKHI",292817,"2022-11-05","2022-11-09",223.15,"BL"]
[{"$f":"B857&\":\"&COUNTIF($B$2:B857,B857)","v":"HLCUIZ12209AQFV6:12"},"HLCUIZ12209AQFV6","UACU5354513","HLCUIZ12209AQFV6","40 Dry","PKKHI",292817,"2022-11-05","2022-11-09",223.15,"BL"]
[{"$f":"B858&\":\"&COUNTIF($B$2:B858,B858)","v":"HLCUIZ12209AQFV6:13"},"HLCUIZ12209AQFV6","TCLU6477426","HLCUIZ12209AQFV6","40 Dry","PKKHI",292817,"2022-11-05","2022-11-09",223.15,"BL"]
[{"$f":"B859&\":\"&COUNTIF($B$2:B859,B859)","v":"HLCUIZ12209AQFV6:14"},"HLCUIZ12209AQFV6","TCLU8048740","HLCUIZ12209AQFV6","40 Dry","PKKHI",292817,"2022-11-05","2022-11-09",223.15,"BL"]
[{"$f":"B860&\":\"&COUNTIF($B$2:B860,B860)","v":"HLCUIZ12209AQFV6:15"},"HLCUIZ12209AQFV6","FANU1905807","HLCUIZ12209AQFV6","40 Dry","PKKHI",292817,"2022-11-05","2022-11-09",223.15,"BL"]
[{"$f":"B861&\":\"&COUNTIF($B$2:B861,B861)","v":"HLCUIZ12209AQFV6:16"},"HLCUIZ12209AQFV6","HLBU2402533","HLCUIZ12209AQFV6","40 Dry","PKKHI",292817,"2022-11-05","2022-11-09",223.15,"BL"]
[{"$f":"B862&\":\"&COUNTIF($B$2:B862,B862)","v":"HLCUIZ12209AQFV6:17"},"HLCUIZ12209AQFV6","UACU5573321","HLCUIZ12209AQFV6","40 Dry","PKKHI",292817,"2022-11-05","2022-11-09",223.15,"BL"]
[{"$f":"B863&\":\"&COUNTIF($B$2:B863,B863)","v":"HLCUIZ12209AQFV6:18"},"HLCUIZ12209AQFV6","CAIU8019597","HLCUIZ12209AQFV6","40 Dry","PKKHI",292817,"2022-11-05","2022-11-09",223.15,"BL"]
[{"$f":"B864&\":\"&COUNTIF($B$2:B864,B864)","v":"HLCUIZ12209AQFV6:19"},"HLCUIZ12209AQFV6","HLBU1443923","HLCUIZ12209AQFV6","40 Dry","PKKHI",292817,"2022-11-05","2022-11-09",223.15,"BL"]
[{"$f":"B865&\":\"&COUNTIF($B$2:B865,B865)","v":"HLCUIZ12209AQFV6:20"},"HLCUIZ12209AQFV6","DFSU7495081","HLCUIZ12209AQFV6","40 Dry","PKKHI",292817,"2022-11-05","2022-11-09",223.15,"BL"]
[{"$f":"B866&\":\"&COUNTIF($B$2:B866,B866)","v":"HLCUIZ12209AQFV6:21"},"HLCUIZ12209AQFV6","TCNU6306570","HLCUIZ12209AQFV6","40 Dry","PKKHI",292817,"2022-11-05","2022-11-09",223.15,"BL"]
[{"$f":"B867&\":\"&COUNTIF($B$2:B867,B867)","v":"HLCUIZ12209AQFV6:22"},"HLCUIZ12209AQFV6","TCNU9881249","HLCUIZ12209AQFV6","40 Dry","PKKHI",292817,"2022-11-05","2022-11-09",223.15,"BL"]
[{"$f":"B868&\":\"&COUNTIF($B$2:B868,B868)","v":"HLCUIZ12209AQFV6:23"},"HLCUIZ12209AQFV6","TGBU5854820","HLCUIZ12209AQFV6","40 Dry","PKKHI",292817,"2022-11-05","2022-11-09",223.15,"BL"]
[{"$f":"B869&\":\"&COUNTIF($B$2:B869,B869)","v":"HLCUIZ12209AQFV6:24"},"HLCUIZ12209AQFV6","UACU5691160","HLCUIZ12209AQFV6","40 Dry","PKKHI",292817,"2022-11-05","2022-11-09",223.15,"BL"]
[{"$f":"B870&\":\"&COUNTIF($B$2:B870,B870)","v":"HLCUIZ12209AQFV6:25"},"HLCUIZ12209AQFV6","HLBU2227889","HLCUIZ12209AQFV6","40 Dry","PKKHI",292817,"2022-11-05","2022-11-09",223.15,"BL"]
[{"$f":"B871&\":\"&COUNTIF($B$2:B871,B871)","v":"HLCUIZ12209AQFV6:26"},"HLCUIZ12209AQFV6","HAMU1169181","HLCUIZ12209AQFV6","40 Dry","PKKHI",292817,"2022-11-05","2022-11-09",223.15,"BL"]
[{"$f":"B872&\":\"&COUNTIF($B$2:B872,B872)","v":"HLCUIZ12209AQFV6:27"},"HLCUIZ12209AQFV6","HAMU1300455","HLCUIZ12209AQFV6","40 Dry","PKKHI",292817,"2022-11-05","2022-11-09",223.15,"BL"]
[{"$f":"B873&\":\"&COUNTIF($B$2:B873,B873)","v":"HLCUIZ12209AQFV6:28"},"HLCUIZ12209AQFV6","UACU5654974","HLCUIZ12209AQFV6","40 Dry","PKKHI",292817,"2022-11-05","2022-11-09",223.15,"BL"]
[{"$f":"B874&\":\"&COUNTIF($B$2:B874,B874)","v":"HLCUIZ12209AQFV6:29"},"HLCUIZ12209AQFV6","UACU5427034","HLCUIZ12209AQFV6","40 Dry","PKKHI",292817,"2022-11-05","2022-11-09",223.15,"BL"]
[{"$f":"B875&\":\"&COUNTIF($B$2:B875,B875)","v":"HLCUIZ12209AQFV6:30"},"HLCUIZ12209AQFV6","FSCU8430012","HLCUIZ12209AQFV6","40 Dry","PKKHI",292817,"2022-11-05","2022-11-09",223.15,"BL"]
[{"$f":"B876&\":\"&COUNTIF($B$2:B876,B876)","v":"HLCUIZ12209AQFV6:31"},"HLCUIZ12209AQFV6","HLBU2429555","HLCUIZ12209AQFV6","40 Dry","PKKHI",292817,"2022-11-05","2022-11-09",223.15,"BL"]
[{"$f":"B877&\":\"&COUNTIF($B$2:B877,B877)","v":"HLCUIZ12209AQFV6:32"},"HLCUIZ12209AQFV6","TCNU1817346","HLCUIZ12209AQFV6","40 Dry","PKKHI",292817,"2022-11-05","2022-11-09",223.15,"BL"]
[{"$f":"B878&\":\"&COUNTIF($B$2:B878,B878)","v":"HLCUIZ12209AQFV6:33"},"HLCUIZ12209AQFV6","TCNU8841848","HLCUIZ12209AQFV6","40 Dry","PKKHI",292817,"2022-11-05","2022-11-09",223.15,"BL"]
[{"$f":"B879&\":\"&COUNTIF($B$2:B879,B879)","v":"HLCUIZ12209AQFV6:34"},"HLCUIZ12209AQFV6","HLBU1355648","HLCUIZ12209AQFV6","40 Dry","PKKHI",292817,"2022-11-05","2022-11-09",223.15,"BL"]
[{"$f":"B880&\":\"&COUNTIF($B$2:B880,B880)","v":"HLCUIZ12209AQFV6:35"},"HLCUIZ12209AQFV6","HLXU6594283","HLCUIZ12209AQFV6","40 Dry","PKKHI",292817,"2022-11-05","2022-11-09",223.15,"BL"]
[{"$f":"B881&\":\"&COUNTIF($B$2:B881,B881)","v":"HLCUIZ12209AQFV6:36"},"HLCUIZ12209AQFV6","HLBU1921508","HLCUIZ12209AQFV6","40 Dry","PKKHI",292817,"2022-11-05","2022-11-09",223.15,"BL"]
[{"$f":"B882&\":\"&COUNTIF($B$2:B882,B882)","v":"HLCUIZ12209AQFV6:37"},"HLCUIZ12209AQFV6","UACU5996581","HLCUIZ12209AQFV6","40 Dry","PKKHI",292817,"2022-11-05","2022-11-09",223.15,"BL"]
[{"$f":"B883&\":\"&COUNTIF($B$2:B883,B883)","v":"HLCUIZ12209AQFV6:38"},"HLCUIZ12209AQFV6","HLXU8152172","HLCUIZ12209AQFV6","40 Dry","PKKHI",292817,"2022-11-05","2022-11-09",223.15,"BL"]
[{"$f":"B884&\":\"&COUNTIF($B$2:B884,B884)","v":"HLCUIZ12209AQFV6:39"},"HLCUIZ12209AQFV6","TGHU6219924","HLCUIZ12209AQFV6","40 Dry","PKKHI",292817,"2022-11-05","2022-11-09",223.15,"BL"]
[{"$f":"B885&\":\"&COUNTIF($B$2:B885,B885)","v":"HLCUIZ12209AQFV6:40"},"HLCUIZ12209AQFV6","UACU5605136","HLCUIZ12209AQFV6","40 Dry","PKKHI",292817,"2022-11-05","2022-11-09",223.15,"BL"]
[{"$f":"B886&\":\"&COUNTIF($B$2:B886,B886)","v":"HLCUIZ12209AQFV6:41"},"HLCUIZ12209AQFV6","BEAU6000880","HLCUIZ12209AQFV6","40 Dry","PKKHI",292817,"2022-11-05","2022-11-09",223.15,"BL"]
[{"$f":"B887&\":\"&COUNTIF($B$2:B887,B887)","v":"HLCUSYD220857039:1"},"HLCUSYD220857039","TCLU5370979","HLCUSYD220857039","40 Dry","PKKHI",292817,"2022-11-05","2022-11-18",223.15,"SW"]
[{"$f":"B888&\":\"&COUNTIF($B$2:B888,B888)","v":"HLCUSYD220950736:1"},"HLCUSYD220950736","HLBU2133774","HLCUSYD220950736","40 Dry","PKKHI",292817,"2022-11-05","2022-11-18",223.15,"SW"]
[{"$f":"B889&\":\"&COUNTIF($B$2:B889,B889)","v":"HLCUSYD220950736:2"},"HLCUSYD220950736","BSIU9724663","HLCUSYD220950736","40 Dry","PKKHI",292817,"2022-11-05","2022-11-18",223.15,"SW"]
[{"$f":"B890&\":\"&COUNTIF($B$2:B890,B890)","v":"HLCUDX3221029032:1"},"HLCUDX3221029032","UETU2727644","HLCUDX3221029032","20 Dry","PKKHI",292817,"2022-11-05","2022-11-09",223.15,"BL"]
[{"$f":"B891&\":\"&COUNTIF($B$2:B891,B891)","v":"HLCUALY220924040:1"},"HLCUALY220924040","HLBU2777041","HLCUALY220924040","40 Dry","PKKHI",292817,"2022-11-05","2022-11-09",223.15,"BL"]
[{"$f":"B892&\":\"&COUNTIF($B$2:B892,B892)","v":"HLCUALY220924040:2"},"HLCUALY220924040","DFSU7415785","HLCUALY220924040","40 Dry","PKKHI",292817,"2022-11-05","2022-11-09",223.15,"BL"]
[{"$f":"B893&\":\"&COUNTIF($B$2:B893,B893)","v":"HLCUALY220924040:3"},"HLCUALY220924040","HLBU2920342","HLCUALY220924040","40 Dry","PKKHI",292817,"2022-11-05","2022-11-09",223.15,"BL"]
[{"$f":"B894&\":\"&COUNTIF($B$2:B894,B894)","v":"HLCUIZ1220985755:1"},"HLCUIZ1220985755","TRIU8192242","HLCUIZ1220985755","40 Reefer","PKKHI",292817,"2022-11-05","2022-11-11",223.15,"BL"]
[{"$f":"B895&\":\"&COUNTIF($B$2:B895,B895)","v":"HLCURUH221004176:1"},"HLCURUH221004176","HLXU8289904","HLCURUH221004176","40 Dry","PKKHI",292817,"2022-11-05","2022-11-25",223.15,"BL"]
[{"$f":"B896&\":\"&COUNTIF($B$2:B896,B896)","v":"HLCURUH221004176:2"},"HLCURUH221004176","HLBU1861902","HLCURUH221004176","40 Dry","PKKHI",292817,"2022-11-05","2022-11-25",223.15,"BL"]
[{"$f":"B897&\":\"&COUNTIF($B$2:B897,B897)","v":"HLCUDX3221029584:1"},"HLCUDX3221029584","UACU5335175","HLCUDX3221029584","40 Dry","PKKHI",292817,"2022-11-05","2022-12-04",223.15,"BL"]
[{"$f":"B898&\":\"&COUNTIF($B$2:B898,B898)","v":"HLCUDX3221029584:2"},"HLCUDX3221029584","TCKU6562881","HLCUDX3221029584","40 Dry","PKKHI",292817,"2022-11-05","2022-12-04",223.15,"BL"]
[{"$f":"B899&\":\"&COUNTIF($B$2:B899,B899)","v":"HLCUMCT221002084:1"},"HLCUMCT221002084","UACU5202320","HLCUMCT221002084","40 Dry","PKKHI",292817,"2022-11-06","2022-11-19",223.15,"BL"]
[{"$f":"B900&\":\"&COUNTIF($B$2:B900,B900)","v":"HLCUMCT221002084:2"},"HLCUMCT221002084","FANU1505626","HLCUMCT221002084","40 Dry","PKKHI",292817,"2022-11-05","2022-11-18",223.15,"BL"]
[{"$f":"B901&\":\"&COUNTIF($B$2:B901,B901)","v":"HLCUMCT221002084:3"},"HLCUMCT221002084","UACU5863660","HLCUMCT221002084","40 Dry","PKKHI",292817,"2022-11-06","2022-11-19",223.15,"BL"]
[{"$f":"B902&\":\"&COUNTIF($B$2:B902,B902)","v":"HLCUMCT221002084:4"},"HLCUMCT221002084","UACU5808724","HLCUMCT221002084","40 Dry","PKKHI",292817,"2022-11-05","2022-11-18",223.15,"BL"]
[{"$f":"B903&\":\"&COUNTIF($B$2:B903,B903)","v":"HLCURUH221003235:1"},"HLCURUH221003235","SEKU6343757","HLCURUH221003235","40 Dry","PKKHI",292817,"2022-11-05","2022-11-25",223.15,"BL"]
[{"$f":"B904&\":\"&COUNTIF($B$2:B904,B904)","v":"HLCURUH221003235:2"},"HLCURUH221003235","FANU3119474","HLCURUH221003235","40 Dry","PKKHI",292817,"2022-11-05","2022-11-25",223.15,"BL"]
[{"$f":"B905&\":\"&COUNTIF($B$2:B905,B905)","v":"HLCURUH221003235:3"},"HLCURUH221003235","TLLU5241481","HLCURUH221003235","40 Dry","PKKHI",292817,"2022-11-05","2022-11-25",223.15,"BL"]
[{"$f":"B906&\":\"&COUNTIF($B$2:B906,B906)","v":"HLCURUH221003235:4"},"HLCURUH221003235","TGHU6266926","HLCURUH221003235","40 Dry","PKKHI",292817,"2022-11-05","2022-11-25",223.15,"BL"]
[{"$f":"B907&\":\"&COUNTIF($B$2:B907,B907)","v":"HLCURUH221003235:5"},"HLCURUH221003235","FSCU4693941","HLCURUH221003235","40 Dry","PKKHI",292817,"2022-11-05","2022-11-25",223.15,"BL"]
[{"$f":"B908&\":\"&COUNTIF($B$2:B908,B908)","v":"HLCUDOH221001670:1"},"HLCUDOH221001670","BMOU4266520","HLCUDOH221001670","40 Dry","PKKHI",292817,"2022-11-05","2022-11-18",223.15,"BL"]
[{"$f":"B909&\":\"&COUNTIF($B$2:B909,B909)","v":"HLCUDOH221001670:2"},"HLCUDOH221001670","HLXU6520552","HLCUDOH221001670","40 Dry","PKKHI",292817,"2022-11-05","2022-11-18",223.15,"BL"]
[{"$f":"B910&\":\"&COUNTIF($B$2:B910,B910)","v":"HLCUDOH221001670:3"},"HLCUDOH221001670","HLXU6563699","HLCUDOH221001670","40 Dry","PKKHI",292817,"2022-11-05","2022-11-18",223.15,"BL"]
[{"$f":"B911&\":\"&COUNTIF($B$2:B911,B911)","v":"HLCUDOH221001670:4"},"HLCUDOH221001670","SEGU5803684","HLCUDOH221001670","40 Dry","PKKHI",292817,"2022-11-05","2022-11-18",223.15,"BL"]
[{"$f":"B912&\":\"&COUNTIF($B$2:B912,B912)","v":"HLCURUH221004143:1"},"HLCURUH221004143","MTSU9657845","HLCURUH221004143","40 Dry","PKKHI",292817,"2022-11-05","2022-11-25",223.15,"BL"]
[{"$f":"B913&\":\"&COUNTIF($B$2:B913,B913)","v":"HLCURUH221004143:2"},"HLCURUH221004143","FCIU7496660","HLCURUH221004143","40 Dry","PKKHI",292817,"2022-11-05","2022-11-25",223.15,"BL"]
[{"$f":"B914&\":\"&COUNTIF($B$2:B914,B914)","v":"HLCURUH221004143:3"},"HLCURUH221004143","FANU1025801","HLCURUH221004143","40 Dry","PKKHI",292817,"2022-11-05","2022-11-25",223.15,"BL"]
[{"$f":"B915&\":\"&COUNTIF($B$2:B915,B915)","v":"HLCURUH221004143:4"},"HLCURUH221004143","UACU6004145","HLCURUH221004143","40 Dry","PKKHI",292817,"2022-11-05","2022-11-25",223.15,"BL"]
[{"$f":"B916&\":\"&COUNTIF($B$2:B916,B916)","v":"HLCUSYD220864980:1"},"HLCUSYD220864980","TCLU9407715","HLCUSYD220864980","40 Dry","PKKHI",292817,"2022-11-05","2022-11-09",223.15,"SW"]
[{"$f":"B917&\":\"&COUNTIF($B$2:B917,B917)","v":"HLCURUH221003257:1"},"HLCURUH221003257","HLBU2465969","HLCURUH221003257","40 Dry","PKKHI",292817,"2022-11-05","2022-11-25",223.15,"BL"]
[{"$f":"B918&\":\"&COUNTIF($B$2:B918,B918)","v":"HLCUDA3220905014:1"},"HLCUDA3220905014","SEGU5145789","HLCUDA3220905014","40 Dry","PKKHI",292817,"2022-11-05","2022-11-14",223.15,"BL"]
[{"$f":"B919&\":\"&COUNTIF($B$2:B919,B919)","v":"HLCUDA3220905014:2"},"HLCUDA3220905014","TXGU7185408","HLCUDA3220905014","40 Dry","PKKHI",292817,"2022-11-05","2022-11-14",223.15,"BL"]
[{"$f":"B920&\":\"&COUNTIF($B$2:B920,B920)","v":"HLCUDA3220905014:3"},"HLCUDA3220905014","HLXU8224903","HLCUDA3220905014","40 Dry","PKKHI",292817,"2022-11-05","2022-11-14",223.15,"BL"]
[{"$f":"B921&\":\"&COUNTIF($B$2:B921,B921)","v":"HLCUDA3220905014:4"},"HLCUDA3220905014","UACU5487244","HLCUDA3220905014","40 Dry","PKKHI",292817,"2022-11-05","2022-11-14",223.15,"BL"]
[{"$f":"B922&\":\"&COUNTIF($B$2:B922,B922)","v":"HLCUDX3221030882:1"},"HLCUDX3221030882","TGBU9689909","HLCUDX3221030882","40 Dry","PKKHI",292817,"2022-11-05","2022-11-18",223.15,"BL"]
[{"$f":"B923&\":\"&COUNTIF($B$2:B923,B923)","v":"HLCUDX3221030882:2"},"HLCUDX3221030882","FANU1600048","HLCUDX3221030882","40 Dry","PKKHI",292817,"2022-11-05","2022-11-18",223.15,"BL"]
[{"$f":"B924&\":\"&COUNTIF($B$2:B924,B924)","v":"HLCUSYD220906434:1"},"HLCUSYD220906434","FANU1651580","HLCUSYD220906434","40 Dry","PKKHI",292817,"2022-11-05","2022-11-18",223.15,"SW"]
[{"$f":"B925&\":\"&COUNTIF($B$2:B925,B925)","v":"HLCUSYD220906434:2"},"HLCUSYD220906434","PCIU9483168","HLCUSYD220906434","40 Dry","PKKHI",292817,"2022-11-05","2022-11-18",223.15,"SW"]
[{"$f":"B926&\":\"&COUNTIF($B$2:B926,B926)","v":"HLCUSYD220906434:3"},"HLCUSYD220906434","CAIU9768218","HLCUSYD220906434","40 Dry","PKKHI",292817,"2022-11-05","2022-11-18",223.15,"SW"]
[{"$f":"B927&\":\"&COUNTIF($B$2:B927,B927)","v":"HLCURUH221003900:1"},"HLCURUH221003900","FANU1763174","HLCURUH221003900","40 Dry","PKKHI",292817,"2022-11-05","2022-11-25",223.15,"BL"]
[{"$f":"B928&\":\"&COUNTIF($B$2:B928,B928)","v":"HLCURUH221003900:2"},"HLCURUH221003900","FSCU6731830","HLCURUH221003900","40 Dry","PKKHI",292817,"2022-11-05","2022-11-25",223.15,"BL"]
[{"$f":"B929&\":\"&COUNTIF($B$2:B929,B929)","v":"HLCURUH221003900:3"},"HLCURUH221003900","TCLU5039322","HLCURUH221003900","40 Dry","PKKHI",292817,"2022-11-05","2022-11-25",223.15,"BL"]
[{"$f":"B930&\":\"&COUNTIF($B$2:B930,B930)","v":"HLCURUH221003900:4"},"HLCURUH221003900","UACU5503860","HLCURUH221003900","40 Dry","PKKHI",292817,"2022-11-05","2022-11-25",223.15,"BL"]
[{"$f":"B931&\":\"&COUNTIF($B$2:B931,B931)","v":"HLCURUH221003900:5"},"HLCURUH221003900","BEAU5368815","HLCURUH221003900","40 Dry","PKKHI",292817,"2022-11-05","2022-11-25",223.15,"BL"]
[{"$f":"B932&\":\"&COUNTIF($B$2:B932,B932)","v":"HLCURUH221003900:6"},"HLCURUH221003900","FSCU7154331","HLCURUH221003900","40 Dry","PKKHI",292817,"2022-11-05","2022-11-25",223.15,"BL"]
[{"$f":"B933&\":\"&COUNTIF($B$2:B933,B933)","v":"HLCURUH221003900:7"},"HLCURUH221003900","TCLU8277751","HLCURUH221003900","40 Dry","PKKHI",292817,"2022-11-05","2022-11-25",223.15,"BL"]
[{"$f":"B934&\":\"&COUNTIF($B$2:B934,B934)","v":"HLCURUH221003900:8"},"HLCURUH221003900","BMOU6641580","HLCURUH221003900","40 Dry","PKKHI",292817,"2022-11-05","2022-11-25",223.15,"BL"]
[{"$f":"B935&\":\"&COUNTIF($B$2:B935,B935)","v":"HLCUDX3221031439:1"},"HLCUDX3221031439","BEAU5990686","HLCUDX3221031439","40 Dry","PKKHI",292817,"2022-11-05","2022-11-18",223.15,"BL"]
[{"$f":"B936&\":\"&COUNTIF($B$2:B936,B936)","v":"HLCUDX3221031439:2"},"HLCUDX3221031439","UACU5873674","HLCUDX3221031439","40 Dry","PKKHI",292817,"2022-11-05","2022-11-18",223.15,"BL"]
[{"$f":"B937&\":\"&COUNTIF($B$2:B937,B937)","v":"HLCUDX3221031439:3"},"HLCUDX3221031439","HLBU2475340","HLCUDX3221031439","40 Dry","PKKHI",292817,"2022-11-05","2022-11-18",223.15,"BL"]
[{"$f":"B938&\":\"&COUNTIF($B$2:B938,B938)","v":"HLCUDX3221031439:4"},"HLCUDX3221031439","UACU5904944","HLCUDX3221031439","40 Dry","PKKHI",292817,"2022-11-05","2022-11-18",223.15,"BL"]
[{"$f":"B939&\":\"&COUNTIF($B$2:B939,B939)","v":"HLCUDX3221031439:5"},"HLCUDX3221031439","UACU5928041","HLCUDX3221031439","40 Dry","PKKHI",292817,"2022-11-05","2022-11-18",223.15,"BL"]
[{"$f":"B940&\":\"&COUNTIF($B$2:B940,B940)","v":"HLCUDX3221031439:6"},"HLCUDX3221031439","FCIU8447546","HLCUDX3221031439","40 Dry","PKKHI",292817,"2022-11-05","2022-11-18",223.15,"BL"]
[{"$f":"B941&\":\"&COUNTIF($B$2:B941,B941)","v":"HLCUDM2221003261:1"},"HLCUDM2221003261","HLBU1715364","HLCUDM2221003261","40 Dry","PKKHI",292817,"2022-11-05","2022-11-25",223.15,"BL"]
[{"$f":"B942&\":\"&COUNTIF($B$2:B942,B942)","v":"HLCUDM2221003261:2"},"HLCUDM2221003261","HLBU2411197","HLCUDM2221003261","40 Dry","PKKHI",292817,"2022-11-05","2022-11-25",223.15,"BL"]
[{"$f":"B943&\":\"&COUNTIF($B$2:B943,B943)","v":"HLCUDM2221003261:3"},"HLCUDM2221003261","GLDU9363950","HLCUDM2221003261","40 Dry","PKKHI",292817,"2022-11-05","2022-11-25",223.15,"BL"]
[{"$f":"B944&\":\"&COUNTIF($B$2:B944,B944)","v":"HLCUDM2221003261:4"},"HLCUDM2221003261","HLBU1630035","HLCUDM2221003261","40 Dry","PKKHI",292817,"2022-11-05","2022-11-25",223.15,"BL"]
[{"$f":"B945&\":\"&COUNTIF($B$2:B945,B945)","v":"HLCUDM2221003261:5"},"HLCUDM2221003261","UACU5177085","HLCUDM2221003261","40 Dry","PKKHI",292817,"2022-11-05","2022-11-25",223.15,"BL"]
[{"$f":"B946&\":\"&COUNTIF($B$2:B946,B946)","v":"HLCUDM2221003261:6"},"HLCUDM2221003261","CAIU4299252","HLCUDM2221003261","40 Dry","PKKHI",292817,"2022-11-05","2022-11-25",223.15,"BL"]
[{"$f":"B947&\":\"&COUNTIF($B$2:B947,B947)","v":"HLCUDM2221003261:7"},"HLCUDM2221003261","NIDU5173993","HLCUDM2221003261","40 Dry","PKKHI",292817,"2022-11-05","2022-11-25",223.15,"BL"]
[{"$f":"B948&\":\"&COUNTIF($B$2:B948,B948)","v":"HLCUDM2221003261:8"},"HLCUDM2221003261","HLBU3338779","HLCUDM2221003261","40 Dry","PKKHI",292817,"2022-11-05","2022-11-25",223.15,"BL"]
[{"$f":"B949&\":\"&COUNTIF($B$2:B949,B949)","v":"HLCUDM2221003261:9"},"HLCUDM2221003261","TCNU3259562","HLCUDM2221003261","40 Dry","PKKHI",292817,"2022-11-05","2022-11-25",223.15,"BL"]
[{"$f":"B950&\":\"&COUNTIF($B$2:B950,B950)","v":"HLCUDM2221003261:10"},"HLCUDM2221003261","FANU1814369","HLCUDM2221003261","40 Dry","PKKHI",292817,"2022-11-05","2022-11-25",223.15,"BL"]
[{"$f":"B951&\":\"&COUNTIF($B$2:B951,B951)","v":"HLCUDM2221003261:11"},"HLCUDM2221003261","FANU1866486","HLCUDM2221003261","40 Dry","PKKHI",292817,"2022-11-05","2022-11-25",223.15,"BL"]
[{"$f":"B952&\":\"&COUNTIF($B$2:B952,B952)","v":"HLCUDM2221003261:12"},"HLCUDM2221003261","FFAU2102030","HLCUDM2221003261","40 Dry","PKKHI",292817,"2022-11-05","2022-11-25",223.15,"BL"]
[{"$f":"B953&\":\"&COUNTIF($B$2:B953,B953)","v":"HLCUALY221002556:1"},"HLCUALY221002556","BEAU2172916","HLCUALY221002556","20 Dry","PKKHI",292817,"2022-11-05","2022-11-16",223.15,"BL"]
[{"$f":"B954&\":\"&COUNTIF($B$2:B954,B954)","v":"HLCUALY221002556:2"},"HLCUALY221002556","GLDU5275681","HLCUALY221002556","20 Dry","PKKHI",292817,"2022-11-05","2022-11-16",223.15,"BL"]
[{"$f":"B955&\":\"&COUNTIF($B$2:B955,B955)","v":"HLCUBAH221001330:1"},"HLCUBAH221001330","UACU3995544","HLCUBAH221001330","20 Dry","PKKHI",292817,"2022-11-05","2022-11-09",223.15,"SW"]
[{"$f":"B956&\":\"&COUNTIF($B$2:B956,B956)","v":"HLCUALY221003570:1"},"HLCUALY221003570","HLBU1610316","HLCUALY221003570","40 Dry","PKKHI",292817,"2022-11-05","2022-11-11",223.15,"BL"]
[{"$f":"B957&\":\"&COUNTIF($B$2:B957,B957)","v":"HLCUDA3220905025:1"},"HLCUDA3220905025","UACU5085564","HLCUDA3220905025","40 Dry","PKKHI",292817,"2022-11-05","2022-11-14",223.15,"BL"]
[{"$f":"B958&\":\"&COUNTIF($B$2:B958,B958)","v":"HLCUDA3220905025:2"},"HLCUDA3220905025","HLBU2116268","HLCUDA3220905025","40 Dry","PKKHI",292817,"2022-11-05","2022-11-14",223.15,"BL"]
[{"$f":"B959&\":\"&COUNTIF($B$2:B959,B959)","v":"HLCUDA3220905025:3"},"HLCUDA3220905025","FANU3174316","HLCUDA3220905025","40 Dry","PKKHI",292817,"2022-11-05","2022-11-14",223.15,"BL"]
[{"$f":"B960&\":\"&COUNTIF($B$2:B960,B960)","v":"HLCUDA3220905025:4"},"HLCUDA3220905025","HLBU3185371","HLCUDA3220905025","40 Dry","PKKHI",292817,"2022-11-05","2022-11-14",223.15,"BL"]
[{"$f":"B961&\":\"&COUNTIF($B$2:B961,B961)","v":"HLCUDA3220905025:5"},"HLCUDA3220905025","FFAU1196360","HLCUDA3220905025","40 Dry","PKKHI",292817,"2022-11-05","2022-11-14",223.15,"BL"]
[{"$f":"B962&\":\"&COUNTIF($B$2:B962,B962)","v":"HLCUDA3220905025:6"},"HLCUDA3220905025","BMOU6630689","HLCUDA3220905025","40 Dry","PKKHI",292817,"2022-11-05","2022-11-14",223.15,"BL"]
[{"$f":"B963&\":\"&COUNTIF($B$2:B963,B963)","v":"HLCURUH221004059:1"},"HLCURUH221004059","FANU3187566","HLCURUH221004059","40 Dry","PKKHI",292817,"2022-11-05","2022-11-25",223.15,"BL"]
[{"$f":"B964&\":\"&COUNTIF($B$2:B964,B964)","v":"HLCURUH221004059:2"},"HLCURUH221004059","HAMU1236870","HLCURUH221004059","40 Dry","PKKHI",292817,"2022-11-05","2022-11-25",223.15,"BL"]
[{"$f":"B965&\":\"&COUNTIF($B$2:B965,B965)","v":"HLCURUH221004059:3"},"HLCURUH221004059","HLBU2507426","HLCURUH221004059","40 Dry","PKKHI",292817,"2022-11-05","2022-11-25",223.15,"BL"]
[{"$f":"B966&\":\"&COUNTIF($B$2:B966,B966)","v":"HLCURUH221004059:4"},"HLCURUH221004059","UACU5663997","HLCURUH221004059","40 Dry","PKKHI",292817,"2022-11-05","2022-11-25",223.15,"BL"]
[{"$f":"B967&\":\"&COUNTIF($B$2:B967,B967)","v":"HLCURUH221004059:5"},"HLCURUH221004059","HAMU1313920","HLCURUH221004059","40 Dry","PKKHI",292817,"2022-11-05","2022-11-25",223.15,"BL"]
[{"$f":"B968&\":\"&COUNTIF($B$2:B968,B968)","v":"HLCUALY221002406:1"},"HLCUALY221002406","TCKU3628286","HLCUALY221002406","20 Dry","PKKHI",292817,"2022-11-05","2022-11-16",223.15,"BL"]
[{"$f":"B969&\":\"&COUNTIF($B$2:B969,B969)","v":"HLCUALY221002406:2"},"HLCUALY221002406","GLDU5542263","HLCUALY221002406","20 Dry","PKKHI",292817,"2022-11-05","2022-11-16",223.15,"BL"]
[{"$f":"B970&\":\"&COUNTIF($B$2:B970,B970)","v":"HLCUMCT221002410:1"},"HLCUMCT221002410","HLBU2421030","HLCUMCT221002410","40 Dry","PKKHI",292817,"2022-11-05","2022-11-18",223.15,"BL"]
[{"$f":"B971&\":\"&COUNTIF($B$2:B971,B971)","v":"HLCUMCT221002410:2"},"HLCUMCT221002410","HLXU8585871","HLCUMCT221002410","40 Dry","PKKHI",292817,"2022-11-05","2022-11-18",223.15,"BL"]
[{"$f":"B972&\":\"&COUNTIF($B$2:B972,B972)","v":"HLCUMCT221002410:3"},"HLCUMCT221002410","TCNU8372695","HLCUMCT221002410","40 Dry","PKKHI",292817,"2022-11-05","2022-11-18",223.15,"BL"]
[{"$f":"B973&\":\"&COUNTIF($B$2:B973,B973)","v":"HLCUMCT221002410:4"},"HLCUMCT221002410","TCKU6605860","HLCUMCT221002410","40 Dry","PKKHI",292817,"2022-11-05","2022-11-18",223.15,"BL"]
[{"$f":"B974&\":\"&COUNTIF($B$2:B974,B974)","v":"HLCUMCT221002410:5"},"HLCUMCT221002410","UACU5084001","HLCUMCT221002410","40 Dry","PKKHI",292817,"2022-11-06","2022-11-19",223.15,"BL"]
[{"$f":"B975&\":\"&COUNTIF($B$2:B975,B975)","v":"HLCUMCT221002410:6"},"HLCUMCT221002410","FFAU1174381","HLCUMCT221002410","40 Dry","PKKHI",292817,"2022-11-05","2022-11-18",223.15,"BL"]
[{"$f":"B976&\":\"&COUNTIF($B$2:B976,B976)","v":"HLCUMCT221002410:7"},"HLCUMCT221002410","UETU5815902","HLCUMCT221002410","40 Dry","PKKHI",292817,"2022-11-05","2022-11-18",223.15,"BL"]
[{"$f":"B977&\":\"&COUNTIF($B$2:B977,B977)","v":"HLCUMCT221002410:8"},"HLCUMCT221002410","BMOU4526839","HLCUMCT221002410","40 Dry","PKKHI",292817,"2022-11-05","2022-11-18",223.15,"BL"]
[{"$f":"B978&\":\"&COUNTIF($B$2:B978,B978)","v":"HLCUMCT221002410:9"},"HLCUMCT221002410","HLXU8406620","HLCUMCT221002410","40 Dry","PKKHI",292817,"2022-11-05","2022-11-18",223.15,"BL"]
[{"$f":"B979&\":\"&COUNTIF($B$2:B979,B979)","v":"HLCUMCT221002410:10"},"HLCUMCT221002410","TCNU9872890","HLCUMCT221002410","40 Dry","PKKHI",292817,"2022-11-06","2022-11-19",223.15,"BL"]
[{"$f":"B980&\":\"&COUNTIF($B$2:B980,B980)","v":"HLCUKW3221001361:1"},"HLCUKW3221001361","HAMU1203408","HLCUKW3221001361","40 Dry","PKKHI",292817,"2022-11-05","2022-11-22",223.15,"BL"]
[{"$f":"B981&\":\"&COUNTIF($B$2:B981,B981)","v":"HLCUKW3221001361:2"},"HLCUKW3221001361","HLBU2396472","HLCUKW3221001361","40 Dry","PKKHI",292817,"2022-11-05","2022-11-22",223.15,"BL"]
[{"$f":"B982&\":\"&COUNTIF($B$2:B982,B982)","v":"HLCUKW3221001361:3"},"HLCUKW3221001361","CAAU5542507","HLCUKW3221001361","40 Dry","PKKHI",292817,"2022-11-05","2022-11-22",223.15,"BL"]
[{"$f":"B983&\":\"&COUNTIF($B$2:B983,B983)","v":"HLCUKW3221001361:4"},"HLCUKW3221001361","UASU1017434","HLCUKW3221001361","40 Dry","PKKHI",292817,"2022-11-05","2022-11-22",223.15,"BL"]
[{"$f":"B984&\":\"&COUNTIF($B$2:B984,B984)","v":"HLCUKW3221001361:5"},"HLCUKW3221001361","PCIU9195670","HLCUKW3221001361","40 Dry","PKKHI",292817,"2022-11-05","2022-11-22",223.15,"BL"]
[{"$f":"B985&\":\"&COUNTIF($B$2:B985,B985)","v":"HLCUKW3221001361:6"},"HLCUKW3221001361","HLBU3356920","HLCUKW3221001361","40 Dry","PKKHI",292817,"2022-11-05","2022-11-22",223.15,"BL"]
[{"$f":"B986&\":\"&COUNTIF($B$2:B986,B986)","v":"HLCUDX3221028497:1"},"HLCUDX3221028497","HLBU3041097","HLCUDX3221028497","20 Dry","PKKHI",292817,"2022-11-05","2022-11-09",223.15,"BL"]
[{"$f":"B987&\":\"&COUNTIF($B$2:B987,B987)","v":"HLCURUH221004037:1"},"HLCURUH221004037","CAIU8254512","HLCURUH221004037","40 Dry","PKKHI",292817,"2022-11-05","2022-11-25",223.15,"BL"]
[{"$f":"B988&\":\"&COUNTIF($B$2:B988,B988)","v":"HLCURUH221004037:2"},"HLCURUH221004037","UACU5636712","HLCURUH221004037","40 Dry","PKKHI",292817,"2022-11-05","2022-11-25",223.15,"BL"]
[{"$f":"B989&\":\"&COUNTIF($B$2:B989,B989)","v":"HLCUDOH221003062:1"},"HLCUDOH221003062","CAIU7945063","HLCUDOH221003062","40 Dry","PKKHI",292817,"2022-11-05","2022-11-18",223.15,"BL"]
[{"$f":"B990&\":\"&COUNTIF($B$2:B990,B990)","v":"HLCUDOH221003062:2"},"HLCUDOH221003062","FDCU0194499","HLCUDOH221003062","40 Dry","PKKHI",292817,"2022-11-05","2022-11-18",223.15,"BL"]
[{"$f":"B991&\":\"&COUNTIF($B$2:B991,B991)","v":"HLCUDOH221003062:3"},"HLCUDOH221003062","FSCU8232207","HLCUDOH221003062","40 Dry","PKKHI",292817,"2022-11-05","2022-11-18",223.15,"BL"]
[{"$f":"B992&\":\"&COUNTIF($B$2:B992,B992)","v":"HLCUDOH221003062:4"},"HLCUDOH221003062","HLBU1938012","HLCUDOH221003062","40 Dry","PKKHI",292817,"2022-11-05","2022-11-18",223.15,"BL"]
[{"$f":"B993&\":\"&COUNTIF($B$2:B993,B993)","v":"HLCUDOH221003062:5"},"HLCUDOH221003062","HLXU8023513","HLCUDOH221003062","40 Dry","PKKHI",292817,"2022-11-05","2022-11-18",223.15,"BL"]
[{"$f":"B994&\":\"&COUNTIF($B$2:B994,B994)","v":"HLCUDOH221003062:6"},"HLCUDOH221003062","SEGU5658652","HLCUDOH221003062","40 Dry","PKKHI",292817,"2022-11-05","2022-11-18",223.15,"BL"]
[{"$f":"B995&\":\"&COUNTIF($B$2:B995,B995)","v":"HLCUDOH221003062:7"},"HLCUDOH221003062","TCLU9547888","HLCUDOH221003062","40 Dry","PKKHI",292817,"2022-11-05","2022-11-18",223.15,"BL"]
[{"$f":"B996&\":\"&COUNTIF($B$2:B996,B996)","v":"HLCUDOH221003062:8"},"HLCUDOH221003062","TCNU7890278","HLCUDOH221003062","40 Dry","PKKHI",292817,"2022-11-05","2022-11-18",223.15,"BL"]
[{"$f":"B997&\":\"&COUNTIF($B$2:B997,B997)","v":"HLCUDOH221003062:9"},"HLCUDOH221003062","TGCU0215224","HLCUDOH221003062","40 Dry","PKKHI",292817,"2022-11-05","2022-11-18",223.15,"BL"]
[{"$f":"B998&\":\"&COUNTIF($B$2:B998,B998)","v":"HLCUDOH221003062:10"},"HLCUDOH221003062","TGHU6161400","HLCUDOH221003062","40 Dry","PKKHI",292817,"2022-11-05","2022-11-18",223.15,"BL"]
[{"$f":"B999&\":\"&COUNTIF($B$2:B999,B999)","v":"HLCUSYD220916653:1"},"HLCUSYD220916653","HLXU1111361","HLCUSYD220916653","20 Dry","PKKHI",292817,"2022-11-05","2022-11-09",223.15,"SW"]
[{"$f":"B1000&\":\"&COUNTIF($B$2:B1000,B1000)","v":"HLCUMB1220903343:1"},"HLCUMB1220903343","HLBU9462299","HLCUMB1220903343","20 Reefer","PKKHI",292817,"2022-11-05","2022-11-07",223.15,"BL"]
[{"$f":"B1001&\":\"&COUNTIF($B$2:B1001,B1001)","v":"HLCUMB1220903343:2"},"HLCUMB1220903343","HLBU9188260","HLCUMB1220903343","20 Reefer","PKKHI",292817,"2022-11-05","2022-11-07",223.15,"BL"]
[{"$f":"B1002&\":\"&COUNTIF($B$2:B1002,B1002)","v":"HLCUSYD220865621:1"},"HLCUSYD220865621","FANU1750541","HLCUSYD220865621","40 Dry","PKKHI",292817,"2022-11-05","2022-11-18",223.15,"SW"]
[{"$f":"B1003&\":\"&COUNTIF($B$2:B1003,B1003)","v":"HLCUSYD220865621:2"},"HLCUSYD220865621","TCLU5033704","HLCUSYD220865621","40 Dry","PKKHI",292817,"2022-11-05","2022-11-18",223.15,"SW"]
[{"$f":"B1004&\":\"&COUNTIF($B$2:B1004,B1004)","v":"HLCURUH221000640:1"},"HLCURUH221000640","SLSU8046966","HLCURUH221000640","40 Dry","PKKHI",292817,"2022-11-05","2022-11-25",223.15,"BL"]
[{"$f":"B1005&\":\"&COUNTIF($B$2:B1005,B1005)","v":"HLCURUH221000640:2"},"HLCURUH221000640","HLBU3142338","HLCURUH221000640","40 Dry","PKKHI",292817,"2022-11-05","2022-11-25",223.15,"BL"]
[{"$f":"B1006&\":\"&COUNTIF($B$2:B1006,B1006)","v":"HLCURUH221000640:3"},"HLCURUH221000640","HLBU2192838","HLCURUH221000640","40 Dry","PKKHI",292817,"2022-11-05","2022-11-25",223.15,"BL"]
[{"$f":"B1007&\":\"&COUNTIF($B$2:B1007,B1007)","v":"HLCURUH221000640:4"},"HLCURUH221000640","TCNU7542204","HLCURUH221000640","40 Dry","PKKHI",292817,"2022-11-05","2022-11-25",223.15,"BL"]
[{"$f":"B1008&\":\"&COUNTIF($B$2:B1008,B1008)","v":"HLCURUH221000640:5"},"HLCURUH221000640","TRLU7100971","HLCURUH221000640","40 Dry","PKKHI",292817,"2022-11-05","2022-11-25",223.15,"BL"]
[{"$f":"B1009&\":\"&COUNTIF($B$2:B1009,B1009)","v":"HLCURUH221000640:6"},"HLCURUH221000640","UACU5861082","HLCURUH221000640","40 Dry","PKKHI",292817,"2022-11-05","2022-11-25",223.15,"BL"]
[{"$f":"B1010&\":\"&COUNTIF($B$2:B1010,B1010)","v":"HLCURUH221000640:7"},"HLCURUH221000640","FANU1996860","HLCURUH221000640","40 Dry","PKKHI",292817,"2022-11-05","2022-11-25",223.15,"BL"]
[{"$f":"B1011&\":\"&COUNTIF($B$2:B1011,B1011)","v":"HLCURUH221000640:8"},"HLCURUH221000640","HLBU2683831","HLCURUH221000640","40 Dry","PKKHI",292817,"2022-11-05","2022-11-25",223.15,"BL"]
[{"$f":"B1012&\":\"&COUNTIF($B$2:B1012,B1012)","v":"HLCURUH221000640:9"},"HLCURUH221000640","TCLU4134032","HLCURUH221000640","40 Dry","PKKHI",292817,"2022-11-05","2022-11-25",223.15,"BL"]
[{"$f":"B1013&\":\"&COUNTIF($B$2:B1013,B1013)","v":"HLCURUH221000640:10"},"HLCURUH221000640","FANU1045752","HLCURUH221000640","40 Dry","PKKHI",292817,"2022-11-05","2022-11-25",223.15,"BL"]
[{"$f":"B1014&\":\"&COUNTIF($B$2:B1014,B1014)","v":"HLCUTOR220834731:1"},"HLCUTOR220834731","UACU5220242","HLCUTOR220834731","40 Dry","PKKHI",292817,"2022-11-05","2022-11-16",223.15,"SW"]
[{"$f":"B1015&\":\"&COUNTIF($B$2:B1015,B1015)","v":"HLCUTOR220832430:1"},"HLCUTOR220832430","TCNU1377838","HLCUTOR220832430","40 Dry","PKKHI",292817,"2022-11-05","2022-11-16",223.15,"SW"]
[{"$f":"B1016&\":\"&COUNTIF($B$2:B1016,B1016)","v":"HLCUTOR220802072:1"},"HLCUTOR220802072","TCKU6547980","HLCUTOR220802072","40 Dry","PKKHI",292817,"2022-11-05","2022-11-16",223.15,"SW"]
[{"$f":"B1017&\":\"&COUNTIF($B$2:B1017,B1017)","v":"HLCUTOR220832429:1"},"HLCUTOR220832429","UACU5813232","HLCUTOR220832429","40 Dry","PKKHI",292817,"2022-11-05","2022-11-16",223.15,"SW"]
[{"$f":"B1018&\":\"&COUNTIF($B$2:B1018,B1018)","v":"HLCUBU3220901520:1"},"HLCUBU3220901520","UACU4059940","HLCUBU3220901520","20 Dry","PKKHI",292817,"2022-11-05","2022-11-09",223.15,"BL"]
[{"$f":"B1019&\":\"&COUNTIF($B$2:B1019,B1019)","v":"HLCUTOR220802094:1"},"HLCUTOR220802094","HLBU2921101","HLCUTOR220802094","40 Dry","PKKHI",292817,"2022-11-05","2022-11-16",223.15,"SW"]
[{"$f":"B1020&\":\"&COUNTIF($B$2:B1020,B1020)","v":"HLCUTOR220736170:1"},"HLCUTOR220736170","FANU1955840","HLCUTOR220736170","40 Dry","PKKHI",292817,"2022-11-05","2022-11-16",223.15,"SW"]
[{"$f":"B1021&\":\"&COUNTIF($B$2:B1021,B1021)","v":"HLCUTOR220802017:1"},"HLCUTOR220802017","FANU1639100","HLCUTOR220802017","40 Dry","PKKHI",292817,"2022-11-05","2022-11-16",223.15,"SW"]
[{"$f":"B1022&\":\"&COUNTIF($B$2:B1022,B1022)","v":"HLCUTOR220817821:1"},"HLCUTOR220817821","TGBU5685696","HLCUTOR220817821","40 Dry","PKKHI",292817,"2022-11-05","2022-11-16",223.15,"SW"]
[{"$f":"B1023&\":\"&COUNTIF($B$2:B1023,B1023)","v":"HLCUTOR220802251:1"},"HLCUTOR220802251","AMFU8887934","HLCUTOR220802251","40 Dry","PKKHI",292817,"2022-11-05","2022-11-16",223.15,"SW"]
[{"$f":"B1024&\":\"&COUNTIF($B$2:B1024,B1024)","v":"HLCUBSC220995078:1"},"HLCUBSC220995078","HLBU2068560","HLCUBSC220995078","40 Dry","PKKHI",292817,"2022-11-05","2022-11-25",223.15,"BL"]
[{"$f":"B1025&\":\"&COUNTIF($B$2:B1025,B1025)","v":"HLCUTOR220802580:1"},"HLCUTOR220802580","HLBU3092290","HLCUTOR220802580","40 Dry","PKKHI",292817,"2022-11-05","2022-11-16",223.15,"SW"]
[{"$f":"B1026&\":\"&COUNTIF($B$2:B1026,B1026)","v":"HLCUIZ1220974789:1"},"HLCUIZ1220974789","UACU5338092","HLCUIZ1220974789","40 Dry","PKKHI",292817,"2022-11-05","2022-11-15",223.15,"SW"]
[{"$f":"B1027&\":\"&COUNTIF($B$2:B1027,B1027)","v":"HLCUIZ1220974789:2"},"HLCUIZ1220974789","TGHU9018796","HLCUIZ1220974789","40 Dry","PKKHI",292817,"2022-11-05","2022-11-15",223.15,"SW"]
[{"$f":"B1028&\":\"&COUNTIF($B$2:B1028,B1028)","v":"HLCUTOR220832440:1"},"HLCUTOR220832440","CAAU5501597","HLCUTOR220832440","40 Dry","PKKHI",292817,"2022-11-05","2022-11-16",223.15,"SW"]
[{"$f":"B1029&\":\"&COUNTIF($B$2:B1029,B1029)","v":"HLCUIZ1220974790:1"},"HLCUIZ1220974790","UACU5793080","HLCUIZ1220974790","40 Dry","PKKHI",292817,"2022-11-05","2022-11-15",223.15,"SW"]
[{"$f":"B1030&\":\"&COUNTIF($B$2:B1030,B1030)","v":"HLCUIZ1220974790:2"},"HLCUIZ1220974790","CAIU8524460","HLCUIZ1220974790","40 Dry","PKKHI",292817,"2022-11-05","2022-11-15",223.15,"SW"]
[{"$f":"B1031&\":\"&COUNTIF($B$2:B1031,B1031)","v":"HLCUTOR220821865:1"},"HLCUTOR220821865","UACU5620043","HLCUTOR220821865","40 Dry","PKKHI",292817,"2022-11-05","2022-11-16",223.15,"SW"]
[{"$f":"B1032&\":\"&COUNTIF($B$2:B1032,B1032)","v":"HLCUTOR220736962:1"},"HLCUTOR220736962","UACU5412456","HLCUTOR220736962","40 Dry","PKKHI",292817,"2022-11-05","2022-11-16",223.15,"SW"]
[{"$f":"B1033&\":\"&COUNTIF($B$2:B1033,B1033)","v":"HLCUDX3221027132:1"},"HLCUDX3221027132","HLXU8452499","HLCUDX3221027132","40 Dry","PKKHI",292817,"2022-11-05","2022-11-18",223.15,"SW"]
[{"$f":"B1034&\":\"&COUNTIF($B$2:B1034,B1034)","v":"HLCUALY221000160:1"},"HLCUALY221000160","FCIU6542415","HLCUALY221000160","20 Dry","PKKHI",292817,"2022-11-05","2022-11-16",223.15,"BL"]
[{"$f":"B1035&\":\"&COUNTIF($B$2:B1035,B1035)","v":"HLCUALY221000160:2"},"HLCUALY221000160","FCIU2844696","HLCUALY221000160","20 Dry","PKKHI",292817,"2022-11-05","2022-11-16",223.15,"BL"]
[{"$f":"B1036&\":\"&COUNTIF($B$2:B1036,B1036)","v":"HLCUALY221000160:3"},"HLCUALY221000160","UACU4020403","HLCUALY221000160","20 Dry","PKKHI",292817,"2022-11-05","2022-11-16",223.15,"BL"]
[{"$f":"B1037&\":\"&COUNTIF($B$2:B1037,B1037)","v":"HLCUALY221000160:4"},"HLCUALY221000160","HAMU1133548","HLCUALY221000160","20 Dry","PKKHI",292817,"2022-11-05","2022-11-16",223.15,"BL"]
[{"$f":"B1038&\":\"&COUNTIF($B$2:B1038,B1038)","v":"HLCUALY221003844:1"},"HLCUALY221003844","TEMU3802237","HLCUALY221003844","20 Dry","PKKHI",292817,"2022-11-05","2022-11-16",223.15,"BL"]
[{"$f":"B1039&\":\"&COUNTIF($B$2:B1039,B1039)","v":"HLCUALY221003844:2"},"HLCUALY221003844","FANU1330549","HLCUALY221003844","20 Dry","PKKHI",292817,"2022-11-05","2022-11-16",223.15,"BL"]
[{"$f":"B1040&\":\"&COUNTIF($B$2:B1040,B1040)","v":"HLCUALY221003844:3"},"HLCUALY221003844","HLXU1132148","HLCUALY221003844","20 Dry","PKKHI",292817,"2022-11-05","2022-11-16",223.15,"BL"]
[{"$f":"B1041&\":\"&COUNTIF($B$2:B1041,B1041)","v":"HLCUALY221003844:4"},"HLCUALY221003844","DFSU2691456","HLCUALY221003844","20 Dry","PKKHI",292817,"2022-11-05","2022-11-16",223.15,"BL"]
[{"$f":"B1042&\":\"&COUNTIF($B$2:B1042,B1042)","v":"HLCUDA3221000390:1"},"HLCUDA3221000390","TCNU1597719","HLCUDA3221000390","40 Dry","PKKHI",292817,"2022-11-05","2022-11-14",223.15,"BL"]
[{"$f":"B1043&\":\"&COUNTIF($B$2:B1043,B1043)","v":"HLCUDA3221000390:2"},"HLCUDA3221000390","FANU1275040","HLCUDA3221000390","40 Dry","PKKHI",292817,"2022-11-05","2022-11-14",223.15,"BL"]
[{"$f":"B1044&\":\"&COUNTIF($B$2:B1044,B1044)","v":"HLCUDA3221000390:3"},"HLCUDA3221000390","UACU5748287","HLCUDA3221000390","40 Dry","PKKHI",292817,"2022-11-05","2022-11-14",223.15,"BL"]
[{"$f":"B1045&\":\"&COUNTIF($B$2:B1045,B1045)","v":"HLCUDA3221000390:4"},"HLCUDA3221000390","HLBU2842297","HLCUDA3221000390","40 Dry","PKKHI",292817,"2022-11-05","2022-11-14",223.15,"BL"]
[{"$f":"B1046&\":\"&COUNTIF($B$2:B1046,B1046)","v":"HLCUDA3221000390:5"},"HLCUDA3221000390","HLBU1605454","HLCUDA3221000390","40 Dry","PKKHI",292817,"2022-11-05","2022-11-14",223.15,"BL"]
[{"$f":"B1047&\":\"&COUNTIF($B$2:B1047,B1047)","v":"HLCUDA3221000390:6"},"HLCUDA3221000390","TGHU6494042","HLCUDA3221000390","40 Dry","PKKHI",292817,"2022-11-05","2022-11-14",223.15,"BL"]
[{"$f":"B1048&\":\"&COUNTIF($B$2:B1048,B1048)","v":"HLCUMCT221002391:1"},"HLCUMCT221002391","TCNU8886190","HLCUMCT221002391","40 Dry","PKKHI",292817,"2022-11-05","2022-11-18",223.15,"BL"]
[{"$f":"B1049&\":\"&COUNTIF($B$2:B1049,B1049)","v":"HLCUMCT221002391:2"},"HLCUMCT221002391","DFSU7412430","HLCUMCT221002391","40 Dry","PKKHI",292817,"2022-11-05","2022-11-18",223.15,"BL"]
[{"$f":"B1050&\":\"&COUNTIF($B$2:B1050,B1050)","v":"HLCUMCT221002391:3"},"HLCUMCT221002391","HLBU1546114","HLCUMCT221002391","40 Dry","PKKHI",292817,"2022-11-05","2022-11-18",223.15,"BL"]
[{"$f":"B1051&\":\"&COUNTIF($B$2:B1051,B1051)","v":"HLCUMCT221002391:4"},"HLCUMCT221002391","TLLU5231539","HLCUMCT221002391","40 Dry","PKKHI",292817,"2022-11-05","2022-11-18",223.15,"BL"]
[{"$f":"B1052&\":\"&COUNTIF($B$2:B1052,B1052)","v":"HLCUMCT221002391:5"},"HLCUMCT221002391","GCXU5290800","HLCUMCT221002391","40 Dry","PKKHI",292817,"2022-11-06","2022-11-19",223.15,"BL"]
[{"$f":"B1053&\":\"&COUNTIF($B$2:B1053,B1053)","v":"HLCUMCT221002391:6"},"HLCUMCT221002391","HLBU3142580","HLCUMCT221002391","40 Dry","PKKHI",292817,"2022-11-05","2022-11-18",223.15,"BL"]
[{"$f":"B1054&\":\"&COUNTIF($B$2:B1054,B1054)","v":"HLCUMCT221002391:7"},"HLCUMCT221002391","FANU1845550","HLCUMCT221002391","40 Dry","PKKHI",292817,"2022-11-06","2022-11-19",223.15,"BL"]
[{"$f":"B1055&\":\"&COUNTIF($B$2:B1055,B1055)","v":"HLCUMCT221002391:8"},"HLCUMCT221002391","HLBU2385483","HLCUMCT221002391","40 Dry","PKKHI",292817,"2022-11-05","2022-11-18",223.15,"BL"]
[{"$f":"B1056&\":\"&COUNTIF($B$2:B1056,B1056)","v":"HLCUMCT221002391:9"},"HLCUMCT221002391","UACU5454718","HLCUMCT221002391","40 Dry","PKKHI",292817,"2022-11-05","2022-11-18",223.15,"BL"]
[{"$f":"B1057&\":\"&COUNTIF($B$2:B1057,B1057)","v":"HLCUMCT221002391:10"},"HLCUMCT221002391","CXDU1136327","HLCUMCT221002391","40 Dry","PKKHI",292817,"2022-11-06","2022-11-19",223.15,"BL"]
[{"$f":"B1058&\":\"&COUNTIF($B$2:B1058,B1058)","v":"HLCUDA3221000897:1"},"HLCUDA3221000897","SEGU6944476","HLCUDA3221000897","40 Dry","PKKHI",292817,"2022-11-05","2022-11-14",223.15,"BL"]
[{"$f":"B1059&\":\"&COUNTIF($B$2:B1059,B1059)","v":"HLCUDA3221000897:2"},"HLCUDA3221000897","HLBU3203304","HLCUDA3221000897","40 Dry","PKKHI",292817,"2022-11-05","2022-11-14",223.15,"BL"]
[{"$f":"B1060&\":\"&COUNTIF($B$2:B1060,B1060)","v":"HLCUDA3221000897:3"},"HLCUDA3221000897","FCIU7436070","HLCUDA3221000897","40 Dry","PKKHI",292817,"2022-11-05","2022-11-14",223.15,"BL"]
[{"$f":"B1061&\":\"&COUNTIF($B$2:B1061,B1061)","v":"HLCUDA3221000897:4"},"HLCUDA3221000897","FANU1625724","HLCUDA3221000897","40 Dry","PKKHI",292817,"2022-11-05","2022-11-14",223.15,"BL"]
[{"$f":"B1062&\":\"&COUNTIF($B$2:B1062,B1062)","v":"HLCUDA3221000897:5"},"HLCUDA3221000897","HLXU8575831","HLCUDA3221000897","40 Dry","PKKHI",292817,"2022-11-05","2022-11-14",223.15,"BL"]
[{"$f":"B1063&\":\"&COUNTIF($B$2:B1063,B1063)","v":"HLCUDA3221000897:6"},"HLCUDA3221000897","GESU6563731","HLCUDA3221000897","40 Dry","PKKHI",292817,"2022-11-05","2022-11-14",223.15,"BL"]
[{"$f":"B1064&\":\"&COUNTIF($B$2:B1064,B1064)","v":"HLCUMCT221001607:1"},"HLCUMCT221001607","UACU6059493","HLCUMCT221001607","40 Dry","PKKHI",292817,"2022-11-05","2022-11-18",223.15,"BL"]
[{"$f":"B1065&\":\"&COUNTIF($B$2:B1065,B1065)","v":"HLCUMCT221001768:1"},"HLCUMCT221001768","BMOU4114467","HLCUMCT221001768","40 Dry","PKKHI",292817,"2022-11-05","2022-11-18",223.15,"BL"]
[{"$f":"B1066&\":\"&COUNTIF($B$2:B1066,B1066)","v":"HLCUMCT221001768:2"},"HLCUMCT221001768","UACU6023530","HLCUMCT221001768","40 Dry","PKKHI",292817,"2022-11-05","2022-11-18",223.15,"BL"]
[{"$f":"B1067&\":\"&COUNTIF($B$2:B1067,B1067)","v":"HLCUDA3220905661:1"},"HLCUDA3220905661","BEAU2211611","HLCUDA3220905661","20 Dry","PKKHI",292817,"2022-11-05","2022-11-18",223.15,"BL"]
[{"$f":"B1068&\":\"&COUNTIF($B$2:B1068,B1068)","v":"HLCUDA3220905661:2"},"HLCUDA3220905661","BSIU2459803","HLCUDA3220905661","20 Dry","PKKHI",292817,"2022-11-06","2022-11-19",223.15,"BL"]
[{"$f":"B1069&\":\"&COUNTIF($B$2:B1069,B1069)","v":"HLCUDA3220905661:3"},"HLCUDA3220905661","FCIU2525174","HLCUDA3220905661","20 Dry","PKKHI",292817,"2022-11-06","2022-11-19",223.15,"BL"]
[{"$f":"B1070&\":\"&COUNTIF($B$2:B1070,B1070)","v":"HLCUDA3220905661:4"},"HLCUDA3220905661","FCIU6581520","HLCUDA3220905661","20 Dry","PKKHI",292817,"2022-11-06","2022-11-19",223.15,"BL"]
[{"$f":"B1071&\":\"&COUNTIF($B$2:B1071,B1071)","v":"HLCUDA3220905661:5"},"HLCUDA3220905661","HLXU1346216","HLCUDA3220905661","20 Dry","PKKHI",292817,"2022-11-06","2022-11-19",223.15,"BL"]
[{"$f":"B1072&\":\"&COUNTIF($B$2:B1072,B1072)","v":"HLCUDA3220905672:1"},"HLCUDA3220905672","IPXU3581716","HLCUDA3220905672","20 Dry","PKKHI",292817,"2022-11-05","2022-11-18",223.15,"BL"]
[{"$f":"B1073&\":\"&COUNTIF($B$2:B1073,B1073)","v":"HLCUDA3220905672:2"},"HLCUDA3220905672","TCKU3616768","HLCUDA3220905672","20 Dry","PKKHI",292817,"2022-11-06","2022-11-19",223.15,"BL"]
[{"$f":"B1074&\":\"&COUNTIF($B$2:B1074,B1074)","v":"HLCUDA3220905672:3"},"HLCUDA3220905672","TGHU1125231","HLCUDA3220905672","20 Dry","PKKHI",292817,"2022-11-05","2022-11-18",223.15,"BL"]
[{"$f":"B1075&\":\"&COUNTIF($B$2:B1075,B1075)","v":"HLCUDA3220905672:4"},"HLCUDA3220905672","UACU3711252","HLCUDA3220905672","20 Dry","PKKHI",292817,"2022-11-06","2022-11-19",223.15,"BL"]
[{"$f":"B1076&\":\"&COUNTIF($B$2:B1076,B1076)","v":"HLCUDA3220905672:5"},"HLCUDA3220905672","XINU1141180","HLCUDA3220905672","20 Dry","PKKHI",292817,"2022-11-05","2022-11-18",223.15,"BL"]
[{"$f":"B1077&\":\"&COUNTIF($B$2:B1077,B1077)","v":"HLCURUH221004684:1"},"HLCURUH221004684","HLBU2197681","HLCURUH221004684","40 Dry","PKKHI",292817,"2022-11-05","2022-11-25",223.15,"BL"]
[{"$f":"B1078&\":\"&COUNTIF($B$2:B1078,B1078)","v":"HLCURUH221004684:2"},"HLCURUH221004684","TGHU6220334","HLCURUH221004684","40 Dry","PKKHI",292817,"2022-11-05","2022-11-25",223.15,"BL"]
[{"$f":"B1079&\":\"&COUNTIF($B$2:B1079,B1079)","v":"HLCURUH221004684:3"},"HLCURUH221004684","UACU5254155","HLCURUH221004684","40 Dry","PKKHI",292817,"2022-11-05","2022-11-25",223.15,"BL"]
[{"$f":"B1080&\":\"&COUNTIF($B$2:B1080,B1080)","v":"HLCURUH221004684:4"},"HLCURUH221004684","UACU5561531","HLCURUH221004684","40 Dry","PKKHI",292817,"2022-11-05","2022-11-25",223.15,"BL"]
[{"$f":"B1081&\":\"&COUNTIF($B$2:B1081,B1081)","v":"HLCUDX3221032303:1"},"HLCUDX3221032303","BMOU4249436","HLCUDX3221032303","40 Dry","PKKHI",292817,"2022-11-05","2022-11-18",223.15,"BL"]
[{"$f":"B1082&\":\"&COUNTIF($B$2:B1082,B1082)","v":"HLCUDX3221032303:2"},"HLCUDX3221032303","HLBU3343380","HLCUDX3221032303","40 Dry","PKKHI",292817,"2022-11-05","2022-11-18",223.15,"BL"]
[{"$f":"B1083&\":\"&COUNTIF($B$2:B1083,B1083)","v":"HLCUDX3221032303:3"},"HLCUDX3221032303","BMOU6696011","HLCUDX3221032303","40 Dry","PKKHI",292817,"2022-11-05","2022-11-18",223.15,"BL"]
[{"$f":"B1084&\":\"&COUNTIF($B$2:B1084,B1084)","v":"HLCUDX3221032303:4"},"HLCUDX3221032303","UETU5815456","HLCUDX3221032303","40 Dry","PKKHI",292817,"2022-11-05","2022-11-18",223.15,"BL"]
[{"$f":"B1085&\":\"&COUNTIF($B$2:B1085,B1085)","v":"HLCUDX3221032303:5"},"HLCUDX3221032303","HLXU8441196","HLCUDX3221032303","40 Dry","PKKHI",292817,"2022-11-05","2022-11-18",223.15,"BL"]
[{"$f":"B1086&\":\"&COUNTIF($B$2:B1086,B1086)","v":"HLCUDX3221032303:6"},"HLCUDX3221032303","HLBU3095046","HLCUDX3221032303","40 Dry","PKKHI",292817,"2022-11-05","2022-11-18",223.15,"BL"]
[{"$f":"B1087&\":\"&COUNTIF($B$2:B1087,B1087)","v":"HLCUDX3221032303:7"},"HLCUDX3221032303","TGBU9638624","HLCUDX3221032303","40 Dry","PKKHI",292817,"2022-11-05","2022-11-18",223.15,"BL"]
[{"$f":"B1088&\":\"&COUNTIF($B$2:B1088,B1088)","v":"HLCUDX3221032303:8"},"HLCUDX3221032303","TCLU8274238","HLCUDX3221032303","40 Dry","PKKHI",292817,"2022-11-05","2022-11-18",223.15,"BL"]
[{"$f":"B1089&\":\"&COUNTIF($B$2:B1089,B1089)","v":"HLCUDX3221032303:9"},"HLCUDX3221032303","FCIU7618388","HLCUDX3221032303","40 Dry","PKKHI",292817,"2022-11-06","2022-11-19",223.15,"BL"]
[{"$f":"B1090&\":\"&COUNTIF($B$2:B1090,B1090)","v":"HLCUDX3221032303:10"},"HLCUDX3221032303","XINU8226211","HLCUDX3221032303","40 Dry","PKKHI",292817,"2022-11-05","2022-11-18",223.15,"BL"]
[{"$f":"B1091&\":\"&COUNTIF($B$2:B1091,B1091)","v":"HLCUDX3221032303:11"},"HLCUDX3221032303","TCKU6450789","HLCUDX3221032303","40 Dry","PKKHI",292817,"2022-11-05","2022-11-18",223.15,"BL"]
[{"$f":"B1092&\":\"&COUNTIF($B$2:B1092,B1092)","v":"HLCUDX3221032303:12"},"HLCUDX3221032303","CAIU4476996","HLCUDX3221032303","40 Dry","PKKHI",292817,"2022-11-05","2022-11-18",223.15,"BL"]
[{"$f":"B1093&\":\"&COUNTIF($B$2:B1093,B1093)","v":"HLCURUH221002466:1"},"HLCURUH221002466","TGBU6213462","HLCURUH221002466","40 Dry","PKKHI",292817,"2022-11-05","2022-11-25",223.15,"BL"]
[{"$f":"B1094&\":\"&COUNTIF($B$2:B1094,B1094)","v":"HLCURUH221002466:2"},"HLCURUH221002466","UASU1073422","HLCURUH221002466","40 Dry","PKKHI",292817,"2022-11-05","2022-11-25",223.15,"BL"]
[{"$f":"B1095&\":\"&COUNTIF($B$2:B1095,B1095)","v":"HLCUDA3221000239:1"},"HLCUDA3221000239","FSCU8241019","HLCUDA3221000239","40 Dry","PKKHI",292817,"2022-11-05","2022-11-14",223.15,"BL"]
[{"$f":"B1096&\":\"&COUNTIF($B$2:B1096,B1096)","v":"HLCUDA3221000239:2"},"HLCUDA3221000239","HAMU1330090","HLCUDA3221000239","40 Dry","PKKHI",292817,"2022-11-05","2022-11-14",223.15,"BL"]
[{"$f":"B1097&\":\"&COUNTIF($B$2:B1097,B1097)","v":"HLCUDA3221000239:3"},"HLCUDA3221000239","CAIU9645023","HLCUDA3221000239","40 Dry","PKKHI",292817,"2022-11-05","2022-11-14",223.15,"BL"]
[{"$f":"B1098&\":\"&COUNTIF($B$2:B1098,B1098)","v":"HLCUDA3221000239:4"},"HLCUDA3221000239","FANU1604790","HLCUDA3221000239","40 Dry","PKKHI",292817,"2022-11-05","2022-11-14",223.15,"BL"]
[{"$f":"B1099&\":\"&COUNTIF($B$2:B1099,B1099)","v":"HLCUDA3221000239:5"},"HLCUDA3221000239","FANU1300288","HLCUDA3221000239","40 Dry","PKKHI",292817,"2022-11-05","2022-11-14",223.15,"BL"]
[{"$f":"B1100&\":\"&COUNTIF($B$2:B1100,B1100)","v":"HLCUSYD220860069:1"},"HLCUSYD220860069","TCLU1460272","HLCUSYD220860069","40 Dry","PKKHI",292817,"2022-11-05","2022-11-18",223.15,"SW"]
[{"$f":"B1101&\":\"&COUNTIF($B$2:B1101,B1101)","v":"HLCUSYD220860069:2"},"HLCUSYD220860069","FFAU1788543","HLCUSYD220860069","40 Dry","PKKHI",292817,"2022-11-05","2022-11-18",223.15,"SW"]
[{"$f":"B1102&\":\"&COUNTIF($B$2:B1102,B1102)","v":"HLCUSYD220860069:3"},"HLCUSYD220860069","HLBU1085877","HLCUSYD220860069","40 Dry","PKKHI",292817,"2022-11-05","2022-11-18",223.15,"SW"]
[{"$f":"B1103&\":\"&COUNTIF($B$2:B1103,B1103)","v":"HLCUSYD220910562:1"},"HLCUSYD220910562","FANU1735090","HLCUSYD220910562","40 Dry","PKKHI",292817,"2022-11-05","2022-11-09",223.15,"SW"]
[{"$f":"B1104&\":\"&COUNTIF($B$2:B1104,B1104)","v":"HLCUSYD220915036:1"},"HLCUSYD220915036","FANU3104469","HLCUSYD220915036","40 Dry","PKKHI",292817,"2022-11-05","2022-11-09",223.15,"SW"]
[{"$f":"B1105&\":\"&COUNTIF($B$2:B1105,B1105)","v":"HLCUSYD220915036:2"},"HLCUSYD220915036","BEAU4169383","HLCUSYD220915036","40 Dry","PKKHI",292817,"2022-11-05","2022-11-09",223.15,"SW"]
[{"$f":"B1106&\":\"&COUNTIF($B$2:B1106,B1106)","v":"HLCUDX3221032526:1"},"HLCUDX3221032526","FDCU0339036","HLCUDX3221032526","40 Dry","PKKHI",292817,"2022-11-05","2022-11-16",223.15,"BL"]
[{"$f":"B1107&\":\"&COUNTIF($B$2:B1107,B1107)","v":"HLCUDX3221032526:2"},"HLCUDX3221032526","UACU5363053","HLCUDX3221032526","40 Dry","PKKHI",292817,"2022-11-05","2022-11-16",223.15,"BL"]
[{"$f":"B1108&\":\"&COUNTIF($B$2:B1108,B1108)","v":"HLCUDX3221032526:3"},"HLCUDX3221032526","HLBU3435790","HLCUDX3221032526","40 Dry","PKKHI",292817,"2022-11-06","2022-11-17",223.15,"BL"]
[{"$f":"B1109&\":\"&COUNTIF($B$2:B1109,B1109)","v":"HLCUDX3221032526:4"},"HLCUDX3221032526","HLBU2787250","HLCUDX3221032526","40 Dry","PKKHI",292817,"2022-11-05","2022-11-16",223.15,"BL"]
[{"$f":"B1110&\":\"&COUNTIF($B$2:B1110,B1110)","v":"HLCUDX3221032526:5"},"HLCUDX3221032526","HLBU3261580","HLCUDX3221032526","40 Dry","PKKHI",292817,"2022-11-05","2022-11-16",223.15,"BL"]
[{"$f":"B1111&\":\"&COUNTIF($B$2:B1111,B1111)","v":"HLCUDX3221033116:1"},"HLCUDX3221033116","HLBU2366020","HLCUDX3221033116","20 Dry","PKKHI",292817,"2022-11-05","2022-11-18",223.15,"BL"]
[{"$f":"B1112&\":\"&COUNTIF($B$2:B1112,B1112)","v":"HLCUANR220834584:1"},"HLCUANR220834584","AXIU2945975","HLCUANR220834584","20 Dry","PKBQM",289601,"2022-11-06","2022-11-15",222.35,"BL"]
[{"$f":"B1113&\":\"&COUNTIF($B$2:B1113,B1113)","v":"HLCUANR220834584:2"},"HLCUANR220834584","UACU3882851","HLCUANR220834584","20 Dry","PKBQM",289601,"2022-11-06","2022-11-15",222.35,"BL"]
[{"$f":"B1114&\":\"&COUNTIF($B$2:B1114,B1114)","v":"HLCUANR220834584:3"},"HLCUANR220834584","HLBU1183723","HLCUANR220834584","20 Dry","PKBQM",289601,"2022-11-06","2022-11-15",222.35,"BL"]
[{"$f":"B1115&\":\"&COUNTIF($B$2:B1115,B1115)","v":"HLCUANR220834584:4"},"HLCUANR220834584","TLLU8090352","HLCUANR220834584","20 Dry","PKBQM",289601,"2022-11-06","2022-11-15",222.35,"BL"]
[{"$f":"B1116&\":\"&COUNTIF($B$2:B1116,B1116)","v":"HLCUANR220834584:5"},"HLCUANR220834584","HLXU1412771","HLCUANR220834584","20 Dry","PKBQM",289601,"2022-11-06","2022-11-15",222.35,"BL"]
[{"$f":"B1117&\":\"&COUNTIF($B$2:B1117,B1117)","v":"HLCUANR220834584:6"},"HLCUANR220834584","HLXU3364543","HLCUANR220834584","20 Dry","PKBQM",289601,"2022-11-06","2022-11-15",222.35,"BL"]
[{"$f":"B1118&\":\"&COUNTIF($B$2:B1118,B1118)","v":"HLCUANR220834584:7"},"HLCUANR220834584","TGBU2355392","HLCUANR220834584","20 Dry","PKBQM",289601,"2022-11-06","2022-11-15",222.35,"BL"]
[{"$f":"B1119&\":\"&COUNTIF($B$2:B1119,B1119)","v":"HLCUANR220834584:8"},"HLCUANR220834584","TCLU3045603","HLCUANR220834584","20 Dry","PKBQM",289601,"2022-11-06","2022-11-15",222.35,"BL"]
[{"$f":"B1120&\":\"&COUNTIF($B$2:B1120,B1120)","v":"HLCUANR220834584:9"},"HLCUANR220834584","TEMU1393192","HLCUANR220834584","20 Dry","PKBQM",289601,"2022-11-06","2022-11-15",222.35,"BL"]
[{"$f":"B1121&\":\"&COUNTIF($B$2:B1121,B1121)","v":"HLCUANR220834584:10"},"HLCUANR220834584","GESU1081423","HLCUANR220834584","20 Dry","PKBQM",289601,"2022-11-06","2022-11-15",222.35,"BL"]
[{"$f":"B1122&\":\"&COUNTIF($B$2:B1122,B1122)","v":"HLCUANR220834584:11"},"HLCUANR220834584","TEMU1458246","HLCUANR220834584","20 Dry","PKBQM",289601,"2022-11-06","2022-11-15",222.35,"BL"]
[{"$f":"B1123&\":\"&COUNTIF($B$2:B1123,B1123)","v":"HLCUANR220834584:12"},"HLCUANR220834584","HLXU1417686","HLCUANR220834584","20 Dry","PKBQM",289601,"2022-11-06","2022-11-15",222.35,"BL"]
[{"$f":"B1124&\":\"&COUNTIF($B$2:B1124,B1124)","v":"HLCUANR220834584:13"},"HLCUANR220834584","HLXU1240271","HLCUANR220834584","20 Dry","PKBQM",289601,"2022-11-06","2022-11-15",222.35,"BL"]
[{"$f":"B1125&\":\"&COUNTIF($B$2:B1125,B1125)","v":"HLCUANR220834584:14"},"HLCUANR220834584","NIDU2280278","HLCUANR220834584","20 Dry","PKBQM",289601,"2022-11-06","2022-11-15",222.35,"BL"]
[{"$f":"B1126&\":\"&COUNTIF($B$2:B1126,B1126)","v":"HLCUANR220834584:15"},"HLCUANR220834584","CAIU2761680","HLCUANR220834584","20 Dry","PKBQM",289601,"2022-11-06","2022-11-15",222.35,"BL"]
[{"$f":"B1127&\":\"&COUNTIF($B$2:B1127,B1127)","v":"HLCUANR220834584:16"},"HLCUANR220834584","UACU3994867","HLCUANR220834584","20 Dry","PKBQM",289601,"2022-11-06","2022-11-15",222.35,"BL"]
[{"$f":"B1128&\":\"&COUNTIF($B$2:B1128,B1128)","v":"HLCUANR220834584:17"},"HLCUANR220834584","HAMU1064982","HLCUANR220834584","20 Dry","PKBQM",289601,"2022-11-06","2022-11-15",222.35,"BL"]
[{"$f":"B1129&\":\"&COUNTIF($B$2:B1129,B1129)","v":"HLCUANR220834584:18"},"HLCUANR220834584","HLBU1188751","HLCUANR220834584","20 Dry","PKBQM",289601,"2022-11-06","2022-11-15",222.35,"BL"]
[{"$f":"B1130&\":\"&COUNTIF($B$2:B1130,B1130)","v":"HLCUANR220834584:19"},"HLCUANR220834584","HLBU1224252","HLCUANR220834584","20 Dry","PKBQM",289601,"2022-11-06","2022-11-15",222.35,"BL"]
[{"$f":"B1131&\":\"&COUNTIF($B$2:B1131,B1131)","v":"HLCUANR220834584:20"},"HLCUANR220834584","HLXU1351249","HLCUANR220834584","20 Dry","PKBQM",289601,"2022-11-06","2022-11-15",222.35,"BL"]
[{"$f":"B1132&\":\"&COUNTIF($B$2:B1132,B1132)","v":"HLCUANR220834584:21"},"HLCUANR220834584","TCKU1461348","HLCUANR220834584","20 Dry","PKBQM",289601,"2022-11-06","2022-11-15",222.35,"BL"]
[{"$f":"B1133&\":\"&COUNTIF($B$2:B1133,B1133)","v":"HLCUANR220834584:22"},"HLCUANR220834584","HLXU1100578","HLCUANR220834584","20 Dry","PKBQM",289601,"2022-11-06","2022-11-15",222.35,"BL"]
[{"$f":"B1134&\":\"&COUNTIF($B$2:B1134,B1134)","v":"HLCUANR220834584:23"},"HLCUANR220834584","DFSU1280086","HLCUANR220834584","20 Dry","PKBQM",289601,"2022-11-06","2022-11-15",222.35,"BL"]
[{"$f":"B1135&\":\"&COUNTIF($B$2:B1135,B1135)","v":"HLCUANR220834584:24"},"HLCUANR220834584","FCIU6102313","HLCUANR220834584","20 Dry","PKBQM",289601,"2022-11-06","2022-11-15",222.35,"BL"]
[{"$f":"B1136&\":\"&COUNTIF($B$2:B1136,B1136)","v":"HLCUANR220834584:25"},"HLCUANR220834584","HLXU3567540","HLCUANR220834584","20 Dry","PKBQM",289601,"2022-11-06","2022-11-15",222.35,"BL"]
[{"$f":"B1137&\":\"&COUNTIF($B$2:B1137,B1137)","v":"HLCUANR220834584:26"},"HLCUANR220834584","UACU3794067","HLCUANR220834584","20 Dry","PKBQM",289601,"2022-11-06","2022-11-15",222.35,"BL"]
[{"$f":"B1138&\":\"&COUNTIF($B$2:B1138,B1138)","v":"HLCUANR220834584:27"},"HLCUANR220834584","HLBU1208919","HLCUANR220834584","20 Dry","PKBQM",289601,"2022-11-06","2022-11-15",222.35,"BL"]
[{"$f":"B1139&\":\"&COUNTIF($B$2:B1139,B1139)","v":"HLCUANR220834584:28"},"HLCUANR220834584","GESU3979900","HLCUANR220834584","20 Dry","PKBQM",289601,"2022-11-06","2022-11-15",222.35,"BL"]
[{"$f":"B1140&\":\"&COUNTIF($B$2:B1140,B1140)","v":"HLCUANR220834584:29"},"HLCUANR220834584","UACU3482496","HLCUANR220834584","20 Dry","PKBQM",289601,"2022-11-06","2022-11-15",222.35,"BL"]
[{"$f":"B1141&\":\"&COUNTIF($B$2:B1141,B1141)","v":"HLCUANR220942690:1"},"HLCUANR220942690","BEAU2222088","HLCUANR220942690","20 Dry","PKBQM",289601,"2022-11-06","2022-11-15",222.35,"BL"]
[{"$f":"B1142&\":\"&COUNTIF($B$2:B1142,B1142)","v":"HLCUSYD220808698:1"},"HLCUSYD220808698","SEGU6951834","HLCUSYD220808698","40 Dry","PKBQM",289601,"2022-11-06","2022-11-15",222.35,"SW"]
[{"$f":"B1143&\":\"&COUNTIF($B$2:B1143,B1143)","v":"HLCUHAM220939142:1"},"HLCUHAM220939142","GESU6715393","HLCUHAM220939142","40 Dry","PKBQM",289601,"2022-11-06","2022-11-15",222.35,"BL"]
[{"$f":"B1144&\":\"&COUNTIF($B$2:B1144,B1144)","v":"HLCURTM220877701:1"},"HLCURTM220877701","FSCU7222776","HLCURTM220877701","40 Dry","PKBQM",289601,"2022-11-06","2022-11-15",222.35,"BL"]
[{"$f":"B1145&\":\"&COUNTIF($B$2:B1145,B1145)","v":"HLCULE1220920280:1"},"HLCULE1220920280","HLBU8152010","HLCULE1220920280","40 Special","PKBQM",289601,"2022-11-06","2022-11-15",222.35,"BL"]
[{"$f":"B1146&\":\"&COUNTIF($B$2:B1146,B1146)","v":"HLCUSYD220735635:1"},"HLCUSYD220735635","HLXU8511966","HLCUSYD220735635","40 Dry","PKBQM",289601,"2022-11-06","2022-11-15",222.35,"SW"]
[{"$f":"B1147&\":\"&COUNTIF($B$2:B1147,B1147)","v":"HLCUSYD220735635:2"},"HLCUSYD220735635","UACU5207256","HLCUSYD220735635","40 Dry","PKBQM",289601,"2022-11-06","2022-11-15",222.35,"SW"]
[{"$f":"B1148&\":\"&COUNTIF($B$2:B1148,B1148)","v":"HLCURTM220878028:1"},"HLCURTM220878028","TEMU1625934","HLCURTM220878028","20 Dry","PKBQM",289601,"2022-11-06","2022-11-15",222.35,"BL"]
[{"$f":"B1149&\":\"&COUNTIF($B$2:B1149,B1149)","v":"HLCURTM220878028:2"},"HLCURTM220878028","UACU3536036","HLCURTM220878028","20 Dry","PKBQM",289601,"2022-11-06","2022-11-15",222.35,"BL"]
[{"$f":"B1150&\":\"&COUNTIF($B$2:B1150,B1150)","v":"HLCURTM220878028:3"},"HLCURTM220878028","UACU3789477","HLCURTM220878028","20 Dry","PKBQM",289601,"2022-11-06","2022-11-15",222.35,"BL"]
[{"$f":"B1151&\":\"&COUNTIF($B$2:B1151,B1151)","v":"HLCURTM220878028:4"},"HLCURTM220878028","CAIU2607490","HLCURTM220878028","20 Dry","PKBQM",289601,"2022-11-06","2022-11-15",222.35,"BL"]
[{"$f":"B1152&\":\"&COUNTIF($B$2:B1152,B1152)","v":"HLCURTM220878028:5"},"HLCURTM220878028","BSIU3264391","HLCURTM220878028","20 Dry","PKBQM",289601,"2022-11-06","2022-11-15",222.35,"BL"]
[{"$f":"B1153&\":\"&COUNTIF($B$2:B1153,B1153)","v":"HLCURTM220878028:6"},"HLCURTM220878028","HLBU2282607","HLCURTM220878028","20 Dry","PKBQM",289601,"2022-11-06","2022-11-15",222.35,"BL"]
[{"$f":"B1154&\":\"&COUNTIF($B$2:B1154,B1154)","v":"HLCURTM220878028:7"},"HLCURTM220878028","TGHU1714735","HLCURTM220878028","20 Dry","PKBQM",289601,"2022-11-06","2022-11-15",222.35,"BL"]
[{"$f":"B1155&\":\"&COUNTIF($B$2:B1155,B1155)","v":"HLCURTM220878028:8"},"HLCURTM220878028","HLXU1222663","HLCURTM220878028","20 Dry","PKBQM",289601,"2022-11-06","2022-11-15",222.35,"BL"]
[{"$f":"B1156&\":\"&COUNTIF($B$2:B1156,B1156)","v":"HLCURTM220941938:1"},"HLCURTM220941938","TCLU2470911","HLCURTM220941938","20 Dry","PKBQM",289601,"2022-11-06","2022-11-15",222.35,"BL"]
[{"$f":"B1157&\":\"&COUNTIF($B$2:B1157,B1157)","v":"HLCURTM220941938:2"},"HLCURTM220941938","HAMU1082970","HLCURTM220941938","20 Dry","PKBQM",289601,"2022-11-06","2022-11-15",222.35,"BL"]
[{"$f":"B1158&\":\"&COUNTIF($B$2:B1158,B1158)","v":"HLCURTM220941938:3"},"HLCURTM220941938","UACU3475619","HLCURTM220941938","20 Dry","PKBQM",289601,"2022-11-06","2022-11-15",222.35,"BL"]
[{"$f":"B1159&\":\"&COUNTIF($B$2:B1159,B1159)","v":"HLCURTM220941938:4"},"HLCURTM220941938","CXDU1195377","HLCURTM220941938","20 Dry","PKBQM",289601,"2022-11-06","2022-11-15",222.35,"BL"]
[{"$f":"B1160&\":\"&COUNTIF($B$2:B1160,B1160)","v":"HLCURTM220941938:5"},"HLCURTM220941938","HLXU3429285","HLCURTM220941938","20 Dry","PKBQM",289601,"2022-11-06","2022-11-15",222.35,"BL"]
[{"$f":"B1161&\":\"&COUNTIF($B$2:B1161,B1161)","v":"HLCURTM220941938:6"},"HLCURTM220941938","BSIU2308324","HLCURTM220941938","20 Dry","PKBQM",289601,"2022-11-06","2022-11-15",222.35,"BL"]
[{"$f":"B1162&\":\"&COUNTIF($B$2:B1162,B1162)","v":"HLCURTM220941938:7"},"HLCURTM220941938","FBIU0440230","HLCURTM220941938","20 Dry","PKBQM",289601,"2022-11-06","2022-11-15",222.35,"BL"]
[{"$f":"B1163&\":\"&COUNTIF($B$2:B1163,B1163)","v":"HLCURTM220941938:8"},"HLCURTM220941938","TCKU1389351","HLCURTM220941938","20 Dry","PKBQM",289601,"2022-11-06","2022-11-15",222.35,"BL"]
[{"$f":"B1164&\":\"&COUNTIF($B$2:B1164,B1164)","v":"HLCURTM220941938:9"},"HLCURTM220941938","HLXU1058930","HLCURTM220941938","20 Dry","PKBQM",289601,"2022-11-06","2022-11-15",222.35,"BL"]
[{"$f":"B1165&\":\"&COUNTIF($B$2:B1165,B1165)","v":"HLCURTM220941938:10"},"HLCURTM220941938","TEMU2843191","HLCURTM220941938","20 Dry","PKBQM",289601,"2022-11-06","2022-11-15",222.35,"BL"]
[{"$f":"B1166&\":\"&COUNTIF($B$2:B1166,B1166)","v":"HLCURTM220941938:11"},"HLCURTM220941938","HLXU3528185","HLCURTM220941938","20 Dry","PKBQM",289601,"2022-11-06","2022-11-15",222.35,"BL"]
[{"$f":"B1167&\":\"&COUNTIF($B$2:B1167,B1167)","v":"HLCURTM220941938:12"},"HLCURTM220941938","FCIU4743581","HLCURTM220941938","20 Dry","PKBQM",289601,"2022-11-06","2022-11-15",222.35,"BL"]
[{"$f":"B1168&\":\"&COUNTIF($B$2:B1168,B1168)","v":"HLCURTM220941938:13"},"HLCURTM220941938","UACU4068198","HLCURTM220941938","20 Dry","PKBQM",289601,"2022-11-06","2022-11-15",222.35,"BL"]
[{"$f":"B1169&\":\"&COUNTIF($B$2:B1169,B1169)","v":"HLCURTM220941938:14"},"HLCURTM220941938","FBIU0449746","HLCURTM220941938","20 Dry","PKBQM",289601,"2022-11-06","2022-11-15",222.35,"BL"]
[{"$f":"B1170&\":\"&COUNTIF($B$2:B1170,B1170)","v":"HLCURTM220941938:15"},"HLCURTM220941938","HAMU1109500","HLCURTM220941938","20 Dry","PKBQM",289601,"2022-11-06","2022-11-15",222.35,"BL"]
[{"$f":"B1171&\":\"&COUNTIF($B$2:B1171,B1171)","v":"HLCURTM220941938:16"},"HLCURTM220941938","FANU1377931","HLCURTM220941938","20 Dry","PKBQM",289601,"2022-11-06","2022-11-15",222.35,"BL"]
[{"$f":"B1172&\":\"&COUNTIF($B$2:B1172,B1172)","v":"HLCURTM220941938:17"},"HLCURTM220941938","UACU3510617","HLCURTM220941938","20 Dry","PKBQM",289601,"2022-11-06","2022-11-15",222.35,"BL"]
[{"$f":"B1173&\":\"&COUNTIF($B$2:B1173,B1173)","v":"HLCURTM220941938:18"},"HLCURTM220941938","TEMU1478833","HLCURTM220941938","20 Dry","PKBQM",289601,"2022-11-06","2022-11-15",222.35,"BL"]
[{"$f":"B1174&\":\"&COUNTIF($B$2:B1174,B1174)","v":"HLCURTM220941938:19"},"HLCURTM220941938","HLBU2948740","HLCURTM220941938","20 Dry","PKBQM",289601,"2022-11-06","2022-11-15",222.35,"BL"]
[{"$f":"B1175&\":\"&COUNTIF($B$2:B1175,B1175)","v":"HLCURTM220941938:20"},"HLCURTM220941938","FSCU7873680","HLCURTM220941938","20 Dry","PKBQM",289601,"2022-11-06","2022-11-15",222.35,"BL"]
[{"$f":"B1176&\":\"&COUNTIF($B$2:B1176,B1176)","v":"HLCURTM220941938:21"},"HLCURTM220941938","UACU3549584","HLCURTM220941938","20 Dry","PKBQM",289601,"2022-11-06","2022-11-15",222.35,"BL"]
[{"$f":"B1177&\":\"&COUNTIF($B$2:B1177,B1177)","v":"HLCURTM220941938:22"},"HLCURTM220941938","FCIU4744593","HLCURTM220941938","20 Dry","PKBQM",289601,"2022-11-06","2022-11-15",222.35,"BL"]
[{"$f":"B1178&\":\"&COUNTIF($B$2:B1178,B1178)","v":"HLCURTM220941938:23"},"HLCURTM220941938","HLBU1225351","HLCURTM220941938","20 Dry","PKBQM",289601,"2022-11-06","2022-11-15",222.35,"BL"]
[{"$f":"B1179&\":\"&COUNTIF($B$2:B1179,B1179)","v":"HLCURTM220941938:24"},"HLCURTM220941938","TCLU2811366","HLCURTM220941938","20 Dry","PKBQM",289601,"2022-11-06","2022-11-15",222.35,"BL"]
[{"$f":"B1180&\":\"&COUNTIF($B$2:B1180,B1180)","v":"HLCURTM220941938:25"},"HLCURTM220941938","FCIU4718547","HLCURTM220941938","20 Dry","PKBQM",289601,"2022-11-06","2022-11-15",222.35,"BL"]
[{"$f":"B1181&\":\"&COUNTIF($B$2:B1181,B1181)","v":"HLCURTM220941938:26"},"HLCURTM220941938","BEAU2205429","HLCURTM220941938","20 Dry","PKBQM",289601,"2022-11-06","2022-11-15",222.35,"BL"]
[{"$f":"B1182&\":\"&COUNTIF($B$2:B1182,B1182)","v":"HLCURTM220941938:27"},"HLCURTM220941938","UACU3684809","HLCURTM220941938","20 Dry","PKBQM",289601,"2022-11-06","2022-11-15",222.35,"BL"]
[{"$f":"B1183&\":\"&COUNTIF($B$2:B1183,B1183)","v":"HLCURTM220941938:28"},"HLCURTM220941938","XINU1351844","HLCURTM220941938","20 Dry","PKBQM",289601,"2022-11-06","2022-11-15",222.35,"BL"]
[{"$f":"B1184&\":\"&COUNTIF($B$2:B1184,B1184)","v":"HLCUANR2208APWH4:1"},"HLCUANR2208APWH4","TGHU0040891","HLCUANR2208APWH4","20 Dry","PKBQM",289601,"2022-11-06","2022-11-15",222.35,"SW"]
[{"$f":"B1185&\":\"&COUNTIF($B$2:B1185,B1185)","v":"HLCUANR2208APWH4:2"},"HLCUANR2208APWH4","TGHU1071916","HLCUANR2208APWH4","20 Dry","PKBQM",289601,"2022-11-06","2022-11-15",222.35,"SW"]
[{"$f":"B1186&\":\"&COUNTIF($B$2:B1186,B1186)","v":"HLCUANR2208APWH4:3"},"HLCUANR2208APWH4","CLHU3833846","HLCUANR2208APWH4","20 Dry","PKBQM",289601,"2022-11-06","2022-11-15",222.35,"SW"]
[{"$f":"B1187&\":\"&COUNTIF($B$2:B1187,B1187)","v":"HLCUANR2208APWH4:4"},"HLCUANR2208APWH4","XINU1428442","HLCUANR2208APWH4","20 Dry","PKBQM",289601,"2022-11-06","2022-11-15",222.35,"SW"]
[{"$f":"B1188&\":\"&COUNTIF($B$2:B1188,B1188)","v":"HLCUANR2208APWH4:5"},"HLCUANR2208APWH4","XINU1450929","HLCUANR2208APWH4","20 Dry","PKBQM",289601,"2022-11-06","2022-11-15",222.35,"SW"]
[{"$f":"B1189&\":\"&COUNTIF($B$2:B1189,B1189)","v":"HLCUANR2208APWH4:6"},"HLCUANR2208APWH4","CNCU1528561","HLCUANR2208APWH4","20 Dry","PKBQM",289601,"2022-11-06","2022-11-15",222.35,"SW"]
[{"$f":"B1190&\":\"&COUNTIF($B$2:B1190,B1190)","v":"HLCUANR2208APWH4:7"},"HLCUANR2208APWH4","GLDU3891116","HLCUANR2208APWH4","20 Dry","PKBQM",289601,"2022-11-06","2022-11-15",222.35,"SW"]
[{"$f":"B1191&\":\"&COUNTIF($B$2:B1191,B1191)","v":"HLCUANR2208APWH4:8"},"HLCUANR2208APWH4","GLDU5137980","HLCUANR2208APWH4","20 Dry","PKBQM",289601,"2022-11-06","2022-11-15",222.35,"SW"]
[{"$f":"B1192&\":\"&COUNTIF($B$2:B1192,B1192)","v":"HLCUANR2208APWH4:9"},"HLCUANR2208APWH4","TGHU0025500","HLCUANR2208APWH4","20 Dry","PKBQM",289601,"2022-11-06","2022-11-15",222.35,"SW"]
[{"$f":"B1193&\":\"&COUNTIF($B$2:B1193,B1193)","v":"HLCUANR2208APWH4:10"},"HLCUANR2208APWH4","TGHU0039951","HLCUANR2208APWH4","20 Dry","PKBQM",289601,"2022-11-06","2022-11-15",222.35,"SW"]
[{"$f":"B1194&\":\"&COUNTIF($B$2:B1194,B1194)","v":"HLCULE1220852656:1"},"HLCULE1220852656","HLBU3384033","HLCULE1220852656","40 Dry","PKBQM",289601,"2022-11-06","2022-11-15",222.35,"BL"]
[{"$f":"B1195&\":\"&COUNTIF($B$2:B1195,B1195)","v":"HLCULE1220852656:2"},"HLCULE1220852656","GCXU5944979","HLCULE1220852656","40 Dry","PKBQM",289601,"2022-11-06","2022-11-15",222.35,"BL"]
[{"$f":"B1196&\":\"&COUNTIF($B$2:B1196,B1196)","v":"HLCURTM220878061:1"},"HLCURTM220878061","SEGU5616359","HLCURTM220878061","40 Dry","PKBQM",289601,"2022-11-06","2022-11-15",222.35,"BL"]
[{"$f":"B1197&\":\"&COUNTIF($B$2:B1197,B1197)","v":"HLCUANR220899012:1"},"HLCUANR220899012","UACU4796125","HLCUANR220899012","40 Reefer","PKBQM",289601,"2022-11-06","2022-11-15",222.35,"SW"]
[{"$f":"B1198&\":\"&COUNTIF($B$2:B1198,B1198)","v":"HLCULIV220859261:1"},"HLCULIV220859261","HLXU8115100","HLCULIV220859261","40 Dry","PKBQM",289601,"2022-11-06","2022-11-15",222.35,"SW"]
[{"$f":"B1199&\":\"&COUNTIF($B$2:B1199,B1199)","v":"HLCULIV220859261:2"},"HLCULIV220859261","HLBU3130384","HLCULIV220859261","40 Dry","PKBQM",289601,"2022-11-06","2022-11-15",222.35,"SW"]
[{"$f":"B1200&\":\"&COUNTIF($B$2:B1200,B1200)","v":"HLCUHAM2209BBBO8:1"},"HLCUHAM2209BBBO8","UACU5907326","HLCUHAM2209BBBO8","40 Dry","PKBQM",289601,"2022-11-06","2022-11-15",222.35,"BL"]
[{"$f":"B1201&\":\"&COUNTIF($B$2:B1201,B1201)","v":"HLCURTM220846700:1"},"HLCURTM220846700","HLBU9114020","HLCURTM220846700","40 Reefer","PKBQM",289601,"2022-11-06","2022-11-15",222.35,"BL"]
[{"$f":"B1202&\":\"&COUNTIF($B$2:B1202,B1202)","v":"HLCUSYD220807322:1"},"HLCUSYD220807322","HLXU3179756","HLCUSYD220807322","20 Dry","PKBQM",289601,"2022-11-06","2022-11-15",222.35,"BL"]
[{"$f":"B1203&\":\"&COUNTIF($B$2:B1203,B1203)","v":"HLCUSYD220807322:2"},"HLCUSYD220807322","UACU3533994","HLCUSYD220807322","20 Dry","PKBQM",289601,"2022-11-06","2022-11-15",222.35,"BL"]
[{"$f":"B1204&\":\"&COUNTIF($B$2:B1204,B1204)","v":"HLCUANR220890168:1"},"HLCUANR220890168","HLBU9204587","HLCUANR220890168","40 Reefer","PKBQM",289601,"2022-11-06","2022-11-15",222.35,"BL"]
[{"$f":"B1205&\":\"&COUNTIF($B$2:B1205,B1205)","v":"HLCUANR220890168:2"},"HLCUANR220890168","HLXU8768337","HLCUANR220890168","40 Reefer","PKBQM",289601,"2022-11-06","2022-11-15",222.35,"BL"]
[{"$f":"B1206&\":\"&COUNTIF($B$2:B1206,B1206)","v":"HLCUHAM220985059:1"},"HLCUHAM220985059","HLBU2197629","HLCUHAM220985059","40 Dry","PKBQM",289601,"2022-11-06","2022-11-15",222.35,"BL"]
[{"$f":"B1207&\":\"&COUNTIF($B$2:B1207,B1207)","v":"HLCULE1220832028:1"},"HLCULE1220832028","HLBU3411817","HLCULE1220832028","40 Dry","PKBQM",289601,"2022-11-06","2022-11-15",222.35,"BL"]
[{"$f":"B1208&\":\"&COUNTIF($B$2:B1208,B1208)","v":"HLCULE1220832028:2"},"HLCULE1220832028","HLBU2122194","HLCULE1220832028","40 Dry","PKBQM",289601,"2022-11-06","2022-11-15",222.35,"BL"]
[{"$f":"B1209&\":\"&COUNTIF($B$2:B1209,B1209)","v":"HLCULE1220832028:3"},"HLCULE1220832028","FANU1831875","HLCULE1220832028","40 Dry","PKBQM",289601,"2022-11-06","2022-11-15",222.35,"BL"]
[{"$f":"B1210&\":\"&COUNTIF($B$2:B1210,B1210)","v":"HLCULE1220832028:4"},"HLCULE1220832028","FANU1037588","HLCULE1220832028","40 Dry","PKBQM",289601,"2022-11-06","2022-11-15",222.35,"BL"]
[{"$f":"B1211&\":\"&COUNTIF($B$2:B1211,B1211)","v":"HLCUHAM220917502:1"},"HLCUHAM220917502","TCKU6054936","HLCUHAM220917502","40 Dry","PKBQM",289601,"2022-11-06","2022-11-15",222.35,"BL"]
[{"$f":"B1212&\":\"&COUNTIF($B$2:B1212,B1212)","v":"HLCURTM220854605:1"},"HLCURTM220854605","UACU8168132","HLCURTM220854605","40 Dry","PKBQM",289601,"2022-11-06","2022-11-15",222.35,"BL"]
[{"$f":"B1213&\":\"&COUNTIF($B$2:B1213,B1213)","v":"HLCUANR220929418:1"},"HLCUANR220929418","HLBU1084741","HLCUANR220929418","40 Dry","PKBQM",289601,"2022-11-06","2022-11-15",222.35,"SW"]
[{"$f":"B1214&\":\"&COUNTIF($B$2:B1214,B1214)","v":"HLCUANR220929418:2"},"HLCUANR220929418","FSCU7180897","HLCUANR220929418","40 Dry","PKBQM",289601,"2022-11-06","2022-11-15",222.35,"SW"]
[{"$f":"B1215&\":\"&COUNTIF($B$2:B1215,B1215)","v":"HLCUANR220929418:3"},"HLCUANR220929418","SEKU6249859","HLCUANR220929418","40 Dry","PKBQM",289601,"2022-11-06","2022-11-15",222.35,"SW"]
[{"$f":"B1216&\":\"&COUNTIF($B$2:B1216,B1216)","v":"HLCURTM220877640:1"},"HLCURTM220877640","UACU6015160","HLCURTM220877640","40 Dry","PKBQM",289601,"2022-11-06","2022-11-15",222.35,"BL"]
[{"$f":"B1217&\":\"&COUNTIF($B$2:B1217,B1217)","v":"HLCUANR220881990:1"},"HLCUANR220881990","TCLU4019316","HLCUANR220881990","40 Dry","PKBQM",289601,"2022-11-06","2022-11-15",222.35,"BL"]
[{"$f":"B1218&\":\"&COUNTIF($B$2:B1218,B1218)","v":"HLCUSYD220878615:1"},"HLCUSYD220878615","BEAU4189137","HLCUSYD220878615","40 Dry","PKBQM",289601,"2022-11-06","2022-11-15",222.35,"SW"]
[{"$f":"B1219&\":\"&COUNTIF($B$2:B1219,B1219)","v":"HLCUSYD220878615:2"},"HLCUSYD220878615","FANU1087254","HLCUSYD220878615","40 Dry","PKBQM",289601,"2022-11-06","2022-11-15",222.35,"SW"]
[{"$f":"B1220&\":\"&COUNTIF($B$2:B1220,B1220)","v":"HLCURTM220814190:1"},"HLCURTM220814190","TCLU8123611","HLCURTM220814190","40 Dry","PKBQM",289601,"2022-11-06","2022-11-15",222.35,"BL"]
[{"$f":"B1221&\":\"&COUNTIF($B$2:B1221,B1221)","v":"HLCURTM220814190:2"},"HLCURTM220814190","UACU5591665","HLCURTM220814190","40 Dry","PKBQM",289601,"2022-11-06","2022-11-15",222.35,"BL"]
[{"$f":"B1222&\":\"&COUNTIF($B$2:B1222,B1222)","v":"HLCURTM220814190:3"},"HLCURTM220814190","UACU6046515","HLCURTM220814190","40 Dry","PKBQM",289601,"2022-11-06","2022-11-15",222.35,"BL"]
[{"$f":"B1223&\":\"&COUNTIF($B$2:B1223,B1223)","v":"HLCUHAM220976647:1"},"HLCUHAM220976647","HLXU6551070","HLCUHAM220976647","40 Dry","PKBQM",289601,"2022-11-06","2022-11-15",222.35,"BL"]
[{"$f":"B1224&\":\"&COUNTIF($B$2:B1224,B1224)","v":"HLCUTOR220932398:1"},"HLCUTOR220932398","BMOU5484466","HLCUTOR220932398","40 Dry","PKBQM",292758,"2022-11-06","2022-11-17",223.15,"SW"]
[{"$f":"B1225&\":\"&COUNTIF($B$2:B1225,B1225)","v":"HLCUIZ1221010021:1"},"HLCUIZ1221010021","HLBU3058551","HLCUIZ1221010021","20 Dry","PKKHI",292613,"2022-11-06","2022-11-19",224.1,"SW"]
[{"$f":"B1226&\":\"&COUNTIF($B$2:B1226,B1226)","v":"HLCUDA3220902239:1"},"HLCUDA3220902239","CAIU2261480","HLCUDA3220902239","20 Dry","PKKHI",292613,"2022-11-06","2022-11-19",224.1,"BL"]
[{"$f":"B1227&\":\"&COUNTIF($B$2:B1227,B1227)","v":"HLCUDA3220902239:2"},"HLCUDA3220902239","UACU3836244","HLCUDA3220902239","20 Dry","PKKHI",292613,"2022-11-06","2022-11-19",224.1,"BL"]
[{"$f":"B1228&\":\"&COUNTIF($B$2:B1228,B1228)","v":"HLCUDA3220902239:3"},"HLCUDA3220902239","HLXU3540004","HLCUDA3220902239","20 Dry","PKKHI",292613,"2022-11-06","2022-11-19",224.1,"BL"]
[{"$f":"B1229&\":\"&COUNTIF($B$2:B1229,B1229)","v":"HLCUDA3220902239:4"},"HLCUDA3220902239","SEGU1596980","HLCUDA3220902239","20 Dry","PKKHI",292613,"2022-11-06","2022-11-19",224.1,"BL"]
[{"$f":"B1230&\":\"&COUNTIF($B$2:B1230,B1230)","v":"HLCUDA3220902239:5"},"HLCUDA3220902239","TGHU0328110","HLCUDA3220902239","20 Dry","PKKHI",292613,"2022-11-06","2022-11-19",224.1,"BL"]
[{"$f":"B1231&\":\"&COUNTIF($B$2:B1231,B1231)","v":"HLCUDA3220902239:6"},"HLCUDA3220902239","TRHU1390638","HLCUDA3220902239","20 Dry","PKKHI",292613,"2022-11-06","2022-11-19",224.1,"BL"]
[{"$f":"B1232&\":\"&COUNTIF($B$2:B1232,B1232)","v":"HLCUDA3220905701:1"},"HLCUDA3220905701","TCNU8432623","HLCUDA3220905701","40 Dry","PKKHI",292613,"2022-11-06","2022-11-15",224.1,"BL"]
[{"$f":"B1233&\":\"&COUNTIF($B$2:B1233,B1233)","v":"HLCUDA3220905701:2"},"HLCUDA3220905701","UACU5994064","HLCUDA3220905701","40 Dry","PKKHI",292613,"2022-11-06","2022-11-15",224.1,"BL"]
[{"$f":"B1234&\":\"&COUNTIF($B$2:B1234,B1234)","v":"HLCUDA3220905701:3"},"HLCUDA3220905701","TLLU5258376","HLCUDA3220905701","40 Dry","PKKHI",292613,"2022-11-06","2022-11-15",224.1,"BL"]
[{"$f":"B1235&\":\"&COUNTIF($B$2:B1235,B1235)","v":"HLCUDA3220905701:4"},"HLCUDA3220905701","TCNU8173477","HLCUDA3220905701","40 Dry","PKKHI",292613,"2022-11-06","2022-11-15",224.1,"BL"]
[{"$f":"B1236&\":\"&COUNTIF($B$2:B1236,B1236)","v":"HLCUDA3220905701:5"},"HLCUDA3220905701","HLXU8169257","HLCUDA3220905701","40 Dry","PKKHI",292613,"2022-11-06","2022-11-15",224.1,"BL"]
[{"$f":"B1237&\":\"&COUNTIF($B$2:B1237,B1237)","v":"HLCUDA3220905701:6"},"HLCUDA3220905701","HLBU2702485","HLCUDA3220905701","40 Dry","PKKHI",292613,"2022-11-06","2022-11-15",224.1,"BL"]
[{"$f":"B1238&\":\"&COUNTIF($B$2:B1238,B1238)","v":"HLCUDA3221000451:1"},"HLCUDA3221000451","HLBU2342820","HLCUDA3221000451","20 Dry","PKKHI",292613,"2022-11-06","2022-11-15",224.1,"BL"]
[{"$f":"B1239&\":\"&COUNTIF($B$2:B1239,B1239)","v":"HLCUIZ12209AQVW5:1"},"HLCUIZ12209AQVW5","QIBU1237082","HLCUIZ12209AQVW5","40 Special","PKKHI",292613,"2022-11-06","2022-11-10",224.1,"SW"]
[{"$f":"B1240&\":\"&COUNTIF($B$2:B1240,B1240)","v":"HLCUIZ12209AQVW5:2"},"HLCUIZ12209AQVW5","QIBU1239491","HLCUIZ12209AQVW5","40 Special","PKKHI",292613,"2022-11-06","2022-11-10",224.1,"SW"]
[{"$f":"B1241&\":\"&COUNTIF($B$2:B1241,B1241)","v":"HLCUIZ12209APGF2:1"},"HLCUIZ12209APGF2","NIDU5167218","HLCUIZ12209APGF2","40 Dry","PKKHI",292613,"2022-11-06","2022-11-12",224.1,"BL"]
[{"$f":"B1242&\":\"&COUNTIF($B$2:B1242,B1242)","v":"HLCUIZ12209APGF2:2"},"HLCUIZ12209APGF2","HLBU2520855","HLCUIZ12209APGF2","40 Dry","PKKHI",292613,"2022-11-06","2022-11-12",224.1,"BL"]
[{"$f":"B1243&\":\"&COUNTIF($B$2:B1243,B1243)","v":"HLCUDA3220905003:1"},"HLCUDA3220905003","TEMU6856670","HLCUDA3220905003","40 Dry","PKKHI",292613,"2022-11-06","2022-11-15",224.1,"BL"]
[{"$f":"B1244&\":\"&COUNTIF($B$2:B1244,B1244)","v":"HLCUDA3220905003:2"},"HLCUDA3220905003","FCIU7348446","HLCUDA3220905003","40 Dry","PKKHI",292613,"2022-11-06","2022-11-15",224.1,"BL"]
[{"$f":"B1245&\":\"&COUNTIF($B$2:B1245,B1245)","v":"HLCUDA3220905003:3"},"HLCUDA3220905003","UASU1059893","HLCUDA3220905003","40 Dry","PKKHI",292613,"2022-11-06","2022-11-15",224.1,"BL"]
[{"$f":"B1246&\":\"&COUNTIF($B$2:B1246,B1246)","v":"HLCUDA3220905003:4"},"HLCUDA3220905003","SEKU5763138","HLCUDA3220905003","40 Dry","PKKHI",292613,"2022-11-06","2022-11-15",224.1,"BL"]
[{"$f":"B1247&\":\"&COUNTIF($B$2:B1247,B1247)","v":"HLCUMB1220903577:1"},"HLCUMB1220903577","HLBU2265683","HLCUMB1220903577","40 Dry","PKKHI",292613,"2022-11-06","2022-11-19",224.1,"SW"]
[{"$f":"B1248&\":\"&COUNTIF($B$2:B1248,B1248)","v":"HLCUDA3220904965:1"},"HLCUDA3220904965","GCXU5171143","HLCUDA3220904965","40 Dry","PKKHI",292613,"2022-11-06","2022-11-15",224.1,"BL"]
[{"$f":"B1249&\":\"&COUNTIF($B$2:B1249,B1249)","v":"HLCUDA3220904965:2"},"HLCUDA3220904965","HAMU1152363","HLCUDA3220904965","40 Dry","PKKHI",292613,"2022-11-06","2022-11-15",224.1,"BL"]
[{"$f":"B1250&\":\"&COUNTIF($B$2:B1250,B1250)","v":"HLCUDA3220904965:3"},"HLCUDA3220904965","FANU1404174","HLCUDA3220904965","40 Dry","PKKHI",292613,"2022-11-06","2022-11-15",224.1,"BL"]
[{"$f":"B1251&\":\"&COUNTIF($B$2:B1251,B1251)","v":"HLCUDA3220904965:4"},"HLCUDA3220904965","BEAU5348953","HLCUDA3220904965","40 Dry","PKKHI",292613,"2022-11-06","2022-11-15",224.1,"BL"]
[{"$f":"B1252&\":\"&COUNTIF($B$2:B1252,B1252)","v":"HLCUDA3220904965:5"},"HLCUDA3220904965","TCNU1757170","HLCUDA3220904965","40 Dry","PKKHI",292613,"2022-11-06","2022-11-15",224.1,"BL"]
[{"$f":"B1253&\":\"&COUNTIF($B$2:B1253,B1253)","v":"HLCUDOH221003906:1"},"HLCUDOH221003906","GCXU5307203","HLCUDOH221003906","40 Dry","PKKHI",292613,"2022-11-06","2022-11-19",224.1,"BL"]
[{"$f":"B1254&\":\"&COUNTIF($B$2:B1254,B1254)","v":"HLCUDOH221003906:2"},"HLCUDOH221003906","GESU6110340","HLCUDOH221003906","40 Dry","PKKHI",292613,"2022-11-06","2022-11-19",224.1,"BL"]
[{"$f":"B1255&\":\"&COUNTIF($B$2:B1255,B1255)","v":"HLCUDOH221003906:3"},"HLCUDOH221003906","FANU1759678","HLCUDOH221003906","40 Dry","PKKHI",292613,"2022-11-06","2022-11-19",224.1,"BL"]
[{"$f":"B1256&\":\"&COUNTIF($B$2:B1256,B1256)","v":"HLCUDOH221003906:4"},"HLCUDOH221003906","FANU1060567","HLCUDOH221003906","40 Dry","PKKHI",292613,"2022-11-06","2022-11-19",224.1,"BL"]
[{"$f":"B1257&\":\"&COUNTIF($B$2:B1257,B1257)","v":"HLCUDOH221003906:5"},"HLCUDOH221003906","HLBU1542823","HLCUDOH221003906","40 Dry","PKKHI",292613,"2022-11-06","2022-11-19",224.1,"BL"]
[{"$f":"B1258&\":\"&COUNTIF($B$2:B1258,B1258)","v":"HLCUDOH221003906:6"},"HLCUDOH221003906","FANU1140641","HLCUDOH221003906","40 Dry","PKKHI",292613,"2022-11-06","2022-11-19",224.1,"BL"]
[{"$f":"B1259&\":\"&COUNTIF($B$2:B1259,B1259)","v":"HLCUDOH221003906:7"},"HLCUDOH221003906","FANU1702970","HLCUDOH221003906","40 Dry","PKKHI",292613,"2022-11-06","2022-11-19",224.1,"BL"]
[{"$f":"B1260&\":\"&COUNTIF($B$2:B1260,B1260)","v":"HLCUDOH221003906:8"},"HLCUDOH221003906","HLXU8172395","HLCUDOH221003906","40 Dry","PKKHI",292613,"2022-11-06","2022-11-19",224.1,"BL"]
[{"$f":"B1261&\":\"&COUNTIF($B$2:B1261,B1261)","v":"HLCUDOH221003906:9"},"HLCUDOH221003906","HLBU3248192","HLCUDOH221003906","40 Dry","PKKHI",292613,"2022-11-06","2022-11-19",224.1,"BL"]
[{"$f":"B1262&\":\"&COUNTIF($B$2:B1262,B1262)","v":"HLCUDOH221003906:10"},"HLCUDOH221003906","HLBU3333817","HLCUDOH221003906","40 Dry","PKKHI",292613,"2022-11-06","2022-11-19",224.1,"BL"]
[{"$f":"B1263&\":\"&COUNTIF($B$2:B1263,B1263)","v":"HLCUDA3220905204:1"},"HLCUDA3220905204","HLXU3550846","HLCUDA3220905204","20 Dry","PKKHI",292613,"2022-11-06","2022-11-19",224.1,"BL"]
[{"$f":"B1264&\":\"&COUNTIF($B$2:B1264,B1264)","v":"HLCUDA3220905204:2"},"HLCUDA3220905204","HLBU1737018","HLCUDA3220905204","20 Dry","PKKHI",292613,"2022-11-06","2022-11-19",224.1,"BL"]
[{"$f":"B1265&\":\"&COUNTIF($B$2:B1265,B1265)","v":"HLCUDA3220905204:3"},"HLCUDA3220905204","TGHU1156567","HLCUDA3220905204","20 Dry","PKKHI",292613,"2022-11-06","2022-11-19",224.1,"BL"]
[{"$f":"B1266&\":\"&COUNTIF($B$2:B1266,B1266)","v":"HLCUDA3220905204:4"},"HLCUDA3220905204","FCIU6314380","HLCUDA3220905204","20 Dry","PKKHI",292613,"2022-11-06","2022-11-19",224.1,"BL"]
[{"$f":"B1267&\":\"&COUNTIF($B$2:B1267,B1267)","v":"HLCUDA3220905204:5"},"HLCUDA3220905204","GLDU9397604","HLCUDA3220905204","20 Dry","PKKHI",292613,"2022-11-06","2022-11-19",224.1,"BL"]
[{"$f":"B1268&\":\"&COUNTIF($B$2:B1268,B1268)","v":"HLCUMCT221003076:1"},"HLCUMCT221003076","TCLU5096723","HLCUMCT221003076","40 Dry","PKKHI",292613,"2022-11-06","2022-11-19",224.1,"BL"]
[{"$f":"B1269&\":\"&COUNTIF($B$2:B1269,B1269)","v":"HLCUMCT221003076:2"},"HLCUMCT221003076","TCLU5581436","HLCUMCT221003076","40 Dry","PKKHI",292613,"2022-11-06","2022-11-19",224.1,"BL"]
[{"$f":"B1270&\":\"&COUNTIF($B$2:B1270,B1270)","v":"HLCUDOH221003475:1"},"HLCUDOH221003475","HLBU1933350","HLCUDOH221003475","40 Dry","PKKHI",292613,"2022-11-06","2022-11-19",224.1,"BL"]
[{"$f":"B1271&\":\"&COUNTIF($B$2:B1271,B1271)","v":"HLCUDOH221003475:2"},"HLCUDOH221003475","BMOU4037735","HLCUDOH221003475","40 Dry","PKKHI",292613,"2022-11-06","2022-11-19",224.1,"BL"]
[{"$f":"B1272&\":\"&COUNTIF($B$2:B1272,B1272)","v":"HLCUDOH221003475:3"},"HLCUDOH221003475","BSIU8215430","HLCUDOH221003475","40 Dry","PKKHI",292613,"2022-11-06","2022-11-19",224.1,"BL"]
[{"$f":"B1273&\":\"&COUNTIF($B$2:B1273,B1273)","v":"HLCUDOH221003475:4"},"HLCUDOH221003475","FANU1813779","HLCUDOH221003475","40 Dry","PKKHI",292613,"2022-11-06","2022-11-19",224.1,"BL"]
[{"$f":"B1274&\":\"&COUNTIF($B$2:B1274,B1274)","v":"HLCUDOH221003475:5"},"HLCUDOH221003475","FANU1897996","HLCUDOH221003475","40 Dry","PKKHI",292613,"2022-11-06","2022-11-19",224.1,"BL"]
[{"$f":"B1275&\":\"&COUNTIF($B$2:B1275,B1275)","v":"HLCUDOH221003475:6"},"HLCUDOH221003475","FANU1946827","HLCUDOH221003475","40 Dry","PKKHI",292613,"2022-11-06","2022-11-19",224.1,"BL"]
[{"$f":"B1276&\":\"&COUNTIF($B$2:B1276,B1276)","v":"HLCUDOH221003475:7"},"HLCUDOH221003475","FANU3033236","HLCUDOH221003475","40 Dry","PKKHI",292613,"2022-11-06","2022-11-19",224.1,"BL"]
[{"$f":"B1277&\":\"&COUNTIF($B$2:B1277,B1277)","v":"HLCUDOH221003475:8"},"HLCUDOH221003475","FANU3216371","HLCUDOH221003475","40 Dry","PKKHI",292613,"2022-11-06","2022-11-19",224.1,"BL"]
[{"$f":"B1278&\":\"&COUNTIF($B$2:B1278,B1278)","v":"HLCUDOH221003475:9"},"HLCUDOH221003475","FFAU2865794","HLCUDOH221003475","40 Dry","PKKHI",292613,"2022-11-06","2022-11-19",224.1,"BL"]
[{"$f":"B1279&\":\"&COUNTIF($B$2:B1279,B1279)","v":"HLCUDOH221003475:10"},"HLCUDOH221003475","HAMU1258020","HLCUDOH221003475","40 Dry","PKKHI",292613,"2022-11-06","2022-11-19",224.1,"BL"]
[{"$f":"B1280&\":\"&COUNTIF($B$2:B1280,B1280)","v":"HLCUDOH221003475:11"},"HLCUDOH221003475","HLBU1850220","HLCUDOH221003475","40 Dry","PKKHI",292613,"2022-11-06","2022-11-19",224.1,"BL"]
[{"$f":"B1281&\":\"&COUNTIF($B$2:B1281,B1281)","v":"HLCUDOH221003475:12"},"HLCUDOH221003475","HLBU1906400","HLCUDOH221003475","40 Dry","PKKHI",292613,"2022-11-06","2022-11-19",224.1,"BL"]
[{"$f":"B1282&\":\"&COUNTIF($B$2:B1282,B1282)","v":"HLCUDOH221003475:13"},"HLCUDOH221003475","HLBU1909415","HLCUDOH221003475","40 Dry","PKKHI",292613,"2022-11-06","2022-11-19",224.1,"BL"]
[{"$f":"B1283&\":\"&COUNTIF($B$2:B1283,B1283)","v":"HLCUDOH221003475:14"},"HLCUDOH221003475","HLBU1985349","HLCUDOH221003475","40 Dry","PKKHI",292613,"2022-11-06","2022-11-19",224.1,"BL"]
[{"$f":"B1284&\":\"&COUNTIF($B$2:B1284,B1284)","v":"HLCUDOH221003475:15"},"HLCUDOH221003475","HLBU2494627","HLCUDOH221003475","40 Dry","PKKHI",292613,"2022-11-06","2022-11-19",224.1,"BL"]
[{"$f":"B1285&\":\"&COUNTIF($B$2:B1285,B1285)","v":"HLCUDOH221003475:16"},"HLCUDOH221003475","HLBU2707830","HLCUDOH221003475","40 Dry","PKKHI",292613,"2022-11-06","2022-11-19",224.1,"BL"]
[{"$f":"B1286&\":\"&COUNTIF($B$2:B1286,B1286)","v":"HLCUDOH221003475:17"},"HLCUDOH221003475","HLBU2786260","HLCUDOH221003475","40 Dry","PKKHI",292613,"2022-11-06","2022-11-19",224.1,"BL"]
[{"$f":"B1287&\":\"&COUNTIF($B$2:B1287,B1287)","v":"HLCUDOH221003475:18"},"HLCUDOH221003475","HLBU3138071","HLCUDOH221003475","40 Dry","PKKHI",292613,"2022-11-06","2022-11-19",224.1,"BL"]
[{"$f":"B1288&\":\"&COUNTIF($B$2:B1288,B1288)","v":"HLCUDOH221003475:19"},"HLCUDOH221003475","SEGU5117940","HLCUDOH221003475","40 Dry","PKKHI",292613,"2022-11-06","2022-11-19",224.1,"BL"]
[{"$f":"B1289&\":\"&COUNTIF($B$2:B1289,B1289)","v":"HLCUDOH221003475:20"},"HLCUDOH221003475","TEMU7899510","HLCUDOH221003475","40 Dry","PKKHI",292613,"2022-11-06","2022-11-19",224.1,"BL"]
[{"$f":"B1290&\":\"&COUNTIF($B$2:B1290,B1290)","v":"HLCUDOH221003475:21"},"HLCUDOH221003475","TRHU8605614","HLCUDOH221003475","40 Dry","PKKHI",292613,"2022-11-06","2022-11-19",224.1,"BL"]
[{"$f":"B1291&\":\"&COUNTIF($B$2:B1291,B1291)","v":"HLCUDOH221003475:22"},"HLCUDOH221003475","TXGU7089805","HLCUDOH221003475","40 Dry","PKKHI",292613,"2022-11-06","2022-11-19",224.1,"BL"]
[{"$f":"B1292&\":\"&COUNTIF($B$2:B1292,B1292)","v":"HLCUDOH221003475:23"},"HLCUDOH221003475","TXGU7163414","HLCUDOH221003475","40 Dry","PKKHI",292613,"2022-11-06","2022-11-19",224.1,"BL"]
[{"$f":"B1293&\":\"&COUNTIF($B$2:B1293,B1293)","v":"HLCUDOH221003475:24"},"HLCUDOH221003475","UACU5098915","HLCUDOH221003475","40 Dry","PKKHI",292613,"2022-11-06","2022-11-19",224.1,"BL"]
[{"$f":"B1294&\":\"&COUNTIF($B$2:B1294,B1294)","v":"HLCUDOH221003475:25"},"HLCUDOH221003475","UACU5099505","HLCUDOH221003475","40 Dry","PKKHI",292613,"2022-11-06","2022-11-19",224.1,"BL"]
[{"$f":"B1295&\":\"&COUNTIF($B$2:B1295,B1295)","v":"HLCUDOH221003475:26"},"HLCUDOH221003475","UACU5817900","HLCUDOH221003475","40 Dry","PKKHI",292613,"2022-11-06","2022-11-19",224.1,"BL"]
[{"$f":"B1296&\":\"&COUNTIF($B$2:B1296,B1296)","v":"HLCUDOH221003475:27"},"HLCUDOH221003475","UACU5891472","HLCUDOH221003475","40 Dry","PKKHI",292613,"2022-11-06","2022-11-19",224.1,"BL"]
[{"$f":"B1297&\":\"&COUNTIF($B$2:B1297,B1297)","v":"HLCUDOH221003475:28"},"HLCUDOH221003475","FANU1865582","HLCUDOH221003475","40 Dry","PKKHI",292613,"2022-11-06","2022-11-19",224.1,"BL"]
[{"$f":"B1298&\":\"&COUNTIF($B$2:B1298,B1298)","v":"HLCUDOH221003475:29"},"HLCUDOH221003475","FCIU9162595","HLCUDOH221003475","40 Dry","PKKHI",292613,"2022-11-06","2022-11-19",224.1,"BL"]
[{"$f":"B1299&\":\"&COUNTIF($B$2:B1299,B1299)","v":"HLCUDOH221003475:30"},"HLCUDOH221003475","TCLU8228320","HLCUDOH221003475","40 Dry","PKKHI",292613,"2022-11-06","2022-11-19",224.1,"BL"]
[{"$f":"B1300&\":\"&COUNTIF($B$2:B1300,B1300)","v":"HLCUDOH221003475:31"},"HLCUDOH221003475","FCIU7331443","HLCUDOH221003475","40 Dry","PKKHI",292613,"2022-11-06","2022-11-19",224.1,"BL"]
[{"$f":"B1301&\":\"&COUNTIF($B$2:B1301,B1301)","v":"HLCUDOH221003475:32"},"HLCUDOH221003475","TCNU7418620","HLCUDOH221003475","40 Dry","PKKHI",292613,"2022-11-06","2022-11-19",224.1,"BL"]
[{"$f":"B1302&\":\"&COUNTIF($B$2:B1302,B1302)","v":"HLCUDOH221003475:33"},"HLCUDOH221003475","UACU6028656","HLCUDOH221003475","40 Dry","PKKHI",292613,"2022-11-06","2022-11-19",224.1,"BL"]
[{"$f":"B1303&\":\"&COUNTIF($B$2:B1303,B1303)","v":"HLCUDOH221003475:34"},"HLCUDOH221003475","CAAU5555886","HLCUDOH221003475","40 Dry","PKKHI",292613,"2022-11-06","2022-11-19",224.1,"BL"]
[{"$f":"B1304&\":\"&COUNTIF($B$2:B1304,B1304)","v":"HLCUDOH221003475:35"},"HLCUDOH221003475","UACU5882552","HLCUDOH221003475","40 Dry","PKKHI",292613,"2022-11-06","2022-11-19",224.1,"BL"]
[{"$f":"B1305&\":\"&COUNTIF($B$2:B1305,B1305)","v":"HLCUDOH221003486:1"},"HLCUDOH221003486","FANU1490085","HLCUDOH221003486","40 Dry","PKKHI",292613,"2022-11-06","2022-11-19",224.1,"BL"]
[{"$f":"B1306&\":\"&COUNTIF($B$2:B1306,B1306)","v":"HLCUDOH221003486:2"},"HLCUDOH221003486","FDCU0343015","HLCUDOH221003486","40 Dry","PKKHI",292613,"2022-11-06","2022-11-19",224.1,"BL"]
[{"$f":"B1307&\":\"&COUNTIF($B$2:B1307,B1307)","v":"HLCUDOH221003486:3"},"HLCUDOH221003486","HLBU2006722","HLCUDOH221003486","40 Dry","PKKHI",292613,"2022-11-06","2022-11-19",224.1,"BL"]
[{"$f":"B1308&\":\"&COUNTIF($B$2:B1308,B1308)","v":"HLCUDOH221003486:4"},"HLCUDOH221003486","RFCU5064359","HLCUDOH221003486","40 Dry","PKKHI",292613,"2022-11-06","2022-11-19",224.1,"BL"]
[{"$f":"B1309&\":\"&COUNTIF($B$2:B1309,B1309)","v":"HLCUDOH221003486:5"},"HLCUDOH221003486","HLXU8419654","HLCUDOH221003486","40 Dry","PKKHI",292613,"2022-11-06","2022-11-19",224.1,"BL"]
[{"$f":"B1310&\":\"&COUNTIF($B$2:B1310,B1310)","v":"HLCUDOH221003486:6"},"HLCUDOH221003486","UACU5756678","HLCUDOH221003486","40 Dry","PKKHI",292613,"2022-11-06","2022-11-19",224.1,"BL"]
[{"$f":"B1311&\":\"&COUNTIF($B$2:B1311,B1311)","v":"HLCUDOH221003486:7"},"HLCUDOH221003486","FANU1182971","HLCUDOH221003486","40 Dry","PKKHI",292613,"2022-11-06","2022-11-19",224.1,"BL"]
[{"$f":"B1312&\":\"&COUNTIF($B$2:B1312,B1312)","v":"HLCUDOH221003486:8"},"HLCUDOH221003486","FANU1249870","HLCUDOH221003486","40 Dry","PKKHI",292613,"2022-11-06","2022-11-19",224.1,"BL"]
[{"$f":"B1313&\":\"&COUNTIF($B$2:B1313,B1313)","v":"HLCUDOH221003486:9"},"HLCUDOH221003486","DFSU7307266","HLCUDOH221003486","40 Dry","PKKHI",292613,"2022-11-06","2022-11-19",224.1,"BL"]
[{"$f":"B1314&\":\"&COUNTIF($B$2:B1314,B1314)","v":"HLCUDOH221003486:10"},"HLCUDOH221003486","FANU1426804","HLCUDOH221003486","40 Dry","PKKHI",292613,"2022-11-06","2022-11-19",224.1,"BL"]
[{"$f":"B1315&\":\"&COUNTIF($B$2:B1315,B1315)","v":"HLCUDOH221003486:11"},"HLCUDOH221003486","HAMU1307418","HLCUDOH221003486","40 Dry","PKKHI",292613,"2022-11-06","2022-11-19",224.1,"BL"]
[{"$f":"B1316&\":\"&COUNTIF($B$2:B1316,B1316)","v":"HLCUDOH221003486:12"},"HLCUDOH221003486","HLBU2061777","HLCUDOH221003486","40 Dry","PKKHI",292613,"2022-11-06","2022-11-19",224.1,"BL"]
[{"$f":"B1317&\":\"&COUNTIF($B$2:B1317,B1317)","v":"HLCUDOH221003486:13"},"HLCUDOH221003486","FCIU7618114","HLCUDOH221003486","40 Dry","PKKHI",292613,"2022-11-06","2022-11-19",224.1,"BL"]
[{"$f":"B1318&\":\"&COUNTIF($B$2:B1318,B1318)","v":"HLCUDOH221003486:14"},"HLCUDOH221003486","FANU1883101","HLCUDOH221003486","40 Dry","PKKHI",292613,"2022-11-06","2022-11-19",224.1,"BL"]
[{"$f":"B1319&\":\"&COUNTIF($B$2:B1319,B1319)","v":"HLCUDOH221003486:15"},"HLCUDOH221003486","UACU5243037","HLCUDOH221003486","40 Dry","PKKHI",292613,"2022-11-06","2022-11-19",224.1,"BL"]
[{"$f":"B1320&\":\"&COUNTIF($B$2:B1320,B1320)","v":"HLCUDOH221003486:16"},"HLCUDOH221003486","SEGU5672985","HLCUDOH221003486","40 Dry","PKKHI",292613,"2022-11-06","2022-11-19",224.1,"BL"]
[{"$f":"B1321&\":\"&COUNTIF($B$2:B1321,B1321)","v":"HLCUDOH221003486:17"},"HLCUDOH221003486","BMOU4536800","HLCUDOH221003486","40 Dry","PKKHI",292613,"2022-11-06","2022-11-19",224.1,"BL"]
[{"$f":"B1322&\":\"&COUNTIF($B$2:B1322,B1322)","v":"HLCUDOH221003486:18"},"HLCUDOH221003486","DAYU6131602","HLCUDOH221003486","40 Dry","PKKHI",292613,"2022-11-06","2022-11-19",224.1,"BL"]
[{"$f":"B1323&\":\"&COUNTIF($B$2:B1323,B1323)","v":"HLCUDOH221003486:19"},"HLCUDOH221003486","CAIU8975416","HLCUDOH221003486","40 Dry","PKKHI",292613,"2022-11-06","2022-11-19",224.1,"BL"]
[{"$f":"B1324&\":\"&COUNTIF($B$2:B1324,B1324)","v":"HLCUDOH221003486:20"},"HLCUDOH221003486","UASU1004993","HLCUDOH221003486","40 Dry","PKKHI",292613,"2022-11-06","2022-11-19",224.1,"BL"]
[{"$f":"B1325&\":\"&COUNTIF($B$2:B1325,B1325)","v":"HLCUIZ1221027568:1"},"HLCUIZ1221027568","UASU1022019","HLCUIZ1221027568","40 Dry","PKKHI",292613,"2022-11-06","2022-11-12",224.1,"SW"]
[{"$f":"B1326&\":\"&COUNTIF($B$2:B1326,B1326)","v":"HLCUBUH220908399:1"},"HLCUBUH220908399","HLXU1096143","HLCUBUH220908399","20 Dry","PKKHI",292613,"2022-11-06","2022-11-10",224.1,"BL"]
[{"$f":"B1327&\":\"&COUNTIF($B$2:B1327,B1327)","v":"HLCUBUH220909643:1"},"HLCUBUH220909643","HLXU1096143","HLCUBUH220909643","20 Dry","PKKHI",292613,"2022-11-06","2022-11-10",224.1,"BL"]
[{"$f":"B1328&\":\"&COUNTIF($B$2:B1328,B1328)","v":"HLCUDA3220905215:1"},"HLCUDA3220905215","BMOU2410686","HLCUDA3220905215","20 Dry","PKKHI",292613,"2022-11-06","2022-11-19",224.1,"BL"]
[{"$f":"B1329&\":\"&COUNTIF($B$2:B1329,B1329)","v":"HLCUDA3220905215:2"},"HLCUDA3220905215","TGBU2359401","HLCUDA3220905215","20 Dry","PKKHI",292613,"2022-11-06","2022-11-19",224.1,"BL"]
[{"$f":"B1330&\":\"&COUNTIF($B$2:B1330,B1330)","v":"HLCUDA3220905215:3"},"HLCUDA3220905215","NIDU2372498","HLCUDA3220905215","20 Dry","PKKHI",292613,"2022-11-06","2022-11-19",224.1,"BL"]
[{"$f":"B1331&\":\"&COUNTIF($B$2:B1331,B1331)","v":"HLCUDA3220905215:4"},"HLCUDA3220905215","CAAU2004215","HLCUDA3220905215","20 Dry","PKKHI",292613,"2022-11-06","2022-11-19",224.1,"BL"]
[{"$f":"B1332&\":\"&COUNTIF($B$2:B1332,B1332)","v":"HLCUDA3220905215:5"},"HLCUDA3220905215","UETU2838674","HLCUDA3220905215","20 Dry","PKKHI",292613,"2022-11-06","2022-11-19",224.1,"BL"]
[{"$f":"B1333&\":\"&COUNTIF($B$2:B1333,B1333)","v":"HLCUKW3221001211:1"},"HLCUKW3221001211","HAMU1292750","HLCUKW3221001211","40 Dry","PKKHI",292613,"2022-11-06","2022-11-19",224.1,"BL"]
[{"$f":"B1334&\":\"&COUNTIF($B$2:B1334,B1334)","v":"HLCUKW3221001211:2"},"HLCUKW3221001211","FANU3067909","HLCUKW3221001211","40 Dry","PKKHI",292613,"2022-11-06","2022-11-19",224.1,"BL"]
[{"$f":"B1335&\":\"&COUNTIF($B$2:B1335,B1335)","v":"HLCUKW3221001211:3"},"HLCUKW3221001211","FANU1934446","HLCUKW3221001211","40 Dry","PKKHI",292613,"2022-11-06","2022-11-19",224.1,"BL"]
[{"$f":"B1336&\":\"&COUNTIF($B$2:B1336,B1336)","v":"HLCUKW3221001211:4"},"HLCUKW3221001211","HLBU2546757","HLCUKW3221001211","40 Dry","PKKHI",292613,"2022-11-06","2022-11-19",224.1,"BL"]
[{"$f":"B1337&\":\"&COUNTIF($B$2:B1337,B1337)","v":"HLCUKW3221001211:5"},"HLCUKW3221001211","HLBU3325386","HLCUKW3221001211","40 Dry","PKKHI",292613,"2022-11-06","2022-11-19",224.1,"BL"]
[{"$f":"B1338&\":\"&COUNTIF($B$2:B1338,B1338)","v":"HLCUKW3221001211:6"},"HLCUKW3221001211","SEKU6065321","HLCUKW3221001211","40 Dry","PKKHI",292613,"2022-11-06","2022-11-19",224.1,"BL"]
[{"$f":"B1339&\":\"&COUNTIF($B$2:B1339,B1339)","v":"HLCUKW3221001211:7"},"HLCUKW3221001211","TEMU7560743","HLCUKW3221001211","40 Dry","PKKHI",292613,"2022-11-06","2022-11-19",224.1,"BL"]
[{"$f":"B1340&\":\"&COUNTIF($B$2:B1340,B1340)","v":"HLCUKW3221001211:8"},"HLCUKW3221001211","TXGU7086540","HLCUKW3221001211","40 Dry","PKKHI",292613,"2022-11-06","2022-11-19",224.1,"BL"]
[{"$f":"B1341&\":\"&COUNTIF($B$2:B1341,B1341)","v":"HLCUKW3221001211:9"},"HLCUKW3221001211","HLBU1661484","HLCUKW3221001211","40 Dry","PKKHI",292613,"2022-11-06","2022-11-19",224.1,"BL"]
[{"$f":"B1342&\":\"&COUNTIF($B$2:B1342,B1342)","v":"HLCUKW3221001211:10"},"HLCUKW3221001211","HLXU8477080","HLCUKW3221001211","40 Dry","PKKHI",292613,"2022-11-06","2022-11-19",224.1,"BL"]
[{"$f":"B1343&\":\"&COUNTIF($B$2:B1343,B1343)","v":"HLCUIZ1221000376:1"},"HLCUIZ1221000376","XINU1233353","HLCUIZ1221000376","20 Dry","PKKHI",292613,"2022-11-06","2022-11-21",224.1,"SW"]
[{"$f":"B1344&\":\"&COUNTIF($B$2:B1344,B1344)","v":"HLCUDOH221003526:1"},"HLCUDOH221003526","BEAU4190143","HLCUDOH221003526","40 Dry","PKKHI",292613,"2022-11-06","2022-11-19",224.1,"BL"]
[{"$f":"B1345&\":\"&COUNTIF($B$2:B1345,B1345)","v":"HLCUDOH221003526:2"},"HLCUDOH221003526","HAMU1210480","HLCUDOH221003526","40 Dry","PKKHI",292613,"2022-11-06","2022-11-19",224.1,"BL"]
[{"$f":"B1346&\":\"&COUNTIF($B$2:B1346,B1346)","v":"HLCUDOH221003526:3"},"HLCUDOH221003526","HLXU6593219","HLCUDOH221003526","40 Dry","PKKHI",292613,"2022-11-06","2022-11-19",224.1,"BL"]
[{"$f":"B1347&\":\"&COUNTIF($B$2:B1347,B1347)","v":"HLCUDOH221003526:4"},"HLCUDOH221003526","DFSU6633735","HLCUDOH221003526","40 Dry","PKKHI",292613,"2022-11-06","2022-11-19",224.1,"BL"]
[{"$f":"B1348&\":\"&COUNTIF($B$2:B1348,B1348)","v":"HLCUDOH221003526:5"},"HLCUDOH221003526","CXDU2289608","HLCUDOH221003526","40 Dry","PKKHI",292613,"2022-11-06","2022-11-19",224.1,"BL"]
[{"$f":"B1349&\":\"&COUNTIF($B$2:B1349,B1349)","v":"HLCUDOH221003526:6"},"HLCUDOH221003526","HLBU1150648","HLCUDOH221003526","40 Dry","PKKHI",292613,"2022-11-06","2022-11-19",224.1,"BL"]
[{"$f":"B1350&\":\"&COUNTIF($B$2:B1350,B1350)","v":"HLCUDOH221003526:7"},"HLCUDOH221003526","SEKU6053953","HLCUDOH221003526","40 Dry","PKKHI",292613,"2022-11-06","2022-11-19",224.1,"BL"]
[{"$f":"B1351&\":\"&COUNTIF($B$2:B1351,B1351)","v":"HLCUDOH221003526:8"},"HLCUDOH221003526","HLXU8386653","HLCUDOH221003526","40 Dry","PKKHI",292613,"2022-11-06","2022-11-19",224.1,"BL"]
[{"$f":"B1352&\":\"&COUNTIF($B$2:B1352,B1352)","v":"HLCUDOH221003526:9"},"HLCUDOH221003526","UASU1004463","HLCUDOH221003526","40 Dry","PKKHI",292613,"2022-11-06","2022-11-19",224.1,"BL"]
[{"$f":"B1353&\":\"&COUNTIF($B$2:B1353,B1353)","v":"HLCUDOH221003526:10"},"HLCUDOH221003526","CAIU9423659","HLCUDOH221003526","40 Dry","PKKHI",292613,"2022-11-06","2022-11-19",224.1,"BL"]
[{"$f":"B1354&\":\"&COUNTIF($B$2:B1354,B1354)","v":"HLCUDOH221003526:11"},"HLCUDOH221003526","HLBU2026966","HLCUDOH221003526","40 Dry","PKKHI",292613,"2022-11-06","2022-11-19",224.1,"BL"]
[{"$f":"B1355&\":\"&COUNTIF($B$2:B1355,B1355)","v":"HLCUDOH221003526:12"},"HLCUDOH221003526","SEGU4819412","HLCUDOH221003526","40 Dry","PKKHI",292613,"2022-11-06","2022-11-19",224.1,"BL"]
[{"$f":"B1356&\":\"&COUNTIF($B$2:B1356,B1356)","v":"HLCUDOH221003526:13"},"HLCUDOH221003526","TEMU7270127","HLCUDOH221003526","40 Dry","PKKHI",292613,"2022-11-06","2022-11-19",224.1,"BL"]
[{"$f":"B1357&\":\"&COUNTIF($B$2:B1357,B1357)","v":"HLCUDOH221003526:14"},"HLCUDOH221003526","FANU1896243","HLCUDOH221003526","40 Dry","PKKHI",292613,"2022-11-06","2022-11-19",224.1,"BL"]
[{"$f":"B1358&\":\"&COUNTIF($B$2:B1358,B1358)","v":"HLCUDOH221003526:15"},"HLCUDOH221003526","FANU3009224","HLCUDOH221003526","40 Dry","PKKHI",292613,"2022-11-06","2022-11-19",224.1,"BL"]
[{"$f":"B1359&\":\"&COUNTIF($B$2:B1359,B1359)","v":"HLCUDOH221003526:16"},"HLCUDOH221003526","GATU8801638","HLCUDOH221003526","40 Dry","PKKHI",292613,"2022-11-06","2022-11-19",224.1,"BL"]
[{"$f":"B1360&\":\"&COUNTIF($B$2:B1360,B1360)","v":"HLCUDOH221003526:17"},"HLCUDOH221003526","BEAU4718570","HLCUDOH221003526","40 Dry","PKKHI",292613,"2022-11-06","2022-11-19",224.1,"BL"]
[{"$f":"B1361&\":\"&COUNTIF($B$2:B1361,B1361)","v":"HLCUDOH221003526:18"},"HLCUDOH221003526","UASU1052754","HLCUDOH221003526","40 Dry","PKKHI",292613,"2022-11-06","2022-11-19",224.1,"BL"]
[{"$f":"B1362&\":\"&COUNTIF($B$2:B1362,B1362)","v":"HLCUDOH221003526:19"},"HLCUDOH221003526","SEKU6400055","HLCUDOH221003526","40 Dry","PKKHI",292613,"2022-11-06","2022-11-19",224.1,"BL"]
[{"$f":"B1363&\":\"&COUNTIF($B$2:B1363,B1363)","v":"HLCUDOH221003526:20"},"HLCUDOH221003526","BEAU4196394","HLCUDOH221003526","40 Dry","PKKHI",292613,"2022-11-06","2022-11-19",224.1,"BL"]
[{"$f":"B1364&\":\"&COUNTIF($B$2:B1364,B1364)","v":"HLCUDOH221003526:21"},"HLCUDOH221003526","FANU1660514","HLCUDOH221003526","40 Dry","PKKHI",292613,"2022-11-06","2022-11-19",224.1,"BL"]
[{"$f":"B1365&\":\"&COUNTIF($B$2:B1365,B1365)","v":"HLCUDOH221003526:22"},"HLCUDOH221003526","UACU5187015","HLCUDOH221003526","40 Dry","PKKHI",292613,"2022-11-06","2022-11-19",224.1,"BL"]
[{"$f":"B1366&\":\"&COUNTIF($B$2:B1366,B1366)","v":"HLCUDOH221003526:23"},"HLCUDOH221003526","FDCU0077403","HLCUDOH221003526","40 Dry","PKKHI",292613,"2022-11-06","2022-11-19",224.1,"BL"]
[{"$f":"B1367&\":\"&COUNTIF($B$2:B1367,B1367)","v":"HLCUDOH221003526:24"},"HLCUDOH221003526","DFSU6476019","HLCUDOH221003526","40 Dry","PKKHI",292613,"2022-11-06","2022-11-19",224.1,"BL"]
[{"$f":"B1368&\":\"&COUNTIF($B$2:B1368,B1368)","v":"HLCUDOH221003526:25"},"HLCUDOH221003526","UACU5261600","HLCUDOH221003526","40 Dry","PKKHI",292613,"2022-11-06","2022-11-19",224.1,"BL"]
[{"$f":"B1369&\":\"&COUNTIF($B$2:B1369,B1369)","v":"HLCUDOH221003526:26"},"HLCUDOH221003526","FBLU0114217","HLCUDOH221003526","40 Dry","PKKHI",292613,"2022-11-06","2022-11-19",224.1,"BL"]
[{"$f":"B1370&\":\"&COUNTIF($B$2:B1370,B1370)","v":"HLCUDOH221003526:27"},"HLCUDOH221003526","TCNU1761653","HLCUDOH221003526","40 Dry","PKKHI",292613,"2022-11-06","2022-11-19",224.1,"BL"]
[{"$f":"B1371&\":\"&COUNTIF($B$2:B1371,B1371)","v":"HLCUDOH221003526:28"},"HLCUDOH221003526","HLBU1071359","HLCUDOH221003526","40 Dry","PKKHI",292613,"2022-11-06","2022-11-19",224.1,"BL"]
[{"$f":"B1372&\":\"&COUNTIF($B$2:B1372,B1372)","v":"HLCUDOH221003526:29"},"HLCUDOH221003526","FCIU7462607","HLCUDOH221003526","40 Dry","PKKHI",292613,"2022-11-06","2022-11-19",224.1,"BL"]
[{"$f":"B1373&\":\"&COUNTIF($B$2:B1373,B1373)","v":"HLCUDOH221003526:30"},"HLCUDOH221003526","FANU3172587","HLCUDOH221003526","40 Dry","PKKHI",292613,"2022-11-06","2022-11-19",224.1,"BL"]
[{"$f":"B1374&\":\"&COUNTIF($B$2:B1374,B1374)","v":"HLCUDOH221003526:31"},"HLCUDOH221003526","FANU1696728","HLCUDOH221003526","40 Dry","PKKHI",292613,"2022-11-06","2022-11-19",224.1,"BL"]
[{"$f":"B1375&\":\"&COUNTIF($B$2:B1375,B1375)","v":"HLCUDOH221003526:32"},"HLCUDOH221003526","HLBU1309658","HLCUDOH221003526","40 Dry","PKKHI",292613,"2022-11-06","2022-11-19",224.1,"BL"]
[{"$f":"B1376&\":\"&COUNTIF($B$2:B1376,B1376)","v":"HLCUDOH221003526:33"},"HLCUDOH221003526","HAMU1280955","HLCUDOH221003526","40 Dry","PKKHI",292613,"2022-11-06","2022-11-19",224.1,"BL"]
[{"$f":"B1377&\":\"&COUNTIF($B$2:B1377,B1377)","v":"HLCUDOH221003526:34"},"HLCUDOH221003526","HLXU6406447","HLCUDOH221003526","40 Dry","PKKHI",292613,"2022-11-06","2022-11-19",224.1,"BL"]
[{"$f":"B1378&\":\"&COUNTIF($B$2:B1378,B1378)","v":"HLCUDOH221003526:35"},"HLCUDOH221003526","FANU1317850","HLCUDOH221003526","40 Dry","PKKHI",292613,"2022-11-06","2022-11-19",224.1,"BL"]
[{"$f":"B1379&\":\"&COUNTIF($B$2:B1379,B1379)","v":"HLCUDOH221003526:36"},"HLCUDOH221003526","FANU3004860","HLCUDOH221003526","40 Dry","PKKHI",292613,"2022-11-06","2022-11-19",224.1,"BL"]
[{"$f":"B1380&\":\"&COUNTIF($B$2:B1380,B1380)","v":"HLCUDOH221003526:37"},"HLCUDOH221003526","HLBU1890222","HLCUDOH221003526","40 Dry","PKKHI",292613,"2022-11-06","2022-11-19",224.1,"BL"]
[{"$f":"B1381&\":\"&COUNTIF($B$2:B1381,B1381)","v":"HLCUDOH221003526:38"},"HLCUDOH221003526","GLDU7483555","HLCUDOH221003526","40 Dry","PKKHI",292613,"2022-11-06","2022-11-19",224.1,"BL"]
[{"$f":"B1382&\":\"&COUNTIF($B$2:B1382,B1382)","v":"HLCUTOR220932450:1"},"HLCUTOR220932450","HLBU3095597","HLCUTOR220932450","40 Dry","PKKHI",292613,"2022-11-06","2022-11-17",224.1,"BL"]
[{"$f":"B1383&\":\"&COUNTIF($B$2:B1383,B1383)","v":"HLCUTOR220932450:2"},"HLCUTOR220932450","TGHU9234687","HLCUTOR220932450","40 Dry","PKKHI",292613,"2022-11-06","2022-11-17",224.1,"BL"]
[{"$f":"B1384&\":\"&COUNTIF($B$2:B1384,B1384)","v":"HLCUTOR220917377:1"},"HLCUTOR220917377","HLBU2590600","HLCUTOR220917377","40 Dry","PKKHI",292613,"2022-11-06","2022-11-17",224.1,"SW"]
[{"$f":"B1385&\":\"&COUNTIF($B$2:B1385,B1385)","v":"HLCUTOR220917377:2"},"HLCUTOR220917377","FANU1263420","HLCUTOR220917377","40 Dry","PKKHI",292613,"2022-11-06","2022-11-17",224.1,"SW"]
[{"$f":"B1386&\":\"&COUNTIF($B$2:B1386,B1386)","v":"HLCUTOR220928639:1"},"HLCUTOR220928639","HLXU1314754","HLCUTOR220928639","20 Dry","PKKHI",292613,"2022-11-06","2022-11-10",224.1,"SW"]
[{"$f":"B1387&\":\"&COUNTIF($B$2:B1387,B1387)","v":"HLCUTOR220931603:1"},"HLCUTOR220931603","HLBU2154360","HLCUTOR220931603","40 Dry","PKKHI",292613,"2022-11-06","2022-11-17",224.1,"SW"]
[{"$f":"B1388&\":\"&COUNTIF($B$2:B1388,B1388)","v":"HLCUBSC2204BXHD5:1"},"HLCUBSC2204BXHD5","HLXU8465768","HLCUBSC2204BXHD5","40 Dry","PKKHI",292613,"2022-11-06","2022-11-10",224.1,"BL"]
[{"$f":"B1389&\":\"&COUNTIF($B$2:B1389,B1389)","v":"HLCUTOR220932990:1"},"HLCUTOR220932990","HLXU8473402","HLCUTOR220932990","40 Dry","PKKHI",292613,"2022-11-06","2022-11-17",224.1,"SW"]
[{"$f":"B1390&\":\"&COUNTIF($B$2:B1390,B1390)","v":"HLCUBSC2209BNYV8:1"},"HLCUBSC2209BNYV8","HLXU8234270","HLCUBSC2209BNYV8","40 Dry","PKKHI",292613,"2022-11-06","2022-11-10",224.1,"SW"]
[{"$f":"B1391&\":\"&COUNTIF($B$2:B1391,B1391)","v":"HLCUTOR220922102:1"},"HLCUTOR220922102","FANU1703051","HLCUTOR220922102","40 Dry","PKKHI",292613,"2022-11-06","2022-11-17",224.1,"SW"]
[{"$f":"B1392&\":\"&COUNTIF($B$2:B1392,B1392)","v":"HLCUTOR220932080:1"},"HLCUTOR220932080","TXGU7101428","HLCUTOR220932080","40 Dry","PKKHI",292613,"2022-11-06","2022-11-17",224.1,"SW"]
[{"$f":"B1393&\":\"&COUNTIF($B$2:B1393,B1393)","v":"HLCUTOR220931596:1"},"HLCUTOR220931596","BEAU4175410","HLCUTOR220931596","40 Dry","PKKHI",292613,"2022-11-06","2022-11-17",224.1,"SW"]
[{"$f":"B1394&\":\"&COUNTIF($B$2:B1394,B1394)","v":"HLCUBSC2209BUDY4:1"},"HLCUBSC2209BUDY4","SEKU6054950","HLCUBSC2209BUDY4","40 Dry","PKKHI",292613,"2022-11-06","2022-11-19",224.1,"BL"]
[{"$f":"B1395&\":\"&COUNTIF($B$2:B1395,B1395)","v":"HLCUTOR220811150:1"},"HLCUTOR220811150","HLBU2775394","HLCUTOR220811150","40 Dry","PKKHI",292613,"2022-11-06","2022-11-17",224.1,"BL"]
[{"$f":"B1396&\":\"&COUNTIF($B$2:B1396,B1396)","v":"HLCUTOR220932070:1"},"HLCUTOR220932070","HLBU3429673","HLCUTOR220932070","40 Dry","PKKHI",292613,"2022-11-06","2022-11-17",224.1,"SW"]
[{"$f":"B1397&\":\"&COUNTIF($B$2:B1397,B1397)","v":"HLCUDA3220905482:1"},"HLCUDA3220905482","CAIU2618920","HLCUDA3220905482","20 Dry","PKKHI",292613,"2022-11-06","2022-11-15",224.1,"BL"]
[{"$f":"B1398&\":\"&COUNTIF($B$2:B1398,B1398)","v":"HLCUDA3220905482:2"},"HLCUDA3220905482","CAIU6649257","HLCUDA3220905482","20 Dry","PKKHI",292613,"2022-11-06","2022-11-15",224.1,"BL"]
[{"$f":"B1399&\":\"&COUNTIF($B$2:B1399,B1399)","v":"HLCUDA3220905482:3"},"HLCUDA3220905482","DRYU2433614","HLCUDA3220905482","20 Dry","PKKHI",292613,"2022-11-06","2022-11-15",224.1,"BL"]
[{"$f":"B1400&\":\"&COUNTIF($B$2:B1400,B1400)","v":"HLCUDA3220905482:4"},"HLCUDA3220905482","FCIU2823420","HLCUDA3220905482","20 Dry","PKKHI",292613,"2022-11-06","2022-11-15",224.1,"BL"]
[{"$f":"B1401&\":\"&COUNTIF($B$2:B1401,B1401)","v":"HLCUDA3220905482:5"},"HLCUDA3220905482","FCIU6315767","HLCUDA3220905482","20 Dry","PKKHI",292613,"2022-11-06","2022-11-15",224.1,"BL"]
[{"$f":"B1402&\":\"&COUNTIF($B$2:B1402,B1402)","v":"HLCUDA3220905493:1"},"HLCUDA3220905493","FCIU6655279","HLCUDA3220905493","20 Dry","PKKHI",292613,"2022-11-06","2022-11-15",224.1,"BL"]
[{"$f":"B1403&\":\"&COUNTIF($B$2:B1403,B1403)","v":"HLCUDA3220905493:2"},"HLCUDA3220905493","HLBU2980378","HLCUDA3220905493","20 Dry","PKKHI",292613,"2022-11-06","2022-11-15",224.1,"BL"]
[{"$f":"B1404&\":\"&COUNTIF($B$2:B1404,B1404)","v":"HLCUDA3220905493:3"},"HLCUDA3220905493","IPXU2105850","HLCUDA3220905493","20 Dry","PKKHI",292613,"2022-11-06","2022-11-15",224.1,"BL"]
[{"$f":"B1405&\":\"&COUNTIF($B$2:B1405,B1405)","v":"HLCUDA3220905493:4"},"HLCUDA3220905493","TRHU1417446","HLCUDA3220905493","20 Dry","PKKHI",292613,"2022-11-06","2022-11-15",224.1,"BL"]
[{"$f":"B1406&\":\"&COUNTIF($B$2:B1406,B1406)","v":"HLCUDA3220905493:5"},"HLCUDA3220905493","UETU2294652","HLCUDA3220905493","20 Dry","PKKHI",292613,"2022-11-06","2022-11-15",224.1,"BL"]
[{"$f":"B1407&\":\"&COUNTIF($B$2:B1407,B1407)","v":"HLCUIZ12209AQIG7:1"},"HLCUIZ12209AQIG7","FSCU7223690","HLCUIZ12209AQIG7","40 Dry","PKKHI",292613,"2022-11-06","2022-11-19",224.1,"BL"]
[{"$f":"B1408&\":\"&COUNTIF($B$2:B1408,B1408)","v":"HLCUIZ12209AQIG7:2"},"HLCUIZ12209AQIG7","HLBU1933828","HLCUIZ12209AQIG7","40 Dry","PKKHI",292613,"2022-11-06","2022-11-19",224.1,"BL"]
[{"$f":"B1409&\":\"&COUNTIF($B$2:B1409,B1409)","v":"HLCUIZ12209AQIG7:3"},"HLCUIZ12209AQIG7","TLLU5240269","HLCUIZ12209AQIG7","40 Dry","PKKHI",292613,"2022-11-06","2022-11-19",224.1,"BL"]
[{"$f":"B1410&\":\"&COUNTIF($B$2:B1410,B1410)","v":"HLCUIZ12209AQIG7:4"},"HLCUIZ12209AQIG7","TGBU9630388","HLCUIZ12209AQIG7","40 Dry","PKKHI",292613,"2022-11-06","2022-11-19",224.1,"BL"]
[{"$f":"B1411&\":\"&COUNTIF($B$2:B1411,B1411)","v":"HLCUIZ1221018575:1"},"HLCUIZ1221018575","HLBU1220961","HLCUIZ1221018575","20 Dry","PKKHI",292613,"2022-11-06","2022-11-12",224.1,"BL"]
[{"$f":"B1412&\":\"&COUNTIF($B$2:B1412,B1412)","v":"HLCUIZ1221018575:2"},"HLCUIZ1221018575","TEMU7082916","HLCUIZ1221018575","40 Dry","PKKHI",292613,"2022-11-06","2022-11-12",224.1,"BL"]
[{"$f":"B1413&\":\"&COUNTIF($B$2:B1413,B1413)","v":"HLCUDOH221003917:1"},"HLCUDOH221003917","BEAU4162964","HLCUDOH221003917","40 Dry","PKKHI",292613,"2022-11-06","2022-11-19",224.1,"BL"]
[{"$f":"B1414&\":\"&COUNTIF($B$2:B1414,B1414)","v":"HLCUDOH221003917:2"},"HLCUDOH221003917","CAIU8473906","HLCUDOH221003917","40 Dry","PKKHI",292613,"2022-11-06","2022-11-19",224.1,"BL"]
[{"$f":"B1415&\":\"&COUNTIF($B$2:B1415,B1415)","v":"HLCUDOH221003917:3"},"HLCUDOH221003917","CAIU8899255","HLCUDOH221003917","40 Dry","PKKHI",292613,"2022-11-06","2022-11-19",224.1,"BL"]
[{"$f":"B1416&\":\"&COUNTIF($B$2:B1416,B1416)","v":"HLCUDOH221003917:4"},"HLCUDOH221003917","DRYU9751622","HLCUDOH221003917","40 Dry","PKKHI",292613,"2022-11-06","2022-11-19",224.1,"BL"]
[{"$f":"B1417&\":\"&COUNTIF($B$2:B1417,B1417)","v":"HLCUDOH221003917:5"},"HLCUDOH221003917","HLBU2153750","HLCUDOH221003917","40 Dry","PKKHI",292613,"2022-11-06","2022-11-19",224.1,"BL"]
[{"$f":"B1418&\":\"&COUNTIF($B$2:B1418,B1418)","v":"HLCUDOH221003917:6"},"HLCUDOH221003917","HLBU2254190","HLCUDOH221003917","40 Dry","PKKHI",292613,"2022-11-06","2022-11-19",224.1,"BL"]
[{"$f":"B1419&\":\"&COUNTIF($B$2:B1419,B1419)","v":"HLCUDOH221003917:7"},"HLCUDOH221003917","TCNU5055531","HLCUDOH221003917","40 Dry","PKKHI",292613,"2022-11-06","2022-11-19",224.1,"BL"]
[{"$f":"B1420&\":\"&COUNTIF($B$2:B1420,B1420)","v":"HLCUDOH221003917:8"},"HLCUDOH221003917","TGCU5169712","HLCUDOH221003917","40 Dry","PKKHI",292613,"2022-11-06","2022-11-19",224.1,"BL"]
[{"$f":"B1421&\":\"&COUNTIF($B$2:B1421,B1421)","v":"HLCUDOH221003917:9"},"HLCUDOH221003917","UACU5600788","HLCUDOH221003917","40 Dry","PKKHI",292613,"2022-11-06","2022-11-19",224.1,"BL"]
[{"$f":"B1422&\":\"&COUNTIF($B$2:B1422,B1422)","v":"HLCUDOH221003917:10"},"HLCUDOH221003917","UACU6059003","HLCUDOH221003917","40 Dry","PKKHI",292613,"2022-11-06","2022-11-19",224.1,"BL"]
[{"$f":"B1423&\":\"&COUNTIF($B$2:B1423,B1423)","v":"HLCUIZ12209AQMM0:1"},"HLCUIZ12209AQMM0","BEAU2170908","HLCUIZ12209AQMM0","20 Dry","PKKHI",292613,"2022-11-06","2022-11-15",224.1,"BL"]
[{"$f":"B1424&\":\"&COUNTIF($B$2:B1424,B1424)","v":"HLCUIZ12209AQNV5:1"},"HLCUIZ12209AQNV5","UACU5235242","HLCUIZ12209AQNV5","40 Dry","PKKHI",292613,"2022-11-06","2022-11-10",224.1,"SW"]
[{"$f":"B1425&\":\"&COUNTIF($B$2:B1425,B1425)","v":"HLCUIZ12209APWH2:1"},"HLCUIZ12209APWH2","HLBU2911530","HLCUIZ12209APWH2","40 Dry","PKKHI",292613,"2022-11-06","2022-11-22",224.1,"SW"]
[{"$f":"B1426&\":\"&COUNTIF($B$2:B1426,B1426)","v":"HLCUIZ1220944176:1"},"HLCUIZ1220944176","HLXU8296816","HLCUIZ1220944176","40 Dry","PKKHI",292613,"2022-11-06","2022-11-15",224.1,"SW"]
[{"$f":"B1427&\":\"&COUNTIF($B$2:B1427,B1427)","v":"HLCUIZ1220944176:2"},"HLCUIZ1220944176","HLXU8396287","HLCUIZ1220944176","40 Dry","PKKHI",292613,"2022-11-06","2022-11-15",224.1,"SW"]
[{"$f":"B1428&\":\"&COUNTIF($B$2:B1428,B1428)","v":"HLCUIZ1220944176:3"},"HLCUIZ1220944176","HLBU2494951","HLCUIZ1220944176","40 Dry","PKKHI",292613,"2022-11-06","2022-11-15",224.1,"SW"]
[{"$f":"B1429&\":\"&COUNTIF($B$2:B1429,B1429)","v":"HLCUIZ1220944176:4"},"HLCUIZ1220944176","NIDU5211938","HLCUIZ1220944176","40 Dry","PKKHI",292613,"2022-11-06","2022-11-15",224.1,"SW"]
[{"$f":"B1430&\":\"&COUNTIF($B$2:B1430,B1430)","v":"HLCUIZ1220944176:5"},"HLCUIZ1220944176","TCNU3275732","HLCUIZ1220944176","40 Dry","PKKHI",292613,"2022-11-06","2022-11-15",224.1,"SW"]
[{"$f":"B1431&\":\"&COUNTIF($B$2:B1431,B1431)","v":"HLCUIZ1220944176:6"},"HLCUIZ1220944176","FANU1223026","HLCUIZ1220944176","40 Dry","PKKHI",292613,"2022-11-06","2022-11-15",224.1,"SW"]
[{"$f":"B1432&\":\"&COUNTIF($B$2:B1432,B1432)","v":"HLCUIZ1220944176:7"},"HLCUIZ1220944176","BMOU5791610","HLCUIZ1220944176","40 Dry","PKKHI",292613,"2022-11-06","2022-11-15",224.1,"SW"]
[{"$f":"B1433&\":\"&COUNTIF($B$2:B1433,B1433)","v":"HLCUIZ1220944176:8"},"HLCUIZ1220944176","SEGU5840137","HLCUIZ1220944176","40 Dry","PKKHI",292613,"2022-11-06","2022-11-15",224.1,"SW","2022-11-07"]
[{"$f":"B1434&\":\"&COUNTIF($B$2:B1434,B1434)","v":"HLCURTM220917840:1"},"HLCURTM220917840","DRYU9559630","HLCURTM220917840","40 Dry","PKBQM",293444,"2022-11-10","2022-11-23",223.5,"SW"]
[{"$f":"B1435&\":\"&COUNTIF($B$2:B1435,B1435)","v":"HLCUJE2221008432:1"},"HLCUJE2221008432","TCNU7932917","HLCUJE2221008432","40 Dry","PKBQM",293444,"2022-11-10","2022-11-23",223.5,"BL"]
[{"$f":"B1436&\":\"&COUNTIF($B$2:B1436,B1436)","v":"HLCUJE2221011685:1"},"HLCUJE2221011685","HAMU1150822","HLCUJE2221011685","40 Dry","PKBQM",293444,"2022-11-10","2022-11-23",223.5,"SW"]
[{"$f":"B1437&\":\"&COUNTIF($B$2:B1437,B1437)","v":"HLCUJE2221011703:1"},"HLCUJE2221011703","UACU5705710","HLCUJE2221011703","40 Dry","PKBQM",293444,"2022-11-10","2022-11-23",223.5,"SW"]
[{"$f":"B1438&\":\"&COUNTIF($B$2:B1438,B1438)","v":"HLCUJE2221013128:1"},"HLCUJE2221013128","HLXU8126759","HLCUJE2221013128","40 Dry","PKBQM",293444,"2022-11-10","2022-11-19",223.5,"SW"]
[{"$f":"B1439&\":\"&COUNTIF($B$2:B1439,B1439)","v":"HLCUJE2221009044:1"},"HLCUJE2221009044","FCIU8312366","HLCUJE2221009044","40 Dry","PKBQM",293444,"2022-11-11","2022-11-24",223.5,"SW"]
[{"$f":"B1440&\":\"&COUNTIF($B$2:B1440,B1440)","v":"HLCUJE2221009077:1"},"HLCUJE2221009077","HLBU2377739","HLCUJE2221009077","40 Dry","PKBQM",293444,"2022-11-11","2022-11-24",223.5,"SW"]
[{"$f":"B1441&\":\"&COUNTIF($B$2:B1441,B1441)","v":"HLCUJE2221009088:1"},"HLCUJE2221009088","HLBU3347493","HLCUJE2221009088","40 Dry","PKBQM",293444,"2022-11-11","2022-11-24",223.5,"SW"]
[{"$f":"B1442&\":\"&COUNTIF($B$2:B1442,B1442)","v":"HLCUJE2221009099:1"},"HLCUJE2221009099","FDCU0162090","HLCUJE2221009099","40 Dry","PKBQM",293444,"2022-11-10","2022-11-23",223.5,"SW"]
[{"$f":"B1443&\":\"&COUNTIF($B$2:B1443,B1443)","v":"HLCUJE2221009106:1"},"HLCUJE2221009106","UACU5345872","HLCUJE2221009106","40 Dry","PKBQM",293444,"2022-11-11","2022-11-24",223.5,"SW"]
[{"$f":"B1444&\":\"&COUNTIF($B$2:B1444,B1444)","v":"HLCUJE2221011725:1"},"HLCUJE2221011725","BSIU8216652","HLCUJE2221011725","40 Dry","PKBQM",293444,"2022-11-10","2022-11-23",223.5,"SW"]
[{"$f":"B1445&\":\"&COUNTIF($B$2:B1445,B1445)","v":"HLCUJE2221011736:1"},"HLCUJE2221011736","HLBU3094332","HLCUJE2221011736","40 Dry","PKBQM",293444,"2022-11-10","2022-11-23",223.5,"SW"]
[{"$f":"B1446&\":\"&COUNTIF($B$2:B1446,B1446)","v":"HLCUJE2221011747:1"},"HLCUJE2221011747","FANU1788969","HLCUJE2221011747","40 Dry","PKBQM",293444,"2022-11-10","2022-11-23",223.5,"SW"]
[{"$f":"B1447&\":\"&COUNTIF($B$2:B1447,B1447)","v":"HLCUJE2221011535:1"},"HLCUJE2221011535","SEGU6960796","HLCUJE2221011535","40 Dry","PKBQM",293444,"2022-11-10","2022-11-19",223.5,"SW"]
[{"$f":"B1448&\":\"&COUNTIF($B$2:B1448,B1448)","v":"HLCUJE2221008476:1"},"HLCUJE2221008476","FANU1595759","HLCUJE2221008476","40 Dry","PKBQM",293444,"2022-11-10","2022-11-23",223.5,"BL"]
[{"$f":"B1449&\":\"&COUNTIF($B$2:B1449,B1449)","v":"HLCUJE2221013234:1"},"HLCUJE2221013234","TGHU9328723","HLCUJE2221013234","40 Dry","PKBQM",293444,"2022-11-10","2022-11-23",223.5,"BL"]
[{"$f":"B1450&\":\"&COUNTIF($B$2:B1450,B1450)","v":"HLCUJE2221013234:2"},"HLCUJE2221013234","HLBU1440396","HLCUJE2221013234","40 Dry","PKBQM",293444,"2022-11-10","2022-11-23",223.5,"BL"]
[{"$f":"B1451&\":\"&COUNTIF($B$2:B1451,B1451)","v":"HLCUJE2221013234:3"},"HLCUJE2221013234","HLBU2086902","HLCUJE2221013234","40 Dry","PKBQM",293444,"2022-11-11","2022-11-24",223.5,"BL"]
[{"$f":"B1452&\":\"&COUNTIF($B$2:B1452,B1452)","v":"HLCUJE2221013234:4"},"HLCUJE2221013234","SEGU6962145","HLCUJE2221013234","40 Dry","PKBQM",293444,"2022-11-11","2022-11-24",223.5,"BL"]
[{"$f":"B1453&\":\"&COUNTIF($B$2:B1453,B1453)","v":"HLCUJE2221013234:5"},"HLCUJE2221013234","HLBU3269868","HLCUJE2221013234","40 Dry","PKBQM",293444,"2022-11-11","2022-11-24",223.5,"BL"]
[{"$f":"B1454&\":\"&COUNTIF($B$2:B1454,B1454)","v":"HLCUJE2221013234:6"},"HLCUJE2221013234","GESU4866235","HLCUJE2221013234","40 Dry","PKBQM",293444,"2022-11-10","2022-11-23",223.5,"BL"]
[{"$f":"B1455&\":\"&COUNTIF($B$2:B1455,B1455)","v":"HLCUJE2221014701:1"},"HLCUJE2221014701","CAIU8359869","HLCUJE2221014701","40 Dry","PKBQM",293444,"2022-11-10","2022-11-23",223.5,"BL"]
[{"$f":"B1456&\":\"&COUNTIF($B$2:B1456,B1456)","v":"HLCUJE2221014701:2"},"HLCUJE2221014701","TCLU8336160","HLCUJE2221014701","40 Dry","PKBQM",293444,"2022-11-10","2022-11-23",223.5,"BL"]
[{"$f":"B1457&\":\"&COUNTIF($B$2:B1457,B1457)","v":"HLCUJE2221014701:3"},"HLCUJE2221014701","GLDU7167897","HLCUJE2221014701","40 Dry","PKBQM",293444,"2022-11-11","2022-11-24",223.5,"BL"]
[{"$f":"B1458&\":\"&COUNTIF($B$2:B1458,B1458)","v":"HLCUJE2221008505:1"},"HLCUJE2221008505","TGBU5904388","HLCUJE2221008505","40 Dry","PKBQM",293444,"2022-11-10","2022-11-23",223.5,"BL"]
[{"$f":"B1459&\":\"&COUNTIF($B$2:B1459,B1459)","v":"HLCUBSC2209BBJR5:1"},"HLCUBSC2209BBJR5","HAMU1220200","HLCUBSC2209BBJR5","40 Dry","PKBQM",293444,"2022-11-10","2022-11-15",223.5,"SW"]
[{"$f":"B1460&\":\"&COUNTIF($B$2:B1460,B1460)","v":"HLCUBSC2209BBJR5:2"},"HLCUBSC2209BBJR5","GESU6319134","HLCUBSC2209BBJR5","40 Dry","PKBQM",293444,"2022-11-10","2022-11-15",223.5,"SW"]
[{"$f":"B1461&\":\"&COUNTIF($B$2:B1461,B1461)","v":"HLCUJE2221009742:1"},"HLCUJE2221009742","TEMU7989131","HLCUJE2221009742","40 Dry","PKBQM",293444,"2022-11-10","2022-11-23",223.5,"BL"]
[{"$f":"B1462&\":\"&COUNTIF($B$2:B1462,B1462)","v":"HLCUBSC2210AXWL0:1"},"HLCUBSC2210AXWL0","UACU5578410","HLCUBSC2210AXWL0","40 Dry","PKBQM",293444,"2022-11-10","2022-11-14",223.5,"SW"]
[{"$f":"B1463&\":\"&COUNTIF($B$2:B1463,B1463)","v":"HLCUBSC2209BENX7:1"},"HLCUBSC2209BENX7","HLBU2680869","HLCUBSC2209BENX7","40 Dry","PKBQM",293444,"2022-11-10","2022-11-21",223.5,"SW"]
[{"$f":"B1464&\":\"&COUNTIF($B$2:B1464,B1464)","v":"HLCUBSC2209BENX7:2"},"HLCUBSC2209BENX7","UETU5742318","HLCUBSC2209BENX7","40 Dry","PKBQM",293444,"2022-11-10","2022-11-21",223.5,"SW"]
[{"$f":"B1465&\":\"&COUNTIF($B$2:B1465,B1465)","v":"HLCUJE2221010310:1"},"HLCUJE2221010310","UACU5256610","HLCUJE2221010310","40 Dry","PKBQM",293444,"2022-11-11","2022-11-22",223.5,"SW"]
[{"$f":"B1466&\":\"&COUNTIF($B$2:B1466,B1466)","v":"HLCUJE2221010766:1"},"HLCUJE2221010766","CAIU8466363","HLCUJE2221010766","40 Dry","PKBQM",293444,"2022-11-10","2022-11-23",223.5,"SW"]
[{"$f":"B1467&\":\"&COUNTIF($B$2:B1467,B1467)","v":"HLCUJE2221010777:1"},"HLCUJE2221010777","HLBU2381127","HLCUJE2221010777","40 Dry","PKBQM",293444,"2022-11-10","2022-11-23",223.5,"SW"]
[{"$f":"B1468&\":\"&COUNTIF($B$2:B1468,B1468)","v":"HLCUJE2221010799:1"},"HLCUJE2221010799","FANU1687500","HLCUJE2221010799","40 Dry","PKBQM",293444,"2022-11-10","2022-11-23",223.5,"SW"]
[{"$f":"B1469&\":\"&COUNTIF($B$2:B1469,B1469)","v":"HLCUBSC2209BNRQ9:1"},"HLCUBSC2209BNRQ9","CAAU5510726","HLCUBSC2209BNRQ9","40 Dry","PKBQM",293444,"2022-11-10","2022-11-21",223.5,"SW"]
[{"$f":"B1470&\":\"&COUNTIF($B$2:B1470,B1470)","v":"HLCUBSC2209AWCV1:1"},"HLCUBSC2209AWCV1","HLBU3074629","HLCUBSC2209AWCV1","40 Dry","PKBQM",293444,"2022-11-10","2022-11-21",223.5,"SW"]
[{"$f":"B1471&\":\"&COUNTIF($B$2:B1471,B1471)","v":"HLCUJE2221007568:1"},"HLCUJE2221007568","HLXU6567816","HLCUJE2221007568","40 Dry","PKBQM",293444,"2022-11-10","2022-11-23",223.5,"SW"]
[{"$f":"B1472&\":\"&COUNTIF($B$2:B1472,B1472)","v":"HLCUJE2221007579:1"},"HLCUJE2221007579","FANU3226750","HLCUJE2221007579","40 Dry","PKBQM",293444,"2022-11-10","2022-11-23",223.5,"SW"]
[{"$f":"B1473&\":\"&COUNTIF($B$2:B1473,B1473)","v":"HLCUJE2221007580:1"},"HLCUJE2221007580","HLBU1639829","HLCUJE2221007580","40 Dry","PKBQM",293444,"2022-11-10","2022-11-23",223.5,"SW"]
[{"$f":"B1474&\":\"&COUNTIF($B$2:B1474,B1474)","v":"HLCUJE2221007590:1"},"HLCUJE2221007590","FANU1745592","HLCUJE2221007590","40 Dry","PKBQM",293444,"2022-11-10","2022-11-23",223.5,"SW"]
[{"$f":"B1475&\":\"&COUNTIF($B$2:B1475,B1475)","v":"HLCUJE2221007608:1"},"HLCUJE2221007608","HLXU8376655","HLCUJE2221007608","40 Dry","PKBQM",293444,"2022-11-11","2022-11-24",223.5,"SW"]
[{"$f":"B1476&\":\"&COUNTIF($B$2:B1476,B1476)","v":"HLCUBSC2209BBYN4:1"},"HLCUBSC2209BBYN4","GCXU5958118","HLCUBSC2209BBYN4","40 Dry","PKBQM",293444,"2022-11-10","2022-11-14",223.5,"SW"]
[{"$f":"B1477&\":\"&COUNTIF($B$2:B1477,B1477)","v":"HLCUBSC2209BWGR1:1"},"HLCUBSC2209BWGR1","SEGU2613438","HLCUBSC2209BWGR1","20 Dry","PKBQM",293444,"2022-11-10","2022-11-14",223.5,"SW"]
[{"$f":"B1478&\":\"&COUNTIF($B$2:B1478,B1478)","v":"HLCUBSC2209BPMJ0:1"},"HLCUBSC2209BPMJ0","TEMU5465074","HLCUBSC2209BPMJ0","20 Dry","PKBQM",293444,"2022-11-10","2022-11-21",223.5,"BL"]
[{"$f":"B1479&\":\"&COUNTIF($B$2:B1479,B1479)","v":"HLCUTOR220928756:1"},"HLCUTOR220928756","FANU1530906","HLCUTOR220928756","40 Dry","PKBQM",293444,"2022-11-10","2022-11-21",223.5,"SW"]
[{"$f":"B1480&\":\"&COUNTIF($B$2:B1480,B1480)","v":"HLCUBSC2209BWJZ6:1"},"HLCUBSC2209BWJZ6","HLBU3411484","HLCUBSC2209BWJZ6","40 Dry","PKBQM",293444,"2022-11-10","2022-11-21",223.5,"BL"]
[{"$f":"B1481&\":\"&COUNTIF($B$2:B1481,B1481)","v":"HLCUBSC2209BWJZ6:2"},"HLCUBSC2209BWJZ6","CAIU4474231","HLCUBSC2209BWJZ6","40 Dry","PKBQM",293444,"2022-11-10","2022-11-21",223.5,"BL"]
[{"$f":"B1482&\":\"&COUNTIF($B$2:B1482,B1482)","v":"HLCUBSC2209AQDS4:1"},"HLCUBSC2209AQDS4","HLBU1618446","HLCUBSC2209AQDS4","40 Dry","PKBQM",293444,"2022-11-10","2022-11-21",223.5,"SW"]
[{"$f":"B1483&\":\"&COUNTIF($B$2:B1483,B1483)","v":"HLCUBSC2209AQDS4:2"},"HLCUBSC2209AQDS4","TCNU6697351","HLCUBSC2209AQDS4","40 Dry","PKBQM",293444,"2022-11-10","2022-11-21",223.5,"SW"]
[{"$f":"B1484&\":\"&COUNTIF($B$2:B1484,B1484)","v":"HLCUVAN220908942:1"},"HLCUVAN220908942","HLXU8491279","HLCUVAN220908942","40 Dry","PKBQM",293444,"2022-11-10","2022-11-21",223.5,"SW"]
[{"$f":"B1485&\":\"&COUNTIF($B$2:B1485,B1485)","v":"HLCUBSC220951250:1"},"HLCUBSC220951250","UACU5466956","HLCUBSC220951250","40 Dry","PKBQM",293444,"2022-11-10","2022-11-23",223.5,"SW"]
[{"$f":"B1486&\":\"&COUNTIF($B$2:B1486,B1486)","v":"HLCUBSC2209BVBO9:1"},"HLCUBSC2209BVBO9","HLBU3418771","HLCUBSC2209BVBO9","40 Dry","PKBQM",293444,"2022-11-10","2022-11-21",223.5,"SW"]
[{"$f":"B1487&\":\"&COUNTIF($B$2:B1487,B1487)","v":"HLCUTOR220928734:1"},"HLCUTOR220928734","FANU1465689","HLCUTOR220928734","40 Dry","PKBQM",293444,"2022-11-10","2022-11-21",223.5,"SW"]
[{"$f":"B1488&\":\"&COUNTIF($B$2:B1488,B1488)","v":"HLCUBSC2209BVXC8:1"},"HLCUBSC2209BVXC8","FCIU9210646","HLCUBSC2209BVXC8","40 Dry","PKBQM",293444,"2022-11-10","2022-11-21",223.5,"BL"]
[{"$f":"B1489&\":\"&COUNTIF($B$2:B1489,B1489)","v":"HLCUBSC2209BVXC8:2"},"HLCUBSC2209BVXC8","SEKU6067474","HLCUBSC2209BVXC8","40 Dry","PKBQM",293444,"2022-11-10","2022-11-21",223.5,"BL"]
[{"$f":"B1490&\":\"&COUNTIF($B$2:B1490,B1490)","v":"HLCUTOR220933982:1"},"HLCUTOR220933982","TGHU1697031","HLCUTOR220933982","20 Dry","PKBQM",293444,"2022-11-10","2022-11-21",223.5,"BL"]
[{"$f":"B1491&\":\"&COUNTIF($B$2:B1491,B1491)","v":"HLCUTOR220933982:2"},"HLCUTOR220933982","TGHU3585370","HLCUTOR220933982","20 Dry","PKBQM",293444,"2022-11-10","2022-11-21",223.5,"BL"]
[{"$f":"B1492&\":\"&COUNTIF($B$2:B1492,B1492)","v":"HLCUTOR220933982:3"},"HLCUTOR220933982","HLBU1504021","HLCUTOR220933982","20 Dry","PKBQM",293444,"2022-11-10","2022-11-21",223.5,"BL"]
[{"$f":"B1493&\":\"&COUNTIF($B$2:B1493,B1493)","v":"HLCUTOR220933982:4"},"HLCUTOR220933982","TEMU2847258","HLCUTOR220933982","20 Dry","PKBQM",293444,"2022-11-10","2022-11-21",223.5,"BL"]
[{"$f":"B1494&\":\"&COUNTIF($B$2:B1494,B1494)","v":"HLCUTOR220933982:5"},"HLCUTOR220933982","TRHU1673561","HLCUTOR220933982","20 Dry","PKBQM",293444,"2022-11-10","2022-11-21",223.5,"BL"]
[{"$f":"B1495&\":\"&COUNTIF($B$2:B1495,B1495)","v":"HLCUVAN220908910:1"},"HLCUVAN220908910","HLXU8129737","HLCUVAN220908910","40 Dry","PKBQM",293444,"2022-11-10","2022-11-21",223.5,"SW"]
[{"$f":"B1496&\":\"&COUNTIF($B$2:B1496,B1496)","v":"HLCUBSC2209BICI7:1"},"HLCUBSC2209BICI7","HLXU6524856","HLCUBSC2209BICI7","40 Dry","PKBQM",293444,"2022-11-10","2022-11-14",223.5,"SW"]
[{"$f":"B1497&\":\"&COUNTIF($B$2:B1497,B1497)","v":"HLCUBSC2209BIPC8:1"},"HLCUBSC2209BIPC8","HLBU1827981","HLCUBSC2209BIPC8","20 Dry","PKBQM",293444,"2022-11-10","2022-11-21",223.5,"BL"]
[{"$f":"B1498&\":\"&COUNTIF($B$2:B1498,B1498)","v":"HLCUBSC2209BIPC8:2"},"HLCUBSC2209BIPC8","HLBU1505970","HLCUBSC2209BIPC8","20 Dry","PKBQM",293444,"2022-11-10","2022-11-21",223.5,"BL"]
[{"$f":"B1499&\":\"&COUNTIF($B$2:B1499,B1499)","v":"HLCUVAN220907844:1"},"HLCUVAN220907844","FBLU0109340","HLCUVAN220907844","40 Dry","PKBQM",293444,"2022-11-10","2022-11-21",223.5,"SW"]
[{"$f":"B1500&\":\"&COUNTIF($B$2:B1500,B1500)","v":"HLCUBSC2209BPTF4:1"},"HLCUBSC2209BPTF4","TCLU3778215","HLCUBSC2209BPTF4","20 Dry","PKBQM",293444,"2022-11-10","2022-11-21",223.5,"BL"]
[{"$f":"B1501&\":\"&COUNTIF($B$2:B1501,B1501)","v":"HLCUBSC2209BPTF4:2"},"HLCUBSC2209BPTF4","TCKU2296757","HLCUBSC2209BPTF4","20 Dry","PKBQM",293444,"2022-11-10","2022-11-21",223.5,"BL"]
[{"$f":"B1502&\":\"&COUNTIF($B$2:B1502,B1502)","v":"HLCUBSC2209BPTF4:3"},"HLCUBSC2209BPTF4","UACU3648761","HLCUBSC2209BPTF4","20 Dry","PKBQM",293444,"2022-11-10","2022-11-21",223.5,"BL"]
[{"$f":"B1503&\":\"&COUNTIF($B$2:B1503,B1503)","v":"HLCUBSC2209BPTF4:4"},"HLCUBSC2209BPTF4","UACU4058040","HLCUBSC2209BPTF4","20 Dry","PKBQM",293444,"2022-11-10","2022-11-21",223.5,"BL"]
[{"$f":"B1504&\":\"&COUNTIF($B$2:B1504,B1504)","v":"HLCUVAN220907409:1"},"HLCUVAN220907409","HLBU2538514","HLCUVAN220907409","40 Dry","PKBQM",293444,"2022-11-10","2022-11-21",223.5,"SW"]
[{"$f":"B1505&\":\"&COUNTIF($B$2:B1505,B1505)","v":"HLCUTOR220928376:1"},"HLCUTOR220928376","TCNU1817080","HLCUTOR220928376","40 Dry","PKBQM",293444,"2022-11-10","2022-11-21",223.5,"SW"]
[{"$f":"B1506&\":\"&COUNTIF($B$2:B1506,B1506)","v":"HLCUTOR220928376:2"},"HLCUTOR220928376","NIDU5200698","HLCUTOR220928376","40 Dry","PKBQM",293444,"2022-11-10","2022-11-21",223.5,"SW"]
[{"$f":"B1507&\":\"&COUNTIF($B$2:B1507,B1507)","v":"HLCUTOR220928745:1"},"HLCUTOR220928745","HLXU6589646","HLCUTOR220928745","40 Dry","PKBQM",293444,"2022-11-10","2022-11-21",223.5,"SW"]
[{"$f":"B1508&\":\"&COUNTIF($B$2:B1508,B1508)","v":"HLCUBSC2209BMZF4:1"},"HLCUBSC2209BMZF4","UACU3698187","HLCUBSC2209BMZF4","20 Dry","PKBQM",293444,"2022-11-10","2022-11-21",223.5,"BL"]
[{"$f":"B1509&\":\"&COUNTIF($B$2:B1509,B1509)","v":"HLCUVAN220909196:1"},"HLCUVAN220909196","HLXU8120827","HLCUVAN220909196","40 Dry","PKBQM",293444,"2022-11-10","2022-11-21",223.5,"SW"]
[{"$f":"B1510&\":\"&COUNTIF($B$2:B1510,B1510)","v":"HLCUTOR220928840:1"},"HLCUTOR220928840","TGHU6267331","HLCUTOR220928840","40 Dry","PKBQM",293444,"2022-11-10","2022-11-21",223.5,"SW"]
[{"$f":"B1511&\":\"&COUNTIF($B$2:B1511,B1511)","v":"HLCUBSC220943980:1"},"HLCUBSC220943980","HLXU8135160","HLCUBSC220943980","40 Dry","PKBQM",293444,"2022-11-10","2022-11-23",223.5,"SW"]
[{"$f":"B1512&\":\"&COUNTIF($B$2:B1512,B1512)","v":"HLCUBSC2209BMMT1:1"},"HLCUBSC2209BMMT1","UACU3823967","HLCUBSC2209BMMT1","20 Dry","PKBQM",293444,"2022-11-10","2022-11-21",223.5,"BL"]
[{"$f":"B1513&\":\"&COUNTIF($B$2:B1513,B1513)","v":"HLCUBSC2209BXSF3:1"},"HLCUBSC2209BXSF3","GESU3644450","HLCUBSC2209BXSF3","20 Dry","PKBQM",293444,"2022-11-10","2022-11-21",223.5,"BL"]
[{"$f":"B1514&\":\"&COUNTIF($B$2:B1514,B1514)","v":"HLCUTOR220916999:1"},"HLCUTOR220916999","HLBU3128366","HLCUTOR220916999","40 Dry","PKBQM",293444,"2022-11-10","2022-11-21",223.5,"SW"]
[{"$f":"B1515&\":\"&COUNTIF($B$2:B1515,B1515)","v":"HLCUBSC2209BOCO2:1"},"HLCUBSC2209BOCO2","HLBU1665941","HLCUBSC2209BOCO2","40 Dry","PKBQM",293444,"2022-11-10","2022-11-21",223.5,"SW"]
[{"$f":"B1516&\":\"&COUNTIF($B$2:B1516,B1516)","v":"HLCUBSC2209BXJG0:1"},"HLCUBSC2209BXJG0","FANU1620640","HLCUBSC2209BXJG0","40 Dry","PKBQM",293444,"2022-11-10","2022-11-21",223.5,"SW"]
[{"$f":"B1517&\":\"&COUNTIF($B$2:B1517,B1517)","v":"HLCUBSC2209BMBK7:1"},"HLCUBSC2209BMBK7","FANU1748523","HLCUBSC2209BMBK7","40 Dry","PKBQM",293444,"2022-11-10","2022-11-21",223.5,"BL"]
[{"$f":"B1518&\":\"&COUNTIF($B$2:B1518,B1518)","v":"HLCUMTR220925381:1"},"HLCUMTR220925381","HLBU2058747","HLCUMTR220925381","40 Dry","PKBQM",293444,"2022-11-10","2022-11-19",223.5,"BL"]
[{"$f":"B1519&\":\"&COUNTIF($B$2:B1519,B1519)","v":"HLCUVAN220907939:1"},"HLCUVAN220907939","CPSU6440904","HLCUVAN220907939","40 Dry","PKBQM",293444,"2022-11-10","2022-11-21",223.5,"SW"]
[{"$f":"B1520&\":\"&COUNTIF($B$2:B1520,B1520)","v":"HLCUTOR220928767:1"},"HLCUTOR220928767","XINU8111296","HLCUTOR220928767","40 Dry","PKBQM",293444,"2022-11-10","2022-11-21",223.5,"SW"]
[{"$f":"B1521&\":\"&COUNTIF($B$2:B1521,B1521)","v":"HLCUBSC220945340:1"},"HLCUBSC220945340","HLXU8378067","HLCUBSC220945340","40 Dry","PKBQM",293444,"2022-11-10","2022-11-23",223.5,"SW"]
[{"$f":"B1522&\":\"&COUNTIF($B$2:B1522,B1522)","v":"HLCUMTR220922763:1"},"HLCUMTR220922763","HAMU1224885","HLCUMTR220922763","40 Dry","PKBQM",293444,"2022-11-10","2022-11-14",223.5,"SW"]
[{"$f":"B1523&\":\"&COUNTIF($B$2:B1523,B1523)","v":"HLCUTOR220928778:1"},"HLCUTOR220928778","HLXU8510975","HLCUTOR220928778","40 Dry","PKBQM",293444,"2022-11-10","2022-11-21",223.5,"SW"]
[{"$f":"B1524&\":\"&COUNTIF($B$2:B1524,B1524)","v":"HLCUVAN220905615:1"},"HLCUVAN220905615","TCNU6028607","HLCUVAN220905615","40 Dry","PKBQM",293444,"2022-11-10","2022-11-21",223.5,"SW"]
[{"$f":"B1525&\":\"&COUNTIF($B$2:B1525,B1525)","v":"HLCUBSC2208BRXP9:1"},"HLCUBSC2208BRXP9","HLBU2108658","HLCUBSC2208BRXP9","40 Dry","PKBQM",293444,"2022-11-10","2022-11-21",223.5,"SW"]
[{"$f":"B1526&\":\"&COUNTIF($B$2:B1526,B1526)","v":"HLCUBSC220951356:1"},"HLCUBSC220951356","CAIU8555080","HLCUBSC220951356","40 Dry","PKBQM",293444,"2022-11-10","2022-11-23",223.5,"SW"]
[{"$f":"B1527&\":\"&COUNTIF($B$2:B1527,B1527)","v":"HLCUBSC2209BFWW3:1"},"HLCUBSC2209BFWW3","HLXU1380817","HLCUBSC2209BFWW3","20 Dry","PKBQM",293444,"2022-11-10","2022-11-21",223.5,"BL"]
[{"$f":"B1528&\":\"&COUNTIF($B$2:B1528,B1528)","v":"HLCUBSC2209BFWW3:2"},"HLCUBSC2209BFWW3","TGBU2217325","HLCUBSC2209BFWW3","20 Dry","PKBQM",293444,"2022-11-10","2022-11-21",223.5,"BL"]
[{"$f":"B1529&\":\"&COUNTIF($B$2:B1529,B1529)","v":"HLCUBSC2209AXPV0:1"},"HLCUBSC2209AXPV0","CAIU6419892","HLCUBSC2209AXPV0","20 Dry","PKBQM",293444,"2022-11-10","2022-11-21",223.5,"SW"]
[{"$f":"B1530&\":\"&COUNTIF($B$2:B1530,B1530)","v":"HLCUTOR220928790:1"},"HLCUTOR220928790","BEAU4543934","HLCUTOR220928790","40 Dry","PKBQM",293444,"2022-11-10","2022-11-21",223.5,"SW"]
[{"$f":"B1531&\":\"&COUNTIF($B$2:B1531,B1531)","v":"HLCUBSC2209BPIT2:1"},"HLCUBSC2209BPIT2","BMOU2783210","HLCUBSC2209BPIT2","20 Dry","PKBQM",293444,"2022-11-10","2022-11-21",223.5,"BL"]
[{"$f":"B1532&\":\"&COUNTIF($B$2:B1532,B1532)","v":"HLCUBSC2209BPIT2:2"},"HLCUBSC2209BPIT2","TGCU2101600","HLCUBSC2209BPIT2","20 Dry","PKBQM",293444,"2022-11-10","2022-11-21",223.5,"BL"]
[{"$f":"B1533&\":\"&COUNTIF($B$2:B1533,B1533)","v":"HLCUBSC2209BPIT2:3"},"HLCUBSC2209BPIT2","TCLU9915022","HLCUBSC2209BPIT2","20 Dry","PKBQM",293444,"2022-11-10","2022-11-21",223.5,"BL"]
[{"$f":"B1534&\":\"&COUNTIF($B$2:B1534,B1534)","v":"HLCUBSC220951199:1"},"HLCUBSC220951199","TCKU6455332","HLCUBSC220951199","40 Dry","PKBQM",293444,"2022-11-10","2022-11-23",223.5,"SW"]
[{"$f":"B1535&\":\"&COUNTIF($B$2:B1535,B1535)","v":"HLCUBSC220977780:1"},"HLCUBSC220977780","SEGU5614802","HLCUBSC220977780","40 Dry","PKBQM",293444,"2022-11-10","2022-11-23",223.5,"BL"]
[{"$f":"B1536&\":\"&COUNTIF($B$2:B1536,B1536)","v":"HLCUBSC2209BYPB6:1"},"HLCUBSC2209BYPB6","FANU3108422","HLCUBSC2209BYPB6","40 Dry","PKBQM",293444,"2022-11-10","2022-11-21",223.5,"SW"]
[{"$f":"B1537&\":\"&COUNTIF($B$2:B1537,B1537)","v":"HLCUBSC2209BYPB6:2"},"HLCUBSC2209BYPB6","TEMU7655432","HLCUBSC2209BYPB6","40 Dry","PKBQM",293444,"2022-11-10","2022-11-21",223.5,"SW"]
[{"$f":"B1538&\":\"&COUNTIF($B$2:B1538,B1538)","v":"HLCUBSC2209BPBM8:1"},"HLCUBSC2209BPBM8","TCLU2851327","HLCUBSC2209BPBM8","20 Dry","PKBQM",293444,"2022-11-10","2022-11-21",223.5,"BL"]
[{"$f":"B1539&\":\"&COUNTIF($B$2:B1539,B1539)","v":"HLCUBSC2209BPBM8:2"},"HLCUBSC2209BPBM8","BEAU2213300","HLCUBSC2209BPBM8","20 Dry","PKBQM",293444,"2022-11-10","2022-11-21",223.5,"BL"]
[{"$f":"B1540&\":\"&COUNTIF($B$2:B1540,B1540)","v":"HLCUBSC2209BZIH0:1"},"HLCUBSC2209BZIH0","TCLU5723660","HLCUBSC2209BZIH0","40 Dry","PKBQM",293444,"2022-11-10","2022-11-21",223.5,"BL"]
[{"$f":"B1541&\":\"&COUNTIF($B$2:B1541,B1541)","v":"HLCUVAN220907917:1"},"HLCUVAN220907917","HLBU1636769","HLCUVAN220907917","40 Dry","PKBQM",293444,"2022-11-10","2022-11-21",223.5,"SW"]
[{"$f":"B1542&\":\"&COUNTIF($B$2:B1542,B1542)","v":"HLCUBSC2209BOIG7:1"},"HLCUBSC2209BOIG7","UACU3989921","HLCUBSC2209BOIG7","20 Dry","PKBQM",293444,"2022-11-10","2022-11-21",223.5,"BL"]
[{"$f":"B1543&\":\"&COUNTIF($B$2:B1543,B1543)","v":"HLCUBSC2209BOIG7:2"},"HLCUBSC2209BOIG7","TEMU2413462","HLCUBSC2209BOIG7","20 Dry","PKBQM",293444,"2022-11-10","2022-11-21",223.5,"BL"]
[{"$f":"B1544&\":\"&COUNTIF($B$2:B1544,B1544)","v":"HLCUBSC2209BOIG7:3"},"HLCUBSC2209BOIG7","GLDU3370000","HLCUBSC2209BOIG7","20 Dry","PKBQM",293444,"2022-11-10","2022-11-21",223.5,"BL"]
[{"$f":"B1545&\":\"&COUNTIF($B$2:B1545,B1545)","v":"HLCUBSC2209BOIS9:1"},"HLCUBSC2209BOIS9","FCIU4204419","HLCUBSC2209BOIS9","20 Dry","PKBQM",293444,"2022-11-10","2022-11-21",223.5,"BL"]
[{"$f":"B1546&\":\"&COUNTIF($B$2:B1546,B1546)","v":"HLCUTOR220936216:1"},"HLCUTOR220936216","HLXU3375532","HLCUTOR220936216","20 Dry","PKBQM",293444,"2022-11-10","2022-11-21",223.5,"BL"]
[{"$f":"B1547&\":\"&COUNTIF($B$2:B1547,B1547)","v":"HLCUTOR220936216:2"},"HLCUTOR220936216","HLBU3449026","HLCUTOR220936216","20 Dry","PKBQM",293444,"2022-11-10","2022-11-21",223.5,"BL"]
[{"$f":"B1548&\":\"&COUNTIF($B$2:B1548,B1548)","v":"HLCUTOR220937219:1"},"HLCUTOR220937219","HAMU1071451","HLCUTOR220937219","20 Dry","PKBQM",293444,"2022-11-10","2022-11-21",223.5,"BL"]
[{"$f":"B1549&\":\"&COUNTIF($B$2:B1549,B1549)","v":"HLCUBSC2209BJDR4:1"},"HLCUBSC2209BJDR4","BSIU2279015","HLCUBSC2209BJDR4","20 Dry","PKBQM",293444,"2022-11-10","2022-11-21",223.5,"BL"]
[{"$f":"B1550&\":\"&COUNTIF($B$2:B1550,B1550)","v":"HLCUBSC2209BJEJ1:1"},"HLCUBSC2209BJEJ1","BSIU3256138","HLCUBSC2209BJEJ1","20 Dry","PKBQM",293444,"2022-11-10","2022-11-21",223.5,"BL"]
[{"$f":"B1551&\":\"&COUNTIF($B$2:B1551,B1551)","v":"HLCUBSC2209BJEJ1:2"},"HLCUBSC2209BJEJ1","HLBU2279054","HLCUBSC2209BJEJ1","20 Dry","PKBQM",293444,"2022-11-10","2022-11-21",223.5,"BL"]
[{"$f":"B1552&\":\"&COUNTIF($B$2:B1552,B1552)","v":"HLCUBSC2209BJEJ1:3"},"HLCUBSC2209BJEJ1","DRYU2047674","HLCUBSC2209BJEJ1","20 Dry","PKBQM",293444,"2022-11-10","2022-11-21",223.5,"BL"]
[{"$f":"B1553&\":\"&COUNTIF($B$2:B1553,B1553)","v":"HLCUBSC2209BJEJ1:4"},"HLCUBSC2209BJEJ1","FCIU6213981","HLCUBSC2209BJEJ1","20 Dry","PKBQM",293444,"2022-11-10","2022-11-21",223.5,"BL"]
[{"$f":"B1554&\":\"&COUNTIF($B$2:B1554,B1554)","v":"HLCUTOR220936260:1"},"HLCUTOR220936260","HLXU5345054","HLCUTOR220936260","40 Dry","PKBQM",293444,"2022-11-10","2022-11-21",223.5,"BL"]
[{"$f":"B1555&\":\"&COUNTIF($B$2:B1555,B1555)","v":"HLCUTOR220936260:2"},"HLCUTOR220936260","TCLU4488252","HLCUTOR220936260","40 Dry","PKBQM",293444,"2022-11-10","2022-11-21",223.5,"BL"]
[{"$f":"B1556&\":\"&COUNTIF($B$2:B1556,B1556)","v":"HLCUBSC2207AVET0:1"},"HLCUBSC2207AVET0","HLBU2178085","HLCUBSC2207AVET0","40 Dry","PKBQM",293444,"2022-11-10","2022-11-21",223.5,"BL"]
[{"$f":"B1557&\":\"&COUNTIF($B$2:B1557,B1557)","v":"HLCUBSC2207AVET0:2"},"HLCUBSC2207AVET0","HLBU3132577","HLCUBSC2207AVET0","40 Dry","PKBQM",293444,"2022-11-10","2022-11-21",223.5,"BL"]
[{"$f":"B1558&\":\"&COUNTIF($B$2:B1558,B1558)","v":"HLCUBSC2209BWGZ0:1"},"HLCUBSC2209BWGZ0","TGBU9644756","HLCUBSC2209BWGZ0","40 Dry","PKBQM",293444,"2022-11-10","2022-11-21",223.5,"BL"]
[{"$f":"B1559&\":\"&COUNTIF($B$2:B1559,B1559)","v":"HLCUBSC2209BOLD6:1"},"HLCUBSC2209BOLD6","UACU4002349","HLCUBSC2209BOLD6","20 Dry","PKBQM",293444,"2022-11-10","2022-11-21",223.5,"BL"]
[{"$f":"B1560&\":\"&COUNTIF($B$2:B1560,B1560)","v":"HLCUBSC2209BRRU3:1"},"HLCUBSC2209BRRU3","TCNU1898728","HLCUBSC2209BRRU3","40 Dry","PKBQM",293444,"2022-11-10","2022-11-21",223.5,"SW"]
[{"$f":"B1561&\":\"&COUNTIF($B$2:B1561,B1561)","v":"HLCUVAN220911168:1"},"HLCUVAN220911168","TGHU9418597","HLCUVAN220911168","40 Dry","PKBQM",293444,"2022-11-10","2022-11-21",223.5,"SW"]
[{"$f":"B1562&\":\"&COUNTIF($B$2:B1562,B1562)","v":"HLCUBSC2209AQIJ2:1"},"HLCUBSC2209AQIJ2","UACU5742680","HLCUBSC2209AQIJ2","40 Dry","PKBQM",293444,"2022-11-10","2022-11-21",223.5,"SW"]
[{"$f":"B1563&\":\"&COUNTIF($B$2:B1563,B1563)","v":"HLCUBSC2209AQIJ2:2"},"HLCUBSC2209AQIJ2","TCNU8449863","HLCUBSC2209AQIJ2","40 Dry","PKBQM",293444,"2022-11-10","2022-11-21",223.5,"SW"]
[{"$f":"B1564&\":\"&COUNTIF($B$2:B1564,B1564)","v":"HLCUTOR220928807:1"},"HLCUTOR220928807","FANU1497979","HLCUTOR220928807","40 Dry","PKBQM",293444,"2022-11-10","2022-11-21",223.5,"SW"]
[{"$f":"B1565&\":\"&COUNTIF($B$2:B1565,B1565)","v":"HLCUVAN220911208:1"},"HLCUVAN220911208","TCLU6670559","HLCUVAN220911208","40 Dry","PKBQM",293444,"2022-11-10","2022-11-21",223.5,"SW"]
[{"$f":"B1566&\":\"&COUNTIF($B$2:B1566,B1566)","v":"HLCUTOR220933949:1"},"HLCUTOR220933949","TGHU9475220","HLCUTOR220933949","40 Dry","PKBQM",293444,"2022-11-10","2022-11-21",223.5,"BL"]
[{"$f":"B1567&\":\"&COUNTIF($B$2:B1567,B1567)","v":"HLCUVAN220909203:1"},"HLCUVAN220909203","HLXU8250374","HLCUVAN220909203","40 Dry","PKBQM",293444,"2022-11-10","2022-11-21",223.5,"SW"]
[{"$f":"B1568&\":\"&COUNTIF($B$2:B1568,B1568)","v":"HLCUTOR220928829:1"},"HLCUTOR220928829","CAAU5542929","HLCUTOR220928829","40 Dry","PKBQM",293444,"2022-11-10","2022-11-21",223.5,"SW"]
[{"$f":"B1569&\":\"&COUNTIF($B$2:B1569,B1569)","v":"HLCUVAN220907369:1"},"HLCUVAN220907369","UACU6006791","HLCUVAN220907369","40 Dry","PKBQM",293444,"2022-11-10","2022-11-21",223.5,"SW"]
[{"$f":"B1570&\":\"&COUNTIF($B$2:B1570,B1570)","v":"HLCUBSC2209BTMW4:1"},"HLCUBSC2209BTMW4","BSIU2266487","HLCUBSC2209BTMW4","20 Dry","PKBQM",293444,"2022-11-10","2022-11-21",223.5,"BL"]
[{"$f":"B1571&\":\"&COUNTIF($B$2:B1571,B1571)","v":"HLCUBSC2209BTMW4:2"},"HLCUBSC2209BTMW4","FCIU6285195","HLCUBSC2209BTMW4","20 Dry","PKBQM",293444,"2022-11-10","2022-11-21",223.5,"BL"]
[{"$f":"B1572&\":\"&COUNTIF($B$2:B1572,B1572)","v":"HLCUBSC2209BTMZ7:1"},"HLCUBSC2209BTMZ7","HAMU1015334","HLCUBSC2209BTMZ7","20 Dry","PKBQM",293444,"2022-11-10","2022-11-21",223.5,"SW"]
[{"$f":"B1573&\":\"&COUNTIF($B$2:B1573,B1573)","v":"HLCUTOR220928830:1"},"HLCUTOR220928830","HLBU1068479","HLCUTOR220928830","40 Dry","PKBQM",293444,"2022-11-10","2022-11-21",223.5,"SW"]
[{"$f":"B1574&\":\"&COUNTIF($B$2:B1574,B1574)","v":"HLCUTOR220928830:2"},"HLCUTOR220928830","HLBU2146806","HLCUTOR220928830","40 Dry","PKBQM",293444,"2022-11-10","2022-11-21",223.5,"SW"]
[{"$f":"B1575&\":\"&COUNTIF($B$2:B1575,B1575)","v":"HLCUBSC2209BXAQ5:1"},"HLCUBSC2209BXAQ5","HLXU1329292","HLCUBSC2209BXAQ5","20 Dry","PKBQM",293444,"2022-11-10","2022-11-21",223.5,"BL"]
[{"$f":"B1576&\":\"&COUNTIF($B$2:B1576,B1576)","v":"HLCUVAN220907899:1"},"HLCUVAN220907899","CAIU4801479","HLCUVAN220907899","40 Dry","PKBQM",293444,"2022-11-10","2022-11-21",223.5,"BL"]
[{"$f":"B1577&\":\"&COUNTIF($B$2:B1577,B1577)","v":"HLCUVAN220907380:1"},"HLCUVAN220907380","GESU5554545","HLCUVAN220907380","40 Dry","PKBQM",293444,"2022-11-10","2022-11-21",223.5,"SW"]
[{"$f":"B1578&\":\"&COUNTIF($B$2:B1578,B1578)","v":"HLCUTOR220928913:1"},"HLCUTOR220928913","UACU5409112","HLCUTOR220928913","40 Dry","PKBQM",293444,"2022-11-10","2022-11-21",223.5,"SW"]
[{"$f":"B1579&\":\"&COUNTIF($B$2:B1579,B1579)","v":"HLCUBSC2209BPFI5:1"},"HLCUBSC2209BPFI5","HLBU1961120","HLCUBSC2209BPFI5","40 Dry","PKBQM",293444,"2022-11-10","2022-11-21",223.5,"BL"]
[{"$f":"B1580&\":\"&COUNTIF($B$2:B1580,B1580)","v":"HLCUBSC2209BPKC7:1"},"HLCUBSC2209BPKC7","TCLU8783560","HLCUBSC2209BPKC7","40 Dry","PKBQM",293444,"2022-11-10","2022-11-27",223.5,"BL"]
[{"$f":"B1581&\":\"&COUNTIF($B$2:B1581,B1581)","v":"HLCUVAN220906004:1"},"HLCUVAN220906004","CAIU4244500","HLCUVAN220906004","40 Dry","PKBQM",293444,"2022-11-10","2022-11-21",223.5,"SW"]
[{"$f":"B1582&\":\"&COUNTIF($B$2:B1582,B1582)","v":"HLCUVAN220908975:1"},"HLCUVAN220908975","TXGU7181568","HLCUVAN220908975","40 Dry","PKBQM",293444,"2022-11-10","2022-11-21",223.5,"SW"]
[{"$f":"B1583&\":\"&COUNTIF($B$2:B1583,B1583)","v":"HLCUBSC2209AZLC5:1"},"HLCUBSC2209AZLC5","GLDU5783240","HLCUBSC2209AZLC5","20 Dry","PKBQM",293444,"2022-11-10","2022-11-21",223.5,"BL"]
[{"$f":"B1584&\":\"&COUNTIF($B$2:B1584,B1584)","v":"HLCUBSC2209AZLC5:2"},"HLCUBSC2209AZLC5","TRHU1435007","HLCUBSC2209AZLC5","20 Dry","PKBQM",293444,"2022-11-10","2022-11-21",223.5,"BL"]
[{"$f":"B1585&\":\"&COUNTIF($B$2:B1585,B1585)","v":"HLCUBSC2209AZLC5:3"},"HLCUBSC2209AZLC5","TEMU5230634","HLCUBSC2209AZLC5","20 Dry","PKBQM",293444,"2022-11-10","2022-11-21",223.5,"BL"]
[{"$f":"B1586&\":\"&COUNTIF($B$2:B1586,B1586)","v":"HLCUTOR220930516:1"},"HLCUTOR220930516","TCLU2167675","HLCUTOR220930516","20 Dry","PKBQM",293444,"2022-11-10","2022-11-21",223.5,"BL"]
[{"$f":"B1587&\":\"&COUNTIF($B$2:B1587,B1587)","v":"HLCUTOR220930516:2"},"HLCUTOR220930516","TGHU3883626","HLCUTOR220930516","20 Dry","PKBQM",293444,"2022-11-10","2022-11-21",223.5,"BL"]
[{"$f":"B1588&\":\"&COUNTIF($B$2:B1588,B1588)","v":"HLCUTOR220930516:3"},"HLCUTOR220930516","TGCU2111527","HLCUTOR220930516","20 Dry","PKBQM",293444,"2022-11-10","2022-11-21",223.5,"BL"]
[{"$f":"B1589&\":\"&COUNTIF($B$2:B1589,B1589)","v":"HLCUTOR220930516:4"},"HLCUTOR220930516","BMOU1384319","HLCUTOR220930516","20 Dry","PKBQM",293444,"2022-11-10","2022-11-21",223.5,"BL"]
[{"$f":"B1590&\":\"&COUNTIF($B$2:B1590,B1590)","v":"HLCUBSC2209BXRD6:1"},"HLCUBSC2209BXRD6","HLXU1082900","HLCUBSC2209BXRD6","20 Dry","PKBQM",293444,"2022-11-10","2022-11-21",223.5,"BL"]
[{"$f":"B1591&\":\"&COUNTIF($B$2:B1591,B1591)","v":"HLCUBSC2209BXRD6:2"},"HLCUBSC2209BXRD6","NIDU2355844","HLCUBSC2209BXRD6","20 Dry","PKBQM",293444,"2022-11-10","2022-11-21",223.5,"BL"]
[{"$f":"B1592&\":\"&COUNTIF($B$2:B1592,B1592)","v":"HLCUBSC2209BXRD6:3"},"HLCUBSC2209BXRD6","TCLU2042955","HLCUBSC2209BXRD6","20 Dry","PKBQM",293444,"2022-11-10","2022-11-21",223.5,"BL"]
[{"$f":"B1593&\":\"&COUNTIF($B$2:B1593,B1593)","v":"HLCUBSC2209BXRD6:4"},"HLCUBSC2209BXRD6","FBIU0472010","HLCUBSC2209BXRD6","20 Dry","PKBQM",293444,"2022-11-10","2022-11-21",223.5,"BL"]
[{"$f":"B1594&\":\"&COUNTIF($B$2:B1594,B1594)","v":"HLCUBSC2209BPGV4:1"},"HLCUBSC2209BPGV4","HLBU2943306","HLCUBSC2209BPGV4","20 Dry","PKBQM",293444,"2022-11-10","2022-11-21",223.5,"BL"]
[{"$f":"B1595&\":\"&COUNTIF($B$2:B1595,B1595)","v":"HLCUBSC2209BPGV4:2"},"HLCUBSC2209BPGV4","TGCU2092643","HLCUBSC2209BPGV4","20 Dry","PKBQM",293444,"2022-11-10","2022-11-21",223.5,"BL"]
[{"$f":"B1596&\":\"&COUNTIF($B$2:B1596,B1596)","v":"HLCUBSC2209BPGV4:3"},"HLCUBSC2209BPGV4","FCIU6288492","HLCUBSC2209BPGV4","20 Dry","PKBQM",293444,"2022-11-10","2022-11-21",223.5,"BL"]
[{"$f":"B1597&\":\"&COUNTIF($B$2:B1597,B1597)","v":"HLCUBSC2209BPGV4:4"},"HLCUBSC2209BPGV4","HLXU3507304","HLCUBSC2209BPGV4","20 Dry","PKBQM",293444,"2022-11-10","2022-11-21",223.5,"BL"]
[{"$f":"B1598&\":\"&COUNTIF($B$2:B1598,B1598)","v":"HLCUJE2221013172:1"},"HLCUJE2221013172","UACU5545320","HLCUJE2221013172","40 Dry","PKBQM",293444,"2022-11-10","2022-11-23",223.5,"BL"]
[{"$f":"B1599&\":\"&COUNTIF($B$2:B1599,B1599)","v":"HLCUJE2221009775:1"},"HLCUJE2221009775","HLBU2108914","HLCUJE2221009775","40 Dry","PKBQM",293444,"2022-11-10","2022-11-23",223.5,"BL"]
[{"$f":"B1600&\":\"&COUNTIF($B$2:B1600,B1600)","v":"HLCUBSC2209BQIK6:1"},"HLCUBSC2209BQIK6","HLXU3454014","HLCUBSC2209BQIK6","20 Dry","PKBQM",293444,"2022-11-10","2022-11-21",223.5,"BL"]
[{"$f":"B1601&\":\"&COUNTIF($B$2:B1601,B1601)","v":"HLCUBSC2209BQIK6:2"},"HLCUBSC2209BQIK6","CAIU2533377","HLCUBSC2209BQIK6","20 Dry","PKBQM",293444,"2022-11-10","2022-11-21",223.5,"BL"]
[{"$f":"B1602&\":\"&COUNTIF($B$2:B1602,B1602)","v":"HLCUJE2221010013:1"},"HLCUJE2221010013","BEAU4707180","HLCUJE2221010013","40 Dry","PKBQM",293444,"2022-11-10","2022-11-23",223.5,"BL"]
[{"$f":"B1603&\":\"&COUNTIF($B$2:B1603,B1603)","v":"HLCUJE2221008454:1"},"HLCUJE2221008454","FANU3157026","HLCUJE2221008454","40 Dry","PKBQM",293444,"2022-11-10","2022-11-23",223.5,"BL"]
[{"$f":"B1604&\":\"&COUNTIF($B$2:B1604,B1604)","v":"HLCUJE2221012699:1"},"HLCUJE2221012699","FANU1405885","HLCUJE2221012699","40 Dry","PKBQM",293444,"2022-11-10","2022-11-19",223.5,"SW"]
[{"$f":"B1605&\":\"&COUNTIF($B$2:B1605,B1605)","v":"HLCUJE2221010744:1"},"HLCUJE2221010744","UACU6009677","HLCUJE2221010744","40 Dry","PKBQM",293444,"2022-11-10","2022-11-21",223.5,"BL"]
[{"$f":"B1606&\":\"&COUNTIF($B$2:B1606,B1606)","v":"HLCUHAM2209ARZG5:1"},"HLCUHAM2209ARZG5","HLXU1371477","HLCUHAM2209ARZG5","20 Dry","PKKHI",289611,"2022-11-11","2022-11-24",222.5,"BL"]
[{"$f":"B1607&\":\"&COUNTIF($B$2:B1607,B1607)","v":"HLCUHAM2209BTAJ3:1"},"HLCUHAM2209BTAJ3","UACU5788130","HLCUHAM2209BTAJ3","40 Dry","PKKHI",289611,"2022-11-10","2022-11-23",222.5,"BL"]
[{"$f":"B1608&\":\"&COUNTIF($B$2:B1608,B1608)","v":"HLCUHAM2209BTAJ3:2"},"HLCUHAM2209BTAJ3","FANU1010930","HLCUHAM2209BTAJ3","40 Dry","PKKHI",289611,"2022-11-10","2022-11-23",222.5,"BL"]
[{"$f":"B1609&\":\"&COUNTIF($B$2:B1609,B1609)","v":"HLCUHAM2209BTAJ3:3"},"HLCUHAM2209BTAJ3","UACU5865792","HLCUHAM2209BTAJ3","40 Dry","PKKHI",289611,"2022-11-10","2022-11-23",222.5,"BL"]
[{"$f":"B1610&\":\"&COUNTIF($B$2:B1610,B1610)","v":"HLCUHAM2209BTAJ3:4"},"HLCUHAM2209BTAJ3","HLBU3387520","HLCUHAM2209BTAJ3","40 Dry","PKKHI",289611,"2022-11-10","2022-11-23",222.5,"BL"]
[{"$f":"B1611&\":\"&COUNTIF($B$2:B1611,B1611)","v":"HLCUANR220936091:1"},"HLCUANR220936091","UACU3869119","HLCUANR220936091","20 Dry","PKKHI",289611,"2022-11-10","2022-11-19",222.5,"BL"]
[{"$f":"B1612&\":\"&COUNTIF($B$2:B1612,B1612)","v":"HLCUANR220936091:2"},"HLCUANR220936091","HLBU1038746","HLCUANR220936091","20 Dry","PKKHI",289611,"2022-11-10","2022-11-19",222.5,"BL"]
[{"$f":"B1613&\":\"&COUNTIF($B$2:B1613,B1613)","v":"HLCUANR220936091:3"},"HLCUANR220936091","TGBU2153663","HLCUANR220936091","20 Dry","PKKHI",289611,"2022-11-10","2022-11-19",222.5,"BL"]
[{"$f":"B1614&\":\"&COUNTIF($B$2:B1614,B1614)","v":"HLCURTM220920625:1"},"HLCURTM220920625","HLBU3367761","HLCURTM220920625","40 Dry","PKKHI",289611,"2022-11-10","2022-11-19",222.5,"BL"]
[{"$f":"B1615&\":\"&COUNTIF($B$2:B1615,B1615)","v":"HLCUHAM2209BGWH0:1"},"HLCUHAM2209BGWH0","DFSU6483743","HLCUHAM2209BGWH0","40 Dry","PKKHI",289611,"2022-11-10","2022-11-23",222.5,"BL"]
[{"$f":"B1616&\":\"&COUNTIF($B$2:B1616,B1616)","v":"HLCUHAM2209BGWH0:2"},"HLCUHAM2209BGWH0","HLBU1312498","HLCUHAM2209BGWH0","40 Dry","PKKHI",289611,"2022-11-10","2022-11-23",222.5,"BL"]
[{"$f":"B1617&\":\"&COUNTIF($B$2:B1617,B1617)","v":"HLCUHAM2209BGWH0:3"},"HLCUHAM2209BGWH0","HLBU2200912","HLCUHAM2209BGWH0","40 Dry","PKKHI",289611,"2022-11-10","2022-11-23",222.5,"BL"]
[{"$f":"B1618&\":\"&COUNTIF($B$2:B1618,B1618)","v":"HLCUGDY220820717:1"},"HLCUGDY220820717","BSIU9150190","HLCUGDY220820717","40 Dry","PKKHI",289611,"2022-11-10","2022-11-19",222.5,"BL"]
[{"$f":"B1619&\":\"&COUNTIF($B$2:B1619,B1619)","v":"HLCURTM220909080:1"},"HLCURTM220909080","UACU3908771","HLCURTM220909080","20 Dry","PKKHI",289611,"2022-11-10","2022-11-30",222.5,"BL"]
[{"$f":"B1620&\":\"&COUNTIF($B$2:B1620,B1620)","v":"HLCURTM220909080:2"},"HLCURTM220909080","TCLU2878170","HLCURTM220909080","20 Dry","PKKHI",289611,"2022-11-10","2022-11-30",222.5,"BL"]
[{"$f":"B1621&\":\"&COUNTIF($B$2:B1621,B1621)","v":"HLCURTM220999000:1"},"HLCURTM220999000","BMOU2240260","HLCURTM220999000","20 Dry","PKKHI",289611,"2022-11-10","2022-11-14",222.5,"BL"]
[{"$f":"B1622&\":\"&COUNTIF($B$2:B1622,B1622)","v":"HLCULIV220902080:1"},"HLCULIV220902080","HLXU8000014","HLCULIV220902080","40 Dry","PKKHI",289611,"2022-11-10","2022-11-19",222.5,"BL"]
[{"$f":"B1623&\":\"&COUNTIF($B$2:B1623,B1623)","v":"HLCUHAM2209BFZJ5:1"},"HLCUHAM2209BFZJ5","SEGU5628154","HLCUHAM2209BFZJ5","40 Dry","PKKHI",289611,"2022-11-10","2022-11-19",222.5,"SW"]
[{"$f":"B1624&\":\"&COUNTIF($B$2:B1624,B1624)","v":"HLCUHAM2209BACP9:1"},"HLCUHAM2209BACP9","TEMU7269743","HLCUHAM2209BACP9","40 Dry","PKKHI",289611,"2022-11-10","2022-11-19",222.5,"SW"]
[{"$f":"B1625&\":\"&COUNTIF($B$2:B1625,B1625)","v":"HLCUHAM2209BACP9:2"},"HLCUHAM2209BACP9","HLBU1582699","HLCUHAM2209BACP9","40 Dry","PKKHI",289611,"2022-11-10","2022-11-19",222.5,"SW"]
[{"$f":"B1626&\":\"&COUNTIF($B$2:B1626,B1626)","v":"HLCUHAM2209BACP9:3"},"HLCUHAM2209BACP9","HLBU1154134","HLCUHAM2209BACP9","40 Dry","PKKHI",289611,"2022-11-10","2022-11-19",222.5,"SW"]
[{"$f":"B1627&\":\"&COUNTIF($B$2:B1627,B1627)","v":"HLCUHAM2209BACP9:4"},"HLCUHAM2209BACP9","UACU5232855","HLCUHAM2209BACP9","40 Dry","PKKHI",289611,"2022-11-10","2022-11-19",222.5,"SW"]
[{"$f":"B1628&\":\"&COUNTIF($B$2:B1628,B1628)","v":"HLCUGOA221001926:1"},"HLCUGOA221001926","HLXU1283421","HLCUGOA221001926","20 Dry","PKKHI",289611,"2022-11-11","2022-11-24",222.5,"BL"]
[{"$f":"B1629&\":\"&COUNTIF($B$2:B1629,B1629)","v":"HLCUGDY220728586:1"},"HLCUGDY220728586","HLBU3264064","HLCUGDY220728586","40 Dry","PKKHI",289611,"2022-11-10","2022-11-19",222.5,"BL"]
[{"$f":"B1630&\":\"&COUNTIF($B$2:B1630,B1630)","v":"HLCUDM2221003345:1"},"HLCUDM2221003345","HLBU2233990","HLCUDM2221003345","40 Dry","PKKHI",289611,"2022-11-10","2022-11-21",222.5,"SW"]
[{"$f":"B1631&\":\"&COUNTIF($B$2:B1631,B1631)","v":"HLCUDM2221003345:2"},"HLCUDM2221003345","HLXU8145105","HLCUDM2221003345","40 Dry","PKKHI",289611,"2022-11-10","2022-11-21",222.5,"SW"]
[{"$f":"B1632&\":\"&COUNTIF($B$2:B1632,B1632)","v":"HLCUDM2221003345:3"},"HLCUDM2221003345","TCLU5684584","HLCUDM2221003345","40 Dry","PKKHI",289611,"2022-11-10","2022-11-21",222.5,"SW"]
[{"$f":"B1633&\":\"&COUNTIF($B$2:B1633,B1633)","v":"HLCUDM2221003345:4"},"HLCUDM2221003345","UACU5148955","HLCUDM2221003345","40 Dry","PKKHI",289611,"2022-11-10","2022-11-21",222.5,"SW"]
[{"$f":"B1634&\":\"&COUNTIF($B$2:B1634,B1634)","v":"HLCUDM2221003345:5"},"HLCUDM2221003345","HLBU2876126","HLCUDM2221003345","40 Dry","PKKHI",289611,"2022-11-10","2022-11-21",222.5,"SW"]
[{"$f":"B1635&\":\"&COUNTIF($B$2:B1635,B1635)","v":"HLCUDM2221003345:6"},"HLCUDM2221003345","FANU1901566","HLCUDM2221003345","40 Dry","PKKHI",289611,"2022-11-10","2022-11-21",222.5,"SW"]
[{"$f":"B1636&\":\"&COUNTIF($B$2:B1636,B1636)","v":"HLCUDM2221003345:7"},"HLCUDM2221003345","GESU6388670","HLCUDM2221003345","40 Dry","PKKHI",289611,"2022-11-10","2022-11-21",222.5,"SW"]
[{"$f":"B1637&\":\"&COUNTIF($B$2:B1637,B1637)","v":"HLCUGDY220854611:1"},"HLCUGDY220854611","HLXU8073197","HLCUGDY220854611","40 Dry","PKKHI",289611,"2022-11-10","2022-11-14",222.5,"SW"]
[{"$f":"B1638&\":\"&COUNTIF($B$2:B1638,B1638)","v":"HLCURTM220917365:1"},"HLCURTM220917365","CAAU2041040","HLCURTM220917365","20 Dry","PKKHI",289611,"2022-11-10","2022-11-30",222.5,"BL"]
[{"$f":"B1639&\":\"&COUNTIF($B$2:B1639,B1639)","v":"HLCUHAM2209BJTC1:1"},"HLCUHAM2209BJTC1","UACU5638145","HLCUHAM2209BJTC1","40 Dry","PKKHI",289611,"2022-11-10","2022-11-19",222.5,"BL"]
[{"$f":"B1640&\":\"&COUNTIF($B$2:B1640,B1640)","v":"HLCULE1220998880:1"},"HLCULE1220998880","HLBU9305160","HLCULE1220998880","20 Reefer","PKKHI",289611,"2022-11-10","2022-11-12",222.5,"SW"]
[{"$f":"B1641&\":\"&COUNTIF($B$2:B1641,B1641)","v":"HLCULI2220805251:1"},"HLCULI2220805251","HLBU2693911","HLCULI2220805251","40 Dry","PKKHI",289611,"2022-11-10","2022-11-14",222.5,"SW"]
[{"$f":"B1642&\":\"&COUNTIF($B$2:B1642,B1642)","v":"HLCULI2220805251:2"},"HLCULI2220805251","HLBU3370488","HLCULI2220805251","40 Dry","PKKHI",289611,"2022-11-11","2022-11-15",222.5,"SW"]
[{"$f":"B1643&\":\"&COUNTIF($B$2:B1643,B1643)","v":"HLCURTM220820002:1"},"HLCURTM220820002","HLBU1421842","HLCURTM220820002","40 Dry","PKKHI",289611,"2022-11-10","2022-11-19",222.5,"BL"]
[{"$f":"B1644&\":\"&COUNTIF($B$2:B1644,B1644)","v":"HLCUGDY220817362:1"},"HLCUGDY220817362","STJU4200460","HLCUGDY220817362","40 Dry","PKKHI",289611,"2022-11-10","2022-11-19",222.5,"BL"]
[{"$f":"B1645&\":\"&COUNTIF($B$2:B1645,B1645)","v":"HLCUJE2221003852:1"},"HLCUJE2221003852","TTNU4442586","HLCUJE2221003852","40 Dry","PKKHI",289611,"2022-11-10","2022-11-14",222.5,"SW"]
[{"$f":"B1646&\":\"&COUNTIF($B$2:B1646,B1646)","v":"HLCUGDY220820706:1"},"HLCUGDY220820706","TGBU9640880","HLCUGDY220820706","40 Dry","PKKHI",289611,"2022-11-10","2022-11-19",222.5,"BL"]
[{"$f":"B1647&\":\"&COUNTIF($B$2:B1647,B1647)","v":"HLCUPRG220903568:1"},"HLCUPRG220903568","CLHU3960645","HLCUPRG220903568","20 Dry","PKKHI",289611,"2022-11-10","2022-11-14",222.5,"BL"]
[{"$f":"B1648&\":\"&COUNTIF($B$2:B1648,B1648)","v":"HLCUHAM2209BNUX1:1"},"HLCUHAM2209BNUX1","HLXU1273233","HLCUHAM2209BNUX1","20 Dry","PKKHI",289611,"","",222.5,"SW"]
[{"$f":"B1649&\":\"&COUNTIF($B$2:B1649,B1649)","v":"HLCUHAM2209AZBW4:1"},"HLCUHAM2209AZBW4","HLBU1918968","HLCUHAM2209AZBW4","40 Dry","PKKHI",289611,"2022-11-10","2022-11-19",222.5,"SW"]
[{"$f":"B1650&\":\"&COUNTIF($B$2:B1650,B1650)","v":"HLCUANR220885790:1"},"HLCUANR220885790","HLBU9650070","HLCUANR220885790","40 Reefer","PKKHI",289611,"2022-11-10","2022-11-19",222.5,"BL"]
[{"$f":"B1651&\":\"&COUNTIF($B$2:B1651,B1651)","v":"HLCUHAM220923479:1"},"HLCUHAM220923479","SEGU5626207","HLCUHAM220923479","40 Dry","PKKHI",289611,"2022-11-10","2022-11-14",222.5,"SW"]
[{"$f":"B1652&\":\"&COUNTIF($B$2:B1652,B1652)","v":"HLCUHAM220923479:2"},"HLCUHAM220923479","HLBU2416157","HLCUHAM220923479","40 Dry","PKKHI",289611,"2022-11-10","2022-11-14",222.5,"SW"]
[{"$f":"B1653&\":\"&COUNTIF($B$2:B1653,B1653)","v":"HLCURTM220920669:1"},"HLCURTM220920669","TCLU8229990","HLCURTM220920669","40 Dry","PKKHI",289611,"2022-11-10","2022-11-19",222.5,"BL"]
[{"$f":"B1654&\":\"&COUNTIF($B$2:B1654,B1654)","v":"HLCUHAM220975655:1"},"HLCUHAM220975655","HLBU3191796","HLCUHAM220975655","40 Dry","PKKHI",289611,"2022-11-10","2022-11-19",222.5,"SW"]
[{"$f":"B1655&\":\"&COUNTIF($B$2:B1655,B1655)","v":"HLCUHAM220984911:1"},"HLCUHAM220984911","FANU3151178","HLCUHAM220984911","40 Dry","PKKHI",289611,"2022-11-10","2022-11-21",222.5,"BL"]
[{"$f":"B1656&\":\"&COUNTIF($B$2:B1656,B1656)","v":"HLCUHAM220984911:2"},"HLCUHAM220984911","FCIU9156313","HLCUHAM220984911","40 Dry","PKKHI",289611,"2022-11-10","2022-11-21",222.5,"BL"]
[{"$f":"B1657&\":\"&COUNTIF($B$2:B1657,B1657)","v":"HLCUANR220960982:1"},"HLCUANR220960982","UACU5959588","HLCUANR220960982","40 Dry","PKKHI",289611,"2022-11-10","2022-11-23",222.5,"BL"]
[{"$f":"B1658&\":\"&COUNTIF($B$2:B1658,B1658)","v":"HLCUANR220960982:2"},"HLCUANR220960982","HLBU3107620","HLCUANR220960982","40 Dry","PKKHI",289611,"2022-11-10","2022-11-23",222.5,"BL"]
[{"$f":"B1659&\":\"&COUNTIF($B$2:B1659,B1659)","v":"HLCUHAM2209BHKW1:1"},"HLCUHAM2209BHKW1","UACU3529232","HLCUHAM2209BHKW1","20 Dry","PKKHI",289611,"2022-11-10","2022-11-14",222.5,"SW"]
[{"$f":"B1660&\":\"&COUNTIF($B$2:B1660,B1660)","v":"HLCUIZ1220986590:1"},"HLCUIZ1220986590","TGBU6229725","HLCUIZ1220986590","40 Dry","PKKHI",289611,"2022-11-10","2022-11-23",222.5,"BL"]
[{"$f":"B1661&\":\"&COUNTIF($B$2:B1661,B1661)","v":"HLCUIZ1220986590:2"},"HLCUIZ1220986590","FANU1579763","HLCUIZ1220986590","40 Dry","PKKHI",289611,"2022-11-10","2022-11-23",222.5,"BL"]
[{"$f":"B1662&\":\"&COUNTIF($B$2:B1662,B1662)","v":"HLCUIZ1220986590:3"},"HLCUIZ1220986590","HAMU1181931","HLCUIZ1220986590","40 Dry","PKKHI",289611,"2022-11-10","2022-11-23",222.5,"BL"]
[{"$f":"B1663&\":\"&COUNTIF($B$2:B1663,B1663)","v":"HLCUIZ1220986590:4"},"HLCUIZ1220986590","HLBU1066820","HLCUIZ1220986590","40 Dry","PKKHI",289611,"2022-11-10","2022-11-23",222.5,"BL"]
[{"$f":"B1664&\":\"&COUNTIF($B$2:B1664,B1664)","v":"HLCURTM220927372:1"},"HLCURTM220927372","BEAU5364110","HLCURTM220927372","40 Dry","PKKHI",289611,"2022-11-10","2022-11-23",222.5,"SW"]
[{"$f":"B1665&\":\"&COUNTIF($B$2:B1665,B1665)","v":"HLCURUH221000321:1"},"HLCURUH221000321","FFAU1230530","HLCURUH221000321","40 Dry","PKKHI",289611,"2022-11-10","2022-11-30",222.5,"BL"]
[{"$f":"B1666&\":\"&COUNTIF($B$2:B1666,B1666)","v":"HLCURUH221000321:2"},"HLCURUH221000321","BMOU6696048","HLCURUH221000321","40 Dry","PKKHI",289611,"2022-11-10","2022-11-30",222.5,"BL"]
[{"$f":"B1667&\":\"&COUNTIF($B$2:B1667,B1667)","v":"HLCURUH221000321:3"},"HLCURUH221000321","GESU6414403","HLCURUH221000321","40 Dry","PKKHI",289611,"2022-11-10","2022-11-30",222.5,"BL"]
[{"$f":"B1668&\":\"&COUNTIF($B$2:B1668,B1668)","v":"HLCURUH221000321:4"},"HLCURUH221000321","TCLU1459142","HLCURUH221000321","40 Dry","PKKHI",289611,"2022-11-10","2022-11-30",222.5,"BL"]
[{"$f":"B1669&\":\"&COUNTIF($B$2:B1669,B1669)","v":"HLCUHAM220901682:1"},"HLCUHAM220901682","FANU1608270","HLCUHAM220901682","40 Dry","PKKHI",289611,"2022-11-10","2022-11-14",222.5,"SW"]
[{"$f":"B1670&\":\"&COUNTIF($B$2:B1670,B1670)","v":"HLCUHAM2208BYGL2:1"},"HLCUHAM2208BYGL2","HLBU1406750","HLCUHAM2208BYGL2","40 Dry","PKKHI",289611,"2022-11-10","2022-11-23",222.5,"BL"]
[{"$f":"B1671&\":\"&COUNTIF($B$2:B1671,B1671)","v":"HLCUGDY220820699:1"},"HLCUGDY220820699","HLBU1844649","HLCUGDY220820699","40 Dry","PKKHI",289611,"2022-11-10","2022-11-19",222.5,"BL"]
[{"$f":"B1672&\":\"&COUNTIF($B$2:B1672,B1672)","v":"HLCUCPH220811502:1"},"HLCUCPH220811502","TGBU2176530","HLCUCPH220811502","20 Dry","PKKHI",289611,"2022-10-04","2022-11-20",222.5,"BL"]
[{"$f":"B1673&\":\"&COUNTIF($B$2:B1673,B1673)","v":"HLCUCPH220811502:2"},"HLCUCPH220811502","UACU3436192","HLCUCPH220811502","20 Dry","PKKHI",289611,"2022-11-11","2022-11-20",222.5,"BL"]
[{"$f":"B1674&\":\"&COUNTIF($B$2:B1674,B1674)","v":"HLCUCPH220811502:3"},"HLCUCPH220811502","UACU4104870","HLCUCPH220811502","20 Dry","PKKHI",289611,"2022-11-11","2022-11-20",222.5,"BL"]
[{"$f":"B1675&\":\"&COUNTIF($B$2:B1675,B1675)","v":"HLCUCPH220811502:4"},"HLCUCPH220811502","HLBU3003902","HLCUCPH220811502","20 Dry","PKKHI",289611,"2022-11-11","2022-11-20",222.5,"BL"]
[{"$f":"B1676&\":\"&COUNTIF($B$2:B1676,B1676)","v":"HLCUCPH220811502:5"},"HLCUCPH220811502","FCIU6497907","HLCUCPH220811502","20 Dry","PKKHI",289611,"2022-10-04","2022-11-20",222.5,"BL"]
[{"$f":"B1677&\":\"&COUNTIF($B$2:B1677,B1677)","v":"HLCUCPH220811502:6"},"HLCUCPH220811502","TEMU1902026","HLCUCPH220811502","20 Dry","PKKHI",289611,"2022-11-11","2022-11-20",222.5,"BL"]
[{"$f":"B1678&\":\"&COUNTIF($B$2:B1678,B1678)","v":"HLCUCPH220811502:7"},"HLCUCPH220811502","HLBU3461818","HLCUCPH220811502","20 Dry","PKKHI",289611,"2022-11-11","2022-11-20",222.5,"BL"]
[{"$f":"B1679&\":\"&COUNTIF($B$2:B1679,B1679)","v":"HLCUCPH221000880:1"},"HLCUCPH221000880","HLXU3458642","HLCUCPH221000880","20 Dry","PKKHI",289611,"2022-11-11","2022-11-20",222.5,"BL"]
[{"$f":"B1680&\":\"&COUNTIF($B$2:B1680,B1680)","v":"HLCUCPH221000880:2"},"HLCUCPH221000880","UACU3893901","HLCUCPH221000880","20 Dry","PKKHI",289611,"2022-11-11","2022-11-20",222.5,"BL"]
[{"$f":"B1681&\":\"&COUNTIF($B$2:B1681,B1681)","v":"HLCUCPH221000880:3"},"HLCUCPH221000880","UACU3467866","HLCUCPH221000880","20 Dry","PKKHI",289611,"2022-10-04","2022-11-20",222.5,"BL"]
[{"$f":"B1682&\":\"&COUNTIF($B$2:B1682,B1682)","v":"HLCUCPH221000880:4"},"HLCUCPH221000880","TCLU2171042","HLCUCPH221000880","20 Dry","PKKHI",289611,"2022-10-04","2022-11-20",222.5,"BL"]
[{"$f":"B1683&\":\"&COUNTIF($B$2:B1683,B1683)","v":"HLCUCPH221000880:5"},"HLCUCPH221000880","TCLU3572841","HLCUCPH221000880","20 Dry","PKKHI",289611,"2022-11-11","2022-11-20",222.5,"BL"]
[{"$f":"B1684&\":\"&COUNTIF($B$2:B1684,B1684)","v":"HLCUCPH221000880:6"},"HLCUCPH221000880","NIDU2268879","HLCUCPH221000880","20 Dry","PKKHI",289611,"2022-11-11","2022-11-20",222.5,"BL"]
[{"$f":"B1685&\":\"&COUNTIF($B$2:B1685,B1685)","v":"HLCUIZ1221011883:1"},"HLCUIZ1221011883","HLBU1823121","HLCUIZ1221011883","20 Dry","PKKHI",289611,"2022-11-10","2022-11-14",222.5,"SW"]
[{"$f":"B1686&\":\"&COUNTIF($B$2:B1686,B1686)","v":"HLCUPNE220800494:1"},"HLCUPNE220800494","TCNU9042527","HLCUPNE220800494","40 Dry","PKKHI",289611,"2022-11-10","2022-11-14",222.5,"BL"]
[{"$f":"B1687&\":\"&COUNTIF($B$2:B1687,B1687)","v":"HLCUPNE220800494:2"},"HLCUPNE220800494","FANU1497731","HLCUPNE220800494","40 Dry","PKKHI",289611,"2022-11-10","2022-11-14",222.5,"BL"]
[{"$f":"B1688&\":\"&COUNTIF($B$2:B1688,B1688)","v":"HLCUHAM220941538:1"},"HLCUHAM220941538","TRHU2163460","HLCUHAM220941538","20 Dry","PKKHI",289611,"2022-11-10","2022-11-24",222.5,"SW"]
[{"$f":"B1689&\":\"&COUNTIF($B$2:B1689,B1689)","v":"HLCULIV220922060:1"},"HLCULIV220922060","CXDU1839295","HLCULIV220922060","40 Dry","PKKHI",289611,"2022-11-10","2022-11-14",222.5,"SW"]
[{"$f":"B1690&\":\"&COUNTIF($B$2:B1690,B1690)","v":"HLCUGDY220758603:1"},"HLCUGDY220758603","FANU1601379","HLCUGDY220758603","40 Dry","PKKHI",289611,"2022-11-10","2022-11-14",222.5,"SW"]
[{"$f":"B1691&\":\"&COUNTIF($B$2:B1691,B1691)","v":"HLCUIZ1221020313:1"},"HLCUIZ1221020313","UACU3934256","HLCUIZ1221020313","20 Dry","PKKHI",289611,"2022-11-10","2022-11-23",222.5,"BL"]
[{"$f":"B1692&\":\"&COUNTIF($B$2:B1692,B1692)","v":"HLCUANR220952122:1"},"HLCUANR220952122","TRLU1715074","HLCUANR220952122","40 Reefer","PKKHI",289611,"2022-11-10","2022-11-19",222.5,"BL"]
[{"$f":"B1693&\":\"&COUNTIF($B$2:B1693,B1693)","v":"HLCURTM220867950:1"},"HLCURTM220867950","FCIU5405444","HLCURTM220867950","20 Dry","PKKHI",289611,"2022-11-10","2022-11-30",222.5,"BL"]
[{"$f":"B1694&\":\"&COUNTIF($B$2:B1694,B1694)","v":"HLCULIV220976889:1"},"HLCULIV220976889","TGBU2357820","HLCULIV220976889","20 Dry","PKKHI",289611,"2022-11-10","2022-11-23",222.5,"BL"]
[{"$f":"B1695&\":\"&COUNTIF($B$2:B1695,B1695)","v":"HLCURTM220912255:1"},"HLCURTM220912255","DAYU2157039","HLCURTM220912255","20 Dry","PKKHI",289611,"2022-11-10","2022-11-30",222.5,"BL"]
[{"$f":"B1696&\":\"&COUNTIF($B$2:B1696,B1696)","v":"HLCURTM220990546:1"},"HLCURTM220990546","HLXU5322589","HLCURTM220990546","40 Dry","PKKHI",289611,"2022-11-10","2022-11-14",222.5,"BL"]
[{"$f":"B1697&\":\"&COUNTIF($B$2:B1697,B1697)","v":"HLCURTM220920636:1"},"HLCURTM220920636","FANU1792721","HLCURTM220920636","40 Dry","PKKHI",289611,"2022-11-10","2022-11-19",222.5,"BL"]
[{"$f":"B1698&\":\"&COUNTIF($B$2:B1698,B1698)","v":"HLCURTM220920658:1"},"HLCURTM220920658","HAMU1191225","HLCURTM220920658","40 Dry","PKKHI",289611,"2022-11-10","2022-11-19",222.5,"BL"]
[{"$f":"B1699&\":\"&COUNTIF($B$2:B1699,B1699)","v":"HLCUANR220941273:1"},"HLCUANR220941273","SEGU5446437","HLCUANR220941273","40 Dry","PKKHI",289611,"2022-11-10","2022-11-23",222.5,"BL"]
[{"$f":"B1700&\":\"&COUNTIF($B$2:B1700,B1700)","v":"HLCUANR220941273:2"},"HLCUANR220941273","HLBU2005710","HLCUANR220941273","40 Dry","PKKHI",289611,"2022-11-10","2022-11-23",222.5,"BL"]
[{"$f":"B1701&\":\"&COUNTIF($B$2:B1701,B1701)","v":"HLCUANR220941273:3"},"HLCUANR220941273","DFSU7319570","HLCUANR220941273","40 Dry","PKKHI",289611,"2022-11-10","2022-11-23",222.5,"BL"]
[{"$f":"B1702&\":\"&COUNTIF($B$2:B1702,B1702)","v":"HLCUANR220941273:4"},"HLCUANR220941273","TCNU8448810","HLCUANR220941273","40 Dry","PKKHI",289611,"2022-11-10","2022-11-23",222.5,"BL"]
[{"$f":"B1703&\":\"&COUNTIF($B$2:B1703,B1703)","v":"HLCUANR220941273:5"},"HLCUANR220941273","NEXU9537503","HLCUANR220941273","40 Dry","PKKHI",289611,"2022-11-10","2022-11-23",222.5,"BL"]
[{"$f":"B1704&\":\"&COUNTIF($B$2:B1704,B1704)","v":"HLCUANR220941273:6"},"HLCUANR220941273","TCLU5508836","HLCUANR220941273","40 Dry","PKKHI",289611,"2022-11-10","2022-11-23",222.5,"BL"]
[{"$f":"B1705&\":\"&COUNTIF($B$2:B1705,B1705)","v":"HLCUGDY220821088:1"},"HLCUGDY220821088","SEGU5097295","HLCUGDY220821088","40 Dry","PKKHI",289611,"2022-11-10","2022-11-14",222.5,"BL"]
[{"$f":"B1706&\":\"&COUNTIF($B$2:B1706,B1706)","v":"HLCUBEL220902071:1"},"HLCUBEL220902071","TLLU5275671","HLCUBEL220902071","40 Dry","PKKHI",289611,"2022-11-10","2022-11-19",222.5,"BL"]
[{"$f":"B1707&\":\"&COUNTIF($B$2:B1707,B1707)","v":"HLCUBEL220902071:2"},"HLCUBEL220902071","HLBU1968613","HLCUBEL220902071","40 Dry","PKKHI",289611,"2022-11-10","2022-11-19",222.5,"BL"]
[{"$f":"B1708&\":\"&COUNTIF($B$2:B1708,B1708)","v":"HLCUBEL220902071:3"},"HLCUBEL220902071","FANU1922363","HLCUBEL220902071","40 Dry","PKKHI",289611,"2022-11-10","2022-11-19",222.5,"BL"]
[{"$f":"B1709&\":\"&COUNTIF($B$2:B1709,B1709)","v":"HLCUBEL220902071:4"},"HLCUBEL220902071","HLBU2438372","HLCUBEL220902071","40 Dry","PKKHI",289611,"2022-11-10","2022-11-19",222.5,"BL"]
[{"$f":"B1710&\":\"&COUNTIF($B$2:B1710,B1710)","v":"HLCUBEL220902071:5"},"HLCUBEL220902071","TEMU7517541","HLCUBEL220902071","40 Dry","PKKHI",289611,"2022-11-10","2022-11-19",222.5,"BL"]
[{"$f":"B1711&\":\"&COUNTIF($B$2:B1711,B1711)","v":"HLCUBEL220902071:6"},"HLCUBEL220902071","FANU1882620","HLCUBEL220902071","40 Dry","PKKHI",289611,"2022-11-10","2022-11-19",222.5,"BL"]
[{"$f":"B1712&\":\"&COUNTIF($B$2:B1712,B1712)","v":"HLCUBEL220902071:7"},"HLCUBEL220902071","TCLU5949087","HLCUBEL220902071","40 Dry","PKKHI",289611,"2022-11-10","2022-11-19",222.5,"BL"]
[{"$f":"B1713&\":\"&COUNTIF($B$2:B1713,B1713)","v":"HLCUBEL220902071:8"},"HLCUBEL220902071","HLXU8589542","HLCUBEL220902071","40 Dry","PKKHI",289611,"2022-11-10","2022-11-19",222.5,"BL"]
[{"$f":"B1714&\":\"&COUNTIF($B$2:B1714,B1714)","v":"HLCUHAM220901638:1"},"HLCUHAM220901638","UACU5600509","HLCUHAM220901638","40 Dry","PKKHI",289611,"2022-11-10","2022-11-14",222.5,"SW"]
[{"$f":"B1715&\":\"&COUNTIF($B$2:B1715,B1715)","v":"HLCUBC1221005060:1"},"HLCUBC1221005060","HLBU1357358","HLCUBC1221005060","40 Dry","PKKHI",289611,"2022-11-10","2022-11-16",222.5,"SW"]
[{"$f":"B1716&\":\"&COUNTIF($B$2:B1716,B1716)","v":"HLCULIV220971819:1"},"HLCULIV220971819","FFAU1183491","HLCULIV220971819","40 Dry","PKKHI",289611,"2022-11-10","2022-11-19",222.5,"BL"]
[{"$f":"B1717&\":\"&COUNTIF($B$2:B1717,B1717)","v":"HLCURTM220979358:1"},"HLCURTM220979358","TEMU1389715","HLCURTM220979358","20 Dry","PKKHI",289611,"2022-11-10","2022-11-19",222.5,"BL"]
[{"$f":"B1718&\":\"&COUNTIF($B$2:B1718,B1718)","v":"HLCUGDY220728604:1"},"HLCUGDY220728604","TCLU6524472","HLCUGDY220728604","40 Dry","PKKHI",289611,"2022-11-10","2022-11-19",222.5,"BL"]
[{"$f":"B1719&\":\"&COUNTIF($B$2:B1719,B1719)","v":"HLCURTM220950942:1"},"HLCURTM220950942","HLXU3720346","HLCURTM220950942","20 Reefer","PKKHI",289611,"2022-11-10","2022-11-12",222.5,"SW"]
[{"$f":"B1720&\":\"&COUNTIF($B$2:B1720,B1720)","v":"HLCURTM220920077:1"},"HLCURTM220920077","HLXU3735048","HLCURTM220920077","20 Reefer","PKKHI",289611,"2022-11-10","2022-11-12",222.5,"BL"]
[{"$f":"B1721&\":\"&COUNTIF($B$2:B1721,B1721)","v":"HLCUGDY220728597:1"},"HLCUGDY220728597","HLBU1945480","HLCUGDY220728597","40 Dry","PKKHI",289611,"2022-11-10","2022-11-19",222.5,"BL"]
[{"$f":"B1722&\":\"&COUNTIF($B$2:B1722,B1722)","v":"HLCURTM220920585:1"},"HLCURTM220920585","HLBU3386479","HLCURTM220920585","40 Dry","PKKHI",289611,"2022-11-10","2022-11-19",222.5,"BL"]
[{"$f":"B1723&\":\"&COUNTIF($B$2:B1723,B1723)","v":"HLCURTM220978110:1"},"HLCURTM220978110","HLXU1038506","HLCURTM220978110","20 Dry","PKKHI",289611,"2022-11-10","2022-11-19",222.5,"BL"]
[{"$f":"B1724&\":\"&COUNTIF($B$2:B1724,B1724)","v":"HLCURTM220978110:2"},"HLCURTM220978110","FCIU6509382","HLCURTM220978110","20 Dry","PKKHI",289611,"2022-11-10","2022-11-19",222.5,"BL"]
[{"$f":"B1725&\":\"&COUNTIF($B$2:B1725,B1725)","v":"HLCUSYD220771154:1"},"HLCUSYD220771154","CAIU3303240","HLCUSYD220771154","20 Dry","PKKHI",289611,"2022-10-22","",222.5,"BL"]
[{"$f":"B1726&\":\"&COUNTIF($B$2:B1726,B1726)","v":"HLCUSYD220771154:2"},"HLCUSYD220771154","TCLU2277857","HLCUSYD220771154","20 Dry","PKKHI",289611,"2022-10-22","",222.5,"BL"]
[{"$f":"B1727&\":\"&COUNTIF($B$2:B1727,B1727)","v":"HLCUSYD220771154:3"},"HLCUSYD220771154","FTAU1566008","HLCUSYD220771154","20 Dry","PKKHI",289611,"2022-11-10","2022-11-14",222.5,"BL"]
[{"$f":"B1728&\":\"&COUNTIF($B$2:B1728,B1728)","v":"HLCUSYD220771154:4"},"HLCUSYD220771154","UACU3468121","HLCUSYD220771154","20 Dry","PKKHI",289611,"2022-10-22","",222.5,"BL"]
[{"$f":"B1729&\":\"&COUNTIF($B$2:B1729,B1729)","v":"HLCUSYD220771154:5"},"HLCUSYD220771154","CLHU3959897","HLCUSYD220771154","20 Dry","PKKHI",289611,"2022-11-10","2022-11-14",222.5,"BL"]
[{"$f":"B1730&\":\"&COUNTIF($B$2:B1730,B1730)","v":"HLCUSYD220835264:1"},"HLCUSYD220835264","UACU3469874","HLCUSYD220835264","20 Dry","PKKHI",289611,"2022-11-10","2022-11-14",222.5,"BL"]
[{"$f":"B1731&\":\"&COUNTIF($B$2:B1731,B1731)","v":"HLCUSYD220835264:2"},"HLCUSYD220835264","TRHU2865506","HLCUSYD220835264","20 Dry","PKKHI",289611,"2022-11-10","2022-11-14",222.5,"BL"]
[{"$f":"B1732&\":\"&COUNTIF($B$2:B1732,B1732)","v":"HLCUSYD220835264:3"},"HLCUSYD220835264","HLXU1399200","HLCUSYD220835264","20 Dry","PKKHI",289611,"2022-10-22","",222.5,"BL"]
[{"$f":"B1733&\":\"&COUNTIF($B$2:B1733,B1733)","v":"HLCUSYD220835264:4"},"HLCUSYD220835264","FANU1334420","HLCUSYD220835264","20 Dry","PKKHI",289611,"2022-11-10","2022-11-14",222.5,"BL"]
[{"$f":"B1734&\":\"&COUNTIF($B$2:B1734,B1734)","v":"HLCUSYD220835264:5"},"HLCUSYD220835264","TGBU2254951","HLCUSYD220835264","20 Dry","PKKHI",289611,"2022-10-22","",222.5,"BL"]
[{"$f":"B1735&\":\"&COUNTIF($B$2:B1735,B1735)","v":"HLCUPRG220908422:1"},"HLCUPRG220908422","HLXU1131558","HLCUPRG220908422","20 Dry","PKKHI",289611,"2022-11-11","2022-11-15",222.5,"BL"]
[{"$f":"B1736&\":\"&COUNTIF($B$2:B1736,B1736)","v":"HLCUGDY220863385:1"},"HLCUGDY220863385","BSIU2071130","HLCUGDY220863385","20 Dry","PKKHI",289611,"2022-09-28","",222.5,"BL"]
[{"$f":"B1737&\":\"&COUNTIF($B$2:B1737,B1737)","v":"HLCULIV220953950:1"},"HLCULIV220953950","BEAU4729174","HLCULIV220953950","40 Dry","PKKHI",289611,"2022-11-10","2022-11-14",222.5,"BL"]
[{"$f":"B1738&\":\"&COUNTIF($B$2:B1738,B1738)","v":"HLCULIV220953950:2"},"HLCULIV220953950","FANU1144098","HLCULIV220953950","40 Dry","PKKHI",289611,"2022-11-10","2022-11-14",222.5,"BL"]
[{"$f":"B1739&\":\"&COUNTIF($B$2:B1739,B1739)","v":"HLCUHAM2209BHAE3:1"},"HLCUHAM2209BHAE3","HLXU8371165","HLCUHAM2209BHAE3","40 Dry","PKKHI",289611,"2022-11-10","2022-11-23",222.5,"BL"]
[{"$f":"B1740&\":\"&COUNTIF($B$2:B1740,B1740)","v":"HLCUHAM2208BDVJ0:1"},"HLCUHAM2208BDVJ0","UACU8615117","HLCUHAM2208BDVJ0","40 Dry","PKKHI",289611,"2022-11-10","2022-11-23",222.5,"BL"]
[{"$f":"B1741&\":\"&COUNTIF($B$2:B1741,B1741)","v":"HLCUGDY220728575:1"},"HLCUGDY220728575","GCXU5949266","HLCUGDY220728575","40 Dry","PKKHI",289611,"2022-11-10","2022-11-19",222.5,"BL"]
[{"$f":"B1742&\":\"&COUNTIF($B$2:B1742,B1742)","v":"HLCUBEL220902100:1"},"HLCUBEL220902100","HLXU8731549","HLCUBEL220902100","40 Reefer","PKKHI",289611,"2022-11-10","2022-11-16",222.5,"BL"]
[{"$f":"B1743&\":\"&COUNTIF($B$2:B1743,B1743)","v":"HLCUTOR220925915:1"},"HLCUTOR220925915","TLLU5861667","HLCUTOR220925915","40 Dry","PKKHI",289611,"2022-11-10","2022-11-21",222.5,"SW"]
[{"$f":"B1744&\":\"&COUNTIF($B$2:B1744,B1744)","v":"HLCUTOR220921768:1"},"HLCUTOR220921768","FANU1694725","HLCUTOR220921768","40 Dry","PKKHI",289611,"2022-11-10","2022-11-21",222.5,"BL"]
[{"$f":"B1745&\":\"&COUNTIF($B$2:B1745,B1745)","v":"HLCUVAN220908847:1"},"HLCUVAN220908847","UACU5822110","HLCUVAN220908847","40 Dry","PKKHI",289611,"2022-11-11","2022-11-22",222.5,"SW"]
[{"$f":"B1746&\":\"&COUNTIF($B$2:B1746,B1746)","v":"HLCUPRG221003395:1"},"HLCUPRG221003395","TCLU5170311","HLCUPRG221003395","40 Dry","PKKHI",289611,"2022-11-10","2022-11-19",222.5,"BL"]
[{"$f":"B1747&\":\"&COUNTIF($B$2:B1747,B1747)","v":"HLCUTOR220927194:1"},"HLCUTOR220927194","HLBU2252942","HLCUTOR220927194","40 Dry","PKKHI",289611,"2022-11-10","2022-11-21",222.5,"BL"]
[{"$f":"B1748&\":\"&COUNTIF($B$2:B1748,B1748)","v":"HLCUTOR220927194:2"},"HLCUTOR220927194","HLBU2541293","HLCUTOR220927194","40 Dry","PKKHI",289611,"2022-11-10","2022-11-21",222.5,"BL"]
[{"$f":"B1749&\":\"&COUNTIF($B$2:B1749,B1749)","v":"HLCUTOR220927194:3"},"HLCUTOR220927194","FANU3055580","HLCUTOR220927194","40 Dry","PKKHI",289611,"2022-11-10","2022-11-21",222.5,"BL"]
[{"$f":"B1750&\":\"&COUNTIF($B$2:B1750,B1750)","v":"HLCUTOR220929251:1"},"HLCUTOR220929251","HLBU2182249","HLCUTOR220929251","40 Dry","PKKHI",289611,"2022-11-11","2022-11-22",222.5,"SW"]
[{"$f":"B1751&\":\"&COUNTIF($B$2:B1751,B1751)","v":"HLCUTOR220918570:1"},"HLCUTOR220918570","FANU1882466","HLCUTOR220918570","40 Dry","PKKHI",289611,"2022-11-10","2022-11-21",222.5,"SW"]
[{"$f":"B1752&\":\"&COUNTIF($B$2:B1752,B1752)","v":"HLCUTOR220912669:1"},"HLCUTOR220912669","TXGU7114678","HLCUTOR220912669","40 Dry","PKKHI",289611,"2022-11-10","2022-11-21",222.5,"SW"]
[{"$f":"B1753&\":\"&COUNTIF($B$2:B1753,B1753)","v":"HLCUTOR220925897:1"},"HLCUTOR220925897","CAAU5543015","HLCUTOR220925897","40 Dry","PKKHI",289611,"2022-11-10","2022-11-21",222.5,"SW"]
[{"$f":"B1754&\":\"&COUNTIF($B$2:B1754,B1754)","v":"HLCUTOR220922146:1"},"HLCUTOR220922146","TXGU6539446","HLCUTOR220922146","40 Dry","PKKHI",289611,"2022-11-10","2022-11-21",222.5,"SW"]
[{"$f":"B1755&\":\"&COUNTIF($B$2:B1755,B1755)","v":"HLCUTOR220919997:1"},"HLCUTOR220919997","TCNU6008299","HLCUTOR220919997","40 Dry","PKKHI",289611,"2022-11-11","2022-11-15",222.5,"BL"]
[{"$f":"B1756&\":\"&COUNTIF($B$2:B1756,B1756)","v":"HLCUTOR220919997:2"},"HLCUTOR220919997","FANU1861930","HLCUTOR220919997","40 Dry","PKKHI",289611,"2022-11-11","2022-11-15",222.5,"BL"]
[{"$f":"B1757&\":\"&COUNTIF($B$2:B1757,B1757)","v":"HLCUTOR220919997:3"},"HLCUTOR220919997","HLBU1644825","HLCUTOR220919997","40 Dry","PKKHI",289611,"2022-11-11","2022-11-15",222.5,"BL"]
[{"$f":"B1758&\":\"&COUNTIF($B$2:B1758,B1758)","v":"HLCUTOR220925926:1"},"HLCUTOR220925926","FCIU8563525","HLCUTOR220925926","40 Dry","PKKHI",289611,"2022-11-10","2022-11-21",222.5,"SW"]
[{"$f":"B1759&\":\"&COUNTIF($B$2:B1759,B1759)","v":"HLCUHAM2209AOYO0:1"},"HLCUHAM2209AOYO0","TCNU7006393","HLCUHAM2209AOYO0","40 Dry","PKKHI",289611,"2022-11-10","2022-11-14",222.5,"BL"]
[{"$f":"B1760&\":\"&COUNTIF($B$2:B1760,B1760)","v":"HLCUHAM2209BTCT0:1"},"HLCUHAM2209BTCT0","GESU3733412","HLCUHAM2209BTCT0","20 Dry","PKKHI",289611,"2022-11-10","2022-11-14",222.5,"SW"]
[{"$f":"B1761&\":\"&COUNTIF($B$2:B1761,B1761)","v":"HLCUHAM2209BGDH5:1"},"HLCUHAM2209BGDH5","FCIU7093812","HLCUHAM2209BGDH5","40 Dry","PKKHI",289611,"2022-11-10","2022-11-23",222.5,"BL"]
[{"$f":"B1762&\":\"&COUNTIF($B$2:B1762,B1762)","v":"HLCUTOR220928025:1"},"HLCUTOR220928025","TRLU7499795","HLCUTOR220928025","40 Dry","PKKHI",289611,"2022-11-10","2022-11-21",222.5,"SW"]
[{"$f":"B1763&\":\"&COUNTIF($B$2:B1763,B1763)","v":"HLCUTOR220922135:1"},"HLCUTOR220922135","HLBU3152784","HLCUTOR220922135","40 Dry","PKKHI",289611,"2022-11-10","2022-11-21",222.5,"SW"]
[{"$f":"B1764&\":\"&COUNTIF($B$2:B1764,B1764)","v":"HLCUTOR220914938:1"},"HLCUTOR220914938","FANU1582026","HLCUTOR220914938","40 Dry","PKKHI",289611,"2022-11-10","2022-11-21",222.5,"SW"]
[{"$f":"B1765&\":\"&COUNTIF($B$2:B1765,B1765)","v":"HLCUTOR220923953:1"},"HLCUTOR220923953","HLXU8431686","HLCUTOR220923953","40 Dry","PKKHI",289611,"2022-11-10","2022-11-21",222.5,"SW"]
[{"$f":"B1766&\":\"&COUNTIF($B$2:B1766,B1766)","v":"HLCUTOR220925886:1"},"HLCUTOR220925886","FANU3133997","HLCUTOR220925886","40 Dry","PKKHI",289611,"2022-11-10","2022-11-21",222.5,"SW"]
[{"$f":"B1767&\":\"&COUNTIF($B$2:B1767,B1767)","v":"HLCULIV220884870:1"},"HLCULIV220884870","TRHU1673725","HLCULIV220884870","20 Dry","PKKHI",289611,"2022-11-10","2022-11-16",222.5,"SW"]
[{"$f":"B1768&\":\"&COUNTIF($B$2:B1768,B1768)","v":"HLCUHAM2209AZJG1:1"},"HLCUHAM2209AZJG1","HLBU1930937","HLCUHAM2209AZJG1","40 Dry","PKKHI",289611,"2022-11-10","2022-11-23",222.5,"BL"]
[{"$f":"B1769&\":\"&COUNTIF($B$2:B1769,B1769)","v":"HLCUHAM2209AZJG1:2"},"HLCUHAM2209AZJG1","FSCU7158390","HLCUHAM2209AZJG1","40 Dry","PKKHI",289611,"2022-11-10","2022-11-23",222.5,"BL"]
[{"$f":"B1770&\":\"&COUNTIF($B$2:B1770,B1770)","v":"HLCUHAM2209AZJG1:3"},"HLCUHAM2209AZJG1","UACU5776930","HLCUHAM2209AZJG1","40 Dry","PKKHI",289611,"2022-11-10","2022-11-23",222.5,"BL"]
[{"$f":"B1771&\":\"&COUNTIF($B$2:B1771,B1771)","v":"HLCUHAM2209AZJG1:4"},"HLCUHAM2209AZJG1","FANU1745191","HLCUHAM2209AZJG1","40 Dry","PKKHI",289611,"2022-11-10","2022-11-23",222.5,"BL"]
[{"$f":"B1772&\":\"&COUNTIF($B$2:B1772,B1772)","v":"HLCUHAM2209AZJG1:5"},"HLCUHAM2209AZJG1","FANU1404467","HLCUHAM2209AZJG1","40 Dry","PKKHI",289611,"2022-11-10","2022-11-23",222.5,"BL"]
[{"$f":"B1773&\":\"&COUNTIF($B$2:B1773,B1773)","v":"HLCUHAM2209AYGZ1:1"},"HLCUHAM2209AYGZ1","HLXU1223593","HLCUHAM2209AYGZ1","20 Dry","PKKHI",289611,"2022-11-11","2022-11-20",222.5,"SW"]
[{"$f":"B1774&\":\"&COUNTIF($B$2:B1774,B1774)","v":"HLCURTM220987538:1"},"HLCURTM220987538","HLBU2304563","HLCURTM220987538","20 Dry","PKKHI",289611,"2022-11-10","2022-11-23",222.5,"SW"]
[{"$f":"B1775&\":\"&COUNTIF($B$2:B1775,B1775)","v":"HLCURTM220987538:2"},"HLCURTM220987538","HLBU1726651","HLCURTM220987538","20 Dry","PKKHI",289611,"2022-11-10","2022-11-23",222.5,"SW"]
[{"$f":"B1776&\":\"&COUNTIF($B$2:B1776,B1776)","v":"HLCURTM220987538:3"},"HLCURTM220987538","HLBU2637121","HLCURTM220987538","20 Dry","PKKHI",289611,"2022-11-10","2022-11-23",222.5,"SW"]
[{"$f":"B1777&\":\"&COUNTIF($B$2:B1777,B1777)","v":"HLCUJE2221006638:1"},"HLCUJE2221006638","CAIU4982490","HLCUJE2221006638","40 Dry","PKKHI",289611,"2022-11-10","2022-11-23",222.5,"SW"]
[{"$f":"B1778&\":\"&COUNTIF($B$2:B1778,B1778)","v":"HLCUJE2221006650:1"},"HLCUJE2221006650","UACU5841527","HLCUJE2221006650","40 Dry","PKKHI",289611,"2022-11-10","2022-11-23",222.5,"SW"]
[{"$f":"B1779&\":\"&COUNTIF($B$2:B1779,B1779)","v":"HLCULIV220974817:1"},"HLCULIV220974817","FSCU9719083","HLCULIV220974817","40 Dry","PKKHI",289611,"2022-11-10","2022-11-19",222.5,"BL"]
[{"$f":"B1780&\":\"&COUNTIF($B$2:B1780,B1780)","v":"HLCUHAM2209BSVH0:1"},"HLCUHAM2209BSVH0","HLBU8180310","HLCUHAM2209BSVH0","40 Special","PKKHI",289611,"2022-11-10","2022-11-14",222.5,"BL"]
[{"$f":"B1781&\":\"&COUNTIF($B$2:B1781,B1781)","v":"HLCUGDY220728564:1"},"HLCUGDY220728564","CAIU8255503","HLCUGDY220728564","40 Dry","PKKHI",289611,"2022-11-10","2022-11-19",222.5,"BL"]
[{"$f":"B1782&\":\"&COUNTIF($B$2:B1782,B1782)","v":"HLCUHAM2209BIYH6:1"},"HLCUHAM2209BIYH6","TEMU1479022","HLCUHAM2209BIYH6","20 Dry","PKKHI",289611,"","2022-11-20",222.5,"BL"]
[{"$f":"B1783&\":\"&COUNTIF($B$2:B1783,B1783)","v":"HLCURTM220920563:1"},"HLCURTM220920563","TXGU7015084","HLCURTM220920563","40 Dry","PKKHI",289611,"2022-11-10","2022-11-19",222.5,"BL"]
[{"$f":"B1784&\":\"&COUNTIF($B$2:B1784,B1784)","v":"HLCUHAM2209APGY3:1"},"HLCUHAM2209APGY3","UACU3585241","HLCUHAM2209APGY3","20 Dry","PKKHI",289611,"2022-11-11","2022-11-24",222.5,"SW"]
[{"$f":"B1785&\":\"&COUNTIF($B$2:B1785,B1785)","v":"HLCUHAM2209BGWP8:1"},"HLCUHAM2209BGWP8","HLBU2208934","HLCUHAM2209BGWP8","40 Dry","PKKHI",289611,"2022-11-10","2022-11-23",222.5,"BL"]
[{"$f":"B1786&\":\"&COUNTIF($B$2:B1786,B1786)","v":"HLCUHAM2209BGWP8:2"},"HLCUHAM2209BGWP8","FFAU2646899","HLCUHAM2209BGWP8","40 Dry","PKKHI",289611,"2022-11-10","2022-11-23",222.5,"BL"]
[{"$f":"B1787&\":\"&COUNTIF($B$2:B1787,B1787)","v":"HLCURTM220997896:1"},"HLCURTM220997896","HLXU3743064","HLCURTM220997896","20 Reefer","PKKHI",289611,"2022-11-10","2022-11-12",222.5,"SW"]
[{"$f":"B1788&\":\"&COUNTIF($B$2:B1788,B1788)","v":"HLCUJE2220901164:1"},"HLCUJE2220901164","HLBU1076453","HLCUJE2220901164","40 Dry","PKKHI",289611,"2022-11-10","2022-11-21",222.5,"SW"]
[{"$f":"B1789&\":\"&COUNTIF($B$2:B1789,B1789)","v":"HLCUJE2220901164:2"},"HLCUJE2220901164","HLBU2554346","HLCUJE2220901164","40 Dry","PKKHI",289611,"2022-11-10","2022-11-21",222.5,"SW"]
[{"$f":"B1790&\":\"&COUNTIF($B$2:B1790,B1790)","v":"HLCUJE2220901164:3"},"HLCUJE2220901164","BMOU6643346","HLCUJE2220901164","40 Dry","PKKHI",289611,"2022-11-10","2022-11-21",222.5,"SW"]
[{"$f":"B1791&\":\"&COUNTIF($B$2:B1791,B1791)","v":"HLCUJE2220901164:4"},"HLCUJE2220901164","FANU1413366","HLCUJE2220901164","40 Dry","PKKHI",289611,"2022-11-10","2022-11-21",222.5,"SW"]
[{"$f":"B1792&\":\"&COUNTIF($B$2:B1792,B1792)","v":"HLCUJE2220901164:5"},"HLCUJE2220901164","TEMU7533286","HLCUJE2220901164","40 Dry","PKKHI",289611,"2022-11-10","2022-11-21",222.5,"SW"]
[{"$f":"B1793&\":\"&COUNTIF($B$2:B1793,B1793)","v":"HLCUHAM2209BLNE9:1"},"HLCUHAM2209BLNE9","CICU3388010","HLCUHAM2209BLNE9","40 Dry","PKKHI",289611,"","",222.5,"SW"]
[{"$f":"B1794&\":\"&COUNTIF($B$2:B1794,B1794)","v":"HLCUHAM2209AYTY7:1"},"HLCUHAM2209AYTY7","TCLU2893410","HLCUHAM2209AYTY7","20 Dry","PKKHI",289611,"2022-11-11","2022-11-15",222.5,"SW"]
[{"$f":"B1795&\":\"&COUNTIF($B$2:B1795,B1795)","v":"HLCUHAM2209BNHK1:1"},"HLCUHAM2209BNHK1","HLBU3112164","HLCUHAM2209BNHK1","40 Dry","PKKHI",289611,"2022-11-10","2022-11-21",222.5,"BL"]
[{"$f":"B1796&\":\"&COUNTIF($B$2:B1796,B1796)","v":"HLCUBEL220802855:1"},"HLCUBEL220802855","BSIU9754267","HLCUBEL220802855","40 Dry","PKKHI",289611,"2022-11-10","2022-11-19",222.5,"BL"]
[{"$f":"B1797&\":\"&COUNTIF($B$2:B1797,B1797)","v":"HLCUBEL220802855:2"},"HLCUBEL220802855","FANU3186620","HLCUBEL220802855","40 Dry","PKKHI",289611,"2022-11-10","2022-11-19",222.5,"BL"]
[{"$f":"B1798&\":\"&COUNTIF($B$2:B1798,B1798)","v":"HLCUBEL220802855:3"},"HLCUBEL220802855","HAMU1141409","HLCUBEL220802855","40 Dry","PKKHI",289611,"2022-11-10","2022-11-19",222.5,"BL"]
[{"$f":"B1799&\":\"&COUNTIF($B$2:B1799,B1799)","v":"HLCUBEL220802855:4"},"HLCUBEL220802855","HAMU1209411","HLCUBEL220802855","40 Dry","PKKHI",289611,"2022-11-10","2022-11-19",222.5,"BL"]
[{"$f":"B1800&\":\"&COUNTIF($B$2:B1800,B1800)","v":"HLCUBEL220802855:5"},"HLCUBEL220802855","TCNU1780247","HLCUBEL220802855","40 Dry","PKKHI",289611,"2022-11-10","2022-11-19",222.5,"BL"]
[{"$f":"B1801&\":\"&COUNTIF($B$2:B1801,B1801)","v":"HLCUBEL220802855:6"},"HLCUBEL220802855","SEKU6289912","HLCUBEL220802855","40 Dry","PKKHI",289611,"2022-11-10","2022-11-19",222.5,"BL"]
[{"$f":"B1802&\":\"&COUNTIF($B$2:B1802,B1802)","v":"HLCUBEL220802855:7"},"HLCUBEL220802855","HAMU1277870","HLCUBEL220802855","40 Dry","PKKHI",289611,"2022-11-10","2022-11-19",222.5,"BL"]
[{"$f":"B1803&\":\"&COUNTIF($B$2:B1803,B1803)","v":"HLCUBEL220802855:8"},"HLCUBEL220802855","HLBU2053088","HLCUBEL220802855","40 Dry","PKKHI",289611,"2022-11-10","2022-11-19",222.5,"BL"]
[{"$f":"B1804&\":\"&COUNTIF($B$2:B1804,B1804)","v":"HLCURTM220920596:1"},"HLCURTM220920596","FANU1297688","HLCURTM220920596","40 Dry","PKKHI",289611,"2022-11-10","2022-11-19",222.5,"BL"]
[{"$f":"B1805&\":\"&COUNTIF($B$2:B1805,B1805)","v":"HLCUJE2221009670:1"},"HLCUJE2221009670","UACU5902324","HLCUJE2221009670","40 Dry","PKKHI",289611,"2022-11-10","2022-11-30",222.5,"BL"]
[{"$f":"B1806&\":\"&COUNTIF($B$2:B1806,B1806)","v":"HLCUJE2221009670:2"},"HLCUJE2221009670","HLXU8370739","HLCUJE2221009670","40 Dry","PKKHI",289611,"2022-11-10","2022-11-30",222.5,"BL"]
[{"$f":"B1807&\":\"&COUNTIF($B$2:B1807,B1807)","v":"HLCUJE2221009670:3"},"HLCUJE2221009670","TCLU5613810","HLCUJE2221009670","40 Dry","PKKHI",289611,"2022-11-10","2022-11-30",222.5,"BL"]
[{"$f":"B1808&\":\"&COUNTIF($B$2:B1808,B1808)","v":"HLCUJE2221009670:4"},"HLCUJE2221009670","UACU8399548","HLCUJE2221009670","40 Dry","PKKHI",289611,"2022-11-10","2022-11-30",222.5,"BL"]
[{"$f":"B1809&\":\"&COUNTIF($B$2:B1809,B1809)","v":"HLCUJE2221009670:5"},"HLCUJE2221009670","FCIU7337077","HLCUJE2221009670","40 Dry","PKKHI",289611,"2022-11-10","2022-11-30",222.5,"BL"]
[{"$f":"B1810&\":\"&COUNTIF($B$2:B1810,B1810)","v":"HLCUJE2221009670:6"},"HLCUJE2221009670","UACU8554639","HLCUJE2221009670","40 Dry","PKKHI",289611,"2022-11-10","2022-11-30",222.5,"BL"]
[{"$f":"B1811&\":\"&COUNTIF($B$2:B1811,B1811)","v":"HLCUJE2221009670:7"},"HLCUJE2221009670","BEAU4983091","HLCUJE2221009670","40 Dry","PKKHI",289611,"2022-11-10","2022-11-30",222.5,"BL"]
[{"$f":"B1812&\":\"&COUNTIF($B$2:B1812,B1812)","v":"HLCUJE2221009670:8"},"HLCUJE2221009670","UACU5487352","HLCUJE2221009670","40 Dry","PKKHI",289611,"2022-11-10","2022-11-30",222.5,"BL"]
[{"$f":"B1813&\":\"&COUNTIF($B$2:B1813,B1813)","v":"HLCUBEL220902093:1"},"HLCUBEL220902093","UACU4769618","HLCUBEL220902093","40 Reefer","PKKHI",289611,"2022-11-10","2022-11-16",222.5,"BL"]
[{"$f":"B1814&\":\"&COUNTIF($B$2:B1814,B1814)","v":"HLCUHAM2209BOOE2:1"},"HLCUHAM2209BOOE2","CSVU7504198","HLCUHAM2209BOOE2","40 Reefer","PKKHI",289611,"2022-11-10","2022-11-12",222.5,"SW"]
[{"$f":"B1815&\":\"&COUNTIF($B$2:B1815,B1815)","v":"HLCURTM220988289:1"},"HLCURTM220988289","NIDU2298106","HLCURTM220988289","20 Dry","PKKHI",289611,"","",222.5,"BL"]
[{"$f":"B1816&\":\"&COUNTIF($B$2:B1816,B1816)","v":"HLCUBEL220900562:1"},"HLCUBEL220900562","TCKU6084930","HLCUBEL220900562","40 Dry","PKKHI",289611,"2022-11-10","2022-11-14",222.5,"BL"]
[{"$f":"B1817&\":\"&COUNTIF($B$2:B1817,B1817)","v":"HLCUGDY220858148:1"},"HLCUGDY220858148","FCIU7347558","HLCUGDY220858148","40 Dry","PKKHI",289611,"2022-11-10","2022-11-14",222.5,"BL"]
[{"$f":"B1818&\":\"&COUNTIF($B$2:B1818,B1818)","v":"HLCULIV220953453:1"},"HLCULIV220953453","HLBU9338143","HLCULIV220953453","40 Reefer","PKKHI",289611,"2022-11-10","2022-11-12",222.5,"SW"]
[{"$f":"B1819&\":\"&COUNTIF($B$2:B1819,B1819)","v":"HLCUIZ1221007331:1"},"HLCUIZ1221007331","FCIU7453544","HLCUIZ1221007331","40 Dry","PKKHI",289611,"2022-11-10","2022-11-16",222.5,"SW"]
[{"$f":"B1820&\":\"&COUNTIF($B$2:B1820,B1820)","v":"HLCUIZ1221007331:2"},"HLCUIZ1221007331","HLXU8430967","HLCUIZ1221007331","40 Dry","PKKHI",289611,"2022-11-10","2022-11-16",222.5,"SW"]
[{"$f":"B1821&\":\"&COUNTIF($B$2:B1821,B1821)","v":"HLCUIZ1221007331:3"},"HLCUIZ1221007331","SEKU6290359","HLCUIZ1221007331","40 Dry","PKKHI",289611,"2022-11-10","2022-11-16",222.5,"SW"]
[{"$f":"B1822&\":\"&COUNTIF($B$2:B1822,B1822)","v":"HLCUIZ1221007331:4"},"HLCUIZ1221007331","HLBU3107384","HLCUIZ1221007331","40 Dry","PKKHI",289611,"2022-11-10","2022-11-16",222.5,"SW"]
[{"$f":"B1823&\":\"&COUNTIF($B$2:B1823,B1823)","v":"HLCUIZ1221007331:5"},"HLCUIZ1221007331","BSIU9593183","HLCUIZ1221007331","40 Dry","PKKHI",289611,"2022-11-10","2022-11-16",222.5,"SW"]
[{"$f":"B1824&\":\"&COUNTIF($B$2:B1824,B1824)","v":"HLCUIZ1221007331:6"},"HLCUIZ1221007331","HLXU8223527","HLCUIZ1221007331","40 Dry","PKKHI",289611,"2022-11-10","2022-11-16",222.5,"SW"]
[{"$f":"B1825&\":\"&COUNTIF($B$2:B1825,B1825)","v":"HLCUPRG220910924:1"},"HLCUPRG220910924","GESU5518168","HLCUPRG220910924","40 Dry","PKKHI",289611,"2022-11-10","2022-11-19",222.5,"BL"]
[{"$f":"B1826&\":\"&COUNTIF($B$2:B1826,B1826)","v":"HLCUANR220941704:1"},"HLCUANR220941704","FANU1689143","HLCUANR220941704","40 Dry","PKKHI",289611,"2022-11-10","2022-11-23",222.5,"BL"]
[{"$f":"B1827&\":\"&COUNTIF($B$2:B1827,B1827)","v":"HLCUHAM220985702:1"},"HLCUHAM220985702","UACU5715410","HLCUHAM220985702","40 Dry","PKKHI",289611,"2022-11-10","2022-11-19",222.5,"BL"]
[{"$f":"B1828&\":\"&COUNTIF($B$2:B1828,B1828)","v":"HLCULIV220911420:1"},"HLCULIV220911420","UETU5812879","HLCULIV220911420","40 Dry","PKKHI",289611,"2022-11-10","2022-11-14",222.5,"BL"]
[{"$f":"B1829&\":\"&COUNTIF($B$2:B1829,B1829)","v":"HLCULIV220911420:2"},"HLCULIV220911420","BMOU6698082","HLCULIV220911420","40 Dry","PKKHI",289611,"2022-11-10","2022-11-14",222.5,"BL"]
[{"$f":"B1830&\":\"&COUNTIF($B$2:B1830,B1830)","v":"HLCULIV220911420:3"},"HLCULIV220911420","CAAU5746537","HLCULIV220911420","40 Dry","PKKHI",289611,"2022-11-10","2022-11-14",222.5,"BL"]
[{"$f":"B1831&\":\"&COUNTIF($B$2:B1831,B1831)","v":"HLCURTM220819998:1"},"HLCURTM220819998","GESU6394713","HLCURTM220819998","40 Dry","PKKHI",289611,"2022-11-10","2022-11-19",222.5,"BL"]
[{"$f":"B1832&\":\"&COUNTIF($B$2:B1832,B1832)","v":"HLCUIZ12209AQRV7:1"},"HLCUIZ12209AQRV7","CAAU5551263","HLCUIZ12209AQRV7","40 Dry","PKKHI",292732,"2022-11-10","2022-11-16",223.5,"SW"]
[{"$f":"B1833&\":\"&COUNTIF($B$2:B1833,B1833)","v":"HLCUIZ12209AQQX3:1"},"HLCUIZ12209AQQX3","BMOU4040636","HLCUIZ12209AQQX3","40 Dry","PKKHI",292732,"2022-11-10","2022-11-16",223.5,"SW"]
[{"$f":"B1834&\":\"&COUNTIF($B$2:B1834,B1834)","v":"HLCUIZ1221009020:1"},"HLCUIZ1221009020","TCLU8158979","HLCUIZ1221009020","40 Dry","PKKHI",292732,"2022-11-10","2022-11-16",223.5,"SW"]
[{"$f":"B1835&\":\"&COUNTIF($B$2:B1835,B1835)","v":"HLCUMB1221000669:1"},"HLCUMB1221000669","HLBU9188700","HLCUMB1221000669","20 Reefer","PKKHI",292732,"2022-11-10","2022-11-12",223.5,"BL"]
[{"$f":"B1836&\":\"&COUNTIF($B$2:B1836,B1836)","v":"HLCUDX3221023131:1"},"HLCUDX3221023131","BMOU5484445","HLCUDX3221023131","40 Dry","PKKHI",292732,"2022-11-11","2022-11-15",223.5,"BL"]
[{"$f":"B1837&\":\"&COUNTIF($B$2:B1837,B1837)","v":"HLCUDX3221035557:1"},"HLCUDX3221035557","TXGU7014621","HLCUDX3221035557","40 Dry","PKKHI",292732,"2022-11-10","2022-11-30",223.5,"BL"]
[{"$f":"B1838&\":\"&COUNTIF($B$2:B1838,B1838)","v":"HLCUDX3221035557:2"},"HLCUDX3221035557","TCKU6461309","HLCUDX3221035557","40 Dry","PKKHI",292732,"2022-11-10","2022-11-30",223.5,"BL"]
[{"$f":"B1839&\":\"&COUNTIF($B$2:B1839,B1839)","v":"HLCUDX3221035557:3"},"HLCUDX3221035557","FFAU2157774","HLCUDX3221035557","40 Dry","PKKHI",292732,"2022-11-10","2022-11-30",223.5,"BL"]
[{"$f":"B1840&\":\"&COUNTIF($B$2:B1840,B1840)","v":"HLCUDX3221035557:4"},"HLCUDX3221035557","BMOU4531732","HLCUDX3221035557","40 Dry","PKKHI",292732,"2022-11-10","2022-11-30",223.5,"BL"]
[{"$f":"B1841&\":\"&COUNTIF($B$2:B1841,B1841)","v":"HLCUDX3221035557:5"},"HLCUDX3221035557","FDCU0147218","HLCUDX3221035557","40 Dry","PKKHI",292732,"2022-11-10","2022-11-30",223.5,"BL"]
[{"$f":"B1842&\":\"&COUNTIF($B$2:B1842,B1842)","v":"HLCUDOH221003391:1"},"HLCUDOH221003391","BEAU4688769","HLCUDOH221003391","40 Dry","PKKHI",292732,"2022-11-10","2022-11-23",223.5,"BL"]
[{"$f":"B1843&\":\"&COUNTIF($B$2:B1843,B1843)","v":"HLCUDOH221003391:2"},"HLCUDOH221003391","BEAU6004905","HLCUDOH221003391","40 Dry","PKKHI",292732,"2022-11-10","2022-11-23",223.5,"BL"]
[{"$f":"B1844&\":\"&COUNTIF($B$2:B1844,B1844)","v":"HLCUDOH221003391:3"},"HLCUDOH221003391","CAIU8490842","HLCUDOH221003391","40 Dry","PKKHI",292732,"2022-11-10","2022-11-23",223.5,"BL"]
[{"$f":"B1845&\":\"&COUNTIF($B$2:B1845,B1845)","v":"HLCUDOH221003391:4"},"HLCUDOH221003391","FANU1109008","HLCUDOH221003391","40 Dry","PKKHI",292732,"2022-11-10","2022-11-23",223.5,"BL"]
[{"$f":"B1846&\":\"&COUNTIF($B$2:B1846,B1846)","v":"HLCUDOH221003391:5"},"HLCUDOH221003391","FANU1261601","HLCUDOH221003391","40 Dry","PKKHI",292732,"2022-11-10","2022-11-23",223.5,"BL"]
[{"$f":"B1847&\":\"&COUNTIF($B$2:B1847,B1847)","v":"HLCUDOH221003391:6"},"HLCUDOH221003391","FANU1261957","HLCUDOH221003391","40 Dry","PKKHI",292732,"2022-11-11","2022-11-24",223.5,"BL"]
[{"$f":"B1848&\":\"&COUNTIF($B$2:B1848,B1848)","v":"HLCUDOH221003391:7"},"HLCUDOH221003391","FANU1607037","HLCUDOH221003391","40 Dry","PKKHI",292732,"2022-11-11","2022-11-24",223.5,"BL"]
[{"$f":"B1849&\":\"&COUNTIF($B$2:B1849,B1849)","v":"HLCUDOH221003391:8"},"HLCUDOH221003391","FCIU8256112","HLCUDOH221003391","40 Dry","PKKHI",292732,"2022-11-10","2022-11-23",223.5,"BL"]
[{"$f":"B1850&\":\"&COUNTIF($B$2:B1850,B1850)","v":"HLCUDOH221003391:9"},"HLCUDOH221003391","FDCU0179133","HLCUDOH221003391","40 Dry","PKKHI",292732,"2022-11-10","2022-11-23",223.5,"BL"]
[{"$f":"B1851&\":\"&COUNTIF($B$2:B1851,B1851)","v":"HLCUDOH221003391:10"},"HLCUDOH221003391","FSCU8952341","HLCUDOH221003391","40 Dry","PKKHI",292732,"2022-11-11","2022-11-24",223.5,"BL"]
[{"$f":"B1852&\":\"&COUNTIF($B$2:B1852,B1852)","v":"HLCUDOH221003391:11"},"HLCUDOH221003391","HLBU1551430","HLCUDOH221003391","40 Dry","PKKHI",292732,"2022-11-10","2022-11-23",223.5,"BL"]
[{"$f":"B1853&\":\"&COUNTIF($B$2:B1853,B1853)","v":"HLCUDOH221003391:12"},"HLCUDOH221003391","HLBU1838100","HLCUDOH221003391","40 Dry","PKKHI",292732,"2022-11-11","2022-11-24",223.5,"BL"]
[{"$f":"B1854&\":\"&COUNTIF($B$2:B1854,B1854)","v":"HLCUDOH221003391:13"},"HLCUDOH221003391","HLBU2866806","HLCUDOH221003391","40 Dry","PKKHI",292732,"2022-11-10","2022-11-23",223.5,"BL"]
[{"$f":"B1855&\":\"&COUNTIF($B$2:B1855,B1855)","v":"HLCUDOH221003391:14"},"HLCUDOH221003391","HLBU3145105","HLCUDOH221003391","40 Dry","PKKHI",292732,"2022-11-11","2022-11-24",223.5,"BL"]
[{"$f":"B1856&\":\"&COUNTIF($B$2:B1856,B1856)","v":"HLCUDOH221003391:15"},"HLCUDOH221003391","HLXU8097938","HLCUDOH221003391","40 Dry","PKKHI",292732,"2022-11-11","2022-11-24",223.5,"BL"]
[{"$f":"B1857&\":\"&COUNTIF($B$2:B1857,B1857)","v":"HLCUDOH221003391:16"},"HLCUDOH221003391","HLXU8499650","HLCUDOH221003391","40 Dry","PKKHI",292732,"2022-11-10","2022-11-23",223.5,"BL"]
[{"$f":"B1858&\":\"&COUNTIF($B$2:B1858,B1858)","v":"HLCUDOH221003391:17"},"HLCUDOH221003391","RFCU5028270","HLCUDOH221003391","40 Dry","PKKHI",292732,"2022-11-10","2022-11-23",223.5,"BL"]
[{"$f":"B1859&\":\"&COUNTIF($B$2:B1859,B1859)","v":"HLCUDOH221003391:18"},"HLCUDOH221003391","RFCU5065648","HLCUDOH221003391","40 Dry","PKKHI",292732,"2022-11-10","2022-11-23",223.5,"BL"]
[{"$f":"B1860&\":\"&COUNTIF($B$2:B1860,B1860)","v":"HLCUDOH221003391:19"},"HLCUDOH221003391","SEGU4831758","HLCUDOH221003391","40 Dry","PKKHI",292732,"2022-11-10","2022-11-23",223.5,"BL"]
[{"$f":"B1861&\":\"&COUNTIF($B$2:B1861,B1861)","v":"HLCUDOH221003391:20"},"HLCUDOH221003391","TCKU6583077","HLCUDOH221003391","40 Dry","PKKHI",292732,"2022-11-11","2022-11-24",223.5,"BL"]
[{"$f":"B1862&\":\"&COUNTIF($B$2:B1862,B1862)","v":"HLCUDOH221003391:21"},"HLCUDOH221003391","TCLU1751909","HLCUDOH221003391","40 Dry","PKKHI",292732,"2022-11-10","2022-11-23",223.5,"BL"]
[{"$f":"B1863&\":\"&COUNTIF($B$2:B1863,B1863)","v":"HLCUDOH221003391:22"},"HLCUDOH221003391","TCLU8938208","HLCUDOH221003391","40 Dry","PKKHI",292732,"2022-11-10","2022-11-23",223.5,"BL"]
[{"$f":"B1864&\":\"&COUNTIF($B$2:B1864,B1864)","v":"HLCUDOH221003391:23"},"HLCUDOH221003391","TCLU9558120","HLCUDOH221003391","40 Dry","PKKHI",292732,"2022-11-11","2022-11-24",223.5,"BL"]
[{"$f":"B1865&\":\"&COUNTIF($B$2:B1865,B1865)","v":"HLCUDOH221003391:24"},"HLCUDOH221003391","TCNU8107238","HLCUDOH221003391","40 Dry","PKKHI",292732,"2022-11-11","2022-11-24",223.5,"BL"]
[{"$f":"B1866&\":\"&COUNTIF($B$2:B1866,B1866)","v":"HLCUDOH221003391:25"},"HLCUDOH221003391","TCNU8609895","HLCUDOH221003391","40 Dry","PKKHI",292732,"2022-11-10","2022-11-23",223.5,"BL"]
[{"$f":"B1867&\":\"&COUNTIF($B$2:B1867,B1867)","v":"HLCUDOH221003391:26"},"HLCUDOH221003391","TGHU6220550","HLCUDOH221003391","40 Dry","PKKHI",292732,"2022-11-11","2022-11-24",223.5,"BL"]
[{"$f":"B1868&\":\"&COUNTIF($B$2:B1868,B1868)","v":"HLCUDOH221003391:27"},"HLCUDOH221003391","TGHU6221639","HLCUDOH221003391","40 Dry","PKKHI",292732,"2022-11-11","2022-11-24",223.5,"BL"]
[{"$f":"B1869&\":\"&COUNTIF($B$2:B1869,B1869)","v":"HLCUDOH221003391:28"},"HLCUDOH221003391","TGHU9356854","HLCUDOH221003391","40 Dry","PKKHI",292732,"2022-11-10","2022-11-23",223.5,"BL"]
[{"$f":"B1870&\":\"&COUNTIF($B$2:B1870,B1870)","v":"HLCUDOH221003391:29"},"HLCUDOH221003391","TRHU4555768","HLCUDOH221003391","40 Dry","PKKHI",292732,"2022-11-11","2022-11-24",223.5,"BL"]
[{"$f":"B1871&\":\"&COUNTIF($B$2:B1871,B1871)","v":"HLCUDOH221003391:30"},"HLCUDOH221003391","UACU5117574","HLCUDOH221003391","40 Dry","PKKHI",292732,"2022-11-10","2022-11-23",223.5,"BL"]
[{"$f":"B1872&\":\"&COUNTIF($B$2:B1872,B1872)","v":"HLCUDOH221003391:31"},"HLCUDOH221003391","UACU5329090","HLCUDOH221003391","40 Dry","PKKHI",292732,"2022-11-11","2022-11-24",223.5,"BL"]
[{"$f":"B1873&\":\"&COUNTIF($B$2:B1873,B1873)","v":"HLCUDOH221003391:32"},"HLCUDOH221003391","UACU5350879","HLCUDOH221003391","40 Dry","PKKHI",292732,"2022-11-10","2022-11-23",223.5,"BL"]
[{"$f":"B1874&\":\"&COUNTIF($B$2:B1874,B1874)","v":"HLCUDOH221003391:33"},"HLCUDOH221003391","UACU5393649","HLCUDOH221003391","40 Dry","PKKHI",292732,"2022-11-11","2022-11-24",223.5,"BL"]
[{"$f":"B1875&\":\"&COUNTIF($B$2:B1875,B1875)","v":"HLCUDOH221003391:34"},"HLCUDOH221003391","UACU5941336","HLCUDOH221003391","40 Dry","PKKHI",292732,"2022-11-10","2022-11-23",223.5,"BL"]
[{"$f":"B1876&\":\"&COUNTIF($B$2:B1876,B1876)","v":"HLCUDOH221003391:35"},"HLCUDOH221003391","UACU6061417","HLCUDOH221003391","40 Dry","PKKHI",292732,"2022-11-10","2022-11-23",223.5,"BL"]
[{"$f":"B1877&\":\"&COUNTIF($B$2:B1877,B1877)","v":"HLCUBC1220917151:1"},"HLCUBC1220917151","BSIU8221664","HLCUBC1220917151","40 Dry","PKBQM",964979,"2022-11-12","2022-11-25",223.6,"SW"]
[{"$f":"B1878&\":\"&COUNTIF($B$2:B1878,B1878)","v":"HLCUBEN220900515:1"},"HLCUBEN220900515","GLDU3993458","HLCUBEN220900515","20 Dry","PKBQM",964979,"2022-11-13","2022-11-24",223.6,"BL"]
[{"$f":"B1879&\":\"&COUNTIF($B$2:B1879,B1879)","v":"HLCUBEN220900515:2"},"HLCUBEN220900515","HLBU3024973","HLCUBEN220900515","20 Dry","PKBQM",964979,"2022-11-13","2022-11-24",223.6,"BL"]
[{"$f":"B1880&\":\"&COUNTIF($B$2:B1880,B1880)","v":"HLCUBEN220900515:3"},"HLCUBEN220900515","BSIU2058966","HLCUBEN220900515","20 Dry","PKBQM",964979,"2022-11-12","2022-11-23",223.6,"BL"]
[{"$f":"B1881&\":\"&COUNTIF($B$2:B1881,B1881)","v":"HLCUIZ12209AQMQ4:1"},"HLCUIZ12209AQMQ4","NIDU2339524","HLCUIZ12209AQMQ4","20 Dry","PKBQM",964979,"2022-11-13","2022-11-26",223.6,"BL"]
[{"$f":"B1882&\":\"&COUNTIF($B$2:B1882,B1882)","v":"HLCUBC1220960607:1"},"HLCUBC1220960607","TCLU3580364","HLCUBC1220960607","20 Dry","PKBQM",964979,"2022-11-13","2022-11-26",223.6,"BL"]
[{"$f":"B1883&\":\"&COUNTIF($B$2:B1883,B1883)","v":"HLCUBC1220955849:1"},"HLCUBC1220955849","CAIU6711097","HLCUBC1220955849","20 Dry","PKBQM",964979,"2022-11-13","2022-11-26",223.6,"BL"]
[{"$f":"B1884&\":\"&COUNTIF($B$2:B1884,B1884)","v":"HLCUBC1220955849:2"},"HLCUBC1220955849","NIDU2357446","HLCUBC1220955849","20 Dry","PKBQM",964979,"2022-11-13","2022-11-26",223.6,"BL"]
[{"$f":"B1885&\":\"&COUNTIF($B$2:B1885,B1885)","v":"HLCUBC1220955849:3"},"HLCUBC1220955849","GESU3860572","HLCUBC1220955849","20 Dry","PKBQM",964979,"2022-11-13","2022-11-26",223.6,"BL"]
[{"$f":"B1886&\":\"&COUNTIF($B$2:B1886,B1886)","v":"HLCUBC1220959883:1"},"HLCUBC1220959883","TCLU3139960","HLCUBC1220959883","20 Dry","PKBQM",964979,"2022-11-12","2022-11-25",223.6,"BL"]
[{"$f":"B1887&\":\"&COUNTIF($B$2:B1887,B1887)","v":"HLCUBC1220959883:2"},"HLCUBC1220959883","TLLU2565785","HLCUBC1220959883","20 Dry","PKBQM",964979,"2022-11-12","2022-11-25",223.6,"BL"]
[{"$f":"B1888&\":\"&COUNTIF($B$2:B1888,B1888)","v":"HLCUGOA220956440:1"},"HLCUGOA220956440","LLTU2042050","HLCUGOA220956440","20 Dry","PKBQM",964979,"2022-11-13","2022-11-24",223.6,"BL"]
[{"$f":"B1889&\":\"&COUNTIF($B$2:B1889,B1889)","v":"HLCUGOA220956440:2"},"HLCUGOA220956440","UACU3645989","HLCUGOA220956440","20 Dry","PKBQM",964979,"2022-11-13","2022-11-24",223.6,"BL"]
[{"$f":"B1890&\":\"&COUNTIF($B$2:B1890,B1890)","v":"HLCUGOA220956440:3"},"HLCUGOA220956440","UACU3558014","HLCUGOA220956440","20 Dry","PKBQM",964979,"2022-11-13","2022-11-24",223.6,"BL"]
[{"$f":"B1891&\":\"&COUNTIF($B$2:B1891,B1891)","v":"HLCUGOA221034185:1"},"HLCUGOA221034185","BMOU6574219","HLCUGOA221034185","40 Dry","PKBQM",964979,"2022-11-12","2022-11-23",223.6,"BL"]
[{"$f":"B1892&\":\"&COUNTIF($B$2:B1892,B1892)","v":"HLCUGOA221048306:1"},"HLCUGOA221048306","HLBU1565829","HLCUGOA221048306","40 Dry","PKBQM",964979,"2022-11-12","2022-11-23",223.6,"BL"]
[{"$f":"B1893&\":\"&COUNTIF($B$2:B1893,B1893)","v":"HLCUBC1220951194:1"},"HLCUBC1220951194","FCIU2295955","HLCUBC1220951194","20 Dry","PKBQM",964979,"2022-11-13","2022-11-17",223.6,"BL"]
[{"$f":"B1894&\":\"&COUNTIF($B$2:B1894,B1894)","v":"HLCUBC1220951194:2"},"HLCUBC1220951194","TCLU3324378","HLCUBC1220951194","20 Dry","PKBQM",964979,"2022-11-12","2022-11-16",223.6,"BL"]
[{"$f":"B1895&\":\"&COUNTIF($B$2:B1895,B1895)","v":"HLCUBSC221017246:1"},"HLCUBSC221017246","UACU5831658","HLCUBSC221017246","40 Dry","PKBQM",964979,"2022-11-12","2022-11-23",223.6,"BL"]
[{"$f":"B1896&\":\"&COUNTIF($B$2:B1896,B1896)","v":"HLCUBSC221017246:2"},"HLCUBSC221017246","TCNU1486973","HLCUBSC221017246","40 Dry","PKBQM",964979,"2022-11-12","2022-11-23",223.6,"BL"]
[{"$f":"B1897&\":\"&COUNTIF($B$2:B1897,B1897)","v":"HLCUBSC221017246:3"},"HLCUBSC221017246","TGBU5844118","HLCUBSC221017246","40 Dry","PKBQM",964979,"2022-11-12","2022-11-23",223.6,"BL"]
[{"$f":"B1898&\":\"&COUNTIF($B$2:B1898,B1898)","v":"HLCUBSC221017246:4"},"HLCUBSC221017246","CAIU4507633","HLCUBSC221017246","40 Dry","PKBQM",964979,"2022-11-12","2022-11-23",223.6,"BL"]
[{"$f":"B1899&\":\"&COUNTIF($B$2:B1899,B1899)","v":"HLCUBSC221017246:5"},"HLCUBSC221017246","HLXU8293329","HLCUBSC221017246","40 Dry","PKBQM",964979,"2022-11-12","2022-11-23",223.6,"BL"]
[{"$f":"B1900&\":\"&COUNTIF($B$2:B1900,B1900)","v":"HLCUBSC221017246:6"},"HLCUBSC221017246","FANU3094484","HLCUBSC221017246","40 Dry","PKBQM",964979,"2022-11-12","2022-11-23",223.6,"BL"]
[{"$f":"B1901&\":\"&COUNTIF($B$2:B1901,B1901)","v":"HLCUIZ1220998994:1"},"HLCUIZ1220998994","HAMU1332323","HLCUIZ1220998994","40 Dry","PKBQM",964979,"2022-11-12","2022-11-25",223.6,"BL"]
[{"$f":"B1902&\":\"&COUNTIF($B$2:B1902,B1902)","v":"HLCUIZ1220998994:2"},"HLCUIZ1220998994","NYKU5195218","HLCUIZ1220998994","40 Dry","PKBQM",964979,"2022-11-12","2022-11-25",223.6,"BL"]
[{"$f":"B1903&\":\"&COUNTIF($B$2:B1903,B1903)","v":"HLCUIZ1220998994:3"},"HLCUIZ1220998994","FSCU7165700","HLCUIZ1220998994","40 Dry","PKBQM",964979,"2022-11-12","2022-11-25",223.6,"BL"]
[{"$f":"B1904&\":\"&COUNTIF($B$2:B1904,B1904)","v":"HLCUIZ1220998994:4"},"HLCUIZ1220998994","TCNU9870286","HLCUIZ1220998994","40 Dry","PKBQM",964979,"2022-11-12","2022-11-25",223.6,"BL"]
[{"$f":"B1905&\":\"&COUNTIF($B$2:B1905,B1905)","v":"HLCUIZ1220998994:5"},"HLCUIZ1220998994","FCIU7336316","HLCUIZ1220998994","40 Dry","PKBQM",964979,"2022-11-12","2022-11-25",223.6,"BL"]
[{"$f":"B1906&\":\"&COUNTIF($B$2:B1906,B1906)","v":"HLCUIZ1220998994:6"},"HLCUIZ1220998994","TCNU8754240","HLCUIZ1220998994","40 Dry","PKBQM",964979,"2022-11-12","2022-11-25",223.6,"BL"]
[{"$f":"B1907&\":\"&COUNTIF($B$2:B1907,B1907)","v":"HLCUIZ1220998994:7"},"HLCUIZ1220998994","HAMU1272353","HLCUIZ1220998994","40 Dry","PKBQM",964979,"2022-11-12","2022-11-25",223.6,"BL"]
[{"$f":"B1908&\":\"&COUNTIF($B$2:B1908,B1908)","v":"HLCUIZ1220998994:8"},"HLCUIZ1220998994","HLXU8334515","HLCUIZ1220998994","40 Dry","PKBQM",964979,"2022-11-12","2022-11-25",223.6,"BL"]
[{"$f":"B1909&\":\"&COUNTIF($B$2:B1909,B1909)","v":"HLCUIZ1220998994:9"},"HLCUIZ1220998994","HLBU2779050","HLCUIZ1220998994","40 Dry","PKBQM",964979,"2022-11-12","2022-11-25",223.6,"BL"]
[{"$f":"B1910&\":\"&COUNTIF($B$2:B1910,B1910)","v":"HLCUIZ1220998994:10"},"HLCUIZ1220998994","BMOU6699751","HLCUIZ1220998994","40 Dry","PKBQM",964979,"2022-11-12","2022-11-25",223.6,"BL"]
[{"$f":"B1911&\":\"&COUNTIF($B$2:B1911,B1911)","v":"HLCUIZ1220998994:11"},"HLCUIZ1220998994","HLBU1751192","HLCUIZ1220998994","40 Dry","PKBQM",964979,"2022-11-12","2022-11-25",223.6,"BL"]
[{"$f":"B1912&\":\"&COUNTIF($B$2:B1912,B1912)","v":"HLCUIZ1220998994:12"},"HLCUIZ1220998994","CAIU8556338","HLCUIZ1220998994","40 Dry","PKBQM",964979,"2022-11-12","2022-11-25",223.6,"BL"]
[{"$f":"B1913&\":\"&COUNTIF($B$2:B1913,B1913)","v":"HLCUIZ1220998994:13"},"HLCUIZ1220998994","UASU1030400","HLCUIZ1220998994","40 Dry","PKBQM",964979,"2022-11-12","2022-11-25",223.6,"BL"]
[{"$f":"B1914&\":\"&COUNTIF($B$2:B1914,B1914)","v":"HLCUIZ1220998994:14"},"HLCUIZ1220998994","FCIU7107618","HLCUIZ1220998994","40 Dry","PKBQM",964979,"2022-11-12","2022-11-25",223.6,"BL"]
[{"$f":"B1915&\":\"&COUNTIF($B$2:B1915,B1915)","v":"HLCUIZ1220998994:15"},"HLCUIZ1220998994","CAIU8470851","HLCUIZ1220998994","40 Dry","PKBQM",964979,"2022-11-12","2022-11-25",223.6,"BL"]
[{"$f":"B1916&\":\"&COUNTIF($B$2:B1916,B1916)","v":"HLCUIZ1220998994:16"},"HLCUIZ1220998994","FANU1915528","HLCUIZ1220998994","40 Dry","PKBQM",964979,"2022-11-12","2022-11-25",223.6,"BL"]
[{"$f":"B1917&\":\"&COUNTIF($B$2:B1917,B1917)","v":"HLCUIZ1220998994:17"},"HLCUIZ1220998994","SEGU4665153","HLCUIZ1220998994","40 Dry","PKBQM",964979,"2022-11-12","2022-11-25",223.6,"BL"]
[{"$f":"B1918&\":\"&COUNTIF($B$2:B1918,B1918)","v":"HLCUIZ1220998994:18"},"HLCUIZ1220998994","UACU5653242","HLCUIZ1220998994","40 Dry","PKBQM",964979,"2022-11-12","2022-11-25",223.6,"BL"]
[{"$f":"B1919&\":\"&COUNTIF($B$2:B1919,B1919)","v":"HLCUIZ1220998994:19"},"HLCUIZ1220998994","UACU5674688","HLCUIZ1220998994","40 Dry","PKBQM",964979,"2022-11-12","2022-11-25",223.6,"BL"]
[{"$f":"B1920&\":\"&COUNTIF($B$2:B1920,B1920)","v":"HLCUIZ1220998994:20"},"HLCUIZ1220998994","FANU1877665","HLCUIZ1220998994","40 Dry","PKBQM",964979,"2022-11-12","2022-11-25",223.6,"BL"]
[{"$f":"B1921&\":\"&COUNTIF($B$2:B1921,B1921)","v":"HLCUIZ1220998994:21"},"HLCUIZ1220998994","TGHU9416450","HLCUIZ1220998994","40 Dry","PKBQM",964979,"2022-11-12","2022-11-25",223.6,"BL"]
[{"$f":"B1922&\":\"&COUNTIF($B$2:B1922,B1922)","v":"HLCUIZ1220998994:22"},"HLCUIZ1220998994","HLXU8105648","HLCUIZ1220998994","40 Dry","PKBQM",964979,"2022-11-12","2022-11-25",223.6,"BL"]
[{"$f":"B1923&\":\"&COUNTIF($B$2:B1923,B1923)","v":"HLCUIZ1220998994:23"},"HLCUIZ1220998994","HLBU2182439","HLCUIZ1220998994","40 Dry","PKBQM",964979,"2022-11-12","2022-11-25",223.6,"BL"]
[{"$f":"B1924&\":\"&COUNTIF($B$2:B1924,B1924)","v":"HLCUIZ1221020781:1"},"HLCUIZ1221020781","CAIU2084553","HLCUIZ1221020781","20 Dry","PKBQM",964979,"2022-11-13","2022-11-26",223.6,"BL"]
[{"$f":"B1925&\":\"&COUNTIF($B$2:B1925,B1925)","v":"HLCUGOA2209ARJY2:1"},"HLCUGOA2209ARJY2","CAIU2612368","HLCUGOA2209ARJY2","20 Dry","PKBQM",964979,"2022-11-13","2022-11-24",223.6,"BL"]
[{"$f":"B1926&\":\"&COUNTIF($B$2:B1926,B1926)","v":"HLCUGOA2209ARJY2:2"},"HLCUGOA2209ARJY2","HLBU1369657","HLCUGOA2209ARJY2","20 Dry","PKBQM",964979,"2022-11-13","2022-11-24",223.6,"BL"]
[{"$f":"B1927&\":\"&COUNTIF($B$2:B1927,B1927)","v":"HLCUGOA2209ARJY2:3"},"HLCUGOA2209ARJY2","FCIU6566314","HLCUGOA2209ARJY2","20 Dry","PKBQM",964979,"2022-11-13","2022-11-24",223.6,"BL"]
[{"$f":"B1928&\":\"&COUNTIF($B$2:B1928,B1928)","v":"HLCUBEN220900391:1"},"HLCUBEN220900391","TCKU2396252","HLCUBEN220900391","20 Dry","PKBQM",964979,"2022-11-13","2022-11-17",223.6,"BL"]
[{"$f":"B1929&\":\"&COUNTIF($B$2:B1929,B1929)","v":"HLCUBC1220957475:1"},"HLCUBC1220957475","CAIU6709485","HLCUBC1220957475","20 Dry","PKBQM",964979,"2022-11-12","2022-11-16",223.6,"BL"]
[{"$f":"B1930&\":\"&COUNTIF($B$2:B1930,B1930)","v":"HLCUBSC221023409:1"},"HLCUBSC221023409","CAXU3131353","HLCUBSC221023409","20 Dry","PKBQM",964979,"2022-11-12","2022-11-23",223.6,"BL"]
[{"$f":"B1931&\":\"&COUNTIF($B$2:B1931,B1931)","v":"HLCUGOA220962183:1"},"HLCUGOA220962183","GESU3971848","HLCUGOA220962183","20 Dry","PKBQM",964979,"2022-11-13","2022-11-24",223.6,"BL"]
[{"$f":"B1932&\":\"&COUNTIF($B$2:B1932,B1932)","v":"HLCUGOA220962183:2"},"HLCUGOA220962183","HAMU1065720","HLCUGOA220962183","20 Dry","PKBQM",964979,"2022-11-13","2022-11-24",223.6,"BL"]
[{"$f":"B1933&\":\"&COUNTIF($B$2:B1933,B1933)","v":"HLCUGOA220962183:3"},"HLCUGOA220962183","HLXU3509821","HLCUGOA220962183","20 Dry","PKBQM",964979,"2022-11-12","2022-11-23",223.6,"BL"]
[{"$f":"B1934&\":\"&COUNTIF($B$2:B1934,B1934)","v":"HLCUGOA220962183:4"},"HLCUGOA220962183","UACU3606072","HLCUGOA220962183","20 Dry","PKBQM",964979,"2022-11-12","2022-11-23",223.6,"BL"]
[{"$f":"B1935&\":\"&COUNTIF($B$2:B1935,B1935)","v":"HLCUGOA220962183:5"},"HLCUGOA220962183","HLBU1033132","HLCUGOA220962183","20 Dry","PKBQM",964979,"2022-11-12","2022-11-23",223.6,"BL"]
[{"$f":"B1936&\":\"&COUNTIF($B$2:B1936,B1936)","v":"HLCUSYD220920123:1"},"HLCUSYD220920123","SEGU5650749","HLCUSYD220920123","40 Dry","PKBQM",964979,"2022-11-12","2022-11-16",223.6,"SW"]
[{"$f":"B1937&\":\"&COUNTIF($B$2:B1937,B1937)","v":"HLCUSYD220920123:2"},"HLCUSYD220920123","HLXU8379633","HLCUSYD220920123","40 Dry","PKBQM",964979,"2022-11-12","2022-11-16",223.6,"SW"]
[{"$f":"B1938&\":\"&COUNTIF($B$2:B1938,B1938)","v":"HLCUVA3220907600:1"},"HLCUVA3220907600","UACU5357560","HLCUVA3220907600","40 Dry","PKBQM",964979,"2022-11-12","2022-11-18",223.6,"BL"]
[{"$f":"B1939&\":\"&COUNTIF($B$2:B1939,B1939)","v":"HLCULI2220906866:1"},"HLCULI2220906866","HLXU6449602","HLCULI2220906866","40 Dry","PKBQM",964979,"2022-11-12","2022-11-18",223.6,"SW"]
[{"$f":"B1940&\":\"&COUNTIF($B$2:B1940,B1940)","v":"HLCULI2220906866:2"},"HLCULI2220906866","BEAU4726982","HLCULI2220906866","40 Dry","PKBQM",964979,"2022-11-12","2022-11-18",223.6,"SW"]
[{"$f":"B1941&\":\"&COUNTIF($B$2:B1941,B1941)","v":"HLCUGOA2209ASFU9:1"},"HLCUGOA2209ASFU9","NYKU3505989","HLCUGOA2209ASFU9","20 Dry","PKBQM",964979,"2022-11-12","2022-11-23",223.6,"BL"]
[{"$f":"B1942&\":\"&COUNTIF($B$2:B1942,B1942)","v":"HLCUGOA2209ASFU9:2"},"HLCUGOA2209ASFU9","BEAU2200366","HLCUGOA2209ASFU9","20 Dry","PKBQM",964979,"2022-11-12","2022-11-23",223.6,"BL"]
[{"$f":"B1943&\":\"&COUNTIF($B$2:B1943,B1943)","v":"HLCUGOA2209ASFU9:3"},"HLCUGOA2209ASFU9","UACU4091346","HLCUGOA2209ASFU9","20 Dry","PKBQM",964979,"2022-11-13","2022-11-24",223.6,"BL"]
[{"$f":"B1944&\":\"&COUNTIF($B$2:B1944,B1944)","v":"HLCUGOA2209ASFU9:4"},"HLCUGOA2209ASFU9","TGHU0858975","HLCUGOA2209ASFU9","20 Dry","PKBQM",964979,"2022-11-12","2022-11-23",223.6,"BL"]
[{"$f":"B1945&\":\"&COUNTIF($B$2:B1945,B1945)","v":"HLCUIZ1220986390:1"},"HLCUIZ1220986390","HLBU1055770","HLCUIZ1220986390","40 Dry","PKBQM",964979,"2022-11-12","2022-11-25",223.6,"BL"]
[{"$f":"B1946&\":\"&COUNTIF($B$2:B1946,B1946)","v":"HLCUBC1220956154:1"},"HLCUBC1220956154","DFSU2767227","HLCUBC1220956154","20 Dry","PKBQM",964979,"2022-11-12","2022-11-16",223.6,"BL"]
[{"$f":"B1947&\":\"&COUNTIF($B$2:B1947,B1947)","v":"HLCUBC1220956154:2"},"HLCUBC1220956154","UACU3641068","HLCUBC1220956154","20 Dry","PKBQM",964979,"2022-11-13","2022-11-17",223.6,"BL"]
[{"$f":"B1948&\":\"&COUNTIF($B$2:B1948,B1948)","v":"HLCUBC1220917023:1"},"HLCUBC1220917023","GESU6853896","HLCUBC1220917023","40 Dry","PKBQM",964979,"2022-11-12","2022-11-16",223.6,"SW"]
[{"$f":"B1949&\":\"&COUNTIF($B$2:B1949,B1949)","v":"HLCUBEN220900314:1"},"HLCUBEN220900314","UACU3874012","HLCUBEN220900314","20 Dry","PKBQM",964979,"2022-11-13","2022-11-17",223.6,"BL"]
[{"$f":"B1950&\":\"&COUNTIF($B$2:B1950,B1950)","v":"HLCUBEN220900314:2"},"HLCUBEN220900314","FBIU0466825","HLCUBEN220900314","20 Dry","PKBQM",964979,"2022-11-13","2022-11-17",223.6,"BL"]
[{"$f":"B1951&\":\"&COUNTIF($B$2:B1951,B1951)","v":"HLCUBEN220900314:3"},"HLCUBEN220900314","TEMU2179441","HLCUBEN220900314","20 Dry","PKBQM",964979,"2022-11-13","2022-11-17",223.6,"BL"]
[{"$f":"B1952&\":\"&COUNTIF($B$2:B1952,B1952)","v":"HLCUVAN221000807:1"},"HLCUVAN221000807","FANU1605918","HLCUVAN221000807","40 Dry","PKBQM",964979,"2022-11-12","2022-11-23",223.6,"SW"]
[{"$f":"B1953&\":\"&COUNTIF($B$2:B1953,B1953)","v":"HLCUVAN221000807:2"},"HLCUVAN221000807","TGBU5697439","HLCUVAN221000807","40 Dry","PKBQM",964979,"2022-11-12","2022-11-23",223.6,"SW"]
[{"$f":"B1954&\":\"&COUNTIF($B$2:B1954,B1954)","v":"HLCUBC1220955279:1"},"HLCUBC1220955279","UACU5131280","HLCUBC1220955279","40 Dry","PKBQM",964979,"2022-11-12","2022-11-25",223.6,"BL"]
[{"$f":"B1955&\":\"&COUNTIF($B$2:B1955,B1955)","v":"HLCUBC1220955279:2"},"HLCUBC1220955279","UACU5966587","HLCUBC1220955279","40 Dry","PKBQM",964979,"2022-11-12","2022-11-25",223.6,"BL"]
[{"$f":"B1956&\":\"&COUNTIF($B$2:B1956,B1956)","v":"HLCUBC1220923866:1"},"HLCUBC1220923866","BSIU2446576","HLCUBC1220923866","20 Dry","PKBQM",964979,"2022-11-12","2022-11-25",223.6,"BL"]
[{"$f":"B1957&\":\"&COUNTIF($B$2:B1957,B1957)","v":"HLCUBEN221000035:1"},"HLCUBEN221000035","UACU3692260","HLCUBEN221000035","20 Dry","PKBQM",964979,"2022-11-13","2022-11-24",223.6,"BL"]
[{"$f":"B1958&\":\"&COUNTIF($B$2:B1958,B1958)","v":"HLCUBEN221000035:2"},"HLCUBEN221000035","TCLU2824384","HLCUBEN221000035","20 Dry","PKBQM",964979,"2022-11-13","2022-11-24",223.6,"BL"]
[{"$f":"B1959&\":\"&COUNTIF($B$2:B1959,B1959)","v":"HLCUBEN221000035:3"},"HLCUBEN221000035","HLBU3060501","HLCUBEN221000035","20 Dry","PKBQM",964979,"2022-11-13","2022-11-24",223.6,"BL"]
[{"$f":"B1960&\":\"&COUNTIF($B$2:B1960,B1960)","v":"HLCULI2220907490:1"},"HLCULI2220907490","TCLU3302825","HLCULI2220907490","20 Dry","PKBQM",964979,"2022-11-12","2022-11-21",223.6,"BL"]
[{"$f":"B1961&\":\"&COUNTIF($B$2:B1961,B1961)","v":"HLCULI2220907490:2"},"HLCULI2220907490","DFSU2248411","HLCULI2220907490","20 Dry","PKBQM",964979,"2022-11-13","2022-11-22",223.6,"BL"]
[{"$f":"B1962&\":\"&COUNTIF($B$2:B1962,B1962)","v":"HLCULI2220907490:3"},"HLCULI2220907490","UACU4140414","HLCULI2220907490","20 Dry","PKBQM",964979,"2022-11-13","2022-11-22",223.6,"BL"]
[{"$f":"B1963&\":\"&COUNTIF($B$2:B1963,B1963)","v":"HLCULI2220907490:4"},"HLCULI2220907490","BEAU2170174","HLCULI2220907490","20 Dry","PKBQM",964979,"2022-11-13","2022-11-22",223.6,"BL"]
[{"$f":"B1964&\":\"&COUNTIF($B$2:B1964,B1964)","v":"HLCULI2220907490:5"},"HLCULI2220907490","NIDU2319805","HLCULI2220907490","20 Dry","PKBQM",964979,"2022-11-13","2022-11-22",223.6,"BL"]
[{"$f":"B1965&\":\"&COUNTIF($B$2:B1965,B1965)","v":"HLCULI2220907490:6"},"HLCULI2220907490","FTAU1595773","HLCULI2220907490","20 Dry","PKBQM",964979,"2022-11-13","2022-11-22",223.6,"BL"]
[{"$f":"B1966&\":\"&COUNTIF($B$2:B1966,B1966)","v":"HLCULI2220907490:7"},"HLCULI2220907490","HLXU3548263","HLCULI2220907490","20 Dry","PKBQM",964979,"2022-11-12","2022-11-21",223.6,"BL"]
[{"$f":"B1967&\":\"&COUNTIF($B$2:B1967,B1967)","v":"HLCULI2220907490:8"},"HLCULI2220907490","HLBU2942974","HLCULI2220907490","20 Dry","PKBQM",964979,"2022-11-13","2022-11-22",223.6,"BL"]
[{"$f":"B1968&\":\"&COUNTIF($B$2:B1968,B1968)","v":"HLCULI2220907490:9"},"HLCULI2220907490","NIDU2322413","HLCULI2220907490","20 Dry","PKBQM",964979,"2022-11-12","2022-11-21",223.6,"BL"]
[{"$f":"B1969&\":\"&COUNTIF($B$2:B1969,B1969)","v":"HLCULI2220907490:10"},"HLCULI2220907490","UETU2822955","HLCULI2220907490","20 Dry","PKBQM",964979,"2022-11-13","2022-11-22",223.6,"BL"]
[{"$f":"B1970&\":\"&COUNTIF($B$2:B1970,B1970)","v":"HLCULI2220907490:11"},"HLCULI2220907490","HLBU1719518","HLCULI2220907490","20 Dry","PKBQM",964979,"2022-11-13","2022-11-22",223.6,"BL"]
[{"$f":"B1971&\":\"&COUNTIF($B$2:B1971,B1971)","v":"HLCULI2220907490:12"},"HLCULI2220907490","TCLU3207514","HLCULI2220907490","20 Dry","PKBQM",964979,"2022-11-13","2022-11-22",223.6,"BL"]
[{"$f":"B1972&\":\"&COUNTIF($B$2:B1972,B1972)","v":"HLCULI2220907490:13"},"HLCULI2220907490","BMOU2730000","HLCULI2220907490","20 Dry","PKBQM",964979,"2022-11-13","2022-11-22",223.6,"BL"]
[{"$f":"B1973&\":\"&COUNTIF($B$2:B1973,B1973)","v":"HLCULI2220907490:14"},"HLCULI2220907490","HLBU2981646","HLCULI2220907490","20 Dry","PKBQM",964979,"2022-11-13","2022-11-22",223.6,"BL"]
[{"$f":"B1974&\":\"&COUNTIF($B$2:B1974,B1974)","v":"HLCULI2220907490:15"},"HLCULI2220907490","UACU4031373","HLCULI2220907490","20 Dry","PKBQM",964979,"2022-11-12","2022-11-21",223.6,"BL"]
[{"$f":"B1975&\":\"&COUNTIF($B$2:B1975,B1975)","v":"HLCULI2220907490:16"},"HLCULI2220907490","GESU3868676","HLCULI2220907490","20 Dry","PKBQM",964979,"2022-11-12","2022-11-21",223.6,"BL"]
[{"$f":"B1976&\":\"&COUNTIF($B$2:B1976,B1976)","v":"HLCULI2220907490:17"},"HLCULI2220907490","CAIU3031120","HLCULI2220907490","20 Dry","PKBQM",964979,"2022-11-13","2022-11-22",223.6,"BL"]
[{"$f":"B1977&\":\"&COUNTIF($B$2:B1977,B1977)","v":"HLCULI2220907490:18"},"HLCULI2220907490","HLBU1236090","HLCULI2220907490","20 Dry","PKBQM",964979,"2022-11-13","2022-11-22",223.6,"BL"]
[{"$f":"B1978&\":\"&COUNTIF($B$2:B1978,B1978)","v":"HLCULI2220907490:19"},"HLCULI2220907490","CAIU2535106","HLCULI2220907490","20 Dry","PKBQM",964979,"2022-11-12","2022-11-21",223.6,"BL"]
[{"$f":"B1979&\":\"&COUNTIF($B$2:B1979,B1979)","v":"HLCULI2220907490:20"},"HLCULI2220907490","HLBU2340998","HLCULI2220907490","20 Dry","PKBQM",964979,"2022-11-13","2022-11-22",223.6,"BL"]
[{"$f":"B1980&\":\"&COUNTIF($B$2:B1980,B1980)","v":"HLCUIZ1221020800:1"},"HLCUIZ1221020800","DFSU1384434","HLCUIZ1221020800","20 Dry","PKBQM",964979,"2022-11-12","2022-11-25",223.6,"BL"]
[{"$f":"B1981&\":\"&COUNTIF($B$2:B1981,B1981)","v":"HLCUBC1220944364:1"},"HLCUBC1220944364","UACU5201643","HLCUBC1220944364","40 Dry","PKBQM",964979,"2022-11-12","2022-11-25",223.6,"SW"]
[{"$f":"B1982&\":\"&COUNTIF($B$2:B1982,B1982)","v":"HLCUBC1220944364:2"},"HLCUBC1220944364","BEAU4168279","HLCUBC1220944364","40 Dry","PKBQM",964979,"2022-11-12","2022-11-25",223.6,"SW"]
[{"$f":"B1983&\":\"&COUNTIF($B$2:B1983,B1983)","v":"HLCUBC1220944364:3"},"HLCUBC1220944364","HAMU1250668","HLCUBC1220944364","40 Dry","PKBQM",964979,"2022-11-12","2022-11-25",223.6,"SW"]
[{"$f":"B1984&\":\"&COUNTIF($B$2:B1984,B1984)","v":"HLCUBC1221053012:1"},"HLCUBC1221053012","UACU5383738","HLCUBC1221053012","40 Dry","PKBQM",964979,"2022-11-12","2022-11-25",223.6,"SW"]
[{"$f":"B1985&\":\"&COUNTIF($B$2:B1985,B1985)","v":"HLCUTOR220937157:1"},"HLCUTOR220937157","HLXU8028710","HLCUTOR220937157","40 Dry","PKBQM",964979,"2022-11-12","2022-11-23",223.6,"SW"]
[{"$f":"B1986&\":\"&COUNTIF($B$2:B1986,B1986)","v":"HLCUVAN220906015:1"},"HLCUVAN220906015","UACU5932870","HLCUVAN220906015","40 Dry","PKBQM",964979,"2022-11-12","2022-11-23",223.6,"SW"]
[{"$f":"B1987&\":\"&COUNTIF($B$2:B1987,B1987)","v":"HLCUTOR220937084:1"},"HLCUTOR220937084","FDCU0130961","HLCUTOR220937084","40 Dry","PKBQM",964979,"2022-11-12","2022-11-23",223.6,"SW"]
[{"$f":"B1988&\":\"&COUNTIF($B$2:B1988,B1988)","v":"HLCUBSC2209CBEB9:1"},"HLCUBSC2209CBEB9","HLXU1184619","HLCUBSC2209CBEB9","20 Dry","PKBQM",964979,"2022-11-13","2022-11-24",223.6,"SW"]
[{"$f":"B1989&\":\"&COUNTIF($B$2:B1989,B1989)","v":"HLCUVAN220903240:1"},"HLCUVAN220903240","HLBU3079024","HLCUVAN220903240","40 Dry","PKBQM",964979,"2022-11-12","2022-11-23",223.6,"SW"]
[{"$f":"B1990&\":\"&COUNTIF($B$2:B1990,B1990)","v":"HLCUBSC2209BCKH3:1"},"HLCUBSC2209BCKH3","FBIU0482580","HLCUBSC2209BCKH3","20 Dry","PKBQM",964979,"2022-11-12","2022-11-23",223.6,"BL"]
[{"$f":"B1991&\":\"&COUNTIF($B$2:B1991,B1991)","v":"HLCUTOR220916195:1"},"HLCUTOR220916195","FANU3145468","HLCUTOR220916195","40 Dry","PKBQM",964979,"2022-11-12","2022-11-23",223.6,"SW"]
[{"$f":"B1992&\":\"&COUNTIF($B$2:B1992,B1992)","v":"HLCUBSC221004486:1"},"HLCUBSC221004486","DFSU1276770","HLCUBSC221004486","20 Dry","PKBQM",964979,"2022-11-13","2022-11-24",223.6,"BL"]
[{"$f":"B1993&\":\"&COUNTIF($B$2:B1993,B1993)","v":"HLCUTOR220917578:1"},"HLCUTOR220917578","FCIU8170301","HLCUTOR220917578","40 Dry","PKBQM",964979,"2022-11-12","2022-11-23",223.6,"SW"]
[{"$f":"B1994&\":\"&COUNTIF($B$2:B1994,B1994)","v":"HLCUBSC2209BUFL2:1"},"HLCUBSC2209BUFL2","BMOU1440583","HLCUBSC2209BUFL2","20 Dry","PKBQM",964979,"2022-11-12","2022-11-23",223.6,"BL"]
[{"$f":"B1995&\":\"&COUNTIF($B$2:B1995,B1995)","v":"HLCUVAN220910494:1"},"HLCUVAN220910494","HAMU1171867","HLCUVAN220910494","40 Dry","PKBQM",964979,"2022-11-12","2022-11-23",223.6,"SW"]
[{"$f":"B1996&\":\"&COUNTIF($B$2:B1996,B1996)","v":"HLCUBSC2209BKJW5:1"},"HLCUBSC2209BKJW5","HLBU2646015","HLCUBSC2209BKJW5","20 Dry","PKBQM",964979,"2022-11-12","2022-11-23",223.6,"BL"]
[{"$f":"B1997&\":\"&COUNTIF($B$2:B1997,B1997)","v":"HLCUBSC2209BZOV3:1"},"HLCUBSC2209BZOV3","TCNU7240380","HLCUBSC2209BZOV3","40 Dry","PKBQM",964979,"2022-11-12","2022-12-02",223.6,"BL"]
[{"$f":"B1998&\":\"&COUNTIF($B$2:B1998,B1998)","v":"HLCUBSC2209BZOV3:2"},"HLCUBSC2209BZOV3","HLBU2002579","HLCUBSC2209BZOV3","40 Dry","PKBQM",964979,"2022-11-12","2022-12-02",223.6,"BL"]
[{"$f":"B1999&\":\"&COUNTIF($B$2:B1999,B1999)","v":"HLCUBSC2209BZOV3:3"},"HLCUBSC2209BZOV3","FANU1786668","HLCUBSC2209BZOV3","40 Dry","PKBQM",964979,"2022-11-12","2022-12-02",223.6,"BL"]
[{"$f":"B2000&\":\"&COUNTIF($B$2:B2000,B2000)","v":"HLCUTOR220937124:1"},"HLCUTOR220937124","HLXU8309894","HLCUTOR220937124","40 Dry","PKBQM",964979,"2022-11-12","2022-11-23",223.6,"SW"]
[{"$f":"B2001&\":\"&COUNTIF($B$2:B2001,B2001)","v":"HLCUBSC220970641:1"},"HLCUBSC220970641","SEGU5099235","HLCUBSC220970641","40 Dry","PKBQM",964979,"2022-11-12","2022-11-23",223.6,"BL"]
[{"$f":"B2026&\":\"&COUNTIF($B$2:B2026,B2026)","v":"HLCUBSC221019230:2"},"HLCUBSC221019230","CAIU4224192","HLCUBSC221019230","40 Dry","PKBQM",964979,"2022-11-12","2022-11-25",223.6,"BL"]
[{"$f":"B2033&\":\"&COUNTIF($B$2:B2033,B2033)","v":"HLCUBSC221023760:3"},"HLCUBSC221023760","TGCU5176500","HLCUBSC221023760","40 Dry","PKBQM",964979,"2022-11-12","2022-12-02",223.6,"BL"]
[{"$f":"B2059&\":\"&COUNTIF($B$2:B2059,B2059)","v":"HLCUBSC2210BEKM0:4"},"HLCUBSC2210BEKM0","UACU8579730","HLCUBSC2210BEKM0","40 Dry","PKBQM",964979,"2022-11-12","2022-11-25",223.6,"BL"]
[{"$f":"B2076&\":\"&COUNTIF($B$2:B2076,B2076)","v":"HLCUBSC221025828:2"},"HLCUBSC221025828","SEGU5650040","HLCUBSC221025828","40 Dry","PKBQM",964979,"2022-11-12","2022-11-23",223.6,"BL"]
[{"$f":"B2081&\":\"&COUNTIF($B$2:B2081,B2081)","v":"HLCUBSC2209BGFG6:1"},"HLCUBSC2209BGFG6","HLXU1375338","HLCUBSC2209BGFG6","20 Dry","PKBQM",964979,"2022-11-13","2022-11-24",223.6,"BL"]
[{"$f":"B2109&\":\"&COUNTIF($B$2:B2109,B2109)","v":"HLCUBSC2209BNSZ3:7"},"HLCUBSC2209BNSZ3","HLBU1172570","HLCUBSC2209BNSZ3","40 Dry","PKBQM",964979,"2022-11-12","2022-11-25",223.6,"BL"]
[{"$f":"B2110&\":\"&COUNTIF($B$2:B2110,B2110)","v":"HLCUBSC2209BNSZ3:8"},"HLCUBSC2209BNSZ3","TXGU7133615","HLCUBSC2209BNSZ3","40 Dry","PKBQM",964979,"2022-11-12","2022-11-25",223.6,"BL"]
[{"$f":"B2130&\":\"&COUNTIF($B$2:B2130,B2130)","v":"HLCUBSC2209BKOP0:1"},"HLCUBSC2209BKOP0","UACU5913083","HLCUBSC2209BKOP0","40 Dry","PKBQM",964979,"2022-11-12","2022-11-23",223.6,"SW"]
[{"$f":"B2143&\":\"&COUNTIF($B$2:B2143,B2143)","v":"HLCUBSC2209BZZX0:10"},"HLCUBSC2209BZZX0","BEAU4182301","HLCUBSC2209BZZX0","40 Dry","PKBQM",964979,"2022-11-12","2022-12-02",223.6,"BL"]
[{"$f":"B2161&\":\"&COUNTIF($B$2:B2161,B2161)","v":"HLCUIZ1220994949:3"},"HLCUIZ1220994949","BMOU6658270","HLCUIZ1220994949","40 Dry","PKBQM",964979,"2022-11-12","2022-11-18",223.6,"BL"]
[{"$f":"B2176&\":\"&COUNTIF($B$2:B2176,B2176)","v":"HLCULIV220836713:1"},"HLCULIV220836713","FFAU2043302","HLCULIV220836713","40 Dry","PKBQM",289603,"2022-11-13","2022-11-17",223.6,"BL"]
[{"$f":"B2193&\":\"&COUNTIF($B$2:B2193,B2193)","v":"HLCUKW3221002554:1"},"HLCUKW3221002554","SLSU8044120","HLCUKW3221002554","40 Dry","PKKHI",294260,"2022-11-13","2022-11-30",223.6,"BL"]
[{"$f":"B2209&\":\"&COUNTIF($B$2:B2209,B2209)","v":"HLCUKW3221002404:2"},"HLCUKW3221002404","UACU5551528","HLCUKW3221002404","40 Dry","PKKHI",294260,"2022-11-13","2022-11-30",223.6,"BL"]
[{"$f":"B2226&\":\"&COUNTIF($B$2:B2226,B2226)","v":"HLCUKW3221002120:5"},"HLCUKW3221002120","HLXU8158191","HLCUKW3221002120","40 Dry","PKKHI",294260,"2022-11-13","2022-11-30",223.6,"BL"]
[{"$f":"B2243&\":\"&COUNTIF($B$2:B2243,B2243)","v":"HLCUMCT221002793:2"},"HLCUMCT221002793","FANU1466495","HLCUMCT221002793","40 Dry","PKKHI",294260,"2022-11-13","2022-11-26",223.6,"BL"]
[{"$f":"B2258&\":\"&COUNTIF($B$2:B2258,B2258)","v":"HLCUDX3221033657:2"},"HLCUDX3221033657","EIAU2802466","HLCUDX3221033657","20 Special","PKKHI",294260,"2022-11-13","",223.6,"BL"]
[{"$f":"B2276&\":\"&COUNTIF($B$2:B2276,B2276)","v":"HLCUKW3221002426:3"},"HLCUKW3221002426","SEGU6949441","HLCUKW3221002426","40 Dry","PKKHI",294260,"2022-11-13","2022-11-30",223.6,"BL"]
[{"$f":"B2289&\":\"&COUNTIF($B$2:B2289,B2289)","v":"HLCUKW3221002616:5"},"HLCUKW3221002616","FCIU8503491","HLCUKW3221002616","40 Dry","PKKHI",294260,"2022-11-13","2022-11-30",223.6,"BL"]
[{"$f":"B2309&\":\"&COUNTIF($B$2:B2309,B2309)","v":"HLCUKW3221002108:6"},"HLCUKW3221002108","HLXU8473439","HLCUKW3221002108","40 Dry","PKKHI",294260,"2022-11-13","2022-11-30",223.6,"BL"]
[{"$f":"B2326&\":\"&COUNTIF($B$2:B2326,B2326)","v":"HLCUMCT221003401:3"},"HLCUMCT221003401","TGHU9185432","HLCUMCT221003401","40 Dry","PKKHI",294260,"2022-11-13","2022-11-26",223.6,"BL"]
[{"$f":"B2338&\":\"&COUNTIF($B$2:B2338,B2338)","v":"HLCUKW3221001562:9"},"HLCUKW3221001562","FANU3177640","HLCUKW3221001562","40 Dry","PKKHI",294260,"2022-11-14","2022-11-27",223.6,"BL"]
[{"$f":"B2359&\":\"&COUNTIF($B$2:B2359,B2359)","v":"HLCUKW3221002470:1"},"HLCUKW3221002470","HLBU2167970","HLCUKW3221002470","40 Dry","PKKHI",294260,"2022-11-13","2022-11-30",223.6,"BL"]
[{"$f":"B2360&\":\"&COUNTIF($B$2:B2360,B2360)","v":"HLCUKW3221002470:2"},"HLCUKW3221002470","UASU1049771","HLCUKW3221002470","40 Dry","PKKHI",294260,"2022-11-13","2022-11-30",223.6,"BL"]
[{"$f":"B2386&\":\"&COUNTIF($B$2:B2386,B2386)","v":"HLCUJIB221000456:1"},"HLCUJIB221000456","HLXU1056670","HLCUJIB221000456","20 Dry","PKKHI",294260,"2022-11-14","2022-11-18",223.6,"BL"]
[{"$f":"B2393&\":\"&COUNTIF($B$2:B2393,B2393)","v":"HLCUKW3221002755:2"},"HLCUKW3221002755","TCNU9874527","HLCUKW3221002755","40 Dry","PKKHI",294260,"2022-11-13","2022-11-30",223.6,"BL"]
[{"$f":"B2417&\":\"&COUNTIF($B$2:B2417,B2417)","v":"HLCUMCT221003116:8"},"HLCUMCT221003116","UACU5521098","HLCUMCT221003116","40 Dry","PKKHI",294260,"2022-11-14","2022-11-27",223.6,"BL"]
[{"$f":"B2426&\":\"&COUNTIF($B$2:B2426,B2426)","v":"HLCUDX3221112120:1"},"HLCUDX3221112120","UACU3789517","HLCUDX3221112120","20 Dry","PKKHI",294260,"2022-11-13","2022-11-26",223.6,"BL"]
[{"$f":"B2443&\":\"&COUNTIF($B$2:B2443,B2443)","v":"HLCUKW3221002353:4"},"HLCUKW3221002353","FANU1938950","HLCUKW3221002353","40 Dry","PKKHI",294260,"2022-11-13","2022-11-30",223.6,"BL"]
[{"$f":"B2466&\":\"&COUNTIF($B$2:B2466,B2466)","v":"HLCURUH221002104:3"},"HLCURUH221002104","FANU1121636","HLCURUH221002104","40 Dry","PKKHI",294260,"2022-11-14","2022-12-04",223.6,"BL"]
[{"$f":"B2476&\":\"&COUNTIF($B$2:B2476,B2476)","v":"HLCURUH221006127:7"},"HLCURUH221006127","HLBU1634180","HLCURUH221006127","40 Dry","PKKHI",294260,"2022-11-14","2022-12-04",223.6,"BL"]
[{"$f":"B2493&\":\"&COUNTIF($B$2:B2493,B2493)","v":"HLCUDX3221106442:1"},"HLCUDX3221106442","TGHU6107800","HLCUDX3221106442","40 Dry","PKKHI",294260,"2022-11-13","2022-12-03",223.6,"BL"]
[{"$f":"B2514&\":\"&COUNTIF($B$2:B2514,B2514)","v":"HLCUMCT221002782:7"},"HLCUMCT221002782","UACU5737765","HLCUMCT221002782","40 Dry","PKKHI",294260,"2022-11-13","2022-11-26",223.6,"BL"]
[{"$f":"B2526&\":\"&COUNTIF($B$2:B2526,B2526)","v":"HLCUDX3221106676:3"},"HLCUDX3221106676","HLXU8112837","HLCUDX3221106676","40 Dry","PKKHI",294260,"2022-11-14","2022-11-27",223.6,"BL"]
[{"$f":"B2545&\":\"&COUNTIF($B$2:B2545,B2545)","v":"HLCUGOA220968621:1"},"HLCUGOA220968621","HLXU5223734","HLCUGOA220968621","40 Dry","PKKHI",289757,"2022-11-13","2022-11-26",223.6,"BL"]
[{"$f":"B2559&\":\"&COUNTIF($B$2:B2559,B2559)","v":"HLCUGOA221057070:3"},"HLCUGOA221057070","FANU1713677","HLCUGOA221057070","40 Dry","PKKHI",289757,"2022-11-13","2022-11-19",223.6,"BL"]
[{"$f":"B2576&\":\"&COUNTIF($B$2:B2576,B2576)","v":"HLCUALY221014843:5"},"HLCUALY221014843","CSVU7508315","HLCUALY221014843","40 Reefer","PKKHI",289757,"2022-11-13","2022-11-22",223.6,"BL"]
[{"$f":"B2579&\":\"&COUNTIF($B$2:B2579,B2579)","v":"HLCUALY221014843:8"},"HLCUALY221014843","HLBU9152040","HLCUALY221014843","40 Reefer","PKKHI",289757,"2022-11-13","2022-11-22",223.6,"BL"]
[{"$f":"B2609&\":\"&COUNTIF($B$2:B2609,B2609)","v":"HLCUALY221018410:4"},"HLCUALY221018410","SEGU9104793","HLCUALY221018410","40 Reefer","PKKHI",289757,"2022-11-13","2022-11-22",223.6,"BL"]
[{"$f":"B2610&\":\"&COUNTIF($B$2:B2610,B2610)","v":"HLCUALY221018410:5"},"HLCUALY221018410","HLBU9564367","HLCUALY221018410","40 Reefer","PKKHI",289757,"2022-11-13","2022-11-22",223.6,"BL"]
[{"$f":"B2627&\":\"&COUNTIF($B$2:B2627,B2627)","v":"HLCUALY221018095:11"},"HLCUALY221018095","HLBU9232824","HLCUALY221018095","40 Reefer","PKKHI",289757,"2022-11-13","2022-11-22",223.6,"BL"]
[{"$f":"B2643&\":\"&COUNTIF($B$2:B2643,B2643)","v":"HLCUALY221011739:1"},"HLCUALY221011739","UACU4749268","HLCUALY221011739","40 Reefer","PKKHI",289757,"2022-11-13","2022-11-20",223.6,"BL"]
[{"$f":"B2659&\":\"&COUNTIF($B$2:B2659,B2659)","v":"HLCUPZU221000449:5"},"HLCUPZU221000449","HLBU3045580","HLCUPZU221000449","20 Dry","PKKHI",289757,"2022-11-13","2022-11-22",223.6,"BL"]
[{"$f":"B2676&\":\"&COUNTIF($B$2:B2676,B2676)","v":"HLCUSYD220771483:2"},"HLCUSYD220771483","HLXU1230632","HLCUSYD220771483","20 Dry","PKKHI",289757,"2022-11-13","2022-11-19",223.6,"BL"]
[{"$f":"B2693&\":\"&COUNTIF($B$2:B2693,B2693)","v":"HLCUALY221009957:1"},"HLCUALY221009957","TCLU2494180","HLCUALY221009957","20 Dry","PKKHI",289757,"2022-11-13","2022-11-24",223.6,"BL"]
[{"$f":"B2707&\":\"&COUNTIF($B$2:B2707,B2707)","v":"HLCUBC1221037975:1"},"HLCUBC1221037975","TDRU8418386","HLCUBC1221037975","40 Dry","PKKHI",289757,"2022-11-13","2022-11-19",223.6,"BL"]
[{"$f":"B2726&\":\"&COUNTIF($B$2:B2726,B2726)","v":"HLCUJE2221010817:1"},"HLCUJE2221010817","TCNU1785758","HLCUJE2221010817","40 Dry","PKKHI",289757,"2022-11-13","2022-11-26",223.6,"BL"]
[{"$f":"B2743&\":\"&COUNTIF($B$2:B2743,B2743)","v":"HLCUDOH221003950:3"},"HLCUDOH221003950","FANU1389948","HLCUDOH221003950","40 Dry","PKKHI",295670,"2022-11-13","2022-11-26",223.6,"SW"]
[{"$f":"B2755&\":\"&COUNTIF($B$2:B2755,B2755)","v":"HLCUDA3221001549:4"},"HLCUDA3221001549","BMOU4952388","HLCUDA3221001549","40 Dry","PKKHI",295670,"2022-11-13","2022-11-22",223.6,"BL"]
[{"$f":"B2776&\":\"&COUNTIF($B$2:B2776,B2776)","v":"HLCUDOH221003983:9"},"HLCUDOH221003983","HLBU1488933","HLCUDOH221003983","40 Dry","PKKHI",295670,"2022-11-13","2022-11-26",223.6,"BL"]
[{"$f":"B2787&\":\"&COUNTIF($B$2:B2787,B2787)","v":"HLCUDOH221003983:20"},"HLCUDOH221003983","FFAU1252078","HLCUDOH221003983","40 Dry","PKKHI",295670,"2022-11-13","2022-11-26",223.6,"BL"]
[{"$f":"B2809&\":\"&COUNTIF($B$2:B2809,B2809)","v":"HLCUDA3221000579:5"},"HLCUDA3221000579","UACU3934050","HLCUDA3221000579","20 Dry","PKKHI",295670,"2022-11-13","2022-11-22",223.6,"BL"]
[{"$f":"B2826&\":\"&COUNTIF($B$2:B2826,B2826)","v":"HLCUPRG220905530:1"},"HLCUPRG220905530","TCLU6407141","HLCUPRG220905530","40 Dry","PKKHI",295670,"2022-11-13","2022-11-19",223.6,"BL"]
[{"$f":"B2835&\":\"&COUNTIF($B$2:B2835,B2835)","v":"HLCUPRG220903217:1"},"HLCUPRG220903217","HLXU8062211","HLCUPRG220903217","40 Dry","PKKHI",295670,"2022-11-13","2022-11-19",223.6,"BL"]
[{"$f":"B2859&\":\"&COUNTIF($B$2:B2859,B2859)","v":"HLCUDA3220905450:4"},"HLCUDA3220905450","UACU5516888","HLCUDA3220905450","40 Dry","PKKHI",295670,"2022-11-13","2022-11-22",223.6,"BL"]
[{"$f":"B2860&\":\"&COUNTIF($B$2:B2860,B2860)","v":"HLCUDA3220905450:5"},"HLCUDA3220905450","SEGU5466027","HLCUDA3220905450","40 Dry","PKKHI",295670,"2022-11-13","2022-11-22",223.6,"BL"]
[{"$f":"B2883&\":\"&COUNTIF($B$2:B2883,B2883)","v":"HLCUTOR220931614:1"},"HLCUTOR220931614","TCLU8614657","HLCUTOR220931614","40 Dry","PKKHI",295670,"2022-11-13","2022-11-24",223.6,"BL"]
[{"$f":"B2893&\":\"&COUNTIF($B$2:B2893,B2893)","v":"HLCUDA3221001041:5"},"HLCUDA3221001041","TCKU1834586","HLCUDA3221001041","20 Dry","PKKHI",295670,"2022-11-13","2022-11-17",223.6,"BL"]
[{"$f":"B2915&\":\"&COUNTIF($B$2:B2915,B2915)","v":"HLCUCPH220900037:13"},"HLCUCPH220900037","GESU3350727","HLCUCPH220900037","20 Dry","PKBQM",293446,"2022-11-17","2022-11-26",223.35,"BL"]
[{"$f":"B2926&\":\"&COUNTIF($B$2:B2926,B2926)","v":"HLCUSYD221003654:1"},"HLCUSYD221003654","NIDU2274948","HLCUSYD221003654","20 Dry","PKBQM",293446,"2022-11-17","2022-11-21",223.35,"BL"]
[{"$f":"B2943&\":\"&COUNTIF($B$2:B2943,B2943)","v":"HLCURTM220911084:2"},"HLCURTM220911084","HLBU1167770","HLCURTM220911084","40 Dry","PKBQM",293446,"2022-11-17","2022-11-30",223.35,"BL"]
[{"$f":"B2963&\":\"&COUNTIF($B$2:B2963,B2963)","v":"HLCUANR221018805:10"},"HLCUANR221018805","FBIU0485907","HLCUANR221018805","20 Dry","PKBQM",293446,"2022-11-17","2022-11-26",223.35,"BL"]
[{"$f":"B2976&\":\"&COUNTIF($B$2:B2976,B2976)","v":"HLCUBSC221018355:1"},"HLCUBSC221018355","TCKU6485682","HLCUBSC221018355","40 Dry","PKBQM",293446,"2022-11-17","2022-11-21",223.35,"SW"]
[{"$f":"B2993&\":\"&COUNTIF($B$2:B2993,B2993)","v":"HLCUBSC221018428:2"},"HLCUBSC221018428","BMOU6672853","HLCUBSC221018428","40 Dry","PKBQM",293446,"2022-11-17","2022-11-21",223.35,"BL"]
[{"$f":"B3011&\":\"&COUNTIF($B$2:B3011,B3011)","v":"HLCUHAM2209BVIX5:1"},"HLCUHAM2209BVIX5","HLXU1245313","HLCUHAM2209BVIX5","20 Dry","PKBQM",293446,"2022-11-17","2022-11-26",223.35,"BL"]
[{"$f":"B3026&\":\"&COUNTIF($B$2:B3026,B3026)","v":"HLCUBSC221055352:1"},"HLCUBSC221055352","UETU5287596","HLCUBSC221055352","40 Dry","PKBQM",293156,"2022-11-19","2022-11-30",223.1,"BL"]
[{"$f":"B3043&\":\"&COUNTIF($B$2:B3043,B3043)","v":"HLCUBSC2209AVWU7:1"},"HLCUBSC2209AVWU7","TLLU5346836","HLCUBSC2209AVWU7","40 Dry","PKBQM",293156,"2022-11-18","2022-11-29",223.1,"SW"]
[{"$f":"B3059&\":\"&COUNTIF($B$2:B3059,B3059)","v":"HLCUTOR221017116:1"},"HLCUTOR221017116","TEMU7571326","HLCUTOR221017116","40 Dry","PKBQM",293156,"2022-11-18","2022-11-29",223.1,"BL"]
[{"$f":"B3076&\":\"&COUNTIF($B$2:B3076,B3076)","v":"HLCUBSC2209ASBB2:2"},"HLCUBSC2209ASBB2","TGBU2224026","HLCUBSC2209ASBB2","20 Dry","PKBQM",293156,"2022-11-18","2022-11-29",223.1,"BL"]
[{"$f":"B3091&\":\"&COUNTIF($B$2:B3091,B3091)","v":"HLCUBSC221011853:1"},"HLCUBSC221011853","HLXU8410770","HLCUBSC221011853","40 Dry","PKBQM",293156,"2022-11-18","2022-11-29",223.1,"SW"]
[{"$f":"B3109&\":\"&COUNTIF($B$2:B3109,B3109)","v":"HLCUBSC2210BDSW6:2"},"HLCUBSC2210BDSW6","UACU3573739","HLCUBSC2210BDSW6","20 Dry","PKBQM",293156,"2022-11-18","2022-11-29",223.1,"BL"]
[{"$f":"B3110&\":\"&COUNTIF($B$2:B3110,B3110)","v":"HLCUBSC2210BDSW6:3"},"HLCUBSC2210BDSW6","GLDU5431212","HLCUBSC2210BDSW6","20 Dry","PKBQM",293156,"2022-11-18","2022-11-29",223.1,"BL"]
[{"$f":"B3139&\":\"&COUNTIF($B$2:B3139,B3139)","v":"HLCUBSC2210BBCU5:1"},"HLCUBSC2210BBCU5","FANU1707756","HLCUBSC2210BBCU5","40 Dry","PKBQM",293156,"2022-11-18","2022-11-22",223.1,"SW"]
[{"$f":"B3143&\":\"&COUNTIF($B$2:B3143,B3143)","v":"HLCUBSC2210BDOV3:1"},"HLCUBSC2210BDOV3","UACU5971789","HLCUBSC2210BDOV3","40 Dry","PKBQM",293156,"2022-11-18","2022-11-29",223.1,"SW"]
[{"$f":"B3171&\":\"&COUNTIF($B$2:B3171,B3171)","v":"HLCUBSC2210APEG0:1"},"HLCUBSC2210APEG0","TGHU1488860","HLCUBSC2210APEG0","20 Dry","PKBQM",293156,"2022-11-18","2022-11-29",223.1,"BL"]
[{"$f":"B3176&\":\"&COUNTIF($B$2:B3176,B3176)","v":"HLCUBSC221030714:3"},"HLCUBSC221030714","TEMU6870791","HLCUBSC221030714","40 Dry","PKBQM",293156,"2022-11-18","2022-12-05",223.1,"BL"]
[{"$f":"B3193&\":\"&COUNTIF($B$2:B3193,B3193)","v":"HLCUKW3221100619:2"},"HLCUKW3221100619","HLBU2392749","HLCUKW3221100619","40 Dry","PKKHI",294262,"2022-11-19","2022-12-06",223.1,"BL"]
[{"$f":"B3204&\":\"&COUNTIF($B$2:B3204,B3204)","v":"HLCUDA3221001550:4"},"HLCUDA3221001550","FCIU9173455","HLCUDA3221001550","40 Dry","PKKHI",294262,"2022-11-18","2022-11-27",223.1,"BL"]
[{"$f":"B3226&\":\"&COUNTIF($B$2:B3226,B3226)","v":"HLCUKW3221100580:1"},"HLCUKW3221100580","TGBU6171705","HLCUKW3221100580","40 Dry","PKKHI",294262,"2022-11-19","2022-12-06",223.1,"BL"]
[{"$f":"B3243&\":\"&COUNTIF($B$2:B3243,B3243)","v":"HLCUDA3221000926:5"},"HLCUDA3221000926","PCIU1705356","HLCUDA3221000926","20 Dry","PKKHI",294262,"2022-11-19","2022-12-02",223.1,"BL"]
[{"$f":"B3252&\":\"&COUNTIF($B$2:B3252,B3252)","v":"HLCURUH221008027:3"},"HLCURUH221008027","TGHU9569382","HLCURUH221008027","40 Dry","PKKHI",294262,"2022-11-19","2022-12-09",223.1,"BL"]
[{"$f":"B3276&\":\"&COUNTIF($B$2:B3276,B3276)","v":"HLCUDA3221004324:1"},"HLCUDA3221004324","HLBU3305137","HLCUDA3221004324","40 Dry","PKKHI",294262,"2022-11-18","2022-11-27",223.1,"BL"]
[{"$f":"B3284&\":\"&COUNTIF($B$2:B3284,B3284)","v":"HLCURUH221102219:1"},"HLCURUH221102219","HLXU5387825","HLCURUH221102219","40 Dry","PKKHI",294262,"2022-11-19","2022-12-09",223.1,"BL"]
[{"$f":"B3309&\":\"&COUNTIF($B$2:B3309,B3309)","v":"HLCUKW3221100513:4"},"HLCUKW3221100513","HLBU1079112","HLCUKW3221100513","40 Dry","PKKHI",294262,"2022-11-19","2022-12-06",223.1,"BL"]
[{"$f":"B3326&\":\"&COUNTIF($B$2:B3326,B3326)","v":"HLCUKW3221100502:1"},"HLCUKW3221100502","SEGU6730793","HLCUKW3221100502","40 Dry","PKKHI",294262,"2022-11-19","2022-12-06",223.1,"BL"]
[{"$f":"B3332&\":\"&COUNTIF($B$2:B3332,B3332)","v":"HLCURUH221002433:3"},"HLCURUH221002433","TCNU8849509","HLCURUH221002433","40 Dry","PKKHI",294262,"2022-11-19","2022-12-09",223.1,"BL"]
[{"$f":"B3359&\":\"&COUNTIF($B$2:B3359,B3359)","v":"HLCUPZU221000197:9"},"HLCUPZU221000197","TCNU1786271","HLCUPZU221000197","40 Dry","PKKHI",294262,"2022-11-19","2022-11-28",223.1,"BL"]
[{"$f":"B3360&\":\"&COUNTIF($B$2:B3360,B3360)","v":"HLCUMCT221100478:1"},"HLCUMCT221100478","HAMU1220088","HLCUMCT221100478","40 Dry","PKKHI",294262,"2022-11-19","2022-12-02",223.1,"SW"]
[{"$f":"B3380&\":\"&COUNTIF($B$2:B3380,B3380)","v":"HLCUMCT221100010:2"},"HLCUMCT221100010","HLBU2910724","HLCUMCT221100010","40 Dry","PKKHI",294262,"2022-11-18","2022-12-01",223.1,"BL"]
[{"$f":"B3393&\":\"&COUNTIF($B$2:B3393,B3393)","v":"HLCUBUH220910075:3"},"HLCUBUH220910075","TGHU9573675","HLCUBUH220910075","40 Dry","PKKHI",294262,"2022-11-18","2022-11-27",223.1,"BL"]
[{"$f":"B3412&\":\"&COUNTIF($B$2:B3412,B3412)","v":"HLCUDA3221001890:5"},"HLCUDA3221001890","HLBU1575386","HLCUDA3221001890","40 Dry","PKKHI",294262,"2022-11-19","2022-11-28",223.1,"BL"]
[{"$f":"B3426&\":\"&COUNTIF($B$2:B3426,B3426)","v":"HLCUSYD220906490:2"},"HLCUSYD220906490","TCLU8345970","HLCUSYD220906490","40 Dry","PKKHI",294262,"2022-11-19","2022-12-02",223.1,"SW"]
[{"$f":"B3443&\":\"&COUNTIF($B$2:B3443,B3443)","v":"HLCUBUH221007051:4"},"HLCUBUH221007051","FANU1957098","HLCUBUH221007051","40 Dry","PKKHI",294262,"2022-11-18","2022-11-27",223.1,"BL"]
[{"$f":"B3460&\":\"&COUNTIF($B$2:B3460,B3460)","v":"HLCUDX3221113390:6"},"HLCUDX3221113390","FANU1844229","HLCUDX3221113390","40 Dry","PKKHI",294262,"2022-11-18","2022-11-22",223.1,"BL"]
[{"$f":"B3476&\":\"&COUNTIF($B$2:B3476,B3476)","v":"HLCURUH221100385:6"},"HLCURUH221100385","HLBU1245487","HLCURUH221100385","40 Dry","PKKHI",294262,"2022-11-19","2022-12-09",223.1,"BL"]
[{"$f":"B3493&\":\"&COUNTIF($B$2:B3493,B3493)","v":"HLCUALY221012753:9"},"HLCUALY221012753","GLDU5722590","HLCUALY221012753","20 Dry","PKKHI",294262,"2022-11-19","2022-11-30",223.1,"BL"]
[{"$f":"B3508&\":\"&COUNTIF($B$2:B3508,B3508)","v":"HLCUALY221012753:24"},"HLCUALY221012753","CAAU2082970","HLCUALY221012753","20 Dry","PKKHI",294262,"2022-11-19","2022-11-30",223.1,"BL"]
[{"$f":"B3526&\":\"&COUNTIF($B$2:B3526,B3526)","v":"HLCUALY221012753:42"},"HLCUALY221012753","BMOU1442272","HLCUALY221012753","20 Dry","PKKHI",294262,"2022-11-19","2022-11-30",223.1,"BL"]
[{"$f":"B3540&\":\"&COUNTIF($B$2:B3540,B3540)","v":"HLCUALY221012753:56"},"HLCUALY221012753","HLBU1101155","HLCUALY221012753","20 Dry","PKKHI",294262,"2022-11-19","2022-11-30",223.1,"BL"]
[{"$f":"B3559&\":\"&COUNTIF($B$2:B3559,B3559)","v":"HLCUDOH221004299:1"},"HLCUDOH221004299","BSIU8218130","HLCUDOH221004299","40 Dry","PKKHI",294262,"2022-11-19","2022-12-02",223.1,"BL"]
[{"$f":"B3576&\":\"&COUNTIF($B$2:B3576,B3576)","v":"HLCUDA3221000696:10"},"HLCUDA3221000696","TCLU1463203","HLCUDA3221000696","40 Dry","PKKHI",294262,"2022-11-18","2022-11-27",223.1,"BL"]
[{"$f":"B3588&\":\"&COUNTIF($B$2:B3588,B3588)","v":"HLCUMCT221100401:4"},"HLCUMCT221100401","HLXU6402246","HLCUMCT221100401","40 Dry","PKKHI",294262,"2022-11-18","2022-12-01",223.1,"BL"]
[{"$f":"B3609&\":\"&COUNTIF($B$2:B3609,B3609)","v":"HLCUDA3220805652:5"},"HLCUDA3220805652","CRSU1420529","HLCUDA3220805652","20 Dry","PKKHI",294262,"2022-11-19","2022-12-02",223.1,"BL"]
[{"$f":"B3610&\":\"&COUNTIF($B$2:B3610,B3610)","v":"HLCUDA3220805663:1"},"HLCUDA3220805663","HLXU1071361","HLCUDA3220805663","20 Dry","PKKHI",294262,"2022-11-19","2022-12-02",223.1,"BL"]
[{"$f":"B3636&\":\"&COUNTIF($B$2:B3636,B3636)","v":"HLCUALY221019964:1"},"HLCUALY221019964","DRYU2172552","HLCUALY221019964","20 Dry","PKKHI",294262,"2022-11-19","2022-11-23",223.1,"BL"]
[{"$f":"B3643&\":\"&COUNTIF($B$2:B3643,B3643)","v":"HLCUKW3221100378:3"},"HLCUKW3221100378","SEGU4077289","HLCUKW3221100378","40 Dry","PKKHI",294262,"2022-11-19","2022-12-06",223.1,"BL"]
[{"$f":"B3668&\":\"&COUNTIF($B$2:B3668,B3668)","v":"HLCUDA3221003281:10"},"HLCUDA3221003281","HLBU1912430","HLCUDA3221003281","40 Dry","PKKHI",294262,"2022-11-19","2022-11-28",223.1,"BL"]
[{"$f":"B3676&\":\"&COUNTIF($B$2:B3676,B3676)","v":"HLCUKW3221100620:1"},"HLCUKW3221100620","UACU5324036","HLCUKW3221100620","40 Dry","PKKHI",294262,"2022-11-19","2022-12-06",223.1,"BL"]
[{"$f":"B3693&\":\"&COUNTIF($B$2:B3693,B3693)","v":"HLCURUH221005950:1"},"HLCURUH221005950","BEAU4722014","HLCURUH221005950","40 Dry","PKKHI",288245,"2022-11-18","2022-12-08",223.35,"BL"]
[{"$f":"B3716&\":\"&COUNTIF($B$2:B3716,B3716)","v":"HLCUPZU221000661:4"},"HLCUPZU221000661","TCKU1390157","HLCUPZU221000661","20 Dry","PKKHI",288245,"2022-11-18","2022-11-27",223.35,"BL"]
[{"$f":"B3726&\":\"&COUNTIF($B$2:B3726,B3726)","v":"HLCUHAM2209BQHW2:1"},"HLCUHAM2209BQHW2","CAAU5329934","HLCUHAM2209BQHW2","40 Dry","PKKHI",288245,"2022-11-18","2022-12-01",223.35,"BL"]
[{"$f":"B3743&\":\"&COUNTIF($B$2:B3743,B3743)","v":"HLCUGOT220900830:2"},"HLCUGOT220900830","FCIU3220987","HLCUGOT220900830","20 Dry","PKKHI",288245,"2022-11-18","2022-11-27",223.35,"SW"]
[{"$f":"B3764&\":\"&COUNTIF($B$2:B3764,B3764)","v":"HLCUGDY220856310:1"},"HLCUGDY220856310","FANU3132310","HLCUGDY220856310","40 Dry","PKKHI",288245,"2022-11-18","2022-12-01",223.35,"SW"]
[{"$f":"B3776&\":\"&COUNTIF($B$2:B3776,B3776)","v":"HLCUJE2221011619:5"},"HLCUJE2221011619","TCLU5931030","HLCUJE2221011619","40 Dry","PKKHI",288245,"2022-11-18","2022-12-01",223.35,"BL"]
[{"$f":"B3796&\":\"&COUNTIF($B$2:B3796,B3796)","v":"HLCULIV221015901:1"},"HLCULIV221015901","FCIU3595900","HLCULIV221015901","20 Dry","PKKHI",288245,"2022-11-18","2022-11-22",223.35,"SW"]
[{"$f":"B3809&\":\"&COUNTIF($B$2:B3809,B3809)","v":"HLCURUH221006986:2"},"HLCURUH221006986","RFCU5001324","HLCURUH221006986","40 Dry","PKKHI",288245,"2022-11-18","2022-12-08",223.35,"BL"]
[{"$f":"B3826&\":\"&COUNTIF($B$2:B3826,B3826)","v":"HLCUIZ1221018531:6"},"HLCUIZ1221018531","TRLU7416023","HLCUIZ1221018531","40 Dry","PKKHI",288245,"2022-11-18","2022-12-01",223.35,"BL"]
[{"$f":"B3829&\":\"&COUNTIF($B$2:B3829,B3829)","v":"HLCUIZ1221018531:9"},"HLCUIZ1221018531","TCNU3247474","HLCUIZ1221018531","40 Dry","PKKHI",288245,"2022-11-18","2022-12-01",223.35,"BL"]
[{"$f":"B3859&\":\"&COUNTIF($B$2:B3859,B3859)","v":"HLCURTM220994262:2"},"HLCURTM220994262","TCKU3242550","HLCURTM220994262","20 Dry","PKKHI",288245,"2022-11-18","2022-12-01",223.35,"SW"]
[{"$f":"B3860&\":\"&COUNTIF($B$2:B3860,B3860)","v":"HLCUHAM2209BJDG2:1"},"HLCUHAM2209BJDG2","TGBU6065447","HLCUHAM2209BJDG2","40 Dry","PKKHI",288245,"2022-11-18","2022-11-29",223.35,"SW"]
[{"$f":"B3877&\":\"&COUNTIF($B$2:B3877,B3877)","v":"HLCUHAM220973080:1"},"HLCUHAM220973080","TGHU5155358","HLCUHAM220973080","40 Dry","PKKHI",288245,"2022-11-18","2022-12-01",223.35,"BL"]
[{"$f":"B3893&\":\"&COUNTIF($B$2:B3893,B3893)","v":"HLCULIV220879593:1"},"HLCULIV220879593","CAIU2535894","HLCULIV220879593","20 Dry","PKKHI",288245,"2022-11-18","2022-12-02",223.35,"SW"]
[{"$f":"B3909&\":\"&COUNTIF($B$2:B3909,B3909)","v":"HLCUIZ1221018509:10"},"HLCUIZ1221018509","FANU1999447","HLCUIZ1221018509","40 Dry","PKKHI",288245,"2022-11-18","2022-12-01",223.35,"BL"]
[{"$f":"B3926&\":\"&COUNTIF($B$2:B3926,B3926)","v":"HLCUALY221023010:13"},"HLCUALY221023010","UACU4795685","HLCUALY221023010","40 Reefer","PKKHI",292720,"2022-11-18","2022-11-27",223.35,"BL"]
[{"$f":"B3943&\":\"&COUNTIF($B$2:B3943,B3943)","v":"HLCUALY221021651:1"},"HLCUALY221021651","BMOU9209800","HLCUALY221021651","40 Reefer","PKKHI",292720,"2022-11-18","2022-11-20",223.35,"BL"]
[{"$f":"B3957&\":\"&COUNTIF($B$2:B3957,B3957)","v":"HLCUALY221018822:5"},"HLCUALY221018822","HLXU8732144","HLCUALY221018822","40 Reefer","PKKHI",292720,"2022-11-18","2022-11-27",223.35,"BL"]
[{"$f":"B3976&\":\"&COUNTIF($B$2:B3976,B3976)","v":"HLCUHAM220958110:1"},"HLCUHAM220958110","TXGU6842236","HLCUHAM220958110","40 Dry","PKBQM",289605,"2022-11-20","2022-11-24",223.1,"BL"]
[{"$f":"B3993&\":\"&COUNTIF($B$2:B3993,B3993)","v":"HLCUIZ1221050831:1"},"HLCUIZ1221050831","HLXU6516763","HLCUIZ1221050831","40 Dry","PKBQM",292764,"2022-11-20","2022-12-03",223.4,"BL"]
[{"$f":"B4005&\":\"&COUNTIF($B$2:B4005,B4005)","v":"HLCUTOR221012463:1"},"HLCUTOR221012463","FANU1030705","HLCUTOR221012463","40 Dry","PKBQM",292764,"2022-11-20","2022-12-01",223.4,"SW"]
[{"$f":"B4026&\":\"&COUNTIF($B$2:B4026,B4026)","v":"HLCUALY221022018:2"},"HLCUALY221022018","HLXU3335925","HLCUALY221022018","20 Dry","PKKHI",291497,"2022-11-20","2022-11-24",223.1,"BL"]
[{"$f":"B4043&\":\"&COUNTIF($B$2:B4043,B4043)","v":"HLCUIZ12209APKO3:9"},"HLCUIZ12209APKO3","HLBU3303453","HLCUIZ12209APKO3","40 Dry","PKKHI",291497,"2022-11-20","2022-12-03",223.1,"BL"]
[{"$f":"B4054&\":\"&COUNTIF($B$2:B4054,B4054)","v":"HLCURDS220900835:1"},"HLCURDS220900835","FDCU0336931","HLCURDS220900835","40 Dry","PKKHI",291497,"2022-11-20","2022-11-29",223.1,"BL"]
[{"$f":"B4076&\":\"&COUNTIF($B$2:B4076,B4076)","v":"HLCUVL1221001247:1"},"HLCUVL1221001247","BEAU2264041","HLCUVL1221001247","20 Dry","PKKHI",291497,"2022-11-20","2022-11-26",223.1,"BL"]
[{"$f":"B4085&\":\"&COUNTIF($B$2:B4085,B4085)","v":"HLCUVAN220808988:1"},"HLCUVAN220808988","TGBU5856675","HLCUVAN220808988","40 Dry","PKKHI",291497,"2022-11-20","2022-12-01",223.1,"SW"]
[{"$f":"B4109&\":\"&COUNTIF($B$2:B4109,B4109)","v":"HLCUALY221018877:1"},"HLCUALY221018877","TEMU5097270","HLCUALY221018877","20 Dry","PKKHI",291497,"2022-11-20","2022-12-01",223.1,"BL"]
[{"$f":"B4110&\":\"&COUNTIF($B$2:B4110,B4110)","v":"HLCUALY221018877:2"},"HLCUALY221018877","HLXU1393218","HLCUALY221018877","20 Dry","PKKHI",291497,"2022-11-20","2022-12-01",223.1,"BL"]
[{"$f":"B4133&\":\"&COUNTIF($B$2:B4133,B4133)","v":"HLCUIZ1221057100:1"},"HLCUIZ1221057100","HLBU1688588","HLCUIZ1221057100","40 Dry","PKKHI",295672,"2022-11-20","2022-12-03",223.4,"BL"]
[{"$f":"B4143&\":\"&COUNTIF($B$2:B4143,B4143)","v":"HLCUIZ1221076523:3"},"HLCUIZ1221076523","HLBU2137358","HLCUIZ1221076523","40 Dry","PKKHI",295672,"2022-11-20","2022-11-26",223.4,"SW"]
[{"$f":"B4160&\":\"&COUNTIF($B$2:B4160,B4160)","v":"HLCUDA3221001432:1"},"HLCUDA3221001432","GATU0430567","HLCUDA3221001432","20 Dry","PKKHI",295672,"2022-11-20","2022-12-03",223.4,"BL"]
[{"$f":"B4182&\":\"&COUNTIF($B$2:B4182,B4182)","v":"HLCUDOH221100409:14"},"HLCUDOH221100409","FSCU7296336","HLCUDOH221100409","40 Dry","PKKHI",295672,"2022-11-20","2022-12-03",223.4,"BL"]
[{"$f":"B4193&\":\"&COUNTIF($B$2:B4193,B4193)","v":"HLCUDOH221100409:25"},"HLCUDOH221100409","HLBU2582899","HLCUDOH221100409","40 Dry","PKKHI",295672,"2022-11-20","2022-12-03",223.4,"BL"]
[{"$f":"B4213&\":\"&COUNTIF($B$2:B4213,B4213)","v":"HLCUDOH221101394:1"},"HLCUDOH221101394","BEAU5999960","HLCUDOH221101394","40 Dry","PKKHI",295672,"2022-11-20","2022-12-03",223.4,"SW"]
[{"$f":"B4226&\":\"&COUNTIF($B$2:B4226,B4226)","v":"HLCUDOH221102492:3"},"HLCUDOH221102492","FANU1618577","HLCUDOH221102492","40 Dry","PKKHI",295672,"2022-11-20","2022-12-03",223.4,"BL"]
[{"$f":"B4243&\":\"&COUNTIF($B$2:B4243,B4243)","v":"HLCUBU3220908708:2"},"HLCUBU3220908708","CAIU6709612","HLCUBU3220908708","20 Dry","PKKHI",295672,"2022-11-20","2022-11-24",223.4,"BL"]
[{"$f":"B4262&\":\"&COUNTIF($B$2:B4262,B4262)","v":"HLCUDOH221100570:1"},"HLCUDOH221100570","NIDU5217540","HLCUDOH221100570","40 Dry","PKKHI",295672,"2022-11-20","2022-12-03",223.4,"SW"]
[{"$f":"B4276&\":\"&COUNTIF($B$2:B4276,B4276)","v":"HLCUDOH221100570:15"},"HLCUDOH221100570","HLBU1849980","HLCUDOH221100570","40 Dry","PKKHI",295672,"2022-11-20","2022-12-03",223.4,"SW"]
[{"$f":"B4293&\":\"&COUNTIF($B$2:B4293,B4293)","v":"HLCUDOH221101372:1"},"HLCUDOH221101372","FANU1651683","HLCUDOH221101372","40 Dry","PKKHI",295672,"2022-11-20","2022-12-03",223.4,"BL"]
[{"$f":"B4310&\":\"&COUNTIF($B$2:B4310,B4310)","v":"HLCUDOH221101372:18"},"HLCUDOH221101372","TEMU6996835","HLCUDOH221101372","40 Dry","PKKHI",295672,"2022-11-20","2022-12-03",223.4,"BL"]
[{"$f":"B4326&\":\"&COUNTIF($B$2:B4326,B4326)","v":"HLCUDOH221101814:11"},"HLCUDOH221101814","TCKU6552991","HLCUDOH221101814","40 Dry","PKKHI",292734,"2022-11-25","2022-12-08",224.35,"BL"]
[{"$f":"B4341&\":\"&COUNTIF($B$2:B4341,B4341)","v":"HLCUDOH221101814:26"},"HLCUDOH221101814","HLBU3328446","HLCUDOH221101814","40 Dry","PKKHI",292734,"2022-11-24","2022-12-07",224.35,"BL"]
[{"$f":"B4359&\":\"&COUNTIF($B$2:B4359,B4359)","v":"HLCUDOH221101814:44"},"HLCUDOH221101814","RFCU5028011","HLCUDOH221101814","40 Dry","PKKHI",292734,"2022-11-24","2022-12-07",224.35,"BL"]
[{"$f":"B4360&\":\"&COUNTIF($B$2:B4360,B4360)","v":"HLCUDOH221101814:45"},"HLCUDOH221101814","FANU1529823","HLCUDOH221101814","40 Dry","PKKHI",292734,"2022-11-24","2022-12-07",224.35,"BL"]
[{"$f":"B4390&\":\"&COUNTIF($B$2:B4390,B4390)","v":"HLCUDOH221102236:2"},"HLCUDOH221102236","TCLU8059390","HLCUDOH221102236","40 Dry","PKKHI",292734,"2022-11-24","2022-12-07",224.35,"BL"]
[{"$f":"B4393&\":\"&COUNTIF($B$2:B4393,B4393)","v":"HLCUDOH221102236:5"},"HLCUDOH221102236","FANU1054733","HLCUDOH221102236","40 Dry","PKKHI",292734,"2022-11-25","2022-12-08",224.35,"BL"]
[{"$f":"B4410&\":\"&COUNTIF($B$2:B4410,B4410)","v":"HLCUTOR221002507:4"},"HLCUTOR221002507","FANU3166795","HLCUTOR221002507","40 Dry","PKKHI",292734,"2022-11-24","2022-12-05",224.35,"SW"]
[{"$f":"B4423&\":\"&COUNTIF($B$2:B4423,B4423)","v":"HLCUTOR220936925:1"},"HLCUTOR220936925","HLBU2151417","HLCUTOR220936925","40 Dry","PKKHI",292734,"2022-11-24","2022-12-05",224.35,"SW"]
[{"$f":"B4443&\":\"&COUNTIF($B$2:B4443,B4443)","v":"HLCUJE2221014175:3"},"HLCUJE2221014175","HLBU1660533","HLCUJE2221014175","40 Dry","PKKHI",289613,"2022-11-24","2022-12-14",224.1,"BL"]
[{"$f":"B4454&\":\"&COUNTIF($B$2:B4454,B4454)","v":"HLCUALY221103831:4"},"HLCUALY221103831","UACU4727870","HLCUALY221103831","40 Reefer","PKKHI",289613,"2022-11-24","2022-12-03",224.1,"BL"]
[{"$f":"B4476&\":\"&COUNTIF($B$2:B4476,B4476)","v":"HLCUHAM221093786:4"},"HLCUHAM221093786","TCLU5432221","HLCUHAM221093786","40 Dry","PKKHI",289613,"2022-11-25","2022-12-08",224.1,"BL"]
[{"$f":"B4493&\":\"&COUNTIF($B$2:B4493,B4493)","v":"HLCURUH221002137:4"},"HLCURUH221002137","TCLU9506045","HLCURUH221002137","40 Dry","PKKHI",289613,"2022-11-25","2022-12-15",224.1,"BL"]
[{"$f":"B4503&\":\"&COUNTIF($B$2:B4503,B4503)","v":"HLCUHAM2209BQFJ8:2"},"HLCUHAM2209BQFJ8","TCLU8380374","HLCUHAM2209BQFJ8","40 Dry","PKKHI",289613,"2022-11-24","2022-12-07",224.1,"BL"]
[{"$f":"B4526&\":\"&COUNTIF($B$2:B4526,B4526)","v":"HLCUHAM2209BQEV5:1"},"HLCUHAM2209BQEV5","GESU6393830","HLCUHAM2209BQEV5","40 Dry","PKKHI",289613,"2022-11-24","2022-12-07",224.1,"BL"]
[{"$f":"B4543&\":\"&COUNTIF($B$2:B4543,B4543)","v":"HLCUJE2221016488:1"},"HLCUJE2221016488","CLHU4648689","HLCUJE2221016488","40 Dry","PKKHI",289613,"2022-11-24","2022-12-07",224.1,"BL"]
[{"$f":"B4551&\":\"&COUNTIF($B$2:B4551,B4551)","v":"HLCUJE2221016488:9"},"HLCUJE2221016488","UACU8210947","HLCUJE2221016488","40 Dry","PKKHI",289613,"2022-11-24","2022-12-07",224.1,"BL"]
[{"$f":"B4576&\":\"&COUNTIF($B$2:B4576,B4576)","v":"HLCURTM221046619:1"},"HLCURTM221046619","FDCU0082570","HLCURTM221046619","40 Dry","PKKHI",289613,"2022-11-24","2022-12-07",224.1,"SW"]
[{"$f":"B4583&\":\"&COUNTIF($B$2:B4583,B4583)","v":"HLCURUH221007119:3"},"HLCURUH221007119","HLBU1331374","HLCURUH221007119","40 Dry","PKKHI",289613,"2022-11-24","2022-12-14",224.1,"BL"]
[{"$f":"B4609&\":\"&COUNTIF($B$2:B4609,B4609)","v":"HLCURUH221100224:2"},"HLCURUH221100224","HLXU8331476","HLCURUH221100224","40 Dry","PKKHI",289613,"2022-11-24","2022-12-14",224.1,"BL"]
[{"$f":"B4610&\":\"&COUNTIF($B$2:B4610,B4610)","v":"HLCURUH221100224:3"},"HLCURUH221100224","BEAU5001178","HLCURUH221100224","40 Dry","PKKHI",289613,"2022-11-24","2022-12-14",224.1,"BL"]
[{"$f":"B4631&\":\"&COUNTIF($B$2:B4631,B4631)","v":"HLCUJE2221100293:2"},"HLCUJE2221100293","HLXU5406587","HLCUJE2221100293","40 Dry","PKKHI",289613,"2022-11-24","2022-12-07",224.1,"BL"]
[{"$f":"B4643&\":\"&COUNTIF($B$2:B4643,B4643)","v":"HLCUJE2221016276:1"},"HLCUJE2221016276","TCLU4132889","HLCUJE2221016276","40 Dry","PKKHI",289613,"2022-11-24","2022-12-07",224.1,"BL"]
[{"$f":"B4660&\":\"&COUNTIF($B$2:B4660,B4660)","v":"HLUSPIL221001762:1"},"HLUSPIL221001762","UACU5382032","HLUSPIL221001762","40 Dry","PKKHI",289613,"2022-11-24","2022-11-28",224.1,"SW"]
[{"$f":"B4679&\":\"&COUNTIF($B$2:B4679,B4679)","v":"HLCURTM220920775:1"},"HLCURTM220920775","CAAU5190474","HLCURTM220920775","40 Dry","PKKHI",289613,"2022-11-25","2022-12-04",224.1,"BL"]
[{"$f":"B4693&\":\"&COUNTIF($B$2:B4693,B4693)","v":"HLCUALY221103820:5"},"HLCUALY221103820","CXRU1044570","HLCUALY221103820","40 Reefer","PKKHI",289613,"2022-11-25","2022-12-04",224.1,"BL"]
[{"$f":"B4711&\":\"&COUNTIF($B$2:B4711,B4711)","v":"HLCUBSC221019939:1"},"HLCUBSC221019939","HLBU2679359","HLCUBSC221019939","40 Dry","PKBQM",293158,"2022-11-25","2022-12-06",224.35,"BL"]
[{"$f":"B4726&\":\"&COUNTIF($B$2:B4726,B4726)","v":"HLCUBSC2210BUFZ1:2"},"HLCUBSC2210BUFZ1","HLXU8336396","HLCUBSC2210BUFZ1","40 Dry","PKBQM",293158,"2022-11-26","2022-12-16",224.35,"BL"]
[{"$f":"B4743&\":\"&COUNTIF($B$2:B4743,B4743)","v":"HLCUTOR221016537:1"},"HLCUTOR221016537","BEAU4196666","HLCUTOR221016537","40 Dry","PKBQM",293158,"2022-11-26","2022-12-07",224.35,"SW"]
[{"$f":"B4759&\":\"&COUNTIF($B$2:B4759,B4759)","v":"HLCUTOR221018185:1"},"HLCUTOR221018185","UACU5630524","HLCUTOR221018185","40 Dry","PKBQM",293158,"2022-11-26","2022-12-07",224.35,"SW"]
[{"$f":"B4776&\":\"&COUNTIF($B$2:B4776,B4776)","v":"HLCUTOR221020018:1"},"HLCUTOR221020018","FSCU8237030","HLCUTOR221020018","40 Dry","PKBQM",293158,"2022-11-25","2022-12-06",224.35,"SW"]
[{"$f":"B4793&\":\"&COUNTIF($B$2:B4793,B4793)","v":"HLCUBSC2210BSOI3:7"},"HLCUBSC2210BSOI3","HLBU1259412","HLCUBSC2210BSOI3","40 Dry","PKBQM",293158,"2022-11-25","2022-11-29",224.35,"BL"]
[{"$f":"B4807&\":\"&COUNTIF($B$2:B4807,B4807)","v":"HLCUBSC2210AZEE9:1"},"HLCUBSC2210AZEE9","TEMU3097590","HLCUBSC2210AZEE9","20 Dry","PKBQM",293158,"2022-11-25","2022-12-06",224.35,"SW"]
[{"$f":"B4826&\":\"&COUNTIF($B$2:B4826,B4826)","v":"HLCUTOR221028963:1"},"HLCUTOR221028963","BSIU9868980","HLCUTOR221028963","40 Dry","PKBQM",293158,"2022-11-25","2022-12-06",224.35,"SW"]
[{"$f":"B4839&\":\"&COUNTIF($B$2:B4839,B4839)","v":"HLCUBSC2210APBE2:1"},"HLCUBSC2210APBE2","TCLU2881975","HLCUBSC2210APBE2","20 Dry","PKBQM",293158,"2022-11-25","2022-12-06",224.35,"BL"]
[{"$f":"B4859&\":\"&COUNTIF($B$2:B4859,B4859)","v":"HLCUBSC2210AQWL8:1"},"HLCUBSC2210AQWL8","HLBU3067466","HLCUBSC2210AQWL8","20 Dry","PKBQM",293158,"2022-11-25","2022-12-06",224.35,"BL"]
[{"$f":"B4860&\":\"&COUNTIF($B$2:B4860,B4860)","v":"HLCUBSC2210BABV6:1"},"HLCUBSC2210BABV6","HLXU1085508","HLCUBSC2210BABV6","20 Dry","PKBQM",293158,"2022-11-25","2022-12-06",224.35,"BL"]
[{"$f":"B4887&\":\"&COUNTIF($B$2:B4887,B4887)","v":"HLCUDX3221117485:1"},"HLCUDX3221117485","UACU4776772","HLCUDX3221117485","40 Reefer","PKKHI",294264,"2022-11-25","2022-12-15",224.35,"BL"]
[{"$f":"B4893&\":\"&COUNTIF($B$2:B4893,B4893)","v":"HLCUKW3221100864:5"},"HLCUKW3221100864","HAMU1222012","HLCUKW3221100864","40 Dry","PKKHI",294264,"2022-11-25","2022-12-12",224.35,"BL"]
[{"$f":"B4910&\":\"&COUNTIF($B$2:B4910,B4910)","v":"HLCURUH221100320:3"},"HLCURUH221100320","BEAU4941619","HLCURUH221100320","40 Dry","PKKHI",294264,"2022-11-26","2022-12-16",224.35,"BL"]
[{"$f":"B4935&\":\"&COUNTIF($B$2:B4935,B4935)","v":"HLCURUH221102084:2"},"HLCURUH221102084","BEAU4971613","HLCURUH221102084","40 Dry","PKKHI",294264,"2022-11-25","2022-12-15",224.35,"BL"]
[{"$f":"B4943&\":\"&COUNTIF($B$2:B4943,B4943)","v":"HLCURUH221104185:1"},"HLCURUH221104185","HLXU8347024","HLCURUH221104185","40 Dry","PKKHI",294264,"2022-11-25","2022-12-15",224.35,"BL"]
[{"$f":"B4967&\":\"&COUNTIF($B$2:B4967,B4967)","v":"HLCURUH221008005:6"},"HLCURUH221008005","TCNU9423570","HLCURUH221008005","40 Dry","PKKHI",294264,"2022-11-26","2022-12-16",224.35,"BL"]
[{"$f":"B4976&\":\"&COUNTIF($B$2:B4976,B4976)","v":"HLCUIZ1221037692:5"},"HLCUIZ1221037692","FANU1582474","HLCUIZ1221037692","40 Dry","PKKHI",294264,"2022-11-25","2022-12-08",224.35,"BL"]
[{"$f":"B4993&\":\"&COUNTIF($B$2:B4993,B4993)","v":"HLCURUH221105016:6"},"HLCURUH221105016","GVCU4060849","HLCURUH221105016","40 Dry","PKKHI",294264,"2022-11-25","2022-12-15",224.35,"BL"]
[{"$f":"B5015&\":\"&COUNTIF($B$2:B5015,B5015)","v":"HLCURUH221004216:8"},"HLCURUH221004216","TGBU6065684","HLCURUH221004216","40 Dry","PKKHI",294264,"2022-11-25","2022-12-15",224.35,"BL"]
[{"$f":"B5026&\":\"&COUNTIF($B$2:B5026,B5026)","v":"HLCUIZ1221023249:10"},"HLCUIZ1221023249","HLBU2783620","HLCUIZ1221023249","40 Dry","PKKHI",294264,"2022-11-25","2022-12-08",224.35,"BL"]
[{"$f":"B5043&\":\"&COUNTIF($B$2:B5043,B5043)","v":"HLCURUH221100510:7"},"HLCURUH221100510","HLBU2717844","HLCURUH221100510","40 Dry","PKKHI",294264,"2022-11-25","2022-12-15",224.35,"BL"]
[{"$f":"B5048&\":\"&COUNTIF($B$2:B5048,B5048)","v":"HLCUKW3221100897:3"},"HLCUKW3221100897","SEGU6891015","HLCUKW3221100897","40 Dry","PKKHI",294264,"2022-11-25","2022-12-12",224.35,"BL"]
[{"$f":"B5076&\":\"&COUNTIF($B$2:B5076,B5076)","v":"HLCUIZ1221045269:19"},"HLCUIZ1221045269","UETU5278866","HLCUIZ1221045269","40 Dry","PKKHI",294264,"2022-11-25","2022-12-08",224.35,"BL"]
[{"$f":"B5080&\":\"&COUNTIF($B$2:B5080,B5080)","v":"HLCURUH221008133:2"},"HLCURUH221008133","FANU1704989","HLCURUH221008133","40 Dry","PKKHI",294264,"2022-11-25","2022-12-15",224.35,"BL"]
[{"$f":"B5109&\":\"&COUNTIF($B$2:B5109,B5109)","v":"HLCURUH221101355:3"},"HLCURUH221101355","HAMU1304131","HLCURUH221101355","40 Dry","PKKHI",294264,"2022-11-26","2022-12-16",224.35,"BL"]
[{"$f":"B5110&\":\"&COUNTIF($B$2:B5110,B5110)","v":"HLCURUH221101355:4"},"HLCURUH221101355","HLXU8149501","HLCURUH221101355","40 Dry","PKKHI",294264,"2022-11-26","2022-12-16",224.35,"BL"]
[{"$f":"B5128&\":\"&COUNTIF($B$2:B5128,B5128)","v":"HLCURUH221008166:4"},"HLCURUH221008166","GESU6508502","HLCURUH221008166","40 Dry","PKKHI",294264,"2022-11-26","2022-12-16",224.35,"BL"]
[{"$f":"B5143&\":\"&COUNTIF($B$2:B5143,B5143)","v":"HLCURUH221008199:5"},"HLCURUH221008199","TGHU6219760","HLCURUH221008199","40 Dry","PKKHI",294264,"2022-11-26","2022-12-16",224.35,"BL"]
[{"$f":"B5160&\":\"&COUNTIF($B$2:B5160,B5160)","v":"HLCURUH221104090:3"},"HLCURUH221104090","TGHU9364530","HLCURUH221104090","40 Dry","PKKHI",294264,"2022-11-25","2022-12-15",224.35,"BL"]
[{"$f":"B5176&\":\"&COUNTIF($B$2:B5176,B5176)","v":"HLCURUH221101300:2"},"HLCURUH221101300","HLXU5343909","HLCURUH221101300","40 Dry","PKKHI",294264,"2022-11-26","2022-12-16",224.35,"BL"]
[{"$f":"B5193&\":\"&COUNTIF($B$2:B5193,B5193)","v":"HLCUDX3221122707:1"},"HLCUDX3221122707","CXRU1582154","HLCUDX3221122707","40 Reefer","PKKHI",294264,"2022-11-25","2022-12-15",224.35,"BL"]
[{"$f":"B5208&\":\"&COUNTIF($B$2:B5208,B5208)","v":"HLCUKW3221100356:4"},"HLCUKW3221100356","TCNU5537976","HLCUKW3221100356","40 Dry","PKKHI",294264,"2022-11-25","2022-12-12",224.35,"BL"]
[{"$f":"B5226&\":\"&COUNTIF($B$2:B5226,B5226)","v":"HLCURUH221004121:8"},"HLCURUH221004121","GESU5603906","HLCURUH221004121","40 Dry","PKKHI",294264,"2022-11-25","2022-12-15",224.35,"BL"]
[{"$f":"B5243&\":\"&COUNTIF($B$2:B5243,B5243)","v":"HLCUIZ1221061026:4"},"HLCUIZ1221061026","UACU6007967","HLCUIZ1221061026","40 Dry","PKKHI",294264,"2022-11-25","2022-12-08",224.35,"BL"]
[{"$f":"B5256&\":\"&COUNTIF($B$2:B5256,B5256)","v":"HLCURUH221100520:6"},"HLCURUH221100520","TCLU8328102","HLCURUH221100520","40 Dry","PKKHI",294264,"2022-11-26","2022-12-16",224.35,"BL"]
[{"$f":"B5276&\":\"&COUNTIF($B$2:B5276,B5276)","v":"HLCUIZ1221020302:10"},"HLCUIZ1221020302","UASU1069459","HLCUIZ1221020302","40 Dry","PKKHI",294264,"2022-11-25","2022-12-08",224.35,"BL"]
[{"$f":"B5293&\":\"&COUNTIF($B$2:B5293,B5293)","v":"HLCUGOA221030034:5"},"HLCUGOA221030034","TCLU7294610","HLCUGOA221030034","20 Dry","PKBQM",964965,"2022-11-26","2022-12-07",224.35,"BL"]
[{"$f":"B5304&\":\"&COUNTIF($B$2:B5304,B5304)","v":"HLCUGOA2209ARJO2:2"},"HLCUGOA2209ARJO2","CAIU6366508","HLCUGOA2209ARJO2","20 Dry","PKBQM",964965,"2022-11-26","2022-12-07",224.35,"BL"]
[{"$f":"B5326&\":\"&COUNTIF($B$2:B5326,B5326)","v":"HLCUGOA2209AXNM7:2"},"HLCUGOA2209AXNM7","UETU2839109","HLCUGOA2209AXNM7","20 Dry","PKBQM",964965,"2022-11-26","2022-12-07",224.35,"BL"]
[{"$f":"B5336&\":\"&COUNTIF($B$2:B5336,B5336)","v":"HLCUVL1221024449:2"},"HLCUVL1221024449","TCLU8529534","HLCUVL1221024449","40 Dry","PKBQM",964965,"2022-11-26","2022-12-09",224.35,"BL"]
[{"$f":"B5359&\":\"&COUNTIF($B$2:B5359,B5359)","v":"HLCUANR220984222:3"},"HLCUANR220984222","FANU1591481","HLCUANR220984222","40 Dry","PKBQM",289607,"2022-11-27","2022-12-01",224.35,"BL"]
[{"$f":"B5360&\":\"&COUNTIF($B$2:B5360,B5360)","v":"HLCURTM221054167:1"},"HLCURTM221054167","HLBU3347425","HLCURTM221054167","40 Dry","PKBQM",289607,"2022-11-27","2022-12-10",224.35,"BL"]
[{"$f":"B5384&\":\"&COUNTIF($B$2:B5384,B5384)","v":"HLCUIZ1221071000:1"},"HLCUIZ1221071000","BMOU5827992","HLCUIZ1221071000","40 Dry","PKKHI",291499,"2022-11-27","2022-12-01",224.35,"BL"]
[{"$f":"B5393&\":\"&COUNTIF($B$2:B5393,B5393)","v":"HLCUALY221102598:5"},"HLCUALY221102598","TRIU8074070","HLCUALY221102598","40 Reefer","PKKHI",291499,"2022-11-27","2022-12-06",224.35,"BL"]
[{"$f":"B5410&\":\"&COUNTIF($B$2:B5410,B5410)","v":"HLCUPRG220915073:1"},"HLCUPRG220915073","BMOU5621954","HLCUPRG220915073","40 Dry","PKKHI",291499,"2022-11-27","2022-12-03",224.35,"BL"]
[{"$f":"B5432&\":\"&COUNTIF($B$2:B5432,B5432)","v":"HLCUGOA221025232:1"},"HLCUGOA221025232","TGHU9099720","HLCUGOA221025232","40 Dry","PKKHI",291499,"2022-11-27","2022-12-06",224.35,"SW"]
[{"$f":"B5443&\":\"&COUNTIF($B$2:B5443,B5443)","v":"HLCUALY221102521:1"},"HLCUALY221102521","HLBU9538476","HLCUALY221102521","40 Reefer","PKKHI",291499,"2022-11-27","2022-12-06",224.35,"BL"]
[{"$f":"B5464&\":\"&COUNTIF($B$2:B5464,B5464)","v":"HLCUGOA221076979:1"},"HLCUGOA221076979","CAIU3372446","HLCUGOA221076979","20 Dry","PKKHI",291499,"2022-11-27","2022-12-03",224.35,"BL"]
[{"$f":"B5476&\":\"&COUNTIF($B$2:B5476,B5476)","v":"HLCUALY221100983:3"},"HLCUALY221100983","HLBU9074117","HLCUALY221100983","40 Reefer","PKKHI",291499,"2022-11-27","2022-12-06",224.35,"BL"]
[{"$f":"B5493&\":\"&COUNTIF($B$2:B5493,B5493)","v":"HLCUGOA221075614:1"},"HLCUGOA221075614","TGHU1114200","HLCUGOA221075614","20 Dry","PKKHI",291499,"2022-11-27","2022-12-03",224.35,"SW"]
[{"$f":"B5512&\":\"&COUNTIF($B$2:B5512,B5512)","v":"HLCUALY221103769:4"},"HLCUALY221103769","HLXU8761707","HLCUALY221103769","40 Reefer","PKKHI",291499,"2022-11-27","2022-12-04",224.35,"BL"]
[{"$f":"B5526&\":\"&COUNTIF($B$2:B5526,B5526)","v":"HLCUALY221103886:8"},"HLCUALY221103886","HLBU9424787","HLCUALY221103886","40 Reefer","PKKHI",291499,"2022-11-27","2022-12-06",224.35,"BL"]
[{"$f":"B5543&\":\"&COUNTIF($B$2:B5543,B5543)","v":"HLCUALY221102700:1"},"HLCUALY221102700","SEGU9418900","HLCUALY221102700","40 Reefer","PKKHI",291499,"2022-11-27","2022-12-06",224.35,"BL"]
[{"$f":"B5560&\":\"&COUNTIF($B$2:B5560,B5560)","v":"HLCUDOH221102755:5"},"HLCUDOH221102755","HLBU1169324","HLCUDOH221102755","40 Dry","PKKHI",295676,"2022-11-27","2022-12-01",225.35,"BL"]
[{"$f":"B5576&\":\"&COUNTIF($B$2:B5576,B5576)","v":"HLCUJE2221101102:1"},"HLCUJE2221101102","FBLU0123923","HLCUJE2221101102","40 Dry","PKBQM",293448,"2022-12-01","2022-12-14",225.6,"SW"]
[{"$f":"B5592&\":\"&COUNTIF($B$2:B5592,B5592)","v":"HLCUBSC2209BTEF8:1"},"HLCUBSC2209BTEF8","GESU3327223","HLCUBSC2209BTEF8","20 Dry","PKBQM",293448,"2022-12-01","2022-12-12",225.6,"BL"]
[{"$f":"B5609&\":\"&COUNTIF($B$2:B5609,B5609)","v":"HLCUANR220950010:15"},"HLCUANR220950010","UACU3761947","HLCUANR220950010","20 Dry","PKBQM",293448,"2022-12-01","2022-12-10",225.6,"BL"]
[{"$f":"B5610&\":\"&COUNTIF($B$2:B5610,B5610)","v":"HLCUANR220950010:16"},"HLCUANR220950010","UACU3988632","HLCUANR220950010","20 Dry","PKBQM",293448,"2022-12-01","2022-12-10",225.6,"BL"]
[{"$f":"B5640&\":\"&COUNTIF($B$2:B5640,B5640)","v":"HLCUTOR221022386:2"},"HLCUTOR221022386","FANU1897620","HLCUTOR221022386","40 Dry","PKBQM",293448,"2022-12-01","2022-12-12",225.6,"BL"]
[{"$f":"B5643&\":\"&COUNTIF($B$2:B5643,B5643)","v":"HLCUTOR221022386:5"},"HLCUTOR221022386","HLXU8038679","HLCUTOR221022386","40 Dry","PKBQM",293448,"2022-12-01","2022-12-12",225.6,"BL"]
[{"$f":"B5660&\":\"&COUNTIF($B$2:B5660,B5660)","v":"HLCUBSC221063002:1"},"HLCUBSC221063002","HLXU3546553","HLCUBSC221063002","20 Dry","PKBQM",293448,"2022-12-01","2022-12-17",225.6,"BL"]
[{"$f":"B5673&\":\"&COUNTIF($B$2:B5673,B5673)","v":"HLCUBSC2210BDWU0:1"},"HLCUBSC2210BDWU0","CXDU1800842","HLCUBSC2210BDWU0","20 Dry","PKBQM",293448,"2022-12-01","2022-12-12",225.6,"BL"]
[{"$f":"B5693&\":\"&COUNTIF($B$2:B5693,B5693)","v":"HLCUMTR221009660:1"},"HLCUMTR221009660","UACU5939560","HLCUMTR221009660","40 Dry","PKBQM",293448,"2022-12-01","2022-12-12",225.6,"SW"]
[{"$f":"B5705&\":\"&COUNTIF($B$2:B5705,B5705)","v":"HLCUBSC2210BDKY9:1"},"HLCUBSC2210BDKY9","GCXU5086680","HLCUBSC2210BDKY9","40 Dry","PKBQM",293448,"2022-12-01","2022-12-12",225.6,"BL"]
[{"$f":"B5726&\":\"&COUNTIF($B$2:B5726,B5726)","v":"HLCUBSC2210BDWZ6:2"},"HLCUBSC2210BDWZ6","UACU3853030","HLCUBSC2210BDWZ6","20 Dry","PKBQM",293448,"2022-12-01","2022-12-12",225.6,"SW"]
[{"$f":"B5743&\":\"&COUNTIF($B$2:B5743,B5743)","v":"HLCUBSC2210BDSZ9:1"},"HLCUBSC2210BDSZ9","UACU3403455","HLCUBSC2210BDSZ9","20 Dry","PKBQM",293448,"2022-12-01","2022-12-12",225.6,"BL"]
[{"$f":"B5753&\":\"&COUNTIF($B$2:B5753,B5753)","v":"HLCUBSC2210BJDI0:2"},"HLCUBSC2210BJDI0","TRHU4718850","HLCUBSC2210BJDI0","40 Dry","PKBQM",293448,"2022-12-01","2022-12-12",225.6,"BL"]
[{"$f":"B5776&\":\"&COUNTIF($B$2:B5776,B5776)","v":"HLCUBSC2210BDPS5:1"},"HLCUBSC2210BDPS5","FDCU0080670","HLCUBSC2210BDPS5","40 Dry","PKBQM",293448,"2022-12-01","2022-12-12",225.6,"BL"]
[{"$f":"B5793&\":\"&COUNTIF($B$2:B5793,B5793)","v":"HLCUBSC2209BPMD4:13"},"HLCUBSC2209BPMD4","GLDU5407160","HLCUBSC2209BPMD4","20 Dry","PKBQM",293448,"2022-12-01","2022-12-12",225.6,"BL"]
[{"$f":"B5801&\":\"&COUNTIF($B$2:B5801,B5801)","v":"HLCUBSC2210BBXM3:8"},"HLCUBSC2210BBXM3","TCKU2091309","HLCUBSC2210BBXM3","20 Dry","PKBQM",293448,"2022-12-01","2022-12-12",225.6,"BL"]
[{"$f":"B5826&\":\"&COUNTIF($B$2:B5826,B5826)","v":"HLCUBSC2210BOQH2:5"},"HLCUBSC2210BOQH2","CAIU2648381","HLCUBSC2210BOQH2","20 Dry","PKBQM",293448,"2022-12-01","2022-12-12",225.6,"BL"]
[{"$f":"B5833&\":\"&COUNTIF($B$2:B5833,B5833)","v":"HLCUBSC2210BEUV9:3"},"HLCUBSC2210BEUV9","SEGU3571424","HLCUBSC2210BEUV9","20 Dry","PKBQM",293448,"2022-12-01","2022-12-12",225.6,"BL"]
[{"$f":"B5859&\":\"&COUNTIF($B$2:B5859,B5859)","v":"HLCUANR220835309:2"},"HLCUANR220835309","BEAU2098980","HLCUANR220835309","20 Dry","PKBQM",293448,"2022-12-01","2022-12-10",225.6,"BL"]
[{"$f":"B5860&\":\"&COUNTIF($B$2:B5860,B5860)","v":"HLCUANR220835309:3"},"HLCUANR220835309","UACU4035189","HLCUANR220835309","20 Dry","PKBQM",293448,"2022-12-01","2022-12-10",225.6,"BL"]
[{"$f":"B5881&\":\"&COUNTIF($B$2:B5881,B5881)","v":"HLCUANR221011828:7"},"HLCUANR221011828","HAMU1127524","HLCUANR221011828","20 Dry","PKBQM",293448,"2022-12-01","2022-12-10",225.6,"BL"]
[{"$f":"B5893&\":\"&COUNTIF($B$2:B5893,B5893)","v":"HLCUTOR221017127:1"},"HLCUTOR221017127","UACU5777942","HLCUTOR221017127","40 Dry","PKBQM",293160,"2022-12-02","2022-12-13",225.65,"SW"]
[{"$f":"B5910&\":\"&COUNTIF($B$2:B5910,B5910)","v":"HLCUTOR221029900:2"},"HLCUTOR221029900","HLXU8257342","HLCUTOR221029900","40 Dry","PKBQM",293160,"2022-12-02","2022-12-13",225.65,"SW"]
[{"$f":"B5929&\":\"&COUNTIF($B$2:B5929,B5929)","v":"HLCUBSC2210BLXW3:9"},"HLCUBSC2210BLXW3","UACU8490909","HLCUBSC2210BLXW3","40 Dry","PKBQM",293160,"2022-12-02","2022-12-06",225.65,"BL"]
[{"$f":"B5943&\":\"&COUNTIF($B$2:B5943,B5943)","v":"HLCUBSC2210BNKZ0:1"},"HLCUBSC2210BNKZ0","TEMU1611870","HLCUBSC2210BNKZ0","20 Dry","PKBQM",293160,"2022-12-02","2022-12-13",225.65,"BL"]
[{"$f":"B5960&\":\"&COUNTIF($B$2:B5960,B5960)","v":"HLCUBSC2210BDVR2:2"},"HLCUBSC2210BDVR2","UACU3721137","HLCUBSC2210BDVR2","20 Dry","PKBQM",293160,"2022-12-02","2022-12-13",225.65,"BL"]
[{"$f":"B5978&\":\"&COUNTIF($B$2:B5978,B5978)","v":"HLCUBSC2210BFCX0:6"},"HLCUBSC2210BFCX0","FSCU7104270","HLCUBSC2210BFCX0","40 Dry","PKBQM",293160,"2022-12-02","2022-12-15",225.65,"BL"]
[{"$f":"B5993&\":\"&COUNTIF($B$2:B5993,B5993)","v":"HLCUBSC2209BPZM0:1"},"HLCUBSC2209BPZM0","UETU5128439","HLCUBSC2209BPZM0","40 Dry","PKBQM",293160,"2022-12-02","2022-12-13",225.65,"SW"]
[{"$f":"B6009&\":\"&COUNTIF($B$2:B6009,B6009)","v":"HLCUTOR221027792:5"},"HLCUTOR221027792","TGHU9192318","HLCUTOR221027792","40 Dry","PKBQM",293160,"2022-12-02","2022-12-13",225.65,"SW"]
[{"$f":"B6026&\":\"&COUNTIF($B$2:B6026,B6026)","v":"HLCUBSC2210BNBH2:1"},"HLCUBSC2210BNBH2","TCLU8121753","HLCUBSC2210BNBH2","40 Dry","PKBQM",293160,"2022-12-02","2022-12-06",225.65,"SW"]
[{"$f":"B6043&\":\"&COUNTIF($B$2:B6043,B6043)","v":"HLCUBSC2210BRRQ5:3"},"HLCUBSC2210BRRQ5","HLBU1937124","HLCUBSC2210BRRQ5","40 Dry","PKBQM",293160,"2022-12-02","2022-12-19",225.65,"BL"]
[{"$f":"B6057&\":\"&COUNTIF($B$2:B6057,B6057)","v":"HLCUMCT221102620:4"},"HLCUMCT221102620","HLBU1362101","HLCUMCT221102620","40 Dry","PKKHI",294266,"2022-12-03","2022-12-16",225.65,"BL"]
[{"$f":"B6076&\":\"&COUNTIF($B$2:B6076,B6076)","v":"HLCUDM2221100367:9"},"HLCUDM2221100367","FFAU1199728","HLCUDM2221100367","40 Dry","PKKHI",294266,"2022-12-03","2022-12-23",225.65,"BL"]
[{"$f":"B6093&\":\"&COUNTIF($B$2:B6093,B6093)","v":"HLCUDX3221124388:1"},"HLCUDX3221124388","FANU3206270","HLCUDX3221124388","40 Dry","PKKHI",294266,"2022-12-03","2022-12-16",225.65,"BL"]
[{"$f":"B6106&\":\"&COUNTIF($B$2:B6106,B6106)","v":"HLCUDX3221134000:1"},"HLCUDX3221134000","HLXU8082521","HLCUDX3221134000","40 Dry","PKKHI",294266,"2022-12-02","2022-12-15",225.65,"SW"]
[{"$f":"B6110&\":\"&COUNTIF($B$2:B6110,B6110)","v":"HLCUMCT221102217:4"},"HLCUMCT221102217","HLBU2117080","HLCUMCT221102217","40 Dry","PKKHI",294266,"2022-12-03","2022-12-16",225.65,"BL"]
[{"$f":"B6137&\":\"&COUNTIF($B$2:B6137,B6137)","v":"HLCURUH221106443:7"},"HLCURUH221106443","BMOU5626318","HLCURUH221106443","40 Dry","PKKHI",294266,"2022-12-03","2022-12-23",225.65,"BL"]
[{"$f":"B6143&\":\"&COUNTIF($B$2:B6143,B6143)","v":"HLCUDX3221134289:3"},"HLCUDX3221134289","HLBU9327072","HLCUDX3221134289","40 Reefer","PKKHI",294266,"2022-12-03","2022-12-23",225.65,"BL"]
[{"$f":"B6160&\":\"&COUNTIF($B$2:B6160,B6160)","v":"HLCUMCT221102239:6"},"HLCUMCT221102239","TCLU1459939","HLCUMCT221102239","40 Dry","PKKHI",294266,"2022-12-03","2022-12-16",225.65,"BL"]
[{"$f":"B6185&\":\"&COUNTIF($B$2:B6185,B6185)","v":"HLCUMCT221102608:2"},"HLCUMCT221102608","UACU5970458","HLCUMCT221102608","40 Dry","PKKHI",294266,"2022-12-03","2022-12-16",225.65,"BL"]
[{"$f":"B6193&\":\"&COUNTIF($B$2:B6193,B6193)","v":"HLCURTM220939977:4"},"HLCURTM220939977","UACU8141620","HLCURTM220939977","40 Dry","PKKHI",294266,"2022-12-02","2022-12-15",225.65,"BL"]
[{"$f":"B6210&\":\"&COUNTIF($B$2:B6210,B6210)","v":"HLCUIZ1221075893:17"},"HLCUIZ1221075893","FANU1998163","HLCUIZ1221075893","40 Dry","PKKHI",294266,"2022-12-03","2022-12-16",225.65,"BL"]
[{"$f":"B6234&\":\"&COUNTIF($B$2:B6234,B6234)","v":"HLCUKW3221101571:12"},"HLCUKW3221101571","CAIU9056532","HLCUKW3221101571","40 Dry","PKKHI",294266,"2022-12-03","2022-12-20",225.65,"BL"]
[{"$f":"B6243&\":\"&COUNTIF($B$2:B6243,B6243)","v":"HLCURUH221100213:4"},"HLCURUH221100213","UASU1056235","HLCURUH221100213","40 Dry","PKKHI",294266,"2022-12-02","2022-12-22",225.65,"BL"]
[{"$f":"B6265&\":\"&COUNTIF($B$2:B6265,B6265)","v":"HLCUBU3220912518:2"},"HLCUBU3220912518","HLBU2936293","HLCUBU3220912518","20 Dry","PKKHI",294266,"2022-12-03","2022-12-12",225.65,"BL"]
[{"$f":"B6276&\":\"&COUNTIF($B$2:B6276,B6276)","v":"HLCUTB2221005060:1"},"HLCUTB2221005060","UASU1056507","HLCUTB2221005060","40 Dry","PKKHI",294266,"2022-12-03","2022-12-09",225.65,"SW"]
[{"$f":"B6293&\":\"&COUNTIF($B$2:B6293,B6293)","v":"HLCURUH221104353:1"},"HLCURUH221104353","FANU1933368","HLCURUH221104353","40 Dry","PKKHI",294266,"2022-12-03","2022-12-23",225.65,"BL"]
[{"$f":"B6299&\":\"&COUNTIF($B$2:B6299,B6299)","v":"HLCURUH221106582:1"},"HLCURUH221106582","BEAU5367676","HLCURUH221106582","40 Dry","PKKHI",294266,"2022-12-03","2022-12-23",225.65,"BL"]
[{"$f":"B6326&\":\"&COUNTIF($B$2:B6326,B6326)","v":"HLCUBC1221015510:1"},"HLCUBC1221015510","TXGU7173602","HLCUBC1221015510","40 Dry","PKBQM",964960,"2022-12-03","2022-12-16",225.65,"BL"]
[{"$f":"B6343&\":\"&COUNTIF($B$2:B6343,B6343)","v":"HLCUIZ1221081007:2"},"HLCUIZ1221081007","TLLU5276472","HLCUIZ1221081007","40 Dry","PKBQM",964960,"2022-12-03","2022-12-16",225.65,"BL"]
[{"$f":"B6347&\":\"&COUNTIF($B$2:B6347,B6347)","v":"HLCUIZ1221081007:6"},"HLCUIZ1221081007","HLBU2055774","HLCUIZ1221081007","40 Dry","PKBQM",964960,"2022-12-03","2022-12-16",225.65,"BL"]
[{"$f":"B6360&\":\"&COUNTIF($B$2:B6360,B6360)","v":"HLCUPZU221100012:1"},"HLCUPZU221100012","TCLU2382976","HLCUPZU221100012","20 Dry","PKKHI",291501,"2022-12-04","2022-12-13",225.65,"BL"]
[{"$f":"B6378&\":\"&COUNTIF($B$2:B6378,B6378)","v":"HLCUJE2221104769:1"},"HLCUJE2221104769","FCIU9164005","HLCUJE2221104769","40 Dry","PKKHI",291501,"2022-12-04","2022-12-17",225.65,"SW"]
[{"$f":"B6393&\":\"&COUNTIF($B$2:B6393,B6393)","v":"HLCUALY221108148:2"},"HLCUALY221108148","HLBU9278168","HLCUALY221108148","40 Reefer","PKKHI",291501,"2022-12-04","2022-12-13",225.65,"BL"]
[{"$f":"B6410&\":\"&COUNTIF($B$2:B6410,B6410)","v":"HLCULBV220900439:2"},"HLCULBV220900439","TEMU6762396","HLCULBV220900439","40 Dry","PKKHI",291501,"2022-12-04","2022-12-08",225.65,"BL"]
[{"$f":"B6427&\":\"&COUNTIF($B$2:B6427,B6427)","v":"HLCUGOA221047632:1"},"HLCUGOA221047632","DRYU9605741","HLCUGOA221047632","40 Dry","PKKHI",291501,"2022-12-04","2022-12-17",225.65,"SW"]
[{"$f":"B6443&\":\"&COUNTIF($B$2:B6443,B6443)","v":"HLCULE1221079501:1"},"HLCULE1221079501","HLXU1196630","HLCULE1221079501","20 Dry","PKKHI",291501,"2022-12-04","2022-12-08",225.65,"BL"]
[{"$f":"B6460&\":\"&COUNTIF($B$2:B6460,B6460)","v":"HLCUJE2221102244:5"},"HLCUJE2221102244","HLXU8303005","HLCUJE2221102244","40 Dry","PKKHI",291501,"2022-12-04","2022-12-17",225.65,"BL"]
[{"$f":"B6475&\":\"&COUNTIF($B$2:B6475,B6475)","v":"HLCUPZU221100414:1"},"HLCUPZU221100414","TCLU2866923","HLCUPZU221100414","20 Dry","PKKHI",291501,"2022-12-04","2022-12-13",225.65,"BL"]
[{"$f":"B6493&\":\"&COUNTIF($B$2:B6493,B6493)","v":"HLCUALY221027541:1"},"HLCUALY221027541","HLXU3518567","HLCUALY221027541","20 Dry","PKKHI",291501,"2022-12-04","2022-12-08",225.65,"BL"]
[{"$f":"B6507&\":\"&COUNTIF($B$2:B6507,B6507)","v":"HLCUBC1221034034:2"},"HLCUBC1221034034","UACU4099603","HLCUBC1221034034","20 Dry","PKKHI",291501,"2022-12-04","2022-12-13",225.65,"BL"]
[{"$f":"B6526&\":\"&COUNTIF($B$2:B6526,B6526)","v":"HLCUDOH221103747:2"},"HLCUDOH221103747","HLBU1537046","HLCUDOH221103747","40 Dry","PKKHI",295678,"2022-12-04","2022-12-24",225.6,"BL"]
[{"$f":"B6543&\":\"&COUNTIF($B$2:B6543,B6543)","v":"HLCUSYD220878933:1"},"HLCUSYD220878933","TGBU9625910","HLCUSYD220878933","40 Dry","PKKHI",295678,"2022-12-04","2022-12-17",225.6,"SW"]
[{"$f":"B6555&\":\"&COUNTIF($B$2:B6555,B6555)","v":"HLCUPNE220900214:2"},"HLCUPNE220900214","BMOU6660657","HLCUPNE220900214","40 Dry","PKKHI",295678,"2022-12-04","2022-12-08",225.6,"BL"]
[{"$f":"B6576&\":\"&COUNTIF($B$2:B6576,B6576)","v":"HLCUDA3221001688:5"},"HLCUDA3221001688","TGHU0486625","HLCUDA3221001688","20 Dry","PKKHI",295678,"2022-12-04","2022-12-08",225.6,"BL"]
[{"$f":"B6593&\":\"&COUNTIF($B$2:B6593,B6593)","v":"HLCUSYD220879165:2"},"HLCUSYD220879165","UACU5691854","HLCUSYD220879165","40 Dry","PKKHI",295678,"2022-12-04","2022-12-17",225.6,"SW"]
[{"$f":"B6603&\":\"&COUNTIF($B$2:B6603,B6603)","v":"HLCUBSC2210BJRR1:1"},"HLCUBSC2210BJRR1","FANU1905875","HLCUBSC2210BJRR1","40 Dry","PKKHI",295678,"2022-12-04","2022-12-15",225.6,"SW"]
[{"$f":"B6610&\":\"&COUNTIF($B$2:B6610,B6610)","v":"HLCUBSC2210BVRD6:1"},"HLCUBSC2210BVRD6","FANU1314506","HLCUBSC2210BVRD6","40 Dry","PKKHI",295678,"2022-12-04","2022-12-15",225.6,"SW"]
[{"$f":"B6635&\":\"&COUNTIF($B$2:B6635,B6635)","v":"HLCUDOH221102967:8"},"HLCUDOH221102967","TGBU9636494","HLCUDOH221102967","40 Dry","PKKHI",295678,"2022-12-04","2022-12-17",225.6,"BL"]
[{"$f":"B6643&\":\"&COUNTIF($B$2:B6643,B6643)","v":"HLCUDA3220905577:4"},"HLCUDA3220905577","HLXU8127713","HLCUDA3220905577","40 Dry","PKKHI",295678,"2022-12-04","2022-12-13",225.6,"BL"]
[{"$f":"B6660&\":\"&COUNTIF($B$2:B6660,B6660)","v":"HLCUDOH221104074:6"},"HLCUDOH221104074","UACU5915928","HLCUDOH221104074","40 Dry","PKKHI",295678,"2022-12-04","2022-12-24",225.6,"BL"]
[{"$f":"B6683&\":\"&COUNTIF($B$2:B6683,B6683)","v":"HLCURTM220983095:2"},"HLCURTM220983095","HLBU2947976","HLCURTM220983095","20 Dry","PKBQM",290977,"2022-12-04","2022-12-18",225.65,"SW"]
[{"$f":"B6693&\":\"&COUNTIF($B$2:B6693,B6693)","v":"HLCUANR220953487:8"},"HLCUANR220953487","FCIU6293797","HLCUANR220953487","20 Dry","PKBQM",290977,"2022-12-04","2022-12-13",225.65,"BL"]
[{"$f":"B6710&\":\"&COUNTIF($B$2:B6710,B6710)","v":"HLCUANR221078562:5"},"HLCUANR221078562","UACU3762964","HLCUANR221078562","20 Dry","PKBQM",290977,"2022-12-04","2022-12-13",225.65,"BL"]
[{"$f":"B6731&\":\"&COUNTIF($B$2:B6731,B6731)","v":"HLUSPIL221001499:5"},"HLUSPIL221001499","HLBU1411989","HLUSPIL221001499","40 Dry","PKBQM",290977,"2022-12-04","2022-12-08",225.65,"SW"]
[{"$f":"B6743&\":\"&COUNTIF($B$2:B6743,B6743)","v":"HLCUBC1221050873:3"},"HLCUBC1221050873","SEGU3624083","HLCUBC1221050873","20 Dry","PKBQM",290977,"2022-12-04","2022-12-10",225.65,"BL"]
[{"$f":"B6763&\":\"&COUNTIF($B$2:B6763,B6763)","v":"HLCUDX3221140620:1"},"HLCUDX3221140620","HLXU3614405","HLCUDX3221140620","20 Special","PKKHI",292736,"2022-12-08","2022-12-21",225.65,"SW"]
[{"$f":"B6776&\":\"&COUNTIF($B$2:B6776,B6776)","v":"HLCUBU3221000332:1"},"HLCUBU3221000332","FTAU1192891","HLCUBU3221000332","20 Dry","PKKHI",292736,"2022-12-07","2022-12-11",225.65,"BL"]
[{"$f":"B6793&\":\"&COUNTIF($B$2:B6793,B6793)","v":"HLCUDOH221103948:2"},"HLCUDOH221103948","GESU6506161","HLCUDOH221103948","40 Dry","PKKHI",292736,"2022-12-07","2022-12-20",225.65,"SW"]
[{"$f":"B6811&\":\"&COUNTIF($B$2:B6811,B6811)","v":"HLCUALY221112689:7"},"HLCUALY221112689","HLBU9419760","HLCUALY221112689","40 Reefer","PKKHI",289615,"2022-12-07","2022-12-14",225.65,"BL"]
[{"$f":"B6826&\":\"&COUNTIF($B$2:B6826,B6826)","v":"HLCULIV2209APJS0:1"},"HLCULIV2209APJS0","UACU3926374","HLCULIV2209APJS0","20 Dry","PKKHI",289615,"2022-12-07","2022-12-11",225.65,"BL"]
[{"$f":"B6843&\":\"&COUNTIF($B$2:B6843,B6843)","v":"HLCUALY221111982:1"},"HLCUALY221111982","HLBU9722837","HLCUALY221111982","40 Reefer","PKKHI",289615,"2022-12-07","2022-12-14",225.65,"BL"]
[{"$f":"B6859&\":\"&COUNTIF($B$2:B6859,B6859)","v":"HLCUANR221009008:2"},"HLCUANR221009008","FCIU7622639","HLCUANR221009008","40 Dry","PKKHI",289615,"2022-12-07","2022-12-20",225.65,"BL"]
[{"$f":"B6860&\":\"&COUNTIF($B$2:B6860,B6860)","v":"HLCUANR221009008:3"},"HLCUANR221009008","FFAU1784039","HLCUANR221009008","40 Dry","PKKHI",289615,"2022-12-07","2022-12-20",225.65,"BL"]
[{"$f":"B6876&\":\"&COUNTIF($B$2:B6876,B6876)","v":"HLCUHAM2209BDWS2:2"},"HLCUHAM2209BDWS2","UACU5723669","HLCUHAM2209BDWS2","40 Dry","PKKHI",289615,"2022-12-07","2022-12-20",225.65,"SW"]
[{"$f":"B6893&\":\"&COUNTIF($B$2:B6893,B6893)","v":"HLCUHAM2209BDWS2:19"},"HLCUHAM2209BDWS2","HLXU8341427","HLCUHAM2209BDWS2","40 Dry","PKKHI",289615,"2022-12-07","2022-12-20",225.65,"SW"]
[{"$f":"B6910&\":\"&COUNTIF($B$2:B6910,B6910)","v":"HLCUJE2221100780:10"},"HLCUJE2221100780","TGBU5865569","HLCUJE2221100780","40 Dry","PKKHI",289615,"","",225.65,"BL"]
[{"$f":"B6924&\":\"&COUNTIF($B$2:B6924,B6924)","v":"HLCUBEL220904764:1"},"HLCUBEL220904764","CAIU8977893","HLCUBEL220904764","40 Dry","PKKHI",289615,"2022-12-07","2022-12-16",225.65,"BL"]
[{"$f":"B6943&\":\"&COUNTIF($B$2:B6943,B6943)","v":"HLCUTOR221008938:1"},"HLCUTOR221008938","TCNU7934530","HLCUTOR221008938","40 Dry","PKKHI",289615,"2022-12-07","2022-12-18",225.65,"BL"]
[{"$f":"B6960&\":\"&COUNTIF($B$2:B6960,B6960)","v":"HLCUVAN221004440:4"},"HLCUVAN221004440","HLXU8245790","HLCUVAN221004440","40 Dry","PKKHI",289615,"2022-12-07","2022-12-18",225.65,"BL"]
[{"$f":"B6972&\":\"&COUNTIF($B$2:B6972,B6972)","v":"HLCUTOR221006998:1"},"HLCUTOR221006998","TXGU7162085","HLCUTOR221006998","40 Dry","PKKHI",289615,"2022-12-07","2022-12-18",225.65,"SW"]
[{"$f":"B6993&\":\"&COUNTIF($B$2:B6993,B6993)","v":"HLCUTOR221017909:1"},"HLCUTOR221017909","GAOU6485168","HLCUTOR221017909","40 Dry","PKKHI",289615,"2022-12-07","2022-12-18",225.65,"SW"]
[{"$f":"B7004&\":\"&COUNTIF($B$2:B7004,B7004)","v":"HLCUTOR221008916:1"},"HLCUTOR221008916","DFSU7376971","HLCUTOR221008916","40 Dry","PKKHI",289615,"2022-12-07","2022-12-18",225.65,"SW"]
[{"$f":"B7026&\":\"&COUNTIF($B$2:B7026,B7026)","v":"HLCUALY221112010:3"},"HLCUALY221112010","HLBU9659539","HLCUALY221112010","40 Reefer","PKKHI",289615,"2022-12-07","2022-12-14",225.65,"BL"]
[{"$f":"B7043&\":\"&COUNTIF($B$2:B7043,B7043)","v":"HLCURTM220987772:8"},"HLCURTM220987772","SEGU4185241","HLCURTM220987772","40 Dry","PKKHI",289615,"2022-12-07","2022-12-20",225.65,"BL"]
[{"$f":"B7052&\":\"&COUNTIF($B$2:B7052,B7052)","v":"HLCUHAM221091981:6"},"HLCUHAM221091981","BMOU5573199","HLCUHAM221091981","40 Dry","PKKHI",289615,"2022-12-07","2022-12-20",225.65,"BL"]
[{"$f":"B7076&\":\"&COUNTIF($B$2:B7076,B7076)","v":"HLCUAB1220901970:3"},"HLCUAB1220901970","HLBU2224766","HLCUAB1220901970","40 Dry","PKBQM",293450,"2022-12-08","2022-12-12",225.65,"BL"]
[{"$f":"B7093&\":\"&COUNTIF($B$2:B7093,B7093)","v":"HLCULIV221011202:1"},"HLCULIV221011202","XINU1471367","HLCULIV221011202","20 Dry","PKBQM",293450,"2022-12-08","2022-12-17",225.65,"BL"]
[{"$f":"B7100&\":\"&COUNTIF($B$2:B7100,B7100)","v":"HLCULE1220990431:1"},"HLCULE1220990431","TGHU1013308","HLCULE1220990431","20 Dry","PKBQM",293450,"2022-12-08","2022-12-19",225.65,"SW"]
[{"$f":"B7110&\":\"&COUNTIF($B$2:B7110,B7110)","v":"HLCUTOR221018967:3"},"HLCUTOR221018967","HLBU2195035","HLCUTOR221018967","40 Dry","PKBQM",293450,"2022-12-08","2022-12-19",225.65,"SW"]
[{"$f":"B7132&\":\"&COUNTIF($B$2:B7132,B7132)","v":"HLCUTOR221022236:2"},"HLCUTOR221022236","UETU2739820","HLCUTOR221022236","20 Dry","PKBQM",293450,"2022-12-08","2022-12-19",225.65,"BL"]
[{"$f":"B7143&\":\"&COUNTIF($B$2:B7143,B7143)","v":"HLCURTM220948389:8"},"HLCURTM220948389","TCLU2856709","HLCURTM220948389","20 Dry","PKBQM",293450,"2022-12-08","2022-12-17",225.65,"SW"]
[{"$f":"B7160&\":\"&COUNTIF($B$2:B7160,B7160)","v":"HLCUBSC2210BXCZ6:1"},"HLCUBSC2210BXCZ6","BEAU4194154","HLCUBSC2210BXCZ6","40 Dry","PKBQM",293450,"2022-12-08","2022-12-19",225.65,"BL"]
[{"$f":"B7180&\":\"&COUNTIF($B$2:B7180,B7180)","v":"HLCUBSC2210BBMQ1:1"},"HLCUBSC2210BBMQ1","TGBU6070211","HLCUBSC2210BBMQ1","40 Dry","PKBQM",293450,"2022-12-08","2022-12-12",225.65,"SW"]
[{"$f":"B7193&\":\"&COUNTIF($B$2:B7193,B7193)","v":"HLCUBSC2210BURP2:2"},"HLCUBSC2210BURP2","FBIU0444472","HLCUBSC2210BURP2","20 Dry","PKBQM",293450,"2022-12-08","2022-12-19",225.65,"BL"]
[{"$f":"B7210&\":\"&COUNTIF($B$2:B7210,B7210)","v":"HLCUTOR221028941:1"},"HLCUTOR221028941","HLBU1089213","HLCUTOR221028941","40 Dry","PKBQM",293450,"2022-12-08","2022-12-19",225.65,"SW"]
[{"$f":"B7228&\":\"&COUNTIF($B$2:B7228,B7228)","v":"HLCUBSC221005997:4"},"HLCUBSC221005997","UACU3665590","HLCUBSC221005997","20 Dry","PKBQM",293450,"2022-12-08","2022-12-19",225.65,"BL"]
[{"$f":"B7243&\":\"&COUNTIF($B$2:B7243,B7243)","v":"HLCUBSC2209BJNU7:2"},"HLCUBSC2209BJNU7","UETU5861997","HLCUBSC2209BJNU7","40 Dry","PKBQM",293450,"2022-12-08","2022-12-21",225.65,"BL"]
[{"$f":"B7260&\":\"&COUNTIF($B$2:B7260,B7260)","v":"HLCUBSC2209BJNU7:19"},"HLCUBSC2209BJNU7","TGBU6048347","HLCUBSC2209BJNU7","40 Dry","PKBQM",293450,"2022-12-08","2022-12-21",225.65,"BL"]
[{"$f":"B7276&\":\"&COUNTIF($B$2:B7276,B7276)","v":"HLCUBSC2210BBQW0:1"},"HLCUBSC2210BBQW0","HLBU1012799","HLCUBSC2210BBQW0","40 Dry","PKBQM",293450,"2022-12-08","2022-12-12",225.65,"SW"]
[{"$f":"B7293&\":\"&COUNTIF($B$2:B7293,B7293)","v":"HLCUBSC2210BVCT4:1"},"HLCUBSC2210BVCT4","HAMU1032814","HLCUBSC2210BVCT4","20 Dry","PKBQM",293450,"2022-12-08","2022-12-19",225.65,"BL"]
[{"$f":"B7308&\":\"&COUNTIF($B$2:B7308,B7308)","v":"HLCUBSC2210BXHV0:2"},"HLCUBSC2210BXHV0","TCLU3010340","HLCUBSC2210BXHV0","20 Dry","PKBQM",293450,"2022-12-08","2022-12-19",225.65,"BL"]
[{"$f":"B7326&\":\"&COUNTIF($B$2:B7326,B7326)","v":"HLCUBSC2210BRPV0:2"},"HLCUBSC2210BRPV0","TLLU5346409","HLCUBSC2210BRPV0","40 Dry","PKBQM",293450,"2022-12-08","2022-12-19",225.65,"BL"]
[{"$f":"B7343&\":\"&COUNTIF($B$2:B7343,B7343)","v":"HLCULE1220957256:1"},"HLCULE1220957256","HLXU8383063","HLCULE1220957256","40 Dry","PKBQM",293450,"2022-12-08","2022-12-19",225.65,"BL"]
[{"$f":"B7356&\":\"&COUNTIF($B$2:B7356,B7356)","v":"HLCUKW3221101834:5"},"HLCUKW3221101834","TEMU7627908","HLCUKW3221101834","40 Dry","PKKHI",294270,"2022-12-09","2022-12-26",225.35,"BL"]
[{"$f":"B7360&\":\"&COUNTIF($B$2:B7360,B7360)","v":"HLCUMCT221103505:1"},"HLCUMCT221103505","SLSU8047880","HLCUMCT221103505","40 Dry","PKKHI",294270,"2022-12-09","2022-12-22",225.35,"BL"]
[{"$f":"B7388&\":\"&COUNTIF($B$2:B7388,B7388)","v":"HLCUMCT221103717:3"},"HLCUMCT221103717","CAIU4983922","HLCUMCT221103717","40 Dry","PKKHI",294270,"2022-12-09","2022-12-22",225.35,"BL"]
[{"$f":"B7393&\":\"&COUNTIF($B$2:B7393,B7393)","v":"HLCUMCT221103644:4"},"HLCUMCT221103644","TCNU8470768","HLCUMCT221103644","40 Dry","PKKHI",294270,"2022-12-09","2022-12-22",225.35,"BL"]
[{"$f":"B7410&\":\"&COUNTIF($B$2:B7410,B7410)","v":"HLCUKW3221102183:3"},"HLCUKW3221102183","HLBU1606717","HLCUKW3221102183","40 Dry","PKKHI",294270,"2022-12-09","2022-12-26",225.35,"BL"]
[{"$f":"B7436&\":\"&COUNTIF($B$2:B7436,B7436)","v":"HLCUKW3221101995:2"},"HLCUKW3221101995","FANU3053377","HLCUKW3221101995","40 Dry","PKKHI",294270,"2022-12-09","2022-12-26",225.35,"BL"]
[{"$f":"B7443&\":\"&COUNTIF($B$2:B7443,B7443)","v":"HLCUKW3221101995:9"},"HLCUKW3221101995","FANU1895083","HLCUKW3221101995","40 Dry","PKKHI",294270,"2022-12-09","2022-12-26",225.35,"BL"]
[{"$f":"B7460&\":\"&COUNTIF($B$2:B7460,B7460)","v":"HLCUMCT221103611:1"},"HLCUMCT221103611","HLXU8310299","HLCUMCT221103611","40 Dry","PKKHI",294270,"2022-12-09","2022-12-22",225.35,"BL"]
[{"$f":"B7484&\":\"&COUNTIF($B$2:B7484,B7484)","v":"HLCUDM2221103628:4"},"HLCUDM2221103628","HLBU1564078","HLCUDM2221103628","40 Dry","PKKHI",294270,"2022-12-09","2022-12-29",225.35,"BL"]
[{"$f":"B7493&\":\"&COUNTIF($B$2:B7493,B7493)","v":"HLCUDX3221138414:1"},"HLCUDX3221138414","HLBU2300017","HLCUDX3221138414","20 Dry","PKKHI",294270,"2022-12-09","2022-12-22",225.35,"BL"]
[{"$f":"B7501&\":\"&COUNTIF($B$2:B7501,B7501)","v":"HLCUMCT221103706:1"},"HLCUMCT221103706","HLXU8433673","HLCUMCT221103706","40 Dry","PKKHI",294270,"2022-12-09","2022-12-22",225.35,"BL"]
[{"$f":"B7526&\":\"&COUNTIF($B$2:B7526,B7526)","v":"HLCUIZ1221066326:8"},"HLCUIZ1221066326","TXGU7006605","HLCUIZ1221066326","40 Dry","PKKHI",294270,"2022-12-09","2022-12-22",225.35,"BL"]
[{"$f":"B7543&\":\"&COUNTIF($B$2:B7543,B7543)","v":"HLCUMCT221103699:2"},"HLCUMCT221103699","TGHU6963031","HLCUMCT221103699","40 Dry","PKKHI",294270,"2022-12-09","2022-12-22",225.35,"BL"]
[{"$f":"B7549&\":\"&COUNTIF($B$2:B7549,B7549)","v":"HLCURUH221106890:1"},"HLCURUH221106890","TCNU1606580","HLCURUH221106890","40 Dry","PKKHI",294270,"2022-12-09","2022-12-29",225.35,"BL"]
[{"$f":"B7576&\":\"&COUNTIF($B$2:B7576,B7576)","v":"HLCUDX3221129962:2"},"HLCUDX3221129962","FANU1726479","HLCUDX3221129962","40 Dry","PKKHI",294270,"2022-12-09","2022-12-13",225.35,"BL"]
[{"$f":"B7593&\":\"&COUNTIF($B$2:B7593,B7593)","v":"HLCUMCT221103600:2"},"HLCUMCT221103600","GATU8731295","HLCUMCT221103600","40 Dry","PKKHI",294270,"2022-12-09","2022-12-22",225.35,"BL"]
[{"$f":"B7597&\":\"&COUNTIF($B$2:B7597,B7597)","v":"HLCUKW3221101918:4"},"HLCUKW3221101918","TCLU8150237","HLCUKW3221101918","40 Dry","PKKHI",294270,"2022-12-09","2022-12-26",225.35,"BL"]
[{"$f":"B7610&\":\"&COUNTIF($B$2:B7610,B7610)","v":"HLCUDA3221004357:3"},"HLCUDA3221004357","HLXU6511782","HLCUDA3221004357","40 Dry","PKKHI",294270,"2022-12-09","2022-12-18",225.35,"BL"]
[{"$f":"B7629&\":\"&COUNTIF($B$2:B7629,B7629)","v":"HLCUKW3221101930:9"},"HLCUKW3221101930","HLBU2689613","HLCUKW3221101930","40 Dry","PKKHI",294270,"2022-12-09","2022-12-26",225.35,"BL"]
[{"$f":"B7643&\":\"&COUNTIF($B$2:B7643,B7643)","v":"HLCULJU221001836:1"},"HLCULJU221001836","HLBU2330876","HLCULJU221001836","20 Dry","PKBQM",964980,"2022-12-10","2022-12-19",225.35,"BL"]
[{"$f":"B7660&\":\"&COUNTIF($B$2:B7660,B7660)","v":"HLCUBC1220961180:2"},"HLCUBC1220961180","TEMU1624619","HLCUBC1220961180","20 Dry","PKBQM",964980,"2022-12-10","2022-12-23",225.35,"BL"]
[{"$f":"B7677&\":\"&COUNTIF($B$2:B7677,B7677)","v":"HLCUBEN221100691:1"},"HLCUBEN221100691","TCNU8824326","HLCUBEN221100691","40 Dry","PKBQM",964980,"2022-12-10","2022-12-21",225.35,"BL"]
[{"$f":"B7693&\":\"&COUNTIF($B$2:B7693,B7693)","v":"HLCUBEN221100720:1"},"HLCUBEN221100720","FANU1391170","HLCUBEN221100720","40 Dry","PKBQM",964980,"2022-12-10","2022-12-21",225.35,"BL"]
[{"$f":"B7710&\":\"&COUNTIF($B$2:B7710,B7710)","v":"HLCUBEN221100731:7"},"HLCUBEN221100731","HLBU1610682","HLCUBEN221100731","40 Dry","PKBQM",964980,"2022-12-10","2022-12-21",225.35,"BL"]
[{"$f":"B7725&\":\"&COUNTIF($B$2:B7725,B7725)","v":"HLCUGOA2209AYAH2:4"},"HLCUGOA2209AYAH2","HLBU1739509","HLCUGOA2209AYAH2","20 Dry","PKBQM",964980,"2022-12-10","2022-12-21",225.35,"BL"]
[{"$f":"B7743&\":\"&COUNTIF($B$2:B7743,B7743)","v":"HLCUGOA2209AXMJ8:2"},"HLCUGOA2209AXMJ8","HLXU3561331","HLCUGOA2209AXMJ8","20 Dry","PKBQM",964980,"2022-12-11","2022-12-22",225.35,"BL"]
[{"$f":"B7757&\":\"&COUNTIF($B$2:B7757,B7757)","v":"HLCUBEN221000397:7"},"HLCUBEN221000397","HLXU8521624","HLCUBEN221000397","40 Dry","PKBQM",964980,"2022-12-10","2022-12-21",225.35,"BL"]
[{"$f":"B7776&\":\"&COUNTIF($B$2:B7776,B7776)","v":"HLCUBEN221100881:4"},"HLCUBEN221100881","FFAU1551269","HLCUBEN221100881","40 Dry","PKBQM",964980,"2022-12-10","2022-12-21",225.35,"BL"]
[{"$f":"B7793&\":\"&COUNTIF($B$2:B7793,B7793)","v":"HLCUBEN221100900:7"},"HLCUBEN221100900","HLBU2710834","HLCUBEN221100900","40 Dry","PKBQM",964980,"2022-12-10","2022-12-21",225.35,"BL"]
[{"$f":"B7805&\":\"&COUNTIF($B$2:B7805,B7805)","v":"HLCUBSC221060250:1"},"HLCUBSC221060250","TGHU9624860","HLCUBSC221060250","40 Dry","PKBQM",964980,"2022-12-10","2022-12-23",225.35,"SW"]
[{"$f":"B7826&\":\"&COUNTIF($B$2:B7826,B7826)","v":"HLCUBSC221020382:1"},"HLCUBSC221020382","CAAU5541075","HLCUBSC221020382","40 Dry","PKBQM",964980,"2022-12-10","2022-12-21",225.35,"BL"]
[{"$f":"B7843&\":\"&COUNTIF($B$2:B7843,B7843)","v":"HLCUIZ1221095205:2"},"HLCUIZ1221095205","NYKU4739662","HLCUIZ1221095205","40 Dry","PKBQM",964980,"2022-12-10","2022-12-23",225.35,"BL"]
[{"$f":"B7853&\":\"&COUNTIF($B$2:B7853,B7853)","v":"HLCUANR221021689:1"},"HLCUANR221021689","HLBU1998433","HLCUANR221021689","40 Dry","PKBQM",290979,"2022-12-11","2022-12-15",225.35,"BL"]
[{"$f":"B7860&\":\"&COUNTIF($B$2:B7860,B7860)","v":"HLCUANR221040265:1"},"HLCUANR221040265","HLBU9732440","HLCUANR221040265","20 Reefer","PKBQM",290979,"2022-12-11","2022-12-31",225.35,"BL"]
[{"$f":"B7877&\":\"&COUNTIF($B$2:B7877,B7877)","v":"HLCUGDY221033960:1"},"HLCUGDY221033960","HLXU6585492","HLCUGDY221033960","40 Dry","PKBQM",290979,"2022-12-11","2022-12-20",225.35,"BL"]
[{"$f":"B7902&\":\"&COUNTIF($B$2:B7902,B7902)","v":"HLCUIZ1221051348:2"},"HLCUIZ1221051348","FANU1877840","HLCUIZ1221051348","40 Dry","PKKHI",291505,"2022-12-11","2022-12-24",225.35,"BL"]
[{"$f":"B7910&\":\"&COUNTIF($B$2:B7910,B7910)","v":"HLCUPRG221006919:1"},"HLCUPRG221006919","TEMU7283470","HLCUPRG221006919","40 Dry","PKKHI",291505,"2022-12-11","2022-12-17",225.35,"BL"]
[{"$f":"B7933&\":\"&COUNTIF($B$2:B7933,B7933)","v":"HLCUJE2221105454:1"},"HLCUJE2221105454","TCNU1373241","HLCUJE2221105454","40 Dry","PKKHI",291505,"2022-12-11","2022-12-24",225.35,"SW"]
[{"$f":"B7943&\":\"&COUNTIF($B$2:B7943,B7943)","v":"HLCUALY221112941:1"},"HLCUALY221112941","TEMU2227489","HLCUALY221112941","20 Dry","PKKHI",291505,"2022-12-11","2022-12-22",225.35,"BL"]
[{"$f":"B7960&\":\"&COUNTIF($B$2:B7960,B7960)","v":"HLCUVL1221010664:2"},"HLCUVL1221010664","UETU5276272","HLCUVL1221010664","40 Dry","PKKHI",291505,"2022-12-11","2022-12-24",225.35,"BL"]
[{"$f":"B7981&\":\"&COUNTIF($B$2:B7981,B7981)","v":"HLCUPI3221000292:2"},"HLCUPI3221000292","FANU1042389","HLCUPI3221000292","40 Dry","PKKHI",291505,"2022-12-11","2022-12-24",225.35,"BL"]
[{"$f":"B7993&\":\"&COUNTIF($B$2:B7993,B7993)","v":"HLCUJE2221105550:2"},"HLCUJE2221105550","TCLU1751998","HLCUJE2221105550","40 Dry","PKKHI",291505,"2022-12-11","2022-12-22",225.35,"BL"]
[{"$f":"B8010&\":\"&COUNTIF($B$2:B8010,B8010)","v":"HLCUTOR220935458:1"},"HLCUTOR220935458","HAMU1140300","HLCUTOR220935458","40 Dry","PKKHI",291505,"2022-12-11","2022-12-22",225.35,"SW"]
[{"$f":"B8030&\":\"&COUNTIF($B$2:B8030,B8030)","v":"HLCUTOR221008240:1"},"HLCUTOR221008240","DFSU7316571","HLCUTOR221008240","40 Dry","PKKHI",291505,"2022-12-11","2022-12-15",225.35,"BL"]
[{"$f":"B8043&\":\"&COUNTIF($B$2:B8043,B8043)","v":"HLCUBSC2209BYXS1:5"},"HLCUBSC2209BYXS1","FANU1922050","HLCUBSC2209BYXS1","40 Dry","PKKHI",291505,"2022-12-11","2022-12-24",225.35,"BL"]
[{"$f":"B8061&\":\"&COUNTIF($B$2:B8061,B8061)","v":"HLCULJU221000866:1"},"HLCULJU221000866","TCNU8436280","HLCULJU221000866","40 Dry","PKKHI",291505,"2022-12-11","2022-12-22",225.35,"BL"]
[{"$f":"B8076&\":\"&COUNTIF($B$2:B8076,B8076)","v":"HLCUALY221112880:1"},"HLCUALY221112880","HAMU1078332","HLCUALY221112880","20 Dry","PKKHI",291505,"2022-12-11","2022-12-15",225.35,"BL"]
[{"$f":"B8093&\":\"&COUNTIF($B$2:B8093,B8093)","v":"HLCULJU221000727:6"},"HLCULJU221000727","HLBU1277993","HLCULJU221000727","40 Dry","PKKHI",291505,"2022-12-11","2022-12-22",225.35,"BL"]
[{"$f":"B8109&\":\"&COUNTIF($B$2:B8109,B8109)","v":"HLCUDOH221104370:1"},"HLCUDOH221104370","CAAU5252468","HLCUDOH221104370","40 Dry","PKKHI",295680,"2022-12-11","2022-12-31",225.35,"BL"]
[{"$f":"B8110&\":\"&COUNTIF($B$2:B8110,B8110)","v":"HLCUDOH221104370:2"},"HLCUDOH221104370","GCXU5129014","HLCUDOH221104370","40 Dry","PKKHI",295680,"2022-12-11","2022-12-31",225.35,"BL"]
[{"$f":"B8127&\":\"&COUNTIF($B$2:B8127,B8127)","v":"HLCUBUH221009024:1"},"HLCUBUH221009024","TCKU6074608","HLCUBUH221009024","40 Dry","PKKHI",295680,"2022-12-11","2022-12-20",225.35,"BL"]
[{"$f":"B8143&\":\"&COUNTIF($B$2:B8143,B8143)","v":"HLCUDOH221104400:1"},"HLCUDOH221104400","HLBU2670393","HLCUDOH221104400","40 Dry","PKKHI",295680,"2022-12-11","2022-12-31",225.35,"BL"]
[{"$f":"B8160&\":\"&COUNTIF($B$2:B8160,B8160)","v":"HLCUDOH221104125:1"},"HLCUDOH221104125","BMOU4064387","HLCUDOH221104125","40 Dry","PKKHI",295680,"2022-12-12","2023-01-01",225.35,"BL"]
[{"$f":"B8174&\":\"&COUNTIF($B$2:B8174,B8174)","v":"HLCUDOH221104360:1"},"HLCUDOH221104360","TGBU6065540","HLCUDOH221104360","40 Dry","PKKHI",295680,"2022-12-11","2022-12-31",225.35,"BL"]
[{"$f":"B8193&\":\"&COUNTIF($B$2:B8193,B8193)","v":"HLCUDOH221200407:6"},"HLCUDOH221200407","TCLU8148008","HLCUDOH221200407","40 Dry","PKKHI",295680,"2022-12-11","2022-12-24",225.35,"BL"]
[{"$f":"B8210&\":\"&COUNTIF($B$2:B8210,B8210)","v":"HLCUDA3221004112:2"},"HLCUDA3221004112","GESU3482750","HLCUDA3221004112","20 Dry","PKKHI",295680,"2022-12-11","2022-12-24",225.35,"BL"]
[{"$f":"B8223&\":\"&COUNTIF($B$2:B8223,B8223)","v":"HLCURTM221028220:1"},"HLCURTM221028220","HAMU1119283","HLCURTM221028220","20 Dry","PKKHI",291001,"2022-12-14","2022-12-18",225.9,"BL"]
[{"$f":"B8243&\":\"&COUNTIF($B$2:B8243,B8243)","v":"HLCURTM221014614:1"},"HLCURTM221014614","FANU1714061","HLCURTM221014614","40 Dry","PKKHI",291001,"2022-12-14","2022-12-23",225.9,"BL"]
[{"$f":"B8260&\":\"&COUNTIF($B$2:B8260,B8260)","v":"HLCUBEL220903410:2"},"HLCUBEL220903410","SEGU5683850","HLCUBEL220903410","40 Dry","PKKHI",291001,"2022-12-14","2022-12-23",225.9,"BL"]
[{"$f":"B8271&\":\"&COUNTIF($B$2:B8271,B8271)","v":"HLCUHAM2210BKJO1:1"},"HLCUHAM2210BKJO1","HLBU1757288","HLCUHAM2210BKJO1","40 Dry","PKKHI",291001,"2022-12-14","2022-12-27",225.9,"BL"]
[{"$f":"B8293&\":\"&COUNTIF($B$2:B8293,B8293)","v":"HLCURTM221077062:2"},"HLCURTM221077062","BSIU2900360","HLCURTM221077062","20 Dry","PKKHI",291001,"2022-12-14","2022-12-23",225.9,"BL"]
[{"$f":"B8302&\":\"&COUNTIF($B$2:B8302,B8302)","v":"HLCURTM221014552:1"},"HLCURTM221014552","TCLU5079393","HLCURTM221014552","40 Dry","PKKHI",291001,"2022-12-14","2022-12-23",225.9,"BL"]
[{"$f":"B8326&\":\"&COUNTIF($B$2:B8326,B8326)","v":"HLCUANR221033161:1"},"HLCUANR221033161","LNXU9652653","HLCUANR221033161","40 Reefer","PKKHI",291001,"2022-12-14","2022-12-23",225.9,"BL"]
[{"$f":"B8343&\":\"&COUNTIF($B$2:B8343,B8343)","v":"HLCUJE2221109115:2"},"HLCUJE2221109115","UACU8513368","HLCUJE2221109115","40 Dry","PKKHI",291001,"2022-12-14","2023-01-03",225.9,"BL"]
[{"$f":"B8351&\":\"&COUNTIF($B$2:B8351,B8351)","v":"HLCULIV221068912:1"},"HLCULIV221068912","TLLU2512996","HLCULIV221068912","20 Dry","PKKHI",291001,"2022-12-14","2022-12-23",225.9,"SW"]
[{"$f":"B8360&\":\"&COUNTIF($B$2:B8360,B8360)","v":"HLCUALY221120490:5"},"HLCUALY221120490","HLBU9595645","HLCUALY221120490","40 Reefer","PKKHI",291001,"2022-12-14","2022-12-22",225.9,"BL"]
[{"$f":"B8377&\":\"&COUNTIF($B$2:B8377,B8377)","v":"HLCUGDY221011677:2"},"HLCUGDY221011677","HLBU1052699","HLCUGDY221011677","40 Dry","PKKHI",291001,"2022-12-14","2022-12-27",225.9,"BL"]
[{"$f":"B8399&\":\"&COUNTIF($B$2:B8399,B8399)","v":"HLCURI5220908020:1"},"HLCURI5220908020","HLBU1502991","HLCURI5220908020","20 Dry","PKKHI",291001,"2022-12-15","2022-12-19",225.9,"BL"]
[{"$f":"B8410&\":\"&COUNTIF($B$2:B8410,B8410)","v":"HLCUTOR220925937:1"},"HLCUTOR220925937","FCIU9156530","HLCUTOR220925937","40 Dry","PKKHI",291001,"2022-12-14","2022-12-25",225.9,"SW"]
[{"$f":"B8430&\":\"&COUNTIF($B$2:B8430,B8430)","v":"HLCURI5220917280:1"},"HLCURI5220917280","UACU3843161","HLCURI5220917280","20 Dry","PKKHI",291001,"2022-12-15","2022-12-19",225.9,"SW"]
[{"$f":"B8443&\":\"&COUNTIF($B$2:B8443,B8443)","v":"HLCUGOT221016012:4"},"HLCUGOT221016012","HAMU1301889","HLCUGOT221016012","40 Dry","PKKHI",291001,"2022-12-14","2022-12-23",225.9,"BL"]
[{"$f":"B8460&\":\"&COUNTIF($B$2:B8460,B8460)","v":"HLCUGOT221016279:2"},"HLCUGOT221016279","FANU1650711","HLCUGOT221016279","40 Dry","PKKHI",291001,"2022-12-14","2022-12-23",225.9,"BL"]
[{"$f":"B8479&\":\"&COUNTIF($B$2:B8479,B8479)","v":"HLCUHAM2210ATOF0:1"},"HLCUHAM2210ATOF0","HLBU9354817","HLCUHAM2210ATOF0","40 Reefer","PKKHI",291001,"2022-12-14","2022-12-27",225.9,"BL"]
[{"$f":"B8493&\":\"&COUNTIF($B$2:B8493,B8493)","v":"HLCUHAM2210ATAH4:4"},"HLCUHAM2210ATAH4","HLBU3175408","HLCUHAM2210ATAH4","40 Dry","PKKHI",291001,"2022-12-14","2022-12-18",225.9,"BL"]
[{"$f":"B8510&\":\"&COUNTIF($B$2:B8510,B8510)","v":"HLCUDA3221004525:5"},"HLCUDA3221004525","UETU2796687","HLCUDA3221004525","20 Dry","PKKHI",292743,"2022-12-14","2022-12-27",225.85,"BL"]
[{"$f":"B8527&\":\"&COUNTIF($B$2:B8527,B8527)","v":"HLCUDA3221002519:1"},"HLCUDA3221002519","CRXU3316916","HLCUDA3221002519","20 Dry","PKKHI",292743,"2022-12-14","2022-12-27",225.85,"BL"]
[{"$f":"B8543&\":\"&COUNTIF($B$2:B8543,B8543)","v":"HLCULIV220953866:1"},"HLCULIV220953866","TCLU5784480","HLCULIV220953866","40 Dry","PKBQM",293452,"2022-12-15","2022-12-24",225.85,"BL"]
[{"$f":"B8559&\":\"&COUNTIF($B$2:B8559,B8559)","v":"HLCURTM221010182:1"},"HLCURTM221010182","FANU3100313","HLCURTM221010182","40 Dry","PKBQM",293452,"2022-12-15","2022-12-24",225.85,"BL"]
[{"$f":"B8576&\":\"&COUNTIF($B$2:B8576,B8576)","v":"HLCUTOR221107130:1"},"HLCUTOR221107130","HLBU2700688","HLCUTOR221107130","40 Dry","PKBQM",293452,"2022-12-15","2022-12-26",225.85,"SW"]
[{"$f":"B8593&\":\"&COUNTIF($B$2:B8593,B8593)","v":"HLCUBSC221197563:2"},"HLCUBSC221197563","FANU3047991","HLCUBSC221197563","40 Dry","PKBQM",293452,"2022-12-15","2022-12-26",225.85,"BL"]
[{"$f":"B8607&\":\"&COUNTIF($B$2:B8607,B8607)","v":"HLCUBSC2210BPEQ3:2"},"HLCUBSC2210BPEQ3","HLXU1380587","HLCUBSC2210BPEQ3","20 Dry","PKBQM",293452,"2022-12-15","2022-12-26",225.85,"SW"]
[{"$f":"B8610&\":\"&COUNTIF($B$2:B8610,B8610)","v":"HLCUBSC2210BPIJ8:1"},"HLCUBSC2210BPIJ8","DFSU1379253","HLCUBSC2210BPIJ8","20 Dry","PKBQM",293452,"2022-12-15","2022-12-26",225.85,"BL"]
[{"$f":"B8627&\":\"&COUNTIF($B$2:B8627,B8627)","v":"HLCUBSC221155490:2"},"HLCUBSC221155490","UASU1043726","HLCUBSC221155490","40 Dry","PKBQM",293452,"2022-12-15","2022-12-26",225.85,"BL"]
[{"$f":"B8655&\":\"&COUNTIF($B$2:B8655,B8655)","v":"HLCUBSC2210BIRM4:1"},"HLCUBSC2210BIRM4","TCLU5412518","HLCUBSC2210BIRM4","40 Dry","PKBQM",293452,"2022-12-15","2023-01-01",225.85,"BL"]
[{"$f":"B8660&\":\"&COUNTIF($B$2:B8660,B8660)","v":"HLCUHAM221067459:5"},"HLCUHAM221067459","HLBU1558820","HLCUHAM221067459","40 Dry","PKBQM",293452,"2022-12-15","2022-12-24",225.85,"BL"]
[{"$f":"B8687&\":\"&COUNTIF($B$2:B8687,B8687)","v":"HLCUBSC2211AOUZ8:4"},"HLCUBSC2211AOUZ8","TEMU1400619","HLCUBSC2211AOUZ8","20 Dry","PKBQM",293452,"2022-12-15","2022-12-26",225.85,"BL"]
[{"$f":"B8693&\":\"&COUNTIF($B$2:B8693,B8693)","v":"HLCUBSC2210BYDB0:1"},"HLCUBSC2210BYDB0","TCKU1833532","HLCUBSC2210BYDB0","20 Dry","PKBQM",293452,"2022-12-15","2022-12-26",225.85,"BL"]
[{"$f":"B8710&\":\"&COUNTIF($B$2:B8710,B8710)","v":"HLCUBSC221143315:1"},"HLCUBSC221143315","BSIU9058947","HLCUBSC221143315","40 Dry","PKBQM",293452,"2022-12-15","2023-01-02",225.85,"BL"]
[{"$f":"B8720&\":\"&COUNTIF($B$2:B8720,B8720)","v":"HLCUBSC2210BQTZ2:4"},"HLCUBSC2210BQTZ2","UACU3632106","HLCUBSC2210BQTZ2","20 Dry","PKBQM",293452,"2022-12-15","2022-12-26",225.85,"BL"]
[{"$f":"B8743&\":\"&COUNTIF($B$2:B8743,B8743)","v":"HLCUBSC221030926:1"},"HLCUBSC221030926","GLDU3892133","HLCUBSC221030926","20 Dry","PKBQM",293452,"2022-12-15","2022-12-26",225.85,"SW"]
[{"$f":"B8760&\":\"&COUNTIF($B$2:B8760,B8760)","v":"HLCUBSC2211BEZT7:2"},"HLCUBSC2211BEZT7","HLBU1256199","HLCUBSC2211BEZT7","40 Dry","PKBQM",293452,"2022-12-15","2022-12-28",225.85,"SW"]
[{"$f":"B8768&\":\"&COUNTIF($B$2:B8768,B8768)","v":"HLCUBSC221175309:5"},"HLCUBSC221175309","UACU8423650","HLCUBSC221175309","40 Dry","PKBQM",293452,"2022-12-15","2022-12-28",225.85,"SW"]
[{"$f":"B8793&\":\"&COUNTIF($B$2:B8793,B8793)","v":"HLCUBSC221140719:2"},"HLCUBSC221140719","TLLU5312707","HLCUBSC221140719","40 Dry","PKBQM",293452,"2022-12-15","2022-12-28",225.85,"BL"]
[{"$f":"B8800&\":\"&COUNTIF($B$2:B8800,B8800)","v":"HLCUBSC221118437:3"},"HLCUBSC221118437","HLBU1159706","HLCUBSC221118437","40 Dry","PKBQM",293452,"2022-12-15","2022-12-19",225.85,"BL"]
[{"$f":"B8826&\":\"&COUNTIF($B$2:B8826,B8826)","v":"HLCUBSC221168779:4"},"HLCUBSC221168779","TCLU6422803","HLCUBSC221168779","40 Dry","PKBQM",293452,"2022-12-15","2023-01-01",225.85,"BL"]
[{"$f":"B8843&\":\"&COUNTIF($B$2:B8843,B8843)","v":"HLCUJE2221112653:1"},"HLCUJE2221112653","FANU3213325","HLCUJE2221112653","40 Dry","PKBQM",293452,"2022-12-15","2022-12-28",225.85,"SW"]
[{"$f":"B8848&\":\"&COUNTIF($B$2:B8848,B8848)","v":"HLCUTOR221025603:2"},"HLCUTOR221025603","TLLU5933005","HLCUTOR221025603","40 Dry","PKBQM",293162,"2022-12-16","2022-12-27",226.25,"BL"]
[{"$f":"B8860&\":\"&COUNTIF($B$2:B8860,B8860)","v":"HLCUBSC221170729:1"},"HLCUBSC221170729","HLBU2156661","HLCUBSC221170729","40 Dry","PKBQM",293162,"2022-12-16","2022-12-27",226.25,"SW"]
[{"$f":"B8877&\":\"&COUNTIF($B$2:B8877,B8877)","v":"HLCUBSC2211ARLB3:2"},"HLCUBSC2211ARLB3","UACU5283934","HLCUBSC2211ARLB3","40 Dry","PKBQM",293162,"2022-12-16","2022-12-27",226.25,"BL"]
[{"$f":"B8896&\":\"&COUNTIF($B$2:B8896,B8896)","v":"HLCUBSC2211ARVQ8:2"},"HLCUBSC2211ARVQ8","GESU3907129","HLCUBSC2211ARVQ8","20 Dry","PKBQM",293162,"2022-12-16","2022-12-27",226.25,"SW"]
[{"$f":"B8910&\":\"&COUNTIF($B$2:B8910,B8910)","v":"HLCUBSC221170411:6"},"HLCUBSC221170411","BMOU5619427","HLCUBSC221170411","40 Dry","PKBQM",293162,"2022-12-16","2022-12-27",226.25,"SW"]
[{"$f":"B8928&\":\"&COUNTIF($B$2:B8928,B8928)","v":"HLCUBSC221147985:1"},"HLCUBSC221147985","TCNU3272327","HLCUBSC221147985","40 Dry","PKBQM",293162,"2022-12-16","2022-12-27",226.25,"BL"]
[{"$f":"B8943&\":\"&COUNTIF($B$2:B8943,B8943)","v":"HLCUBSC2210BRUF0:8"},"HLCUBSC2210BRUF0","FANU1545948","HLCUBSC2210BRUF0","40 Dry","PKBQM",293162,"2022-12-16","2022-12-27",226.25,"BL"]
[{"$f":"B8960&\":\"&COUNTIF($B$2:B8960,B8960)","v":"HLCUBSC221175214:1"},"HLCUBSC221175214","HLXU8632192","HLCUBSC221175214","40 Dry","PKBQM",293162,"2022-12-16","2022-12-20",226.25,"SW"]
[{"$f":"B8976&\":\"&COUNTIF($B$2:B8976,B8976)","v":"HLCUBSC2210BSCS2:10"},"HLCUBSC2210BSCS2","CAIU8517901","HLCUBSC2210BSCS2","40 Dry","PKBQM",293162,"2022-12-16","2022-12-27",226.25,"SW"]
[{"$f":"B8993&\":\"&COUNTIF($B$2:B8993,B8993)","v":"HLCUTOR221032159:1"},"HLCUTOR221032159","BSIU9594214","HLCUTOR221032159","40 Dry","PKBQM",293162,"2022-12-16","2022-12-27",226.25,"BL"]
[{"$f":"B9010&\":\"&COUNTIF($B$2:B9010,B9010)","v":"HLCUKW3221102468:1"},"HLCUKW3221102468","UACU5927338","HLCUKW3221102468","40 Dry","PKKHI",295174,"2022-12-16","2023-01-02",226.25,"BL"]
[{"$f":"B9024&\":\"&COUNTIF($B$2:B9024,B9024)","v":"HLCUMCT221200114:2"},"HLCUMCT221200114","HLBU2432008","HLCUMCT221200114","40 Dry","PKKHI",295174,"2022-12-16","2022-12-29",226.25,"BL"]
[{"$f":"B9043&\":\"&COUNTIF($B$2:B9043,B9043)","v":"HLCUMCT221200264:3"},"HLCUMCT221200264","TCLU5116429","HLCUMCT221200264","40 Dry","PKKHI",295174,"2022-12-16","2022-12-29",226.25,"BL"]
[{"$f":"B9056&\":\"&COUNTIF($B$2:B9056,B9056)","v":"HLCUDX3221208691:1"},"HLCUDX3221208691","GESU5927870","HLCUDX3221208691","40 Dry","PKKHI",295174,"2022-12-16","2022-12-29",226.25,"BL"]
[{"$f":"B9076&\":\"&COUNTIF($B$2:B9076,B9076)","v":"HLCUMCT221200348:3"},"HLCUMCT221200348","HLBU3404438","HLCUMCT221200348","40 Dry","PKKHI",295174,"2022-12-16","2022-12-29",226.25,"BL"]
[{"$f":"B9093&\":\"&COUNTIF($B$2:B9093,B9093)","v":"HLCUMCT221200085:4"},"HLCUMCT221200085","HLBU2251308","HLCUMCT221200085","40 Dry","PKKHI",295174,"2022-12-16","2022-12-29",226.25,"BL"]
[{"$f":"B9104&\":\"&COUNTIF($B$2:B9104,B9104)","v":"HLCUMCT221200443:1"},"HLCUMCT221200443","FANU1632636","HLCUMCT221200443","40 Dry","PKKHI",295174,"2022-12-16","2022-12-29",226.25,"BL"]
[{"$f":"B9110&\":\"&COUNTIF($B$2:B9110,B9110)","v":"HLCUDX3221209566:1"},"HLCUDX3221209566","HLBU9386500","HLCUDX3221209566","40 Reefer","PKKHI",295174,"2022-12-16","2022-12-29",226.25,"SW"]
[{"$f":"B9127&\":\"&COUNTIF($B$2:B9127,B9127)","v":"HLCUSYD221013767:1"},"HLCUSYD221013767","FANU1264621","HLCUSYD221013767","40 Dry","PKKHI",295174,"2022-12-16","2022-12-29",226.25,"SW"]
[{"$f":"B9152&\":\"&COUNTIF($B$2:B9152,B9152)","v":"HLCUMCT221200918:1"},"HLCUMCT221200918","UETU5825222","HLCUMCT221200918","40 Dry","PKKHI",295174,"2022-12-16","2022-12-29",226.25,"BL"]
[{"$f":"B9160&\":\"&COUNTIF($B$2:B9160,B9160)","v":"HLCUKW3221100831:4"},"HLCUKW3221100831","FANU1974768","HLCUKW3221100831","40 Dry","PKKHI",295174,"2022-12-16","2022-12-29",226.25,"BL"]
[{"$f":"B9184&\":\"&COUNTIF($B$2:B9184,B9184)","v":"HLCUDX3221208044:2"},"HLCUDX3221208044","FANU3106559","HLCUDX3221208044","40 Dry","PKKHI",295174,"2022-12-16","2022-12-29",226.25,"SW"]
[{"$f":"B9193&\":\"&COUNTIF($B$2:B9193,B9193)","v":"HLCUDX3221201078:1"},"HLCUDX3221201078","FCIU7621519","HLCUDX3221201078","40 Dry","PKKHI",295174,"2022-12-16","2022-12-29",226.25,"BL"]
[{"$f":"B9210&\":\"&COUNTIF($B$2:B9210,B9210)","v":"HLCUDX3221207220:1"},"HLCUDX3221207220","HLBU9489221","HLCUDX3221207220","40 Reefer","PKKHI",295174,"2022-12-16","2023-01-05",226.25,"BL"]
[{"$f":"B9232&\":\"&COUNTIF($B$2:B9232,B9232)","v":"HLCUBC1221010210:3"},"HLCUBC1221010210","RFCU5027458","HLCUBC1221010210","40 Dry","PKBQM",964952,"2022-12-17","2022-12-30",226.25,"SW"]
[{"$f":"B9243&\":\"&COUNTIF($B$2:B9243,B9243)","v":"HLCUBEN221000448:4"},"HLCUBEN221000448","FANU3136907","HLCUBEN221000448","40 Dry","PKBQM",964952,"2022-12-17","2022-12-28",226.25,"BL"]
[{"$f":"B9260&\":\"&COUNTIF($B$2:B9260,B9260)","v":"HLCUBEN221100859:3"},"HLCUBEN221100859","HLBU2786383","HLCUBEN221100859","40 Dry","PKBQM",964952,"2022-12-17","2022-12-28",226.25,"BL"]
[{"$f":"B9280&\":\"&COUNTIF($B$2:B9280,B9280)","v":"HLCUGOA2210AXBV0:1"},"HLCUGOA2210AXBV0","FBIU0446794","HLCUGOA2210AXBV0","20 Dry","PKBQM",964952,"2022-12-17","2022-12-28",226.25,"BL"]
[{"$f":"B9293&\":\"&COUNTIF($B$2:B9293,B9293)","v":"HLCUGOA221127799:1"},"HLCUGOA221127799","FSCU4688328","HLCUGOA221127799","40 Dry","PKKHI",292568,"2022-12-18","2022-12-24",226.25,"BL"]
[{"$f":"B9312&\":\"&COUNTIF($B$2:B9312,B9312)","v":"HLCUGOA221100479:2"},"HLCUGOA221100479","UACU3737452","HLCUGOA221100479","20 Dry","PKKHI",292568,"2022-12-18","2022-12-31",226.25,"SW"]
[{"$f":"B9326&\":\"&COUNTIF($B$2:B9326,B9326)","v":"HLCUALY221125745:1"},"HLCUALY221125745","UACU4060875","HLCUALY221125745","20 Dry","PKKHI",292568,"2022-12-18","2022-12-22",226.25,"BL"]
[{"$f":"B9343&\":\"&COUNTIF($B$2:B9343,B9343)","v":"HLCUPI3221004483:5"},"HLCUPI3221004483","FFAU1548706","HLCUPI3221004483","40 Dry","PKKHI",292568,"2022-12-18","2022-12-31",226.25,"BL"]
[{"$f":"B9345&\":\"&COUNTIF($B$2:B9345,B9345)","v":"HLCUPI3221004483:7"},"HLCUPI3221004483","BMOU5537490","HLCUPI3221004483","40 Dry","PKKHI",292568,"2022-12-18","2022-12-31",226.25,"BL"]
[{"$f":"B9360&\":\"&COUNTIF($B$2:B9360,B9360)","v":"HLCURDS221100013:3"},"HLCURDS221100013","HAMU1261507","HLCURDS221100013","40 Dry","PKKHI",292568,"2022-12-17","2022-12-26",226.25,"BL"]
[{"$f":"B9377&\":\"&COUNTIF($B$2:B9377,B9377)","v":"HLCUGOA2210AWHD2:1"},"HLCUGOA2210AWHD2","HLBU1820668","HLCUGOA2210AWHD2","40 Dry","PKKHI",292568,"2022-12-18","2022-12-24",226.25,"SW"]
[{"$f":"B9393&\":\"&COUNTIF($B$2:B9393,B9393)","v":"HLCUME3220953264:1"},"HLCUME3220953264","TDRU8471349","HLCUME3220953264","40 Dry","PKKHI",292568,"2022-12-17","2022-12-24",226.25,"BL"]
[{"$f":"B9410&\":\"&COUNTIF($B$2:B9410,B9410)","v":"HLCUGOA221155420:1"},"HLCUGOA221155420","UACU3683356","HLCUGOA221155420","20 Dry","PKKHI",292568,"2022-12-18","2022-12-22",226.25,"SW"]
[{"$f":"B9425&\":\"&COUNTIF($B$2:B9425,B9425)","v":"HLCUPI3221003268:7"},"HLCUPI3221003268","NIDU5235288","HLCUPI3221003268","40 Dry","PKKHI",292568,"2022-12-18","2022-12-31",226.25,"BL"]
[{"$f":"B9443&\":\"&COUNTIF($B$2:B9443,B9443)","v":"HLCUALY221122378:1"},"HLCUALY221122378","TGCU2099550","HLCUALY221122378","20 Dry","PKKHI",292568,"2022-12-17","2022-12-30",226.25,"BL"]
[{"$f":"B9460&\":\"&COUNTIF($B$2:B9460,B9460)","v":"HLCUALY221121850:1"},"HLCUALY221121850","BMOU9211937","HLCUALY221121850","40 Reefer","PKKHI",292568,"2022-12-18","2022-12-26",226.25,"BL"]
[{"$f":"B9473&\":\"&COUNTIF($B$2:B9473,B9473)","v":"HLCUDOH221201370:1"},"HLCUDOH221201370","DFSU7414623","HLCUDOH221201370","40 Dry","PKKHI",295682,"2022-12-18","2023-01-07",227,"BL"]
[{"$f":"B9493&\":\"&COUNTIF($B$2:B9493,B9493)","v":"HLCUIZ1221122098:1"},"HLCUIZ1221122098","FANU1568521","HLCUIZ1221122098","40 Dry","PKKHI",295682,"2022-12-17","2022-12-30",227,"BL"]
[{"$f":"B9510&\":\"&COUNTIF($B$2:B9510,B9510)","v":"HLCUIZ1221141602:8"},"HLCUIZ1221141602","HLBU1585450","HLCUIZ1221141602","40 Dry","PKKHI",295682,"2022-12-18","2023-01-07",227,"SW"]
[{"$f":"B9521&\":\"&COUNTIF($B$2:B9521,B9521)","v":"HLCUDX3221204339:3"},"HLCUDX3221204339","HLXU1032658","HLCUDX3221204339","20 Dry","PKKHI",295682,"2022-12-18","2022-12-31",227,"BL"]
[{"$f":"B9543&\":\"&COUNTIF($B$2:B9543,B9543)","v":"HLCULE1220869820:2"},"HLCULE1220869820","FANU3136018","HLCULE1220869820","40 Dry","PKBQM",290981,"2022-12-18","2023-01-07",226.25,"BL"]
[{"$f":"B9553&\":\"&COUNTIF($B$2:B9553,B9553)","v":"HLCULIV221009676:1"},"HLCULIV221009676","HLXU1126802","HLCULIV221009676","20 Dry","PKBQM",290981,"2022-12-18","2022-12-22",226.25,"BL"]
[{"$f":"B9576&\":\"&COUNTIF($B$2:B9576,B9576)","v":"HLCURTM221029194:6"},"HLCURTM221029194","FCIU3601432","HLCURTM221029194","20 Dry","PKBQM",290981,"2022-12-18","2022-12-31",226.25,"BL"]
[{"$f":"B9593&\":\"&COUNTIF($B$2:B9593,B9593)","v":"HLCUIZ1221134776:1"},"HLCUIZ1221134776","TCNU1801150","HLCUIZ1221134776","40 Dry","PKBQM",294067,"2022-12-18","2022-12-27",227,"BL"]
[{"$f":"B9601&\":\"&COUNTIF($B$2:B9601,B9601)","v":"HLCUBC1221060478:2"},"HLCUBC1221060478","HLBU2122039","HLCUBC1221060478","40 Dry","PKBQM",294067,"2022-12-18","2022-12-31",227,"BL"]
[{"$f":"B9610&\":\"&COUNTIF($B$2:B9610,B9610)","v":"HLCUDX3221215795:1"},"HLCUDX3221215795","HLXU1231388","HLCUDX3221215795","20 Dry","PKKHI",294050,"2022-12-21","2023-01-03",227.5,"BL"]
[{"$f":"B9627&\":\"&COUNTIF($B$2:B9627,B9627)","v":"HLCUIZ1221076143:1"},"HLCUIZ1221076143","TXGU7007242","HLCUIZ1221076143","40 Dry","PKKHI",291015,"2022-12-21","2023-01-03",227.5,"BL"]
[{"$f":"B9649&\":\"&COUNTIF($B$2:B9649,B9649)","v":"HLCUGDY221045008:1"},"HLCUGDY221045008","HLXU8493651","HLCUGDY221045008","40 Dry","PKKHI",291015,"2022-12-21","2022-12-25",227.5,"SW"]
[{"$f":"B9660&\":\"&COUNTIF($B$2:B9660,B9660)","v":"HLCUIZ1221083766:2"},"HLCUIZ1221083766","HLBU2472715","HLCUIZ1221083766","40 Dry","PKKHI",291015,"2022-12-21","2023-01-03",227.5,"BL"]
[{"$f":"B9681&\":\"&COUNTIF($B$2:B9681,B9681)","v":"HLCUIZ1221070783:10"},"HLCUIZ1221070783","TCNU1857987","HLCUIZ1221070783","40 Dry","PKKHI",291015,"2022-12-21","2023-01-03",227.5,"BL"]
[{"$f":"B9693&\":\"&COUNTIF($B$2:B9693,B9693)","v":"HLCUIZ1221250850:7"},"HLCUIZ1221250850","FSCU9416739","HLCUIZ1221250850","40 Dry","PKKHI",291015,"2022-12-21","2023-01-03",227.5,"BL"]
[{"$f":"B9710&\":\"&COUNTIF($B$2:B9710,B9710)","v":"HLCUJE2221109422:1"},"HLCUJE2221109422","UACU6061715","HLCUJE2221109422","40 Dry","PKKHI",291015,"2022-12-21","2023-01-10",227.5,"BL"]
[{"$f":"B9729&\":\"&COUNTIF($B$2:B9729,B9729)","v":"HLCUHAM2210BPTB5:1"},"HLCUHAM2210BPTB5","HLBU3245676","HLCUHAM2210BPTB5","40 Dry","PKKHI",291015,"2022-12-21","2022-12-25",227.5,"SW"]
[{"$f":"B9743&\":\"&COUNTIF($B$2:B9743,B9743)","v":"HLCUJE2221112302:1"},"HLCUJE2221112302","HLXU8569910","HLCUJE2221112302","40 Dry","PKKHI",291015,"2022-12-21","2023-01-03",227.5,"BL"]
[{"$f":"B9760&\":\"&COUNTIF($B$2:B9760,B9760)","v":"HLCUIZ1221060977:2"},"HLCUIZ1221060977","HLBU1931105","HLCUIZ1221060977","40 Dry","PKKHI",291015,"2022-12-21","2022-12-25",227.5,"BL"]
[{"$f":"B9777&\":\"&COUNTIF($B$2:B9777,B9777)","v":"HLCUJE2221114184:8"},"HLCUJE2221114184","FANU1824557","HLCUJE2221114184","40 Dry","PKKHI",291015,"2022-12-21","2023-01-03",227.5,"BL"]
[{"$f":"B9793&\":\"&COUNTIF($B$2:B9793,B9793)","v":"HLCUIZ1221092887:2"},"HLCUIZ1221092887","TEMU1402000","HLCUIZ1221092887","20 Dry","PKKHI",291015,"2022-12-21","2023-01-03",227.5,"BL"]
[{"$f":"B9810&\":\"&COUNTIF($B$2:B9810,B9810)","v":"HLCUIZ1221071753:4"},"HLCUIZ1221071753","FCIU7481886","HLCUIZ1221071753","40 Dry","PKKHI",291015,"2022-12-21","2022-12-25",227.5,"BL"]
[{"$f":"B9825&\":\"&COUNTIF($B$2:B9825,B9825)","v":"HLCUJE2221113148:4"},"HLCUJE2221113148","UACU8567019","HLCUJE2221113148","40 Dry","PKKHI",291015,"2022-12-21","2023-01-03",227.5,"BL"]
[{"$f":"B9843&\":\"&COUNTIF($B$2:B9843,B9843)","v":"HLCUTOR221011683:1"},"HLCUTOR221011683","HLBU2581779","HLCUTOR221011683","40 Dry","PKKHI",291015,"2022-12-21","2023-01-01",227.5,"SW"]
[{"$f":"B9857&\":\"&COUNTIF($B$2:B9857,B9857)","v":"HLCUBSC221103872:1"},"HLCUBSC221103872","CAIU7909317","HLCUBSC221103872","40 Dry","PKKHI",291015,"2022-12-21","2023-01-01",227.5,"SW"]
[{"$f":"B9860&\":\"&COUNTIF($B$2:B9860,B9860)","v":"HLUSPIL221100428:1"},"HLUSPIL221100428","UACU8339528","HLUSPIL221100428","40 Dry","PKKHI",291015,"2022-12-21","2022-12-25",227.5,"SW"]
[{"$f":"B9877&\":\"&COUNTIF($B$2:B9877,B9877)","v":"HLCUBSC2210AZPD3:1"},"HLCUBSC2210AZPD3","FCIU7624415","HLCUBSC2210AZPD3","40 Dry","PKKHI",291015,"2022-12-21","2023-01-01",227.5,"SW"]
[{"$f":"B9905&\":\"&COUNTIF($B$2:B9905,B9905)","v":"HLCUBSC221167090:1"},"HLCUBSC221167090","HLBU1239735","HLCUBSC221167090","20 Dry","PKBQM",293454,"2022-12-22","2023-01-02",227.5,"BL"]
[{"$f":"B9910&\":\"&COUNTIF($B$2:B9910,B9910)","v":"HLCUBSC2210BUZY0:2"},"HLCUBSC2210BUZY0","TDRU8422302","HLCUBSC2210BUZY0","40 Dry","PKBQM",293454,"2022-12-22","2023-01-08",227.5,"SW"]
[{"$f":"B9927&\":\"&COUNTIF($B$2:B9927,B9927)","v":"HLCUTOR221027759:1"},"HLCUTOR221027759","FANU1843351","HLCUTOR221027759","40 Dry","PKBQM",293454,"2022-12-22","2023-01-02",227.5,"SW"]
[{"$f":"B9939&\":\"&COUNTIF($B$2:B9939,B9939)","v":"HLCUBSC2211ASFH3:5"},"HLCUBSC2211ASFH3","TRHU1653950","HLCUBSC2211ASFH3","20 Dry","PKBQM",293454,"2022-12-22","2023-01-02",227.5,"BL"]
[{"$f":"B9960&\":\"&COUNTIF($B$2:B9960,B9960)","v":"HLCUBSC2210BIKU8:1"},"HLCUBSC2210BIKU8","TGBU5457530","HLCUBSC2210BIKU8","40 Dry","PKBQM",293454,"2022-12-22","2023-01-02",227.5,"SW"]
[{"$f":"B9970&\":\"&COUNTIF($B$2:B9970,B9970)","v":"HLCUBSC2210BOJC4:1"},"HLCUBSC2210BOJC4","FSCU7228861","HLCUBSC2210BOJC4","40 Dry","PKBQM",293454,"2022-12-22","2023-01-02",227.5,"BL"]
[{"$f":"B9993&\":\"&COUNTIF($B$2:B9993,B9993)","v":"HLCUBSC2211ARSX3:4"},"HLCUBSC2211ARSX3","UACU5389612","HLCUBSC2211ARSX3","40 Dry","PKBQM",293454,"2022-12-22","2022-12-26",227.5,"SW"]
[{"$f":"B10010&\":\"&COUNTIF($B$2:B10010,B10010)","v":"HLCUTOR221035347:1"},"HLCUTOR221035347","XINU8182026","HLCUTOR221035347","40 Dry","PKBQM",293454,"2022-12-22","2023-01-02",227.5,"BL"]
[{"$f":"B10018&\":\"&COUNTIF($B$2:B10018,B10018)","v":"HLCUTOR221026482:1"},"HLCUTOR221026482","HLBU1973369","HLCUTOR221026482","40 Dry","PKBQM",293454,"2022-12-22","2023-01-02",227.5,"SW"]
[{"$f":"B10043&\":\"&COUNTIF($B$2:B10043,B10043)","v":"HLCUBSC2211ARJS3:1"},"HLCUBSC2211ARJS3","CAIU9023502","HLCUBSC2211ARJS3","40 Dry","PKBQM",293454,"2022-12-22","2023-01-02",227.5,"BL"]
[{"$f":"B10060&\":\"&COUNTIF($B$2:B10060,B10060)","v":"HLCUBSC2211AROO2:1"},"HLCUBSC2211AROO2","TCKU1802320","HLCUBSC2211AROO2","20 Dry","PKBQM",293454,"2022-12-22","2023-01-02",227.5,"BL"]
[{"$f":"B10067&\":\"&COUNTIF($B$2:B10067,B10067)","v":"HLCUBSC2211APIF0:1"},"HLCUBSC2211APIF0","TRLU8982806","HLCUBSC2211APIF0","20 Dry","PKBQM",293454,"2022-12-22","2023-01-02",227.5,"BL"]
[{"$f":"B10093&\":\"&COUNTIF($B$2:B10093,B10093)","v":"HLCUBSC2211ASAH0:2"},"HLCUBSC2211ASAH0","HAMU1151367","HLCUBSC2211ASAH0","40 Dry","PKBQM",293454,"2022-12-22","2023-01-02",227.5,"BL"]
[{"$f":"B10098&\":\"&COUNTIF($B$2:B10098,B10098)","v":"HLCUTOR221102209:1"},"HLCUTOR221102209","FFAU1174231","HLCUTOR221102209","40 Dry","PKBQM",293454,"2022-12-22","2023-01-02",227.5,"SW"]
[{"$f":"B10110&\":\"&COUNTIF($B$2:B10110,B10110)","v":"HLCUTOR221026471:1"},"HLCUTOR221026471","UACU5734827","HLCUTOR221026471","40 Dry","PKBQM",293454,"2022-12-22","2023-01-02",227.5,"SW"]
[{"$f":"B10127&\":\"&COUNTIF($B$2:B10127,B10127)","v":"HLCUBSC2210BJXC5:1"},"HLCUBSC2210BJXC5","FANU1278435","HLCUBSC2210BJXC5","40 Dry","PKBQM",293454,"2022-12-22","2023-01-03",227.5,"BL"]
[{"$f":"B10147&\":\"&COUNTIF($B$2:B10147,B10147)","v":"HLCUBSC2211ARTM8:2"},"HLCUBSC2211ARTM8","UETU2832315","HLCUBSC2211ARTM8","20 Dry","PKBQM",293454,"2022-12-22","2023-01-02",227.5,"SW"]
[{"$f":"B10160&\":\"&COUNTIF($B$2:B10160,B10160)","v":"HLCUBSC2211BCQA8:2"},"HLCUBSC2211BCQA8","UACU8548683","HLCUBSC2211BCQA8","40 Dry","PKBQM",293454,"2022-12-22","2023-01-04",227.5,"SW"]
[{"$f":"B10177&\":\"&COUNTIF($B$2:B10177,B10177)","v":"HLCUHAM2208BJHQ6:2"},"HLCUHAM2208BJHQ6","HLBU1094734","HLCUHAM2208BJHQ6","20 Dry","PKBQM",293454,"2022-12-22","2022-12-26",227.5,"BL"]
[{"$f":"B10195&\":\"&COUNTIF($B$2:B10195,B10195)","v":"HLCUBSC221191629:1"},"HLCUBSC221191629","FANU1268484","HLCUBSC221191629","40 Dry","PKBQM",293164,"2022-12-23","2023-01-03",227.6,"BL"]
[{"$f":"B10210&\":\"&COUNTIF($B$2:B10210,B10210)","v":"HLCUTOR221019915:1"},"HLCUTOR221019915","UACU5541237","HLCUTOR221019915","40 Dry","PKBQM",293164,"2022-12-23","2023-01-03",227.6,"SW"]
[{"$f":"B10226&\":\"&COUNTIF($B$2:B10226,B10226)","v":"HLCUBC1221069702:1"},"HLCUBC1221069702","GATU1149425","HLCUBC1221069702","20 Dry","PKBQM",964983,"2022-12-24","2022-12-28",227.6,"BL"]
[{"$f":"B10243&\":\"&COUNTIF($B$2:B10243,B10243)","v":"HLCUBC1221061912:1"},"HLCUBC1221061912","CAIU9647469","HLCUBC1221061912","40 Dry","PKBQM",964983,"2022-12-24","2023-01-06",227.6,"BL"]
[{"$f":"B10260&\":\"&COUNTIF($B$2:B10260,B10260)","v":"HLCUBC1221045172:1"},"HLCUBC1221045172","NIDU5236279","HLCUBC1221045172","40 Dry","PKBQM",964983,"2022-12-24","2023-01-06",227.6,"BL"]
[{"$f":"B10275&\":\"&COUNTIF($B$2:B10275,B10275)","v":"HLCUGOA2211APRB7:1"},"HLCUGOA2211APRB7","HAMU1050802","HLCUGOA2211APRB7","20 Dry","PKBQM",964983,"2022-12-24","2023-01-04",227.6,"BL"]
[{"$f":"B10293&\":\"&COUNTIF($B$2:B10293,B10293)","v":"HLCUIZ1221097529:15"},"HLCUIZ1221097529","CAIU4221640","HLCUIZ1221097529","40 Dry","PKBQM",964983,"2022-12-24","2023-01-06",227.6,"BL"]
[{"$f":"B10310&\":\"&COUNTIF($B$2:B10310,B10310)","v":"HLCUGOA221101070:1"},"HLCUGOA221101070","FANU1938760","HLCUGOA221101070","40 Dry","PKBQM",964983,"2022-12-24","2023-01-04",227.6,"BL"]
[{"$f":"B10323&\":\"&COUNTIF($B$2:B10323,B10323)","v":"HLCUIZ1221084484:10"},"HLCUIZ1221084484","HLXU8480799","HLCUIZ1221084484","40 Dry","PKBQM",964983,"2022-12-24","2023-01-02",227.6,"BL"]
[{"$f":"B10343&\":\"&COUNTIF($B$2:B10343,B10343)","v":"HLCUBSC221101380:5"},"HLCUBSC221101380","HLBU1939359","HLCUBSC221101380","40 Dry","PKBQM",964983,"2022-12-24","2022-12-28",227.6,"BL"]
[{"$f":"B10354&\":\"&COUNTIF($B$2:B10354,B10354)","v":"HLCUGOA221128758:2"},"HLCUGOA221128758","BMOU2927909","HLCUGOA221128758","20 Dry","PKBQM",964983,"2022-12-24","2023-01-04",227.6,"BL"]
[{"$f":"B10360&\":\"&COUNTIF($B$2:B10360,B10360)","v":"HLCUGOA221176597:2"},"HLCUGOA221176597","NIDU5224977","HLCUGOA221176597","40 Dry","PKBQM",964983,"2022-12-24","2023-01-04",227.6,"BL"]
[{"$f":"B10377&\":\"&COUNTIF($B$2:B10377,B10377)","v":"HLCUDUR221206280:15"},"HLCUDUR221206280","BEAU4707961","HLCUDUR221206280","40 Dry","PKBQM",964983,"2022-12-24","2023-01-06",227.6,"BL"]
[{"$f":"B10403&\":\"&COUNTIF($B$2:B10403,B10403)","v":"HLCUDX3221136441:2"},"HLCUDX3221136441","TCLU2845448","HLCUDX3221136441","20 Dry","PKKHI",295176,"2022-12-23","2022-12-27",227.6,"BL"]
[{"$f":"B10410&\":\"&COUNTIF($B$2:B10410,B10410)","v":"HLCUDX3221214463:5"},"HLCUDX3221214463","HAMU1144603","HLCUDX3221214463","40 Dry","PKKHI",295176,"2022-12-23","2022-12-27",227.6,"SW"]
[{"$f":"B10427&\":\"&COUNTIF($B$2:B10427,B10427)","v":"HLCUDX3221137974:1"},"HLCUDX3221137974","HLBU9694611","HLCUDX3221137974","40 Reefer","PKKHI",295176,"2022-12-23","2023-01-05",227.6,"SW"]
[{"$f":"B10451&\":\"&COUNTIF($B$2:B10451,B10451)","v":"HLCUKW3221200640:1"},"HLCUKW3221200640","TRHU4557945","HLCUKW3221200640","40 Dry","PKKHI",295176,"2022-12-23","2023-01-09",227.6,"BL"]
[{"$f":"B10460&\":\"&COUNTIF($B$2:B10460,B10460)","v":"HLCUKW3221200640:10"},"HLCUKW3221200640","HLBU1674049","HLCUKW3221200640","40 Dry","PKKHI",295176,"2022-12-23","2023-01-09",227.6,"BL"]
[{"$f":"B10483&\":\"&COUNTIF($B$2:B10483,B10483)","v":"HLCURUH221106907:1"},"HLCURUH221106907","TCNU3761251","HLCURUH221106907","40 Dry","PKKHI",295176,"2022-12-23","2023-01-12",227.6,"BL"]
[{"$f":"B10493&\":\"&COUNTIF($B$2:B10493,B10493)","v":"HLCURUH221200043:6"},"HLCURUH221200043","FCIU8491894","HLCURUH221200043","40 Dry","PKKHI",295176,"2022-12-23","2023-01-12",227.6,"BL"]
[{"$f":"B10510&\":\"&COUNTIF($B$2:B10510,B10510)","v":"HLCURUH221200657:4"},"HLCURUH221200657","HLBU2159207","HLCURUH221200657","40 Dry","PKKHI",295176,"2022-12-23","2023-01-12",227.6,"BL"]
[{"$f":"B10531&\":\"&COUNTIF($B$2:B10531,B10531)","v":"HLCURUH221200668:1"},"HLCURUH221200668","TCLU5109630","HLCURUH221200668","40 Dry","PKKHI",295176,"2022-12-23","2023-01-12",227.6,"BL"]
[{"$f":"B10543&\":\"&COUNTIF($B$2:B10543,B10543)","v":"HLCUDX3221136408:1"},"HLCUDX3221136408","BMOU1453071","HLCUDX3221136408","20 Dry","PKKHI",295176,"2022-12-23","2023-01-05",227.6,"BL"]
[{"$f":"B10560&\":\"&COUNTIF($B$2:B10560,B10560)","v":"HLCUDX3221214653:4"},"HLCUDX3221214653","HLBU2754982","HLCUDX3221214653","20 Dry","PKKHI",295176,"2022-12-23","2023-01-05",227.6,"BL"]
[{"$f":"B10564&\":\"&COUNTIF($B$2:B10564,B10564)","v":"HLCUJIB221200190:4"},"HLCUJIB221200190","NIDU2367001","HLCUJIB221200190","20 Dry","PKKHI",295176,"2022-12-23","2022-12-31",227.6,"BL"]
[{"$f":"B10593&\":\"&COUNTIF($B$2:B10593,B10593)","v":"HLCUKW3221200376:2"},"HLCUKW3221200376","HLBU1715560","HLCUKW3221200376","40 Dry","PKKHI",295176,"2022-12-23","2023-01-09",227.6,"BL"]
[{"$f":"B10596&\":\"&COUNTIF($B$2:B10596,B10596)","v":"HLCUKW3221200376:5"},"HLCUKW3221200376","HLXU8608560","HLCUKW3221200376","40 Dry","PKKHI",295176,"2022-12-23","2023-01-09",227.6,"BL"]
[{"$f":"B10610&\":\"&COUNTIF($B$2:B10610,B10610)","v":"HLCURUH221109514:5"},"HLCURUH221109514","HLBU2378170","HLCURUH221109514","40 Dry","PKKHI",295176,"2022-12-23","2023-01-12",227.6,"BL"]
[{"$f":"B10627&\":\"&COUNTIF($B$2:B10627,B10627)","v":"HLCUKW3221200365:1"},"HLCUKW3221200365","FANU1589165","HLCUKW3221200365","40 Dry","PKKHI",295176,"2022-12-23","2023-01-09",227.6,"BL"]
[{"$f":"B10644&\":\"&COUNTIF($B$2:B10644,B10644)","v":"HLCUKW3221200778:6"},"HLCUKW3221200778","FCIU7226725","HLCUKW3221200778","40 Dry","PKKHI",295176,"2022-12-23","2023-01-09",227.6,"BL"]
[{"$f":"B10660&\":\"&COUNTIF($B$2:B10660,B10660)","v":"HLCUMCT221202376:1"},"HLCUMCT221202376","FCIU7341333","HLCUMCT221202376","40 Dry","PKKHI",295176,"2022-12-23","2023-01-05",227.6,"SW"]
[{"$f":"B10677&\":\"&COUNTIF($B$2:B10677,B10677)","v":"HLCUDX3221224258:2"},"HLCUDX3221224258","SKIU9116909","HLCUDX3221224258","40 Dry","PKKHI",295176,"2022-12-23","2023-01-05",227.6,"SW"]
[{"$f":"B10692&\":\"&COUNTIF($B$2:B10692,B10692)","v":"HLCUSYD220955020:3"},"HLCUSYD220955020","FANU1734181","HLCUSYD220955020","40 Dry","PKKHI",295176,"2022-12-23","2023-01-05",227.6,"SW"]
[{"$f":"B10710&\":\"&COUNTIF($B$2:B10710,B10710)","v":"HLCUDA3221003895:5"},"HLCUDA3221003895","FCIU9210754","HLCUDA3221003895","40 Dry","PKKHI",295176,"2022-12-23","2023-01-01",227.6,"BL"]
[{"$f":"B10724&\":\"&COUNTIF($B$2:B10724,B10724)","v":"HLCURUH221109379:1"},"HLCURUH221109379","HLXU8223281","HLCURUH221109379","40 Dry","PKKHI",295176,"2022-12-23","2023-01-12",227.6,"BL"]
[{"$f":"B10743&\":\"&COUNTIF($B$2:B10743,B10743)","v":"HLCUJE2221200967:4"},"HLCUJE2221200967","UACU5895821","HLCUJE2221200967","40 Dry","PKKHI",292610,"2022-12-29","2023-01-09",227.5,"BL"]
[{"$f":"B10760&\":\"&COUNTIF($B$2:B10760,B10760)","v":"HLCUBC1221122114:3"},"HLCUBC1221122114","FANU3062640","HLCUBC1221122114","40 Dry","PKKHI",292610,"2022-12-28","2023-01-03",227.5,"BL"]
[{"$f":"B10772&\":\"&COUNTIF($B$2:B10772,B10772)","v":"HLCUGOA221229324:2"},"HLCUGOA221229324","HLXU8604966","HLCUGOA221229324","40 Dry","PKKHI",292610,"2022-12-29","2023-01-11",227.5,"BL"]
[{"$f":"B10793&\":\"&COUNTIF($B$2:B10793,B10793)","v":"HLCUIZ1221125242:2"},"HLCUIZ1221125242","TGHU6212149","HLCUIZ1221125242","40 Dry","PKKHI",292610,"2022-12-29","2023-01-11",227.5,"BL"]
[{"$f":"B10810&\":\"&COUNTIF($B$2:B10810,B10810)","v":"HLCUGOA221198423:2"},"HLCUGOA221198423","UACU8331609","HLCUGOA221198423","40 Dry","PKKHI",292610,"2022-12-29","2023-01-02",227.5,"BL"]
[{"$f":"B10820&\":\"&COUNTIF($B$2:B10820,B10820)","v":"HLCUVL1221111219:1"},"HLCUVL1221111219","TEMU1905010","HLCUVL1221111219","20 Dry","PKKHI",292610,"2022-12-28","2023-01-03",227.5,"SW"]
[{"$f":"B10843&\":\"&COUNTIF($B$2:B10843,B10843)","v":"HLCUPI3221007331:23"},"HLCUPI3221007331","UACU6014138","HLCUPI3221007331","40 Dry","PKKHI",292610,"2022-12-29","2023-01-11",227.5,"BL"]
[{"$f":"B10852&\":\"&COUNTIF($B$2:B10852,B10852)","v":"HLCUSS5221023735:8"},"HLCUSS5221023735","HLXU8595247","HLCUSS5221023735","40 Dry","PKKHI",292610,"2022-12-29","2023-01-02",227.5,"BL"]
[{"$f":"B10860&\":\"&COUNTIF($B$2:B10860,B10860)","v":"HLCUSS5220983296:6"},"HLCUSS5220983296","FSCU7214852","HLCUSS5220983296","40 Dry","PKKHI",292610,"2022-12-29","2023-01-02",227.5,"BL"]
[{"$f":"B10877&\":\"&COUNTIF($B$2:B10877,B10877)","v":"HLCUME3220915063:1"},"HLCUME3220915063","UACU5446918","HLCUME3220915063","40 Dry","PKKHI",292610,"2022-12-29","2023-01-07",227.5,"BL"]
[{"$f":"B10900&\":\"&COUNTIF($B$2:B10900,B10900)","v":"HLCUDA3221101496:1"},"HLCUDA3221101496","TRLU9193504","HLCUDA3221101496","20 Dry","PKKHI",295684,"2022-12-29","2023-01-11",227.75,"BL"]
[{"$f":"B10910&\":\"&COUNTIF($B$2:B10910,B10910)","v":"HLCUDOH221202490:2"},"HLCUDOH221202490","TEMU7262203","HLCUDOH221202490","40 Dry","PKKHI",295684,"2022-12-28","2023-01-17",227.75,"BL"]
[{"$f":"B10927&\":\"&COUNTIF($B$2:B10927,B10927)","v":"HLCUKW3221200990:2"},"HLCUKW3221200990","HLBU3206242","HLCUKW3221200990","40 Dry","PKKHI",295684,"2022-12-28","2023-01-10",227.75,"BL"]
[{"$f":"B10948&\":\"&COUNTIF($B$2:B10948,B10948)","v":"HLCUDA3221101420:1"},"HLCUDA3221101420","TCNU9960440","HLCUDA3221101420","40 Dry","PKKHI",295684,"2022-12-29","2023-01-07",227.75,"BL"]
[{"$f":"B10960&\":\"&COUNTIF($B$2:B10960,B10960)","v":"HLCUAU2221203163:3"},"HLCUAU2221203163","FANU1226180","HLCUAU2221203163","40 Dry","PKKHI",295684,"2022-12-28","2023-01-10",227.75,"BL"]
[{"$f":"B10980&\":\"&COUNTIF($B$2:B10980,B10980)","v":"HLCUTOR221102801:1"},"HLCUTOR221102801","HLBU1618549","HLCUTOR221102801","40 Dry","PKKHI",295684,"2022-12-29","2023-01-09",227.75,"BL"]
[{"$f":"B10993&\":\"&COUNTIF($B$2:B10993,B10993)","v":"HLCUJE2221201250:1"},"HLCUJE2221201250","FFAU2857952","HLCUJE2221201250","40 Dry","PKBQM",293456,"2022-12-29","2023-01-11",228.5,"SW"]
[{"$f":"B11010&\":\"&COUNTIF($B$2:B11010,B11010)","v":"HLCUBSC2211AYHK6:1"},"HLCUBSC2211AYHK6","FCIU7463178","HLCUBSC2211AYHK6","40 Dry","PKBQM",293456,"2022-12-29","2023-01-02",228.5,"SW"]
[{"$f":"B11028&\":\"&COUNTIF($B$2:B11028,B11028)","v":"HLCUTOR221112512:6"},"HLCUTOR221112512","TGHU8932699","HLCUTOR221112512","40 Dry","PKBQM",293456,"2022-12-29","2023-01-09",228.5,"BL"]
[{"$f":"B11043&\":\"&COUNTIF($B$2:B11043,B11043)","v":"HLCUBSC2211AXGP3:1"},"HLCUBSC2211AXGP3","FANU3135114","HLCUBSC2211AXGP3","40 Dry","PKBQM",293456,"2022-12-29","2023-01-15",228.5,"BL"]
[{"$f":"B11060&\":\"&COUNTIF($B$2:B11060,B11060)","v":"HLCUBSC2211AQGJ5:4"},"HLCUBSC2211AQGJ5","HLBU2058691","HLCUBSC2211AQGJ5","40 Dry","PKBQM",293456,"2022-12-29","2023-01-15",228.5,"BL"]
[{"$f":"B11076&\":\"&COUNTIF($B$2:B11076,B11076)","v":"HLCUBSC2211AWWB5:1"},"HLCUBSC2211AWWB5","TGCU2107830","HLCUBSC2211AWWB5","20 Dry","PKBQM",293456,"2022-12-29","2023-01-09",228.5,"BL"]
[{"$f":"B11093&\":\"&COUNTIF($B$2:B11093,B11093)","v":"HLCUBSC2211AWJS0:13"},"HLCUBSC2211AWJS0","FFAU2207303","HLCUBSC2211AWJS0","40 Dry","PKBQM",293456,"2022-12-29","2023-01-15",228.5,"BL"]
[{"$f":"B11108&\":\"&COUNTIF($B$2:B11108,B11108)","v":"HLCUBSC221198332:1"},"HLCUBSC221198332","CAIU2664802","HLCUBSC221198332","20 Dry","PKBQM",293456,"2022-12-29","2023-01-02",228.5,"BL"]
[{"$f":"B11110&\":\"&COUNTIF($B$2:B11110,B11110)","v":"HLCUBSC2211APFN1:1"},"HLCUBSC2211APFN1","FANU3203076","HLCUBSC2211APFN1","40 Dry","PKBQM",293456,"2022-12-29","2023-01-15",228.5,"BL"]
[{"$f":"B11127&\":\"&COUNTIF($B$2:B11127,B11127)","v":"HLCUBSC2211ARNO7:2"},"HLCUBSC2211ARNO7","HLXU1280166","HLCUBSC2211ARNO7","20 Dry","PKBQM",293456,"2022-12-29","2023-01-09",228.5,"BL"]
[{"$f":"B11156&\":\"&COUNTIF($B$2:B11156,B11156)","v":"HLCUBSC2211AWCE8:1"},"HLCUBSC2211AWCE8","TCLU2660038","HLCUBSC2211AWCE8","20 Dry","PKBQM",293456,"2022-12-29","2023-01-09",228.5,"SW"]
[{"$f":"B11160&\":\"&COUNTIF($B$2:B11160,B11160)","v":"HLCUBSC2211BGUN4:1"},"HLCUBSC2211BGUN4","CAAU5686778","HLCUBSC2211BGUN4","40 Dry","PKBQM",293456,"2022-12-29","2023-01-11",228.5,"BL"]
[{"$f":"B11177&\":\"&COUNTIF($B$2:B11177,B11177)","v":"HLCUBSC221188029:5"},"HLCUBSC221188029","HLBU1534875","HLCUBSC221188029","40 Dry","PKBQM",293456,"2022-12-29","2023-01-11",228.5,"SW"]
[{"$f":"B11189&\":\"&COUNTIF($B$2:B11189,B11189)","v":"HLCUBSC2210BSDC2:2"},"HLCUBSC2210BSDC2","GLDU5610590","HLCUBSC2210BSDC2","20 Dry","PKBQM",293456,"2022-12-29","2023-01-09",228.5,"BL"]
[{"$f":"B11210&\":\"&COUNTIF($B$2:B11210,B11210)","v":"HLCULIV221147199:1"},"HLCULIV221147199","HLXU1293477","HLCULIV221147199","20 Dry","PKKHI",291017,"2022-12-30","2023-01-03",228.5,"SW"]
[{"$f":"B11221&\":\"&COUNTIF($B$2:B11221,B11221)","v":"HLCUHAM221124431:1"},"HLCUHAM221124431","TCLU8120628","HLCUHAM221124431","40 Dry","PKKHI",291017,"2022-12-29","2023-01-11",228.5,"BL"]
[{"$f":"B11243&\":\"&COUNTIF($B$2:B11243,B11243)","v":"HLCUHAM2211ATZH5:1"},"HLCUHAM2211ATZH5","GATU1302283","HLCUHAM2211ATZH5","20 Dry","PKKHI",291017,"2022-12-29","2023-01-02",228.5,"SW"]
[{"$f":"B11260&\":\"&COUNTIF($B$2:B11260,B11260)","v":"HLCUHAM2210BHCM3:1"},"HLCUHAM2210BHCM3","HAMU1192432","HLCUHAM2210BHCM3","40 Dry","PKKHI",291017,"2022-12-29","2023-01-11",228.5,"BL"]
[{"$f":"B11269&\":\"&COUNTIF($B$2:B11269,B11269)","v":"HLCUANR221114232:2"},"HLCUANR221114232","NIDU5211516","HLCUANR221114232","40 Dry","PKKHI",291017,"2022-12-29","2023-01-11",228.5,"BL"]
[{"$f":"B11293&\":\"&COUNTIF($B$2:B11293,B11293)","v":"HLCUJE2221202209:1"},"HLCUJE2221202209","FANU1713173","HLCUJE2221202209","40 Dry","PKKHI",291017,"2022-12-30","2023-01-19",228.5,"BL"]
[{"$f":"B11310&\":\"&COUNTIF($B$2:B11310,B11310)","v":"HLCUHAM2210BNWE4:1"},"HLCUHAM2210BNWE4","FANU1413094","HLCUHAM2210BNWE4","40 Dry","PKKHI",291017,"2022-12-29","2023-01-09",228.5,"SW"]
[{"$f":"B11317&\":\"&COUNTIF($B$2:B11317,B11317)","v":"HLCURTM221095684:3"},"HLCURTM221095684","FANU1491862","HLCURTM221095684","40 Dry","PKKHI",291017,"2022-12-29","2023-01-18",228.5,"BL"]
[{"$f":"B11343&\":\"&COUNTIF($B$2:B11343,B11343)","v":"HLCUANR221122171:1"},"HLCUANR221122171","UACU3764139","HLCUANR221122171","20 Dry","PKKHI",291017,"2022-12-29","2023-01-11",228.5,"BL"]
[{"$f":"B11349&\":\"&COUNTIF($B$2:B11349,B11349)","v":"HLCUHAM221101485:1"},"HLCUHAM221101485","FANU1177110","HLCUHAM221101485","40 Dry","PKKHI",291017,"2022-12-30","2023-01-08",228.5,"SW"]
[{"$f":"B11360&\":\"&COUNTIF($B$2:B11360,B11360)","v":"HLCURTM221086099:1"},"HLCURTM221086099","CAIU9266591","HLCURTM221086099","40 Dry","PKKHI",291017,"2022-12-29","2023-01-18",228.5,"BL"]
[{"$f":"B11377&\":\"&COUNTIF($B$2:B11377,B11377)","v":"HLCUTOR221029034:1"},"HLCUTOR221029034","DFSU7077538","HLCUTOR221029034","40 Dry","PKKHI",291017,"2022-12-29","2023-01-09",228.5,"BL"]
[{"$f":"B11397&\":\"&COUNTIF($B$2:B11397,B11397)","v":"HLCUHAM221112122:1"},"HLCUHAM221112122","TCNU6653081","HLCUHAM221112122","40 Dry","PKKHI",291017,"2022-12-29","2023-01-07",228.5,"SW"]
[{"$f":"B11410&\":\"&COUNTIF($B$2:B11410,B11410)","v":"HLCULIV221111931:1"},"HLCULIV221111931","HLBU1184170","HLCULIV221111931","20 Dry","PKKHI",291017,"2022-12-30","2023-01-13",228.5,"SW"]
[{"$f":"B11427&\":\"&COUNTIF($B$2:B11427,B11427)","v":"HLCUJE2221113612:4"},"HLCUJE2221113612","GESU5568826","HLCUJE2221113612","40 Dry","PKKHI",291017,"2022-12-30","2023-01-10",228.5,"BL"]
[{"$f":"B11445&\":\"&COUNTIF($B$2:B11445,B11445)","v":"HLCUFIH220901389:2"},"HLCUFIH220901389","HLBU2669685","HLCUFIH220901389","40 Dry","PKKHI",291017,"2022-12-29","2023-01-02",228.5,"BL"]
[{"$f":"B11460&\":\"&COUNTIF($B$2:B11460,B11460)","v":"HLCUIZ1221190707:1"},"HLCUIZ1221190707","NYKU3842629","HLCUIZ1221190707","20 Dry","PKKHI",294052,"2022-12-30","2023-01-05",228.5,"SW"]
[{"$f":"B11477&\":\"&COUNTIF($B$2:B11477,B11477)","v":"HLCUIZ1221088525:16"},"HLCUIZ1221088525","UACU3446380","HLCUIZ1221088525","20 Dry","PKKHI",294052,"2022-12-30","2023-01-19",228.5,"SW"]
[{"$f":"B11493&\":\"&COUNTIF($B$2:B11493,B11493)","v":"HLCUIZ1221088525:32"},"HLCUIZ1221088525","TCLU3581951","HLCUIZ1221088525","20 Dry","PKKHI",294052,"2022-12-30","2023-01-19",228.5,"SW"]
[{"$f":"B11510&\":\"&COUNTIF($B$2:B11510,B11510)","v":"HLCUIZ1221163020:3"},"HLCUIZ1221163020","HLBU1966267","HLCUIZ1221163020","40 Dry","PKKHI",294052,"2022-12-30","2023-01-12",228.5,"SW"]
[{"$f":"B11525&\":\"&COUNTIF($B$2:B11525,B11525)","v":"HLCUMCT221202511:1"},"HLCUMCT221202511","HLBU1928354","HLCUMCT221202511","40 Dry","PKKHI",294052,"2022-12-30","2023-01-12",228.5,"BL"]
[{"$f":"B11543&\":\"&COUNTIF($B$2:B11543,B11543)","v":"HLCUIZ1221156010:1"},"HLCUIZ1221156010","TCNU1732974","HLCUIZ1221156010","40 Dry","PKKHI",294052,"2022-12-29","2023-01-04",228.5,"SW"]
[{"$f":"B11560&\":\"&COUNTIF($B$2:B11560,B11560)","v":"HLCUBSC2211BHGJ0:3"},"HLCUBSC2211BHGJ0","CAIU9288121","HLCUBSC2211BHGJ0","40 Dry","PKBQM",293166,"2022-12-30","2023-01-10",228.5,"BL"]
[{"$f":"B11573&\":\"&COUNTIF($B$2:B11573,B11573)","v":"HLCUBSC2211BOJL1:1"},"HLCUBSC2211BOJL1","TCNU1731155","HLCUBSC2211BOJL1","40 Dry","PKBQM",293166,"2022-12-30","2023-01-10",228.5,"BL"]
[{"$f":"B11593&\":\"&COUNTIF($B$2:B11593,B11593)","v":"HLCUBSC2211BOMM4:2"},"HLCUBSC2211BOMM4","BEAU5991738","HLCUBSC2211BOMM4","40 Dry","PKBQM",293166,"2022-12-30","2023-01-12",228.5,"BL"]
[{"$f":"B11605&\":\"&COUNTIF($B$2:B11605,B11605)","v":"HLCUTOR221034037:1"},"HLCUTOR221034037","UACU5461511","HLCUTOR221034037","40 Dry","PKBQM",293166,"2022-12-30","2023-01-10",228.5,"BL"]
[{"$f":"B11610&\":\"&COUNTIF($B$2:B11610,B11610)","v":"HLCUBSC2211ATZQ5:2"},"HLCUBSC2211ATZQ5","UACU3883626","HLCUBSC2211ATZQ5","20 Dry","PKBQM",293166,"2022-12-30","2023-01-10",228.5,"BL"]
[{"$f":"B11627&\":\"&COUNTIF($B$2:B11627,B11627)","v":"HLCUBSC2211AYXB6:2"},"HLCUBSC2211AYXB6","CAIU2567588","HLCUBSC2211AYXB6","20 Dry","PKBQM",293166,"2022-12-30","2023-01-10",228.5,"BL"]
[{"$f":"B11653&\":\"&COUNTIF($B$2:B11653,B11653)","v":"HLCUBSC2211BIZT8:1"},"HLCUBSC2211BIZT8","SEGU6887376","HLCUBSC2211BIZT8","40 Dry","PKBQM",293166,"2022-12-30","2023-01-10",228.5,"BL"]
[{"$f":"B11660&\":\"&COUNTIF($B$2:B11660,B11660)","v":"HLCUBSC2210BYCV5:3"},"HLCUBSC2210BYCV5","HLBU1531979","HLCUBSC2210BYCV5","40 Dry","PKBQM",293166,"2022-12-30","2023-01-12",228.5,"BL"]
[{"$f":"B11677&\":\"&COUNTIF($B$2:B11677,B11677)","v":"HLCUBSC2211BGAK0:3"},"HLCUBSC2211BGAK0","TGHU5166394","HLCUBSC2211BGAK0","40 Dry","PKBQM",293166,"2022-12-30","2023-01-12",228.5,"SW"]
[{"$f":"B11701&\":\"&COUNTIF($B$2:B11701,B11701)","v":"HLCUBSC2211BGQJ8:5"},"HLCUBSC2211BGQJ8","TCLU5880268","HLCUBSC2211BGQJ8","40 Dry","PKBQM",293166,"2022-12-30","2023-01-10",228.5,"BL"]
[{"$f":"B11710&\":\"&COUNTIF($B$2:B11710,B11710)","v":"HLCUTOR221123566:2"},"HLCUTOR221123566","HLBU2410734","HLCUTOR221123566","40 Dry","PKBQM",293166,"2022-12-30","2023-01-10",228.5,"BL"]
[{"$f":"B11733&\":\"&COUNTIF($B$2:B11733,B11733)","v":"HLCUMCT221202197:1"},"HLCUMCT221202197","FANU1726484","HLCUMCT221202197","40 Dry","PKKHI",295178,"2022-12-31","2023-01-13",228.5,"BL"]
[{"$f":"B11743&\":\"&COUNTIF($B$2:B11743,B11743)","v":"HLCUMCT221201574:1"},"HLCUMCT221201574","HLBU3147140","HLCUMCT221201574","40 Dry","PKKHI",295178,"2022-12-31","2023-01-13",228.5,"SW"]
[{"$f":"B11760&\":\"&COUNTIF($B$2:B11760,B11760)","v":"HLCUKW3221200449:1"},"HLCUKW3221200449","HLBU1937870","HLCUKW3221200449","40 Dry","PKKHI",295178,"2022-12-31","2023-01-13",228.5,"BL"]
[{"$f":"B11781&\":\"&COUNTIF($B$2:B11781,B11781)","v":"HLCUMCT221202310:1"},"HLCUMCT221202310","BSIU9100749","HLCUMCT221202310","40 Dry","PKKHI",295178,"2022-12-31","2023-01-13",228.5,"BL"]
[{"$f":"B11793&\":\"&COUNTIF($B$2:B11793,B11793)","v":"HLCUIZ1221088380:9"},"HLCUIZ1221088380","HLBU2854364","HLCUIZ1221088380","40 Dry","PKKHI",295178,"2022-12-31","2023-01-13",228.5,"BL"]
[{"$f":"B11810&\":\"&COUNTIF($B$2:B11810,B11810)","v":"HLCUIZ1221088380:26"},"HLCUIZ1221088380","HLBU2790531","HLCUIZ1221088380","40 Dry","PKKHI",295178,"2022-12-31","2023-01-13",228.5,"BL"]
[{"$f":"B11814&\":\"&COUNTIF($B$2:B11814,B11814)","v":"HLCUIZ1221088380:30"},"HLCUIZ1221088380","HLBU2404351","HLCUIZ1221088380","40 Dry","PKKHI",295178,"2022-12-31","2023-01-13",228.5,"BL"]
[{"$f":"B11843&\":\"&COUNTIF($B$2:B11843,B11843)","v":"HLCUDX3221230231:3"},"HLCUDX3221230231","HLBU2417488","HLCUDX3221230231","40 Dry","PKKHI",295178,"2022-12-31","2023-01-04",228.5,"SW"]
[{"$f":"B11860&\":\"&COUNTIF($B$2:B11860,B11860)","v":"HLCUIZ1221161532:5"},"HLCUIZ1221161532","TCLU5995349","HLCUIZ1221161532","40 Dry","PKKHI",295178,"2022-12-31","2023-01-13",228.5,"BL"]
[{"$f":"B11863&\":\"&COUNTIF($B$2:B11863,B11863)","v":"HLCUIZ1221161532:8"},"HLCUIZ1221161532","TGBU5855895","HLCUIZ1221161532","40 Dry","PKKHI",295178,"2022-12-31","2023-01-13",228.5,"BL"]
[{"$f":"B11877&\":\"&COUNTIF($B$2:B11877,B11877)","v":"HLCUIZ1221161700:10"},"HLCUIZ1221161700","FANU1818699","HLCUIZ1221161700","40 Dry","PKKHI",295178,"2022-12-31","2023-01-13",228.5,"BL"]
[{"$f":"B11894&\":\"&COUNTIF($B$2:B11894,B11894)","v":"HLCUKW3221200734:4"},"HLCUKW3221200734","BMOU5521889","HLCUKW3221200734","40 Dry","PKKHI",295178,"2022-12-31","2023-01-17",228.5,"BL"]
[{"$f":"B11910&\":\"&COUNTIF($B$2:B11910,B11910)","v":"HLCUMCT221201764:2"},"HLCUMCT221201764","UACU5229511","HLCUMCT221201764","40 Dry","PKKHI",295178,"2022-12-31","2023-01-13",228.5,"BL"]
[{"$f":"B11927&\":\"&COUNTIF($B$2:B11927,B11927)","v":"HLCUDX3221228226:3"},"HLCUDX3221228226","HAMU1208760","HLCUDX3221228226","40 Dry","PKKHI",295178,"2022-12-31","2023-01-13",228.5,"BL"]
[{"$f":"B11942&\":\"&COUNTIF($B$2:B11942,B11942)","v":"HLCUDX3221211315:4"},"HLCUDX3221211315","HLBU1747464","HLCUDX3221211315","20 Dry","PKKHI",295178,"2022-12-31","2023-01-13",228.5,"BL"]
[{"$f":"B11960&\":\"&COUNTIF($B$2:B11960,B11960)","v":"HLCUBUH221106850:6"},"HLCUBUH221106850","TEMU6846080","HLCUBUH221106850","40 Dry","PKKHI",295178,"2022-12-31","2023-01-09",228.5,"BL"]
[{"$f":"B11977&\":\"&COUNTIF($B$2:B11977,B11977)","v":"HLCUMCT221202807:2"},"HLCUMCT221202807","DFSU7484718","HLCUMCT221202807","40 Dry","PKKHI",295178,"2022-12-31","2023-01-13",228.5,"BL"]
[{"$f":"B11991&\":\"&COUNTIF($B$2:B11991,B11991)","v":"HLCURUH221202608:1"},"HLCURUH221202608","CAIU7916893","HLCURUH221202608","40 Dry","PKKHI",606556,"2022-12-31","2023-01-20",228.5,"BL"]
[{"$f":"B12010&\":\"&COUNTIF($B$2:B12010,B12010)","v":"HLCURUH221202897:1"},"HLCURUH221202897","DFSU6487287","HLCURUH221202897","40 Dry","PKKHI",606556,"2022-12-31","2023-01-20",228.5,"BL"]
[{"$f":"B12022&\":\"&COUNTIF($B$2:B12022,B12022)","v":"HLCUDM2221105572:3"},"HLCUDM2221105572","HLXU8278258","HLCUDM2221105572","40 Dry","PKKHI",606556,"2022-12-31","2023-01-20",228.5,"BL"]
[{"$f":"B12043&\":\"&COUNTIF($B$2:B12043,B12043)","v":"HLCUDX3221215232:4"},"HLCUDX3221215232","HLXU1213527","HLCUDX3221215232","20 Dry","PKKHI",606556,"2022-12-31","2023-01-20",228.5,"BL"]
[{"$f":"B12060&\":\"&COUNTIF($B$2:B12060,B12060)","v":"HLCURUH221202820:2"},"HLCURUH221202820","FANU1105213","HLCURUH221202820","40 Dry","PKKHI",606556,"2022-12-31","2023-01-20",228.5,"BL"]
[{"$f":"B12070&\":\"&COUNTIF($B$2:B12070,B12070)","v":"HLCURUH221201130:1"},"HLCURUH221201130","FANU1383446","HLCURUH221201130","40 Dry","PKKHI",606556,"2022-12-31","2023-01-20",228.5,"BL"]
[{"$f":"B12093&\":\"&COUNTIF($B$2:B12093,B12093)","v":"HLCUDM2221200968:4"},"HLCUDM2221200968","HLXU8003543","HLCUDM2221200968","40 Dry","PKKHI",606556,"2022-12-31","2023-01-20",228.5,"BL"]
[{"$f":"B12110&\":\"&COUNTIF($B$2:B12110,B12110)","v":"HLCURUH221202959:1"},"HLCURUH221202959","FANU1098114","HLCURUH221202959","40 Dry","PKKHI",606556,"2022-12-31","2023-01-20",228.5,"BL"]
[{"$f":"B12119&\":\"&COUNTIF($B$2:B12119,B12119)","v":"HLCURUH221202619:4"},"HLCURUH221202619","HLBU2711105","HLCURUH221202619","40 Dry","PKKHI",606556,"2022-12-31","2023-01-20",228.5,"BL"]
[{"$f":"B12127&\":\"&COUNTIF($B$2:B12127,B12127)","v":"HLCURUH221200624:4"},"HLCURUH221200624","HLBU3257363","HLCURUH221200624","40 Dry","PKKHI",606556,"2022-12-31","2023-01-20",228.5,"BL"]
[{"$f":"B12150&\":\"&COUNTIF($B$2:B12150,B12150)","v":"HLCUBC1221105672:5"},"HLCUBC1221105672","HLBU2952376","HLCUBC1221105672","20 Dry","PKBQM",295510,"2023-01-01","2023-01-07",227.4,"BL"]
[{"$f":"B12160&\":\"&COUNTIF($B$2:B12160,B12160)","v":"HLCUGOT221113977:1"},"HLCUGOT221113977","UACU8330557","HLCUGOT221113977","40 Dry","PKBQM",295510,"2023-01-01","2023-01-21",227.4,"BL"]
[{"$f":"B12177&\":\"&COUNTIF($B$2:B12177,B12177)","v":"HLCUANR221111099:8"},"HLCUANR221111099","NIDU2351514","HLCUANR221111099","20 Dry","PKBQM",295510,"2023-01-01","2023-01-10",227.4,"BL"]
[{"$f":"B12199&\":\"&COUNTIF($B$2:B12199,B12199)","v":"HLCUBC1221135258:1"},"HLCUBC1221135258","SEKU5728728","HLCUBC1221135258","40 Dry","PKKHI",292612,"2023-01-01","2023-01-07",228.5,"SW"]
[{"$f":"B12210&\":\"&COUNTIF($B$2:B12210,B12210)","v":"HLCUVL1221115432:1"},"HLCUVL1221115432","FCIU8044155","HLCUVL1221115432","40 Dry","PKKHI",292612,"2023-01-01","2023-01-14",228.5,"BL"]
[{"$f":"B12227&\":\"&COUNTIF($B$2:B12227,B12227)","v":"HLCUIZ1221137551:11"},"HLCUIZ1221137551","FANU1931093","HLCUIZ1221137551","40 Dry","PKKHI",292612,"2023-01-01","2023-01-10",228.5,"BL"]
[{"$f":"B12247&\":\"&COUNTIF($B$2:B12247,B12247)","v":"HLCUVL1221120022:1"},"HLCUVL1221120022","HLBU2034489","HLCUVL1221120022","40 Dry","PKKHI",292612,"2023-01-01","2023-01-14",228.5,"BL"]
[{"$f":"B12260&\":\"&COUNTIF($B$2:B12260,B12260)","v":"HLCUPI3221007605:7"},"HLCUPI3221007605","HLBU2773365","HLCUPI3221007605","40 Dry","PKKHI",292612,"2023-01-01","2023-01-14",228.5,"BL"]
[{"$f":"B12278&\":\"&COUNTIF($B$2:B12278,B12278)","v":"HLCUVL1221117599:1"},"HLCUVL1221117599","NIDU2305360","HLCUVL1221117599","20 Dry","PKKHI",292612,"2023-01-01","2023-01-14",228.5,"BL"]
[{"$f":"B12293&\":\"&COUNTIF($B$2:B12293,B12293)","v":"HLCUBC1221139566:1"},"HLCUBC1221139566","FANU3198730","HLCUBC1221139566","40 Dry","PKKHI",292612,"2023-01-01","2023-01-07",228.5,"BL"]
[{"$f":"B12310&\":\"&COUNTIF($B$2:B12310,B12310)","v":"HLCUIZ1221121537:17"},"HLCUIZ1221121537","TCNU6013593","HLCUIZ1221121537","40 Dry","PKKHI",292612,"2023-01-01","2023-01-14",228.5,"BL"]
[{"$f":"B12327&\":\"&COUNTIF($B$2:B12327,B12327)","v":"HLCUBSC2210APLF3:1"},"HLCUBSC2210APLF3","HLBU1423315","HLCUBSC2210APLF3","40 Dry","PKKHI",292612,"2023-01-01","2023-01-12",228.5,"BL"]
[{"$f":"B12343&\":\"&COUNTIF($B$2:B12343,B12343)","v":"HLCUSS5220967005:10"},"HLCUSS5220967005","HLBU1676083","HLCUSS5220967005","40 Dry","PKKHI",292612,"2023-01-01","2023-01-05",228.5,"BL"]
[{"$f":"B12360&\":\"&COUNTIF($B$2:B12360,B12360)","v":"HLCUVL1221119422:1"},"HLCUVL1221119422","HAMU1196525","HLCUVL1221119422","40 Dry","PKKHI",292612,"2023-01-01","2023-01-14",228.5,"BL"]
[{"$f":"B12375&\":\"&COUNTIF($B$2:B12375,B12375)","v":"HLCUALY221210067:1"},"HLCUALY221210067","GESU1083405","HLCUALY221210067","20 Dry","PKKHI",292612,"2023-01-01","2023-01-05",228.5,"BL"]
[{"$f":"B12377&\":\"&COUNTIF($B$2:B12377,B12377)","v":"HLCUGOA221195626:1"},"HLCUGOA221195626","FSCU9798821","HLCUGOA221195626","40 Dry","PKKHI",292612,"2023-01-01","2023-01-07",228.5,"BL"]
[{"$f":"B12392&\":\"&COUNTIF($B$2:B12392,B12392)","v":"HLCURUH221201079:3"},"HLCURUH221201079","CAIU4220601","HLCURUH221201079","40 Dry","PKKHI",291021,"2023-01-05","2023-01-25",227.85,"BL"]
[{"$f":"B12410&\":\"&COUNTIF($B$2:B12410,B12410)","v":"HLCUHAM2210BPPX5:2"},"HLCUHAM2210BPPX5","SEKU6408225","HLCUHAM2210BPPX5","40 Dry","PKKHI",291021,"2023-01-05","2023-01-18",227.85,"BL"]
[{"$f":"B12427&\":\"&COUNTIF($B$2:B12427,B12427)","v":"HLCUHAM221160816:1"},"HLCUHAM221160816","TDRU8422832","HLCUHAM221160816","40 Dry","PKKHI",291021,"2023-01-05","2023-01-18",227.85,"BL"]
[{"$f":"B12440&\":\"&COUNTIF($B$2:B12440,B12440)","v":"HLCUHAM2211BINW0:1"},"HLCUHAM2211BINW0","HLBU2864017","HLCUHAM2211BINW0","40 Dry","PKKHI",291021,"2023-01-05","2023-01-16",227.85,"SW"]
[{"$f":"B12460&\":\"&COUNTIF($B$2:B12460,B12460)","v":"HLCUHAM2211BIKE0:3"},"HLCUHAM2211BIKE0","HLXU8097481","HLCUHAM2211BIKE0","40 Dry","PKKHI",291021,"2023-01-05","2023-01-18",227.85,"BL"]
[{"$f":"B12477&\":\"&COUNTIF($B$2:B12477,B12477)","v":"HLCUJE2221206064:1"},"HLCUJE2221206064","TCNU8320599","HLCUJE2221206064","40 Dry","PKKHI",291021,"2023-01-05","2023-01-18",227.85,"SW"]
[{"$f":"B12488&\":\"&COUNTIF($B$2:B12488,B12488)","v":"HLCUHAM221140371:3"},"HLCUHAM221140371","TCNU1733693","HLCUHAM221140371","40 Dry","PKKHI",291021,"2023-01-05","2023-01-18",227.85,"BL"]
[{"$f":"B12510&\":\"&COUNTIF($B$2:B12510,B12510)","v":"HLCURTM221134597:1"},"HLCURTM221134597","DFSU4246589","HLCURTM221134597","40 Dry","PKKHI",291021,"2023-01-05","2023-01-09",227.85,"BL"]
[{"$f":"B12520&\":\"&COUNTIF($B$2:B12520,B12520)","v":"HLCUANR221103098:3"},"HLCUANR221103098","HLBU3146591","HLCUANR221103098","40 Dry","PKKHI",291021,"2023-01-05","2023-01-18",227.85,"BL"]
[{"$f":"B12543&\":\"&COUNTIF($B$2:B12543,B12543)","v":"HLCUHAM2211BTOU5:2"},"HLCUHAM2211BTOU5","FANU1175761","HLCUHAM2211BTOU5","40 Dry","PKKHI",291021,"2023-01-05","2023-01-18",227.85,"BL"]
[{"$f":"B12560&\":\"&COUNTIF($B$2:B12560,B12560)","v":"HLCUVAN221104744:4"},"HLCUVAN221104744","HLXU8382909","HLCUVAN221104744","40 Dry","PKKHI",291021,"2023-01-05","2023-01-16",227.85,"BL"]
[{"$f":"B12568&\":\"&COUNTIF($B$2:B12568,B12568)","v":"HLCUMTR221108073:2"},"HLCUMTR221108073","UACU5152955","HLCUMTR221108073","40 Dry","PKKHI",291021,"2023-01-04","2023-01-15",227.85,"BL"]
[{"$f":"B12593&\":\"&COUNTIF($B$2:B12593,B12593)","v":"HLCUTOR221107396:1"},"HLCUTOR221107396","UACU6027182","HLCUTOR221107396","40 Dry","PKKHI",291021,"2023-01-05","2023-01-16",227.85,"SW"]
[{"$f":"B12610&\":\"&COUNTIF($B$2:B12610,B12610)","v":"HLCUHAM221194670:1"},"HLCUHAM221194670","HAMU1251556","HLCUHAM221194670","40 Dry","PKKHI",291021,"2023-01-05","2023-01-14",227.85,"BL"]
[{"$f":"B12616&\":\"&COUNTIF($B$2:B12616,B12616)","v":"HLCURDS221100269:1"},"HLCURDS221100269","TGBU6236961","HLCURDS221100269","40 Dry","PKKHI",291021,"2023-01-05","2023-01-14",227.85,"BL"]
[{"$f":"B12627&\":\"&COUNTIF($B$2:B12627,B12627)","v":"HLCUHAM2210AYOW3:1"},"HLCUHAM2210AYOW3","FANU1734200","HLCUHAM2210AYOW3","40 Dry","PKKHI",291021,"2023-01-05","2023-01-14",227.85,"SW"]
[{"$f":"B12648&\":\"&COUNTIF($B$2:B12648,B12648)","v":"HLCUBEL221102740:1"},"HLCUBEL221102740","TTNU8338991","HLCUBEL221102740","40 Reefer","PKKHI",291021,"2023-01-05","2023-01-07",227.85,"BL"]
[{"$f":"B12660&\":\"&COUNTIF($B$2:B12660,B12660)","v":"HLCUHAM221183755:3"},"HLCUHAM221183755","HLBU2723385","HLCUHAM221183755","40 Dry","PKKHI",291021,"2023-01-05","2023-01-18",227.85,"BL"]
[{"$f":"B12677&\":\"&COUNTIF($B$2:B12677,B12677)","v":"HLCUBUH221109446:2"},"HLCUBUH221109446","HLXU8543500","HLCUBUH221109446","40 Dry","PKKHI",294054,"2023-01-05","2023-01-14",228.1,"BL"]
[{"$f":"B12696&\":\"&COUNTIF($B$2:B12696,B12696)","v":"HLCUIZ1221150387:1"},"HLCUIZ1221150387","HLXU5639784","HLCUIZ1221150387","40 Special","PKKHI",294054,"2023-01-05","2023-01-09",228.1,"SW"]
[{"$f":"B12710&\":\"&COUNTIF($B$2:B12710,B12710)","v":"HLCUDA3221201461:1"},"HLCUDA3221201461","FANU1356076","HLCUDA3221201461","20 Dry","PKKHI",294054,"2023-01-05","2023-01-18",228.1,"BL"]
[{"$f":"B12727&\":\"&COUNTIF($B$2:B12727,B12727)","v":"HLCUIZ1221188110:2"},"HLCUIZ1221188110","HAMU1112191","HLCUIZ1221188110","20 Dry","PKKHI",294054,"2023-01-05","2023-01-18",228.1,"SW"]
[{"$f":"B12744&\":\"&COUNTIF($B$2:B12744,B12744)","v":"HLCUIZ1221188110:19"},"HLCUIZ1221188110","UACU4093360","HLCUIZ1221188110","20 Dry","PKKHI",294054,"2023-01-05","2023-01-18",228.1,"SW"]
[{"$f":"B12760&\":\"&COUNTIF($B$2:B12760,B12760)","v":"HLCUBSC2211AWWS1:1"},"HLCUBSC2211AWWS1","GLDU7556287","HLCUBSC2211AWWS1","40 Dry","PKKHI",294054,"2023-01-05","2023-01-16",228.1,"BL"]
[{"$f":"B12776&\":\"&COUNTIF($B$2:B12776,B12776)","v":"HLCUJE2221116972:1"},"HLCUJE2221116972","NYKU4984931","HLCUJE2221116972","40 Dry","PKBQM",293458,"2023-01-05","2023-01-25",228.1,"SW"]
[{"$f":"B12793&\":\"&COUNTIF($B$2:B12793,B12793)","v":"HLCULIV221075508:2"},"HLCULIV221075508","CAIU2114880","HLCULIV221075508","20 Dry","PKBQM",293458,"2023-01-05","2023-01-14",228.1,"BL"]
[{"$f":"B12810&\":\"&COUNTIF($B$2:B12810,B12810)","v":"HLCULIV221075508:19"},"HLCULIV221075508","CAIU3353678","HLCULIV221075508","20 Dry","PKBQM",293458,"2023-01-05","2023-01-14",228.1,"BL"]
[{"$f":"B12824&\":\"&COUNTIF($B$2:B12824,B12824)","v":"HLCURTM221007080:7"},"HLCURTM221007080","SEGU3582922","HLCURTM221007080","20 Dry","PKBQM",293458,"2023-01-05","2023-01-18",228.1,"BL"]
[{"$f":"B12843&\":\"&COUNTIF($B$2:B12843,B12843)","v":"HLCULE1221072199:3"},"HLCULE1221072199","TCLU8349614","HLCULE1221072199","40 Dry","PKBQM",293458,"2023-01-05","2023-01-16",228.1,"SW"]
[{"$f":"B12860&\":\"&COUNTIF($B$2:B12860,B12860)","v":"HLCUHAM2212ARCR1:2"},"HLCUHAM2212ARCR1","BMOU1401993","HLCUHAM2212ARCR1","20 Dry","PKBQM",293458,"2023-01-05","2023-01-14",228.1,"BL"]
[{"$f":"B12872&\":\"&COUNTIF($B$2:B12872,B12872)","v":"HLCULIV221075479:8"},"HLCULIV221075479","DFSU2247014","HLCULIV221075479","20 Dry","PKBQM",293458,"2023-01-05","2023-01-14",228.1,"BL"]
[{"$f":"B12877&\":\"&COUNTIF($B$2:B12877,B12877)","v":"HLCURTM221014307:1"},"HLCURTM221014307","TGCU5186617","HLCURTM221014307","40 Dry","PKBQM",293458,"2023-01-05","2023-01-14",228.1,"BL"]
[{"$f":"B12904&\":\"&COUNTIF($B$2:B12904,B12904)","v":"HLCUVAN221107680:1"},"HLCUVAN221107680","HLBU1946018","HLCUVAN221107680","40 Dry","PKBQM",293458,"2023-01-05","2023-01-16",228.1,"SW"]
[{"$f":"B12910&\":\"&COUNTIF($B$2:B12910,B12910)","v":"HLCUBSC2211BKCR5:2"},"HLCUBSC2211BKCR5","HLBU2254689","HLCUBSC2211BKCR5","40 Dry","PKBQM",293458,"2023-01-05","2023-01-22",228.1,"BL"]
[{"$f":"B12927&\":\"&COUNTIF($B$2:B12927,B12927)","v":"HLCUTOR221135111:1"},"HLCUTOR221135111","FANU3078924","HLCUTOR221135111","40 Dry","PKBQM",293458,"2023-01-05","2023-01-16",228.1,"SW"]
[{"$f":"B12952&\":\"&COUNTIF($B$2:B12952,B12952)","v":"HLCUTOR221116608:1"},"HLCUTOR221116608","TCNU8434098","HLCUTOR221116608","40 Dry","PKBQM",293458,"2023-01-05","2023-01-16",228.1,"SW"]
[{"$f":"B12960&\":\"&COUNTIF($B$2:B12960,B12960)","v":"HLCUBSC2211BPNA0:1"},"HLCUBSC2211BPNA0","UACU6054790","HLCUBSC2211BPNA0","40 Dry","PKBQM",293458,"2023-01-05","2023-01-16",228.1,"SW"]
[{"$f":"B12977&\":\"&COUNTIF($B$2:B12977,B12977)","v":"HLCUTOR221108545:1"},"HLCUTOR221108545","GLDU9325395","HLCUTOR221108545","20 Dry","PKBQM",293458,"2023-01-05","2023-01-09",228.1,"BL"]
[{"$f":"B13000&\":\"&COUNTIF($B$2:B13000,B13000)","v":"HLCUBSC221182720:1"},"HLCUBSC221182720","HLBU1974302","HLCUBSC221182720","40 Dry","PKBQM",293458,"2023-01-05","2023-01-09",228.1,"SW"]
[{"$f":"B13010&\":\"&COUNTIF($B$2:B13010,B13010)","v":"HLCUBSC2211BLBJ7:2"},"HLCUBSC2211BLBJ7","UETU2727222","HLCUBSC2211BLBJ7","20 Dry","PKBQM",293458,"2023-01-05","2023-01-16",228.1,"BL"]
[{"$f":"B13017&\":\"&COUNTIF($B$2:B13017,B13017)","v":"HLCUBSC2211BQOC0:2"},"HLCUBSC2211BQOC0","CAAU2091776","HLCUBSC2211BQOC0","20 Dry","PKBQM",293458,"2023-01-05","2023-01-16",228.1,"BL"]
[{"$f":"B13043&\":\"&COUNTIF($B$2:B13043,B13043)","v":"HLCUBSC2211BLBN1:1"},"HLCUBSC2211BLBN1","BMOU4726950","HLCUBSC2211BLBN1","40 Dry","PKBQM",293458,"2023-01-05","2023-01-22",228.1,"BL"]
[{"$f":"B13060&\":\"&COUNTIF($B$2:B13060,B13060)","v":"HLCUBSC2211BSWM5:1"},"HLCUBSC2211BSWM5","BMOU2771890","HLCUBSC2211BSWM5","20 Dry","PKBQM",293458,"2023-01-05","2023-01-16",228.1,"BL"]
[{"$f":"B13065&\":\"&COUNTIF($B$2:B13065,B13065)","v":"HLCUJE2221200196:1"},"HLCUJE2221200196","HAMU1291440","HLCUJE2221200196","40 Dry","PKBQM",293458,"2023-01-05","2023-01-25",228.1,"SW"]
[{"$f":"B13093&\":\"&COUNTIF($B$2:B13093,B13093)","v":"HLCUBSC2211BMRQ0:2"},"HLCUBSC2211BMRQ0","HLBU1900505","HLCUBSC2211BMRQ0","40 Dry","PKBQM",293458,"2023-01-05","2023-01-16",228.1,"BL"]
[{"$f":"B13110&\":\"&COUNTIF($B$2:B13110,B13110)","v":"HLCUBSC2211BEAT4:7"},"HLCUBSC2211BEAT4","HLBU1638015","HLCUBSC2211BEAT4","40 Dry","PKBQM",293458,"2023-01-05","2023-01-22",228.1,"BL"]
[{"$f":"B13113&\":\"&COUNTIF($B$2:B13113,B13113)","v":"HLCUBSC2211BEAT4:10"},"HLCUBSC2211BEAT4","FANU3033508","HLCUBSC2211BEAT4","40 Dry","PKBQM",293458,"2023-01-05","2023-01-22",228.1,"BL"]
[{"$f":"B13127&\":\"&COUNTIF($B$2:B13127,B13127)","v":"HLCUBSC2211BKWL0:9"},"HLCUBSC2211BKWL0","NIDU5201360","HLCUBSC2211BKWL0","40 Dry","PKBQM",293458,"2023-01-05","2023-01-22",228.1,"BL"]
[{"$f":"B13145&\":\"&COUNTIF($B$2:B13145,B13145)","v":"HLCUBSC2211BKBU2:3"},"HLCUBSC2211BKBU2","TEMU1471628","HLCUBSC2211BKBU2","20 Dry","PKBQM",293458,"2023-01-05","2023-01-16",228.1,"BL"]
[{"$f":"B13160&\":\"&COUNTIF($B$2:B13160,B13160)","v":"HLCUBSC2211BLEH1:2"},"HLCUBSC2211BLEH1","HLXU1033700","HLCUBSC2211BLEH1","20 Dry","PKBQM",293458,"2023-01-05","2023-01-16",228.1,"BL"]
[{"$f":"B13177&\":\"&COUNTIF($B$2:B13177,B13177)","v":"HLCUTOR221135301:1"},"HLCUTOR221135301","HLXU8396944","HLCUTOR221135301","40 Dry","PKBQM",293168,"2023-01-06","2023-01-17",228.1,"BL"]
[{"$f":"B13193&\":\"&COUNTIF($B$2:B13193,B13193)","v":"HLCUBSC2211BVWV5:5"},"HLCUBSC2211BVWV5","HLBU2688582","HLCUBSC2211BVWV5","40 Dry","PKBQM",293168,"2023-01-06","2023-01-17",228.1,"BL"]
[{"$f":"B13210&\":\"&COUNTIF($B$2:B13210,B13210)","v":"HLCUBSC221249806:1"},"HLCUBSC221249806","UACU8309631","HLCUBSC221249806","40 Dry","PKBQM",293168,"2023-01-06","2023-01-19",228.1,"SW"]
[{"$f":"B13227&\":\"&COUNTIF($B$2:B13227,B13227)","v":"HLCUBSC2211BIPG5:1"},"HLCUBSC2211BIPG5","HLXU1370953","HLCUBSC2211BIPG5","20 Dry","PKBQM",293168,"2023-01-06","2023-01-19",228.1,"BL"]
[{"$f":"B13241&\":\"&COUNTIF($B$2:B13241,B13241)","v":"HLCUBSC2211BPUN1:7"},"HLCUBSC2211BPUN1","HLBU2886633","HLCUBSC2211BPUN1","40 Dry","PKBQM",293168,"2023-01-06","2023-01-17",228.1,"BL"]
[{"$f":"B13260&\":\"&COUNTIF($B$2:B13260,B13260)","v":"HLCUBSC2211BVOK4:5"},"HLCUBSC2211BVOK4","FANU1913700","HLCUBSC2211BVOK4","40 Dry","PKBQM",293168,"2023-01-06","2023-01-10",228.1,"SW"]
[{"$f":"B13273&\":\"&COUNTIF($B$2:B13273,B13273)","v":"HLCUBSC2211BSKA6:4"},"HLCUBSC2211BSKA6","FSCU8498671","HLCUBSC2211BSKA6","40 Dry","PKBQM",293168,"2023-01-06","2023-01-17",228.1,"BL"]
[{"$f":"B13293&\":\"&COUNTIF($B$2:B13293,B13293)","v":"HLCUBSC221208779:1"},"HLCUBSC221208779","FANU1709825","HLCUBSC221208779","40 Dry","PKBQM",293168,"2023-01-06","2023-01-17",228.1,"BL"]
[{"$f":"B13310&\":\"&COUNTIF($B$2:B13310,B13310)","v":"HLCUKW3221201229:2"},"HLCUKW3221201229","HLXU8104256","HLCUKW3221201229","40 Dry","PKKHI",295180,"2023-01-06","2023-01-23",228.1,"BL"]
[{"$f":"B13321&\":\"&COUNTIF($B$2:B13321,B13321)","v":"HLCUDX3221231870:1"},"HLCUDX3221231870","HLXU5409040","HLCUDX3221231870","40 Dry","PKKHI",295180,"2023-01-06","2023-02-04",228.1,"BL"]
[{"$f":"B13343&\":\"&COUNTIF($B$2:B13343,B13343)","v":"HLCUKW3221201419:1"},"HLCUKW3221201419","TCNU1815132","HLCUKW3221201419","40 Dry","PKKHI",295180,"2023-01-06","2023-01-23",228.1,"BL"]
[{"$f":"B13360&\":\"&COUNTIF($B$2:B13360,B13360)","v":"HLCUDX3221235637:2"},"HLCUDX3221235637","HLXU8052337","HLCUDX3221235637","40 Dry","PKKHI",295180,"2023-01-06","2023-01-19",228.1,"SW"]
[{"$f":"B13369&\":\"&COUNTIF($B$2:B13369,B13369)","v":"HLCUKW3221202126:3"},"HLCUKW3221202126","FANU1638568","HLCUKW3221202126","40 Dry","PKKHI",295180,"2023-01-06","2023-01-23",228.1,"BL"]
[{"$f":"B13377&\":\"&COUNTIF($B$2:B13377,B13377)","v":"HLCUKW3221202126:11"},"HLCUKW3221202126","HLXU8359112","HLCUKW3221202126","40 Dry","PKKHI",295180,"2023-01-06","2023-01-23",228.1,"BL"]
[{"$f":"B13401&\":\"&COUNTIF($B$2:B13401,B13401)","v":"HLCUDX3221216480:1"},"HLCUDX3221216480","NIDU2179431","HLCUDX3221216480","20 Dry","PKKHI",295180,"2023-01-07","2023-01-20",228.1,"BL"]
[{"$f":"B13410&\":\"&COUNTIF($B$2:B13410,B13410)","v":"HLCUDX3221225897:1"},"HLCUDX3221225897","CAIU2646223","HLCUDX3221225897","20 Dry","PKKHI",295180,"2023-01-07","2023-01-20",228.1,"BL"]
[{"$f":"B13427&\":\"&COUNTIF($B$2:B13427,B13427)","v":"HLCUMCT221202830:2"},"HLCUMCT221202830","FANU1889877","HLCUMCT221202830","40 Dry","PKKHI",295180,"2023-01-06","2023-01-19",228.1,"BL"]
[{"$f":"B13449&\":\"&COUNTIF($B$2:B13449,B13449)","v":"HLCUKW3221201887:5"},"HLCUKW3221201887","HLBU2229958","HLCUKW3221201887","40 Dry","PKKHI",295180,"2023-01-06","2023-01-23",228.1,"BL"]
[{"$f":"B13460&\":\"&COUNTIF($B$2:B13460,B13460)","v":"HLCUMCT221202980:1"},"HLCUMCT221202980","TEMU8170565","HLCUMCT221202980","40 Dry","PKKHI",295180,"2023-01-06","2023-01-19",228.1,"BL"]
[{"$f":"B13477&\":\"&COUNTIF($B$2:B13477,B13477)","v":"HLCUKW3221202160:7"},"HLCUKW3221202160","TCNU1817650","HLCUKW3221202160","40 Dry","PKKHI",295180,"2023-01-06","2023-01-23",228.1,"BL"]
[{"$f":"B13497&\":\"&COUNTIF($B$2:B13497,B13497)","v":"HLCUDX3221242679:1"},"HLCUDX3221242679","CAIU4364928","HLCUDX3221242679","40 Dry","PKKHI",295180,"2023-01-06","2023-01-19",228.1,"BL"]
[{"$f":"B13510&\":\"&COUNTIF($B$2:B13510,B13510)","v":"HLCUBEL221102232:2"},"HLCUBEL221102232","KKTU7885258","HLCUBEL221102232","20 Dry","PKBQM",292757,"2023-01-08","2023-01-17",228.1,"SW"]
[{"$f":"B13529&\":\"&COUNTIF($B$2:B13529,B13529)","v":"HLCUBC1221156706:7"},"HLCUBC1221156706","HLBU2554270","HLCUBC1221156706","40 Dry","PKBQM",292757,"2023-01-08","2023-01-21",228.1,"BL"]
[{"$f":"B13543&\":\"&COUNTIF($B$2:B13543,B13543)","v":"HLCUHAM221148614:3"},"HLCUHAM221148614","HLBU3130677","HLCUHAM221148614","40 Dry","PKBQM",292757,"2023-01-08","2023-01-21",228.1,"BL"]
[{"$f":"B13560&\":\"&COUNTIF($B$2:B13560,B13560)","v":"HLCUBC1221125993:4"},"HLCUBC1221125993","TGBU6166416","HLCUBC1221125993","40 Dry","PKBQM",292757,"2023-01-08","2023-01-21",228.1,"BL"]
[{"$f":"B13577&\":\"&COUNTIF($B$2:B13577,B13577)","v":"HLCUBC1221127001:1"},"HLCUBC1221127001","TCNU8372490","HLCUBC1221127001","40 Dry","PKKHI",295669,"2023-01-09","2023-01-22",228.1,"SW"]
[{"$f":"B13593&\":\"&COUNTIF($B$2:B13593,B13593)","v":"HLCUVL1221112796:1"},"HLCUVL1221112796","SEGU5709805","HLCUVL1221112796","40 Dry","PKKHI",295669,"2023-01-09","2023-01-22",228.1,"BL"]
[{"$f":"B13610&\":\"&COUNTIF($B$2:B13610,B13610)","v":"HLCURJ2221102800:1"},"HLCURJ2221102800","TCLU6420729","HLCURJ2221102800","40 Dry","PKKHI",295669,"2023-01-09","2023-01-18",228.1,"BL"]
[{"$f":"B13625&\":\"&COUNTIF($B$2:B13625,B13625)","v":"HLCUJE2221208300:3"},"HLCUJE2221208300","HLXU8070942","HLCUJE2221208300","40 Dry","PKKHI",295669,"2023-01-09","2023-01-22",228.1,"SW"]
[{"$f":"B13627&\":\"&COUNTIF($B$2:B13627,B13627)","v":"HLCUJE2221208300:5"},"HLCUJE2221208300","TGBU9632040","HLCUJE2221208300","40 Dry","PKKHI",295669,"2023-01-09","2023-01-22",228.1,"SW"]
[{"$f":"B13642&\":\"&COUNTIF($B$2:B13642,B13642)","v":"HLCUPI3221006909:9"},"HLCUPI3221006909","HLBU2198667","HLCUPI3221006909","40 Dry","PKKHI",295669,"2023-01-09","2023-01-22",228.1,"BL"]
[{"$f":"B13660&\":\"&COUNTIF($B$2:B13660,B13660)","v":"HLCUPI3221100195:5"},"HLCUPI3221100195","TCNU7501205","HLCUPI3221100195","40 Dry","PKKHI",295669,"2023-01-09","2023-01-22",228.1,"BL"]
[{"$f":"B13677&\":\"&COUNTIF($B$2:B13677,B13677)","v":"HLCUBSC2211ATAK6:1"},"HLCUBSC2211ATAK6","TGCU5185354","HLCUBSC2211ATAK6","40 Dry","PKBQM",293460,"2023-01-12","2023-01-29",229.5,"BL"]
[{"$f":"B13690&\":\"&COUNTIF($B$2:B13690,B13690)","v":"HLCUBSC2211BUAW4:3"},"HLCUBSC2211BUAW4","HLXU8313960","HLCUBSC2211BUAW4","40 Dry","PKBQM",293460,"2023-01-12","2023-01-23",229.5,"BL"]
[{"$f":"B13710&\":\"&COUNTIF($B$2:B13710,B13710)","v":"HLCUBSC2211BTGO1:4"},"HLCUBSC2211BTGO1","TGBU6173230","HLCUBSC2211BTGO1","40 Dry","PKBQM",293460,"2023-01-12","2023-01-29",229.5,"BL"]
[{"$f":"B13727&\":\"&COUNTIF($B$2:B13727,B13727)","v":"HLCUBSC2211BSER0:2"},"HLCUBSC2211BSER0","TEMU4486067","HLCUBSC2211BSER0","20 Dry","PKBQM",293460,"2023-01-12","2023-01-23",229.5,"BL"]
[{"$f":"B13738&\":\"&COUNTIF($B$2:B13738,B13738)","v":"HLCUBSC2211BRNM8:2"},"HLCUBSC2211BRNM8","FANU1199125","HLCUBSC2211BRNM8","40 Dry","PKBQM",293460,"2023-01-12","2023-01-16",229.5,"SW"]
[{"$f":"B13760&\":\"&COUNTIF($B$2:B13760,B13760)","v":"HLCUBSC2211BQOR5:1"},"HLCUBSC2211BQOR5","UACU4150475","HLCUBSC2211BQOR5","20 Dry","PKBQM",293460,"2023-01-12","2023-01-23",229.5,"BL"]
[{"$f":"B13777&\":\"&COUNTIF($B$2:B13777,B13777)","v":"HLCUBSC221220747:1"},"HLCUBSC221220747","TEMU4862061","HLCUBSC221220747","20 Dry","PKBQM",293460,"2023-01-12","2023-01-23",229.5,"BL"]
[{"$f":"B13787&\":\"&COUNTIF($B$2:B13787,B13787)","v":"HLCUBSC2211ASUP9:1"},"HLCUBSC2211ASUP9","UACU3916503","HLCUBSC2211ASUP9","20 Dry","PKBQM",293460,"2023-01-12","2023-01-23",229.5,"BL"]
[{"$f":"B13810&\":\"&COUNTIF($B$2:B13810,B13810)","v":"HLCUBSC2211BQYU8:2"},"HLCUBSC2211BQYU8","TCLU3889585","HLCUBSC2211BQYU8","20 Dry","PKBQM",293460,"2023-01-12","2023-01-23",229.5,"BL"]
[{"$f":"B13818&\":\"&COUNTIF($B$2:B13818,B13818)","v":"HLCUBSC2211BRLC7:2"},"HLCUBSC2211BRLC7","TGHU0960586","HLCUBSC2211BRLC7","20 Dry","PKBQM",293460,"2023-01-12","2023-01-23",229.5,"BL"]
[{"$f":"B13843&\":\"&COUNTIF($B$2:B13843,B13843)","v":"HLCUBSC2211BTTY8:1"},"HLCUBSC2211BTTY8","DFSU1195451","HLCUBSC2211BTTY8","20 Dry","PKBQM",293460,"2023-01-12","2023-01-23",229.5,"BL"]
[{"$f":"B13860&\":\"&COUNTIF($B$2:B13860,B13860)","v":"HLCUBSC2211BRMI8:6"},"HLCUBSC2211BRMI8","BEAU4939057","HLCUBSC2211BRMI8","40 Dry","PKBQM",293460,"2023-01-12","2023-01-29",229.5,"BL"]
[{"$f":"B13866&\":\"&COUNTIF($B$2:B13866,B13866)","v":"HLCUBSC2211BTZD5:2"},"HLCUBSC2211BTZD5","FCIU6304844","HLCUBSC2211BTZD5","20 Dry","PKBQM",293460,"2023-01-12","2023-01-23",229.5,"SW"]
[{"$f":"B13877&\":\"&COUNTIF($B$2:B13877,B13877)","v":"HLCUBSC2211BRJU8:2"},"HLCUBSC2211BRJU8","BEAU2175788","HLCUBSC2211BRJU8","20 Dry","PKBQM",293460,"2023-01-12","2023-01-23",229.5,"BL"]
[{"$f":"B13894&\":\"&COUNTIF($B$2:B13894,B13894)","v":"HLCUBSC2211BRLH1:9"},"HLCUBSC2211BRLH1","BEAU4995934","HLCUBSC2211BRLH1","40 Dry","PKBQM",293460,"2023-01-12","2023-01-29",229.5,"BL"]
[{"$f":"B13915&\":\"&COUNTIF($B$2:B13915,B13915)","v":"HLCUTOR221135049:3"},"HLCUTOR221135049","HLBU2476768","HLCUTOR221135049","40 Dry","PKBQM",293460,"2023-01-12","2023-01-23",229.5,"BL"]
[{"$f":"B13927&\":\"&COUNTIF($B$2:B13927,B13927)","v":"HLCUBSC221217706:2"},"HLCUBSC221217706","NYKU0854420","HLCUBSC221217706","40 Dry","PKBQM",293460,"2023-01-12","2023-01-25",229.5,"SW"]
[{"$f":"B13946&\":\"&COUNTIF($B$2:B13946,B13946)","v":"HLCUBSC221221655:8"},"HLCUBSC221221655","HLBU1789937","HLCUBSC221221655","40 Dry","PKBQM",293460,"2023-01-12","2023-01-25",229.5,"SW"]
[{"$f":"B13960&\":\"&COUNTIF($B$2:B13960,B13960)","v":"HLCUANR221170570:3"},"HLCUANR221170570","FANU1839602","HLCUANR221170570","40 Dry","PKKHI",292731,"2023-01-12","2023-02-10",229.5,"BL"]
[{"$f":"B13977&\":\"&COUNTIF($B$2:B13977,B13977)","v":"HLCUHAM221205071:1"},"HLCUHAM221205071","HLBU2811151","HLCUHAM221205071","40 Dry","PKKHI",292731,"2023-01-12","2023-01-23",229.5,"BL"]
[{"$f":"B13994&\":\"&COUNTIF($B$2:B13994,B13994)","v":"HLCUHAM221190212:4"},"HLCUHAM221190212","TRLU7207907","HLCUHAM221190212","40 Dry","PKKHI",292731,"2023-01-12","2023-01-25",229.5,"BL"]
[{"$f":"B14010&\":\"&COUNTIF($B$2:B14010,B14010)","v":"HLCURTM221129371:1"},"HLCURTM221129371","HLBU2615441","HLCURTM221129371","20 Dry","PKKHI",292731,"2023-01-12","2023-01-25",229.5,"BL"]
[{"$f":"B14027&\":\"&COUNTIF($B$2:B14027,B14027)","v":"HLCUFIH221000432:1"},"HLCUFIH221000432","GESU6315329","HLCUFIH221000432","40 Dry","PKKHI",292731,"2023-01-12","2023-01-16",229.5,"BL"]
[{"$f":"B14043&\":\"&COUNTIF($B$2:B14043,B14043)","v":"HLCUHAM221140126:1"},"HLCUHAM221140126","BEAU6002820","HLCUHAM221140126","40 Dry","PKKHI",292731,"2023-01-12","2023-01-25",229.5,"BL"]
[{"$f":"B14060&\":\"&COUNTIF($B$2:B14060,B14060)","v":"HLCUHAM2211AQMH0:1"},"HLCUHAM2211AQMH0","UACU3447073","HLCUHAM2211AQMH0","20 Dry","PKKHI",292731,"2023-01-12","2023-01-16",229.5,"BL"]
[{"$f":"B14074&\":\"&COUNTIF($B$2:B14074,B14074)","v":"HLCUTOR221124178:1"},"HLCUTOR221124178","FFAU2866810","HLCUTOR221124178","40 Dry","PKKHI",292731,"2023-01-12","2023-01-23",229.5,"SW"]
[{"$f":"B14093&\":\"&COUNTIF($B$2:B14093,B14093)","v":"HLCURI4220929815:1"},"HLCURI4220929815","HLBU2312743","HLCURI4220929815","20 Dry","PKKHI",292731,"2023-01-12","2023-01-16",229.5,"BL"]
[{"$f":"B14110&\":\"&COUNTIF($B$2:B14110,B14110)","v":"HLCUSS52210APHN1:1"},"HLCUSS52210APHN1","SEGU5267220","HLCUSS52210APHN1","40 Dry","PKKHI",292731,"2023-01-12","2023-01-25",229.5,"BL"]
[{"$f":"B14123&\":\"&COUNTIF($B$2:B14123,B14123)","v":"HLCUSS52209AZPZ7:5"},"HLCUSS52209AZPZ7","FANU3060648","HLCUSS52209AZPZ7","40 Dry","PKKHI",292731,"2023-01-12","2023-01-25",229.5,"BL"]
[{"$f":"B14127&\":\"&COUNTIF($B$2:B14127,B14127)","v":"HLCUTOR221116535:1"},"HLCUTOR221116535","TCNU8244924","HLCUTOR221116535","40 Dry","PKKHI",292731,"2023-01-12","2023-01-23",229.5,"SW"]
[{"$f":"B14144&\":\"&COUNTIF($B$2:B14144,B14144)","v":"HLCUTOR221109230:1"},"HLCUTOR221109230","SEGU6893677","HLCUTOR221109230","40 Dry","PKKHI",292731,"2023-01-12","2023-01-23",229.5,"SW"]
[{"$f":"B14171&\":\"&COUNTIF($B$2:B14171,B14171)","v":"HLCUSS52209AZQQ3:12"},"HLCUSS52209AZQQ3","GATU8822008","HLCUSS52209AZQQ3","40 Dry","PKKHI",292731,"2023-01-12","2023-01-25",229.5,"BL"]
[{"$f":"B14177&\":\"&COUNTIF($B$2:B14177,B14177)","v":"HLCUSS52209AZQQ3:18"},"HLCUSS52209AZQQ3","FCIU7331274","HLCUSS52209AZQQ3","40 Dry","PKKHI",292731,"2023-01-12","2023-01-25",229.5,"BL"]
[{"$f":"B14202&\":\"&COUNTIF($B$2:B14202,B14202)","v":"HLCUJE2221209303:5"},"HLCUJE2221209303","UASU1064230","HLCUJE2221209303","40 Dry","PKKHI",292731,"2023-01-12","2023-01-25",229.5,"BL"]
[{"$f":"B14210&\":\"&COUNTIF($B$2:B14210,B14210)","v":"HLCURTM221178699:1"},"HLCURTM221178699","FCIU3984943","HLCURTM221178699","20 Dry","PKKHI",292731,"2023-01-12","2023-01-16",229.5,"BL"]
[{"$f":"B14227&\":\"&COUNTIF($B$2:B14227,B14227)","v":"HLCUIZ1221195309:2"},"HLCUIZ1221195309","HLBU8101250","HLCUIZ1221195309","40 Special","PKKHI",295486,"2023-01-12","2023-01-16",229.6,"SW"]
[{"$f":"B14236&\":\"&COUNTIF($B$2:B14236,B14236)","v":"HLCUDX3230102129:5"},"HLCUDX3230102129","HLXU8447065","HLCUDX3230102129","40 Dry","PKKHI",295486,"2023-01-12","2023-01-16",229.6,"BL"]
[{"$f":"B14260&\":\"&COUNTIF($B$2:B14260,B14260)","v":"HLCUIZ12211AQJS8:3"},"HLCUIZ12211AQJS8","GESU6309542","HLCUIZ12211AQJS8","40 Dry","PKKHI",295486,"2023-01-12","2023-01-16",229.6,"SW"]
[{"$f":"B14277&\":\"&COUNTIF($B$2:B14277,B14277)","v":"HLCUDX3230102045:1"},"HLCUDX3230102045","HLXU6579015","HLCUDX3230102045","40 Dry","PKKHI",295486,"2023-01-12","2023-01-25",229.6,"BL"]
[{"$f":"B14284&\":\"&COUNTIF($B$2:B14284,B14284)","v":"HLCUBUH221110934:1"},"HLCUBUH221110934","FCIU8041731","HLCUBUH221110934","40 Dry","PKKHI",295486,"2023-01-12","2023-01-21",229.6,"BL"]
[{"$f":"B14310&\":\"&COUNTIF($B$2:B14310,B14310)","v":"HLCUBC1221163346:2"},"HLCUBC1221163346","TGBU5703892","HLCUBC1221163346","40 Dry","PKBQM",294836,"2023-01-13","2023-01-26",229.6,"BL"]
[{"$f":"B14315&\":\"&COUNTIF($B$2:B14315,B14315)","v":"HLCUBEN221100223:3"},"HLCUBEN221100223","UACU3850875","HLCUBEN221100223","20 Dry","PKBQM",294836,"2023-01-13","2023-01-24",229.6,"BL"]
[{"$f":"B14343&\":\"&COUNTIF($B$2:B14343,B14343)","v":"HLCULJU221100809:1"},"HLCULJU221100809","TGBU2245923","HLCULJU221100809","20 Dry","PKBQM",294836,"2023-01-13","2023-01-22",229.6,"BL"]
[{"$f":"B14360&\":\"&COUNTIF($B$2:B14360,B14360)","v":"HLCUBC1221125770:1"},"HLCUBC1221125770","UACU5764570","HLCUBC1221125770","40 Dry","PKBQM",294836,"2023-01-13","2023-01-26",229.6,"BL"]
[{"$f":"B14364&\":\"&COUNTIF($B$2:B14364,B14364)","v":"HLCUBC1221130115:1"},"HLCUBC1221130115","CAAU5445600","HLCUBC1221130115","40 Dry","PKBQM",294836,"2023-01-13","2023-01-26",229.6,"SW"]
[{"$f":"B14377&\":\"&COUNTIF($B$2:B14377,B14377)","v":"HLCUIZ1221139685:3"},"HLCUIZ1221139685","FCIU9162888","HLCUIZ1221139685","40 Dry","PKBQM",294836,"2023-01-13","2023-01-26",229.6,"BL"]
[{"$f":"B14394&\":\"&COUNTIF($B$2:B14394,B14394)","v":"HLCUBC1221131414:1"},"HLCUBC1221131414","FANU1137680","HLCUBC1221131414","40 Dry","PKBQM",294836,"2023-01-13","2023-01-26",229.6,"BL"]
[{"$f":"B14412&\":\"&COUNTIF($B$2:B14412,B14412)","v":"HLCUBC1221201636:1"},"HLCUBC1221201636","FANU1509236","HLCUBC1221201636","40 Dry","PKBQM",294836,"2023-01-13","2023-01-26",229.6,"SW"]
[{"$f":"B14427&\":\"&COUNTIF($B$2:B14427,B14427)","v":"HLCUGOA221298538:3"},"HLCUGOA221298538","TEMU1455714","HLCUGOA221298538","20 Dry","PKBQM",294836,"2023-01-13","2023-01-24",229.6,"BL"]
[{"$f":"B14444&\":\"&COUNTIF($B$2:B14444,B14444)","v":"HLCUVL1221108785:1"},"HLCUVL1221108785","UACU5495208","HLCUVL1221108785","40 Dry","PKBQM",294836,"2023-01-13","2023-01-26",229.6,"SW"]
[{"$f":"B14460&\":\"&COUNTIF($B$2:B14460,B14460)","v":"HLCUGOA221250340:1"},"HLCUGOA221250340","CAIU9543335","HLCUGOA221250340","40 Dry","PKBQM",294836,"2023-01-13","2023-01-24",229.6,"BL"]
[{"$f":"B14477&\":\"&COUNTIF($B$2:B14477,B14477)","v":"HLCUTOR221110265:1"},"HLCUTOR221110265","TCNU3706444","HLCUTOR221110265","40 Dry","PKBQM",294836,"2023-01-13","2023-01-24",229.6,"SW"]
[{"$f":"B14492&\":\"&COUNTIF($B$2:B14492,B14492)","v":"HLCUGOA221177092:1"},"HLCUGOA221177092","UACU4413524","HLCUGOA221177092","40 Special","PKBQM",294836,"2023-01-13","2023-01-26",229.6,"SW"]
[{"$f":"B14510&\":\"&COUNTIF($B$2:B14510,B14510)","v":"HLCUBEN221100340:4"},"HLCUBEN221100340","PHLU2101061","HLCUBEN221100340","20 Dry","PKBQM",294836,"2023-01-13","2023-01-24",229.6,"BL"]
[{"$f":"B14527&\":\"&COUNTIF($B$2:B14527,B14527)","v":"HLCUGOA2211AWOF6:2"},"HLCUGOA2211AWOF6","FCIU6103623","HLCUGOA2211AWOF6","20 Dry","PKBQM",294836,"2023-01-13","2023-01-24",229.6,"BL"]
[{"$f":"B14540&\":\"&COUNTIF($B$2:B14540,B14540)","v":"HLCUBC1221144800:3"},"HLCUBC1221144800","HLBU2836123","HLCUBC1221144800","40 Dry","PKBQM",294836,"2023-01-13","2023-01-26",229.6,"BL"]
[{"$f":"B14560&\":\"&COUNTIF($B$2:B14560,B14560)","v":"HLCUMCT221203229:1"},"HLCUMCT221203229","FSCU7232286","HLCUMCT221203229","40 Dry","PKKHI",297450,"2023-01-15","2023-01-28",229.6,"BL"]
[{"$f":"B14572&\":\"&COUNTIF($B$2:B14572,B14572)","v":"HLCUMCT221202186:3"},"HLCUMCT221202186","TCNU1607400","HLCUMCT221202186","40 Dry","PKKHI",297450,"2023-01-15","2023-01-28",229.6,"BL"]
[{"$f":"B14593&\":\"&COUNTIF($B$2:B14593,B14593)","v":"HLCUDA3221201545:2"},"HLCUDA3221201545","GESU3551228","HLCUDA3221201545","20 Dry","PKKHI",297450,"2023-01-15","2023-01-24",229.6,"BL"]
[{"$f":"B14610&\":\"&COUNTIF($B$2:B14610,B14610)","v":"HLCUMCT221204159:2"},"HLCUMCT221204159","HLBU1765703","HLCUMCT221204159","40 Dry","PKKHI",297450,"2023-01-15","2023-01-28",229.6,"BL"]
[{"$f":"B14620&\":\"&COUNTIF($B$2:B14620,B14620)","v":"HLCUDM2221203363:10"},"HLCUDM2221203363","TGBU5451337","HLCUDM2221203363","40 Dry","PKKHI",297450,"2023-01-14","2023-02-03",229.6,"BL"]
[{"$f":"B14627&\":\"&COUNTIF($B$2:B14627,B14627)","v":"HLCUKW3221201218:1"},"HLCUKW3221201218","UACU5543590","HLCUKW3221201218","40 Dry","PKKHI",297450,"2023-01-15","2023-02-04",229.6,"BL"]
[{"$f":"B14644&\":\"&COUNTIF($B$2:B14644,B14644)","v":"HLCURUH221202780:1"},"HLCURUH221202780","HLBU2180077","HLCURUH221202780","40 Dry","PKKHI",297450,"2023-01-15","2023-02-04",229.6,"BL"]
[{"$f":"B14668&\":\"&COUNTIF($B$2:B14668,B14668)","v":"HLCURUH221109580:1"},"HLCURUH221109580","UACU5469240","HLCURUH221109580","40 Dry","PKKHI",297450,"2023-01-14","2023-02-03",229.6,"BL"]
[{"$f":"B14677&\":\"&COUNTIF($B$2:B14677,B14677)","v":"HLCUDM2221203659:1"},"HLCUDM2221203659","FANU3095367","HLCUDM2221203659","40 Dry","PKKHI",297450,"2023-01-15","2023-02-04",229.6,"BL"]
[{"$f":"B14700&\":\"&COUNTIF($B$2:B14700,B14700)","v":"HLCUDX3230106375:2"},"HLCUDX3230106375","TEMU7299861","HLCUDX3230106375","40 Dry","PKKHI",297450,"2023-01-14","2023-01-27",229.6,"BL"]
[{"$f":"B14710&\":\"&COUNTIF($B$2:B14710,B14710)","v":"HLCUDM2221203268:4"},"HLCUDM2221203268","TCNU8323324","HLCUDM2221203268","40 Dry","PKKHI",297450,"2023-01-15","2023-02-04",229.6,"BL"]
[{"$f":"B14727&\":\"&COUNTIF($B$2:B14727,B14727)","v":"HLCUDX3230102279:1"},"HLCUDX3230102279","FANU3008017","HLCUDX3230102279","40 Dry","PKKHI",297450,"2023-01-14","2023-01-27",229.6,"BL"]
[{"$f":"B14748&\":\"&COUNTIF($B$2:B14748,B14748)","v":"HLCUDM2221211744:6"},"HLCUDM2221211744","HLBU1156923","HLCUDM2221211744","40 Dry","PKKHI",297450,"2023-01-14","2023-01-27",229.6,"BL"]
[{"$f":"B14760&\":\"&COUNTIF($B$2:B14760,B14760)","v":"HLCUMCT221201804:3"},"HLCUMCT221201804","TCLU5582730","HLCUMCT221201804","40 Dry","PKKHI",297450,"2023-01-14","2023-01-27",229.6,"BL"]
[{"$f":"B14777&\":\"&COUNTIF($B$2:B14777,B14777)","v":"HLCURUH221206949:10"},"HLCURUH221206949","HLBU1691920","HLCURUH221206949","40 Dry","PKKHI",297450,"2023-01-15","2023-02-04",229.6,"BL"]
[{"$f":"B14796&\":\"&COUNTIF($B$2:B14796,B14796)","v":"HLCUMCT221201775:2"},"HLCUMCT221201775","HLBU1630605","HLCUMCT221201775","40 Dry","PKKHI",297450,"2023-01-14","2023-01-27",229.6,"BL"]
[{"$f":"B14810&\":\"&COUNTIF($B$2:B14810,B14810)","v":"HLCUBAH221202869:2"},"HLCUBAH221202869","HLBU1206243","HLCUBAH221202869","40 Dry","PKKHI",297450,"2023-01-14","2023-01-27",229.6,"BL"]
[{"$f":"B14828&\":\"&COUNTIF($B$2:B14828,B14828)","v":"HLCUKW3221202009:6"},"HLCUKW3221202009","FFAU1670458","HLCUKW3221202009","40 Dry","PKKHI",297450,"2023-01-15","2023-02-04",229.6,"BL"]
[{"$f":"B14843&\":\"&COUNTIF($B$2:B14843,B14843)","v":"HLCUDX3230100558:1"},"HLCUDX3230100558","FFAU2122248","HLCUDX3230100558","40 Dry","PKKHI",297450,"2023-01-14","2023-01-27",229.6,"BL"]
[{"$f":"B14860&\":\"&COUNTIF($B$2:B14860,B14860)","v":"HLCUDX3230100112:1"},"HLCUDX3230100112","HLXU8250950","HLCUDX3230100112","40 Dry","PKKHI",297450,"2023-01-14","2023-01-18",229.6,"SW"]
[{"$f":"B14861&\":\"&COUNTIF($B$2:B14861,B14861)","v":"HLCUDX3230100112:2"},"HLCUDX3230100112","TCNU8347223","HLCUDX3230100112","40 Dry","PKKHI",297450,"2023-01-14","2023-01-18",229.6,"SW"]
[{"$f":"B14877&\":\"&COUNTIF($B$2:B14877,B14877)","v":"HLCUMCT221202829:1"},"HLCUMCT221202829","TGHU9581480","HLCUMCT221202829","40 Dry","PKKHI",297450,"2023-01-15","2023-01-28",229.6,"BL"]
[{"$f":"B14894&\":\"&COUNTIF($B$2:B14894,B14894)","v":"HLCUKW3221201134:9"},"HLCUKW3221201134","UACU5643537","HLCUKW3221201134","40 Dry","PKKHI",297450,"2023-01-15","2023-01-28",229.6,"BL"]
[{"$f":"B14909&\":\"&COUNTIF($B$2:B14909,B14909)","v":"HLCURTM221187056:1"},"HLCURTM221187056","HLBU1478410","HLCURTM221187056","40 Dry","PKBQM",292759,"2023-01-16","2023-01-29",229.6,"SW"]
[{"$f":"B14927&\":\"&COUNTIF($B$2:B14927,B14927)","v":"HLCUHAM2211ATCW4:1"},"HLCUHAM2211ATCW4","TCKU6550880","HLCUHAM2211ATCW4","40 Dry","PKBQM",292759,"2023-01-16","2023-01-29",229.6,"BL"]
[{"$f":"B14941&\":\"&COUNTIF($B$2:B14941,B14941)","v":"HLCULE1221226680:1"},"HLCULE1221226680","HLBU2906576","HLCULE1221226680","40 Dry","PKKHI",295671,"","",228.38,"BL"]
[{"$f":"B14960&\":\"&COUNTIF($B$2:B14960,B14960)","v":"HLCUPI3221102610:18"},"HLCUPI3221102610","TCNU8823551","HLCUPI3221102610","40 Dry","PKKHI",295671,"2023-01-17","2023-01-30",228.38,"BL"]
[{"$f":"B14977&\":\"&COUNTIF($B$2:B14977,B14977)","v":"HLCUPI3221201270:1"},"HLCUPI3221201270","HLBU3403180","HLCUPI3221201270","40 Dry","PKKHI",295671,"2023-01-16","2023-01-29",228.38,"BL"]
[{"$f":"B14989&\":\"&COUNTIF($B$2:B14989,B14989)","v":"HLCUGOA2211AZMY2:1"},"HLCUGOA2211AZMY2","CARU3830653","HLCUGOA2211AZMY2","20 Dry","PKKHI",295671,"2023-01-17","2023-01-30",228.38,"SW"]
[{"$f":"B15010&\":\"&COUNTIF($B$2:B15010,B15010)","v":"HLCUBC1221207782:1"},"HLCUBC1221207782","UACU8557047","HLCUBC1221207782","40 Dry","PKKHI",295671,"2023-01-16","2023-01-25",228.38,"BL"]
[{"$f":"B15027&\":\"&COUNTIF($B$2:B15027,B15027)","v":"HLCUPI3221102643:1"},"HLCUPI3221102643","CAIU8350049","HLCUPI3221102643","40 Dry","PKKHI",295671,"2023-01-16","2023-01-29",228.38,"BL"]
[{"$f":"B15037&\":\"&COUNTIF($B$2:B15037,B15037)","v":"HLCUPI3221005793:4"},"HLCUPI3221005793","HLBU3405835","HLCUPI3221005793","40 Dry","PKKHI",295671,"2023-01-17","2023-01-30",228.38,"BL"]
[{"$f":"B15060&\":\"&COUNTIF($B$2:B15060,B15060)","v":"HLCUPI3221101874:4"},"HLCUPI3221101874","HLBU2412568","HLCUPI3221101874","40 Dry","PKKHI",295671,"2023-01-16","2023-01-29",228.38,"BL"]
[{"$f":"B15069&\":\"&COUNTIF($B$2:B15069,B15069)","v":"HLCUPI3221101874:13"},"HLCUPI3221101874","FCIU9094654","HLCUPI3221101874","40 Dry","PKKHI",295671,"2023-01-16","2023-01-29",228.38,"BL"]
[{"$f":"B15093&\":\"&COUNTIF($B$2:B15093,B15093)","v":"HLCUGOA221205342:2"},"HLCUGOA221205342","UACU3680758","HLCUGOA221205342","20 Dry","PKKHI",295671,"2022-12-25","",228.38,"BL"]
[{"$f":"B15110&\":\"&COUNTIF($B$2:B15110,B15110)","v":"HLCULE1220544500:4"},"HLCULE1220544500","UACU5241610","HLCULE1220544500","40 Dry","PKKHI",295671,"","2023-01-21",228.38,"SW"]
[{"$f":"B15117&\":\"&COUNTIF($B$2:B15117,B15117)","v":"HLCUDOH230101206:1"},"HLCUDOH230101206","UACU5993010","HLCUDOH230101206","40 Dry","PKKHI",297340,"2023-01-17","2023-02-06",229.9,"BL"]
[{"$f":"B15127&\":\"&COUNTIF($B$2:B15127,B15127)","v":"HLCUDOH230100068:5"},"HLCUDOH230100068","HLBU1906490","HLCUDOH230100068","40 Dry","PKKHI",297340,"2023-01-17","2023-01-30",229.9,"BL"]
[{"$f":"B15144&\":\"&COUNTIF($B$2:B15144,B15144)","v":"HLCUDOH230101535:1"},"HLCUDOH230101535","BEAU4727079","HLCUDOH230101535","40 Dry","PKKHI",297340,"2023-01-17","2023-02-06",229.9,"BL"]
[{"$f":"B15165&\":\"&COUNTIF($B$2:B15165,B15165)","v":"HLCUDOH230101111:4"},"HLCUDOH230101111","TCLU6526768","HLCUDOH230101111","40 Dry","PKKHI",297340,"2023-01-17","2023-02-06",229.9,"BL"]
[{"$f":"B15177&\":\"&COUNTIF($B$2:B15177,B15177)","v":"HLCUDOH230102210:4"},"HLCUDOH230102210","UACU5927364","HLCUDOH230102210","40 Dry","PKKHI",297340,"2023-01-17","2023-02-06",229.9,"BL"]
[{"$f":"B15197&\":\"&COUNTIF($B$2:B15197,B15197)","v":"HLCUHAM2211ARYV9:3"},"HLCUHAM2211ARYV9","FDCU0038346","HLCUHAM2211ARYV9","40 Dry","PKKHI",292719,"2023-01-18","2023-01-31",229.9,"BL"]
[{"$f":"B15210&\":\"&COUNTIF($B$2:B15210,B15210)","v":"HLCUJE2221208852:4"},"HLCUJE2221208852","HLBU1177525","HLCUJE2221208852","40 Dry","PKKHI",292719,"2023-01-18","2023-01-31",229.9,"SW"]
[{"$f":"B15227&\":\"&COUNTIF($B$2:B15227,B15227)","v":"HLCUHAM2211BNSZ6:2"},"HLCUHAM2211BNSZ6","FANU1566745","HLCUHAM2211BNSZ6","40 Dry","PKKHI",292719,"2023-01-19","2023-02-01",229.9,"BL"]
[{"$f":"B15245&\":\"&COUNTIF($B$2:B15245,B15245)","v":"HLCUANR221171104:1"},"HLCUANR221171104","UACU5104176","HLCUANR221171104","40 Dry","PKKHI",292719,"2023-01-19","2023-02-17",229.9,"BL"]
[{"$f":"B15260&\":\"&COUNTIF($B$2:B15260,B15260)","v":"HLCUHAM2211AQBU8:1"},"HLCUHAM2211AQBU8","FANU1859240","HLCUHAM2211AQBU8","40 Dry","PKKHI",292719,"2023-01-18","2023-01-27",229.9,"SW"]
[{"$f":"B15277&\":\"&COUNTIF($B$2:B15277,B15277)","v":"HLCUHAM221278158:4"},"HLCUHAM221278158","HLBU2571596","HLCUHAM221278158","40 Dry","PKKHI",292719,"2023-01-19","2023-02-01",229.9,"BL"]
[{"$f":"B15293&\":\"&COUNTIF($B$2:B15293,B15293)","v":"HLCUHAM221217592:1"},"HLCUHAM221217592","FANU1871353","HLCUHAM221217592","40 Dry","PKKHI",292719,"2023-01-18","2023-01-27",229.9,"SW"]
[{"$f":"B15310&\":\"&COUNTIF($B$2:B15310,B15310)","v":"HLCURUH221202960:6"},"HLCURUH221202960","FSCU8238334","HLCURUH221202960","40 Dry","PKKHI",292719,"2023-01-18","2023-02-07",229.9,"BL"]
[{"$f":"B15325&\":\"&COUNTIF($B$2:B15325,B15325)","v":"HLCURI4221016922:1"},"HLCURI4221016922","FANU3036169","HLCURI4221016922","40 Dry","PKKHI",292719,"2023-01-18","2023-01-22",229.9,"SW"]
[{"$f":"B15343&\":\"&COUNTIF($B$2:B15343,B15343)","v":"HLCUBSC2211BPXN3:1"},"HLCUBSC2211BPXN3","SEGU5467131","HLCUBSC2211BPXN3","40 Dry","PKKHI",292719,"2023-01-18","2023-01-22",229.9,"SW"]
[{"$f":"B15360&\":\"&COUNTIF($B$2:B15360,B15360)","v":"HLCUHAM2211AXLQ6:3"},"HLCUHAM2211AXLQ6","SEGU5016225","HLCUHAM2211AXLQ6","40 Dry","PKKHI",292719,"2023-01-19","2023-02-08",229.9,"BL"]
[{"$f":"B15373&\":\"&COUNTIF($B$2:B15373,B15373)","v":"HLCURTM221152488:1"},"HLCURTM221152488","BEAU4181753","HLCURTM221152488","40 Dry","PKKHI",292719,"2023-01-19","2023-02-08",229.9,"BL"]
[{"$f":"B15377&\":\"&COUNTIF($B$2:B15377,B15377)","v":"HLCUHAM2211AWFU9:1"},"HLCUHAM2211AWFU9","HLBU9734545","HLCUHAM2211AWFU9","20 Reefer","PKKHI",292719,"2023-01-18","2023-01-31",229.9,"BL"]
[{"$f":"B15394&\":\"&COUNTIF($B$2:B15394,B15394)","v":"HLCUIZ1221232483:1"},"HLCUIZ1221232483","HLBU9260702","HLCUIZ1221232483","40 Reefer","PKKHI",295492,"2023-01-19","2023-01-25",230.3,"BL"]
[{"$f":"B15421&\":\"&COUNTIF($B$2:B15421,B15421)","v":"HLCUIZ1221241907:2"},"HLCUIZ1221241907","BSIU9146009","HLCUIZ1221241907","40 Dry","PKKHI",295492,"2023-01-18","2023-01-24",230.3,"SW"]
[{"$f":"B15427&\":\"&COUNTIF($B$2:B15427,B15427)","v":"HLCUJIB221200313:1"},"HLCUJIB221200313","HLXU1347830","HLCUJIB221200313","20 Dry","PKKHI",295492,"2023-01-19","2023-02-01",230.3,"BL"]
[{"$f":"B15453&\":\"&COUNTIF($B$2:B15453,B15453)","v":"HLCUSYD221020966:1"},"HLCUSYD221020966","UETU5479114","HLCUSYD221020966","40 Dry","PKBQM",293462,"2023-01-19","2023-01-23",230.3,"SW"]
[{"$f":"B15460&\":\"&COUNTIF($B$2:B15460,B15460)","v":"HLCUGOT221019138:6"},"HLCUGOT221019138","SEGU6978007","HLCUGOT221019138","40 Dry","PKBQM",293462,"2023-01-19","2023-01-28",230.3,"BL"]
[{"$f":"B15477&\":\"&COUNTIF($B$2:B15477,B15477)","v":"HLCUANR221159538:7"},"HLCUANR221159538","FCIU4744628","HLCUANR221159538","20 Dry","PKBQM",293462,"2023-01-19","2023-01-28",230.3,"SW"]
[{"$f":"B15486&\":\"&COUNTIF($B$2:B15486,B15486)","v":"HLCUANR221159538:16"},"HLCUANR221159538","BMOU1431149","HLCUANR221159538","20 Dry","PKBQM",293462,"2023-01-19","2023-01-28",230.3,"SW"]
[{"$f":"B15510&\":\"&COUNTIF($B$2:B15510,B15510)","v":"HLCUBSC221247610:2"},"HLCUBSC221247610","BEAU2161188","HLCUBSC221247610","20 Dry","PKBQM",293462,"2023-01-19","2023-01-30",230.3,"BL"]
[{"$f":"B15527&\":\"&COUNTIF($B$2:B15527,B15527)","v":"HLCUBSC2212APZW9:1"},"HLCUBSC2212APZW9","HLXU8581114","HLCUBSC2212APZW9","40 Dry","PKBQM",293462,"2023-01-19","2023-01-30",230.3,"BL"]
[{"$f":"B15534&\":\"&COUNTIF($B$2:B15534,B15534)","v":"HLCUBSC2212AQUC9:3"},"HLCUBSC2212AQUC9","HLBU1009239","HLCUBSC2212AQUC9","20 Dry","PKBQM",293462,"2023-01-19","2023-01-30",230.3,"BL"]
[{"$f":"B15560&\":\"&COUNTIF($B$2:B15560,B15560)","v":"HLCUBSC221247793:2"},"HLCUBSC221247793","HLXU3535780","HLCUBSC221247793","20 Dry","PKBQM",293462,"2023-01-19","2023-01-30",230.3,"BL"]
[{"$f":"B15566&\":\"&COUNTIF($B$2:B15566,B15566)","v":"HLCUBSC221239112:2"},"HLCUBSC221239112","HLBU3411289","HLCUBSC221239112","40 Dry","PKBQM",293462,"2023-01-19","2023-01-23",230.3,"SW"]
[{"$f":"B15593&\":\"&COUNTIF($B$2:B15593,B15593)","v":"HLCUTOR221207909:1"},"HLCUTOR221207909","CAAU5330133","HLCUTOR221207909","40 Dry","PKBQM",293462,"2023-01-19","2023-01-30",230.3,"SW"]
[{"$f":"B15610&\":\"&COUNTIF($B$2:B15610,B15610)","v":"HLCUVAN221202663:1"},"HLCUVAN221202663","HLXU8162139","HLCUVAN221202663","40 Dry","PKBQM",293462,"2023-01-19","2023-01-30",230.3,"SW"]
[{"$f":"B15614&\":\"&COUNTIF($B$2:B15614,B15614)","v":"HLCUBSC2212AQTH8:1"},"HLCUBSC2212AQTH8","UACU4098063","HLCUBSC2212AQTH8","20 Dry","PKBQM",293462,"2023-01-19","2023-01-30",230.3,"BL"]
[{"$f":"B15627&\":\"&COUNTIF($B$2:B15627,B15627)","v":"HLCUTOR221104248:1"},"HLCUTOR221104248","HAMU1221551","HLCUTOR221104248","40 Dry","PKBQM",293462,"2023-01-19","2023-01-30",230.3,"BL"]
[{"$f":"B15644&\":\"&COUNTIF($B$2:B15644,B15644)","v":"HLCUBSC2212APTK8:3"},"HLCUBSC2212APTK8","HAMU1211316","HLCUBSC2212APTK8","40 Dry","PKBQM",293462,"2023-01-19","2023-02-05",230.3,"BL"]
[{"$f":"B15662&\":\"&COUNTIF($B$2:B15662,B15662)","v":"HLCUBSC221253459:3"},"HLCUBSC221253459","HLBU2401917","HLCUBSC221253459","40 Dry","PKBQM",293462,"2023-01-19","2023-01-23",230.3,"SW"]
[{"$f":"B15677&\":\"&COUNTIF($B$2:B15677,B15677)","v":"HLCUBSC221244254:1"},"HLCUBSC221244254","CAIU3332525","HLCUBSC221244254","20 Dry","PKBQM",293462,"2023-01-19","2023-01-30",230.3,"BL"]
[{"$f":"B15694&\":\"&COUNTIF($B$2:B15694,B15694)","v":"HLCUDX3230126199:10"},"HLCUDX3230126199","HLBU9395375","HLCUDX3230126199","40 Reefer","PKKHI",297452,"2023-01-22","2023-01-31",230.6,"BL"]
[{"$f":"B15710&\":\"&COUNTIF($B$2:B15710,B15710)","v":"HLCUBAH230101640:1"},"HLCUBAH230101640","CAIU2680188","HLCUBAH230101640","20 Dry","PKKHI",297452,"2023-01-22","2023-02-05",230.6,"BL"]
[{"$f":"B15727&\":\"&COUNTIF($B$2:B15727,B15727)","v":"HLCUDX3230113022:2"},"HLCUDX3230113022","TXGU7014621","HLCUDX3230113022","40 Dry","PKKHI",297452,"2023-01-22","2023-01-26",230.6,"SW"]
[{"$f":"B15742&\":\"&COUNTIF($B$2:B15742,B15742)","v":"HLCUKW3221202305:3"},"HLCUKW3221202305","UACU5345213","HLCUKW3221202305","40 Dry","PKKHI",297452,"2023-01-22","2023-02-11",230.6,"BL"]
[{"$f":"B15760&\":\"&COUNTIF($B$2:B15760,B15760)","v":"HLCURUH221205767:5"},"HLCURUH221205767","UACU5790688","HLCURUH221205767","40 Dry","PKKHI",297452,"2023-01-22","2023-02-11",230.6,"BL"]
[{"$f":"B15777&\":\"&COUNTIF($B$2:B15777,B15777)","v":"HLCUDX3230116930:2"},"HLCUDX3230116930","HLBU3391259","HLCUDX3230116930","40 Dry","PKKHI",297452,"2023-01-22","2023-02-04",230.6,"BL"]
[{"$f":"B15790&\":\"&COUNTIF($B$2:B15790,B15790)","v":"HLCUMCT230100557:5"},"HLCUMCT230100557","UACU5533020","HLCUMCT230100557","40 Dry","PKKHI",297452,"2023-01-22","2023-02-04",230.6,"BL"]
[{"$f":"B15810&\":\"&COUNTIF($B$2:B15810,B15810)","v":"HLCUKW3230100022:6"},"HLCUKW3230100022","BEAU5000818","HLCUKW3230100022","40 Dry","PKKHI",297452,"2023-01-22","2023-02-04",230.6,"BL"]
[{"$f":"B15827&\":\"&COUNTIF($B$2:B15827,B15827)","v":"HLCUDX3230112020:9"},"HLCUDX3230112020","SEGU3571954","HLCUDX3230112020","20 Dry","PKKHI",297452,"2023-01-22","2023-02-11",230.6,"SW"]
[{"$f":"B15839&\":\"&COUNTIF($B$2:B15839,B15839)","v":"HLCURUH221208195:1"},"HLCURUH221208195","BSIU9056630","HLCURUH221208195","40 Dry","PKKHI",297452,"2023-01-22","2023-02-11",230.6,"BL"]
[{"$f":"B15860&\":\"&COUNTIF($B$2:B15860,B15860)","v":"HLCUMCT230100111:4"},"HLCUMCT230100111","UACU5750854","HLCUMCT230100111","40 Dry","PKKHI",297452,"2023-01-22","2023-02-04",230.6,"BL"]
[{"$f":"B15870&\":\"&COUNTIF($B$2:B15870,B15870)","v":"HLCUDX3230101857:1"},"HLCUDX3230101857","HLXU5367834","HLCUDX3230101857","40 Dry","PKKHI",297452,"2023-01-22","2023-02-04",230.6,"BL"]
[{"$f":"B15877&\":\"&COUNTIF($B$2:B15877,B15877)","v":"HLCURUH221208130:2"},"HLCURUH221208130","HLBU1856104","HLCURUH221208130","40 Dry","PKKHI",297452,"2023-01-22","2023-02-11",230.6,"BL"]
[{"$f":"B15894&\":\"&COUNTIF($B$2:B15894,B15894)","v":"HLCURTM220964548:7"},"HLCURTM220964548","UACU3928090","HLCURTM220964548","20 Dry","PKBQM",973227,"2023-01-21","2023-01-30",230.6,"BL"]
[{"$f":"B15918&\":\"&COUNTIF($B$2:B15918,B15918)","v":"HLCUBC1221163697:4"},"HLCUBC1221163697","CAIU2669743","HLCUBC1221163697","20 Dry","PKBQM",973227,"2023-01-21","2023-02-03",230.6,"BL"]
[{"$f":"B15927&\":\"&COUNTIF($B$2:B15927,B15927)","v":"HLCUIZ1221227999:6"},"HLCUIZ1221227999","HLBU1051199","HLCUIZ1221227999","40 Dry","PKBQM",973227,"2023-01-21","2023-02-19",230.6,"SW"]
[{"$f":"B15944&\":\"&COUNTIF($B$2:B15944,B15944)","v":"HLCUIZ1221231955:8"},"HLCUIZ1221231955","TCLU4128446","HLCUIZ1221231955","40 Dry","PKBQM",973227,"2023-01-21","2023-02-19",230.6,"SW"]
[{"$f":"B15967&\":\"&COUNTIF($B$2:B15967,B15967)","v":"HLCUSYD220956414:1"},"HLCUSYD220956414","HLXU5383075","HLCUSYD220956414","40 Dry","PKBQM",973227,"2023-01-21","2023-01-25",230.6,"BL"]
[{"$f":"B15977&\":\"&COUNTIF($B$2:B15977,B15977)","v":"HLCUIZ1221250078:9"},"HLCUIZ1221250078","FANU1941846","HLCUIZ1221250078","40 Dry","PKBQM",973227,"2023-01-21","2023-01-27",230.6,"SW"]
[{"$f":"B15998&\":\"&COUNTIF($B$2:B15998,B15998)","v":"HLCULJU221101622:2"},"HLCULJU221101622","UACU3577462","HLCULJU221101622","20 Dry","PKBQM",973227,"2023-01-21","2023-01-30",230.6,"BL"]
[{"$f":"B16010&\":\"&COUNTIF($B$2:B16010,B16010)","v":"HLCUBC1221151439:1"},"HLCUBC1221151439","AMFU8952768","HLCUBC1221151439","40 Dry","PKBQM",973227,"2023-01-21","2023-02-03",230.6,"SW"]
[{"$f":"B16027&\":\"&COUNTIF($B$2:B16027,B16027)","v":"HLCURTM221200680:1"},"HLCURTM221200680","UACU5670316","HLCURTM221200680","40 Dry","PKBQM",295530,"2023-01-22","2023-02-04",230.6,"BL"]
[{"$f":"B16047&\":\"&COUNTIF($B$2:B16047,B16047)","v":"HLCUTOR221209166:1"},"HLCUTOR221209166","HLBU1111301","HLCUTOR221209166","20 Dry","PKBQM",293464,"2023-01-26","2023-02-06",231.4,"BL"]
[{"$f":"B16060&\":\"&COUNTIF($B$2:B16060,B16060)","v":"HLCUBSC221264871:1"},"HLCUBSC221264871","UACU5086302","HLCUBSC221264871","40 Dry","PKBQM",293464,"2023-01-26","2023-02-06",231.4,"SW"]
[{"$f":"B16077&\":\"&COUNTIF($B$2:B16077,B16077)","v":"HLCUBSC2212APHC0:2"},"HLCUBSC2212APHC0","HLBU3198471","HLCUBSC2212APHC0","40 Dry","PKBQM",293464,"2023-01-26","2023-01-30",231.4,"BL"]
[{"$f":"B16080&\":\"&COUNTIF($B$2:B16080,B16080)","v":"HLCUBSC221298056:1"},"HLCUBSC221298056","HLBU1201663","HLCUBSC221298056","40 Dry","PKBQM",293464,"2023-01-26","2023-02-06",231.4,"SW"]
[{"$f":"B16110&\":\"&COUNTIF($B$2:B16110,B16110)","v":"HLCUBSC2212APRK7:7"},"HLCUBSC2212APRK7","TCLU5878358","HLCUBSC2212APRK7","40 Dry","PKBQM",293464,"2023-01-26","2023-01-30",231.4,"SW"]
[{"$f":"B16111&\":\"&COUNTIF($B$2:B16111,B16111)","v":"HLCUBSC2212APRK7:8"},"HLCUBSC2212APRK7","FANU1209774","HLCUBSC2212APRK7","40 Dry","PKBQM",293464,"2023-01-26","2023-01-30",231.4,"SW"]
[{"$f":"B16127&\":\"&COUNTIF($B$2:B16127,B16127)","v":"HLCUBSC2212BBJB1:1"},"HLCUBSC2212BBJB1","FANU1545547","HLCUBSC2212BBJB1","40 Dry","PKBQM",293464,"2023-01-26","2023-02-06",231.4,"BL"]
[{"$f":"B16144&\":\"&COUNTIF($B$2:B16144,B16144)","v":"HLCUTOR221214170:1"},"HLCUTOR221214170","TCNU5058905","HLCUTOR221214170","40 Dry","PKBQM",293464,"2023-01-26","2023-02-06",231.4,"BL"]
[{"$f":"B16160&\":\"&COUNTIF($B$2:B16160,B16160)","v":"HLCUBSC2212ARUT8:2"},"HLCUBSC2212ARUT8","TGBU5753018","HLCUBSC2212ARUT8","40 Dry","PKBQM",293464,"2023-01-26","2023-02-06",231.4,"BL"]
[{"$f":"B16177&\":\"&COUNTIF($B$2:B16177,B16177)","v":"HLCUBSC221247285:4"},"HLCUBSC221247285","UACU3589735","HLCUBSC221247285","20 Dry","PKBQM",293464,"2023-01-26","2023-02-06",231.4,"BL"]
[{"$f":"B16194&\":\"&COUNTIF($B$2:B16194,B16194)","v":"HLCUBSC2212APUD7:4"},"HLCUBSC2212APUD7","HLBU1278541","HLCUBSC2212APUD7","40 Dry","PKBQM",293464,"2023-01-26","2023-01-30",231.4,"SW"]
[{"$f":"B16208&\":\"&COUNTIF($B$2:B16208,B16208)","v":"HLCUBSC221295186:1"},"HLCUBSC221295186","UETU5916976","HLCUBSC221295186","40 Dry","PKBQM",293464,"2023-01-26","2023-02-06",231.4,"SW"]
[{"$f":"B16227&\":\"&COUNTIF($B$2:B16227,B16227)","v":"HLCUBSC2212BBUO0:1"},"HLCUBSC2212BBUO0","HLBU3285149","HLCUBSC2212BBUO0","40 Dry","PKBQM",293464,"2023-01-26","2023-02-06",231.4,"BL"]
[{"$f":"B16239&\":\"&COUNTIF($B$2:B16239,B16239)","v":"HLCUGOA221190030:7"},"HLCUGOA221190030","TEMU7572560","HLCUGOA221190030","40 Dry","PKKHI",292733,"2023-01-26","2023-02-09",231.4,"BL"]
[{"$f":"B16260&\":\"&COUNTIF($B$2:B16260,B16260)","v":"HLCUGOA221256190:1"},"HLCUGOA221256190","HLXU8040260","HLCUGOA221256190","40 Dry","PKKHI",292733,"2023-01-26","2023-02-01",231.4,"BL"]
[{"$f":"B16277&\":\"&COUNTIF($B$2:B16277,B16277)","v":"HLCUHAM2211BOJU9:1"},"HLCUHAM2211BOJU9","TLLU5327116","HLCUHAM2211BOJU9","40 Dry","PKKHI",292733,"2023-01-26","2023-01-30",231.4,"SW"]
[{"$f":"B16288&\":\"&COUNTIF($B$2:B16288,B16288)","v":"HLCUHAM2211BCPT0:10"},"HLCUHAM2211BCPT0","UETU5806515","HLCUHAM2211BCPT0","40 Dry","PKKHI",292733,"2023-01-26","2023-02-08",231.4,"SW"]
[{"$f":"B16310&\":\"&COUNTIF($B$2:B16310,B16310)","v":"HLCUHAM2211BKML9:3"},"HLCUHAM2211BKML9","FCIU7228287","HLCUHAM2211BKML9","40 Dry","PKKHI",292733,"2023-01-26","2023-02-08",231.4,"SW"]
[{"$f":"B16327&\":\"&COUNTIF($B$2:B16327,B16327)","v":"HLCUHAM2211BMEM9:1"},"HLCUHAM2211BMEM9","HAMU1207450","HLCUHAM2211BMEM9","40 Dry","PKKHI",292733,"2023-01-26","2023-02-08",231.4,"BL"]
[{"$f":"B16336&\":\"&COUNTIF($B$2:B16336,B16336)","v":"HLCUHAM2210AXBD5:1"},"HLCUHAM2210AXBD5","CLHU4800683","HLCUHAM2210AXBD5","40 Dry","PKKHI",292733,"2023-01-26","2023-02-08",231.4,"BL"]
[{"$f":"B16360&\":\"&COUNTIF($B$2:B16360,B16360)","v":"HLCUHAM221190384:4"},"HLCUHAM221190384","FANU1562307","HLCUHAM221190384","40 Dry","PKKHI",292733,"2023-01-26","2023-02-08",231.4,"BL"]
[{"$f":"B16368&\":\"&COUNTIF($B$2:B16368,B16368)","v":"HLCURTM221152550:3"},"HLCURTM221152550","BMOU6668787","HLCURTM221152550","40 Dry","PKKHI",292733,"2023-01-26","2023-02-15",231.4,"BL"]
[{"$f":"B16377&\":\"&COUNTIF($B$2:B16377,B16377)","v":"HLCUHAM2211AYEU9:2"},"HLCUHAM2211AYEU9","UACU6006940","HLCUHAM2211AYEU9","40 Dry","PKKHI",292733,"2023-01-26","2023-02-15",231.4,"BL"]
[{"$f":"B16394&\":\"&COUNTIF($B$2:B16394,B16394)","v":"HLCURTM221186540:8"},"HLCURTM221186540","PRGU9796312","HLCURTM221186540","40 Dry","PKKHI",292733,"2023-01-26","",231.4,"SW"]
[{"$f":"B16416&\":\"&COUNTIF($B$2:B16416,B16416)","v":"HLCUPRG221103623:1"},"HLCUPRG221103623","FANU1959399","HLCUPRG221103623","40 Dry","PKKHI",292733,"2023-01-26","2023-02-08",231.4,"SW"]
[{"$f":"B16427&\":\"&COUNTIF($B$2:B16427,B16427)","v":"HLCURTM221153436:1"},"HLCURTM221153436","HLBU2761826","HLCURTM221153436","40 Dry","PKKHI",292733,"2023-01-26","2023-02-15",231.4,"BL"]
[{"$f":"B16444&\":\"&COUNTIF($B$2:B16444,B16444)","v":"HLCURTM221153470:3"},"HLCURTM221153470","FANU1153187","HLCURTM221153470","40 Dry","PKKHI",292733,"2023-01-26","2023-02-15",231.4,"BL"]
[{"$f":"B16464&\":\"&COUNTIF($B$2:B16464,B16464)","v":"HLCULIV2211AOVX3:2"},"HLCULIV2211AOVX3","CAIU9569767","HLCULIV2211AOVX3","40 Dry","PKKHI",292733,"2023-01-26","2023-01-30",231.4,"BL"]
[{"$f":"B16477&\":\"&COUNTIF($B$2:B16477,B16477)","v":"HLCUTOR221132822:1"},"HLCUTOR221132822","RFCU5050571","HLCUTOR221132822","40 Dry","PKKHI",292733,"2023-01-26","2023-02-06",231.4,"SW"]
[{"$f":"B16496&\":\"&COUNTIF($B$2:B16496,B16496)","v":"HLCUTOR221204615:1"},"HLCUTOR221204615","TXGU7033180","HLCUTOR221204615","40 Dry","PKKHI",292733,"2023-01-26","2023-02-06",231.4,"BL"]
[{"$f":"B16510&\":\"&COUNTIF($B$2:B16510,B16510)","v":"HLCUHAM2211BGUD3:1"},"HLCUHAM2211BGUD3","TCLU6969010","HLCUHAM2211BGUD3","20 Dry","PKKHI",292733,"2023-01-26","2023-02-04",231.4,"SW"]
[{"$f":"B16527&\":\"&COUNTIF($B$2:B16527,B16527)","v":"HLCUHAM2212AWIX7:1"},"HLCUHAM2212AWIX7","UACU8580140","HLCUHAM2212AWIX7","40 Dry","PKKHI",292733,"2023-01-26","2023-02-08",231.4,"SW"]
[{"$f":"B16544&\":\"&COUNTIF($B$2:B16544,B16544)","v":"HLCUIZ1221228472:1"},"HLCUIZ1221228472","TCLU5124682","HLCUIZ1221228472","40 Dry","PKKHI",295494,"2023-01-26","2023-01-30",231.6,"SW"]
[{"$f":"B16560&\":\"&COUNTIF($B$2:B16560,B16560)","v":"HLCUIZ1221228417:1"},"HLCUIZ1221228417","AMFU8951036","HLCUIZ1221228417","40 Dry","PKKHI",295494,"2023-01-26","2023-02-08",231.6,"SW"]
[{"$f":"B16577&\":\"&COUNTIF($B$2:B16577,B16577)","v":"HLCUIZ1221205354:15"},"HLCUIZ1221205354","DFSU7315174","HLCUIZ1221205354","40 Dry","PKKHI",295494,"2023-01-26","2023-02-08",231.6,"BL"]
[{"$f":"B16592&\":\"&COUNTIF($B$2:B16592,B16592)","v":"HLCUIZ1221151569:1"},"HLCUIZ1221151569","TCLU6269320","HLCUIZ1221151569","40 Dry","PKKHI",295494,"2023-01-26","2023-02-04",231.6,"BL"]
[{"$f":"B16610&\":\"&COUNTIF($B$2:B16610,B16610)","v":"HLCUTOR221223173:1"},"HLCUTOR221223173","HLBU2780791","HLCUTOR221223173","40 Dry","PKBQM",293172,"2023-01-27","2023-02-07",231.6,"BL"]
[{"$f":"B16624&\":\"&COUNTIF($B$2:B16624,B16624)","v":"HLCUBSC2212AYFL5:9"},"HLCUBSC2212AYFL5","TCLU5977469","HLCUBSC2212AYFL5","40 Dry","PKBQM",293172,"2023-01-27","2023-02-07",231.6,"BL"]
[{"$f":"B16627&\":\"&COUNTIF($B$2:B16627,B16627)","v":"HLCUBSC2212BBYC5:1"},"HLCUBSC2212BBYC5","UACU8564560","HLCUBSC2212BBYC5","40 Dry","PKBQM",293172,"2023-01-27","2023-02-09",231.6,"BL"]
[{"$f":"B16644&\":\"&COUNTIF($B$2:B16644,B16644)","v":"HLCUBSC2212BDBX5:1"},"HLCUBSC2212BDBX5","TEMU2209720","HLCUBSC2212BDBX5","20 Dry","PKBQM",293172,"2023-01-27","2023-02-07",231.6,"BL"]
[{"$f":"B16672&\":\"&COUNTIF($B$2:B16672,B16672)","v":"HLCUBSC2211BFLO3:1"},"HLCUBSC2211BFLO3","HAMU1243709","HLCUBSC2211BFLO3","40 Dry","PKBQM",293172,"2023-01-27","2023-02-09",231.6,"BL"]
[{"$f":"B16677&\":\"&COUNTIF($B$2:B16677,B16677)","v":"HLCUBSC2212BGWT4:1"},"HLCUBSC2212BGWT4","TCKU6060374","HLCUBSC2212BGWT4","40 Dry","PKBQM",293172,"2023-01-27","2023-02-07",231.6,"BL"]
[{"$f":"B16694&\":\"&COUNTIF($B$2:B16694,B16694)","v":"HLCUBSC2212ASSD4:3"},"HLCUBSC2212ASSD4","CAIU8494004","HLCUBSC2212ASSD4","40 Dry","PKBQM",293172,"2023-01-27","2023-02-07",231.6,"BL"]
[{"$f":"B16705&\":\"&COUNTIF($B$2:B16705,B16705)","v":"HLCUBSC2212BGUC1:11"},"HLCUBSC2212BGUC1","FDCU0315672","HLCUBSC2212BGUC1","40 Dry","PKBQM",293172,"2023-01-27","2023-02-07",231.6,"BL"]
[{"$f":"B16727&\":\"&COUNTIF($B$2:B16727,B16727)","v":"HLCUBSC2212AUBH5:1"},"HLCUBSC2212AUBH5","TXGU7120032","HLCUBSC2212AUBH5","40 Dry","PKBQM",293172,"2023-01-27","2023-02-09",231.6,"SW"]
[{"$f":"B16737&\":\"&COUNTIF($B$2:B16737,B16737)","v":"HLCUVAN221203158:1"},"HLCUVAN221203158","FANU3023665","HLCUVAN221203158","40 Dry","PKBQM",293172,"2023-01-27","2023-02-07",231.6,"SW"]
[{"$f":"B16760&\":\"&COUNTIF($B$2:B16760,B16760)","v":"HLCUBSC2212BGCS3:1"},"HLCUBSC2212BGCS3","FFAU2203078","HLCUBSC2212BGCS3","40 Dry","PKBQM",293172,"2023-01-27","2023-02-07",231.6,"BL"]
[{"$f":"B16777&\":\"&COUNTIF($B$2:B16777,B16777)","v":"HLCUTOR221226478:1"},"HLCUTOR221226478","HLBU2220061","HLCUTOR221226478","40 Dry","PKBQM",293172,"2023-01-27","2023-02-07",231.6,"SW"]
[{"$f":"B16785&\":\"&COUNTIF($B$2:B16785,B16785)","v":"HLCUBSC2212AYYZ3:1"},"HLCUBSC2212AYYZ3","FANU1627440","HLCUBSC2212AYYZ3","40 Dry","PKBQM",293172,"2023-01-27","2023-02-09",231.6,"BL"]
[{"$f":"B16810&\":\"&COUNTIF($B$2:B16810,B16810)","v":"HLCUBSC2212BHBL4:7"},"HLCUBSC2212BHBL4","HLBU1937103","HLCUBSC2212BHBL4","40 Dry","PKBQM",293172,"2023-01-27","2023-01-31",231.6,"BL"]
[{"$f":"B16827&\":\"&COUNTIF($B$2:B16827,B16827)","v":"HLCUBC1221215147:1"},"HLCUBC1221215147","UACU5307790","HLCUBC1221215147","40 Dry","PKBQM",981550,"2023-01-28","2023-02-10",231.6,"SW"]
[{"$f":"B16833&\":\"&COUNTIF($B$2:B16833,B16833)","v":"HLCUIZ1221271994:2"},"HLCUIZ1221271994","HLXU5365071","HLCUIZ1221271994","40 Dry","PKBQM",981550,"2023-01-28","2023-02-26",231.6,"SW"]
[{"$f":"B16860&\":\"&COUNTIF($B$2:B16860,B16860)","v":"HLCUGOA2211ATGV2:1"},"HLCUGOA2211ATGV2","HLBU3280018","HLCUGOA2211ATGV2","40 Dry","PKBQM",981550,"2023-01-28","2023-02-08",231.6,"BL"]
[{"$f":"B16865&\":\"&COUNTIF($B$2:B16865,B16865)","v":"HLCUGOA2212ARRW1:1"},"HLCUGOA2212ARRW1","UACU5234077","HLCUGOA2212ARRW1","40 Dry","PKBQM",981550,"2023-01-28","2023-02-08",231.6,"BL"]
[{"$f":"B16877&\":\"&COUNTIF($B$2:B16877,B16877)","v":"HLCUBC1221215136:3"},"HLCUBC1221215136","TCNU1512645","HLCUBC1221215136","40 Dry","PKBQM",981550,"2023-01-28","2023-02-01",231.6,"SW"]
[{"$f":"B16894&\":\"&COUNTIF($B$2:B16894,B16894)","v":"HLCUGOA2212ATTI3:1"},"HLCUGOA2212ATTI3","TLLU5235128","HLCUGOA2212ATTI3","40 Dry","PKBQM",981550,"2023-01-28","2023-02-08",231.6,"BL"]
[{"$f":"B16913&\":\"&COUNTIF($B$2:B16913,B16913)","v":"HLCUALY230104577:1"},"HLCUALY230104577","HLBU3001155","HLCUALY230104577","20 Dry","PKKHI",295677,"2023-01-30","2023-02-12",233,"BL"]
[{"$f":"B16927&\":\"&COUNTIF($B$2:B16927,B16927)","v":"HLCURDS221100682:3"},"HLCURDS221100682","HLBU2241017","HLCURDS221100682","40 Dry","PKKHI",295677,"2023-01-30","2023-02-08",233,"BL"]
[{"$f":"B16944&\":\"&COUNTIF($B$2:B16944,B16944)","v":"HLCUPI3221106326:10"},"HLCUPI3221106326","TCLU8074482","HLCUPI3221106326","40 Dry","PKKHI",295677,"2023-01-29","2023-02-02",233,"BL"]
[{"$f":"B16961&\":\"&COUNTIF($B$2:B16961,B16961)","v":"HLCUVL1221213022:14"},"HLCUVL1221213022","UACU3753514","HLCUVL1221213022","20 Dry","PKKHI",295677,"2023-01-30","2023-02-12",233,"SW"]
[{"$f":"B16977&\":\"&COUNTIF($B$2:B16977,B16977)","v":"HLCULJU221102212:3"},"HLCULJU221102212","FCIU8776897","HLCULJU221102212","40 Dry","PKKHI",295677,"2023-01-30","2023-02-10",233,"BL"]
[{"$f":"B16993&\":\"&COUNTIF($B$2:B16993,B16993)","v":"HLCUALY230107224:1"},"HLCUALY230107224","HAMU1085521","HLCUALY230107224","20 Dry","PKKHI",295677,"","",233,"BL"]
[{"$f":"B17010&\":\"&COUNTIF($B$2:B17010,B17010)","v":"HLCUTOR221113431:2"},"HLCUTOR221113431","HLBU3378982","HLCUTOR221113431","40 Dry","PKKHI",295677,"2023-01-30","2023-02-10",233,"BL"]
[{"$f":"B17027&\":\"&COUNTIF($B$2:B17027,B17027)","v":"HLCUTOR221117209:5"},"HLCUTOR221117209","CAAU5460815","HLCUTOR221117209","40 Dry","PKKHI",295677,"2023-01-30","2023-02-10",233,"SW"]
[{"$f":"B17041&\":\"&COUNTIF($B$2:B17041,B17041)","v":"HLCUBSC2211BBAJ6:1"},"HLCUBSC2211BBAJ6","HLBU2807059","HLCUBSC2211BBAJ6","40 Dry","PKKHI",295677,"2023-01-30","2023-02-12",233,"BL"]
[{"$f":"B17060&\":\"&COUNTIF($B$2:B17060,B17060)","v":"HLCURDS221100598:2"},"HLCURDS221100598","CAIU8468068","HLCURDS221100598","40 Dry","PKKHI",295677,"2023-01-30","2023-02-08",233,"BL"]
[{"$f":"B17077&\":\"&COUNTIF($B$2:B17077,B17077)","v":"HLCUGOA221228226:1"},"HLCUGOA221228226","TGBU5856762","HLCUGOA221228226","40 Dry","PKKHI",297344,"2023-01-30","2023-02-05",233,"BL"]
[{"$f":"B17089&\":\"&COUNTIF($B$2:B17089,B17089)","v":"HLCUALY221231676:5"},"HLCUALY221231676","FCIU6509103","HLCUALY221231676","20 Dry","PKKHI",297344,"2023-01-30","2023-02-12",233,"BL"]
[{"$f":"B17110&\":\"&COUNTIF($B$2:B17110,B17110)","v":"HLCUALY221230808:7"},"HLCUALY221230808","CAIU2753978","HLCUALY221230808","20 Dry","PKKHI",297344,"2023-01-30","2023-02-12",233,"BL"]
[{"$f":"B17121&\":\"&COUNTIF($B$2:B17121,B17121)","v":"HLCUGOA221280423:1"},"HLCUGOA221280423","HLBU8186405","HLCUGOA221280423","40 Special","PKKHI",297344,"2023-01-29","2023-02-02",233,"SW"]
[{"$f":"B17127&\":\"&COUNTIF($B$2:B17127,B17127)","v":"HLCUTOR221136158:1"},"HLCUTOR221136158","UACU5826841","HLCUTOR221136158","40 Dry","PKKHI",297344,"2023-01-29","2023-02-09",233,"SW"]
[{"$f":"B17144&\":\"&COUNTIF($B$2:B17144,B17144)","v":"HLCUBSC2211BWQY2:1"},"HLCUBSC2211BWQY2","TRLU7013054","HLCUBSC2211BWQY2","40 Dry","PKKHI",297344,"2023-01-29","2023-02-09",233,"BL"]
[{"$f":"B17169&\":\"&COUNTIF($B$2:B17169,B17169)","v":"HLCUDX3230128520:2"},"HLCUDX3230128520","TCKU6599371","HLCUDX3230128520","40 Dry","PKKHI",297454,"2023-01-30","2023-02-12",231.6,"BL"]
[{"$f":"B17177&\":\"&COUNTIF($B$2:B17177,B17177)","v":"HLCUIZ1221262968:1"},"HLCUIZ1221262968","HLBU9574600","HLCUIZ1221262968","40 Reefer","PKKHI",297454,"2023-01-30","2023-02-01",231.6,"SW"]
[{"$f":"B17194&\":\"&COUNTIF($B$2:B17194,B17194)","v":"HLCULJU221101432:4"},"HLCULJU221101432","BEAU4198885","HLCULJU221101432","40 Dry","PKKHI",297454,"2023-01-30","2023-02-10",231.6,"BL"]
[{"$f":"B17217&\":\"&COUNTIF($B$2:B17217,B17217)","v":"HLCUIZ1221254806:1"},"HLCUIZ1221254806","FCIU8618382","HLCUIZ1221254806","40 Dry","PKKHI",297454,"2023-01-30","2023-02-12",231.6,"SW"]
[{"$f":"B17227&\":\"&COUNTIF($B$2:B17227,B17227)","v":"HLCURUH230103122:1"},"HLCURUH230103122","DFSU7374114","HLCURUH230103122","40 Dry","PKKHI",297454,"2023-01-30","2023-02-19",231.6,"BL"]
[{"$f":"B17249&\":\"&COUNTIF($B$2:B17249,B17249)","v":"HLCURUH230101507:1"},"HLCURUH230101507","HLBU2410816","HLCURUH230101507","40 Dry","PKKHI",297454,"2023-01-30","2023-02-19",231.6,"BL"]
[{"$f":"B17260&\":\"&COUNTIF($B$2:B17260,B17260)","v":"HLCULJU221200683:4"},"HLCULJU221200683","TCNU1815596","HLCULJU221200683","40 Dry","PKKHI",297454,"2023-01-30","2023-02-12",231.6,"BL"]
[{"$f":"B17277&\":\"&COUNTIF($B$2:B17277,B17277)","v":"HLCUDX3230124847:2"},"HLCUDX3230124847","TGBU5858955","HLCUDX3230124847","40 Dry","PKKHI",297454,"2023-01-30","2023-02-12",231.6,"SW"]
[{"$f":"B17297&\":\"&COUNTIF($B$2:B17297,B17297)","v":"HLCUDX3230113413:1"},"HLCUDX3230113413","BMOU5076757","HLCUDX3230113413","40 Dry","PKKHI",297454,"2023-01-30","2023-02-12",231.6,"BL"]
[{"$f":"B17310&\":\"&COUNTIF($B$2:B17310,B17310)","v":"HLCUHAM2211BXBE7:4"},"HLCUHAM2211BXBE7","FANU1969313","HLCUHAM2211BXBE7","40 Dry","PKKHI",297454,"2023-01-30","2023-02-03",231.6,"SW"]
[{"$f":"B17327&\":\"&COUNTIF($B$2:B17327,B17327)","v":"HLCUDM2230103985:2"},"HLCUDM2230103985","TCKU6026528","HLCUDM2230103985","40 Dry","PKKHI",297454,"2023-01-30","2023-02-19",231.6,"BL"]
[{"$f":"B17330&\":\"&COUNTIF($B$2:B17330,B17330)","v":"HLCULJU221101180:1"},"HLCULJU221101180","TCLU5019049","HLCULJU221101180","40 Dry","PKKHI",297454,"2023-01-30","2023-02-10",231.6,"BL"]
[{"$f":"B17360&\":\"&COUNTIF($B$2:B17360,B17360)","v":"HLCURUH221208140:4"},"HLCURUH221208140","TCNU8467091","HLCURUH221208140","40 Dry","PKKHI",297454,"2023-01-30","2023-02-19",231.6,"BL"]
[{"$f":"B17362&\":\"&COUNTIF($B$2:B17362,B17362)","v":"HLCUIZ1221248369:1"},"HLCUIZ1221248369","TCNU8372268","HLCUIZ1221248369","40 Dry","PKKHI",297454,"2023-01-30","2023-02-08",231.6,"BL"]
[{"$f":"B17377&\":\"&COUNTIF($B$2:B17377,B17377)","v":"HLCUMB1221200632:4"},"HLCUMB1221200632","TCNU9647333","HLCUMB1221200632","40 Dry","PKKHI",297454,"2023-01-30","2023-02-03",231.6,"BL"]
[{"$f":"B17394&\":\"&COUNTIF($B$2:B17394,B17394)","v":"HLCURUH230102309:1"},"HLCURUH230102309","HAMU1180030","HLCURUH230102309","40 Dry","PKKHI",297454,"2023-01-30","2023-02-19",231.6,"BL"]
[{"$f":"B17410&\":\"&COUNTIF($B$2:B17410,B17410)","v":"HLCULJU221101907:5"},"HLCULJU221101907","TCLU1451460","HLCULJU221101907","40 Dry","PKKHI",297454,"2023-01-30","2023-02-12",231.6,"BL"]
[{"$f":"B17427&\":\"&COUNTIF($B$2:B17427,B17427)","v":"HLCULJU221201094:4"},"HLCULJU221201094","TCNU4150133","HLCULJU221201094","40 Dry","PKKHI",297454,"2023-01-30","2023-02-12",231.6,"BL"]
[{"$f":"B17444&\":\"&COUNTIF($B$2:B17444,B17444)","v":"HLCUHAM2211BRKV4:1"},"HLCUHAM2211BRKV4","UETU5253662","HLCUHAM2211BRKV4","40 Dry","PKKHI",297454,"2023-01-30","2023-02-12",231.6,"BL"]
[{"$f":"B17458&\":\"&COUNTIF($B$2:B17458,B17458)","v":"HLCUDX3230121067:4"},"HLCUDX3230121067","GESU6512020","HLCUDX3230121067","40 Dry","PKKHI",297454,"2023-01-30","2023-02-12",231.6,"SW"]
[{"$f":"B17477&\":\"&COUNTIF($B$2:B17477,B17477)","v":"HLCUJE2230104033:5"},"HLCUJE2230104033","HLBU2214618","HLCUJE2230104033","40 Dry","PKKHI",292735,"2023-02-02","2023-02-15",234.2,"SW"]
[{"$f":"B17490&\":\"&COUNTIF($B$2:B17490,B17490)","v":"HLCULIV221246658:1"},"HLCULIV221246658","HLBU8104520","HLCULIV221246658","40 Special","PKKHI",292735,"2023-02-02","2023-02-15",234.2,"BL"]
[{"$f":"B17510&\":\"&COUNTIF($B$2:B17510,B17510)","v":"HLCUJE2230103326:2"},"HLCUJE2230103326","FFAU2107217","HLCUJE2230103326","40 Dry","PKKHI",292735,"2023-02-02","2023-02-15",234.2,"SW"]
[{"$f":"B17527&\":\"&COUNTIF($B$2:B17527,B17527)","v":"HLCUPRG221205766:1"},"HLCUPRG221205766","HLBU2431547","HLCUPRG221205766","40 Dry","PKKHI",292735,"2023-02-02","2023-02-11",234.2,"SW"]
[{"$f":"B17538&\":\"&COUNTIF($B$2:B17538,B17538)","v":"HLCUHAM2212BFPA8:2"},"HLCUHAM2212BFPA8","HLBU1362272","HLCUHAM2212BFPA8","40 Dry","PKKHI",292735,"2023-02-02","2023-02-15",234.2,"BL"]
[{"$f":"B17560&\":\"&COUNTIF($B$2:B17560,B17560)","v":"HLCUHAM2211BNRL7:4"},"HLCUHAM2211BNRL7","FANU1964266","HLCUHAM2211BNRL7","40 Dry","PKKHI",292735,"2023-02-02","2023-02-15",234.2,"BL"]
[{"$f":"B17577&\":\"&COUNTIF($B$2:B17577,B17577)","v":"HLCUHAM2212BIOI9:5"},"HLCUHAM2212BIOI9","SDNU8611390","HLCUHAM2212BIOI9","40 Reefer","PKKHI",292735,"2023-02-02","",234.2,"SW"]
[{"$f":"B17586&\":\"&COUNTIF($B$2:B17586,B17586)","v":"HLCUJE2230107540:2"},"HLCUJE2230107540","FANU1120814","HLCUJE2230107540","40 Dry","PKKHI",292735,"2023-02-02","2023-02-15",234.2,"SW"]
[{"$f":"B17610&\":\"&COUNTIF($B$2:B17610,B17610)","v":"HLCUPRG221207677:1"},"HLCUPRG221207677","CAIU3223416","HLCUPRG221207677","20 Dry","PKKHI",292735,"2023-02-02","2023-02-06",234.2,"BL"]
[{"$f":"B17611&\":\"&COUNTIF($B$2:B17611,B17611)","v":"HLCURTM221206570:1"},"HLCURTM221206570","DFSU1348170","HLCURTM221206570","20 Dry","PKKHI",292735,"2023-02-02","2023-02-22",234.2,"BL"]
[{"$f":"B17634&\":\"&COUNTIF($B$2:B17634,B17634)","v":"HLCUTOR221125846:1"},"HLCUTOR221125846","FANU1861951","HLCUTOR221125846","40 Dry","PKKHI",292735,"2023-02-02","2023-02-13",234.2,"SW"]
[{"$f":"B17644&\":\"&COUNTIF($B$2:B17644,B17644)","v":"HLCUTOR221134850:4"},"HLCUTOR221134850","HAMU1139361","HLCUTOR221134850","40 Dry","PKKHI",292735,"2023-02-02","2023-02-13",234.2,"BL"]
[{"$f":"B17666&\":\"&COUNTIF($B$2:B17666,B17666)","v":"HLCUTOR221134806:1"},"HLCUTOR221134806","HLBU2885236","HLCUTOR221134806","40 Dry","PKKHI",292735,"2023-02-02","2023-02-13",234.2,"BL"]
[{"$f":"B17677&\":\"&COUNTIF($B$2:B17677,B17677)","v":"HLCUHAM2212AUAJ5:1"},"HLCUHAM2212AUAJ5","CAAU2088690","HLCUHAM2212AUAJ5","20 Dry","PKKHI",292735,"2023-02-02","2023-02-06",234.2,"BL"]
[{"$f":"B17694&\":\"&COUNTIF($B$2:B17694,B17694)","v":"HLCUTOR221209568:1"},"HLCUTOR221209568","HLBU1439409","HLCUTOR221209568","40 Dry","PKKHI",292735,"2023-02-02","2023-02-13",234.2,"BL"]
[{"$f":"B17714&\":\"&COUNTIF($B$2:B17714,B17714)","v":"HLCUGDY221153051:2"},"HLCUGDY221153051","SEGU1050108","HLCUGDY221153051","20 Dry","PKKHI",292735,"2023-02-02","2023-02-09",234.2,"BL"]
[{"$f":"B17727&\":\"&COUNTIF($B$2:B17727,B17727)","v":"HLCUFIH221001596:1"},"HLCUFIH221001596","UACU5561974","HLCUFIH221001596","40 Dry","PKKHI",292735,"2023-02-02","2023-02-06",234.2,"BL"]
[{"$f":"B17744&\":\"&COUNTIF($B$2:B17744,B17744)","v":"HLCUJE2230107880:3"},"HLCUJE2230107880","FANU3171662","HLCUJE2230107880","40 Dry","PKKHI",292735,"2023-02-02","2023-02-15",234.2,"SW"]
[{"$f":"B17763&\":\"&COUNTIF($B$2:B17763,B17763)","v":"HLCUIZ1221269543:1"},"HLCUIZ1221269543","FANU3014956","HLCUIZ1221269543","40 Dry","PKKHI",297338,"2023-02-02","2023-02-15",234.2,"SW"]
[{"$f":"B17777&\":\"&COUNTIF($B$2:B17777,B17777)","v":"HLCUIZ1221267906:1"},"HLCUIZ1221267906","CAIU9266225","HLCUIZ1221267906","40 Dry","PKKHI",297338,"2023-02-02","2023-02-15",234.2,"BL"]
[{"$f":"B17794&\":\"&COUNTIF($B$2:B17794,B17794)","v":"HLCUBSC2212AYOD1:1"},"HLCUBSC2212AYOD1","HLXU8593049","HLCUBSC2212AYOD1","40 Dry","PKBQM",293174,"2023-02-03","2023-02-14",256.5,"SW"]
[{"$f":"B17810&\":\"&COUNTIF($B$2:B17810,B17810)","v":"HLCUBSC2212BECU0:2"},"HLCUBSC2212BECU0","FANU1620363","HLCUBSC2212BECU0","40 Dry","PKBQM",293174,"2023-02-03","2023-02-16",256.5,"BL"]
[{"$f":"B17827&\":\"&COUNTIF($B$2:B17827,B17827)","v":"HLCUTOR221223425:1"},"HLCUTOR221223425","FDCU0186615","HLCUBSC2212AYLD5","40 Dry","PKBQM",293174,"2023-02-03","2023-02-14",256.5,"SW"]
[{"$f":"B17842&\":\"&COUNTIF($B$2:B17842,B17842)","v":"HLCUBSC2212BCJI0:1"},"HLCUBSC2212BCJI0","TCLU1462172","HLCUBSC2212AZJS6","40 Dry","PKBQM",293174,"2023-02-03","2023-02-07",256.5,"SW"]
[{"$f":"B17860&\":\"&COUNTIF($B$2:B17860,B17860)","v":"HLCUBSC2212BIZF2:1"},"HLCUBSC2212BIZF2","CAIU6617584","HLCUBSC2212BDFS1","20 Dry","PKBQM",293174,"2023-02-03","2023-02-14",256.5,"BL"]
[{"$f":"B17861&\":\"&COUNTIF($B$2:B17861,B17861)","v":"HLCUTOR221217251:1"},"HLCUTOR221217251","NIDU5173648","HLCUBSC2212BJYO9","40 Dry","PKBQM",293174,"2023-02-03","2023-02-14",256.5,"SW"]
[{"$f":"B17891&\":\"&COUNTIF($B$2:B17891,B17891)","v":"HLCUTOR221223056:1"},"HLCUTOR221223056","UETU5802612","HLCUBSC2212BLRA9","40 Dry","PKBQM",293174,"2023-02-03","2023-02-14",256.5,"SW"]
[{"$f":"B17894&\":\"&COUNTIF($B$2:B17894,B17894)","v":"HLCUTOR221223056:4"},"HLCUTOR221223056","HLBU1769463","HLCUTOR221223056","40 Dry","PKBQM",293174,"2023-02-03","2023-02-14",256.5,"SW"]
[{"$f":"B17922&\":\"&COUNTIF($B$2:B17922,B17922)","v":"HLCUBSC2212BLRD2:1"},"HLCUBSC2212BLRD2","HLXU3251779","HLCUBSC2212BOHW0","20 Dry","PKBQM",293174,"2023-02-03","2023-02-14",256.5,"BL"]
[{"$f":"B17927&\":\"&COUNTIF($B$2:B17927,B17927)","v":"HLCUBSC2212BHKN5:4"},"HLCUBSC2212BHKN5","UACU8604684","HLCUBSC2212BHKN5","40 Dry","PKBQM",293174,"2023-02-03","2023-02-16",256.5,"SW"]
[{"$f":"B17944&\":\"&COUNTIF($B$2:B17944,B17944)","v":"HLCUBSC2212BEGE6:2"},"HLCUBSC2212BEGE6","HLXU8321502","HLCUBSC2212ARRG9","40 Dry","PKBQM",293174,"2023-02-03","2023-02-16",256.5,"BL"]
[{"$f":"B17955&\":\"&COUNTIF($B$2:B17955,B17955)","v":"HLCUKW3230101829:3"},"HLCUKW3230101829","HLXU8365727","HLCUKW3230101829","40 Dry","PKKHI",297456,"2023-02-03","2023-02-23",256.5,"BL"]
[{"$f":"B17977&\":\"&COUNTIF($B$2:B17977,B17977)","v":"HLCUDX3230124975:1"},"HLCUDX3230124975","TTNU4441506","HLCUDX3230124975","40 Dry","PKKHI",297456,"2023-02-03","2023-02-16",256.5,"BL"]
[{"$f":"B17994&\":\"&COUNTIF($B$2:B17994,B17994)","v":"HLCUMCT230101940:1"},"HLCUMCT230101940","HLBU3318793","HLCUMCT230101940","40 Dry","PKKHI",297456,"2023-02-03","2023-02-16",256.5,"SW"]
[{"$f":"B18004&\":\"&COUNTIF($B$2:B18004,B18004)","v":"HLCURUH230105541:7"},"HLCURUH230105541","GCXU5293901","HLCURUH230105541","40 Dry","PKKHI",297456,"2023-02-03","2023-02-23",256.5,"BL"]
[{"$f":"B18027&\":\"&COUNTIF($B$2:B18027,B18027)","v":"HLCUDX3230132055:2"},"HLCUDX3230132055","TXGU6847900","HLCUDX3230132055","40 Dry","PKKHI",297456,"2023-02-03","2023-02-16",256.5,"SW"]
[{"$f":"B18035&\":\"&COUNTIF($B$2:B18035,B18035)","v":"HLCUKW3230100691:5"},"HLCUKW3230100691","FANU3132270","HLCUKW3230100691","40 Dry","PKKHI",297456,"2023-02-03","2023-02-23",256.5,"BL"]
[{"$f":"B18060&\":\"&COUNTIF($B$2:B18060,B18060)","v":"HLCUSYD221007348:1"},"HLCUSYD221007348","BEAU4971887","HLCUSYD221007348","40 Dry","PKKHI",297456,"2023-02-03","2023-02-16",256.5,"SW"]
[{"$f":"B18077&\":\"&COUNTIF($B$2:B18077,B18077)","v":"HLCUDM2230100881:1"},"HLCUDM2230100881","HLXU6530313","HLCUDM2230100881","40 Dry","PKKHI",297456,"2023-02-03","2023-02-16",256.5,"BL"]
[{"$f":"B18084&\":\"&COUNTIF($B$2:B18084,B18084)","v":"HLCURUH230107686:1"},"HLCURUH230107686","HLBU1696475","HLCURUH230107686","40 Dry","PKKHI",297456,"2023-02-03","2023-02-23",256.5,"BL"]
[{"$f":"B18110&\":\"&COUNTIF($B$2:B18110,B18110)","v":"HLCUDM2230104732:1"},"HLCUDM2230104732","FCLU9603782","HLCUDM2230104732","40 Dry","PKKHI",297456,"2023-02-03","2023-02-23",256.5,"BL"]
[{"$f":"B18111&\":\"&COUNTIF($B$2:B18111,B18111)","v":"HLCUDM2230104732:2"},"HLCUDM2230104732","TCLU9518468","HLCUDM2230104732","40 Dry","PKKHI",297456,"2023-02-03","2023-02-23",256.5,"BL"]
[{"$f":"B18132&\":\"&COUNTIF($B$2:B18132,B18132)","v":"HLCUKW3230100709:3"},"HLCUKW3230100709","UETU5802844","HLCUKW3230100709","40 Dry","PKKHI",297456,"2023-02-03","2023-02-23",256.5,"BL"]
[{"$f":"B18144&\":\"&COUNTIF($B$2:B18144,B18144)","v":"HLCUKW3230100786:4"},"HLCUKW3230100786","TEMU7752031","HLCUKW3230100786","40 Dry","PKKHI",297456,"2023-02-03","2023-02-16",256.5,"BL"]
[{"$f":"B18163&\":\"&COUNTIF($B$2:B18163,B18163)","v":"HLCUGOA2212ARQJ2:1"},"HLCUGOA2212ARQJ2","HLBU1940848","HLCUGOA2212ARQJ2","40 Dry","PKBQM",973205,"2023-02-04","2023-02-17",256.5,"BL"]
[{"$f":"B18177&\":\"&COUNTIF($B$2:B18177,B18177)","v":"HLCUIZ1221217769:14"},"HLCUIZ1221217769","TGHU6139710","HLCUIZ1221217769","40 Dry","PKBQM",973205,"2023-02-04","2023-02-17",256.5,"BL"]
[{"$f":"B18194&\":\"&COUNTIF($B$2:B18194,B18194)","v":"HLCUBC1221224118:1"},"HLCUBC1221224118","HLXU8136000","HLCUBC1221224118","40 Dry","PKBQM",973205,"2023-02-04","2023-02-17",256.5,"BL"]
[{"$f":"B18212&\":\"&COUNTIF($B$2:B18212,B18212)","v":"HLCUBC1221226899:3"},"HLCUBC1221226899","GESU6397651","HLCUBC1221226899","40 Dry","PKBQM",973205,"2023-02-04","2023-02-17",256.5,"SW"]
[{"$f":"B18227&\":\"&COUNTIF($B$2:B18227,B18227)","v":"HLCUBSC2211BOOE7:2"},"HLCUBSC2211BOOE7","HLBU1457700","HLCUBSC2211BOOE7","20 Dry","PKBQM",973205,"2023-02-04","2023-02-15",256.5,"BL"]
[{"$f":"B18244&\":\"&COUNTIF($B$2:B18244,B18244)","v":"HLCUBSC2211BIKC9:3"},"HLCUBSC2211BIKC9","TEMU4975920","HLCUBSC2211BIKC9","20 Dry","PKBQM",973205,"2023-02-04","2023-02-15",256.5,"BL"]
[{"$f":"B18260&\":\"&COUNTIF($B$2:B18260,B18260)","v":"HLCULE1221245859:3"},"HLCULE1221245859","HLBU1897084","HLCULE1221245859","40 Dry","PKBQM",973205,"2023-02-04","2023-02-24",256.5,"BL"]
[{"$f":"B18277&\":\"&COUNTIF($B$2:B18277,B18277)","v":"HLCUIZ1221268910:3"},"HLCUIZ1221268910","HLBU1799067","HLCUIZ1221268910","40 Dry","PKBQM",973205,"2023-02-04","2023-03-05",256.5,"SW"]
[{"$f":"B18292&\":\"&COUNTIF($B$2:B18292,B18292)","v":"HLCUIZ1221206368:5"},"HLCUIZ1221206368","HLBU2470754","HLCUIZ1221206368","40 Dry","PKKHI",295679,"2023-02-05","2023-02-18",256.5,"BL"]
[{"$f":"B18310&\":\"&COUNTIF($B$2:B18310,B18310)","v":"HLCUIZ1230102671:6"},"HLCUIZ1230102671","CAAU5326473","HLCUIZ1230102671","40 Dry","PKKHI",295679,"2023-02-05","2023-02-18",256.5,"BL"]
[{"$f":"B18327&\":\"&COUNTIF($B$2:B18327,B18327)","v":"HLCUIZ1221229687:2"},"HLCUIZ1221229687","BSIU9863925","HLCUIZ1221229687","40 Dry","PKKHI",295679,"2023-02-05","2023-02-18",256.5,"BL"]
[{"$f":"B18340&\":\"&COUNTIF($B$2:B18340,B18340)","v":"HLCURDS221200183:2"},"HLCURDS221200183","HLXU6514523","HLCURDS221200183","40 Dry","PKKHI",295679,"2023-02-05","2023-02-14",256.5,"BL"]
[{"$f":"B18360&\":\"&COUNTIF($B$2:B18360,B18360)","v":"HLCUTOR221211171:2"},"HLCUTOR221211171","FSCU7152128","HLCUTOR221211171","40 Dry","PKKHI",295679,"2023-02-05","2023-02-16",256.5,"BL"]
[{"$f":"B18361&\":\"&COUNTIF($B$2:B18361,B18361)","v":"HLCUTOR221211171:3"},"HLCUTOR221211171","GESU5722504","HLCUTOR221211171","40 Dry","PKKHI",295679,"2023-02-05","2023-02-16",256.5,"BL"]
[{"$f":"B18388&\":\"&COUNTIF($B$2:B18388,B18388)","v":"HLCUBSC221281496:3"},"HLCUBSC221281496","UACU5444427","HLCUBSC221281496","40 Dry","PKKHI",295679,"2023-02-06","2023-02-19",256.5,"SW"]
[{"$f":"B18394&\":\"&COUNTIF($B$2:B18394,B18394)","v":"HLCUSS5220983940:2"},"HLCUSS5220983940","FCIU8997840","HLCUSS5220983940","40 Dry","PKKHI",295679,"2023-02-06","2023-02-19",256.5,"BL"]
[{"$f":"B18420&\":\"&COUNTIF($B$2:B18420,B18420)","v":"HLCUALY230113855:1"},"HLCUALY230113855","UACU3929584","HLCUALY230113855","20 Dry","PKKHI",295679,"2023-02-05","2023-02-18",256.5,"BL"]
[{"$f":"B18427&\":\"&COUNTIF($B$2:B18427,B18427)","v":"HLCUIZ1221206390:2"},"HLCUIZ1221206390","GAOU6486312","HLCUIZ1221206390","40 Dry","PKKHI",295679,"2023-02-05","2023-02-18",256.5,"BL"]
[{"$f":"B18444&\":\"&COUNTIF($B$2:B18444,B18444)","v":"HLCUPZU221200530:2"},"HLCUPZU221200530","HLXU1410531","HLCUPZU221200530","20 Dry","PKKHI",295679,"2023-02-05","2023-02-14",256.5,"BL"]
[{"$f":"B18468&\":\"&COUNTIF($B$2:B18468,B18468)","v":"HLCUDOH230103596:2"},"HLCUDOH230103596","HLXU8514477","HLCUDOH230103596","40 Dry","PKKHI",297346,"2023-02-05","2023-02-25",265,"BL"]
[{"$f":"B18477&\":\"&COUNTIF($B$2:B18477,B18477)","v":"HLCUDOH230102633:1"},"HLCUDOH230102633","BEAU4969621","HLCUDOH230102633","40 Dry","PKKHI",297346,"2023-02-05","2023-02-25",265,"BL"]
[{"$f":"B18494&\":\"&COUNTIF($B$2:B18494,B18494)","v":"HLCUDOH230102527:2"},"HLCUDOH230102527","FDCU0145920","HLCUDOH230102527","40 Dry","PKKHI",297346,"2023-02-05","2023-02-25",265,"BL"]
[{"$f":"B18516&\":\"&COUNTIF($B$2:B18516,B18516)","v":"HLCUBSC2212BJYY9:5"},"HLCUBSC2212BJYY9","HLXU5260785","HLCUBSC2212BJYY9","40 Dry","PKBQM",294825,"2023-02-10","2023-02-23",275.5,"SW"]
[{"$f":"B18527&\":\"&COUNTIF($B$2:B18527,B18527)","v":"HLCUBSC2301BGQE9:4"},"HLCUBSC2301BGQE9","GESU5839471","HLCUBSC2301BGQE9","40 Dry","PKBQM",294825,"2023-02-10","2023-02-23",275.5,"BL"]
[{"$f":"B18533&\":\"&COUNTIF($B$2:B18533,B18533)","v":"HLCUBSC2301BGQE9:10"},"HLCUBSC2301BGQE9","BSIU9595165","HLCUBSC2301BGQE9","40 Dry","PKBQM",294825,"2023-02-10","2023-02-23",275.5,"BL"]
[{"$f":"B18560&\":\"&COUNTIF($B$2:B18560,B18560)","v":"HLCUBSC230106675:24"},"HLCUBSC230106675","HLBU1924235","HLCUBSC230106675","40 Dry","PKBQM",294825,"2023-02-10","2023-02-23",275.5,"BL"]
[{"$f":"B18577&\":\"&COUNTIF($B$2:B18577,B18577)","v":"HLCUBSC2212BNRJ3:6"},"HLCUBSC2212BNRJ3","TLLU2451247","HLCUBSC2212BNRJ3","20 Dry","PKBQM",294825,"2023-02-10","2023-02-21",275.5,"BL"]
[{"$f":"B18581&\":\"&COUNTIF($B$2:B18581,B18581)","v":"HLCUBSC2212BOOR8:1"},"HLCUBSC2212BOOR8","TGHU6240599","HLCUBSC2212BOOR8","40 Dry","PKBQM",294825,"2023-02-10","2023-02-23",275.5,"BL"]
[{"$f":"B18610&\":\"&COUNTIF($B$2:B18610,B18610)","v":"HLCUBSC2212BQXG7:4"},"HLCUBSC2212BQXG7","HLBU1138257","HLCUBSC2212BQXG7","40 Dry","PKBQM",294825,"2023-02-10","2023-02-23",275.5,"SW"]
[{"$f":"B18611&\":\"&COUNTIF($B$2:B18611,B18611)","v":"HLCUBSC2212BGJV5:1"},"HLCUBSC2212BGJV5","HLBU2855139","HLCUBSC2212BGJV5","40 Dry","PKBQM",294825,"2023-02-10","2023-02-21",275.5,"SW"]
[{"$f":"B18629&\":\"&COUNTIF($B$2:B18629,B18629)","v":"HLCUTOR221228608:1"},"HLCUTOR221228608","BMOU5832983","HLCUTOR221228608","40 Dry","PKBQM",294825,"2023-02-10","2023-02-21",275.5,"SW"]
[{"$f":"B18644&\":\"&COUNTIF($B$2:B18644,B18644)","v":"HLCUBSC230105767:1"},"HLCUBSC230105767","NIDU2311189","HLCUBSC230105767","20 Dry","PKBQM",294825,"2023-02-10","2023-02-21",275.5,"BL"]
[{"$f":"B18661&\":\"&COUNTIF($B$2:B18661,B18661)","v":"HLCUBSC230108067:7"},"HLCUBSC230108067","GESU6144993","HLCUBSC230108067","40 Dry","PKBQM",294825,"2023-02-10","2023-02-21",275.5,"BL"]
[{"$f":"B18677&\":\"&COUNTIF($B$2:B18677,B18677)","v":"HLCUBSC2212BLWK1:1"},"HLCUBSC2212BLWK1","UACU5630946","HLCUBSC2212BLWK1","40 Dry","PKBQM",294825,"2023-02-10","2023-02-21",275.5,"SW"]
[{"$f":"B18694&\":\"&COUNTIF($B$2:B18694,B18694)","v":"HLCUTOR230101223:1"},"HLCUTOR230101223","UACU5614565","HLCUTOR230101223","40 Dry","PKBQM",294825,"2023-02-10","2023-02-21",275.5,"SW"]
[{"$f":"B18709&\":\"&COUNTIF($B$2:B18709,B18709)","v":"HLCUBSC2212BLGH0:1"},"HLCUBSC2212BLGH0","TCLU2852278","HLCUBSC2212BLGH0","20 Dry","PKBQM",294825,"2023-02-10","2023-02-21",275.5,"BL"]
[{"$f":"B18727&\":\"&COUNTIF($B$2:B18727,B18727)","v":"HLCUBSC230111042:13"},"HLCUBSC230111042","HLBU2912100","HLCUBSC230111042","40 Dry","PKBQM",294825,"2023-02-10","2023-02-23",275.5,"BL"]
[{"$f":"B18744&\":\"&COUNTIF($B$2:B18744,B18744)","v":"HLCUBSC230148654:5"},"HLCUBSC230148654","UACU5071149","HLCUBSC230148654","40 Dry","PKBQM",294825,"2023-02-10","2023-02-23",275.5,"BL"]
[{"$f":"B18757&\":\"&COUNTIF($B$2:B18757,B18757)","v":"HLCUBSC230104658:3"},"HLCUBSC230104658","FANU1689380","HLCUBSC230104658","40 Dry","PKBQM",294825,"2023-02-10","",275.5,"SW"]
[{"$f":"B18777&\":\"&COUNTIF($B$2:B18777,B18777)","v":"HLCUBSC230114705:3"},"HLCUBSC230114705","FANU1414608","HLCUBSC230114705","40 Dry","PKBQM",294825,"2023-02-10","2023-02-21",275.5,"BL"]
[{"$f":"B18789&\":\"&COUNTIF($B$2:B18789,B18789)","v":"HLCUBSC2212BNSL1:2"},"HLCUBSC2212BNSL1","UACU3877407","HLCUBSC2212BNSL1","20 Dry","PKBQM",294825,"2023-02-10","2023-02-21",275.5,"BL"]
[{"$f":"B18810&\":\"&COUNTIF($B$2:B18810,B18810)","v":"HLCUBSC230127531:1"},"HLCUBSC230127531","HLBU1306448","HLCUBSC230127531","40 Dry","PKBQM",295806,"2023-02-09","2023-02-20",271.75,"BL"]
[{"$f":"B18827&\":\"&COUNTIF($B$2:B18827,B18827)","v":"HLCUBSC2212BOVK4:3"},"HLCUBSC2212BOVK4","SEKU6400604","HLCUBSC2212BOVK4","40 Dry","PKBQM",295806,"2023-02-09","2023-02-20",271.75,"SW"]
[{"$f":"B18837&\":\"&COUNTIF($B$2:B18837,B18837)","v":"HLCUBSC2212BNOU8:4"},"HLCUBSC2212BNOU8","HLXU8110520","HLCUBSC2212BNOU8","40 Dry","PKBQM",295806,"2023-02-09","2023-02-13",271.75,"SW"]
[{"$f":"B18860&\":\"&COUNTIF($B$2:B18860,B18860)","v":"HLCUBSC2212BRKM4:3"},"HLCUBSC2212BRKM4","UACU8396976","HLCUBSC2212BRKM4","40 Dry","PKBQM",295806,"2023-02-09","2023-02-26",271.75,"SW"]
[{"$f":"B18861&\":\"&COUNTIF($B$2:B18861,B18861)","v":"HLCUBSC2212ASWE2:1"},"HLCUBSC2212ASWE2","CAIU8016474","HLCUBSC2212ASWE2","40 Dry","PKBQM",295806,"2023-02-09","2023-02-13",271.75,"SW"]
[{"$f":"B18885&\":\"&COUNTIF($B$2:B18885,B18885)","v":"HLCUBSC2212BLFR5:1"},"HLCUBSC2212BLFR5","HLBU2409501","HLCUBSC2212BLFR5","40 Dry","PKBQM",295806,"2023-02-09","2023-02-22",271.75,"SW"]
[{"$f":"B18894&\":\"&COUNTIF($B$2:B18894,B18894)","v":"HLCUBSC2212BKJF0:1"},"HLCUBSC2212BKJF0","TGCU2091020","HLCUBSC2212BKJF0","20 Dry","PKBQM",295806,"2023-02-09","2023-02-13",271.75,"SW"]
[{"$f":"B18917&\":\"&COUNTIF($B$2:B18917,B18917)","v":"HLCUBSC2212BRCV0:2"},"HLCUBSC2212BRCV0","UACU5406915","HLCUBSC2212BRCV0","40 Dry","PKBQM",295806,"2023-02-09","2023-02-20",271.75,"BL"]
[{"$f":"B18927&\":\"&COUNTIF($B$2:B18927,B18927)","v":"HLCUVAN221208001:1"},"HLCUVAN221208001","TCNU9734783","HLCUVAN221208001","40 Dry","PKBQM",295806,"2023-02-09","2023-02-20",271.75,"SW"]
[{"$f":"B18944&\":\"&COUNTIF($B$2:B18944,B18944)","v":"HLCUBSC2212BRDX7:1"},"HLCUBSC2212BRDX7","FANU1187633","HLCUBSC2212BRDX7","40 Dry","PKBQM",295806,"2023-02-09","2023-02-20",271.75,"BL"]
[{"$f":"B18965&\":\"&COUNTIF($B$2:B18965,B18965)","v":"HLCUBSC2212BRKQ8:1"},"HLCUBSC2212BRKQ8","BEAU2166087","HLCUBSC2212BRKQ8","20 Dry","PKBQM",295806,"2023-02-09","2023-02-20",271.75,"BL"]
[{"$f":"B18977&\":\"&COUNTIF($B$2:B18977,B18977)","v":"HLCUBSC2212BRUJ0:1"},"HLCUBSC2212BRUJ0","HLBU2783580","HLCUBSC2212BRUJ0","40 Dry","PKBQM",295806,"2023-02-09","2023-02-20",271.75,"BL"]
[{"$f":"B18994&\":\"&COUNTIF($B$2:B18994,B18994)","v":"HLCUBSC2212BRMS6:2"},"HLCUBSC2212BRMS6","TGHU1016462","HLCUBSC2212BRMS6","20 Dry","PKBQM",295806,"2023-02-09","2023-02-20",271.75,"BL"]
[{"$f":"B19013&\":\"&COUNTIF($B$2:B19013,B19013)","v":"HLCUBSC2212BQUZ4:1"},"HLCUBSC2212BQUZ4","FANU1837467","HLCUBSC2212BQUZ4","40 Dry","PKBQM",295806,"2023-02-09","2023-02-13",271.75,"SW"]
[{"$f":"B19027&\":\"&COUNTIF($B$2:B19027,B19027)","v":"HLCUHAM2211AXTV5:1"},"HLCUHAM2211AXTV5","SEGU5450289","HLCUHAM2211AXTV5","40 Dry","PKKHI",292742,"2023-02-10","2023-02-14",271.75,"SW"]
[{"$f":"B19045&\":\"&COUNTIF($B$2:B19045,B19045)","v":"HLCURTM221152572:2"},"HLCURTM221152572","TXGU7090025","HLCURTM221152572","40 Dry","PKKHI",292742,"2023-02-10","2023-03-02",271.75,"BL"]
[{"$f":"B19060&\":\"&COUNTIF($B$2:B19060,B19060)","v":"HLCUHAM2212AWDS4:3"},"HLCUHAM2212AWDS4","UACU5184361","HLCUHAM2212AWDS4","40 Dry","PKKHI",292742,"2023-02-10","2023-02-23",271.75,"BL"]
[{"$f":"B19077&\":\"&COUNTIF($B$2:B19077,B19077)","v":"HLCUANR221278610:3"},"HLCUANR221278610","HLBU2578604","HLCUANR221278610","40 Dry","PKKHI",292742,"2023-02-10","2023-02-23",271.75,"BL"]
[{"$f":"B19093&\":\"&COUNTIF($B$2:B19093,B19093)","v":"HLCUJE2230204880:5"},"HLCUJE2230204880","NIDU5195760","HLCUJE2230204880","40 Dry","PKKHI",292742,"2023-02-10","2023-02-21",271.75,"BL"]
[{"$f":"B19110&\":\"&COUNTIF($B$2:B19110,B19110)","v":"HLCUHAM2212AYHR0:1"},"HLCUHAM2212AYHR0","HLBU3463195","HLCUHAM2212AYHR0","20 Dry","PKKHI",292742,"2023-02-10","2023-02-23",271.75,"SW"]
[{"$f":"B19111&\":\"&COUNTIF($B$2:B19111,B19111)","v":"HLCUHAM221285028:1"},"HLCUHAM221285028","FCIU6320505","HLCUHAM221285028","20 Dry","PKKHI",292742,"2023-02-10","2023-02-19",271.75,"SW"]
[{"$f":"B19141&\":\"&COUNTIF($B$2:B19141,B19141)","v":"HLCUTOR221225899:1"},"HLCUTOR221225899","HLXU6513300","HLCUTOR221225899","40 Dry","PKKHI",292742,"2023-02-10","2023-02-21",271.75,"SW"]
[{"$f":"B19144&\":\"&COUNTIF($B$2:B19144,B19144)","v":"HLCUTOR221224820:1"},"HLCUTOR221224820","BMOU6610152","HLCUTOR221224820","40 Dry","PKKHI",292742,"2023-02-10","2023-02-21",271.75,"SW"]
[{"$f":"B19158&\":\"&COUNTIF($B$2:B19158,B19158)","v":"HLCUTOR221223235:3"},"HLCUTOR221223235","BEAU4935787","HLCUTOR221223235","40 Dry","PKKHI",292742,"2023-02-10","2023-02-21",271.75,"BL"]
[{"$f":"B19177&\":\"&COUNTIF($B$2:B19177,B19177)","v":"HLCUTOR221218690:1"},"HLCUTOR221218690","FCIU6248078","HLCUTOR221218690","20 Dry","PKKHI",292742,"2023-02-10","2023-02-21",271.75,"SW"]
[{"$f":"B19194&\":\"&COUNTIF($B$2:B19194,B19194)","v":"HLCURTM230113670:2"},"HLCURTM230113670","FANU1832233","HLCURTM230113670","40 Dry","PKKHI",292742,"2023-02-10","2023-02-23",271.75,"BL"]
[{"$f":"B19206&\":\"&COUNTIF($B$2:B19206,B19206)","v":"HLCUCA6230104836:1"},"HLCUCA6230104836","TCLU6356018","HLCUCA6230104836","40 Dry","PKKHI",292742,"2023-02-10","2023-02-14",271.75,"SW"]
[{"$f":"B19227&\":\"&COUNTIF($B$2:B19227,B19227)","v":"HLCUHAM2212AWDL8:1"},"HLCUHAM2212AWDL8","TCNU3701972","HLCUHAM2212AWDL8","40 Dry","PKKHI",292742,"2023-02-10","2023-02-23",271.75,"BL"]
[{"$f":"B19244&\":\"&COUNTIF($B$2:B19244,B19244)","v":"HLCUSYD221144292:3"},"HLCUSYD221144292","FANU1774646","HLCUSYD221144292","40 Dry","PKKHI",297348,"2023-02-10","2023-02-23",275.5,"SW"]
[{"$f":"B19254&\":\"&COUNTIF($B$2:B19254,B19254)","v":"HLCUMB1221203809:4"},"HLCUMB1221203809","TCNU3252640","HLCUMB1221203809","40 Dry","PKKHI",297348,"2023-02-10","2023-02-19",275.5,"BL"]
[{"$f":"B19277&\":\"&COUNTIF($B$2:B19277,B19277)","v":"HLCUIZ1230107178:2"},"HLCUIZ1230107178","TGBU5684004","HLCUIZ1230107178","40 Dry","PKKHI",297348,"2023-02-10","2023-03-02",275.5,"SW"]
[{"$f":"B19286&\":\"&COUNTIF($B$2:B19286,B19286)","v":"HLCUSYD221227899:1"},"HLCUSYD221227899","TEMU1402437","HLCUSYD221227899","20 Dry","PKKHI",297348,"2023-02-10","2023-02-14",275.5,"BL"]
[{"$f":"B19310&\":\"&COUNTIF($B$2:B19310,B19310)","v":"HLCUBU3221122350:2"},"HLCUBU3221122350","HLXU3501646","HLCUBU3221122350","20 Dry","PKKHI",297348,"2023-02-10","2023-02-14",275.5,"BL"]
[{"$f":"B19327&\":\"&COUNTIF($B$2:B19327,B19327)","v":"HLCUXM1221208597:1"},"HLCUXM1221208597","FANU1193003","HLCUXM1221208597","40 Dry","PKBQM",981551,"2023-02-11","2023-03-03",275.5,"BL"]
[{"$f":"B19334&\":\"&COUNTIF($B$2:B19334,B19334)","v":"HLCUBC1221239944:2"},"HLCUBC1221239944","HLXU1107084","HLCUBC1221239944","20 Dry","PKBQM",981551,"2023-02-11","2023-02-24",275.5,"BL"]
[{"$f":"B19360&\":\"&COUNTIF($B$2:B19360,B19360)","v":"HLCUBC1221246222:3"},"HLCUBC1221246222","BEAU2162008","HLCUBC1221246222","20 Dry","PKBQM",981551,"2023-02-11","2023-02-24",275.5,"BL"]
[{"$f":"B19361&\":\"&COUNTIF($B$2:B19361,B19361)","v":"HLCUBC1221244238:1"},"HLCUBC1221244238","HLXU8069793","HLCUBC1221244238","40 Dry","PKBQM",981551,"2023-02-11","2023-02-24",275.5,"SW"]
[{"$f":"B19382&\":\"&COUNTIF($B$2:B19382,B19382)","v":"HLCULIV221157871:1"},"HLCULIV221157871","FFAU1173425","HLCULIV221157871","40 Dry","PKKHI",294064,"2023-02-12","2023-02-21",275.5,"SW"]
[{"$f":"B19394&\":\"&COUNTIF($B$2:B19394,B19394)","v":"HLCURUH230108210:4"},"HLCURUH230108210","HAMU1256882","HLCURUH230108210","40 Dry","PKKHI",298733,"2023-02-13","2023-03-05",275.5,"BL"]
[{"$f":"B19414&\":\"&COUNTIF($B$2:B19414,B19414)","v":"HLCUKW3230101449:3"},"HLCUKW3230101449","BMOU4421484","HLCUKW3230101449","40 Dry","PKKHI",298733,"2023-02-13","2023-03-05",275.5,"BL"]
[{"$f":"B19427&\":\"&COUNTIF($B$2:B19427,B19427)","v":"HLCUDX3230142750:2"},"HLCUDX3230142750","HLXU8364551","HLCUDX3230142750","40 Dry","PKKHI",298733,"2023-02-13","2023-02-26",275.5,"BL"]
[{"$f":"B19444&\":\"&COUNTIF($B$2:B19444,B19444)","v":"HLCURUH230108200:4"},"HLCURUH230108200","HLBU1152640","HLCURUH230108200","40 Dry","PKKHI",298733,"2023-02-13","2023-03-05",275.5,"BL"]
[{"$f":"B19462&\":\"&COUNTIF($B$2:B19462,B19462)","v":"HLCUKW3230101990:5"},"HLCUKW3230101990","UACU5721671","HLCUKW3230101990","40 Dry","PKKHI",298733,"2023-02-13","2023-03-05",275.5,"BL"]
[{"$f":"B19477&\":\"&COUNTIF($B$2:B19477,B19477)","v":"HLCURUH230109966:2"},"HLCURUH230109966","HLXU8067717","HLCURUH230109966","40 Dry","PKKHI",298733,"2023-02-13","2023-03-05",275.5,"BL"]
[{"$f":"B19494&\":\"&COUNTIF($B$2:B19494,B19494)","v":"HLCUDOH230104091:5"},"HLCUDOH230104091","TCLU5094818","HLCUDOH230104091","40 Dry","PKKHI",298733,"2023-02-13","2023-03-05",275.5,"BL"]
[{"$f":"B19510&\":\"&COUNTIF($B$2:B19510,B19510)","v":"HLCUIZ1221287518:1"},"HLCUIZ1221287518","HLBU2440256","HLCUIZ1221287518","40 Dry","PKKHI",298733,"2023-02-13","2023-02-26",275.5,"BL"]
[{"$f":"B19527&\":\"&COUNTIF($B$2:B19527,B19527)","v":"HLCUIZ1221229610:6"},"HLCUIZ1221229610","FCIU7102365","HLCUIZ1221229610","40 Dry","PKKHI",298733,"2023-02-13","2023-02-26",275.5,"BL"]
[{"$f":"B19542&\":\"&COUNTIF($B$2:B19542,B19542)","v":"HLCUBU3221114210:1"},"HLCUBU3221114210","TCLU2828076","HLCUBU3221114210","20 Dry","PKKHI",298733,"2023-02-13","2023-02-17",275.5,"BL"]
[{"$f":"B19560&\":\"&COUNTIF($B$2:B19560,B19560)","v":"HLCURUH230108170:1"},"HLCURUH230108170","GCXU5945126","HLCURUH230108170","40 Dry","PKKHI",298733,"2023-02-13","2023-03-05",275.5,"BL"]
[{"$f":"B19577&\":\"&COUNTIF($B$2:B19577,B19577)","v":"HLCUIZ1221252760:1"},"HLCUIZ1221252760","SKIU9115944","HLCUIZ1221252760","40 Dry","PKKHI",298733,"2023-02-13","2023-02-26",275.5,"BL"]
[{"$f":"B19590&\":\"&COUNTIF($B$2:B19590,B19590)","v":"HLCUIZ1221252760:14"},"HLCUIZ1221252760","FANU1870790","HLCUIZ1221252760","40 Dry","PKKHI",298733,"2023-02-13","2023-02-26",275.5,"BL"]
[{"$f":"B19610&\":\"&COUNTIF($B$2:B19610,B19610)","v":"HLCUJE2230114950:8"},"HLCUJE2230114950","FDCU0141014","HLCUJE2230114950","40 Dry","PKKHI",295681,"2023-02-13","2023-02-26",275.5,"SW"]
[{"$f":"B19611&\":\"&COUNTIF($B$2:B19611,B19611)","v":"HLCUJE2230112721:1"},"HLCUJE2230112721","UACU5810640","HLCUJE2230112721","40 Dry","PKKHI",295681,"2023-02-13","2023-02-26",275.5,"SW"]
[{"$f":"B19638&\":\"&COUNTIF($B$2:B19638,B19638)","v":"HLCUIZ1221235788:4"},"HLCUIZ1221235788","HLBU2420619","HLCUIZ1221235788","40 Dry","PKKHI",295681,"2023-02-13","2023-02-26",275.5,"BL"]
[{"$f":"B19644&\":\"&COUNTIF($B$2:B19644,B19644)","v":"HLCUIZ1221235788:10"},"HLCUIZ1221235788","HLXU8425050","HLCUIZ1221235788","40 Dry","PKKHI",295681,"2023-02-13","2023-02-26",275.5,"BL"]
[{"$f":"B19661&\":\"&COUNTIF($B$2:B19661,B19661)","v":"HLCUIZ1221238329:5"},"HLCUIZ1221238329","TCNU3271681","HLCUIZ1221238329","40 Dry","PKKHI",295681,"2023-02-13","2023-02-26",275.5,"BL"]
[{"$f":"B19687&\":\"&COUNTIF($B$2:B19687,B19687)","v":"HLCUJE2230107031:4"},"HLCUJE2230107031","HLXU8626780","HLCUJE2230107031","40 Dry","PKKHI",295681,"2023-02-13","2023-02-26",275.5,"SW"]
[{"$f":"B19694&\":\"&COUNTIF($B$2:B19694,B19694)","v":"HLCUGOA2212AQQC3:3"},"HLCUGOA2212AQQC3","FANU1986373","HLCUGOA2212AQQC3","40 Dry","PKKHI",295681,"2023-02-13","2023-02-19",275.5,"SW"]
[{"$f":"B19718&\":\"&COUNTIF($B$2:B19718,B19718)","v":"HLCUHAM2211BWQQ3:3"},"HLCUHAM2211BWQQ3","HLXU1339433","HLCUHAM2211BWQQ3","20 Dry","PKBQM",295808,"2023-02-16","2023-02-25",275.60000000000002,"BL"]
[{"$f":"B19727&\":\"&COUNTIF($B$2:B19727,B19727)","v":"HLCUHAM230112033:7"},"HLCUHAM230112033","UACU3862140","HLCUHAM230112033","20 Dry","PKBQM",295808,"2023-02-16","2023-02-25",275.60000000000002,"BL"]
[{"$f":"B19744&\":\"&COUNTIF($B$2:B19744,B19744)","v":"HLCULE1221197741:2"},"HLCULE1221197741","PHLU2102073","HLCULE1221197741","20 Dry","PKBQM",295808,"2023-02-16","2023-02-27",275.60000000000002,"SW"]
[{"$f":"B19766&\":\"&COUNTIF($B$2:B19766,B19766)","v":"HLCUHAM221288440:5"},"HLCUHAM221288440","HLXU1019804","HLCUHAM221288440","20 Dry","PKBQM",295808,"2023-02-16","2023-02-25",275.60000000000002,"BL"]
[{"$f":"B19777&\":\"&COUNTIF($B$2:B19777,B19777)","v":"HLCUSYD221029610:1"},"HLCUSYD221029610","GCXU5302454","HLCUSYD221029610","40 Dry","PKBQM",295808,"2023-02-16","2023-02-20",275.60000000000002,"SW"]
[{"$f":"B19794&\":\"&COUNTIF($B$2:B19794,B19794)","v":"HLCUHAM221076229:1"},"HLCUHAM221076229","FCIU6606778","HLCUHAM221076229","20 Dry","PKBQM",295808,"2023-02-16","2023-02-25",275.60000000000002,"BL"]
[{"$f":"B19800&\":\"&COUNTIF($B$2:B19800,B19800)","v":"HLCUHAM221288366:1"},"HLCUHAM221288366","TGBU9607731","HLCUHAM221288366","40 Dry","PKBQM",295808,"2023-02-16","2023-02-25",275.60000000000002,"BL"]
[{"$f":"B19827&\":\"&COUNTIF($B$2:B19827,B19827)","v":"HLCUVAN221207031:2"},"HLCUVAN221207031","TGBU6127050","HLCUVAN221207031","40 Dry","PKBQM",295808,"2023-02-16","2023-02-27",275.60000000000002,"SW"]
[{"$f":"B19831&\":\"&COUNTIF($B$2:B19831,B19831)","v":"HLCUTOR221232177:1"},"HLCUTOR221232177","UACU8377805","HLCUTOR221232177","40 Dry","PKBQM",295808,"2023-02-16","2023-02-27",275.60000000000002,"BL"]
[{"$f":"B19860&\":\"&COUNTIF($B$2:B19860,B19860)","v":"HLCUVAN221207053:1"},"HLCUVAN221207053","FANU3030957","HLCUVAN221207053","40 Dry","PKBQM",295808,"2023-02-16","2023-02-27",275.60000000000002,"SW"]
[{"$f":"B19861&\":\"&COUNTIF($B$2:B19861,B19861)","v":"HLCUBSC230157278:1"},"HLCUBSC230157278","BEAU2213390","HLCUBSC230157278","20 Dry","PKBQM",295808,"2023-02-16","2023-03-01",275.60000000000002,"BL"]
[{"$f":"B19879&\":\"&COUNTIF($B$2:B19879,B19879)","v":"HLCUTOR230105224:1"},"HLCUTOR230105224","FFAU2859045","HLCUTOR230105224","40 Dry","PKBQM",295808,"2023-02-16","2023-02-27",275.60000000000002,"SW"]
[{"$f":"B19894&\":\"&COUNTIF($B$2:B19894,B19894)","v":"HLCUTOR230105510:9"},"HLCUTOR230105510","CAAU2007791","HLCUTOR230105510","20 Dry","PKBQM",295808,"2023-02-16","2023-02-27",275.60000000000002,"BL"]
[{"$f":"B19911&\":\"&COUNTIF($B$2:B19911,B19911)","v":"HLCUTOR221224417:1"},"HLCUTOR221224417","TEMU1862453","HLCUTOR221224417","20 Dry","PKBQM",295808,"2023-02-16","2023-02-27",275.60000000000002,"BL"]
[{"$f":"B19928&\":\"&COUNTIF($B$2:B19928,B19928)","v":"HLCUPRG221203018:5"},"HLCUPRG221203018","MGBU2269153","HLCUPRG221203018","20 Dry","PKBQM",295808,"2023-02-16","2023-02-20",275.60000000000002,"SW"]
[{"$f":"B19944&\":\"&COUNTIF($B$2:B19944,B19944)","v":"HLCUBSC230166059:1"},"HLCUBSC230166059","TGBU5531670","HLCUBSC230166059","40 Dry","PKBQM",294827,"2023-02-17","2023-02-28",273,"BL"]
[{"$f":"B19959&\":\"&COUNTIF($B$2:B19959,B19959)","v":"HLCUBSC230199202:2"},"HLCUBSC230199202","CAAU2079092","HLCUBSC230199202","20 Dry","PKBQM",294827,"2023-02-17","2023-03-02",273,"BL"]
[{"$f":"B19977&\":\"&COUNTIF($B$2:B19977,B19977)","v":"HLCUBSC230165195:1"},"HLCUBSC230165195","CAIU8540096","HLCUBSC230165195","40 Dry","PKBQM",294827,"2023-02-17","2023-02-28",273,"BL"]
[{"$f":"B19994&\":\"&COUNTIF($B$2:B19994,B19994)","v":"HLCUBSC2212BOIY7:1"},"HLCUBSC2212BOIY7","GLDU5735621","HLCUBSC2212BOIY7","20 Dry","PKBQM",294827,"2023-02-17","2023-02-28",273,"BL"]
[{"$f":"B20008&\":\"&COUNTIF($B$2:B20008,B20008)","v":"HLCUBSC230167369:1"},"HLCUBSC230167369","UACU3659811","HLCUBSC230167369","20 Dry","PKBQM",294827,"2023-02-17","2023-02-28",273,"BL"]
[{"$f":"B20027&\":\"&COUNTIF($B$2:B20027,B20027)","v":"HLCUBSC230156550:2"},"HLCUBSC230156550","HLXU8627431","HLCUBSC230156550","40 Dry","PKBQM",294827,"2023-02-17","2023-02-28",273,"BL"]
[{"$f":"B20044&\":\"&COUNTIF($B$2:B20044,B20044)","v":"HLCUBSC230198583:2"},"HLCUBSC230198583","FANU1284438","HLCUBSC230198583","40 Dry","PKBQM",294827,"2023-02-17","2023-02-21",273,"BL"]
[{"$f":"B20056&\":\"&COUNTIF($B$2:B20056,B20056)","v":"HLCUBC1230100714:2"},"HLCUBC1230100714","MTSU9655360","HLCUBC1230100714","40 Dry","PKBQM",973236,"2023-02-18","2023-03-03",273,"BL"]
[{"$f":"B20077&\":\"&COUNTIF($B$2:B20077,B20077)","v":"HLCUVG1221101150:1"},"HLCUVG1221101150","CAIU9321087","HLCUVG1221101150","40 Dry","PKBQM",973236,"2023-02-18","2023-02-27",273,"SW"]
[{"$f":"B20087&\":\"&COUNTIF($B$2:B20087,B20087)","v":"HLCUIZ1230128280:3"},"HLCUIZ1230128280","UACU8238918","HLCUIZ1230128280","40 Dry","PKBQM",973236,"2023-02-18","2023-03-19",273,"SW"]
[{"$f":"B20110&\":\"&COUNTIF($B$2:B20110,B20110)","v":"HLCUIZ1230108104:20"},"HLCUIZ1230108104","TCLU4447741","HLCUIZ1230108104","40 Dry","PKBQM",973236,"2023-02-18","2023-03-19",273,"SW"]
[{"$f":"B20111&\":\"&COUNTIF($B$2:B20111,B20111)","v":"HLCUBC1230103153:1"},"HLCUBC1230103153","BSIU2287978","HLCUBC1230103153","20 Dry","PKBQM",973236,"2023-02-18","2023-03-03",273,"BL"]
[{"$f":"B20136&\":\"&COUNTIF($B$2:B20136,B20136)","v":"HLCUBEN221200433:15"},"HLCUBEN221200433","TCLU8120274","HLCUBEN221200433","40 Dry","PKBQM",973236,"2023-02-18","2023-03-01",273,"BL"]
[{"$f":"B20144&\":\"&COUNTIF($B$2:B20144,B20144)","v":"HLCUBEN221200433:23"},"HLCUBEN221200433","FCIU9101434","HLCUBEN221200433","40 Dry","PKBQM",973236,"2023-02-18","2023-03-01",273,"BL"]
[{"$f":"B20161&\":\"&COUNTIF($B$2:B20161,B20161)","v":"HLCULE1221239144:1"},"HLCULE1221239144","HLBU3411360","HLCULE1221239144","40 Dry","PKKHI",294066,"2023-02-19","2023-03-11",273,"BL"]
[{"$f":"B20184&\":\"&COUNTIF($B$2:B20184,B20184)","v":"HLCUME3221147653:11"},"HLCUME3221147653","HLBU2266078","HLCUME3221147653","40 Dry","PKKHI",294066,"2023-02-19","2023-03-11",273,"BL"]
[{"$f":"B20194&\":\"&COUNTIF($B$2:B20194,B20194)","v":"HLCUME3221147653:21"},"HLCUME3221147653","HLBU2047660","HLCUME3221147653","40 Dry","PKKHI",294066,"2023-02-19","2023-03-11",273,"BL"]
[{"$f":"B20215&\":\"&COUNTIF($B$2:B20215,B20215)","v":"HLCUANR221273945:1"},"HLCUANR221273945","RFCU2207287","HLCUANR221273945","20 Dry","PKKHI",297352,"2023-02-19","2023-03-07",273,"BL"]
[{"$f":"B20227&\":\"&COUNTIF($B$2:B20227,B20227)","v":"HLCURTM230119930:1"},"HLCURTM230119930","SEKU6403711","HLCURTM230119930","40 Dry","PKKHI",297352,"2023-02-19","2023-03-02",273,"BL"]
[{"$f":"B20244&\":\"&COUNTIF($B$2:B20244,B20244)","v":"HLCUAB1230102062:1"},"HLCUAB1230102062","SEGU5700407","HLCUAB1230102062","40 Dry","PKKHI",297352,"2023-02-19","2023-03-04",273,"BL"]
[{"$f":"B20264&\":\"&COUNTIF($B$2:B20264,B20264)","v":"HLCUANR221243186:1"},"HLCUANR221243186","HLBU1269030","HLCUANR221243186","40 Dry","PKKHI",297352,"2023-02-19","2023-03-04",273,"BL"]
[{"$f":"B20277&\":\"&COUNTIF($B$2:B20277,B20277)","v":"HLCUHAM2212BLVK5:1"},"HLCUHAM2212BLVK5","UACU5527706","HLCUHAM2212BLVK5","40 Dry","PKKHI",297352,"2023-02-19","2023-03-04",273,"BL"]
[{"$f":"B20294&\":\"&COUNTIF($B$2:B20294,B20294)","v":"HLCUPN4221253249:2"},"HLCUPN4221253249","TCKU3821715","HLCUPN4221253249","20 Dry","PKKHI",297352,"2023-02-19","2023-02-28",273,"BL"]
[{"$f":"B20312&\":\"&COUNTIF($B$2:B20312,B20312)","v":"HLCUTOR230102980:1"},"HLCUTOR230102980","TLLU5355479","HLCUTOR230102980","40 Dry","PKKHI",297352,"2023-02-19","2023-03-02",273,"SW"]
[{"$f":"B20327&\":\"&COUNTIF($B$2:B20327,B20327)","v":"HLCUANR221270110:2"},"HLCUANR221270110","FSCU7167540","HLCUANR221270110","40 Dry","PKKHI",297352,"2023-02-19","2023-03-11",273,"BL"]
[{"$f":"B20344&\":\"&COUNTIF($B$2:B20344,B20344)","v":"HLCUMCT230200058:1"},"HLCUMCT230200058","UACU5600788","HLCUMCT230200058","40 Dry","PKKHI",298735,"2023-02-20","2023-03-05",273,"SW"]
[{"$f":"B20360&\":\"&COUNTIF($B$2:B20360,B20360)","v":"HLCUKW3230102390:4"},"HLCUKW3230102390","TCNU6624653","HLCUKW3230102390","40 Dry","PKKHI",298735,"2023-02-20","2023-03-12",273,"BL"]
[{"$f":"B20361&\":\"&COUNTIF($B$2:B20361,B20361)","v":"HLCUKW3230102390:5"},"HLCUKW3230102390","HLBU2029712","HLCUKW3230102390","40 Dry","PKKHI",298735,"2023-02-20","2023-03-12",273,"BL"]
[{"$f":"B20377&\":\"&COUNTIF($B$2:B20377,B20377)","v":"HLCUKW3230102379:6"},"HLCUKW3230102379","TGBU6880629","HLCUKW3230102379","40 Dry","PKKHI",298735,"2023-02-20","2023-03-12",273,"BL"]
[{"$f":"B20394&\":\"&COUNTIF($B$2:B20394,B20394)","v":"HLCUDX3230209192:4"},"HLCUDX3230209192","FANU1283299","HLCUDX3230209192","40 Dry","PKKHI",298735,"2023-02-20","2023-03-12",273,"SW"]
[{"$f":"B20411&\":\"&COUNTIF($B$2:B20411,B20411)","v":"HLCURUH230109510:1"},"HLCURUH230109510","TLLU5241136","HLCURUH230109510","40 Dry","PKKHI",298735,"2023-02-20","2023-03-12",273,"BL"]
[{"$f":"B20425&\":\"&COUNTIF($B$2:B20425,B20425)","v":"HLCURUH230110014:9"},"HLCURUH230110014","FCIU9162595","HLCURUH230110014","40 Dry","PKKHI",298735,"2023-02-20","2023-03-12",273,"BL"]
[{"$f":"B20444&\":\"&COUNTIF($B$2:B20444,B20444)","v":"HLCURUH230200502:1"},"HLCURUH230200502","DAYU6130015","HLCURUH230200502","40 Dry","PKKHI",298735,"2023-02-20","2023-03-12",273,"BL"]
[{"$f":"B20457&\":\"&COUNTIF($B$2:B20457,B20457)","v":"HLCUVL1230107840:2"},"HLCUVL1230107840","BSIU9651973","HLCUVL1230107840","40 Dry","PKKHI",295683,"2023-02-20","2023-03-05",271.10000000000002,"SW"]
[{"$f":"B20477&\":\"&COUNTIF($B$2:B20477,B20477)","v":"HLCUGOA230168938:1"},"HLCUGOA230168938","HLXU5221433","HLCUGOA230168938","40 Dry","PKKHI",295683,"2023-02-21","2023-03-06",271.10000000000002,"BL"]
[{"$f":"B20494&\":\"&COUNTIF($B$2:B20494,B20494)","v":"HLCUALY230200541:1"},"HLCUALY230200541","TTNU8191278","HLCUALY230200541","40 Reefer","PKKHI",295683,"2023-02-20","2023-03-03",271.10000000000002,"BL"]
[{"$f":"B20505&\":\"&COUNTIF($B$2:B20505,B20505)","v":"HLCUALY230200541:12"},"HLCUALY230200541","SEGU9374926","HLCUALY230200541","40 Reefer","PKKHI",295683,"2023-02-21","2023-03-04",271.10000000000002,"BL"]
[{"$f":"B20527&\":\"&COUNTIF($B$2:B20527,B20527)","v":"HLCUME3221202462:1"},"HLCUME3221202462","CRSU9082325","HLCUME3221202462","40 Dry","PKKHI",295683,"2023-02-21","2023-03-23",271.10000000000002,"BL"]
[{"$f":"B20544&\":\"&COUNTIF($B$2:B20544,B20544)","v":"HLCUME3221210686:11"},"HLCUME3221210686","HLBU2216924","HLCUME3221210686","40 Dry","PKKHI",295683,"2023-02-21","2023-03-13",271.10000000000002,"BL"]
[{"$f":"B20553&\":\"&COUNTIF($B$2:B20553,B20553)","v":"HLCUME3221216978:3"},"HLCUME3221216978","HLBU3418600","HLCUME3221216978","40 Dry","PKKHI",295683,"2023-02-21","2023-03-13",271.10000000000002,"BL"]
[{"$f":"B20577&\":\"&COUNTIF($B$2:B20577,B20577)","v":"HLCUALY230126509:2"},"HLCUALY230126509","TEMU4862483","HLCUALY230126509","20 Dry","PKKHI",295683,"2023-02-21","2023-03-07",271.10000000000002,"BL"]
[{"$f":"B20585&\":\"&COUNTIF($B$2:B20585,B20585)","v":"HLCUDA3230102820:1"},"HLCUDA3230102820","BSIU2278678","HLCUDA3230102820","20 Dry","PKKHI",298671,"2023-02-21","2023-02-25",272.5,"BL"]
[{"$f":"B20610&\":\"&COUNTIF($B$2:B20610,B20610)","v":"HLCUJE2230112798:1"},"HLCUJE2230112798","GCXU5945255","HLCUJE2230112798","40 Dry","PKBQM",295810,"2023-02-23","2023-03-08",266.25,"SW"]
[{"$f":"B20611&\":\"&COUNTIF($B$2:B20611,B20611)","v":"HLCUJE2230118052:1"},"HLCUJE2230118052","HLBU2698657","HLCUJE2230118052","40 Dry","PKBQM",295810,"2023-02-23","2023-03-08",266.25,"SW"]
[{"$f":"B20633&\":\"&COUNTIF($B$2:B20633,B20633)","v":"HLCUBSC2212BLZB0:1"},"HLCUBSC2212BLZB0","UACU5757123","HLCUBSC2212BLZB0","40 Dry","PKBQM",295810,"2023-02-23","2023-02-27",266.25,"BL"]
[{"$f":"B20644&\":\"&COUNTIF($B$2:B20644,B20644)","v":"HLCUBSC2212BTHZ6:1"},"HLCUBSC2212BTHZ6","TCLU6521848","HLCUBSC2212BTHZ6","40 Dry","PKBQM",295810,"2023-02-23","2023-02-27",266.25,"SW"]
[{"$f":"B20661&\":\"&COUNTIF($B$2:B20661,B20661)","v":"HLCUBSC2301AXRE3:2"},"HLCUBSC2301AXRE3","HLXU1410275","HLCUBSC2301AXRE3","20 Dry","PKBQM",295810,"2023-02-23","2023-03-06",266.25,"BL"]
[{"$f":"B20681&\":\"&COUNTIF($B$2:B20681,B20681)","v":"HLCUBSC230165202:1"},"HLCUBSC230165202","FANU1330981","HLCUBSC230165202","20 Dry","PKBQM",295810,"2023-02-23","2023-03-08",266.25,"BL"]
[{"$f":"B20694&\":\"&COUNTIF($B$2:B20694,B20694)","v":"HLCUBSC230151494:1"},"HLCUBSC230151494","UACU8365928","HLCUBSC230151494","40 Dry","PKBQM",295810,"2023-02-23","2023-03-08",266.25,"SW"]
[{"$f":"B20713&\":\"&COUNTIF($B$2:B20713,B20713)","v":"HLCUBSC230131637:1"},"HLCUBSC230131637","UACU6011376","HLCUBSC230131637","40 Dry","PKBQM",295810,"2023-02-23","2023-03-06",266.25,"BL"]
[{"$f":"B20727&\":\"&COUNTIF($B$2:B20727,B20727)","v":"HLCUBSC230183952:1"},"HLCUBSC230183952","HLBU1733033","HLCUBSC230183952","20 Dry","PKBQM",295810,"2023-02-23","2023-03-06",266.25,"BL"]
[{"$f":"B20744&\":\"&COUNTIF($B$2:B20744,B20744)","v":"HLCUBSC230190665:1"},"HLCUBSC230190665","BSIU2920638","HLCUBSC230190665","20 Dry","PKBQM",295810,"2023-02-23","2023-03-06",266.25,"BL"]
[{"$f":"B20761&\":\"&COUNTIF($B$2:B20761,B20761)","v":"HLCULIV221273710:4"},"HLCULIV221273710","NIDU2238576","HLCULIV221273710","20 Dry","PKBQM",295810,"2023-02-23","2023-03-06",266.25,"BL"]
[{"$f":"B20777&\":\"&COUNTIF($B$2:B20777,B20777)","v":"HLCUHAM230171675:3"},"HLCUHAM230171675","CAIU2127402","HLCUHAM230171675","20 Dry","PKBQM",295810,"2023-02-23","2023-03-04",266.25,"BL"]
[{"$f":"B20794&\":\"&COUNTIF($B$2:B20794,B20794)","v":"HLCUBSC2301BCJZ5:1"},"HLCUBSC2301BCJZ5","TEMU2265750","HLCUBSC2301BCJZ5","20 Dry","PKBQM",294829,"2023-02-24","2023-03-09",266.25,"BL"]
[{"$f":"B20809&\":\"&COUNTIF($B$2:B20809,B20809)","v":"HLCUBSC2301AZMY1:2"},"HLCUBSC2301AZMY1","FCIU6307972","HLCUBSC2301AZMY1","20 Dry","PKBQM",294829,"2023-02-24","2023-03-09",266.25,"BL"]
[{"$f":"B20827&\":\"&COUNTIF($B$2:B20827,B20827)","v":"HLCUTOR230121450:1"},"HLCUTOR230121450","HLBU2894428","HLCUTOR230121450","40 Dry","PKBQM",294829,"2023-02-24","2023-03-07",266.25,"SW"]
[{"$f":"B20841&\":\"&COUNTIF($B$2:B20841,B20841)","v":"HLCUBSC2301BFCC2:4"},"HLCUBSC2301BFCC2","HLBU1127247","HLCUBSC2301BFCC2","40 Dry","PKBQM",294829,"2023-02-24","2023-03-07",266.25,"BL"]
[{"$f":"B20860&\":\"&COUNTIF($B$2:B20860,B20860)","v":"HLCUTOR230103898:1"},"HLCUTOR230103898","FANU1066837","HLCUTOR230103898","40 Dry","PKBQM",294829,"2023-02-24","2023-03-07",266.25,"SW"]
[{"$f":"B20861&\":\"&COUNTIF($B$2:B20861,B20861)","v":"HLCUTOR230119411:1"},"HLCUTOR230119411","HLBU2157380","HLCUTOR230119411","40 Dry","PKBQM",294829,"2023-02-24","2023-03-07",266.25,"SW"]
[{"$f":"B20889&\":\"&COUNTIF($B$2:B20889,B20889)","v":"HLCURTM230106131:2"},"HLCURTM230106131","TLLU2506566","HLCURTM230106131","20 Dry","PKBQM",981564,"2023-02-25","2023-03-06",266.25,"BL"]
[{"$f":"B20894&\":\"&COUNTIF($B$2:B20894,B20894)","v":"HLCUBC1230102140:3"},"HLCUBC1230102140","HLBU2471283","HLCUBC1230102140","40 Dry","PKBQM",981564,"2023-02-25","2023-03-10",266.25,"SW"]
[{"$f":"B20911&\":\"&COUNTIF($B$2:B20911,B20911)","v":"HLCULE1230146932:2"},"HLCULE1230146932","TLLU5273133","HLCULE1230146932","40 Dry","PKBQM",981564,"2023-02-25","2023-03-17",266.25,"BL"]
[{"$f":"B20937&\":\"&COUNTIF($B$2:B20937,B20937)","v":"HLCUDX3230219535:1"},"HLCUDX3230219535","FANU1449219","HLCUDX3230219535","40 Dry","PKKHI",298737,"2023-02-25","2023-03-17",266.25,"SW"]
[{"$f":"B20944&\":\"&COUNTIF($B$2:B20944,B20944)","v":"HLCURUH230108773:2"},"HLCURUH230108773","TCLU4144072","HLCURUH230108773","40 Dry","PKKHI",298737,"2023-02-25","2023-03-17",266.25,"BL"]
[{"$f":"B20969&\":\"&COUNTIF($B$2:B20969,B20969)","v":"HLCUDM2230202461:7"},"HLCUDM2230202461","FCIU7103124","HLCUDM2230202461","40 Dry","PKKHI",298737,"2023-02-25","2023-03-17",266.25,"BL"]
[{"$f":"B20977&\":\"&COUNTIF($B$2:B20977,B20977)","v":"HLCURUH230110376:2"},"HLCURUH230110376","HLXU8270241","HLCURUH230110376","40 Dry","PKKHI",298737,"2023-02-25","2023-03-17",266.25,"BL"]
[{"$f":"B20994&\":\"&COUNTIF($B$2:B20994,B20994)","v":"HLCUDA3230100137:3"},"HLCUDA3230100137","HLBU3247869","HLCUDA3230100137","40 Dry","PKKHI",298737,"2023-02-25","2023-03-10",266.25,"BL"]
[{"$f":"B21002&\":\"&COUNTIF($B$2:B21002,B21002)","v":"HLCURUH230110365:7"},"HLCURUH230110365","BMOU4116984","HLCURUH230110365","40 Dry","PKKHI",298737,"2023-02-25","2023-03-17",266.25,"BL"]
[{"$f":"B21027&\":\"&COUNTIF($B$2:B21027,B21027)","v":"HLCULE1230138870:2"},"HLCULE1230138870","FANU1217804","HLCULE1230138870","40 Dry","PKKHI",298737,"2023-02-26","2023-03-02",266.25,"SW"]
[{"$f":"B21044&\":\"&COUNTIF($B$2:B21044,B21044)","v":"HLCUKW3230200506:7"},"HLCUKW3230200506","FANU1161618","HLCUKW3230200506","40 Dry","PKKHI",298737,"2023-02-25","2023-03-17",266.25,"BL"]
[{"$f":"B21050&\":\"&COUNTIF($B$2:B21050,B21050)","v":"HLCUKW3230200506:13"},"HLCUKW3230200506","FANU1018058","HLCUKW3230200506","40 Dry","PKKHI",298737,"2023-02-25","2023-03-17",266.25,"BL"]
[{"$f":"B21077&\":\"&COUNTIF($B$2:B21077,B21077)","v":"HLCUGOT230102103:2"},"HLCUGOT230102103","HLBU3297047","HLCUGOT230102103","40 Dry","PKKHI",294051,"2023-01-23","",266.25,"BL"]
[{"$f":"B21082&\":\"&COUNTIF($B$2:B21082,B21082)","v":"HLCUPRG230109710:1"},"HLCUPRG230109710","HLXU5152878","HLCUPRG230109710","40 Dry","PKKHI",294051,"2023-02-27","2023-03-12",266.25,"BL"]
[{"$f":"B21110&\":\"&COUNTIF($B$2:B21110,B21110)","v":"HLCURTM230106694:2"},"HLCURTM230106694","HLXU3458637","HLCURTM230106694","20 Dry","PKKHI",294051,"2023-02-27","2023-03-19",266.25,"BL"]
[{"$f":"B21111&\":\"&COUNTIF($B$2:B21111,B21111)","v":"HLCUHAM230169659:1"},"HLCUHAM230169659","HLBU1254909","HLCUHAM230169659","40 Dry","PKKHI",294051,"2023-02-27","2023-03-12",266.25,"BL"]
[{"$f":"B21130&\":\"&COUNTIF($B$2:B21130,B21130)","v":"HLCUIZ1230162563:15"},"HLCUIZ1230162563","HLBU3239251","HLCUIZ1230162563","40 Dry","PKKHI",294051,"2023-02-27","2023-03-12",266.25,"BL"]
[{"$f":"B21144&\":\"&COUNTIF($B$2:B21144,B21144)","v":"HLCUJE2230116080:2"},"HLCUJE2230116080","UACU5899766","HLCUJE2230116080","40 Dry","PKKHI",294051,"2023-02-26","2023-03-09",266.25,"BL"]
[{"$f":"B21161&\":\"&COUNTIF($B$2:B21161,B21161)","v":"HLCUJE2230116090:2"},"HLCUJE2230116090","BEAU4209151","HLCUJE2230116090","40 Dry","PKKHI",294051,"2023-02-27","2023-03-10",266.25,"BL"]
[{"$f":"B21178&\":\"&COUNTIF($B$2:B21178,B21178)","v":"HLCUGOA2301AQPZ8:1"},"HLCUGOA2301AQPZ8","HLBU9100828","HLCUGOA2301AQPZ8","20 Reefer","PKKHI",295685,"2023-02-28","2023-03-02",265,"SW"]
[{"$f":"B21194&\":\"&COUNTIF($B$2:B21194,B21194)","v":"HLCUJE2230116598:4"},"HLCUJE2230116598","HLXU8441811","HLCUJE2230116598","40 Dry","PKKHI",295685,"2023-02-28","2023-03-13",265,"BL"]
[{"$f":"B21210&\":\"&COUNTIF($B$2:B21210,B21210)","v":"HLCUALY230207105:2"},"HLCUALY230207105","TCNU1748414","HLCUALY230207105","40 Dry","PKKHI",295685,"2023-02-27","2023-03-12",265,"BL"]
[{"$f":"B21227&\":\"&COUNTIF($B$2:B21227,B21227)","v":"HLCUALY230203221:2"},"HLCUALY230203221","BEAU2166934","HLCUALY230203221","20 Dry","PKKHI",295685,"2023-02-28","2023-03-13",265,"BL"]
[{"$f":"B21244&\":\"&COUNTIF($B$2:B21244,B21244)","v":"HLCUME3221235576:2"},"HLCUME3221235576","HLBU1053057","HLCUME3221235576","40 Dry","PKKHI",295685,"2023-02-28","2023-03-14",265,"BL"]
[{"$f":"B21258&\":\"&COUNTIF($B$2:B21258,B21258)","v":"HLCUSS5221126183:3"},"HLCUSS5221126183","TCKU6546860","HLCUSS5221126183","40 Dry","PKKHI",295685,"2023-02-28","2023-03-14",265,"BL"]
[{"$f":"B21277&\":\"&COUNTIF($B$2:B21277,B21277)","v":"HLCUDOH230201332:7"},"HLCUDOH230201332","HLXU8366596","HLCUDOH230201332","40 Dry","PKKHI",298673,"2023-02-28","2023-03-20",263.60000000000002,"BL"]
[{"$f":"B21294&\":\"&COUNTIF($B$2:B21294,B21294)","v":"HLCUIZ1230135116:9"},"HLCUIZ1230135116","BMOU4529186","HLCUIZ1230135116","40 Dry","PKKHI",298673,"2023-02-27","2023-03-12",263.60000000000002,"SW"]
[{"$f":"B21306&\":\"&COUNTIF($B$2:B21306,B21306)","v":"HLCUIZ1230135530:1"},"HLCUIZ1230135530","CRXU9917508","HLCUIZ1230135530","40 Dry","PKKHI",298673,"2023-02-27","2023-03-12",263.60000000000002,"BL"]
[{"$f":"B21327&\":\"&COUNTIF($B$2:B21327,B21327)","v":"HLCUTOR221219363:1"},"HLCUTOR221219363","HLBU2544902","HLCUTOR221219363","40 Dry","PKKHI",298673,"2023-02-28","2023-03-11",263.60000000000002,"SW"]
[{"$f":"B21338&\":\"&COUNTIF($B$2:B21338,B21338)","v":"HLCUBU3221202049:2"},"HLCUBU3221202049","FCIU6497091","HLCUBU3221202049","20 Dry","PKKHI",298673,"2023-02-28","2023-03-04",263.60000000000002,"BL"]
[{"$f":"B21360&\":\"&COUNTIF($B$2:B21360,B21360)","v":"HLCUHAM230101798:3"},"HLCUHAM230101798","FANU3109692","HLCUHAM230101798","40 Dry","PKBQM",295812,"2023-03-02","2023-03-11",263.7,"BL"]
[{"$f":"B21361&\":\"&COUNTIF($B$2:B21361,B21361)","v":"HLCUCPH230100109:1"},"HLCUCPH230100109","UACU8579679","HLCUCPH230100109","40 Dry","PKBQM",295812,"2023-03-02","2023-04-15",263.7,"SW"]
[{"$f":"B21386&\":\"&COUNTIF($B$2:B21386,B21386)","v":"HLCUBSC2301BBBM6:1"},"HLCUBSC2301BBBM6","HLXU1030980","HLCUBSC2301BBBM6","20 Dry","PKBQM",295812,"2023-03-02","2023-03-13",263.7,"BL"]
[{"$f":"B21394&\":\"&COUNTIF($B$2:B21394,B21394)","v":"HLCUBSC2301AZML9:1"},"HLCUBSC2301AZML9","HLBU2797789","HLCUBSC2301AZML9","40 Dry","PKBQM",295812,"2023-03-02","2023-03-06",263.7,"SW"]
[{"$f":"B21411&\":\"&COUNTIF($B$2:B21411,B21411)","v":"HLCUBSC2301BPEC3:1"},"HLCUBSC2301BPEC3","UACU5756180","HLCUBSC2301BPEC3","40 Dry","PKBQM",295812,"2023-03-02","2023-03-13",263.7,"SW"]
[{"$f":"B21434&\":\"&COUNTIF($B$2:B21434,B21434)","v":"HLCUBSC2301AXNG3:1"},"HLCUBSC2301AXNG3","HLXU1238058","HLCUBSC2301AXNG3","20 Dry","PKBQM",295812,"2023-03-02","2023-03-15",263.7,"BL"]
[{"$f":"B21444&\":\"&COUNTIF($B$2:B21444,B21444)","v":"HLCUBSC2301AXPC0:5"},"HLCUBSC2301AXPC0","NIDU2322835","HLCUBSC2301AXPC0","20 Dry","PKBQM",295812,"2023-03-02","2023-03-15",263.7,"BL"]
[{"$f":"B21466&\":\"&COUNTIF($B$2:B21466,B21466)","v":"HLCUTOR230117862:2"},"HLCUTOR230117862","TCLU8344253","HLCUTOR230117862","40 Dry","PKBQM",295812,"2023-03-02","2023-03-13",263.7,"SW"]
[{"$f":"B21477&\":\"&COUNTIF($B$2:B21477,B21477)","v":"HLCUBSC2301BKIX0:1"},"HLCUBSC2301BKIX0","HLXU8545170","HLCUBSC2301BKIX0","40 Dry","PKBQM",295812,"2023-03-02","2023-03-15",263.7,"SW"]
[{"$f":"B21494&\":\"&COUNTIF($B$2:B21494,B21494)","v":"HLCUBSC2301BAKS5:2"},"HLCUBSC2301BAKS5","UACU3872745","HLCUBSC2301BAKS5","20 Dry","PKBQM",295812,"2023-03-02","2023-03-15",263.7,"BL"]
[{"$f":"B21514&\":\"&COUNTIF($B$2:B21514,B21514)","v":"HLCUBSC2301AWTS5:1"},"HLCUBSC2301AWTS5","CAIU6618805","HLCUBSC2301AWTS5","20 Dry","PKBQM",295812,"2023-03-02","2023-03-13",263.7,"SW"]
[{"$f":"B21527&\":\"&COUNTIF($B$2:B21527,B21527)","v":"HLCUBSC2301BDSY1:1"},"HLCUBSC2301BDSY1","UACU5786332","HLCUBSC2301BDSY1","40 Dry","PKBQM",295812,"2023-03-02","2023-03-13",263.7,"BL"]
[{"$f":"B21544&\":\"&COUNTIF($B$2:B21544,B21544)","v":"HLCUTOR230126007:1"},"HLCUTOR230126007","BMOU5534280","HLCUTOR230126007","40 Dry","PKBQM",294831,"2023-03-03","2023-03-14",262.5,"SW"]
[{"$f":"B21562&\":\"&COUNTIF($B$2:B21562,B21562)","v":"HLCUBSC2301BOAR8:10"},"HLCUBSC2301BOAR8","SEGU5689226","HLCUBSC2301BOAR8","40 Dry","PKBQM",294831,"2023-03-03","2023-03-16",262.5,"BL"]
[{"$f":"B21577&\":\"&COUNTIF($B$2:B21577,B21577)","v":"HLCUBSC2301BOAR8:25"},"HLCUBSC2301BOAR8","HLBU1496878","HLCUBSC2301BOAR8","40 Dry","PKBQM",294831,"2023-03-03","2023-03-16",262.5,"BL"]
[{"$f":"B21594&\":\"&COUNTIF($B$2:B21594,B21594)","v":"HLCUBSC230198802:1"},"HLCUBSC230198802","BEAU4589196","HLCUBSC230198802","40 Dry","PKBQM",294831,"2023-03-03","2023-03-14",262.5,"BL"]
[{"$f":"B21610&\":\"&COUNTIF($B$2:B21610,B21610)","v":"HLCUBSC230267356:1"},"HLCUBSC230267356","UACU5360033","HLCUBSC230267356","40 Dry","PKBQM",294831,"2023-03-03","2023-03-16",262.5,"BL"]
[{"$f":"B21611&\":\"&COUNTIF($B$2:B21611,B21611)","v":"HLCUBSC2301BIZK4:1"},"HLCUBSC2301BIZK4","FANU1875467","HLCUBSC2301BIZK4","40 Dry","PKBQM",294831,"2023-03-03","2023-03-16",262.5,"BL"]
[{"$f":"B21627&\":\"&COUNTIF($B$2:B21627,B21627)","v":"HLCUBSC2301BLBJ2:6"},"HLCUBSC2301BLBJ2","TRLU8616520","HLCUBSC2301BLBJ2","40 Dry","PKBQM",294831,"2023-03-03","2023-03-14",262.5,"BL"]
[{"$f":"B21644&\":\"&COUNTIF($B$2:B21644,B21644)","v":"HLCUBSC2301BIBU2:1"},"HLCUBSC2301BIBU2","UACU4045567","HLCUBSC2301BIBU2","20 Dry","PKBQM",294831,"2023-03-03","2023-03-14",262.5,"BL"]
[{"$f":"B21661&\":\"&COUNTIF($B$2:B21661,B21661)","v":"HLCUBSC2301BJIB5:3"},"HLCUBSC2301BJIB5","TLLU5325263","HLCUBSC2301BJIB5","40 Dry","PKBQM",294831,"2023-03-03","2023-03-14",262.5,"BL"]
[{"$f":"B21675&\":\"&COUNTIF($B$2:B21675,B21675)","v":"HLCUTOR230128185:1"},"HLCUTOR230128185","HLBU1361553","HLCUTOR230128185","40 Dry","PKBQM",294831,"2023-03-03","2023-03-14",262.5,"SW"]
[{"$f":"B21694&\":\"&COUNTIF($B$2:B21694,B21694)","v":"HLCUBSC2301AUWI9:1"},"HLCUBSC2301AUWI9","UACU3938478","HLCUBSC2301AUWI9","20 Dry","PKBQM",294831,"2023-03-03","2023-03-16",262.5,"BL"]
[{"$f":"B21711&\":\"&COUNTIF($B$2:B21711,B21711)","v":"HLCUKW3230100976:1"},"HLCUKW3230100976","CAIU8053035","HLCUKW3230100976","40 Dry","PKKHI",298739,"2023-03-04","2023-03-24",262.5,"BL"]
[{"$f":"B21724&\":\"&COUNTIF($B$2:B21724,B21724)","v":"HLCUMCT230201452:6"},"HLCUMCT230201452","TGHU6268385","HLCUMCT230201452","40 Dry","PKKHI",298739,"2023-03-04","2023-03-17",262.5,"BL"]
[{"$f":"B21744&\":\"&COUNTIF($B$2:B21744,B21744)","v":"HLCUKW3230201469:3"},"HLCUKW3230201469","HLXU6494561","HLCUKW3230201469","40 Dry","PKKHI",298739,"2023-03-04","2023-03-17",262.5,"BL"]
[{"$f":"B21755&\":\"&COUNTIF($B$2:B21755,B21755)","v":"HLCUDX3230232433:3"},"HLCUDX3230232433","HLBU3130954","HLCUDX3230232433","40 Dry","PKKHI",298739,"2023-03-04","2023-03-08",262.5,"BL"]
[{"$f":"B21777&\":\"&COUNTIF($B$2:B21777,B21777)","v":"HLCUKW3230102485:5"},"HLCUKW3230102485","HLBU1650860","HLCUKW3230102485","40 Dry","PKKHI",298739,"2023-03-04","2023-03-24",262.5,"BL"]
[{"$f":"B21794&\":\"&COUNTIF($B$2:B21794,B21794)","v":"HLCUSYD230100989:1"},"HLCUSYD230100989","FANU1588908","HLCUSYD230100989","40 Dry","PKKHI",298739,"2023-03-04","2023-03-17",262.5,"SW"]
[{"$f":"B21803&\":\"&COUNTIF($B$2:B21803,B21803)","v":"HLCUIZ1230138907:1"},"HLCUIZ1230138907","HLXU3619388","HLCUIZ1230138907","20 Special","PKKHI",298739,"2023-03-04","2023-03-08",262.5,"BL"]
[{"$f":"B21827&\":\"&COUNTIF($B$2:B21827,B21827)","v":"HLCUBEN230200015:1"},"HLCUBEN230200015","BEAU4552129","HLCUBEN230200015","40 Dry","PKBQM",981543,"2023-03-04","2023-03-15",262.5,"BL"]
[{"$f":"B21844&\":\"&COUNTIF($B$2:B21844,B21844)","v":"HLCUBEN230200037:5"},"HLCUBEN230200037","HLBU2107409","HLCUBEN230200037","40 Dry","PKBQM",981543,"2023-03-04","2023-03-15",262.5,"BL"]
[{"$f":"B21852&\":\"&COUNTIF($B$2:B21852,B21852)","v":"HLCUBEN230200059:3"},"HLCUBEN230200059","TXGU6980678","HLCUBEN230200059","40 Dry","PKBQM",981543,"2023-03-04","2023-03-15",262.5,"BL"]
[{"$f":"B21861&\":\"&COUNTIF($B$2:B21861,B21861)","v":"HLCUBEN230200070:1"},"HLCUBEN230200070","TXGU7117928","HLCUBEN230200070","40 Dry","PKBQM",981543,"2023-03-04","2023-03-15",262.5,"BL"]
[{"$f":"B21883&\":\"&COUNTIF($B$2:B21883,B21883)","v":"HLCUIZ1230138706:13"},"HLCUIZ1230138706","UACU8398428","HLCUIZ1230138706","40 Dry","PKBQM",981543,"2023-03-04","2023-04-02",262.5,"SW"]
[{"$f":"B21894&\":\"&COUNTIF($B$2:B21894,B21894)","v":"HLCUIZ1230138706:24"},"HLCUIZ1230138706","UACU8546464","HLCUIZ1230138706","40 Dry","PKBQM",981543,"2023-03-04","2023-04-02",262.5,"SW"]
[{"$f":"B21911&\":\"&COUNTIF($B$2:B21911,B21911)","v":"HLCUIZ1230109659:1"},"HLCUIZ1230109659","UACU8313837","HLCUIZ1230109659","40 Dry","PKBQM",981543,"2023-03-04","2023-04-02",262.5,"SW"]
[{"$f":"B21932&\":\"&COUNTIF($B$2:B21932,B21932)","v":"HLCUBC1230118829:1"},"HLCUBC1230118829","UACU3783870","HLCUBC1230118829","20 Dry","PKBQM",981543,"2023-03-04","2023-03-17",262.5,"BL"]
[{"$f":"B21944&\":\"&COUNTIF($B$2:B21944,B21944)","v":"HLCUIZ1221283795:5"},"HLCUIZ1221283795","BMOU5824150","HLCUIZ1221283795","40 Dry","PKBQM",981543,"2023-03-04","2023-03-10",262.5,"BL"]
[{"$f":"B21961&\":\"&COUNTIF($B$2:B21961,B21961)","v":"HLCUBC1230120728:2"},"HLCUBC1230120728","TEMU4696090","HLCUBC1230120728","20 Dry","PKBQM",981543,"2023-03-04","2023-03-17",262.5,"BL"]
[{"$f":"B21980&\":\"&COUNTIF($B$2:B21980,B21980)","v":"HLCUBC1230124126:1"},"HLCUBC1230124126","FANU3092603","HLCUBC1230124126","40 Dry","PKBQM",981543,"2023-03-04","2023-03-17",262.5,"BL"]
[{"$f":"B21994&\":\"&COUNTIF($B$2:B21994,B21994)","v":"HLCUALY230213948:1"},"HLCUALY230213948","TEMU2875814","HLCUALY230213948","20 Dry","PKKHI",295509,"2023-03-05","2023-03-11",261.7,"BL"]
[{"$f":"B22011&\":\"&COUNTIF($B$2:B22011,B22011)","v":"HLCUCPH221210437:1"},"HLCUCPH221210437","GCXU5912246","HLCUCPH221210437","40 Dry","PKKHI",295509,"2023-03-05","2023-04-18",261.7,"SW"]
[{"$f":"B22027&\":\"&COUNTIF($B$2:B22027,B22027)","v":"HLCURUH230201962:1"},"HLCURUH230201962","FANU1845185","HLCURUH230201962","40 Dry","PKKHI",610313,"2023-03-06","2023-03-26",262.5,"BL"]
[{"$f":"B22044&\":\"&COUNTIF($B$2:B22044,B22044)","v":"HLCURUH230203913:5"},"HLCURUH230203913","UACU8508572","HLCURUH230203913","40 Dry","PKKHI",610313,"2023-03-06","2023-03-26",262.5,"BL"]
[{"$f":"B22060&\":\"&COUNTIF($B$2:B22060,B22060)","v":"HLCUBS2230200516:7"},"HLCUBS2230200516","HLXU8589624","HLCUBS2230200516","40 Dry","PKKHI",610313,"2023-03-06","2023-03-26",262.5,"BL"]
[{"$f":"B22077&\":\"&COUNTIF($B$2:B22077,B22077)","v":"HLCURUH230206911:2"},"HLCURUH230206911","SEGU5684266","HLCURUH230206911","40 Dry","PKKHI",610313,"2023-03-06","2023-03-26",262.5,"BL"]
[{"$f":"B22094&\":\"&COUNTIF($B$2:B22094,B22094)","v":"HLCURUH230204072:3"},"HLCURUH230204072","FBLU0106675","HLCURUH230204072","40 Dry","PKKHI",610313,"2023-03-06","2023-03-26",262.5,"BL"]
[{"$f":"B22108&\":\"&COUNTIF($B$2:B22108,B22108)","v":"HLCUIZ1230129461:4"},"HLCUIZ1230129461","TEMU6574320","HLCUIZ1230129461","40 Dry","PKKHI",295687,"2023-03-08","2023-03-21",261.5,"BL"]
[{"$f":"B22111&\":\"&COUNTIF($B$2:B22111,B22111)","v":"HLCUGOA2301AURG0:1"},"HLCUGOA2301AURG0","HLXU5641694","HLCUGOA2301AURG0","40 Special","PKKHI",295687,"2023-03-08","2023-03-12",261.5,"SW"]
[{"$f":"B22139&\":\"&COUNTIF($B$2:B22139,B22139)","v":"HLCUJE2230203558:1"},"HLCUJE2230203558","FCIU7102339","HLCUJE2230203558","40 Dry","PKKHI",295687,"2023-03-08","2023-03-21",261.5,"SW"]
[{"$f":"B22144&\":\"&COUNTIF($B$2:B22144,B22144)","v":"HLCUJE2230203558:6"},"HLCUJE2230203558","TCNU5591323","HLCUJE2230203558","40 Dry","PKKHI",295687,"2023-03-08","2023-03-21",261.5,"SW"]
[{"$f":"B22161&\":\"&COUNTIF($B$2:B22161,B22161)","v":"HLCUIZ1230157209:3"},"HLCUIZ1230157209","BEAU5090072","HLCUIZ1230157209","40 Dry","PKKHI",295687,"2023-03-08","2023-03-21",261.5,"BL"]
[{"$f":"B22188&\":\"&COUNTIF($B$2:B22188,B22188)","v":"HLCUGOA2301AULQ8:1"},"HLCUGOA2301AULQ8","SEGU2681514","HLCUGOA2301AULQ8","20 Dry","PKKHI",295687,"2023-03-08","2023-03-21",261.5,"SW"]
[{"$f":"B22194&\":\"&COUNTIF($B$2:B22194,B22194)","v":"HLCUIZ1230141630:5"},"HLCUIZ1230141630","HLBU2664240","HLCUIZ1230141630","40 Dry","PKKHI",295687,"2023-03-08","2023-03-21",261.5,"BL"]
[{"$f":"B22211&\":\"&COUNTIF($B$2:B22211,B22211)","v":"HLCUVL1230109370:2"},"HLCUVL1230109370","GCXU5926091","HLCUVL1230109370","40 Dry","PKKHI",295687,"2023-03-08","2023-03-21",261.5,"BL"]
[{"$f":"B22221&\":\"&COUNTIF($B$2:B22221,B22221)","v":"HLCUJE2230203569:5"},"HLCUJE2230203569","FANU1554410","HLCUJE2230203569","40 Dry","PKKHI",295687,"2023-03-08","2023-03-21",261.5,"SW"]
[{"$f":"B22244&\":\"&COUNTIF($B$2:B22244,B22244)","v":"HLCUME3221234730:8"},"HLCUME3221234730","FANU3191972","HLCUME3221234730","40 Dry","PKKHI",295687,"2023-03-08","2023-03-28",261.5,"BL"]
[{"$f":"B22253&\":\"&COUNTIF($B$2:B22253,B22253)","v":"HLCUME3221234193:3"},"HLCUME3221234193","FANU1605950","HLCUME3221234193","40 Dry","PKKHI",295687,"2023-03-08","2023-03-28",261.5,"BL"]
[{"$f":"B22277&\":\"&COUNTIF($B$2:B22277,B22277)","v":"HLCUME3221217144:3"},"HLCUME3221217144","FANU1756494","HLCUME3221217144","40 Dry","PKKHI",295687,"2023-03-08","2023-03-28",261.5,"BL"]
[{"$f":"B22294&\":\"&COUNTIF($B$2:B22294,B22294)","v":"HLCUGOA230214023:1"},"HLCUGOA230214023","TCKU6045805","HLCUGOA230214023","40 Dry","PKKHI",295687,"2023-03-08","2023-03-14",261.5,"SW"]
[{"$f":"B22301&\":\"&COUNTIF($B$2:B22301,B22301)","v":"HLCUHAM230166555:1"},"HLCUHAM230166555","FCIU3865332","HLCUHAM230166555","20 Dry","PKKHI",298675,"2023-03-08","2023-03-21",262.5,"BL"]
[{"$f":"B22327&\":\"&COUNTIF($B$2:B22327,B22327)","v":"HLCUAB1221204228:11"},"HLCUAB1221204228","HLBU3176934","HLCUAB1221204228","40 Dry","PKKHI",298675,"2023-03-08","2023-03-21",262.5,"BL"]
[{"$f":"B22344&\":\"&COUNTIF($B$2:B22344,B22344)","v":"HLCUTOR230121829:1"},"HLCUTOR230121829","UACU5243952","HLCUTOR230121829","40 Dry","PKKHI",298675,"2023-03-08","2023-03-19",262.5,"SW"]
[{"$f":"B22349&\":\"&COUNTIF($B$2:B22349,B22349)","v":"HLCUTOR230115096:1"},"HLCUTOR230115096","TRLU7475068","HLCUTOR230115096","40 Dry","PKKHI",298675,"2023-03-08","2023-03-19",262.5,"SW"]
[{"$f":"B22361&\":\"&COUNTIF($B$2:B22361,B22361)","v":"HLCUIT1221219370:5"},"HLCUIT1221219370","FCIU6282848","HLCUIT1221219370","20 Dry","PKKHI",298675,"2023-03-08","2023-03-17",262.5,"BL"]
[{"$f":"B22381&\":\"&COUNTIF($B$2:B22381,B22381)","v":"HLCUAB1221203320:8"},"HLCUAB1221203320","UACU5924215","HLCUAB1221203320","40 Dry","PKKHI",298675,"2023-03-08","2023-03-21",262.5,"BL"]
[{"$f":"B22394&\":\"&COUNTIF($B$2:B22394,B22394)","v":"HLCUAB1221208284:1"},"HLCUAB1221208284","UASU1013568","HLCUAB1221208284","40 Dry","PKKHI",298675,"2023-03-08","2023-03-21",262.5,"BL"]
[{"$f":"B22411&\":\"&COUNTIF($B$2:B22411,B22411)","v":"HLCUAB1230102409:3"},"HLCUAB1230102409","HLBU2076756","HLCUAB1230102409","40 Dry","PKKHI",298675,"2023-03-08","2023-03-21",262.5,"BL"]
[{"$f":"B22429&\":\"&COUNTIF($B$2:B22429,B22429)","v":"HLCUCPH230104779:4"},"HLCUCPH230104779","HLXU8588382","HLCUCPH230104779","40 Dry","PKBQM",295814,"2023-03-09","2023-04-22",269.10000000000002,"SW"]
[{"$f":"B22444&\":\"&COUNTIF($B$2:B22444,B22444)","v":"HLCULIV230139383:2"},"HLCULIV230139383","FSCU7214425","HLCULIV230139383","40 Dry","PKBQM",295814,"2023-03-09","2023-03-22",269.10000000000002,"BL"]
[{"$f":"B22461&\":\"&COUNTIF($B$2:B22461,B22461)","v":"HLCUBSC2301BJSV5:3"},"HLCUBSC2301BJSV5","HLXU6597180","HLCUBSC2301BJSV5","40 Dry","PKBQM",295814,"2023-03-09","2023-03-20",269.10000000000002,"SW"]
[{"$f":"B22477&\":\"&COUNTIF($B$2:B22477,B22477)","v":"HLCUBSC2301BLKR0:1"},"HLCUBSC2301BLKR0","TCLU1470861","HLCUBSC2301BLKR0","40 Dry","PKBQM",295814,"2023-03-09","2023-03-20",269.10000000000002,"BL"]
[{"$f":"B22494&\":\"&COUNTIF($B$2:B22494,B22494)","v":"HLCUBSC2301BIDT2:1"},"HLCUBSC2301BIDT2","HLXU1173337","HLCUBSC2301BIDT2","20 Dry","PKBQM",295814,"2023-03-09","2023-03-20",269.10000000000002,"SW"]
[{"$f":"B22509&\":\"&COUNTIF($B$2:B22509,B22509)","v":"HLCUTOR230126822:2"},"HLCUTOR230126822","FANU1787047","HLCUTOR230126822","40 Dry","PKBQM",295814,"2023-03-09","2023-03-20",269.10000000000002,"SW"]
[{"$f":"B22527&\":\"&COUNTIF($B$2:B22527,B22527)","v":"HLCUBSC2301BKZJ9:1"},"HLCUBSC2301BKZJ9","DFSU1825313","HLCUBSC2301BKZJ9","20 Dry","PKBQM",295814,"2023-03-09","2023-03-22",269.10000000000002,"BL"]
[{"$f":"B22544&\":\"&COUNTIF($B$2:B22544,B22544)","v":"HLCUBSC2301BISD4:1"},"HLCUBSC2301BISD4","UACU5293866","HLCUBSC2301BISD4","40 Dry","PKBQM",295814,"2023-03-09","2023-03-29",269.10000000000002,"BL"]
[{"$f":"B22557&\":\"&COUNTIF($B$2:B22557,B22557)","v":"HLCUBSC2301BFMZ5:2"},"HLCUBSC2301BFMZ5","FANU1787643","HLCUBSC2301BFMZ5","40 Dry","PKBQM",295814,"2023-03-09","2023-03-20",269.10000000000002,"SW"]
[{"$f":"B22577&\":\"&COUNTIF($B$2:B22577,B22577)","v":"HLCUBSC2301BKXI7:1"},"HLCUBSC2301BKXI7","TGBU2174809","HLCUBSC2301BKXI7","20 Dry","PKBQM",295814,"2023-03-09","2023-03-22",269.10000000000002,"BL"]
[{"$f":"B22594&\":\"&COUNTIF($B$2:B22594,B22594)","v":"HLCUVAN230109425:1"},"HLCUVAN230109425","HLBU2716730","HLCUVAN230109425","40 Dry","PKBQM",295814,"2023-03-09","2023-03-20",269.10000000000002,"SW"]
[{"$f":"B22605&\":\"&COUNTIF($B$2:B22605,B22605)","v":"HLCUBSC2301BEWA7:1"},"HLCUBSC2301BEWA7","HAMU1110666","HLCUBSC2301BEWA7","20 Dry","PKBQM",295814,"2023-03-09","2023-03-20",269.10000000000002,"BL"]
[{"$f":"B22611&\":\"&COUNTIF($B$2:B22611,B22611)","v":"HLCUBSC2301BPYP6:2"},"HLCUBSC2301BPYP6","FANU3128157","HLCUBSC2301BPYP6","40 Dry","PKBQM",295814,"2023-03-09","2023-03-20",269.10000000000002,"BL"]
[{"$f":"B22637&\":\"&COUNTIF($B$2:B22637,B22637)","v":"HLCUAB1230101377:9"},"HLCUAB1230101377","DFSU7480693","HLCUAB1230101377","40 Dry","PKKHI",295485,"2023-03-10","2023-03-23",269.10000000000002,"BL"]
[{"$f":"B22644&\":\"&COUNTIF($B$2:B22644,B22644)","v":"HLCUHAM2301BDRP6:5"},"HLCUHAM2301BDRP6","TRHU4719964","HLCUHAM2301BDRP6","40 Dry","PKKHI",295485,"2023-03-10","2023-03-23",269.10000000000002,"BL"]
[{"$f":"B22661&\":\"&COUNTIF($B$2:B22661,B22661)","v":"HLCUAB1221207544:3"},"HLCUAB1221207544","BMOU4531687","HLCUAB1221207544","40 Dry","PKKHI",295485,"2023-03-10","2023-03-23",269.10000000000002,"BL"]
[{"$f":"B22685&\":\"&COUNTIF($B$2:B22685,B22685)","v":"HLCUJE2230209024:1"},"HLCUJE2230209024","TCLU8736660","HLCUJE2230209024","40 Dry","PKKHI",295485,"2023-03-10","2023-03-21",269.10000000000002,"BL"]
[{"$f":"B22694&\":\"&COUNTIF($B$2:B22694,B22694)","v":"HLCUAB1221207566:4"},"HLCUAB1221207566","DFSU6517015","HLCUAB1221207566","40 Dry","PKKHI",295485,"2023-03-10","2023-03-23",269.10000000000002,"BL"]
[{"$f":"B22711&\":\"&COUNTIF($B$2:B22711,B22711)","v":"HLCUJE2230201329:1"},"HLCUJE2230201329","HLXU8312711","HLCUJE2230201329","40 Dry","PKKHI",295485,"2023-03-10","2023-03-21",269.10000000000002,"SW"]
[{"$f":"B22733&\":\"&COUNTIF($B$2:B22733,B22733)","v":"HLCUHAM230225376:1"},"HLCUHAM230225376","FCIU6213750","HLCUHAM230225376","20 Dry","PKKHI",295485,"2023-03-10","2023-03-14",269.10000000000002,"SW"]
[{"$f":"B22744&\":\"&COUNTIF($B$2:B22744,B22744)","v":"HLCURI4221206330:1"},"HLCURI4221206330","BEAU5000398","HLCURI4221206330","40 Dry","PKKHI",295485,"2023-03-10","2023-03-14",269.10000000000002,"SW"]
[{"$f":"B22765&\":\"&COUNTIF($B$2:B22765,B22765)","v":"HLCUTOR230119634:1"},"HLCUTOR230119634","UACU5717780","HLCUTOR230119634","40 Dry","PKKHI",295485,"2023-03-10","2023-03-21",269.10000000000002,"SW"]
[{"$f":"B22777&\":\"&COUNTIF($B$2:B22777,B22777)","v":"HLCURUH230203895:8"},"HLCURUH230203895","HLBU3228180","HLCURUH230203895","40 Dry","PKKHI",295485,"2023-03-10","2023-03-30",269.10000000000002,"BL"]
[{"$f":"B22794&\":\"&COUNTIF($B$2:B22794,B22794)","v":"HLCUAB1230107172:13"},"HLCUAB1230107172","HLXU8637548","HLCUAB1230107172","40 Dry","PKKHI",295485,"2023-03-10","2023-03-23",269.10000000000002,"BL"]
[{"$f":"B22813&\":\"&COUNTIF($B$2:B22813,B22813)","v":"HLCUAB1221206172:12"},"HLCUAB1221206172","BEAU5363808","HLCUAB1221206172","40 Dry","PKKHI",295485,"2023-03-10","2023-03-23",269.10000000000002,"BL"]
[{"$f":"B22827&\":\"&COUNTIF($B$2:B22827,B22827)","v":"HLCUAB1221204367:1"},"HLCUAB1221204367","FANU1396567","HLCUAB1221204367","40 Dry","PKKHI",295485,"2023-03-10","2023-03-23",269.10000000000002,"BL"]
[{"$f":"B22844&\":\"&COUNTIF($B$2:B22844,B22844)","v":"HLCUJE2230206060:1"},"HLCUJE2230206060","FFAU1334833","HLCUJE2230206060","40 Dry","PKKHI",298487,"2023-03-10","2023-03-23",289.25,"SW"]
[{"$f":"B22846&\":\"&COUNTIF($B$2:B22846,B22846)","v":"HLCUGOT230100068:2"},"HLCUGOT230100068","HLXU3519239","HLCUGOT230100068","20 Dry","PKKHI",298487,"2023-03-10","2023-03-19",289.25,"SW"]
[{"$f":"B22861&\":\"&COUNTIF($B$2:B22861,B22861)","v":"HLCUHAM2301BKLI5:1"},"HLCUHAM2301BKLI5","TGCU2098596","HLCUHAM2301BKLI5","20 Dry","PKKHI",298487,"2023-03-10","2023-03-23",289.25,"SW"]
[{"$f":"B22878&\":\"&COUNTIF($B$2:B22878,B22878)","v":"HLCUGDY230139609:1"},"HLCUGDY230139609","FANU1646434","HLCUGDY230139609","40 Dry","PKKHI",298487,"2023-03-10","2023-03-14",289.25,"BL"]
[{"$f":"B22894&\":\"&COUNTIF($B$2:B22894,B22894)","v":"HLCUJE2230117027:9"},"HLCUJE2230117027","TCNU1919332","HLCUJE2230117027","40 Dry","PKKHI",298487,"2023-03-10","2023-03-23",289.25,"SW"]
[{"$f":"B22911&\":\"&COUNTIF($B$2:B22911,B22911)","v":"HLCUDOH230203148:4"},"HLCUDOH230203148","HLXU8510717","HLCUDOH230203148","40 Dry","PKKHI",298487,"2023-03-10","2023-03-30",289.25,"BL"]
[{"$f":"B22926&\":\"&COUNTIF($B$2:B22926,B22926)","v":"HLCUIZ1230189331:4"},"HLCUIZ1230189331","TCNU8475522","HLCUIZ1230189331","40 Dry","PKKHI",298487,"2023-03-10","2023-03-23",289.25,"SW"]
[{"$f":"B22944&\":\"&COUNTIF($B$2:B22944,B22944)","v":"HLCUIZ1230197300:1"},"HLCUIZ1230197300","TCKU6028346","HLCUIZ1230197300","40 Dry","PKKHI",298487,"2023-03-10","2023-03-23",289.25,"SW"]
[{"$f":"B22961&\":\"&COUNTIF($B$2:B22961,B22961)","v":"HLCUSYD221139508:1"},"HLCUSYD221139508","HLXU8470213","HLCUSYD221139508","40 Dry","PKKHI",298487,"2023-03-10","2023-03-23",289.25,"SW"]
[{"$f":"B22974&\":\"&COUNTIF($B$2:B22974,B22974)","v":"HLCUMCT230201876:1"},"HLCUMCT230201876","HLBU3218217","HLCUMCT230201876","40 Dry","PKKHI",298741,"2023-03-12","2023-03-25",289.25,"BL"]
[{"$f":"B22994&\":\"&COUNTIF($B$2:B22994,B22994)","v":"HLCURUH230206090:1"},"HLCURUH230206090","FANU1993855","HLCURUH230206090","40 Dry","PKKHI",298741,"2023-03-12","2023-04-01",289.25,"BL"]
[{"$f":"B23006&\":\"&COUNTIF($B$2:B23006,B23006)","v":"HLCUDX3230244256:7"},"HLCUDX3230244256","FANU1489931","HLCUDX3230244256","40 Dry","PKKHI",298741,"2023-03-12","2023-03-25",289.25,"BL"]
[{"$f":"B23027&\":\"&COUNTIF($B$2:B23027,B23027)","v":"HLCUDA3230103750:1"},"HLCUDA3230103750","XINU1308642","HLCUDA3230103750","20 Dry","PKKHI",298741,"2023-03-12","2023-03-25",289.25,"BL"]
[{"$f":"B23044&\":\"&COUNTIF($B$2:B23044,B23044)","v":"HLCUDX3230306316:1"},"HLCUDX3230306316","FANU1507594","HLCUDX3230306316","40 Dry","PKKHI",298741,"2023-03-12","2023-04-01",289.25,"BL"]
[{"$f":"B23054&\":\"&COUNTIF($B$2:B23054,B23054)","v":"HLCUKW3230201491:7"},"HLCUKW3230201491","TCNU1375861","HLCUKW3230201491","40 Dry","PKKHI",298741,"2023-03-12","2023-04-01",289.25,"BL"]
[{"$f":"B23077&\":\"&COUNTIF($B$2:B23077,B23077)","v":"HLCURUH230206078:4"},"HLCURUH230206078","UACU5769361","HLCURUH230206078","40 Dry","PKKHI",298741,"2023-03-12","2023-04-01",289.25,"BL"]
[{"$f":"B23094&\":\"&COUNTIF($B$2:B23094,B23094)","v":"HLCUMCT230201715:1"},"HLCUMCT230201715","HLXU8045718","HLCUMCT230201715","40 Dry","PKKHI",298741,"2023-03-12","2023-03-25",289.25,"BL"]
[{"$f":"B23102&\":\"&COUNTIF($B$2:B23102,B23102)","v":"HLCUDX3230244088:1"},"HLCUDX3230244088","FANU1594583","HLCUDX3230244088","40 Dry","PKKHI",298741,"2023-03-12","2023-03-25",289.25,"BL"]
[{"$f":"B23111&\":\"&COUNTIF($B$2:B23111,B23111)","v":"HLCURUH230208621:3"},"HLCURUH230208621","UACU8407263","HLCURUH230208621","40 Dry","PKKHI",298741,"2023-03-12","2023-04-01",289.25,"BL"]
[{"$f":"B23134&\":\"&COUNTIF($B$2:B23134,B23134)","v":"HLCUDX3230302622:4"},"HLCUDX3230302622","TEMU7300896","HLCUDX3230302622","40 Dry","PKKHI",298741,"2023-03-12","2023-04-01",289.25,"BL"]
[{"$f":"B23144&\":\"&COUNTIF($B$2:B23144,B23144)","v":"HLCUDX3230242579:1"},"HLCUDX3230242579","GCXU5145463","HLCUDX3230242579","40 Dry","PKKHI",298741,"2023-03-12","2023-04-01",289.25,"BL"]
[{"$f":"B23161&\":\"&COUNTIF($B$2:B23161,B23161)","v":"HLCUSYD221243327:2"},"HLCUSYD221243327","BMOU4280853","HLCUSYD221243327","40 Dry","PKKHI",298741,"2023-03-12","2023-03-25",289.25,"SW"]
[{"$f":"B23182&\":\"&COUNTIF($B$2:B23182,B23182)","v":"HLCUFIH221000400:2"},"HLCUFIH221000400","CAAU5679737","HLCUFIH221000400","40 Dry","PKKHI",295525,"2023-03-13","2023-03-17",289.25,"BL"]
[{"$f":"B23194&\":\"&COUNTIF($B$2:B23194,B23194)","v":"HLCUFIH221200618:2"},"HLCUFIH221200618","DFSU6303076","HLCUFIH221200618","40 Dry","PKKHI",295525,"2023-03-13","2023-03-17",289.25,"BL"]
[{"$f":"B23211&\":\"&COUNTIF($B$2:B23211,B23211)","v":"HLCUCPH230110076:3"},"HLCUCPH230110076","HLBU3039227","HLCUCPH230110076","20 Dry","PKBQM",295816,"2023-03-16","2023-03-29",283,"BL"]
[{"$f":"B23230&\":\"&COUNTIF($B$2:B23230,B23230)","v":"HLCUCPH230200352:1"},"HLCUCPH230200352","UACU5962350","HLCUCPH230200352","40 Dry","PKBQM",295816,"2023-03-16","2023-04-29",283,"SW"]
[{"$f":"B23244&\":\"&COUNTIF($B$2:B23244,B23244)","v":"HLCUHAM230255828:6"},"HLCUHAM230255828","UACU4001975","HLCUHAM230255828","20 Dry","PKBQM",295816,"2023-03-16","2023-03-25",283,"BL"]
[{"$f":"B23262&\":\"&COUNTIF($B$2:B23262,B23262)","v":"HLCUVAN230108920:1"},"HLCUVAN230108920","HLBU2443764","HLCUVAN230108920","40 Dry","PKBQM",295816,"2023-03-17","2023-03-28",283,"SW"]
[{"$f":"B23277&\":\"&COUNTIF($B$2:B23277,B23277)","v":"HLCUBSC230213967:1"},"HLCUBSC230213967","HLBU1218732","HLCUBSC230213967","20 Dry","PKBQM",295816,"2023-03-17","2023-03-28",283,"BL"]
[{"$f":"B23294&\":\"&COUNTIF($B$2:B23294,B23294)","v":"HLCUTOR230204369:1"},"HLCUTOR230204369","UETU5909920","HLCUTOR230204369","40 Dry","PKBQM",295816,"2023-03-17","2023-03-28",283,"SW"]
[{"$f":"B23310&\":\"&COUNTIF($B$2:B23310,B23310)","v":"HLCUBSC2301BPLF0:1"},"HLCUBSC2301BPLF0","CAIU2848625","HLCUBSC2301BPLF0","20 Dry","PKBQM",295816,"2023-03-17","2023-03-28",283,"SW"]
[{"$f":"B23327&\":\"&COUNTIF($B$2:B23327,B23327)","v":"HLCUTOR230129758:2"},"HLCUTOR230129758","CAIU2536967","HLCUTOR230129758","20 Dry","PKBQM",295816,"2023-03-16","2023-03-27",283,"BL"]
[{"$f":"B23344&\":\"&COUNTIF($B$2:B23344,B23344)","v":"HLCUBSC230207961:2"},"HLCUBSC230207961","BMOU2933706","HLCUBSC230207961","20 Dry","PKBQM",295816,"2023-03-16","2023-03-29",283,"BL"]
[{"$f":"B23358&\":\"&COUNTIF($B$2:B23358,B23358)","v":"HLCUTOR230128766:2"},"HLCUTOR230128766","TCLU5615710","HLCUTOR230128766","40 Dry","PKBQM",295816,"2023-03-16","2023-03-27",283,"SW"]
[{"$f":"B23361&\":\"&COUNTIF($B$2:B23361,B23361)","v":"HLCUBSC230265467:1"},"HLCUBSC230265467","FANU1662179","HLCUBSC230265467","40 Dry","PKBQM",295816,"2023-03-16","2023-03-27",283,"BL"]
[{"$f":"B23390&\":\"&COUNTIF($B$2:B23390,B23390)","v":"HLCUBC1230144436:1"},"HLCUBC1230144436","FANU3179853","HLCUBC1230144436","40 Dry","PKBQM",981554,"2023-03-16","2023-03-29",289.25,"BL"]
[{"$f":"B23394&\":\"&COUNTIF($B$2:B23394,B23394)","v":"HLCUXM1230116708:1"},"HLCUXM1230116708","UACU5646393","HLCUXM1230116708","40 Dry","PKBQM",981554,"2023-03-16","2023-04-05",289.25,"BL"]
[{"$f":"B23411&\":\"&COUNTIF($B$2:B23411,B23411)","v":"HLCUIZ1230160188:6"},"HLCUIZ1230160188","UACU8455554","HLCUIZ1230160188","40 Dry","PKBQM",981554,"2023-03-16","2023-04-14",289.25,"SW"]
[{"$f":"B23438&\":\"&COUNTIF($B$2:B23438,B23438)","v":"HLCUIZ1230160188:33"},"HLCUIZ1230160188","TRLU8728263","HLCUIZ1230160188","40 Dry","PKBQM",981554,"2023-03-16","2023-04-14",289.25,"SW"]
[{"$f":"B23444&\":\"&COUNTIF($B$2:B23444,B23444)","v":"HLCUIZ1230160188:39"},"HLCUIZ1230160188","UACU8383515","HLCUIZ1230160188","40 Dry","PKBQM",981554,"2023-03-16","2023-04-14",289.25,"SW"]
[{"$f":"B23461&\":\"&COUNTIF($B$2:B23461,B23461)","v":"HLCUIZ1230160188:56"},"HLCUIZ1230160188","TTNU4899042","HLCUIZ1230160188","40 Dry","PKBQM",981554,"2023-03-16","2023-04-14",289.25,"SW"]
[{"$f":"B23471&\":\"&COUNTIF($B$2:B23471,B23471)","v":"HLCUBC1230141979:2"},"HLCUBC1230141979","HLBU1455631","HLCUBC1230141979","20 Dry","PKBQM",981554,"2023-03-16","2023-03-29",289.25,"SW"]
[{"$f":"B23494&\":\"&COUNTIF($B$2:B23494,B23494)","v":"HLCUBSC2212BNHY9:1"},"HLCUBSC2212BNHY9","HLBU1460915","HLCUBSC2212BNHY9","20 Dry","PKBQM",981554,"2023-03-16","2023-03-27",289.25,"BL"]
[{"$f":"B23511&\":\"&COUNTIF($B$2:B23511,B23511)","v":"HLCUBSC2212BONE0:2"},"HLCUBSC2212BONE0","UETU2730334","HLCUBSC2212BONE0","20 Dry","PKBQM",981554,"2023-03-16","2023-03-27",289.25,"BL"]
[{"$f":"B23519&\":\"&COUNTIF($B$2:B23519,B23519)","v":"HLCUGOA230225954:3"},"HLCUGOA230225954","TCLU5784201","HLCUGOA230225954","40 Dry","PKBQM",981554,"2023-03-16","2023-03-27",289.25,"BL"]
[{"$f":"B23544&\":\"&COUNTIF($B$2:B23544,B23544)","v":"HLCUBSC2301AUIT2:1"},"HLCUBSC2301AUIT2","TLLU2450030","HLCUBSC2301AUIT2","20 Dry","PKBQM",981554,"2023-03-16","2023-03-27",289.25,"BL"]
[{"$f":"B23551&\":\"&COUNTIF($B$2:B23551,B23551)","v":"HLCUBSC2212BISV5:1"},"HLCUBSC2212BISV5","UACU4124901","HLCUBSC2212BISV5","20 Dry","PKBQM",981554,"2023-03-16","2023-03-27",289.25,"BL"]
[{"$f":"B23577&\":\"&COUNTIF($B$2:B23577,B23577)","v":"HLCUJE2230215030:2"},"HLCUJE2230215030","SEGU5630676","HLCUJE2230215030","40 Dry","PKKHI",295491,"2023-03-17","2023-03-28",280,"BL"]
[{"$f":"B23594&\":\"&COUNTIF($B$2:B23594,B23594)","v":"HLCUHAM230263204:2"},"HLCUHAM230263204","HLXU8267504","HLCUHAM230263204","40 Dry","PKKHI",295491,"2023-03-16","2023-04-05",280,"BL"]
[{"$f":"B23599&\":\"&COUNTIF($B$2:B23599,B23599)","v":"HLCUJE2230212602:3"},"HLCUJE2230212602","TCLU5855964","HLCUJE2230212602","40 Dry","PKKHI",295491,"2023-03-17","2023-03-30",280,"BL"]
[{"$f":"B23611&\":\"&COUNTIF($B$2:B23611,B23611)","v":"HLCUJE2230211705:1"},"HLCUJE2230211705","HLBU1312029","HLCUJE2230211705","40 Dry","PKKHI",295491,"2023-03-17","2023-03-28",280,"BL"]
[{"$f":"B23628&\":\"&COUNTIF($B$2:B23628,B23628)","v":"HLCUJE2230212624:3"},"HLCUJE2230212624","GESU6300000","HLCUJE2230212624","40 Dry","PKKHI",295491,"2023-03-17","2023-03-30",280,"BL"]
[{"$f":"B23648&\":\"&COUNTIF($B$2:B23648,B23648)","v":"HLCUTOR230202078:2"},"HLCUTOR230202078","FSCU7230344","HLCUTOR230202078","40 Dry","PKKHI",295491,"2023-03-17","2023-03-28",280,"BL"]
[{"$f":"B23661&\":\"&COUNTIF($B$2:B23661,B23661)","v":"HLCURTM230127086:1"},"HLCURTM230127086","TCLU8989118","HLCURTM230127086","40 Dry","PKKHI",295491,"2023-03-16","2023-03-29",280,"BL"]
[{"$f":"B23679&\":\"&COUNTIF($B$2:B23679,B23679)","v":"HLCUIZ1230202848:2"},"HLCUIZ1230202848","TGBU5464545","HLCUIZ1230202848","40 Dry","PKKHI",298489,"2023-03-16","2023-03-29",283,"BL"]
[{"$f":"B23694&\":\"&COUNTIF($B$2:B23694,B23694)","v":"HLCUIZ1230220381:1"},"HLCUIZ1230220381","TGHU6263383","HLCUIZ1230220381","40 Dry","PKKHI",298489,"2023-03-16","2023-03-29",283,"BL"]
[{"$f":"B23711&\":\"&COUNTIF($B$2:B23711,B23711)","v":"HLCUTOR230210460:1"},"HLCUTOR230210460","TCLU9510889","HLCUTOR230210460","40 Dry","PKBQM",294833,"2023-03-17","2023-03-28",282,"SW"]
[{"$f":"B23727&\":\"&COUNTIF($B$2:B23727,B23727)","v":"HLCUBSC230220804:4"},"HLCUBSC230220804","UACU5401214","HLCUBSC230220804","40 Dry","PKBQM",294833,"2023-03-17","2023-03-28",282,"BL"]
[{"$f":"B23744&\":\"&COUNTIF($B$2:B23744,B23744)","v":"HLCUBSC2301BNWS2:1"},"HLCUBSC2301BNWS2","UACU5691983","HLCUBSC2301BNWS2","40 Dry","PKBQM",294833,"2023-03-17","2023-03-28",282,"BL"]
[{"$f":"B23761&\":\"&COUNTIF($B$2:B23761,B23761)","v":"HLCUBSC2302ATMB8:1"},"HLCUBSC2302ATMB8","CAIU8106460","HLCUBSC2302ATMB8","40 Dry","PKBQM",294833,"2023-03-17","2023-03-28",282,"BL"]
[{"$f":"B23776&\":\"&COUNTIF($B$2:B23776,B23776)","v":"HLCUBSC230298030:2"},"HLCUBSC230298030","TCKU2047780","HLCUBSC230298030","20 Dry","PKBQM",294833,"2023-03-17","2023-03-30",282,"BL"]
[{"$f":"B23794&\":\"&COUNTIF($B$2:B23794,B23794)","v":"HLCUBSC230281290:1"},"HLCUBSC230281290","HLXU8252886","HLCUBSC230281290","40 Dry","PKBQM",294833,"2023-03-17","2023-04-06",282,"BL"]
[{"$f":"B23807&\":\"&COUNTIF($B$2:B23807,B23807)","v":"HLCUVAN230108594:2"},"HLCUVAN230108594","HAMU1180339","HLCUVAN230108594","40 Dry","PKBQM",294833,"2023-03-17","2023-03-28",282,"SW"]
[{"$f":"B23827&\":\"&COUNTIF($B$2:B23827,B23827)","v":"HLCUBSC230278344:3"},"HLCUBSC230278344","GCXU5929974","HLCUBSC230278344","40 Dry","PKBQM",294833,"2023-03-17","2023-03-28",282,"SW"]
[{"$f":"B23844&\":\"&COUNTIF($B$2:B23844,B23844)","v":"HLCUBSC230291315:17"},"HLCUBSC230291315","TCLU4160664","HLCUBSC230291315","40 Dry","PKBQM",294833,"2023-03-17","2023-03-28",282,"BL"]
[{"$f":"B23855&\":\"&COUNTIF($B$2:B23855,B23855)","v":"HLCUALY230216913:1"},"HLCUALY230216913","FCIU4614199","HLCUALY230216913","20 Dry","PKKHI",605424,"2023-03-18","2023-03-27",282,"BL"]
[{"$f":"B23861&\":\"&COUNTIF($B$2:B23861,B23861)","v":"HLCUDX3230320897:2"},"HLCUDX3230320897","HLBU1570044","HLCUDX3230320897","40 Dry","PKKHI",605424,"2023-03-18","2023-04-07",282,"BL"]
[{"$f":"B23878&\":\"&COUNTIF($B$2:B23878,B23878)","v":"HLCUDX3230307257:1"},"HLCUDX3230307257","UACU5772299","HLCUDX3230307257","40 Dry","PKKHI",605424,"2023-03-18","2023-03-31",282,"BL"]
[{"$f":"B23904&\":\"&COUNTIF($B$2:B23904,B23904)","v":"HLCUMCT230202656:1"},"HLCUMCT230202656","BEAU4459485","HLCUMCT230202656","40 Dry","PKKHI",605424,"2023-03-18","2023-03-31",282,"BL"]
[{"$f":"B23911&\":\"&COUNTIF($B$2:B23911,B23911)","v":"HLCUKW3230300208:4"},"HLCUKW3230300208","BMOU6660981","HLCUKW3230300208","40 Dry","PKKHI",605424,"2023-03-17","2023-04-06",282,"BL"]
[{"$f":"B23935&\":\"&COUNTIF($B$2:B23935,B23935)","v":"HLCUDX3230304990:4"},"HLCUDX3230304990","HLBU2014857","HLCUDX3230304990","40 Dry","PKKHI",605424,"2023-03-18","2023-03-31",282,"SW"]
[{"$f":"B23944&\":\"&COUNTIF($B$2:B23944,B23944)","v":"HLCUBS2230300134:8"},"HLCUBS2230300134","SEKU6412020","HLCUBS2230300134","40 Dry","PKKHI",605424,"2023-03-18","2023-04-07",282,"BL"]
[{"$f":"B23961&\":\"&COUNTIF($B$2:B23961,B23961)","v":"HLCUKW3230300084:14"},"HLCUKW3230300084","TEMU7531278","HLCUKW3230300084","40 Dry","PKKHI",605424,"2023-03-18","2023-04-07",282,"BL"]
[{"$f":"B23984&\":\"&COUNTIF($B$2:B23984,B23984)","v":"HLCUDX3230321286:2"},"HLCUDX3230321286","CAIU4975700","HLCUDX3230321286","40 Dry","PKKHI",605424,"2023-03-18","2023-04-07",282,"BL"]
[{"$f":"B23994&\":\"&COUNTIF($B$2:B23994,B23994)","v":"HLCUALY230220014:2"},"HLCUALY230220014","CAIU2490655","HLCUALY230220014","20 Dry","PKKHI",605424,"2023-03-18","2023-03-27",282,"BL"]
[{"$f":"B24011&\":\"&COUNTIF($B$2:B24011,B24011)","v":"HLCUDX3230311692:1"},"HLCUDX3230311692","HLBU2118980","HLCUDX3230311692","40 Dry","PKKHI",605424,"2023-03-18","2023-04-07",282,"BL"]
[{"$f":"B24032&\":\"&COUNTIF($B$2:B24032,B24032)","v":"HLCUDX3230307988:3"},"HLCUDX3230307988","SLSU8030234","HLCUDX3230307988","40 Dry","PKKHI",605424,"2023-03-18","2023-03-31",282,"BL"]
[{"$f":"B24044&\":\"&COUNTIF($B$2:B24044,B24044)","v":"HLCUBC1230130607:1"},"HLCUBC1230130607","FANU1010294","HLCUBC1230130607","40 Dry","PKBQM",981545,"2023-03-18","2023-03-31",282,"BL"]
[{"$f":"B24063&\":\"&COUNTIF($B$2:B24063,B24063)","v":"HLCULE1221179744:1"},"HLCULE1221179744","TCLU3013083","HLCULE1221179744","20 Dry","PKBQM",981545,"2023-03-18","2023-03-29",282,"BL"]
[{"$f":"B24077&\":\"&COUNTIF($B$2:B24077,B24077)","v":"HLCULE1221150240:3"},"HLCULE1221150240","HLXU8495525","HLCULE1221150240","40 Dry","PKBQM",981545,"2023-03-18","2023-03-29",282,"BL"]
[{"$f":"B24094&\":\"&COUNTIF($B$2:B24094,B24094)","v":"HLCUBC1230137343:5"},"HLCUBC1230137343","FBIU0015781","HLCUBC1230137343","20 Dry","PKBQM",981545,"2023-03-18","2023-03-31",282,"BL"]
[{"$f":"B24097&\":\"&COUNTIF($B$2:B24097,B24097)","v":"HLCUVG1221200049:1"},"HLCUVG1221200049","TXGU6762887","HLCUVG1221200049","40 Dry","PKBQM",981545,"2023-03-18","2023-03-27",282,"SW"]
[{"$f":"B24111&\":\"&COUNTIF($B$2:B24111,B24111)","v":"HLCUBSC230124482:1"},"HLCUBSC230124482","FANU3165490","HLCUBSC230124482","40 Dry","PKBQM",981545,"2023-03-18","2023-03-29",282,"SW"]
[{"$f":"B24128&\":\"&COUNTIF($B$2:B24128,B24128)","v":"HLCUTOR230124045:1"},"HLCUTOR230124045","TCLU5614000","HLCUTOR230124045","40 Dry","PKBQM",981545,"2023-03-18","2023-03-29",282,"SW"]
[{"$f":"B24145&\":\"&COUNTIF($B$2:B24145,B24145)","v":"HLCUALY230235913:1"},"HLCUALY230235913","TEMU1472120","HLCUALY230235913","20 Dry","PKKHI",297341,"2023-03-19","2023-03-23",282,"BL"]
[{"$f":"B24161&\":\"&COUNTIF($B$2:B24161,B24161)","v":"HLCUPZU230201170:4"},"HLCUPZU230201170","TCLU3224506","HLCUPZU230201170","20 Dry","PKKHI",297341,"2023-03-20","2023-03-29",282,"BL"]
[{"$f":"B24177&\":\"&COUNTIF($B$2:B24177,B24177)","v":"HLCUME3221215200:1"},"HLCUME3221215200","HLXU8486307","HLCUME3221215200","40 Dry","PKKHI",297341,"2023-03-20","2023-03-24",282,"BL"]
[{"$f":"B24194&\":\"&COUNTIF($B$2:B24194,B24194)","v":"HLCUVL1230111397:1"},"HLCUVL1230111397","TGBU9608506","HLCUVL1230111397","40 Dry","PKKHI",605458,"2023-03-19","2023-04-01",282,"SW"]
[{"$f":"B24211&\":\"&COUNTIF($B$2:B24211,B24211)","v":"HLCUSYD230117571:1"},"HLCUSYD230117571","UACU5494500","HLCUSYD230117571","40 Dry","PKKHI",605458,"2023-03-20","2023-04-02",282,"SW"]
[{"$f":"B24225&\":\"&COUNTIF($B$2:B24225,B24225)","v":"HLCUME3221252347:3"},"HLCUME3221252347","UETU5822060","HLCUME3221252347","40 Dry","PKKHI",605458,"2023-03-20","2023-03-24",282,"BL"]
[{"$f":"B24244&\":\"&COUNTIF($B$2:B24244,B24244)","v":"HLCUME3221251684:6"},"HLCUME3221251684","TGBU6045585","HLCUME3221251684","40 Dry","PKKHI",605458,"2023-03-20","2023-04-09",282,"BL"]
[{"$f":"B24261&\":\"&COUNTIF($B$2:B24261,B24261)","v":"HLCUME3221235079:3"},"HLCUME3221235079","HLBU1628676","HLCUME3221235079","40 Dry","PKKHI",605458,"2023-03-20","2023-04-09",282,"BL"]
[{"$f":"B24273&\":\"&COUNTIF($B$2:B24273,B24273)","v":"HLCUME3221235079:15"},"HLCUME3221235079","UETU5828094","HLCUME3221235079","40 Dry","PKKHI",605458,"2023-03-20","2023-04-09",282,"BL"]
[{"$f":"B24294&\":\"&COUNTIF($B$2:B24294,B24294)","v":"HLCUME3221233760:11"},"HLCUME3221233760","HLBU1557119","HLCUME3221233760","40 Dry","PKKHI",605458,"2023-03-19","2023-03-23",282,"BL"]
[{"$f":"B24305&\":\"&COUNTIF($B$2:B24305,B24305)","v":"HLCUME3221233760:22"},"HLCUME3221233760","HLBU3396754","HLCUME3221233760","40 Dry","PKKHI",605458,"2023-03-19","2023-03-23",282,"BL"]
[{"$f":"B24327&\":\"&COUNTIF($B$2:B24327,B24327)","v":"HLCUME3221230846:19"},"HLCUME3221230846","HLBU1662768","HLCUME3221230846","40 Dry","PKKHI",605458,"2023-03-19","2023-04-08",282,"BL"]
[{"$f":"B24344&\":\"&COUNTIF($B$2:B24344,B24344)","v":"HLCUME3221252592:6"},"HLCUME3221252592","HLBU2695257","HLCUME3221252592","40 Dry","PKKHI",605458,"2023-03-19","2023-04-08",282,"BL"]
[{"$f":"B24353&\":\"&COUNTIF($B$2:B24353,B24353)","v":"HLCUME3221252592:15"},"HLCUME3221252592","FANU3110266","HLCUME3221252592","40 Dry","PKKHI",605458,"2023-03-19","2023-04-08",282,"BL"]
[{"$f":"B24361&\":\"&COUNTIF($B$2:B24361,B24361)","v":"HLCUME3221252592:23"},"HLCUME3221252592","TCNU8522007","HLCUME3221252592","40 Dry","PKKHI",605458,"2023-03-20","2023-04-09",282,"BL"]
[{"$f":"B24378&\":\"&COUNTIF($B$2:B24378,B24378)","v":"HLCUDOH230300751:1"},"HLCUDOH230300751","TGHU9475998","HLCUDOH230300751","40 Dry","PKKHI",605458,"2023-03-20","2023-04-09",282,"BL"]
[{"$f":"B24401&\":\"&COUNTIF($B$2:B24401,B24401)","v":"HLCULE1221206253:4"},"HLCULE1221206253","HAMU1169638","HLCULE1221206253","40 Dry","PKKHI",297341,"2023-03-20","2023-03-24",282,"BL"]
[{"$f":"B24411&\":\"&COUNTIF($B$2:B24411,B24411)","v":"HLCULJU230101851:7"},"HLCULJU230101851","HLBU2244459","HLCULJU230101851","40 Dry","PKKHI",297341,"2023-03-19","2023-03-30",282,"BL"]
[{"$f":"B24433&\":\"&COUNTIF($B$2:B24433,B24433)","v":"HLCUALG230100171:19"},"HLCUALG230100171","TGBU9611285","HLCUALG230100171","40 Dry","PKKHI",297341,"2023-03-20","2023-03-24",282,"BL"]
[{"$f":"B24444&\":\"&COUNTIF($B$2:B24444,B24444)","v":"HLCUBSC2301BAGX9:2"},"HLCUBSC2301BAGX9","TGBU5680842","HLCUBSC2301BAGX9","40 Dry","PKBQM",294835,"2023-03-24","2023-04-04",284,"SW"]
[{"$f":"B24461&\":\"&COUNTIF($B$2:B24461,B24461)","v":"HLCUBSC2302BLGV0:10"},"HLCUBSC2302BLGV0","CAIU8519587","HLCUBSC2302BLGV0","40 Dry","PKBQM",294835,"2023-03-24","2023-04-13",284,"BL"]
[{"$f":"B24481&\":\"&COUNTIF($B$2:B24481,B24481)","v":"HLCUBSC2302AYQU4:6"},"HLCUBSC2302AYQU4","MOFU5809765","HLCUBSC2302AYQU4","40 Dry","PKBQM",294835,"2023-03-24","2023-04-13",284,"BL"]
[{"$f":"B24494&\":\"&COUNTIF($B$2:B24494,B24494)","v":"HLCUBSC2302AYQU4:19"},"HLCUBSC2302AYQU4","HLBU3133790","HLCUBSC2302AYQU4","40 Dry","PKBQM",294835,"2023-03-24","2023-04-13",284,"BL"]
[{"$f":"B24511&\":\"&COUNTIF($B$2:B24511,B24511)","v":"HLCUBSC2302AYQU4:36"},"HLCUBSC2302AYQU4","HLBU1270031","HLCUBSC2302AYQU4","40 Dry","PKBQM",294835,"2023-03-24","2023-04-13",284,"BL"]
[{"$f":"B24529&\":\"&COUNTIF($B$2:B24529,B24529)","v":"HLCUBSC230266130:1"},"HLCUBSC230266130","UETU5729532","HLCUBSC230266130","40 Dry","PKBQM",294835,"2023-03-24","2023-03-28",284,"BL"]
[{"$f":"B24544&\":\"&COUNTIF($B$2:B24544,B24544)","v":"HLCUBSC2302AZEV8:15"},"HLCUBSC2302AZEV8","UACU8331065","HLCUBSC2302AZEV8","40 Dry","PKBQM",294835,"2023-03-24","2023-04-13",284,"BL"]
[{"$f":"B24561&\":\"&COUNTIF($B$2:B24561,B24561)","v":"HLCUBSC230296469:1"},"HLCUBSC230296469","HLXU1013093","HLCUBSC230296469","20 Dry","PKBQM",294835,"2023-03-24","2023-04-04",284,"BL"]
[{"$f":"B24577&\":\"&COUNTIF($B$2:B24577,B24577)","v":"HLCUBSC2302BDIM8:6"},"HLCUBSC2302BDIM8","FANU1703724","HLCUBSC2302BDIM8","40 Dry","PKBQM",294835,"2023-03-24","2023-04-11",284,"BL"]
[{"$f":"B24594&\":\"&COUNTIF($B$2:B24594,B24594)","v":"HLCUTOR230214259:1"},"HLCUTOR230214259","UETU5747500","HLCUTOR230214259","40 Dry","PKBQM",294835,"2023-03-24","2023-04-04",284,"SW"]
[{"$f":"B24609&\":\"&COUNTIF($B$2:B24609,B24609)","v":"HLCUVAN230203902:1"},"HLCUVAN230203902","FANU3007089","HLCUVAN230203902","40 Dry","PKBQM",294835,"2023-03-24","2023-04-04",284,"SW"]
[{"$f":"B24611&\":\"&COUNTIF($B$2:B24611,B24611)","v":"HLCUVAN230204993:1"},"HLCUVAN230204993","HLBU2041981","HLCUVAN230204993","40 Dry","PKBQM",294835,"2023-03-24","2023-04-04",284,"SW"]
[{"$f":"B24628&\":\"&COUNTIF($B$2:B24628,B24628)","v":"HLCUVAN230203544:1"},"HLCUVAN230203544","FANU3205844","HLCUVAN230203544","40 Dry","PKBQM",294835,"2023-03-24","2023-04-04",284,"SW"]
[{"$f":"B24657&\":\"&COUNTIF($B$2:B24657,B24657)","v":"HLCUKW3230300600:12"},"HLCUKW3230300600","FANU1729570","HLCUKW3230300600","40 Dry","PKKHI",605427,"2023-03-25","2023-04-14",284,"BL"]
[{"$f":"B24661&\":\"&COUNTIF($B$2:B24661,B24661)","v":"HLCUDX3230306645:1"},"HLCUDX3230306645","UACU8401007","HLCUDX3230306645","40 Dry","PKKHI",605427,"2023-03-25","2023-04-07",284,"BL"]
[{"$f":"B24674&\":\"&COUNTIF($B$2:B24674,B24674)","v":"HLCUKW3230300643:3"},"HLCUKW3230300643","HLBU2250106","HLCUKW3230300643","40 Dry","PKKHI",605427,"2023-03-25","2023-04-14",284,"BL"]
[{"$f":"B24694&\":\"&COUNTIF($B$2:B24694,B24694)","v":"HLCUKW3230300581:8"},"HLCUKW3230300581","UACU5841933","HLCUKW3230300581","40 Dry","PKKHI",605427,"2023-03-25","2023-04-14",284,"BL"]
[{"$f":"B24711&\":\"&COUNTIF($B$2:B24711,B24711)","v":"HLCUKW3230300592:11"},"HLCUKW3230300592","FANU3072572","HLCUKW3230300592","40 Dry","PKKHI",605427,"2023-03-25","2023-04-14",284,"BL"]
[{"$f":"B24722&\":\"&COUNTIF($B$2:B24722,B24722)","v":"HLCUKW3230300771:7"},"HLCUKW3230300771","TCNU8347060","HLCUKW3230300771","40 Dry","PKKHI",605427,"2023-03-25","2023-04-14",284,"BL"]
[{"$f":"B24744&\":\"&COUNTIF($B$2:B24744,B24744)","v":"HLCUDX3230329127:2"},"HLCUDX3230329127","TCNU1498784","HLCUDX3230329127","40 Dry","PKKHI",605427,"2023-03-25","2023-04-14",284,"BL"]
[{"$f":"B24761&\":\"&COUNTIF($B$2:B24761,B24761)","v":"HLCUDX3230346684:5"},"HLCUDX3230346684","HLXU6584900","HLCUDX3230346684","40 Dry","PKKHI",605427,"2023-03-25","2023-04-14",284,"BL"]
[{"$f":"B24770&\":\"&COUNTIF($B$2:B24770,B24770)","v":"HLCUDX3230325126:2"},"HLCUDX3230325126","TCLU8135525","HLCUDX3230325126","40 Dry","PKKHI",605427,"2023-03-25","2023-04-14",284,"BL"]
[{"$f":"B24794&\":\"&COUNTIF($B$2:B24794,B24794)","v":"HLCUDX3230331388:2"},"HLCUDX3230331388","HLBU3235765","HLCUDX3230331388","40 Dry","PKKHI",605427,"2023-03-25","2023-04-14",284,"BL"]
[{"$f":"B24802&\":\"&COUNTIF($B$2:B24802,B24802)","v":"HLCUDX3230329372:2"},"HLCUDX3230329372","MTSU9671437","HLCUDX3230329372","40 Dry","PKKHI",605427,"2023-03-25","2023-04-14",284,"BL"]
[{"$f":"B24827&\":\"&COUNTIF($B$2:B24827,B24827)","v":"HLCUKW3230300610:13"},"HLCUKW3230300610","UETU5483182","HLCUKW3230300610","40 Dry","PKKHI",605427,"2023-03-25","2023-04-14",284,"BL"]
[{"$f":"B24844&\":\"&COUNTIF($B$2:B24844,B24844)","v":"HLCUCPH230205904:1"},"HLCUCPH230205904","GESU9387235","HLCUCPH230205904","40 Reefer","PKKHI",295493,"2023-03-25","2023-03-27",284,"SW"]
[{"$f":"B24850&\":\"&COUNTIF($B$2:B24850,B24850)","v":"HLCUJE2230303015:1"},"HLCUJE2230303015","FFAU2652567","HLCUJE2230303015","40 Dry","PKKHI",295493,"2023-03-26","2023-04-08",284,"BL"]
[{"$f":"B24861&\":\"&COUNTIF($B$2:B24861,B24861)","v":"HLCUANR230165316:1"},"HLCUANR230165316","HLBU3412881","HLCUANR230165316","40 Dry","PKKHI",295493,"2023-03-25","2023-04-03",284,"BL"]
[{"$f":"B24878&\":\"&COUNTIF($B$2:B24878,B24878)","v":"HLCUJE2230300284:1"},"HLCUJE2230300284","HLBU2831878","HLCUJE2230300284","40 Dry","PKKHI",295493,"2023-03-25","2023-04-07",284,"SW"]
[{"$f":"B24898&\":\"&COUNTIF($B$2:B24898,B24898)","v":"HLCUJE2230213722:1"},"HLCUJE2230213722","HLXU8448478","HLCUJE2230213722","40 Dry","PKKHI",295493,"2023-03-26","2023-03-30",284,"BL"]
[{"$f":"B24911&\":\"&COUNTIF($B$2:B24911,B24911)","v":"HLCUVAN230200430:1"},"HLCUVAN230200430","UACU5227988","HLCUVAN230200430","40 Dry","PKKHI",295493,"2023-03-25","2023-04-05",284,"SW"]
[{"$f":"B24930&\":\"&COUNTIF($B$2:B24930,B24930)","v":"HLCUANR230222533:1"},"HLCUANR230222533","CAIU8326741","HLCUANR230222533","40 Dry","PKKHI",295493,"2023-03-25","2023-04-07",284,"BL"]
[{"$f":"B24944&\":\"&COUNTIF($B$2:B24944,B24944)","v":"HLCUJE2230201330:2"},"HLCUJE2230201330","HLXU8467375","HLCUJE2230201330","40 Dry","PKKHI",295493,"2023-03-25","2023-04-07",284,"SW"]
[{"$f":"B24961&\":\"&COUNTIF($B$2:B24961,B24961)","v":"HLCUDOH230300594:3"},"HLCUDOH230300594","FCIU7495339","HLCUDOH230300594","40 Dry","PKKHI",605837,"2023-03-26","2023-04-15",284,"BL"]
[{"$f":"B24978&\":\"&COUNTIF($B$2:B24978,B24978)","v":"HLCUBSC230242930:1"},"HLCUBSC230242930","GESU1372389","HLCUBSC230242930","20 Dry","PKKHI",605837,"2023-03-25","2023-04-05",284,"BL"]
[{"$f":"B24994&\":\"&COUNTIF($B$2:B24994,B24994)","v":"HLCUIZ1230259765:2"},"HLCUIZ1230259765","CAIU9649306","HLCUIZ1230259765","40 Dry","PKKHI",297343,"2023-03-26","2023-04-08",286,"BL"]
[{"$f":"B25011&\":\"&COUNTIF($B$2:B25011,B25011)","v":"HLCUGOA2301ARLN7:1"},"HLCUGOA2301ARLN7","UACU8560251","HLCUGOA2301ARLN7","40 Dry","PKKHI",297343,"2023-03-26","2023-04-01",286,"SW"]
[{"$f":"B25026&\":\"&COUNTIF($B$2:B25026,B25026)","v":"HLCUGOA2302ATYD7:1"},"HLCUGOA2302ATYD7","HLXU1342756","HLCUGOA2302ATYD7","20 Dry","PKBQM",981556,"2023-03-28","2023-04-08",283,"BL"]
[{"$f":"B25044&\":\"&COUNTIF($B$2:B25044,B25044)","v":"HLCUBC1230227071:1"},"HLCUBC1230227071","FCIU3597013","HLCUBC1230227071","20 Dry","PKBQM",981556,"2023-03-28","2023-04-10",283,"BL"]
[{"$f":"B25058&\":\"&COUNTIF($B$2:B25058,B25058)","v":"HLCUGOA230293288:1"},"HLCUGOA230293288","FANU1940937","HLCUGOA230293288","40 Dry","PKBQM",981556,"2023-03-28","2023-04-08",283,"BL"]
[{"$f":"B25077&\":\"&COUNTIF($B$2:B25077,B25077)","v":"HLCUGOA230262699:3"},"HLCUGOA230262699","TEMU1462610","HLCUGOA230262699","20 Dry","PKBQM",981556,"2023-03-28","2023-04-08",283,"BL"]
[{"$f":"B25094&\":\"&COUNTIF($B$2:B25094,B25094)","v":"HLCUBSC230213828:2"},"HLCUBSC230213828","FBIU0107872","HLCUBSC230213828","20 Dry","PKBQM",981556,"2023-03-29","2023-04-09",283,"BL"]
[{"$f":"B25106&\":\"&COUNTIF($B$2:B25106,B25106)","v":"HLCUBSC2301AWHE0:2"},"HLCUBSC2301AWHE0","FBIU0092181","HLCUBSC2301AWHE0","20 Dry","PKBQM",981556,"2023-03-28","2023-04-10",283,"SW"]
[{"$f":"B25111&\":\"&COUNTIF($B$2:B25111,B25111)","v":"HLCUBC1230215968:1"},"HLCUBC1230215968","FANU3184470","HLCUBC1230215968","40 Dry","PKBQM",981556,"2023-03-28","2023-04-10",283,"BL"]
[{"$f":"B25128&\":\"&COUNTIF($B$2:B25128,B25128)","v":"HLCUBC1230205475:2"},"HLCUBC1230205475","HLXU6461980","HLCUBC1230205475","40 Dry","PKBQM",981556,"2023-03-28","2023-04-10",283,"SW"]
[{"$f":"B25154&\":\"&COUNTIF($B$2:B25154,B25154)","v":"HLCUIZ1230230205:22"},"HLCUIZ1230230205","UACU8270484","HLCUIZ1230230205","40 Dry","PKBQM",981556,"2023-03-28","2023-04-01",283,"SW"]
[{"$f":"B25161&\":\"&COUNTIF($B$2:B25161,B25161)","v":"HLCULIV230191781:3"},"HLCULIV230191781","HLBU1503745","HLCULIV230191781","20 Dry","PKBQM",610136,"2023-03-30","2023-04-08",286,"BL"]
[{"$f":"B25186&\":\"&COUNTIF($B$2:B25186,B25186)","v":"HLCUCPH230110350:3"},"HLCUCPH230110350","FCIU6204038","HLCUCPH230110350","20 Dry","PKBQM",610136,"2023-03-30","2023-04-12",286,"SW"]
[{"$f":"B25194&\":\"&COUNTIF($B$2:B25194,B25194)","v":"HLCULIV230212441:6"},"HLCULIV230212441","HLBU2311829","HLCULIV230212441","20 Dry","PKBQM",610136,"2023-03-30","2023-04-08",286,"BL"]
[{"$f":"B25211&\":\"&COUNTIF($B$2:B25211,B25211)","v":"HLCULIV230376701:17"},"HLCULIV230376701","UACU3860940","HLCULIV230376701","20 Dry","PKBQM",610136,"2023-03-30","2023-04-08",286,"BL"]
[{"$f":"B25234&\":\"&COUNTIF($B$2:B25234,B25234)","v":"HLCUHAM2301BMAQ0:3"},"HLCUHAM2301BMAQ0","GESU1260408","HLCUHAM2301BMAQ0","20 Dry","PKBQM",610136,"2023-03-30","2023-04-08",286,"BL"]
[{"$f":"B25244&\":\"&COUNTIF($B$2:B25244,B25244)","v":"HLCULE1230191528:1"},"HLCULE1230191528","HLBU2746565","HLCULE1230191528","20 Dry","PKBQM",610136,"2023-03-30","2023-04-12",286,"SW"]
[{"$f":"B25261&\":\"&COUNTIF($B$2:B25261,B25261)","v":"HLCUBEL230103716:1"},"HLCUBEL230103716","HLXU1167484","HLCUBEL230103716","20 Dry","PKBQM",610136,"2023-03-30","2023-04-12",286,"SW"]
[{"$f":"B25282&\":\"&COUNTIF($B$2:B25282,B25282)","v":"HLCUSYD230100956:2"},"HLCUSYD230100956","TGHU1212594","HLCUSYD230100956","20 Dry","PKBQM",610136,"2023-03-30","2023-04-03",286,"BL"]
[{"$f":"B25294&\":\"&COUNTIF($B$2:B25294,B25294)","v":"HLCULIV230191770:1"},"HLCULIV230191770","FCIU6280038","HLCULIV230191770","20 Dry","PKBQM",610136,"2023-03-30","2023-04-08",286,"BL"]
[{"$f":"B25299&\":\"&COUNTIF($B$2:B25299,B25299)","v":"HLCULIV230191770:6"},"HLCULIV230191770","TCLU3601908","HLCULIV230191770","20 Dry","PKBQM",610136,"2023-03-30","2023-04-08",286,"BL"]
[{"$f":"B25327&\":\"&COUNTIF($B$2:B25327,B25327)","v":"HLCUBSC2302AXOX4:1"},"HLCUBSC2302AXOX4","UETU5128779","HLCUBSC2302AXOX4","40 Dry","PKBQM",610136,"2023-03-30","2023-04-10",286,"BL"]
[{"$f":"B25344&\":\"&COUNTIF($B$2:B25344,B25344)","v":"HLCUBSC230357497:2"},"HLCUBSC230357497","HLBU2839950","HLCUBSC230357497","40 Dry","PKBQM",610136,"2023-03-30","2023-04-12",286,"BL"]
[{"$f":"B25347&\":\"&COUNTIF($B$2:B25347,B25347)","v":"HLCUBSC230357497:5"},"HLCUBSC230357497","GCXU5946816","HLCUBSC230357497","40 Dry","PKBQM",610136,"2023-03-31","2023-04-13",286,"BL"]
[{"$f":"B25361&\":\"&COUNTIF($B$2:B25361,B25361)","v":"HLCUBSC2301BRZS0:1"},"HLCUBSC2301BRZS0","HLBU1689959","HLCUBSC2301BRZS0","40 Dry","PKBQM",610136,"2023-03-30","2023-04-03",286,"SW"]
[{"$f":"B25378&\":\"&COUNTIF($B$2:B25378,B25378)","v":"HLCUTOR230214398:1"},"HLCUTOR230214398","TCNU8324700","HLCUTOR230214398","40 Dry","PKBQM",610136,"2023-03-30","2023-04-10",286,"SW"]
[{"$f":"B25395&\":\"&COUNTIF($B$2:B25395,B25395)","v":"HLCUBSC2302ATEO1:2"},"HLCUBSC2302ATEO1","FCIU6561565","HLCUBSC2302ATEO1","20 Dry","PKBQM",610136,"2023-03-30","2023-04-12",286,"BL"]
[{"$f":"B25411&\":\"&COUNTIF($B$2:B25411,B25411)","v":"HLCUBSC230289387:3"},"HLCUBSC230289387","HLBU3297936","HLCUBSC230289387","40 Dry","PKBQM",610136,"2023-03-30","2023-04-12",286,"BL"]
[{"$f":"B25428&\":\"&COUNTIF($B$2:B25428,B25428)","v":"HLCUBSC230295400:3"},"HLCUBSC230295400","CAIU6369580","HLCUBSC230295400","20 Dry","PKBQM",610136,"2023-03-30","2023-04-12",286,"BL"]
[{"$f":"B25443&\":\"&COUNTIF($B$2:B25443,B25443)","v":"HLCUBSC230241313:2"},"HLCUBSC230241313","DFSU1002845","HLCUBSC230241313","20 Dry","PKBQM",610136,"2023-03-31","2023-04-13",286,"BL"]
[{"$f":"B25461&\":\"&COUNTIF($B$2:B25461,B25461)","v":"HLCUBSC230264716:1"},"HLCUBSC230264716","FSCU7177384","HLCUBSC230264716","40 Dry","PKBQM",610136,"2023-03-30","2023-04-12",286,"SW"]
[{"$f":"B25475&\":\"&COUNTIF($B$2:B25475,B25475)","v":"HLCUBSC230290875:3"},"HLCUBSC230290875","TCLU3659540","HLCUBSC230290875","20 Dry","PKBQM",610136,"2023-03-30","2023-04-12",286,"BL"]
[{"$f":"B25494&\":\"&COUNTIF($B$2:B25494,B25494)","v":"HLCUBSC230293069:5"},"HLCUBSC230293069","UACU3684748","HLCUBSC230293069","20 Dry","PKBQM",610136,"2023-03-31","2023-04-13",286,"BL"]
[{"$f":"B25511&\":\"&COUNTIF($B$2:B25511,B25511)","v":"HLCUBSC230289756:2"},"HLCUBSC230289756","TEMU5182330","HLCUBSC230289756","20 Dry","PKBQM",610136,"2023-03-30","2023-04-12",286,"BL"]
[{"$f":"B25523&\":\"&COUNTIF($B$2:B25523,B25523)","v":"HLCULIV230206900:1"},"HLCULIV230206900","FANU1803209","HLCULIV230206900","40 Dry","PKBQM",610136,"2023-03-30","2023-04-03",286,"BL"]
[{"$f":"B25544&\":\"&COUNTIF($B$2:B25544,B25544)","v":"HLCULIV230231189:12"},"HLCULIV230231189","HLXU1087481","HLCULIV230231189","20 Dry","PKBQM",610136,"2023-03-30","2023-04-10",286,"BL"]
[{"$f":"B25561&\":\"&COUNTIF($B$2:B25561,B25561)","v":"HLCUBSC2302ARRJ7:1"},"HLCUBSC2302ARRJ7","HLBU3201148","HLCUBSC2302ARRJ7","40 Dry","PKBQM",294837,"2023-03-31","2023-04-11",286,"SW"]
[{"$f":"B25572&\":\"&COUNTIF($B$2:B25572,B25572)","v":"HLCUBSC2302BPCY2:4"},"HLCUBSC2302BPCY2","MTSU9670127","HLCUBSC2302BPCY2","40 Dry","PKBQM",294837,"2023-03-31","2023-04-20",286,"BL"]
[{"$f":"B25594&\":\"&COUNTIF($B$2:B25594,B25594)","v":"HLCUBSC2302BMIN6:1"},"HLCUBSC2302BMIN6","UACU3845457","HLCUBSC2302BMIN6","20 Dry","PKBQM",294837,"2023-03-31","2023-04-13",286,"BL"]
[{"$f":"B25603&\":\"&COUNTIF($B$2:B25603,B25603)","v":"HLCUVAN230203533:1"},"HLCUVAN230203533","TCLU8212848","HLCUVAN230203533","40 Dry","PKBQM",294837,"2023-03-31","2023-04-11",286,"SW"]
[{"$f":"B25611&\":\"&COUNTIF($B$2:B25611,B25611)","v":"HLCUVAN230203522:1"},"HLCUVAN230203522","DFSU7711051","HLCUVAN230203522","40 Dry","PKBQM",294837,"2023-03-31","2023-04-11",286,"SW"]
[{"$f":"B25628&\":\"&COUNTIF($B$2:B25628,B25628)","v":"HLCUBSC2302BPIP6:5"},"HLCUBSC2302BPIP6","FANU1772900","HLCUBSC2302BPIP6","40 Dry","PKBQM",294837,"2023-03-31","2023-04-20",286,"BL"]
[{"$f":"B25651&\":\"&COUNTIF($B$2:B25651,B25651)","v":"HLCUTOR230225214:1"},"HLCUTOR230225214","HLBU1558898","HLCUTOR230225214","40 Dry","PKBQM",294837,"2023-03-31","2023-04-11",286,"SW"]
[{"$f":"B25661&\":\"&COUNTIF($B$2:B25661,B25661)","v":"HLCUBSC2302BLPV5:1"},"HLCUBSC2302BLPV5","HAMU1132388","HLCUBSC2302BLPV5","20 Dry","PKBQM",294837,"2023-03-31","2023-04-11",286,"BL"]
[{"$f":"B25678&\":\"&COUNTIF($B$2:B25678,B25678)","v":"HLCUBSC2302ASKY1:1"},"HLCUBSC2302ASKY1","TGHU1705796","HLCUBSC2302ASKY1","20 Dry","PKBQM",294837,"2023-03-31","2023-04-11",286,"SW"]
[{"$f":"B25700&\":\"&COUNTIF($B$2:B25700,B25700)","v":"HLCUBSC2302BIEG3:4"},"HLCUBSC2302BIEG3","GESU6162359","HLCUBSC2302BIEG3","40 Dry","PKBQM",298911,"2023-03-31","2023-04-13",286,"BL"]
[{"$f":"B25711&\":\"&COUNTIF($B$2:B25711,B25711)","v":"HLCUHAM2302AUAJ0:10"},"HLCUHAM2302AUAJ0","DFSU1617393","HLCUHAM2302AUAJ0","20 Dry","PKBQM",298911,"2023-03-31","2023-04-09",286,"BL"]
[{"$f":"B25731&\":\"&COUNTIF($B$2:B25731,B25731)","v":"HLCUJE2230306722:3"},"HLCUJE2230306722","SEGU5615985","HLCUJE2230306722","40 Dry","PKBQM",298911,"2023-03-31","2023-04-13",286,"BL"]
[{"$f":"B25744&\":\"&COUNTIF($B$2:B25744,B25744)","v":"HLCUJE2230302893:1"},"HLCUJE2230302893","HLXU8365898","HLCUJE2230302893","40 Dry","PKBQM",298911,"2023-03-31","2023-04-13",286,"SW"]
[{"$f":"B25761&\":\"&COUNTIF($B$2:B25761,B25761)","v":"HLCUTOR230208593:1"},"HLCUTOR230208593","TCKU6568149","HLCUTOR230208593","40 Dry","PKBQM",298911,"2023-03-31","2023-04-11",286,"SW"]
[{"$f":"B25779&\":\"&COUNTIF($B$2:B25779,B25779)","v":"HLCUBSC2302BQIB5:1"},"HLCUBSC2302BQIB5","CAIU8501910","HLCUBSC2302BQIB5","40 Dry","PKBQM",298911,"2023-03-31","2023-04-11",286,"BL"]
[{"$f":"B25794&\":\"&COUNTIF($B$2:B25794,B25794)","v":"HLCUBSC2302BJBU3:1"},"HLCUBSC2302BJBU3","FANU1784393","HLCUBSC2302BJBU3","40 Dry","PKBQM",298911,"2023-03-31","2023-04-11",286,"SW"]
[{"$f":"B25811&\":\"&COUNTIF($B$2:B25811,B25811)","v":"HLCUTOR230214895:3"},"HLCUTOR230214895","HLBU3186399","HLCUTOR230214895","40 Dry","PKBQM",298911,"2023-03-31","2023-04-11",286,"SW"]
[{"$f":"B25828&\":\"&COUNTIF($B$2:B25828,B25828)","v":"HLCUTOR230214957:1"},"HLCUTOR230214957","FSCU8080974","HLCUTOR230214957","40 Dry","PKBQM",298911,"2023-03-31","2023-04-11",286,"SW"]
[{"$f":"B25844&\":\"&COUNTIF($B$2:B25844,B25844)","v":"HLCUBSC230242276:1"},"HLCUBSC230242276","BEAU4545460","HLCUBSC230242276","40 Dry","PKBQM",298911,"2023-03-31","2023-04-04",286,"SW"]
[{"$f":"B25859&\":\"&COUNTIF($B$2:B25859,B25859)","v":"HLCUTOR230214300:1"},"HLCUTOR230214300","HLXU8281138","HLCUTOR230214300","40 Dry","PKBQM",298911,"2023-03-31","2023-04-11",286,"SW"]
[{"$f":"B25861&\":\"&COUNTIF($B$2:B25861,B25861)","v":"HLCUBSC230257200:1"},"HLCUBSC230257200","FDCU0318671","HLCUBSC230257200","40 Dry","PKBQM",298911,"2023-03-31","2023-04-04",286,"SW"]
[{"$f":"B25878&\":\"&COUNTIF($B$2:B25878,B25878)","v":"HLCUVAN230208073:1"},"HLCUVAN230208073","HLXU8462007","HLCUVAN230208073","40 Dry","PKBQM",298911,"2023-03-31","2023-04-11",286,"SW"]
[{"$f":"B25893&\":\"&COUNTIF($B$2:B25893,B25893)","v":"HLCUJE2230305149:2"},"HLCUJE2230305149","FCIU7489640","HLCUJE2230305149","40 Dry","PKBQM",298911,"2023-03-31","2023-04-13",286,"BL"]
[{"$f":"B25911&\":\"&COUNTIF($B$2:B25911,B25911)","v":"HLCUDM2230300380:3"},"HLCUDM2230300380","HLXU8626116","HLCUDM2230300380","40 Dry","PKKHI",605429,"2023-04-01","2023-04-14",286,"SW"]
[{"$f":"B25928&\":\"&COUNTIF($B$2:B25928,B25928)","v":"HLCUMB1230102244:4"},"HLCUMB1230102244","HLBU3384120","HLCUMB1230102244","40 Dry","PKKHI",605429,"2023-04-01","2023-04-14",286,"BL"]
[{"$f":"B25941&\":\"&COUNTIF($B$2:B25941,B25941)","v":"HLCUKW3230301489:2"},"HLCUKW3230301489","HLBU2891727","HLCUKW3230301489","40 Dry","PKKHI",605429,"2023-04-01","2023-04-21",286,"BL"]
[{"$f":"B25961&\":\"&COUNTIF($B$2:B25961,B25961)","v":"HLCUDX3230335250:1"},"HLCUDX3230335250","TEMU1682019","HLCUDX3230335250","20 Dry","PKKHI",605429,"2023-04-01","2023-04-21",286,"BL"]
[{"$f":"B25972&\":\"&COUNTIF($B$2:B25972,B25972)","v":"HLCUKW3230300961:1"},"HLCUKW3230300961","FANU1974428","HLCUKW3230300961","40 Dry","PKKHI",605429,"2023-04-01","2023-04-21",286,"BL"]
[{"$f":"B25994&\":\"&COUNTIF($B$2:B25994,B25994)","v":"HLCUMCT230300743:5"},"HLCUMCT230300743","BMOU1427513","HLCUMCT230300743","20 Dry","PKKHI",605429,"2023-04-01","2023-04-14",286,"BL"]
[{"$f":"B26011&\":\"&COUNTIF($B$2:B26011,B26011)","v":"HLCUKW3230301478:13"},"HLCUKW3230301478","HLBU1966190","HLCUKW3230301478","40 Dry","PKKHI",605429,"2023-04-01","2023-04-21",286,"BL"]
[{"$f":"B26021&\":\"&COUNTIF($B$2:B26021,B26021)","v":"HLCUDX3230350311:2"},"HLCUDX3230350311","FANU1809510","HLCUDX3230350311","40 Dry","PKKHI",605429,"2023-04-01","2023-04-21",286,"BL"]
[{"$f":"B26044&\":\"&COUNTIF($B$2:B26044,B26044)","v":"HLCUDX3230332888:4"},"HLCUDX3230332888","UACU5104330","HLCUDX3230332888","40 Dry","PKKHI",605429,"2023-04-01","2023-04-21",286,"BL"]
[{"$f":"B26061&\":\"&COUNTIF($B$2:B26061,B26061)","v":"HLCUMCT230300754:2"},"HLCUMCT230300754","NIDU2373832","HLCUMCT230300754","20 Dry","PKKHI",605429,"2023-04-01","2023-04-14",286,"BL"]
[{"$f":"B26069&\":\"&COUNTIF($B$2:B26069,B26069)","v":"HLCUMCT230300754:10"},"HLCUMCT230300754","FCIU4356392","HLCUMCT230300754","20 Dry","PKKHI",605429,"2023-04-01","2023-04-14",286,"BL"]
[{"$f":"B26094&\":\"&COUNTIF($B$2:B26094,B26094)","v":"HLCUDX3230336370:3"},"HLCUDX3230336370","TRLU9122584","HLCUDX3230336370","20 Dry","PKKHI",605429,"2023-04-01","2023-04-21",286,"BL"]
[{"$f":"B26100&\":\"&COUNTIF($B$2:B26100,B26100)","v":"HLCUKW3230301467:4"},"HLCUKW3230301467","UETU5799925","HLCUKW3230301467","40 Dry","PKKHI",605429,"2023-04-01","2023-04-21",286,"BL"]
[{"$f":"B26111&\":\"&COUNTIF($B$2:B26111,B26111)","v":"HLCUDX3230351168:2"},"HLCUDX3230351168","HLBU2734585","HLCUDX3230351168","20 Dry","PKKHI",605429,"2023-04-01","2023-04-21",286,"BL"]
[{"$f":"B26128&\":\"&COUNTIF($B$2:B26128,B26128)","v":"HLCURTM230183357:1"},"HLCURTM230183357","HLXU6526801","HLCURTM230183357","40 Dry","PKBQM",995863,"2023-04-01","2023-04-14",285,"BL"]
[{"$f":"B26149&\":\"&COUNTIF($B$2:B26149,B26149)","v":"HLCUIZ1230228530:2"},"HLCUIZ1230228530","CAIU2316140","HLCUIZ1230228530","20 Dry","PKBQM",995863,"2023-04-01","2023-04-14",285,"BL"]
[{"$f":"B26161&\":\"&COUNTIF($B$2:B26161,B26161)","v":"HLCUANR230261898:9"},"HLCUANR230261898","TGHU0430858","HLCUANR230261898","20 Dry","PKBQM",995863,"2023-04-02","2023-04-06",285,"BL"]
[{"$f":"B26178&\":\"&COUNTIF($B$2:B26178,B26178)","v":"HLCURTM230208180:2"},"HLCURTM230208180","UACU5217296","HLCURTM230208180","40 Dry","PKBQM",995863,"2023-04-01","2023-04-14",285,"BL"]
[{"$f":"B26197&\":\"&COUNTIF($B$2:B26197,B26197)","v":"HLCUGOA2302APAX9:3"},"HLCUGOA2302APAX9","HLXU1113467","HLCUGOA2302APAX9","20 Dry","PKBQM",995863,"2023-04-01","2023-04-12",285,"BL"]
[{"$f":"B26211&\":\"&COUNTIF($B$2:B26211,B26211)","v":"HLCUBC1230223070:1"},"HLCUBC1230223070","HLBU2294589","HLCUBC1230223070","20 Dry","PKBQM",995863,"2023-04-01","2023-04-14",285,"BL"]
[{"$f":"B26229&\":\"&COUNTIF($B$2:B26229,B26229)","v":"HLCUANR230303564:1"},"HLCUANR230303564","HAMU1208040","HLCUANR230303564","40 Dry","PKBQM",995863,"2023-04-01","2023-04-14",285,"SW"]
[{"$f":"B26244&\":\"&COUNTIF($B$2:B26244,B26244)","v":"HLCURTM230196954:5"},"HLCURTM230196954","UACU5862509","HLCURTM230196954","40 Dry","PKBQM",995863,"2023-04-01","2023-04-14",285,"BL"]
[{"$f":"B26261&\":\"&COUNTIF($B$2:B26261,B26261)","v":"HLCUIZ12301APDA0:4"},"HLCUIZ12301APDA0","FSCU7242432","HLCUIZ12301APDA0","40 Dry","PKKHI",297337,"2023-04-01","2023-04-14",286,"BL"]
[{"$f":"B26277&\":\"&COUNTIF($B$2:B26277,B26277)","v":"HLCUGDY230126955:2"},"HLCUGDY230126955","HLXU1339325","HLCUGDY230126955","20 Dry","PKKHI",297337,"2023-04-01","2023-04-21",286,"BL"]
[{"$f":"B26294&\":\"&COUNTIF($B$2:B26294,B26294)","v":"HLCUGDY230126955:19"},"HLCUGDY230126955","DFSU2700291","HLCUGDY230126955","20 Dry","PKKHI",297337,"2023-04-01","2023-04-21",286,"BL"]
[{"$f":"B26311&\":\"&COUNTIF($B$2:B26311,B26311)","v":"HLCUGDY230126955:36"},"HLCUGDY230126955","CXDU1911682","HLCUGDY230126955","20 Dry","PKKHI",297337,"2023-04-01","2023-04-21",286,"BL"]
[{"$f":"B26325&\":\"&COUNTIF($B$2:B26325,B26325)","v":"HLCUGDY230126955:50"},"HLCUGDY230126955","GLDU5789401","HLCUGDY230126955","20 Dry","PKKHI",297337,"2023-04-01","2023-04-21",286,"BL"]
[{"$f":"B26344&\":\"&COUNTIF($B$2:B26344,B26344)","v":"HLCUGDY230126955:69"},"HLCUGDY230126955","CAIU3643070","HLCUGDY230126955","20 Dry","PKKHI",297337,"2023-04-01","2023-04-21",286,"BL"]
[{"$f":"B26357&\":\"&COUNTIF($B$2:B26357,B26357)","v":"HLCUHAM2301BFQE5:1"},"HLCUHAM2301BFQE5","HLBU8142747","HLCUHAM2301BFQE5","40 Specail","PKKHI",297337,"2023-04-01","2023-04-14",286,"SW"]
[{"$f":"B26361&\":\"&COUNTIF($B$2:B26361,B26361)","v":"HLCUIZ12301APDH7:2"},"HLCUIZ12301APDH7","UACU5271403","HLCUIZ12301APDH7","40 Dry","PKKHI",297337,"2023-04-01","2023-04-14",286,"BL"]
[{"$f":"B26378&\":\"&COUNTIF($B$2:B26378,B26378)","v":"HLCURTM230266680:1"},"HLCURTM230266680","SEKU6249376","HLCURTM230266680","40 Dry","PKKHI",297337,"2023-04-01","2023-04-10",286,"SW"]
[{"$f":"B26405&\":\"&COUNTIF($B$2:B26405,B26405)","v":"HLCUHAM2302BBTH1:3"},"HLCUHAM2302BBTH1","TCKU1590010","HLCUHAM2302BBTH1","20 Dry","PKKHI",297337,"2023-04-02","2023-04-15",286,"SW"]
[{"$f":"B26411&\":\"&COUNTIF($B$2:B26411,B26411)","v":"HLCURTM230243338:5"},"HLCURTM230243338","HLBU3207341","HLCURTM230243338","40 Dry","PKKHI",297337,"2023-04-01","2023-04-21",286,"BL"]
[{"$f":"B26428&\":\"&COUNTIF($B$2:B26428,B26428)","v":"HLCUANR230219993:6"},"HLCUANR230219993","SEGU5456775","HLCUANR230219993","40 Dry","PKKHI",297337,"2023-04-01","2023-04-14",286,"BL"]
[{"$f":"B26453&\":\"&COUNTIF($B$2:B26453,B26453)","v":"HLCUTOR230203790:1"},"HLCUTOR230203790","HLXU8228051","HLCUTOR230203790","40 Dry","PKKHI",297337,"2023-04-01","2023-04-12",286,"SW"]
[{"$f":"B26461&\":\"&COUNTIF($B$2:B26461,B26461)","v":"HLCUTOR230215485:1"},"HLCUTOR230215485","HLBU2843122","HLCUTOR230215485","40 Dry","PKKHI",297337,"2023-04-01","2023-04-12",286,"SW"]
[{"$f":"B26485&\":\"&COUNTIF($B$2:B26485,B26485)","v":"HLCUHAM2302AWCC9:3"},"HLCUHAM2302AWCC9","HLXU8608426","HLCUHAM2302AWCC9","40 Dry","PKKHI",297337,"2023-04-01","2023-04-05",286,"SW"]
[{"$f":"B26494&\":\"&COUNTIF($B$2:B26494,B26494)","v":"HLCUHAM230214578:1"},"HLCUHAM230214578","UACU5336720","HLCUHAM230214578","40 Dry","PKKHI",297337,"2023-04-01","2023-04-14",286,"SW"]
[{"$f":"B26511&\":\"&COUNTIF($B$2:B26511,B26511)","v":"HLCUHAM2301AQCP4:2"},"HLCUHAM2301AQCP4","UACU5403238","HLCUHAM2301AQCP4","40 Dry","PKKHI",297337,"2023-04-01","2023-04-10",286,"SW"]
[{"$f":"B26518&\":\"&COUNTIF($B$2:B26518,B26518)","v":"HLCUIZ1230237588:1"},"HLCUIZ1230237588","TXGU6524889","HLCUIZ1230237588","40 Dry","PKKHI",605839,"2023-04-01","2023-04-14",286,"BL"]
[{"$f":"B26544&\":\"&COUNTIF($B$2:B26544,B26544)","v":"HLCUIZ1230262287:1"},"HLCUIZ1230262287","TCKU6602156","HLCUIZ1230262287","40 Dry","PKKHI",605839,"2023-04-01","2023-04-05",286,"BL"]
[{"$f":"B26561&\":\"&COUNTIF($B$2:B26561,B26561)","v":"HLCUBEL230103220:3"},"HLCUBEL230103220","HLBU2445685","HLCUBEL230103220","40 Reefer","PKKHI",295529,"2023-04-03","2023-04-16",284,"BL"]
[{"$f":"B26566&\":\"&COUNTIF($B$2:B26566,B26566)","v":"HLCUDA3230102494:1"},"HLCUDA3230102494","HLBU2075600","HLCUDA3230102494","40 Dry","PKKHI",609631,"2023-04-02","2023-04-15",283,"BL"]
[{"$f":"B26594&\":\"&COUNTIF($B$2:B26594,B26594)","v":"HLCUALY230305605:2"},"HLCUALY230305605","FBIU0106135","HLCUALY230305605","20 Dry","PKKHI",297345,"2023-04-03","2023-04-07",286,"BL"]
[{"$f":"B26598&\":\"&COUNTIF($B$2:B26598,B26598)","v":"HLCUPI3230103842:1"},"HLCUPI3230103842","HLBU3377245","HLCUPI3230103842","40 Dry","PKKHI",297345,"2023-04-03","2023-04-20",286,"BL"]
[{"$f":"B26611&\":\"&COUNTIF($B$2:B26611,B26611)","v":"HLCUIZ1230268111:8"},"HLCUIZ1230268111","HLBU3153250","HLCUIZ1230268111","40 Dry","PKKHI",297345,"2023-04-03","2023-04-16",286,"BL"]
[{"$f":"B26628&\":\"&COUNTIF($B$2:B26628,B26628)","v":"HLCURJ2230102280:5"},"HLCURJ2230102280","HLXU8267762","HLCURJ2230102280","40 Dry","PKKHI",297345,"2023-04-03","2023-04-16",286,"BL"]
[{"$f":"B26646&\":\"&COUNTIF($B$2:B26646,B26646)","v":"HLCUMLA230210385:2"},"HLCUMLA230210385","BSIU9807120","HLCUMLA230210385","40 Dry","PKKHI",297345,"2023-04-03","2023-04-07",286,"BL"]
[{"$f":"B26661&\":\"&COUNTIF($B$2:B26661,B26661)","v":"HLCUBSC2301BAOV6:4"},"HLCUBSC2301BAOV6","DFSU6995565","HLCUBSC2301BAOV6","40 Dry","PKKHI",297345,"2023-04-03","2023-04-16",286,"BL"]
[{"$f":"B26678&\":\"&COUNTIF($B$2:B26678,B26678)","v":"HLCULIV230239410:1"},"HLCULIV230239410","HLXU8106120","HLCULIV230239410","40 Dry","PKKHI",609634,"2023-04-04","2023-04-24",286,"SW"]
[{"$f":"B26694&\":\"&COUNTIF($B$2:B26694,B26694)","v":"HLCUDOH230302808:1"},"HLCUDOH230302808","HLBU1549788","HLCUDOH230302808","40 Dry","PKKHI",605841,"2023-04-06","2023-04-26",286,"BL"]
[{"$f":"B26711&\":\"&COUNTIF($B$2:B26711,B26711)","v":"HLCURUH230300354:2"},"HLCURUH230300354","HLBU2214412","HLCURUH230300354","40 Dry","PKKHI",605431,"2023-04-09","2023-04-29",286,"BL"]
[{"$f":"B26726&\":\"&COUNTIF($B$2:B26726,B26726)","v":"HLCURUH230208102:4"},"HLCURUH230208102","GESU5597737","HLCURUH230208102","40 Dry","PKKHI",605431,"2023-04-09","2023-04-29",286,"BL"]
[{"$f":"B26744&\":\"&COUNTIF($B$2:B26744,B26744)","v":"HLCUDX3230349079:2"},"HLCUDX3230349079","TCNU6426386","HLCUDX3230349079","40 Dry","PKKHI",605431,"2023-04-09","2023-04-29",286,"BL"]
[{"$f":"B26761&\":\"&COUNTIF($B$2:B26761,B26761)","v":"HLCUKW3230301602:1"},"HLCUKW3230301602","FANU1747569","HLCUKW3230301602","40 Dry","PKKHI",605431,"2023-04-09","2023-04-29",286,"BL"]
[{"$f":"B26774&\":\"&COUNTIF($B$2:B26774,B26774)","v":"HLCUDX3230354674:1"},"HLCUDX3230354674","FANU1739619","HLCUDX3230354674","40 Dry","PKKHI",605431,"2023-04-09","2023-04-29",286,"BL"]
[{"$f":"B26794&\":\"&COUNTIF($B$2:B26794,B26794)","v":"HLCUKW3230301975:6"},"HLCUKW3230301975","FFAU1534343","HLCUKW3230301975","40 Dry","PKKHI",605431,"2023-04-09","2023-04-29",286,"BL"]
[{"$f":"B26811&\":\"&COUNTIF($B$2:B26811,B26811)","v":"HLCUKW3230301997:4"},"HLCUKW3230301997","TEMU7886323","HLCUKW3230301997","40 Dry","PKKHI",605431,"2023-04-09","2023-04-29",286,"BL"]
[{"$f":"B26822&\":\"&COUNTIF($B$2:B26822,B26822)","v":"HLCUDX3230350154:4"},"HLCUDX3230350154","UACU4157150","HLCUDX3230350154","20 Dry","PKKHI",605431,"2023-04-09","2023-04-29",286,"BL"]
[{"$f":"B26844&\":\"&COUNTIF($B$2:B26844,B26844)","v":"HLCUDX3230350143:5"},"HLCUDX3230350143","HAMU1045262","HLCUDX3230350143","20 Dry","PKKHI",605431,"2023-04-09","2023-04-29",286,"BL"]
[{"$f":"B26854&\":\"&COUNTIF($B$2:B26854,B26854)","v":"HLCUDX3230353108:2"},"HLCUDX3230353108","TXGU6983255","HLCUDX3230353108","40 Dry","PKKHI",605431,"2023-04-09","2023-04-29",286,"BL"]
[{"$f":"B26861&\":\"&COUNTIF($B$2:B26861,B26861)","v":"HLCUDX3230353108:9"},"HLCUDX3230353108","FSCU7107073","HLCUDX3230353108","40 Dry","PKKHI",605431,"2023-04-09","2023-04-29",286,"BL"]
[{"$f":"B26878&\":\"&COUNTIF($B$2:B26878,B26878)","v":"HLCUDX3230356424:1"},"HLCUDX3230356424","FANU1968934","HLCUDX3230356424","40 Dry","PKKHI",605431,"2023-04-09","2023-04-29",286,"BL"]
[{"$f":"B26902&\":\"&COUNTIF($B$2:B26902,B26902)","v":"HLCUKW3230300800:3"},"HLCUKW3230300800","UETU5284365","HLCUKW3230300800","40 Dry","PKKHI",605431,"2023-04-09","2023-04-29",286,"BL"]
[{"$f":"B26911&\":\"&COUNTIF($B$2:B26911,B26911)","v":"HLCUDA3230201997:5"},"HLCUDA3230201997","FDCU0129889","HLCUDA3230201997","40 Dry","PKKHI",605431,"2023-04-09","2023-04-22",286,"BL"]
[{"$f":"B26928&\":\"&COUNTIF($B$2:B26928,B26928)","v":"HLCUJE2230216201:1"},"HLCUJE2230216201","TCLU8080510","HLCUJE2230216201","40 Dry","PKKHI",609636,"2023-04-08","2023-04-21",286,"SW"]
[{"$f":"B26950&\":\"&COUNTIF($B$2:B26950,B26950)","v":"HLCUBC1230226744:1"},"HLCUBC1230226744","UACU5814476","HLCUBC1230226744","40 Dry","PKBQM",985176,"2023-04-09","2023-04-22",286,"BL"]
[{"$f":"B26961&\":\"&COUNTIF($B$2:B26961,B26961)","v":"HLCUIZ1230326108:8"},"HLCUIZ1230326108","HLBU3371669","HLCUIZ1230326108","40 Dry","PKBQM",985176,"2023-04-09","2023-04-22",286,"SW"]
[{"$f":"B26982&\":\"&COUNTIF($B$2:B26982,B26982)","v":"HLCUBC1230242523:1"},"HLCUBC1230242523","FANU1483975","HLCUBC1230242523","40 Dry","PKBQM",985176,"2023-04-09","2023-04-22",286,"SW"]
[{"$f":"B26994&\":\"&COUNTIF($B$2:B26994,B26994)","v":"HLCUGOA230339408:2"},"HLCUGOA230339408","CAIU2665178","HLCUGOA230339408","20 Dry","PKBQM",985176,"2023-04-09","2023-04-22",286,"BL"]
[{"$f":"B27011&\":\"&COUNTIF($B$2:B27011,B27011)","v":"HLCUBSC230326736:1"},"HLCUBSC230326736","TGBU2243915","HLCUBSC230326736","20 Dry","PKBQM",613374,"2023-04-10","2023-04-21",286,"BL"]
[{"$f":"B27030&\":\"&COUNTIF($B$2:B27030,B27030)","v":"HLCUBSC230321966:2"},"HLCUBSC230321966","HLBU2280610","HLCUBSC230321966","20 Dry","PKBQM",613374,"2023-04-10","2023-04-21",286,"BL"]
[{"$f":"B27044&\":\"&COUNTIF($B$2:B27044,B27044)","v":"HLCUBSC230340787:1"},"HLCUBSC230340787","TEMU1859399","HLCUBSC230340787","20 Dry","PKBQM",613374,"2023-04-10","2023-04-23",286,"BL"]
[{"$f":"B27061&\":\"&COUNTIF($B$2:B27061,B27061)","v":"HLCUBSC2302BRDX2:1"},"HLCUBSC2302BRDX2","HLBU1090908","HLCUBSC2302BRDX2","40 Dry","PKBQM",613374,"2023-04-10","2023-04-30",286,"BL"]
[{"$f":"B27078&\":\"&COUNTIF($B$2:B27078,B27078)","v":"HLCUBSC230338811:1"},"HLCUBSC230338811","GVCU4050347","HLCUBSC230338811","40 Dry","PKBQM",613374,"2023-04-10","2023-04-30",286,"BL"]
[{"$f":"B27094&\":\"&COUNTIF($B$2:B27094,B27094)","v":"HLCUBSC230319515:3"},"HLCUBSC230319515","TCKU1388550","HLCUBSC230319515","20 Dry","PKBQM",613374,"2023-04-10","2023-04-23",286,"BL"]
[{"$f":"B27110&\":\"&COUNTIF($B$2:B27110,B27110)","v":"HLCUBSC2303AWFS0:1"},"HLCUBSC2303AWFS0","TCLU4156200","HLCUBSC2303AWFS0","40 Dry","PKBQM",613374,"2023-04-10","2023-04-30",286,"BL"]
[{"$f":"B27111&\":\"&COUNTIF($B$2:B27111,B27111)","v":"HLCUBSC2303AWFS0:2"},"HLCUBSC2303AWFS0","TTNU4442502","HLCUBSC2303AWFS0","40 Dry","PKBQM",613374,"2023-04-10","2023-04-30",286,"BL"]
[{"$f":"B27128&\":\"&COUNTIF($B$2:B27128,B27128)","v":"HLCUBSC2302BFBZ8:1"},"HLCUBSC2302BFBZ8","CAIU9416768","HLCUBSC2302BFBZ8","40 Dry","PKBQM",613374,"2023-04-10","2023-04-21",286,"SW"]
[{"$f":"B27143&\":\"&COUNTIF($B$2:B27143,B27143)","v":"HLCUGOT230110254:1"},"HLCUGOT230110254","NYKU3836591","HLCUGOT230110254","20 Dry","PKKHI",614208,"2023-04-10","2023-04-23",290,"SW"]
[{"$f":"B27161&\":\"&COUNTIF($B$2:B27161,B27161)","v":"HLCUHAM2302BAKC7:1"},"HLCUHAM2302BAKC7","HLBU9777552","HLCUHAM2302BAKC7","40 Reefer","PKKHI",614208,"2023-04-10","2023-04-12",290,"SW"]
[{"$f":"B27178&\":\"&COUNTIF($B$2:B27178,B27178)","v":"HLCUANR230240000:6"},"HLCUANR230240000","FCIU7475604","HLCUANR230240000","40 Dry","PKKHI",614208,"2023-04-10","2023-04-23",290,"BL"]
[{"$f":"B27191&\":\"&COUNTIF($B$2:B27191,B27191)","v":"HLCUANR230120233:1"},"HLCUANR230120233","CAIU2657465","HLCUANR230120233","20 Dry","PKKHI",614208,"2023-04-10","2023-04-23",290,"SW"]
[{"$f":"B27211&\":\"&COUNTIF($B$2:B27211,B27211)","v":"HLCUAB1230101059:3"},"HLCUAB1230101059","FSCU7219258","HLCUAB1230101059","40 Dry","PKKHI",614208,"2023-04-10","",290,"BL"]
[{"$f":"B27223&\":\"&COUNTIF($B$2:B27223,B27223)","v":"HLCUTOR230222311:1"},"HLCUTOR230222311","SLSU8070068","HLCUTOR230222311","40 Dry","PKKHI",614208,"2023-04-10","2023-04-21",290,"SW"]
[{"$f":"B27244&\":\"&COUNTIF($B$2:B27244,B27244)","v":"HLCUJE2230311780:4"},"HLCUJE2230311780","HLXU8000816","HLCUJE2230311780","40 Dry","PKKHI",614208,"2023-04-10","2023-04-23",290,"BL"]
[{"$f":"B27261&\":\"&COUNTIF($B$2:B27261,B27261)","v":"HLCURTM230242145:1"},"HLCURTM230242145","TGCU2098683","HLCURTM230242145","20 Dry","PKKHI",614208,"2023-04-10","2023-04-14",290,"BL"]
[{"$f":"B27271&\":\"&COUNTIF($B$2:B27271,B27271)","v":"HLCUBSC230356925:1"},"HLCUBSC230356925","TLLU5374648","HLCUBSC230356925","40 Dry","PKBQM",299695,"2023-04-14","2023-04-25",286,"BL"]
[{"$f":"B27294&\":\"&COUNTIF($B$2:B27294,B27294)","v":"HLCUBSC230397543:1"},"HLCUBSC230397543","HLXU3434131","HLCUBSC230397543","20 Dry","PKBQM",299695,"2023-04-14","2023-04-27",286,"BL"]
[{"$f":"B27311&\":\"&COUNTIF($B$2:B27311,B27311)","v":"HLCUTOR230310212:4"},"HLCUTOR230310212","TCKU6448328","HLCUTOR230310212","40 Dry","PKBQM",299695,"2023-04-14","2023-04-25",286,"BL"]
[{"$f":"B27319&\":\"&COUNTIF($B$2:B27319,B27319)","v":"HLCUTOR230305823:1"},"HLCUTOR230305823","TCLU5682241","HLCUTOR230305823","40 Dry","PKBQM",299695,"2023-04-14","2023-04-25",286,"SW"]
[{"$f":"B27344&\":\"&COUNTIF($B$2:B27344,B27344)","v":"HLCUBSC2303ATEG1:2"},"HLCUBSC2303ATEG1","DFSU7495055","HLCUBSC2303ATEG1","40 Dry","PKBQM",299695,"2023-04-14","2023-05-04",286,"BL"]
[{"$f":"B27351&\":\"&COUNTIF($B$2:B27351,B27351)","v":"HLCUBSC2303ATEG1:9"},"HLCUBSC2303ATEG1","SEGU5708558","HLCUBSC2303ATEG1","40 Dry","PKBQM",299695,"2023-04-14","2023-05-04",286,"BL"]
[{"$f":"B27361&\":\"&COUNTIF($B$2:B27361,B27361)","v":"HLCUTOR230312715:2"},"HLCUTOR230312715","FSCU9452850","HLCUTOR230312715","40 Dry","PKBQM",299695,"2023-04-14","2023-04-25",286,"BL"]
[{"$f":"B27378&\":\"&COUNTIF($B$2:B27378,B27378)","v":"HLCUIZ1230265961:1"},"HLCUIZ1230265961","HLBU1350250","HLCUIZ1230265961","20 Dry","PKKHI",607754,"2023-04-15","2023-04-28",286,"BL"]
[{"$f":"B27399&\":\"&COUNTIF($B$2:B27399,B27399)","v":"HLCUPZU230300120:4"},"HLCUPZU230300120","CAAU2003754","HLCUPZU230300120","20 Dry","PKKHI",607754,"2023-04-15","2023-04-24",286,"BL"]
[{"$f":"B27411&\":\"&COUNTIF($B$2:B27411,B27411)","v":"HLCUDA3230202978:4"},"HLCUDA3230202978","FCIU6566844","HLCUDA3230202978","20 Dry","PKKHI",607754,"2023-04-15","2023-04-28",286,"BL"]
[{"$f":"B27428&\":\"&COUNTIF($B$2:B27428,B27428)","v":"HLCUKW3230302203:2"},"HLCUKW3230302203","FANU1978357","HLCUKW3230302203","40 Dry","PKKHI",607754,"2023-04-15","2023-05-05",286,"BL"]
[{"$f":"B27447&\":\"&COUNTIF($B$2:B27447,B27447)","v":"HLCUKW3230302141:6"},"HLCUKW3230302141","UETU5800348","HLCUKW3230302141","40 Dry","PKKHI",607754,"2023-04-15","2023-05-05",286,"BL"]
[{"$f":"B27461&\":\"&COUNTIF($B$2:B27461,B27461)","v":"HLCURUH230400374:10"},"HLCURUH230400374","FANU1603978","HLCURUH230400374","40 Dry","PKKHI",607754,"2023-04-15","2023-05-05",286,"BL"]
[{"$f":"B27478&\":\"&COUNTIF($B$2:B27478,B27478)","v":"HLCUDX3230411551:3"},"HLCUDX3230411551","SEKU6310326","HLCUDX3230411551","40 Dry","PKKHI",607754,"2023-04-15","2023-05-05",286,"BL"]
[{"$f":"B27495&\":\"&COUNTIF($B$2:B27495,B27495)","v":"HLCUDM2230304783:4"},"HLCUDM2230304783","FANU1686252","HLCUDM2230304783","40 Dry","PKKHI",607754,"2023-04-15","2023-04-28",286,"BL"]
[{"$f":"B27511&\":\"&COUNTIF($B$2:B27511,B27511)","v":"HLCUDX3230406219:4"},"HLCUDX3230406219","TCNU1891580","HLCUDX3230406219","40 Dry","PKKHI",607754,"2023-04-15","2023-05-05",286,"BL"]
[{"$f":"B27527&\":\"&COUNTIF($B$2:B27527,B27527)","v":"HLCUDM2230304655:3"},"HLCUDM2230304655","TEMU6291697","HLCUDM2230304655","40 Dry","PKKHI",607754,"2023-04-15","2023-04-28",286,"BL"]
[{"$f":"B27544&\":\"&COUNTIF($B$2:B27544,B27544)","v":"HLCUKW3230302196:2"},"HLCUKW3230302196","UACU5827853","HLCUKW3230302196","40 Dry","PKKHI",607754,"2023-04-15","2023-05-05",286,"BL"]
[{"$f":"B27561&\":\"&COUNTIF($B$2:B27561,B27561)","v":"HLCUDM2230308762:4"},"HLCUDM2230308762","SLZU2813545","HLCUDM2230308762","20 Special","PKKHI",607754,"","",286,"BL"]
[{"$f":"B27575&\":\"&COUNTIF($B$2:B27575,B27575)","v":"HLCUMB1230202264:4"},"HLCUMB1230202264","HLXU8110768","HLCUMB1230202264","40 Dry","PKKHI",607754,"2023-04-15","2023-04-28",286,"BL"]
[{"$f":"B27594&\":\"&COUNTIF($B$2:B27594,B27594)","v":"HLCUDA3230202967:1"},"HLCUDA3230202967","UACU5182610","HLCUDA3230202967","40 Dry","PKKHI",607754,"2023-04-15","2023-04-28",286,"BL"]
[{"$f":"B27611&\":\"&COUNTIF($B$2:B27611,B27611)","v":"HLCUKW3230300369:9"},"HLCUKW3230300369","HLBU3077274","HLCUKW3230300369","40 Dry","PKKHI",607754,"2023-04-15","2023-05-05",286,"BL"]
[{"$f":"B27624&\":\"&COUNTIF($B$2:B27624,B27624)","v":"HLCUVAN230204982:1"},"HLCUVAN230204982","HLBU1151027","HLCUVAN230204982","40 Dry","PKKHI",297370,"2023-04-15","2023-04-26",286,"SW"]
[{"$f":"B27628&\":\"&COUNTIF($B$2:B27628,B27628)","v":"HLCULIV230276144:2"},"HLCULIV230276144","HLBU1942368","HLCULIV230276144","40 Dry","PKKHI",297370,"2023-04-16","2023-04-29",286,"BL"]
[{"$f":"B27655&\":\"&COUNTIF($B$2:B27655,B27655)","v":"HLCURDS230300198:4"},"HLCURDS230300198","TGBU5746575","HLCURDS230300198","40 Dry","PKKHI",298670,"2023-04-16","2023-04-29",286,"BL"]
[{"$f":"B27661&\":\"&COUNTIF($B$2:B27661,B27661)","v":"HLCUBC1230314287:1"},"HLCUBC1230314287","GESU3604138","HLCUBC1230314287","20 Dry","PKKHI",298670,"2023-04-16","2023-04-29",286,"SW"]
[{"$f":"B27678&\":\"&COUNTIF($B$2:B27678,B27678)","v":"HLCUBSC2302BCFL8:1"},"HLCUBSC2302BCFL8","HLBU3276770","HLCUBSC2302BCFL8","40 Dry","PKKHI",298670,"2023-04-16","2023-04-29",286,"BL"]
[{"$f":"B27703&\":\"&COUNTIF($B$2:B27703,B27703)","v":"HLCUME3230141696:23"},"HLCUME3230141696","HLBU1646197","HLCUME3230141696","40 Dry","PKKHI",298670,"2023-04-16","2023-05-06",286,"BL"]
[{"$f":"B27711&\":\"&COUNTIF($B$2:B27711,B27711)","v":"HLCUME3230146908:6"},"HLCUME3230146908","TCNU7549533","HLCUME3230146908","40 Dry","PKKHI",298670,"2023-04-16","2023-05-06",286,"BL"]
[{"$f":"B27728&\":\"&COUNTIF($B$2:B27728,B27728)","v":"HLCUME3221256505:9"},"HLCUME3221256505","TRLU7647526","HLCUME3221256505","40 Dry","PKKHI",298670,"2023-04-16","2023-05-06",286,"BL"]
[{"$f":"B27737&\":\"&COUNTIF($B$2:B27737,B27737)","v":"HLCUME3230117310:1"},"HLCUME3230117310","UASU1005032","HLCUME3230117310","40 Dry","PKKHI",298670,"2023-04-16","2023-05-06",286,"BL"]
[{"$f":"B27761&\":\"&COUNTIF($B$2:B27761,B27761)","v":"HLCUME3230117310:25"},"HLCUME3230117310","BEAU4457311","HLCUME3230117310","40 Dry","PKKHI",298670,"2023-04-16","2023-05-06",286,"BL"]
[{"$f":"B27768&\":\"&COUNTIF($B$2:B27768,B27768)","v":"HLCUPI3230204898:2"},"HLCUPI3230204898","TRHU4555388","HLCUPI3230204898","40 Dry","PKKHI",298670,"2023-04-16","2023-05-03",286,"BL"]
[{"$f":"B27794&\":\"&COUNTIF($B$2:B27794,B27794)","v":"HLCURTM230217541:1"},"HLCURTM230217541","FANU1514382","HLCURTM230217541","40 Dry","PKKHI",607769,"2023-04-16","2023-04-29",287,"BL"]
[{"$f":"B27811&\":\"&COUNTIF($B$2:B27811,B27811)","v":"HLCUBEN230300236:10"},"HLCUBEN230300236","CAIU8965911","HLCUBEN230300236","40 Dry","PKKHI",607769,"2023-04-16","2023-04-27",287,"BL"]
[{"$f":"B27817&\":\"&COUNTIF($B$2:B27817,B27817)","v":"HLCUBEN230300236:16"},"HLCUBEN230300236","CAIU9001226","HLCUBEN230300236","40 Dry","PKKHI",607769,"2023-04-16","2023-04-27",287,"BL"]
[{"$f":"B27844&\":\"&COUNTIF($B$2:B27844,B27844)","v":"HLCUAB1230105959:6"},"HLCUAB1230105959","FANU1571741","HLCUAB1230105959","40 Dry","PKKHI",607769,"2023-04-16","2023-04-29",287,"BL"]
[{"$f":"B27861&\":\"&COUNTIF($B$2:B27861,B27861)","v":"HLCUDLA230202140:3"},"HLCUDLA230202140","HLBU1104616","HLCUDLA230202140","20 Dry","PKKHI",607769,"2023-04-16","2023-04-20",287,"BL"]
[{"$f":"B27865&\":\"&COUNTIF($B$2:B27865,B27865)","v":"HLCUBEN230300247:1"},"HLCUBEN230300247","UETU5800693","HLCUBEN230300247","40 Dry","PKKHI",607769,"2023-04-16","2023-04-20",287,"BL"]
[{"$f":"B27878&\":\"&COUNTIF($B$2:B27878,B27878)","v":"HLCUBEN230300247:14"},"HLCUBEN230300247","HLBU1316153","HLCUBEN230300247","40 Dry","PKKHI",607769,"2023-04-16","2023-04-20",287,"BL"]
[{"$f":"B27896&\":\"&COUNTIF($B$2:B27896,B27896)","v":"HLCURTM230259279:4"},"HLCURTM230259279","BEAU4976934","HLCURTM230259279","40 Dry","PKKHI",607769,"2023-04-16","2023-05-06",287,"BL"]
[{"$f":"B27911&\":\"&COUNTIF($B$2:B27911,B27911)","v":"HLCUPRG230300459:1"},"HLCUPRG230300459","CLCU4779572","HLCUPRG230300459","40 Dry","PKKHI",607769,"2023-04-11","",287,"BL"]
[{"$f":"B27928&\":\"&COUNTIF($B$2:B27928,B27928)","v":"HLCUGDY230231481:2"},"HLCUGDY230231481","HLXU8612576","HLCUGDY230231481","40 Dry","PKKHI",607769,"2023-04-16","2023-04-20",287,"BL"]
[{"$f":"B27945&\":\"&COUNTIF($B$2:B27945,B27945)","v":"HLCUAS0230100837:2"},"HLCUAS0230100837","GESU5503872","HLCUAS0230100837","40 Dry","PKKHI",607769,"2023-04-16","2023-04-20",287,"BL"]
[{"$f":"B27961&\":\"&COUNTIF($B$2:B27961,B27961)","v":"HLCUBEN230300269:5"},"HLCUBEN230300269","HLXU8344935","HLCUBEN230300269","40 Dry","PKKHI",607769,"2023-04-16","2023-04-20",287,"BL"]
[{"$f":"B27978&\":\"&COUNTIF($B$2:B27978,B27978)","v":"HLCUIZ1230293603:1"},"HLCUIZ1230293603","TGBU5531540","HLCUIZ1230293603","40 Dry","PKKHI",607769,"2023-04-16","2023-04-27",287,"BL"]
[{"$f":"B27993&\":\"&COUNTIF($B$2:B27993,B27993)","v":"HLCUBSC2303BJGX2:6"},"HLCUBSC2303BJGX2","FANU1497114","HLCUBSC2303BJGX2","40 Dry","PKBQM",299699,"2023-04-21","2023-05-11",287,"BL"]
[{"$f":"B28011&\":\"&COUNTIF($B$2:B28011,B28011)","v":"HLCUBSC2303BJGX2:24"},"HLCUBSC2303BJGX2","TCNU4053473","HLCUBSC2303BJGX2","40 Dry","PKBQM",299699,"2023-04-21","2023-05-11",287,"BL"]
[{"$f":"B28024&\":\"&COUNTIF($B$2:B28024,B28024)","v":"HLCUBSC2303BCRE0:9"},"HLCUBSC2303BCRE0","SEGU5619614","HLCUBSC2303BCRE0","40 Dry","PKBQM",299699,"2023-04-21","2023-05-11",287,"BL"]
[{"$f":"B28044&\":\"&COUNTIF($B$2:B28044,B28044)","v":"HLCUBSC230369985:1"},"HLCUBSC230369985","TCLU5725976","HLCUBSC230369985","40 Dry","PKBQM",299699,"2023-04-21","2023-05-02",287,"BL"]
[{"$f":"B28061&\":\"&COUNTIF($B$2:B28061,B28061)","v":"HLCUBSC2303ATQE0:3"},"HLCUBSC2303ATQE0","TRLU7503278","HLCUBSC2303ATQE0","40 Dry","PKBQM",299699,"2023-04-21","2023-05-11",287,"BL"]
[{"$f":"B28073&\":\"&COUNTIF($B$2:B28073,B28073)","v":"HLCUBSC2303ATQE0:15"},"HLCUBSC2303ATQE0","FFAU2203123","HLCUBSC2303ATQE0","40 Dry","PKBQM",299699,"2023-04-21","2023-05-11",287,"BL"]
[{"$f":"B28094&\":\"&COUNTIF($B$2:B28094,B28094)","v":"HLCUBSC2303BHYP8:1"},"HLCUBSC2303BHYP8","BSIU9651783","HLCUBSC2303BHYP8","40 Dry","PKBQM",299699,"2023-04-21","2023-05-02",287,"BL"]
[{"$f":"B28111&\":\"&COUNTIF($B$2:B28111,B28111)","v":"HLCUBSC2303APBC0:16"},"HLCUBSC2303APBC0","TXGU7131443","HLCUBSC2303APBC0","40 Dry","PKBQM",299699,"2023-04-21","2023-05-11",287,"BL"]
[{"$f":"B28121&\":\"&COUNTIF($B$2:B28121,B28121)","v":"HLCUBSC2303BIEP0:4"},"HLCUBSC2303BIEP0","UACU8573217","HLCUBSC2303BIEP0","40 Dry","PKBQM",299699,"2023-04-21","2023-05-11",287,"BL"]
[{"$f":"B28128&\":\"&COUNTIF($B$2:B28128,B28128)","v":"HLCUTOR230324286:2"},"HLCUTOR230324286","FSCU7167534","HLCUTOR230324286","40 Dry","PKBQM",299699,"2023-04-21","2023-05-02",287,"SW"]
[{"$f":"B28153&\":\"&COUNTIF($B$2:B28153,B28153)","v":"HLCUGOA230321326:1"},"HLCUGOA230321326","FANU1811138","HLCUGOA230321326","40 Dry","PKBQM",990609,"2023-04-23","2023-05-06",286,"BL"]
[{"$f":"B28161&\":\"&COUNTIF($B$2:B28161,B28161)","v":"HLCUBSC2302AQNX7:1"},"HLCUBSC2302AQNX7","SEGU1341823","HLCUBSC2302AQNX7","20 Dry","PKBQM",990609,"2023-04-23","2023-05-06",286,"BL"]
[{"$f":"B28178&\":\"&COUNTIF($B$2:B28178,B28178)","v":"HLCUGOA230373367:1"},"HLCUGOA230373367","GCXU5941347","HLCUGOA230373367","40 Dry","PKBQM",990609,"2023-04-23","2023-05-06",286,"BL"]
[{"$f":"B28201&\":\"&COUNTIF($B$2:B28201,B28201)","v":"HLCUHAM230308040:2"},"HLCUHAM230308040","FSCU7218415","HLCUHAM230308040","40 Dry","PKKHI",607756,"2023-04-24","2023-05-07",286,"SW"]
[{"$f":"B28211&\":\"&COUNTIF($B$2:B28211,B28211)","v":"HLCUBSC230388996:1"},"HLCUBSC230388996","UACU3427483","HLCUBSC230388996","20 Dry","PKKHI",607756,"2023-04-24","2023-04-28",286,"SW"]
[{"$f":"B28228&\":\"&COUNTIF($B$2:B28228,B28228)","v":"HLCUME3230138275:2"},"HLCUME3230138275","DFSU2245238","HLCUME3230138275","20 Dry","PKKHI",607756,"2023-04-24","2023-04-28",286,"SW"]
[{"$f":"B28249&\":\"&COUNTIF($B$2:B28249,B28249)","v":"HLCUDM2230305088:2"},"HLCUDM2230305088","UACU5985294","HLCUDM2230305088","40 Dry","PKKHI",607756,"2023-04-24","2023-05-07",286,"SW"]
[{"$f":"B28261&\":\"&COUNTIF($B$2:B28261,B28261)","v":"HLCUDX3230420014:2"},"HLCUDX3230420014","GCXU5919493","HLCUDX3230420014","40 Dry","PKKHI",607756,"2023-04-24","2023-05-14",286,"BL"]
[{"$f":"B28281&\":\"&COUNTIF($B$2:B28281,B28281)","v":"HLCUKW3230302459:6"},"HLCUKW3230302459","FANU1322435","HLCUKW3230302459","40 Dry","PKKHI",607756,"2023-04-24","2023-05-14",286,"BL"]
[{"$f":"B28294&\":\"&COUNTIF($B$2:B28294,B28294)","v":"HLCURUH230303754:6"},"HLCURUH230303754","GCXU5947710","HLCURUH230303754","40 Dry","PKKHI",607756,"2023-04-24","2023-05-14",286,"BL"]
[{"$f":"B28311&\":\"&COUNTIF($B$2:B28311,B28311)","v":"HLCUDX3230415000:10"},"HLCUDX3230415000","CAIU9007543","HLCUDX3230415000","40 Dry","PKKHI",607756,"2023-04-24","2023-05-14",286,"BL"]
[{"$f":"B28329&\":\"&COUNTIF($B$2:B28329,B28329)","v":"HLCUDX3230420025:1"},"HLCUDX3230420025","FANU1025062","HLCUDX3230420025","40 Dry","PKKHI",607756,"2023-04-24","2023-05-14",286,"BL"]
[{"$f":"B28344&\":\"&COUNTIF($B$2:B28344,B28344)","v":"HLCUKW3230201776:2"},"HLCUKW3230201776","HLBU3159454","HLCUKW3230201776","40 Dry","PKKHI",607756,"2023-04-24","2023-05-14",286,"BL"]
[{"$f":"B28361&\":\"&COUNTIF($B$2:B28361,B28361)","v":"HLCUDX3230415077:6"},"HLCUDX3230415077","DFSU7320838","HLCUDX3230415077","40 Dry","PKKHI",607756,"2023-04-24","2023-05-14",286,"BL"]
[{"$f":"B28362&\":\"&COUNTIF($B$2:B28362,B28362)","v":"HLCUDX3230415077:7"},"HLCUDX3230415077","BMOU5833700","HLCUDX3230415077","40 Dry","PKKHI",607756,"2023-04-24","2023-05-14",286,"BL"]
[{"$f":"B28378&\":\"&COUNTIF($B$2:B28378,B28378)","v":"HLCURTM230275588:2"},"HLCURTM230275588","UACU5763131","HLCURTM230275588","40 Dry","PKKHI",607756,"2023-04-24","2023-04-28",286,"BL","2023-04-24"]
[{"$f":"B28394&\":\"&COUNTIF($B$2:B28394,B28394)","v":"HLCUANR230266624:2"},"HLCUANR230266624","TLLU5950424","HLCUANR230266624","40 Dry","PKKHI",297356,"2023-04-26","2023-05-23",286,"BL"]
[{"$f":"B28411&\":\"&COUNTIF($B$2:B28411,B28411)","v":"HLCURTM230314691:1"},"HLCURTM230314691","HLBU3257342","HLCURTM230314691","40 Dry","PKKHI",297356,"2023-04-26","2023-05-16",286,"BL"]
[{"$f":"B28428&\":\"&COUNTIF($B$2:B28428,B28428)","v":"HLCUANR230318743:3"},"HLCUANR230318743","HLBU2046561","HLCUANR230318743","40 Dry","PKKHI",297356,"2023-04-26","2023-05-16",286,"BL"]
[{"$f":"B28442&\":\"&COUNTIF($B$2:B28442,B28442)","v":"HLCUTLL230310712:5"},"HLCUTLL230310712","PCVU2523350","HLCUTLL230310712","20 Special","PKKHI",297356,"2023-03-20","",286,"SW"]
[{"$f":"B28461&\":\"&COUNTIF($B$2:B28461,B28461)","v":"HLCURTM230339526:1"},"HLCURTM230339526","TCLU6682354","HLCURTM230339526","40 Dry","PKKHI",297356,"2023-04-26","2023-05-09",286,"SW"]
[{"$f":"B28478&\":\"&COUNTIF($B$2:B28478,B28478)","v":"HLCUGDY230230372:5"},"HLCUGDY230230372","FANU3221402","HLCUGDY230230372","40 Dry","PKKHI",297356,"2023-04-26","2023-05-09",286,"BL"]
[{"$f":"B28490&\":\"&COUNTIF($B$2:B28490,B28490)","v":"HLCUHAM230359531:1"},"HLCUHAM230359531","UACU8610012","HLCUHAM230359531","40 Dry","PKKHI",297356,"2023-04-26","2023-04-30",286,"SW"]
[{"$f":"B28511&\":\"&COUNTIF($B$2:B28511,B28511)","v":"HLCULIV230305887:1"},"HLCULIV230305887","IALU8222480","HLCULIV230305887","20 Dry","PKBQM",298913,"2023-04-27","2023-05-06",286,"BL"]
[{"$f":"B28522&\":\"&COUNTIF($B$2:B28522,B28522)","v":"HLCUCPH230209006:2"},"HLCUCPH230209006","CLHU3574956","HLCUCPH230209006","20 Dry","PKBQM",298913,"2023-04-27","2023-05-10",286,"BL"]
[{"$f":"B28544&\":\"&COUNTIF($B$2:B28544,B28544)","v":"HLCUCPH230300299:6"},"HLCUCPH230300299","CAIU6750220","HLCUCPH230300299","20 Dry","PKBQM",298913,"2023-04-27","2023-05-10",286,"BL"]
[{"$f":"B28561&\":\"&COUNTIF($B$2:B28561,B28561)","v":"HLCUBSC230371248:6"},"HLCUBSC230371248","FCIU4283526","HLCUBSC230371248","20 Dry","PKBQM",298913,"2023-04-27","2023-05-08",286,"BL"]
[{"$f":"B28570&\":\"&COUNTIF($B$2:B28570,B28570)","v":"HLCUBSC2302BQUQ0:3"},"HLCUBSC2302BQUQ0","HLBU3042473","HLCUBSC2302BQUQ0","20 Dry","PKBQM",298913,"2023-04-27","2023-05-10",286,"BL"]
[{"$f":"B28594&\":\"&COUNTIF($B$2:B28594,B28594)","v":"HLCUBSC230394914:2"},"HLCUBSC230394914","FSCU8084840","HLCUBSC230394914","40 Dry","PKBQM",298913,"2023-04-27","2023-05-01",286,"BL"]
[{"$f":"B28611&\":\"&COUNTIF($B$2:B28611,B28611)","v":"HLCUBSC2303AUFE8:1"},"HLCUBSC2303AUFE8","TEMU0505765","HLCUBSC2303AUFE8","20 Dry","PKBQM",298913,"2023-04-27","2023-05-08",286,"BL"]
[{"$f":"B28618&\":\"&COUNTIF($B$2:B28618,B28618)","v":"HLCULGB230304138:1"},"HLCULGB230304138","UETU5902904","HLCULGB230304138","40 Dry","PKBQM",298913,"2023-04-27","2023-05-08",286,"SW"]
[{"$f":"B28628&\":\"&COUNTIF($B$2:B28628,B28628)","v":"HLCUBSC230383166:2"},"HLCUBSC230383166","UACU5934208","HLCUBSC230383166","40 Dry","PKBQM",298913,"2023-04-27","2023-05-08",286,"SW"]
[{"$f":"B28650&\":\"&COUNTIF($B$2:B28650,B28650)","v":"HLCUBSC230329292:3"},"HLCUBSC230329292","UACU4051699","HLCUBSC230329292","20 Dry","PKBQM",298913,"2023-04-27","2023-05-08",286,"BL"]
[{"$f":"B28661&\":\"&COUNTIF($B$2:B28661,B28661)","v":"HLCUBSC2302BLSA0:1"},"HLCUBSC2302BLSA0","UACU3750583","HLCUBSC2302BLSA0","20 Dry","PKBQM",298913,"2023-04-27","2023-05-08",286,"BL"]
[{"$f":"B28678&\":\"&COUNTIF($B$2:B28678,B28678)","v":"HLCUBSC230343383:1"},"HLCUBSC230343383","UACU5423804","HLCUBSC230343383","40 Dry","PKBQM",298913,"2023-04-27","2023-05-10",286,"BL"]
[{"$f":"B28698&\":\"&COUNTIF($B$2:B28698,B28698)","v":"HLCUBSC2303AUMK7:4"},"HLCUBSC2303AUMK7","TLLU5348525","HLCUBSC2303AUMK7","40 Dry","PKBQM",298913,"2023-04-27","2023-05-08",286,"SW"]
[{"$f":"B28711&\":\"&COUNTIF($B$2:B28711,B28711)","v":"HLCUBSC230347402:3"},"HLCUBSC230347402","TCLU3230535","HLCUBSC230347402","20 Dry","PKBQM",298913,"2023-04-27","2023-05-10",286,"SW"]
[{"$f":"B28728&\":\"&COUNTIF($B$2:B28728,B28728)","v":"HLCUTOR230314130:1"},"HLCUTOR230314130","FANU3182203","HLCUTOR230314130","40 Dry","PKBQM",298913,"2023-04-27","2023-05-08",286,"SW"]
[{"$f":"B28746&\":\"&COUNTIF($B$2:B28746,B28746)","v":"HLCUBSC230399794:2"},"HLCUBSC230399794","HLBU3065421","HLCUBSC230399794","20 Dry","PKBQM",298913,"2023-04-27","2023-05-08",286,"BL"]
[{"$f":"B28761&\":\"&COUNTIF($B$2:B28761,B28761)","v":"HLCUBSC230373678:1"},"HLCUBSC230373678","CAIU3372195","HLCUBSC230373678","20 Dry","PKBQM",298913,"2023-04-27","2023-05-08",286,"BL"]
[{"$f":"B28778&\":\"&COUNTIF($B$2:B28778,B28778)","v":"HLCURTM230342311:1"},"HLCURTM230342311","HLBU9675653","HLCURTM230342311","40 Dry","PKBQM",298913,"2023-04-27","2023-04-29",286,"BL"]
[{"$f":"B28794&\":\"&COUNTIF($B$2:B28794,B28794)","v":"HLCUJE2230319380:1"},"HLCUJE2230319380","INKU6495932","HLCUJE2230319380","40 Special","PKBQM",298913,"2023-04-27","",286,"SW"]
[{"$f":"B28811&\":\"&COUNTIF($B$2:B28811,B28811)","v":"HLCULE1230248863:1"},"HLCULE1230248863","UACU3710019","HLCULE1230248863","20 Dry","PKBQM",298913,"2023-04-27","2023-05-10",286,"BL"]
[{"$f":"B28826&\":\"&COUNTIF($B$2:B28826,B28826)","v":"HLCUBSC2303BWJG2:1"},"HLCUBSC2303BWJG2","TCKU3612130","HLCUBSC2303BWJG2","20 Dry","PKBQM",299701,"2023-04-30","2023-05-11",286,"BL"]
[{"$f":"B28844&\":\"&COUNTIF($B$2:B28844,B28844)","v":"HLCUBSC2303BWRP0:8"},"HLCUBSC2303BWRP0","SEGU6398400","HLCUBSC2303BWRP0","40 Dry","PKBQM",299701,"2023-04-27","",286,"SW"]
[{"$f":"B28861&\":\"&COUNTIF($B$2:B28861,B28861)","v":"HLCUBSC2303BWRP0:25"},"HLCUBSC2303BWRP0","FANU1446478","HLCUBSC2303BWRP0","40 Dry","PKBQM",299701,"2023-04-27","",286,"SW"]
[{"$f":"B28874&\":\"&COUNTIF($B$2:B28874,B28874)","v":"HLCUBSC2303BWRP0:38"},"HLCUBSC2303BWRP0","HLBU1414530","HLCUBSC2303BWRP0","40 Dry","PKBQM",299701,"2023-04-27","",286,"SW"]
[{"$f":"B28878&\":\"&COUNTIF($B$2:B28878,B28878)","v":"HLCUBSC2303BWRP0:42"},"HLCUBSC2303BWRP0","TGBU6073289","HLCUBSC2303BWRP0","40 Dry","PKBQM",299701,"2023-04-27","",286,"SW"]
[{"$f":"B28906&\":\"&COUNTIF($B$2:B28906,B28906)","v":"HLCUMTR230332279:1"},"HLCUMTR230332279","FANU1087439","HLCUMTR230332279","40 Dry","PKBQM",299701,"2023-04-30","2023-05-11",286,"BL"]
[{"$f":"B28911&\":\"&COUNTIF($B$2:B28911,B28911)","v":"HLCUBSC2303AVDO2:5"},"HLCUBSC2303AVDO2","BMOU2793142","HLCUBSC2303AVDO2","20 Dry","PKBQM",299701,"2023-04-30","2023-05-11",286,"SW"]
[{"$f":"B28928&\":\"&COUNTIF($B$2:B28928,B28928)","v":"HLCUBSC2303BQRF1:1"},"HLCUBSC2303BQRF1","BMOU5831971","HLCUBSC2303BQRF1","40 Dry","PKBQM",299701,"2023-04-30","2023-05-11",286,"SW"]
[{"$f":"B28954&\":\"&COUNTIF($B$2:B28954,B28954)","v":"HLCUBSC230327400:1"},"HLCUBSC230327400","SEGU8078982","HLCUBSC230327400","20 Special","PKBQM",299701,"2023-04-27","",286,"SW"]
[{"$f":"B28961&\":\"&COUNTIF($B$2:B28961,B28961)","v":"HLCUBSC2303BRKA5:1"},"HLCUBSC2303BRKA5","UETU5915521","HLCUBSC2303BRKA5","40 Dry","PKBQM",299701,"2023-04-27","2023-05-08",286,"SW"]
[{"$f":"B28978&\":\"&COUNTIF($B$2:B28978,B28978)","v":"HLCUBSC2303BQXY9:1"},"HLCUBSC2303BQXY9","TEMU7467796","HLCUBSC2303BQXY9","40 Dry","PKBQM",299701,"2023-04-30","2023-05-13",286,"SW"]
[{"$f":"B28987&\":\"&COUNTIF($B$2:B28987,B28987)","v":"HLCUBSC2303BXBM8:1"},"HLCUBSC2303BXBM8","HLBU3321380","HLCUBSC2303BXBM8","40 Dry","PKBQM",299701,"2023-04-30","2023-05-11",286,"BL"]
[{"$f":"B29011&\":\"&COUNTIF($B$2:B29011,B29011)","v":"HLCUBSC2302BKUR2:5"},"HLCUBSC2302BKUR2","BSIU9594446","HLCUBSC2302BKUR2","40 Dry","PKBQM",299701,"2023-04-30","2023-05-11",286,"SW"]
[{"$f":"B29019&\":\"&COUNTIF($B$2:B29019,B29019)","v":"HLCUBSC2303BXEB3:2"},"HLCUBSC2303BXEB3","HLBU2806371","HLCUBSC2303BXEB3","40 Dry","PKBQM",299701,"2023-04-27","2023-05-17",286,"BL"]
[{"$f":"B29044&\":\"&COUNTIF($B$2:B29044,B29044)","v":"HLCUBSC2303BRSK4:1"},"HLCUBSC2303BRSK4","TEMU4859577","HLCUBSC2303BRSK4","20 Dry","PKBQM",299701,"2023-04-27","2023-05-10",286,"SW"]
[{"$f":"B29061&\":\"&COUNTIF($B$2:B29061,B29061)","v":"HLCUBSC2303BMYY3:4"},"HLCUBSC2303BMYY3","HLBU1155151","HLCUBSC2303BMYY3","40 Dry","PKBQM",299701,"2023-04-27","2023-05-10",286,"BL"]
[{"$f":"B29067&\":\"&COUNTIF($B$2:B29067,B29067)","v":"HLCUBSC2303BNFB9:1"},"HLCUBSC2303BNFB9","FFAU2644704","HLCUBSC2303BNFB9","40 Dry","PKBQM",299701,"2023-04-27","",286,"SW"]
[{"$f":"B29094&\":\"&COUNTIF($B$2:B29094,B29094)","v":"HLCUBSC2303BQGR8:1"},"HLCUBSC2303BQGR8","FCIU6105499","HLCUBSC2303BQGR8","20 Dry","PKBQM",299701,"2023-04-30","2023-05-11",286,"SW"]
[{"$f":"B29111&\":\"&COUNTIF($B$2:B29111,B29111)","v":"HLCUBSC2303BMOM1:1"},"HLCUBSC2303BMOM1","HLBU2810812","HLCUBSC2303BMOM1","40 Dry","PKBQM",299701,"2023-04-30","2023-05-11",286,"BL"]
[{"$f":"B29115&\":\"&COUNTIF($B$2:B29115,B29115)","v":"HLCUBSC2303BNVO0:1"},"HLCUBSC2303BNVO0","TCKU6026699","HLCUBSC2303BNVO0","40 Dry","PKBQM",299701,"2023-04-30","2023-05-11",286,"BL"]
[{"$f":"B29128&\":\"&COUNTIF($B$2:B29128,B29128)","v":"HLCUBSC2303BWYE3:6"},"HLCUBSC2303BWYE3","FANU1138557","HLCUBSC2303BWYE3","40 Dry","PKBQM",299701,"2023-04-30","2023-05-13",286,"BL"]
[{"$f":"B29147&\":\"&COUNTIF($B$2:B29147,B29147)","v":"HLCUBSC2303BOHS9:2"},"HLCUBSC2303BOHS9","FANU1467470","HLCUBSC2303BOHS9","40 Dry","PKBQM",299701,"2023-04-30","2023-05-11",286,"BL"]
[{"$f":"B29161&\":\"&COUNTIF($B$2:B29161,B29161)","v":"HLCUBSC2303BIQV8:1"},"HLCUBSC2303BIQV8","SEKU6252507","HLCUBSC2303BIQV8","40 Dry","PKBQM",299701,"2023-04-27","",286,"SW"]
[{"$f":"B29178&\":\"&COUNTIF($B$2:B29178,B29178)","v":"HLCUBSC2303BWTC9:2"},"HLCUBSC2303BWTC9","HLBU9528009","HLCUBSC2303BWTC9","40 Reefer","PKBQM",299701,"2023-04-30","",286,"BL"]
[{"$f":"B29195&\":\"&COUNTIF($B$2:B29195,B29195)","v":"HLCUBSC2303BUET0:3"},"HLCUBSC2303BUET0","HLBU2418400","HLCUBSC2303BUET0","40 Dry","PKBQM",299701,"2023-04-27","",286,"BL"]
[{"$f":"B29211&\":\"&COUNTIF($B$2:B29211,B29211)","v":"HLCUBSC2303BMEX2:1"},"HLCUBSC2303BMEX2","HLXU1277326","HLCUBSC2303BMEX2","20 Dry","PKBQM",299701,"2023-04-30","2023-05-11",286,"BL"]
[{"$f":"B29228&\":\"&COUNTIF($B$2:B29228,B29228)","v":"HLCUBSC2303BHHZ4:1"},"HLCUBSC2303BHHZ4","CAIU9569670","HLCUBSC2303BHHZ4","40 Dry","PKBQM",299701,"2023-04-30","2023-05-14",286,"BL"]
[{"$f":"B29243&\":\"&COUNTIF($B$2:B29243,B29243)","v":"HLCUBSC230307557:1"},"HLCUBSC230307557","EXFU8229101","HLCUBSC230307557","20 Special","PKBQM",299701,"2023-04-27","",286,"SW"]
[{"$f":"B29261&\":\"&COUNTIF($B$2:B29261,B29261)","v":"HLCUBSC2303BPPF8:2"},"HLCUBSC2303BPPF8","CAIU3083700","HLCUBSC2303BPPF8","20 Dry","PKBQM",299701,"2023-04-30","2023-05-11",286,"SW"]
[{"$f":"B29275&\":\"&COUNTIF($B$2:B29275,B29275)","v":"HLCUBSC2303BORZ6:1"},"HLCUBSC2303BORZ6","DFSU6323200","HLCUBSC2303BORZ6","40 Dry","PKBQM",299701,"2023-04-30","2023-05-11",286,"BL"]
[{"$f":"B29294&\":\"&COUNTIF($B$2:B29294,B29294)","v":"HLCUBSC230338124:3"},"HLCUBSC230338124","CAIU4222712","HLCUBSC230338124","40 Dry","PKBQM",299701,"2023-04-30","2023-05-11",286,"SW"]
[{"$f":"B29311&\":\"&COUNTIF($B$2:B29311,B29311)","v":"HLCUBSC2303BSGO0:3"},"HLCUBSC2303BSGO0","UACU6023736","HLCUBSC2303BSGO0","40 Dry","PKBQM",299701,"2023-04-30","2023-05-11",286,"BL"]
[{"$f":"B29323&\":\"&COUNTIF($B$2:B29323,B29323)","v":"HLCUBSC2303BWHB7:10"},"HLCUBSC2303BWHB7","FANU1692656","HLCUBSC2303BWHB7","40 Dry","PKBQM",299701,"2023-04-30","2023-05-13",286,"BL"]
[{"$f":"B29344&\":\"&COUNTIF($B$2:B29344,B29344)","v":"HLCUBSC2302BDOV5:7"},"HLCUBSC2302BDOV5","HLXU8083209","HLCUBSC2302BDOV5","40 Dry","PKBQM",299701,"2023-04-30","2023-05-11",286,"BL"]
[{"$f":"B29361&\":\"&COUNTIF($B$2:B29361,B29361)","v":"HLCUBSC2303BCUC4:1"},"HLCUBSC2303BCUC4","SEKU6366686","HLCUBSC2303BCUC4","40 Dry","PKBQM",299701,"2023-04-27","",286,"SW"]
[{"$f":"B29371&\":\"&COUNTIF($B$2:B29371,B29371)","v":"HLCUBSC2303BEUM0:1"},"HLCUBSC2303BEUM0","HLBU1655706","HLCUBSC2303BEUM0","40 Dry","PKBQM",299701,"2023-04-30","2023-05-13",286,"BL"]
[{"$f":"B29378&\":\"&COUNTIF($B$2:B29378,B29378)","v":"HLCUBSC2303BUWA0:1"},"HLCUBSC2303BUWA0","CAIU8452950","HLCUBSC2303BUWA0","40 Dry","PKBQM",299701,"2023-04-27","",286,"SW"]
[{"$f":"B29395&\":\"&COUNTIF($B$2:B29395,B29395)","v":"HLCUBSC2303BGUT1:14"},"HLCUBSC2303BGUT1","GCXU5144596","HLCUBSC2303BGUT1","40 Dry","PKBQM",299701,"2023-04-30","2023-05-14",286,"BL"]
[{"$f":"B29419&\":\"&COUNTIF($B$2:B29419,B29419)","v":"HLCUBSC2303BPHR0:1"},"HLCUBSC2303BPHR0","TXGU7014909","HLCUBSC2303BPHR0","40 Dry","PKBQM",299701,"2023-04-27","",286,"BL"]
[{"$f":"B29428&\":\"&COUNTIF($B$2:B29428,B29428)","v":"HLCUBSC2303BPHR0:10"},"HLCUBSC2303BPHR0","FANU1792721","HLCUBSC2303BPHR0","40 Dry","PKBQM",299701,"2023-04-27","",286,"BL"]
[{"$f":"B29451&\":\"&COUNTIF($B$2:B29451,B29451)","v":"HLCUBSC2303BMPR1:1"},"HLCUBSC2303BMPR1","HLBU2512762","HLCUBSC2303BMPR1","40 Dry","PKBQM",299701,"2023-04-30","2023-05-11",286,"BL"]
[{"$f":"B29461&\":\"&COUNTIF($B$2:B29461,B29461)","v":"HLCUBSC2304AWMY8:1"},"HLCUBSC2304AWMY8","TCKU6563698","HLCUBSC2304AWMY8","40 Dry","PKBQM",299701,"2023-04-27","2023-05-08",286,"BL"]
[{"$f":"B29478&\":\"&COUNTIF($B$2:B29478,B29478)","v":"HLCUBSC2303BGUP8:2"},"HLCUBSC2303BGUP8","TCLU3251646","HLCUBSC2303BGUP8","20 Dry","PKBQM",995915,"2023-04-29","2023-05-10",286,"SW"]
[{"$f":"B29499&\":\"&COUNTIF($B$2:B29499,B29499)","v":"HLCUIZ1230337089:1"},"HLCUIZ1230337089","TCLU6474140","HLCUIZ1230337089","40 Dry","PKKHI",607759,"2023-04-29","2023-05-12",286,"BL"]
[{"$f":"B29511&\":\"&COUNTIF($B$2:B29511,B29511)","v":"HLCUMB1230300234:5"},"HLCUMB1230300234","HLXU8244176","HLCUMB1230300234","40 Dry","PKKHI",607759,"2023-04-29","2023-05-12",286,"BL"]
[{"$f":"B29528&\":\"&COUNTIF($B$2:B29528,B29528)","v":"HLCUDA3230301845:5"},"HLCUDA3230301845","HLBU3308901","HLCUDA3230301845","40 Dry","PKKHI",607759,"2023-04-29","2023-05-12",286,"BL"]
[{"$f":"B29548&\":\"&COUNTIF($B$2:B29548,B29548)","v":"HLCUDX3230413915:5"},"HLCUDX3230413915","BEAU4172767","HLCUDX3230413915","40 Dry","PKKHI",607759,"2023-04-29","2023-05-19",286,"BL"]
[{"$f":"B29561&\":\"&COUNTIF($B$2:B29561,B29561)","v":"HLCUDX3230419900:4"},"HLCUDX3230419900","HLBU2856135","HLCUDX3230419900","40 Dry","PKKHI",607759,"2023-04-29","2023-05-19",286,"BL"]
[{"$f":"B29579&\":\"&COUNTIF($B$2:B29579,B29579)","v":"HLCUDX3230426657:7"},"HLCUDX3230426657","HLXU3551380","HLCUDX3230426657","20 Dry","PKKHI",607759,"2023-04-29","2023-05-19",286,"BL"]
[{"$f":"B29594&\":\"&COUNTIF($B$2:B29594,B29594)","v":"HLCUMB1230301979:1"},"HLCUMB1230301979","HLBU2187852","HLCUMB1230301979","40 Dry","PKKHI",607759,"2023-04-29","2023-05-12",286,"SW"]
[{"$f":"B29611&\":\"&COUNTIF($B$2:B29611,B29611)","v":"HLCUKW3230400842:7"},"HLCUKW3230400842","HLBU2394090","HLCUKW3230400842","40 Dry","PKKHI",607759,"2023-04-29","2023-05-19",286,"BL"]
[{"$f":"B29612&\":\"&COUNTIF($B$2:B29612,B29612)","v":"HLCUMB1230202560:1"},"HLCUMB1230202560","FANU1697200","HLCUMB1230202560","40 Dry","PKKHI",607759,"2023-04-29","2023-05-12",286,"SW"]
[{"$f":"B29628&\":\"&COUNTIF($B$2:B29628,B29628)","v":"HLCURTM230302433:1"},"HLCURTM230302433","TCKU6566167","HLCURTM230302433","40 Dry","PKKHI",298512,"2023-04-30","2023-05-20",286,"BL"]
[{"$f":"B29645&\":\"&COUNTIF($B$2:B29645,B29645)","v":"HLCUVL1230315222:1"},"HLCUVL1230315222","TEMU1862303","HLCUVL1230315222","20 Dry","PKKHI",298674,"2023-05-02","2023-05-15",286,"BL"]
[{"$f":"B29661&\":\"&COUNTIF($B$2:B29661,B29661)","v":"HLCUJE2230401336:2"},"HLCUJE2230401336","TCLU8061818","HLCUJE2230401336","40 Dry","PKKHI",298674,"","2023-05-22",286,"BL"]
[{"$f":"B29678&\":\"&COUNTIF($B$2:B29678,B29678)","v":"HLCUBC1230352941:1"},"HLCUBC1230352941","FSCU7150125","HLCUBC1230352941","40 Dry","PKKHI",298674,"2023-05-02","2023-05-15",286,"SW"]
[{"$f":"B29692&\":\"&COUNTIF($B$2:B29692,B29692)","v":"HLCUPZU230300376:1"},"HLCUPZU230300376","TRHU1950265","HLCUPZU230300376","20 Dry","PKKHI",607776,"2023-05-01","2023-05-14",286,"BL"]
[{"$f":"B29711&\":\"&COUNTIF($B$2:B29711,B29711)","v":"HLCULIV230314490:2"},"HLCULIV230314490","HLXU8594451","HLCULIV230314490","40 Dry","PKKHI",607776,"2023-05-01","2023-05-14",286,"SW"]
[{"$f":"B29728&\":\"&COUNTIF($B$2:B29728,B29728)","v":"HLCUBEN230300225:5"},"HLCUBEN230300225","UASU1030971","HLCUBEN230300225","40 Dry","PKKHI",607776,"2023-05-01","2023-05-05",286,"BL"]
[{"$f":"B29740&\":\"&COUNTIF($B$2:B29740,B29740)","v":"HLCUBEN230300225:17"},"HLCUBEN230300225","NIDU5215260","HLCUBEN230300225","40 Dry","PKKHI",607776,"2023-05-01","2023-05-05",286,"BL"]
[{"$f":"B29761&\":\"&COUNTIF($B$2:B29761,B29761)","v":"HLCUME3230169317:5"},"HLCUME3230169317","HLXU8041780","HLCUME3230169317","40 Dry","PKKHI",607776,"2023-05-01","2023-05-21",286,"BL"]
[{"$f":"B29778&\":\"&COUNTIF($B$2:B29778,B29778)","v":"HLCUVAN230305822:1"},"HLCUVAN230305822","UACU5454929","HLCUVAN230305822","40 Dry","PKKHI",607776,"2023-05-01","2023-05-12",286,"SW"]
[{"$f":"B29789&\":\"&COUNTIF($B$2:B29789,B29789)","v":"HLCUME3230129779:2"},"HLCUME3230129779","HLBU2550818","HLCUME3230129779","40 Dry","PKKHI",607776,"2023-05-01","2023-05-21",286,"BL"]
[{"$f":"B29811&\":\"&COUNTIF($B$2:B29811,B29811)","v":"HLCUME3230129779:24"},"HLCUME3230129779","FSCU8568980","HLCUME3230129779","40 Dry","PKKHI",607776,"2023-05-02","2023-05-22",286,"BL"]
[{"$f":"B29820&\":\"&COUNTIF($B$2:B29820,B29820)","v":"HLCUBSC2302AWTN9:1"},"HLCUBSC2302AWTN9","FFAU2096046","HLCUBSC2302AWTN9","40 Dry","PKKHI",607776,"2023-05-01","2023-05-14",286,"BL"]
[{"$f":"B29844&\":\"&COUNTIF($B$2:B29844,B29844)","v":"HLCUIZ1230383364:1"},"HLCUIZ1230383364","UACU5401404","HLCUIZ1230383364","40 Dry","PKKHI",607776,"2023-05-01","2023-05-05",286,"BL"]
[{"$f":"B29861&\":\"&COUNTIF($B$2:B29861,B29861)","v":"HLCUBSC2302BKWW4:2"},"HLCUBSC2302BKWW4","FANU1763765","HLCUBSC2302BKWW4","40 Dry","PKKHI",607776,"2023-05-01","2023-05-21",286,"BL"]
[{"$f":"B29869&\":\"&COUNTIF($B$2:B29869,B29869)","v":"HLCUGOA230370537:1"},"HLCUGOA230370537","TCLU8078030","HLCUGOA230370537","40 Dry","PKKHI",607776,"2023-05-01","2023-05-14",286,"BL"]
[{"$f":"B29878&\":\"&COUNTIF($B$2:B29878,B29878)","v":"HLCUBC1230331862:1"},"HLCUBC1230331862","TLLU5363793","HLCUBC1230331862","40 Dry","PKKHI",607776,"2023-05-01","2023-05-14",286,"SW"]
[{"$f":"B29895&\":\"&COUNTIF($B$2:B29895,B29895)","v":"HLCUBC1230322613:2"},"HLCUBC1230322613","FCIU9162640","HLCUBC1230322613","40 Dry","PKKHI",607776,"2023-05-01","2023-05-14",286,"SW"]
[{"$f":"B29917&\":\"&COUNTIF($B$2:B29917,B29917)","v":"HLCUBEN230300258:7"},"HLCUBEN230300258","FANU3075925","HLCUBEN230300258","40 Dry","PKKHI",607776,"2023-05-01","2023-05-05",286,"BL"]
[{"$f":"B29928&\":\"&COUNTIF($B$2:B29928,B29928)","v":"HLCUBEN230300258:18"},"HLCUBEN230300258","FANU1847444","HLCUBEN230300258","40 Dry","PKKHI",607776,"2023-05-01","2023-05-05",286,"BL"]
[{"$f":"B29948&\":\"&COUNTIF($B$2:B29948,B29948)","v":"HLCUAS0230200572:3"},"HLCUAS0230200572","EQUU2010260","HLCUAS0230200572","20 Dry","PKKHI",607761,"2023-05-06","2023-05-15",286,"BL"]
[{"$f":"B29961&\":\"&COUNTIF($B$2:B29961,B29961)","v":"HLCUDA3230302330:1"},"HLCUDA3230302330","HLBU1085250","HLCUDA3230302330","40 Dry","PKKHI",607761,"2023-05-06","2023-05-19",286,"BL"]
[{"$f":"B29978&\":\"&COUNTIF($B$2:B29978,B29978)","v":"HLCUDX3230437963:1"},"HLCUDX3230437963","HLBU2403490","HLCUDX3230437963","40 Dry","PKKHI",607761,"2023-05-06","2023-05-26",286,"BL"]
[{"$f":"B29997&\":\"&COUNTIF($B$2:B29997,B29997)","v":"HLCUKW3230401253:3"},"HLCUKW3230401253","UETU5802844","HLCUKW3230401253","40 Dry","PKKHI",607761,"2023-05-06","2023-05-26",286,"BL"]
[{"$f":"B30011&\":\"&COUNTIF($B$2:B30011,B30011)","v":"HLCUDX3230437919:2"},"HLCUDX3230437919","HAMU1287878","HLCUDX3230437919","40 Dry","PKKHI",607761,"2023-05-06","2023-05-26",286,"BL"]
[{"$f":"B30028&\":\"&COUNTIF($B$2:B30028,B30028)","v":"HLCUMB1230302569:5"},"HLCUMB1230302569","FANU1605374","HLCUMB1230302569","40 Dry","PKKHI",607761,"2023-05-06","2023-05-19",286,"SW"]
[{"$f":"B30045&\":\"&COUNTIF($B$2:B30045,B30045)","v":"HLCUDX3230509120:5"},"HLCUDX3230509120","FSCU8083314","HLCUDX3230509120","40 Dry","PKKHI",607761,"2023-05-06","2023-06-04",286,"SW"]
[{"$f":"B30061&\":\"&COUNTIF($B$2:B30061,B30061)","v":"HLCUDX3230509175:5"},"HLCUDX3230509175","HLBU2395286","HLCUDX3230509175","40 Dry","PKKHI",607761,"2023-05-06","2023-06-04",286,"SW"]
[{"$f":"B30077&\":\"&COUNTIF($B$2:B30077,B30077)","v":"HLCUKW3230401191:8"},"HLCUKW3230401191","HLBU1314757","HLCUKW3230401191","40 Dry","PKKHI",607761,"2023-05-06","2023-05-26",286,"BL"]
[{"$f":"B30094&\":\"&COUNTIF($B$2:B30094,B30094)","v":"HLCUKW3230401220:10"},"HLCUKW3230401220","TXGU7350610","HLCUKW3230401220","40 Dry","PKKHI",607761,"2023-05-06","2023-05-26",286,"BL"]
[{"$f":"B30111&\":\"&COUNTIF($B$2:B30111,B30111)","v":"HLCUDA3230302329:5"},"HLCUDA3230302329","TCNU7155463","HLCUDA3230302329","40 Dry","PKKHI",607761,"2023-05-06","2023-05-19",286,"BL"]
[{"$f":"B30125&\":\"&COUNTIF($B$2:B30125,B30125)","v":"HLCUKW3230400875:5"},"HLCUKW3230400875","CAAU5690891","HLCUKW3230400875","40 Dry","PKKHI",607761,"2023-05-06","2023-05-26",286,"BL"]
[{"$f":"B30128&\":\"&COUNTIF($B$2:B30128,B30128)","v":"HLCUAU2230403100:1"},"HLCUAU2230403100","TXGU7166049","HLCUAU2230403100","40 Dry","PKKHI",607761,"2023-05-06","2023-05-19",286,"BL"]
[{"$f":"B30145&\":\"&COUNTIF($B$2:B30145,B30145)","v":"HLCUAU2230403092:1"},"HLCUAU2230403092","HLBU2427233","HLCUAU2230403092","40 Dry","PKKHI",607761,"2023-05-06","2023-05-19",286,"BL"]
[{"$f":"B30173&\":\"&COUNTIF($B$2:B30173,B30173)","v":"HLCUDA3230302340:1"},"HLCUDA3230302340","TCNU1595969","HLCUDA3230302340","40 Dry","PKKHI",607761,"2023-05-06","2023-05-19",286,"BL"]
[{"$f":"B30178&\":\"&COUNTIF($B$2:B30178,B30178)","v":"HLCUKW3230401359:2"},"HLCUKW3230401359","HLBU1833114","HLCUKW3230401359","40 Dry","PKKHI",607761,"2023-05-06","2023-05-26",286,"BL"]
[{"$f":"B30190&\":\"&COUNTIF($B$2:B30190,B30190)","v":"HLCUKW3230401359:14"},"HLCUKW3230401359","HLBU2457747","HLCUKW3230401359","40 Dry","PKKHI",607761,"2023-05-06","2023-05-26",286,"BL"]
[{"$f":"B30211&\":\"&COUNTIF($B$2:B30211,B30211)","v":"HLCUANR230371161:1"},"HLCUANR230371161","GESU6809466","HLCUANR230371161","40 Dry","PKKHI",298514,"","2023-05-21",286,"BL"]
[{"$f":"B30228&\":\"&COUNTIF($B$2:B30228,B30228)","v":"HLCULI2230300748:1"},"HLCULI2230300748","BMOU6432301","HLCULI2230300748","40 Dry","PKKHI",609379,"2023-05-07","2023-05-20",286,"SW"]
[{"$f":"B30238&\":\"&COUNTIF($B$2:B30238,B30238)","v":"HLCUTOR230308229:1"},"HLCUTOR230308229","TCLU8082132","HLCUTOR230308229","40 Dry","PKKHI",609379,"2023-05-07","2023-05-18",286,"SW"]
[{"$f":"B30261&\":\"&COUNTIF($B$2:B30261,B30261)","v":"HLCUPSE230251968:1"},"HLCUPSE230251968","HLBU9247296","HLCUPSE230251968","40 Reefer","PKKHI",609379,"2023-05-07","2023-05-16",286,"SW"]
[{"$f":"B30278&\":\"&COUNTIF($B$2:B30278,B30278)","v":"HLCUTOR230308028:1"},"HLCUTOR230308028","FANU3174764","HLCUTOR230308028","40 Dry","PKKHI",609379,"2023-05-07","2023-05-18",286,"BL"]
[{"$f":"B30286&\":\"&COUNTIF($B$2:B30286,B30286)","v":"HLCUTOR230306446:1"},"HLCUTOR230306446","HLXU8357573","HLCUTOR230306446","40 Dry","PKKHI",609379,"2023-05-07","2023-05-18",286,"SW"]
[{"$f":"B30311&\":\"&COUNTIF($B$2:B30311,B30311)","v":"HLCUDOH230402057:2"},"HLCUDOH230402057","DFSU6483234","HLCUDOH230402057","40 Dry","PKKHI",609379,"2023-05-07","2023-05-27",286,"BL"]
[{"$f":"B30318&\":\"&COUNTIF($B$2:B30318,B30318)","v":"HLCUDOH230402057:9"},"HLCUDOH230402057","FCIU7621226","HLCUDOH230402057","40 Dry","PKKHI",609379,"2023-05-07","2023-05-27",286,"BL"]
[{"$f":"B30344&\":\"&COUNTIF($B$2:B30344,B30344)","v":"HLCURTM230354971:1"},"HLCURTM230354971","TXGU7156349","HLCURTM230354971","40 Dry","PKKHI",609379,"2023-05-07","2023-05-16",286,"SW"]
[{"$f":"B30361&\":\"&COUNTIF($B$2:B30361,B30361)","v":"HLCUGDY230233359:2"},"HLCUGDY230233359","SEGU5452698","HLCUGDY230233359","40 Dry","PKKHI",609379,"2023-05-07","2023-05-20",286,"BL"]
[{"$f":"B30366&\":\"&COUNTIF($B$2:B30366,B30366)","v":"HLCULIV230270316:2"},"HLCULIV230270316","GLDU5737373","HLCULIV230270316","20 Dry","PKBQM",990612,"2023-05-09","2023-05-18",286,"BL"]
[{"$f":"B30378&\":\"&COUNTIF($B$2:B30378,B30378)","v":"HLCULIV230270316:14"},"HLCULIV230270316","UACU4003767","HLCULIV230270316","20 Dry","PKBQM",990612,"2023-05-09","2023-05-18",286,"BL"]
[{"$f":"B30395&\":\"&COUNTIF($B$2:B30395,B30395)","v":"HLCULIV230270316:31"},"HLCULIV230270316","HLBU1231694","HLCULIV230270316","20 Dry","PKBQM",990612,"2023-05-09","2023-05-18",286,"BL"]
[{"$f":"B30414&\":\"&COUNTIF($B$2:B30414,B30414)","v":"HLCULIV230212346:12"},"HLCULIV230212346","BMOU2671397","HLCULIV230212346","20 Dry","PKBQM",990612,"2023-05-09","2023-05-18",286,"BL"]
[{"$f":"B30428&\":\"&COUNTIF($B$2:B30428,B30428)","v":"HLCUBC1230331036:1"},"HLCUBC1230331036","DFSU7379760","HLCUBC1230331036","40 Dry","PKBQM",990612,"2023-05-09","2023-05-22",286,"BL"]
[{"$f":"B30446&\":\"&COUNTIF($B$2:B30446,B30446)","v":"HLCUBC1230328642:1"},"HLCUBC1230328642","TCNU6287383","HLCUBC1230328642","40 Dry","PKBQM",990612,"2023-05-09","2023-05-22",286,"SW"]
[{"$f":"B30461&\":\"&COUNTIF($B$2:B30461,B30461)","v":"HLCUBC1230350449:1"},"HLCUBC1230350449","UACU5581820","HLCUBC1230350449","40 Dry","PKBQM",990612,"2023-05-09","2023-05-22",286,"BL"]
[{"$f":"B30478&\":\"&COUNTIF($B$2:B30478,B30478)","v":"HLCUGOA2303APGT0:1"},"HLCUGOA2303APGT0","FSCU7096404","HLCUGOA2303APGT0","40 Dry","PKBQM",990612,"2023-05-09","2023-05-22",286,"BL"]
[{"$f":"B30494&\":\"&COUNTIF($B$2:B30494,B30494)","v":"HLCUGOA2303APCJ9:2"},"HLCUGOA2303APCJ9","CAIU6419892","HLCUGOA2303APCJ9","20 Dry","PKBQM",990612,"2023-05-09","2023-05-22",286,"BL"]
[{"$f":"B30511&\":\"&COUNTIF($B$2:B30511,B30511)","v":"HLCUANR230308557:1"},"HLCUANR230308557","CAIU8997652","HLCUANR230308557","40 Dry","PKKHI",607489,"2023-05-11","2023-06-07",286,"BL"]
[{"$f":"B30528&\":\"&COUNTIF($B$2:B30528,B30528)","v":"HLCUIZ1230261040:8"},"HLCUIZ1230261040","TEMU6519920","HLCUIZ1230261040","40 Dry","PKKHI",607489,"2023-05-11","2023-05-24",286,"BL"]
[{"$f":"B30542&\":\"&COUNTIF($B$2:B30542,B30542)","v":"HLCULIV230354959:4"},"HLCULIV230354959","CAIU4231191","HLCULIV230354959","40 Dry","PKKHI",607489,"2023-05-11","2023-05-15",286,"BL"]
[{"$f":"B30561&\":\"&COUNTIF($B$2:B30561,B30561)","v":"HLCUHAM2303AXBA1:5"},"HLCUHAM2303AXBA1","HLBU1242446","HLCUHAM2303AXBA1","20 Dry","PKKHI",607489,"2023-05-10","2023-05-23",286,"SW"]
[{"$f":"B30574&\":\"&COUNTIF($B$2:B30574,B30574)","v":"HLCUHAM2303BJNL3:1"},"HLCUHAM2303BJNL3","HLBU9028620","HLCUHAM2303BJNL3","40 Reefer","PKKHI",607489,"2023-05-10","2023-05-14",286,"BL"]
[{"$f":"B30594&\":\"&COUNTIF($B$2:B30594,B30594)","v":"HLCUHAM2303BQPZ0:1"},"HLCUHAM2303BQPZ0","HLXU3406886","HLCUHAM2303BQPZ0","20 Dry","PKKHI",607489,"2023-05-11","2023-05-24",286,"SW"]
[{"$f":"B30611&\":\"&COUNTIF($B$2:B30611,B30611)","v":"HLCUANR230347984:2"},"HLCUANR230347984","FDCU0181043","HLCUANR230347984","40 Dry","PKKHI",607489,"2023-05-10","2023-05-30",286,"SW"]
[{"$f":"B30622&\":\"&COUNTIF($B$2:B30622,B30622)","v":"HLCULIV230376924:1"},"HLCULIV230376924","UACU4001907","HLCULIV230376924","20 Dry","PKKHI",607489,"2023-05-10","2023-05-23",286,"BL"]
[{"$f":"B30628&\":\"&COUNTIF($B$2:B30628,B30628)","v":"HLCURTM230358940:1"},"HLCURTM230358940","BMOU1428211","HLCURTM230358940","20 Dry","PKKHI",607489,"2023-05-10","2023-05-30",286,"BL"]
[{"$f":"B30645&\":\"&COUNTIF($B$2:B30645,B30645)","v":"HLCUDX3230500985:3"},"HLCUDX3230500985","PCIU8485660","HLCUDX3230500985","40 Dry","PKKHI",607489,"2023-05-11","2023-05-31",286,"BL"]
[{"$f":"B30670&\":\"&COUNTIF($B$2:B30670,B30670)","v":"HLCUDX3230433465:1"},"HLCUDX3230433465","HLXU5198230","HLCUDX3230433465","40 Dry","PKKHI",607489,"2023-05-10","2023-05-23",286,"BL"]
[{"$f":"B30678&\":\"&COUNTIF($B$2:B30678,B30678)","v":"HLCUGDY230222689:7"},"HLCUGDY230222689","HLBU2605361","HLCUGDY230222689","20 Dry","PKKHI",607489,"2023-05-10","2023-05-30",286,"BL"]
[{"$f":"B30702&\":\"&COUNTIF($B$2:B30702,B30702)","v":"HLCUGDY230222689:31"},"HLCUGDY230222689","UACU4006241","HLCUGDY230222689","20 Dry","PKKHI",607489,"2023-05-10","2023-05-30",286,"BL"]
[{"$f":"B30711&\":\"&COUNTIF($B$2:B30711,B30711)","v":"HLCUGDY230222689:40"},"HLCUGDY230222689","UACU3935340","HLCUGDY230222689","20 Dry","PKKHI",607489,"2023-05-10","2023-05-30",286,"BL"]
[{"$f":"B30728&\":\"&COUNTIF($B$2:B30728,B30728)","v":"HLCUGDY230222689:57"},"HLCUGDY230222689","UACU3884432","HLCUGDY230222689","20 Dry","PKKHI",607489,"2023-05-10","2023-05-30",286,"BL"]
[{"$f":"B30750&\":\"&COUNTIF($B$2:B30750,B30750)","v":"HLCUGDY230222689:79"},"HLCUGDY230222689","TCLU2287480","HLCUGDY230222689","20 Dry","PKKHI",607489,"2023-05-10","2023-05-30",286,"BL"]
[{"$f":"B30761&\":\"&COUNTIF($B$2:B30761,B30761)","v":"HLCUCPH230207764:2"},"HLCUCPH230207764","HLBU1988543","HLCUCPH230207764","40 Dry","PKBQM",298919,"2023-05-11","2023-05-24",286,"BL"]
[{"$f":"B30778&\":\"&COUNTIF($B$2:B30778,B30778)","v":"HLCUBSC2303BTVL3:2"},"HLCUBSC2303BTVL3","TGBU9890174","HLCUBSC2303BTVL3","40 Dry","PKBQM",298919,"2023-05-11","2023-05-22",286,"BL"]
[{"$f":"B30798&\":\"&COUNTIF($B$2:B30798,B30798)","v":"HLCUBSC2303AWTV5:3"},"HLCUBSC2303AWTV5","UACU3593273","HLCUBSC2303AWTV5","20 Dry","PKBQM",298919,"2023-05-11","2023-05-24",286,"BL"]
[{"$f":"B30811&\":\"&COUNTIF($B$2:B30811,B30811)","v":"HLCUBSC2303BPFB4:2"},"HLCUBSC2303BPFB4","HLXU8112647","HLCUBSC2303BPFB4","40 Dry","PKBQM",298919,"2023-05-11","2023-05-22",286,"SW"]
[{"$f":"B30815&\":\"&COUNTIF($B$2:B30815,B30815)","v":"HLCUBSC2303BWGM2:2"},"HLCUBSC2303BWGM2","TCKU3637164","HLCUBSC2303BWGM2","20 Dry","PKBQM",298919,"2023-05-11","2023-05-24",286,"BL"]
[{"$f":"B30844&\":\"&COUNTIF($B$2:B30844,B30844)","v":"HLCUBSC2303BEPY4:1"},"HLCUBSC2303BEPY4","UACU3875195","HLCUBSC2303BEPY4","20 Dry","PKBQM",298919,"2023-05-11","2023-05-24",286,"BL"]
[{"$f":"B30861&\":\"&COUNTIF($B$2:B30861,B30861)","v":"HLCUBSC2303BWWT7:1"},"HLCUBSC2303BWWT7","CAAU2105463","HLCUBSC2303BWWT7","20 Dry","PKBQM",298919,"2023-05-11","2023-05-24",286,"BL"]
[{"$f":"B30863&\":\"&COUNTIF($B$2:B30863,B30863)","v":"HLCUBSC2303AYWB2:1"},"HLCUBSC2303AYWB2","HLBU2768899","HLCUBSC2303AYWB2","40 Dry","PKBQM",298919,"2023-05-11","2023-05-22",286,"SW"]
[{"$f":"B30878&\":\"&COUNTIF($B$2:B30878,B30878)","v":"HLCUBSC2303BCJW9:2"},"HLCUBSC2303BCJW9","FBIU0095719","HLCUBSC2303BCJW9","20 Dry","PKBQM",298919,"2023-05-11","2023-05-24",286,"BL"]
[{"$f":"B30895&\":\"&COUNTIF($B$2:B30895,B30895)","v":"HLCUBSC2303BPFQ9:1"},"HLCUBSC2303BPFQ9","TGHU6825198","HLCUBSC2303BPFQ9","40 Dry","PKBQM",298919,"2023-05-11","2023-05-22",286,"SW"]
[{"$f":"B30911&\":\"&COUNTIF($B$2:B30911,B30911)","v":"HLCUBSC2303BPND5:1"},"HLCUBSC2303BPND5","FANU3125857","HLCUBSC2303BPND5","40 Dry","PKBQM",298919,"2023-05-11","2023-05-31",286,"BL"]
[{"$f":"B30928&\":\"&COUNTIF($B$2:B30928,B30928)","v":"HLCUBSC2303BJPL5:1"},"HLCUBSC2303BJPL5","UACU5912894","HLCUBSC2303BJPL5","40 Dry","PKBQM",298919,"2023-05-11","2023-05-31",286,"BL"]
[{"$f":"B30943&\":\"&COUNTIF($B$2:B30943,B30943)","v":"HLCUBSC2303BBNY5:2"},"HLCUBSC2303BBNY5","UACU5866551","HLCUBSC2303BBNY5","40 Dry","PKBQM",298919,"2023-05-11","2023-05-22",286,"BL"]
[{"$f":"B30961&\":\"&COUNTIF($B$2:B30961,B30961)","v":"HLCUTOR230331368:2"},"HLCUTOR230331368","RFCU2261971","HLCUTOR230331368","20 Dry","PKBQM",298919,"2023-05-11","2023-05-22",286,"BL"]
[{"$f":"B30978&\":\"&COUNTIF($B$2:B30978,B30978)","v":"HLCUTOR230308887:1"},"HLCUTOR230308887","CAIU4409771","HLCUTOR230308887","40 Dry","PKBQM",298919,"2023-05-11","2023-05-22",286,"BL"]
[{"$f":"B30991&\":\"&COUNTIF($B$2:B30991,B30991)","v":"HLCUBSC2303AVLF2:1"},"HLCUBSC2303AVLF2","HLXU1378050","HLCUBSC2303AVLF2","20 Dry","PKBQM",298919,"2023-05-11","2023-05-24",286,"BL"]
[{"$f":"B31011&\":\"&COUNTIF($B$2:B31011,B31011)","v":"HLCUBSC2303BXGJ1:1"},"HLCUBSC2303BXGJ1","HAMU1316322","HLCUBSC2303BXGJ1","40 Dry","PKBQM",298919,"2023-05-11","2023-05-24",286,"SW"]
[{"$f":"B31028&\":\"&COUNTIF($B$2:B31028,B31028)","v":"HLCUJE2230322176:5"},"HLCUJE2230322176","UACU5876420","HLCUJE2230322176","40 Dry","PKBQM",298919,"2023-05-11","2023-05-31",286,"BL"]
[{"$f":"B31039&\":\"&COUNTIF($B$2:B31039,B31039)","v":"HLCUBSC2303BOMR0:3"},"HLCUBSC2303BOMR0","TCNU1673418","HLCUBSC2303BOMR0","40 Dry","PKBQM",298919,"2023-05-11","2023-05-15",286,"BL"]
[{"$f":"B31061&\":\"&COUNTIF($B$2:B31061,B31061)","v":"HLCUCPH230110635:7"},"HLCUCPH230110635","HAMU1195576","HLCUCPH230110635","40 Dry","PKBQM",298919,"2023-05-11","2023-06-24",286,"SW"]
[{"$f":"B31071&\":\"&COUNTIF($B$2:B31071,B31071)","v":"HLCUBSC2303BWNU3:1"},"HLCUBSC2303BWNU3","PCIU1700890","HLCUBSC2303BWNU3","20 Dry","PKBQM",995920,"2023-05-13","2023-05-24",286,"BL"]
[{"$f":"B31094&\":\"&COUNTIF($B$2:B31094,B31094)","v":"HLCUSS5230100442:4"},"HLCUSS5230100442","BEAU4555581","HLCUSS5230100442","40 Dry","PKKHI",605457,"2023-05-14","2023-05-28",286,"BL"]
[{"$f":"B31111&\":\"&COUNTIF($B$2:B31111,B31111)","v":"HLCUSS5230216114:6"},"HLCUSS5230216114","CLHU8881678","HLCUSS5230216114","40 Dry","PKKHI",605457,"2023-05-14","2023-05-28",286,"BL"]
[{"$f":"B31119&\":\"&COUNTIF($B$2:B31119,B31119)","v":"HLCUSS5230216147:4"},"HLCUSS5230216147","HAMU1294901","HLCUSS5230216147","40 Dry","PKKHI",605457,"2023-05-14","2023-05-28",286,"BL"]
[{"$f":"B31128&\":\"&COUNTIF($B$2:B31128,B31128)","v":"HLCUSS5230216147:13"},"HLCUSS5230216147","HLXU6517461","HLCUSS5230216147","40 Dry","PKKHI",605457,"2023-05-14","2023-05-28",286,"BL"]
[{"$f":"B31145&\":\"&COUNTIF($B$2:B31145,B31145)","v":"HLCUME3230227750:1"},"HLCUME3230227750","CAAU2112170","HLCUME3230227750","20 Dry","PKKHI",605457,"2023-05-14","2023-05-18",286,"SW"]
[{"$f":"B31167&\":\"&COUNTIF($B$2:B31167,B31167)","v":"HLCUALY230417120:1"},"HLCUALY230417120","FBIU0449290","HLCUALY230417120","20 Dry","PKKHI",605457,"2023-05-13","2023-05-17",286,"BL"]
[{"$f":"B31178&\":\"&COUNTIF($B$2:B31178,B31178)","v":"HLCURJ2230303436:5"},"HLCURJ2230303436","SEKU6414660","HLCURJ2230303436","40 Dry","PKKHI",605457,"2023-05-13","2023-05-26",286,"BL"]
[{"$f":"B31199&\":\"&COUNTIF($B$2:B31199,B31199)","v":"HLCUBC1230357956:1"},"HLCUBC1230357956","UACU8177807","HLCUBC1230357956","40 Dry","PKKHI",605457,"2023-05-14","2023-05-27",286,"BL"]
[{"$f":"B31211&\":\"&COUNTIF($B$2:B31211,B31211)","v":"HLCUGOA230464730:1"},"HLCUGOA230464730","UACU8544224","HLCUGOA230464730","40 Dry","PKKHI",605457,"2023-05-13","2023-05-26",286,"BL"]
[{"$f":"B31228&\":\"&COUNTIF($B$2:B31228,B31228)","v":"HLCUIZ1230426720:1"},"HLCUIZ1230426720","TGBU5742883","HLCUIZ1230426720","40 Dry","PKKHI",609381,"2023-05-14","2023-05-18",286,"SW"]
[{"$f":"B31247&\":\"&COUNTIF($B$2:B31247,B31247)","v":"HLCUDX3230505080:5"},"HLCUDX3230505080","FCIU6562134","HLCUDX3230505080","20 Dry","PKKHI",609381,"2023-05-14","2023-06-03",286,"BL"]
[{"$f":"B31261&\":\"&COUNTIF($B$2:B31261,B31261)","v":"HLCUIZ1230413610:4"},"HLCUIZ1230413610","HLBU2685238","HLCUIZ1230413610","40 Dry","PKKHI",609381,"2023-05-14","2023-05-27",286,"SW"]
[{"$f":"B31278&\":\"&COUNTIF($B$2:B31278,B31278)","v":"HLCUDX3230500634:3"},"HLCUDX3230500634","BMOU4642021","HLCUDX3230500634","40 Dry","PKKHI",609381,"2023-05-13","2023-06-02",286,"BL"]
[{"$f":"B31295&\":\"&COUNTIF($B$2:B31295,B31295)","v":"HLCUDOH230403050:3"},"HLCUDOH230403050","HLXU8568241","HLCUDOH230403050","40 Dry","PKKHI",609381,"2023-05-14","2023-06-03",286,"BL"]
[{"$f":"B31311&\":\"&COUNTIF($B$2:B31311,B31311)","v":"HLCUDX3230502176:3"},"HLCUDX3230502176","HLBU1168400","HLCUDX3230502176","40 Dry","PKKHI",609381,"2023-05-14","2023-06-03",286,"BL"]
[{"$f":"B31328&\":\"&COUNTIF($B$2:B31328,B31328)","v":"HLCUDX3230505119:4"},"HLCUDX3230505119","CAIU2677219","HLCUDX3230505119","20 Dry","PKKHI",609381,"2023-05-14","2023-06-03",286,"BL"]
[{"$f":"B31343&\":\"&COUNTIF($B$2:B31343,B31343)","v":"HLCUDX3230506166:8"},"HLCUDX3230506166","TXGU7165823","HLCUDX3230506166","40 Dry","PKKHI",609381,"2023-05-14","2023-06-03",286,"BL"]
[{"$f":"B31361&\":\"&COUNTIF($B$2:B31361,B31361)","v":"HLCUDX3230502198:2"},"HLCUDX3230502198","FANU1554868","HLCUDX3230502198","40 Dry","PKKHI",609381,"2023-05-13","2023-06-02",286,"BL"]
[{"$f":"B31375&\":\"&COUNTIF($B$2:B31375,B31375)","v":"HLCUANR230418160:2"},"HLCUANR230418160","SDNU1016688","HLCUANR230418160","40 Special","PKKHI",609648,"2023-05-13","",286,"SW"]
[{"$f":"B31378&\":\"&COUNTIF($B$2:B31378,B31378)","v":"HLCUANR230379777:1"},"HLCUANR230379777","TCLU8212262","HLCUANR230379777","40 Dry","PKKHI",609648,"2023-05-14","2023-05-27",286,"BL"]
[{"$f":"B31395&\":\"&COUNTIF($B$2:B31395,B31395)","v":"HLCUMTR230407060:1"},"HLCUMTR230407060","TGHU9458096","HLCUMTR230407060","40 Dry","PKBQM",612090,"2023-05-15","2023-05-26",286,"SW"]
[{"$f":"B31423&\":\"&COUNTIF($B$2:B31423,B31423)","v":"HLCUBSC230495188:2"},"HLCUBSC230495188","GCXU2188878","HLCUBSC230495188","20 Dry","PKBQM",612090,"2023-05-15","2023-05-26",286,"BL"]
[{"$f":"B31428&\":\"&COUNTIF($B$2:B31428,B31428)","v":"HLCUBSC2303BQZY0:4"},"HLCUBSC2303BQZY0","TRHU4956014","HLCUBSC2303BQZY0","40 Dry","PKBQM",612090,"2023-05-15","2023-05-26",286,"SW"]
[{"$f":"B31445&\":\"&COUNTIF($B$2:B31445,B31445)","v":"HLCUBSC230466042:1"},"HLCUBSC230466042","BMOU4262166","HLCUBSC230466042","40 Dry","PKBQM",612090,"2023-05-15","2023-06-04",286,"BL"]
[{"$f":"B31457&\":\"&COUNTIF($B$2:B31457,B31457)","v":"HLCUBSC230415198:1"},"HLCUBSC230415198","FANU1327294","HLCUBSC230415198","40 Dry","PKBQM",612090,"2023-05-15","2023-06-04",286,"BL"]
[{"$f":"B31478&\":\"&COUNTIF($B$2:B31478,B31478)","v":"HLCUBSC230466499:1"},"HLCUBSC230466499","HLXU1102246","HLCUBSC230466499","20 Dry","PKBQM",612090,"2023-05-15","2023-05-26",286,"BL"]
[{"$f":"B31488&\":\"&COUNTIF($B$2:B31488,B31488)","v":"HLCUBSC2304AXIU9:2"},"HLCUBSC2304AXIU9","IKSU9625589","HLCUBSC2304AXIU9","40 Dry","PKBQM",612090,"2023-05-15","2023-05-26",286,"BL"]
[{"$f":"B31511&\":\"&COUNTIF($B$2:B31511,B31511)","v":"HLCUBSC230484810:5"},"HLCUBSC230484810","HLBU1921391","HLCUBSC230484810","40 Dry","PKBQM",612090,"2023-05-15","2023-05-26",286,"BL"]
[{"$f":"B31528&\":\"&COUNTIF($B$2:B31528,B31528)","v":"HLCUBSC230480484:1"},"HLCUBSC230480484","CAIU2694495","HLCUBSC230480484","20 Dry","PKBQM",612090,"2023-05-15","2023-05-26",286,"BL"]
[{"$f":"B31536&\":\"&COUNTIF($B$2:B31536,B31536)","v":"HLCUSYD230244168:2"},"HLCUSYD230244168","UASU1000149","HLCUSYD230244168","40 Dry","PKKHI",609530,"2023-05-18","2023-05-31",293,"SW"]
[{"$f":"B31561&\":\"&COUNTIF($B$2:B31561,B31561)","v":"HLCUTOR230325128:5"},"HLCUTOR230325128","CAIU4260482","HLCUTOR230325128","40 Dry","PKKHI",609530,"2023-05-18","2023-05-29",293,"BL"]
[{"$f":"B31578&\":\"&COUNTIF($B$2:B31578,B31578)","v":"HLCUTOR230330533:1"},"HLCUTOR230330533","HLBU1925268","HLCUTOR230330533","40 Dry","PKKHI",609530,"2023-05-18","2023-05-29",293,"SW"]
[{"$f":"B31585&\":\"&COUNTIF($B$2:B31585,B31585)","v":"HLCUTOR230311259:1"},"HLCUTOR230311259","HLBU3132480","HLCUTOR230311259","40 Dry","PKKHI",609530,"2023-05-18","2023-05-29",293,"SW"]
[{"$f":"B31611&\":\"&COUNTIF($B$2:B31611,B31611)","v":"HLCUHAM2303BBES3:1"},"HLCUHAM2303BBES3","UACU8560652","HLCUHAM2303BBES3","40 Dry","PKKHI",609530,"2023-05-18","2023-05-31",293,"BL"]
[{"$f":"B31616&\":\"&COUNTIF($B$2:B31616,B31616)","v":"HLCUDX3230511400:2"},"HLCUDX3230511400","CAIU8462347","HLCUDX3230511400","40 Dry","PKKHI",609530,"2023-05-18","2023-06-07",293,"BL"]
[{"$f":"B31628&\":\"&COUNTIF($B$2:B31628,B31628)","v":"HLCUHAM2303APMT1:10"},"HLCUHAM2303APMT1","HLXU3691973","HLCUHAM2303APMT1","20 Special","PKKHI",609530,"2023-05-18","2023-05-31",293,"SW"]
[{"$f":"B31645&\":\"&COUNTIF($B$2:B31645,B31645)","v":"HLCUANR230418774:1"},"HLCUANR230418774","HLXU1266830","HLCUANR230418774","20 Dry","PKKHI",609530,"2023-05-18","2023-06-07",293,"BL"]
[{"$f":"B31664&\":\"&COUNTIF($B$2:B31664,B31664)","v":"HLCUBEL230304620:1"},"HLCUBEL230304620","TCLU1041260","HLCUBEL230304620","40 Reefer","PKKHI",609530,"2023-05-18","2023-05-24",293,"BL"]
[{"$f":"B31678&\":\"&COUNTIF($B$2:B31678,B31678)","v":"HLCUDX3230510100:3"},"HLCUDX3230510100","TCLU5693246","HLCUDX3230510100","40 Dry","PKKHI",609530,"2023-05-18","2023-06-07",293,"BL"]
[{"$f":"B31695&\":\"&COUNTIF($B$2:B31695,B31695)","v":"HLCUIZ1230371044:1"},"HLCUIZ1230371044","HLBU2020382","HLCUIZ1230371044","40 Dry","PKKHI",609530,"2023-05-18","2023-05-31",293,"SW"]
[{"$f":"B31713&\":\"&COUNTIF($B$2:B31713,B31713)","v":"HLCUKW3230401677:7"},"HLCUKW3230401677","FANU3086920","HLCUKW3230401677","40 Dry","PKKHI",609530,"2023-05-18","2023-06-07",293,"BL"]
[{"$f":"B31728&\":\"&COUNTIF($B$2:B31728,B31728)","v":"HLCUAB1230310110:4"},"HLCUAB1230310110","FSCU8940839","HLCUAB1230310110","40 Dry","PKKHI",609530,"2023-05-18","2023-05-31",293,"BL"]
[{"$f":"B31744&\":\"&COUNTIF($B$2:B31744,B31744)","v":"HLCUBSC2303BPTA4:1"},"HLCUBSC2303BPTA4","TEMU1302016","HLCUBSC2303BPTA4","20 Dry","PKBQM",299691,"2023-05-18","2023-05-31",293,"BL"]
[{"$f":"B31761&\":\"&COUNTIF($B$2:B31761,B31761)","v":"HLCUMTR230401812:1"},"HLCUMTR230401812","HLBU1856470","HLCUMTR230401812","40 Dry","PKBQM",299691,"2023-05-18","2023-05-29",293,"BL"]
[{"$f":"B31778&\":\"&COUNTIF($B$2:B31778,B31778)","v":"HLCUBSC230401135:4"},"HLCUBSC230401135","HLBU2086306","HLCUBSC230401135","40 Dry","PKBQM",299691,"2023-05-18","2023-05-22",293,"BL"]
[{"$f":"B31793&\":\"&COUNTIF($B$2:B31793,B31793)","v":"HLCUBSC230404301:1"},"HLCUBSC230404301","FCIU7609344","HLCUBSC230404301","40 Dry","PKBQM",299691,"2023-05-18","2023-06-07",293,"BL"]
[{"$f":"B31811&\":\"&COUNTIF($B$2:B31811,B31811)","v":"HLCUBSC230404758:3"},"HLCUBSC230404758","TCLU2820476","HLCUBSC230404758","20 Dry","PKBQM",299691,"2023-05-18","2023-05-29",293,"BL"]
[{"$f":"B31828&\":\"&COUNTIF($B$2:B31828,B31828)","v":"HLCUBSC2303BFPW5:1"},"HLCUBSC2303BFPW5","HLXU1259805","HLCUBSC2303BFPW5","20 Dry","PKBQM",299691,"2023-05-18","2023-05-31",293,"BL"]
[{"$f":"B31841&\":\"&COUNTIF($B$2:B31841,B31841)","v":"HLCUBSC230444870:2"},"HLCUBSC230444870","HLBU3240150","HLCUBSC230444870","40 Dry","PKBQM",299691,"2023-05-18","2023-06-07",293,"SW"]
[{"$f":"B31861&\":\"&COUNTIF($B$2:B31861,B31861)","v":"HLCUBSC2303BJQV0:1"},"HLCUBSC2303BJQV0","UACU5185590","HLCUBSC2303BJQV0","40 Dry","PKBQM",299691,"2023-05-18","2023-06-07",293,"BL"]
[{"$f":"B31872&\":\"&COUNTIF($B$2:B31872,B31872)","v":"HLCUTOR230327295:1"},"HLCUTOR230327295","FFAU2648227","HLCUTOR230327295","40 Dry","PKBQM",299691,"2023-05-18","2023-05-29",293,"BL"]
[{"$f":"B31878&\":\"&COUNTIF($B$2:B31878,B31878)","v":"HLCUJE2230413400:1"},"HLCUJE2230413400","HLXU8223907","HLCUJE2230413400","40 Dry","PKBQM",299691,"2023-05-18","2023-05-31",293,"SW"]
[{"$f":"B31895&\":\"&COUNTIF($B$2:B31895,B31895)","v":"HLCUTOR230327017:1"},"HLCUTOR230327017","UETU2739440","HLCUTOR230327017","20 Dry","PKBQM",299691,"2023-05-18","2023-05-29",293,"SW"]
[{"$f":"B31921&\":\"&COUNTIF($B$2:B31921,B31921)","v":"HLCUJE2230405063:4"},"HLCUJE2230405063","HLBU2098143","HLCUJE2230405063","40 Dry","PKBQM",299691,"2023-05-18","2023-06-07",293,"BL"]
[{"$f":"B31928&\":\"&COUNTIF($B$2:B31928,B31928)","v":"HLCUCPH230308520:6"},"HLCUCPH230308520","HLXU1349350","HLCUCPH230308520","20 Dry","PKBQM",299691,"2023-05-18","2023-05-31",293,"BL"]
[{"$f":"B31945&\":\"&COUNTIF($B$2:B31945,B31945)","v":"HLCUGOA230483785:1"},"HLCUGOA230483785","CAAU5680912","HLCUGOA230483785","40 Dry","PKBQM",607109,"2023-05-18","2023-05-31",294,"BL"]
[{"$f":"B31969&\":\"&COUNTIF($B$2:B31969,B31969)","v":"HLCUBC1230349280:3"},"HLCUBC1230349280","GCXU5106868","HLCUBC1230349280","40 Dry","PKBQM",607109,"2023-05-18","2023-05-31",294,"BL"]
[{"$f":"B31978&\":\"&COUNTIF($B$2:B31978,B31978)","v":"HLCUGOA230444961:2"},"HLCUGOA230444961","FANU1833142","HLCUGOA230444961","40 Dry","PKBQM",607109,"2023-05-18","2023-05-31",294,"BL"]
[{"$f":"B32000&\":\"&COUNTIF($B$2:B32000,B32000)","v":"HLCUBSC230464109:18"},"HLCUBSC230464109","UACU4119145","HLCUBSC230464109","20 Dry","PKBQM",605030,"2023-05-19","2023-06-01",294,"BL"]
[{"$f":"B32011&\":\"&COUNTIF($B$2:B32011,B32011)","v":"HLCUBSC2304AWEG0:1"},"HLCUBSC2304AWEG0","GCXU5951432","HLCUBSC2304AWEG0","40 Dry","PKBQM",605030,"2023-05-19","2023-06-08",294,"BL"]
[{"$f":"B32028&\":\"&COUNTIF($B$2:B32028,B32028)","v":"HLCUBSC2304ATXV0:1"},"HLCUBSC2304ATXV0","FCIU6645250","HLCUBSC2304ATXV0","20 Dry","PKBQM",605030,"2023-05-19","2023-05-30",294,"BL"]
[{"$f":"B32034&\":\"&COUNTIF($B$2:B32034,B32034)","v":"HLCUBSC2304ATTY5:1"},"HLCUBSC2304ATTY5","HLBU2805740","HLCUBSC2304ATTY5","40 Dry","PKBQM",605030,"2023-05-20","2023-05-31",294,"SW"]
[{"$f":"B32061&\":\"&COUNTIF($B$2:B32061,B32061)","v":"HLCUBSC2304AVTM1:1"},"HLCUBSC2304AVTM1","HLBU1678390","HLCUBSC2304AVTM1","40 Dry","PKBQM",605030,"2023-05-19","2023-06-08",294,"BL"]
[{"$f":"B32078&\":\"&COUNTIF($B$2:B32078,B32078)","v":"HLCUBSC230485890:10"},"HLCUBSC230485890","HAMU1198831","HLCUBSC230485890","40 Dry","PKBQM",605030,"2023-05-19","2023-06-08",294,"BL"]
[{"$f":"B32082&\":\"&COUNTIF($B$2:B32082,B32082)","v":"HLCUBSC230485890:14"},"HLCUBSC230485890","FDCU0143655","HLCUBSC230485890","40 Dry","PKBQM",605030,"2023-05-19","2023-06-08",294,"BL"]
[{"$f":"B32111&\":\"&COUNTIF($B$2:B32111,B32111)","v":"HLCUBSC2303BJQM1:1"},"HLCUBSC2303BJQM1","HLBU3353259","HLCUBSC2303BJQM1","40 Dry","PKBQM",605030,"2023-05-20","2023-06-09",294,"SW"]
[{"$f":"B32114&\":\"&COUNTIF($B$2:B32114,B32114)","v":"HLCUTOR230412925:1"},"HLCUTOR230412925","FANU1136261","HLCUTOR230412925","40 Dry","PKBQM",605030,"2023-05-19","2023-05-30",294,"SW"]
[{"$f":"B32128&\":\"&COUNTIF($B$2:B32128,B32128)","v":"HLCUBSC2304AQUG4:5"},"HLCUBSC2304AQUG4","TCLU2005247","HLCUBSC2304AQUG4","20 Dry","PKBQM",605030,"2023-05-19","2023-05-30",294,"BL"]
[{"$f":"B32145&\":\"&COUNTIF($B$2:B32145,B32145)","v":"HLCUBSC2303BEUF2:1"},"HLCUBSC2303BEUF2","HLXU8554931","HLCUBSC2303BEUF2","40 Dry","PKBQM",605030,"2023-05-19","2023-05-30",294,"BL"]
[{"$f":"B32162&\":\"&COUNTIF($B$2:B32162,B32162)","v":"HLCUHAM2303BIXQ5:1"},"HLCUHAM2303BIXQ5","UACU3857695","HLCUHAM2303BIXQ5","20 Dry","PKKHI",609628,"2023-05-21","2023-06-03",294,"BL"]
[{"$f":"B32178&\":\"&COUNTIF($B$2:B32178,B32178)","v":"HLCURTM230362643:3"},"HLCURTM230362643","EXFU0703657","HLCURTM230362643","20 Special","PKKHI",609628,"2023-05-20","",294,"SW"]
[{"$f":"B32195&\":\"&COUNTIF($B$2:B32195,B32195)","v":"HLCUIZ1230350122:7"},"HLCUIZ1230350122","UACU5834451","HLCUIZ1230350122","40 Dry","PKKHI",609628,"2023-05-21","2023-05-25",294,"BL"]
[{"$f":"B32210&\":\"&COUNTIF($B$2:B32210,B32210)","v":"HLCUIZ12303APED5:9"},"HLCUIZ12303APED5","FANU1262423","HLCUIZ12303APED5","40 Dry","PKKHI",609628,"2023-05-21","2023-06-03",294,"BL"]
[{"$f":"B32228&\":\"&COUNTIF($B$2:B32228,B32228)","v":"HLCUDX3230513968:4"},"HLCUDX3230513968","SEKU6367297","HLCUDX3230513968","40 Dry","PKKHI",609652,"2023-05-21","2023-06-10",287,"BL","2023-05-20"]
[{"$f":"B32242&\":\"&COUNTIF($B$2:B32242,B32242)","v":"HLCUHAM2303BIXQ5:17"},"HLCUHAM2303BIXQ5","TCLU2855805","HLCUHAM2303BIXQ5","20 Dry","PKKHI",609628,"2023-05-21","2023-06-03",294,"BL"]
[{"$f":"B32261&\":\"&COUNTIF($B$2:B32261,B32261)","v":"HLCUHAM2303BHVS3:2"},"HLCUHAM2303BHVS3","UETU2293342","HLCUHAM2303BHVS3","20 Dry","PKKHI",609628,"2023-05-21","2023-06-03",294,"SW"]
[{"$f":"B32278&\":\"&COUNTIF($B$2:B32278,B32278)","v":"HLCUIZ12303APED5:13"},"HLCUIZ12303APED5","HLXU8041142","HLCUIZ12303APED5","40 Dry","PKKHI",609628,"2023-05-21","2023-06-03",294,"BL"]
[{"$f":"B32290&\":\"&COUNTIF($B$2:B32290,B32290)","v":"HLCUIZ1230332465:12"},"HLCUIZ1230332465","UETU5249066","HLCUIZ1230332465","40 Dry","PKKHI",609628,"2023-05-21","2023-06-03",294,"BL"]
[{"$f":"B32311&\":\"&COUNTIF($B$2:B32311,B32311)","v":"HLCUDA3230400493:2"},"HLCUDA3230400493","HLBU2565269","HLCUDA3230400493","40 Dry","PKKHI",609370,"2023-05-22","2023-06-11",294,"SW"]
[{"$f":"B32328&\":\"&COUNTIF($B$2:B32328,B32328)","v":"HLCUDX3230511783:7"},"HLCUDX3230511783","TGBU5939527","HLCUDX3230511783","40 Dry","PKKHI",609370,"2023-05-21","2023-06-10",294,"BL"]
[{"$f":"B32338&\":\"&COUNTIF($B$2:B32338,B32338)","v":"HLCUDA3230302742:2"},"HLCUDA3230302742","HLXU3505791","HLCUDA3230302742","20 Dry","PKKHI",609370,"2023-05-22","2023-06-08",294,"BL"]
[{"$f":"B32361&\":\"&COUNTIF($B$2:B32361,B32361)","v":"HLCUKW3230401538:2"},"HLCUKW3230401538","HLBU3279790","HLCUKW3230401538","40 Dry","PKKHI",609370,"2023-05-21","2023-06-10",294,"BL"]
[{"$f":"B32370&\":\"&COUNTIF($B$2:B32370,B32370)","v":"HLCUKW3230500259:6"},"HLCUKW3230500259","FSCU8076357","HLCUKW3230500259","40 Dry","PKKHI",609370,"2023-05-21","2023-06-10",294,"BL"]
[{"$f":"B32378&\":\"&COUNTIF($B$2:B32378,B32378)","v":"HLCUDM2230408146:1"},"HLCUDM2230408146","HLBU2871675","HLCUDM2230408146","40 Dry","PKKHI",609370,"2023-05-21","2023-06-10",294,"SW"]
[{"$f":"B32395&\":\"&COUNTIF($B$2:B32395,B32395)","v":"HLCUDX3230514927:1"},"HLCUDX3230514927","HLXU8024145","HLCUDX3230514927","40 Dry","PKKHI",609370,"2023-05-21","2023-06-03",294,"BL"]
[{"$f":"B32418&\":\"&COUNTIF($B$2:B32418,B32418)","v":"HLCUKW3230500260:1"},"HLCUKW3230500260","HLBU3200671","HLCUKW3230500260","40 Dry","PKKHI",609370,"2023-05-21","2023-06-10",294,"BL"]
[{"$f":"B32428&\":\"&COUNTIF($B$2:B32428,B32428)","v":"HLCUDX3230527223:7"},"HLCUDX3230527223","HLBU2881478","HLCUDX3230527223","40 Dry","PKKHI",609370,"2023-05-21","2023-06-19",294,"SW"]
[{"$f":"B32445&\":\"&COUNTIF($B$2:B32445,B32445)","v":"HLCUDX3230527223:24"},"HLCUDX3230527223","CAAU5570577","HLCUDX3230527223","40 Dry","PKKHI",609370,"2023-05-21","2023-06-19",294,"SW"]
[{"$f":"B32466&\":\"&COUNTIF($B$2:B32466,B32466)","v":"HLCUDX3230501882:1"},"HLCUDX3230501882","TLLU2448752","HLCUDX3230501882","20 Dry","PKKHI",609370,"2023-05-21","2023-06-10",294,"BL"]
[{"$f":"B32478&\":\"&COUNTIF($B$2:B32478,B32478)","v":"HLCUDM2230406944:2"},"HLCUDM2230406944","GESU3921831","HLCUDM2230406944","20 Dry","PKKHI",609370,"2023-05-21","2023-06-10",294,"BL"]
[{"$f":"B32498&\":\"&COUNTIF($B$2:B32498,B32498)","v":"HLCUDX3230525780:1"},"HLCUDX3230525780","SEAU2252371","HLCUDX3230525780","20 Special","PKKHI",609370,"","",294,"BL"]
[{"$f":"B32511&\":\"&COUNTIF($B$2:B32511,B32511)","v":"HLCUDX3230505923:1"},"HLCUDX3230505923","HLBU3444678","HLCUDX3230505923","40 Dry","PKKHI",609370,"2023-05-21","2023-06-10",294,"BL"]
[{"$f":"B32528&\":\"&COUNTIF($B$2:B32528,B32528)","v":"HLCUDA3230302804:5"},"HLCUDA3230302804","HLBU3447424","HLCUDA3230302804","40 Dry","PKKHI",609370,"2023-05-22","2023-06-11",294,"BL"]
[{"$f":"B32546&\":\"&COUNTIF($B$2:B32546,B32546)","v":"HLCUDX3230508585:1"},"HLCUDX3230508585","HLBU3317499","HLCUDX3230508585","40 Dry","PKKHI",609370,"2023-05-22","2023-06-11",294,"SW"]
[{"$f":"B32561&\":\"&COUNTIF($B$2:B32561,B32561)","v":"HLCUBSC230497161:2"},"HLCUBSC230497161","FCIU6596690","HLCUBSC230497161","20 Dry","PKBQM",990949,"2023-05-22","2023-06-02",287,"SW"]
[{"$f":"B32578&\":\"&COUNTIF($B$2:B32578,B32578)","v":"HLCUDA3230303500:1"},"HLCUDA3230303500","CAIU2622279","HLCUDA3230303500","20 Dry","PKBQM",990949,"2023-05-22","2023-06-04",287,"BL"]
[{"$f":"B32594&\":\"&COUNTIF($B$2:B32594,B32594)","v":"HLCUME3230248840:2"},"HLCUME3230248840","HLBU2061268","HLCUME3230248840","40 Dry","PKKHI",605459,"2023-05-24","2023-06-13",287,"BL"]
[{"$f":"B32611&\":\"&COUNTIF($B$2:B32611,B32611)","v":"HLCUME3230243751:3"},"HLCUME3230243751","FSCU7154537","HLCUME3230243751","40 Dry","PKKHI",605459,"2023-05-24","2023-06-13",287,"BL"]
[{"$f":"B32626&\":\"&COUNTIF($B$2:B32626,B32626)","v":"HLCUBSC2303BCYY3:1"},"HLCUBSC2303BCYY3","HLBU3419459","HLCUBSC2303BCYY3","40 Dry","PKKHI",605459,"2023-05-24","2023-06-13",287,"BL"]
[{"$f":"B32628&\":\"&COUNTIF($B$2:B32628,B32628)","v":"HLCUME3230241661:1"},"HLCUME3230241661","UACU5571519","HLCUME3230241661","40 Dry","PKKHI",605459,"2023-05-24","2023-06-13",287,"BL"]
[{"$f":"B32645&\":\"&COUNTIF($B$2:B32645,B32645)","v":"HLCUME3230212157:10"},"HLCUME3230212157","HLBU2147783","HLCUME3230212157","40 Dry","PKKHI",605459,"2023-05-24","2023-06-13",287,"BL"]
[{"$f":"B32659&\":\"&COUNTIF($B$2:B32659,B32659)","v":"HLCUVL1230404466:1"},"HLCUVL1230404466","HLBU2725120","HLCUVL1230404466","40 Dry","PKKHI",605459,"2023-05-24","2023-06-06",287,"BL"]
[{"$f":"B32678&\":\"&COUNTIF($B$2:B32678,B32678)","v":"HLCUIZ12303APDV8:9"},"HLCUIZ12303APDV8","GCXU5167879","HLCUIZ12303APDV8","40 Dry","PKKHI",605459,"2023-05-24","2023-06-06",287,"BL"]
[{"$f":"B32695&\":\"&COUNTIF($B$2:B32695,B32695)","v":"HLCUALY230428470:2"},"HLCUALY230428470","HLXU3529480","HLCUALY230428470","20 Dry","PKKHI",605459,"2023-05-25","2023-06-07",287,"BL"]
[{"$f":"B32707&\":\"&COUNTIF($B$2:B32707,B32707)","v":"HLCUALY230422389:1"},"HLCUALY230422389","HLXU1179119","HLCUALY230422389","20 Dry","PKKHI",605459,"2023-05-25","2023-06-07",287,"BL"]
[{"$f":"B32728&\":\"&COUNTIF($B$2:B32728,B32728)","v":"HLCUBSC230455584:5"},"HLCUBSC230455584","HLXU8465109","HLCUBSC230455584","40 Dry","PKBQM",299693,"2023-05-25","2023-06-05",288,"BL"]
[{"$f":"B32739&\":\"&COUNTIF($B$2:B32739,B32739)","v":"HLCUBSC230427463:1"},"HLCUBSC230427463","FANU1611356","HLCUBSC230427463","40 Dry","PKBQM",299693,"2023-05-25","2023-06-14",288,"BL"]
[{"$f":"B32761&\":\"&COUNTIF($B$2:B32761,B32761)","v":"HLCUBSC230450335:4"},"HLCUBSC230450335","TCLU2653609","HLCUBSC230450335","20 Dry","PKBQM",299693,"2023-05-25","2023-06-07",288,"BL"]
[{"$f":"B32778&\":\"&COUNTIF($B$2:B32778,B32778)","v":"HLCUBSC230428678:1"},"HLCUBSC230428678","TLLU5366540","HLCUBSC230428678","40 Dry","PKBQM",299693,"2023-05-25","2023-06-05",288,"BL"]
[{"$f":"B32787&\":\"&COUNTIF($B$2:B32787,B32787)","v":"HLCUTOR230411520:1"},"HLCUTOR230411520","FANU3103061","HLCUTOR230411520","40 Dry","PKBQM",299693,"2023-05-25","2023-06-05",288,"BL"]
[{"$f":"B32811&\":\"&COUNTIF($B$2:B32811,B32811)","v":"HLCUBSC230493584:1"},"HLCUBSC230493584","UETU2781460","HLCUBSC230493584","20 Dry","PKBQM",299693,"2023-05-25","2023-06-05",288,"BL"]
[{"$f":"B32828&\":\"&COUNTIF($B$2:B32828,B32828)","v":"HLCUBSC2303BXRL0:2"},"HLCUBSC2303BXRL0","SEGU1571003","HLCUBSC2303BXRL0","20 Dry","PKBQM",299693,"2023-05-25","2023-06-05",288,"SW"]
[{"$f":"B32835&\":\"&COUNTIF($B$2:B32835,B32835)","v":"HLCUMTR230412241:1"},"HLCUMTR230412241","GESU6317912","HLCUMTR230412241","40 Dry","PKBQM",299693,"2023-05-25","2023-06-03",288,"BL"]
[{"$f":"B32861&\":\"&COUNTIF($B$2:B32861,B32861)","v":"HLCUBSC2304BHSJ1:1"},"HLCUBSC2304BHSJ1","HLXU8045600","HLCUBSC2304BHSJ1","40 Dry","PKBQM",605032,"2023-05-26","2023-06-06",287,"SW"]
[{"$f":"B32867&\":\"&COUNTIF($B$2:B32867,B32867)","v":"HLCUVAN230404766:1"},"HLCUVAN230404766","PCIU9411595","HLCUVAN230404766","40 Dry","PKBQM",605032,"2023-05-26","2023-06-06",287,"SW"]
[{"$f":"B32878&\":\"&COUNTIF($B$2:B32878,B32878)","v":"HLCUTOR230426290:6"},"HLCUTOR230426290","UACU5307759","HLCUTOR230426290","40 Dry","PKBQM",605032,"2023-05-26","2023-06-06",287,"BL"]
[{"$f":"B32895&\":\"&COUNTIF($B$2:B32895,B32895)","v":"HLCUBSC2304BLLU8:2"},"HLCUBSC2304BLLU8","UACU8481580","HLCUBSC2304BLLU8","40 Dry","PKBQM",605032,"2023-05-26","2023-06-08",287,"BL"]
[{"$f":"B32915&\":\"&COUNTIF($B$2:B32915,B32915)","v":"HLCUBSC2304BLSJ5:15"},"HLCUBSC2304BLSJ5","HLBU2428287","HLCUBSC2304BLSJ5","40 Dry","PKBQM",605032,"2023-05-26","2023-06-15",287,"BL"]
[{"$f":"B32928&\":\"&COUNTIF($B$2:B32928,B32928)","v":"HLCUBSC2304ASSY7:1"},"HLCUBSC2304ASSY7","DRYU9635047","HLCUBSC2304ASSY7","40 Dry","PKBQM",605032,"2023-05-26","2023-06-15",287,"SW"]
[{"$f":"B32945&\":\"&COUNTIF($B$2:B32945,B32945)","v":"HLCUBSC2304BFXP5:2"},"HLCUBSC2304BFXP5","TCNU3765025","HLCUBSC2304BFXP5","40 Dry","PKBQM",605032,"2023-05-26","2023-06-08",287,"BL"]
[{"$f":"B32963&\":\"&COUNTIF($B$2:B32963,B32963)","v":"HLCUBSC2304BAAF7:1"},"HLCUBSC2304BAAF7","HLXU8015523","HLCUBSC2304BAAF7","40 Dry","PKBQM",605032,"2023-05-26","2023-06-13",287,"BL"]
[{"$f":"B32978&\":\"&COUNTIF($B$2:B32978,B32978)","v":"HLCUBSC2304AWIS4:2"},"HLCUBSC2304AWIS4","HAMU1066727","HLCUBSC2304AWIS4","20 Dry","PKBQM",995928,"2023-05-27","2023-06-07",287,"BL"]
[{"$f":"B32995&\":\"&COUNTIF($B$2:B32995,B32995)","v":"HLCUGOA230461268:2"},"HLCUGOA230461268","BSIU9644547","HLCUGOA230461268","40 Dry","PKBQM",995928,"2023-05-27","2023-06-09",287,"BL"]
[{"$f":"B33011&\":\"&COUNTIF($B$2:B33011,B33011)","v":"HLCUIZ12304APEM2:4"},"HLCUIZ12304APEM2","HLBU1860130","HLCUIZ12304APEM2","40 Dry","PKBQM",995928,"2023-05-27","2023-06-25",287,"SW"]
[{"$f":"B33028&\":\"&COUNTIF($B$2:B33028,B33028)","v":"HLCUALY230502290:1"},"HLCUALY230502290","HLBU1301220","HLCUALY230502290","40 Dry","PKKHI",609630,"2023-05-28","2023-06-08",287,"SW"]
[{"$f":"B33043&\":\"&COUNTIF($B$2:B33043,B33043)","v":"HLCURTM230446047:1"},"HLCURTM230446047","UACU8604410","HLCURTM230446047","40 Dry","PKKHI",609630,"2023-05-28","2023-06-01",287,"BL"]
[{"$f":"B33061&\":\"&COUNTIF($B$2:B33061,B33061)","v":"HLCUDX3230522486:4"},"HLCUDX3230522486","UACU3661552","HLCUDX3230522486","20 Dry","PKKHI",609654,"2023-05-28","2023-06-17",287,"BL"]
[{"$f":"B33078&\":\"&COUNTIF($B$2:B33078,B33078)","v":"HLCUANR230429327:2"},"HLCUANR230429327","SZLU9171774","HLCUANR230429327","40 Reefer","PKKHI",609630,"2023-05-28","2023-06-10",287,"BL"]
[{"$f":"B33091&\":\"&COUNTIF($B$2:B33091,B33091)","v":"HLCULE1230464978:2"},"HLCULE1230464978","HLXU3736213","HLCULE1230464978","20 Reefer","PKKHI",609630,"2023-05-28","2023-05-30",287,"SW"]
[{"$f":"B33111&\":\"&COUNTIF($B$2:B33111,B33111)","v":"HLCUDX3230522526:9"},"HLCUDX3230522526","CAIU6595401","HLCUDX3230522526","20 Dry","PKKHI",609654,"2023-05-28","2023-06-17",287,"BL"]
[{"$f":"B33123&\":\"&COUNTIF($B$2:B33123,B33123)","v":"HLCUME3230378562:1"},"HLCUME3230378562","HLBU2832323","HLCUME3230378562","40 Dry","PKKHI",609372,"2023-06-01","2023-06-21",289,"BL"]
[{"$f":"B33128&\":\"&COUNTIF($B$2:B33128,B33128)","v":"HLCUME3230374539:1"},"HLCUME3230374539","BEAU4555684","HLCUME3230374539","40 Dry","PKKHI",609372,"2023-06-01","2023-06-21",289,"BL"]
[{"$f":"B33145&\":\"&COUNTIF($B$2:B33145,B33145)","v":"HLCUKW3230401297:8"},"HLCUKW3230401297","BMOU6603451","HLCUKW3230401297","40 Dry","PKKHI",609372,"2023-06-01","2023-06-21",289,"BL"]
[{"$f":"B33171&\":\"&COUNTIF($B$2:B33171,B33171)","v":"HLCUKW3230500493:2"},"HLCUKW3230500493","TCKU6462521","HLCUKW3230500493","40 Dry","PKKHI",609372,"2023-06-01","2023-06-21",289,"BL"]
[{"$f":"B33178&\":\"&COUNTIF($B$2:B33178,B33178)","v":"HLCUKW3230500500:3"},"HLCUKW3230500500","HAMU1231842","HLCUKW3230500500","40 Dry","PKKHI",609372,"2023-05-31","2023-06-20",289,"BL"]
[{"$f":"B33195&\":\"&COUNTIF($B$2:B33195,B33195)","v":"HLCUDA3230401821:3"},"HLCUDA3230401821","UACU3598974","HLCUDA3230401821","20 Dry","PKKHI",609372,"2023-06-01","2023-06-14",289,"BL"]
[{"$f":"B33219&\":\"&COUNTIF($B$2:B33219,B33219)","v":"HLCUKW3230500376:6"},"HLCUKW3230500376","HLBU2267813","HLCUKW3230500376","40 Dry","PKKHI",609372,"2023-06-01","2023-06-21",289,"BL"]
[{"$f":"B33228&\":\"&COUNTIF($B$2:B33228,B33228)","v":"HLCUKW3230501145:3"},"HLCUKW3230501145","HLBU2117602","HLCUKW3230501145","40 Dry","PKKHI",609372,"2023-06-01","2023-06-21",289,"BL"]
[{"$f":"B33245&\":\"&COUNTIF($B$2:B33245,B33245)","v":"HLCUKW3230500588:2"},"HLCUKW3230500588","UETU5822558","HLCUKW3230500588","40 Dry","PKKHI",609372,"2023-06-01","2023-06-21",289,"BL"]
[{"$f":"B33253&\":\"&COUNTIF($B$2:B33253,B33253)","v":"HLCUDX3230523964:2"},"HLCUDX3230523964","HLBU2051444","HLCUDX3230523964","40 Dry","PKKHI",609372,"2023-06-01","2023-06-21",289,"SW"]
[{"$f":"B33254&\":\"&COUNTIF($B$2:B33254,B33254)","v":"HLCUKW3230500606:1"},"HLCUKW3230500606","HLBU1718996","HLCUKW3230500606","40 Dry","PKKHI",609372,"2023-06-01","2023-06-21",289,"BL"]
[{"$f":"B33255&\":\"&COUNTIF($B$2:B33255,B33255)","v":"HLCUKW3230500606:2"},"HLCUKW3230500606","HLBU1974365","HLCUKW3230500606","40 Dry","PKKHI",609372,"2023-06-01","2023-06-21",289,"BL"]
[{"$f":"B33256&\":\"&COUNTIF($B$2:B33256,B33256)","v":"HLCUKW3230500606:3"},"HLCUKW3230500606","HLBU2095530","HLCUKW3230500606","40 Dry","PKKHI",609372,"2023-06-01","2023-06-21",289,"BL"]
[{"$f":"B33257&\":\"&COUNTIF($B$2:B33257,B33257)","v":"HLCUKW3230500606:4"},"HLCUKW3230500606","FANU1863471","HLCUKW3230500606","40 Dry","PKKHI",609372,"2023-06-01","2023-06-21",289,"BL"]
[{"$f":"B33258&\":\"&COUNTIF($B$2:B33258,B33258)","v":"HLCUKW3230500606:5"},"HLCUKW3230500606","HAMU1205587","HLCUKW3230500606","40 Dry","PKKHI",609372,"2023-06-01","2023-06-21",289,"BL"]
[{"$f":"B33259&\":\"&COUNTIF($B$2:B33259,B33259)","v":"HLCUKW3230500606:6"},"HLCUKW3230500606","FANU3056484","HLCUKW3230500606","40 Dry","PKKHI",609372,"2023-06-01","2023-06-21",289,"BL"]
[{"$f":"B33260&\":\"&COUNTIF($B$2:B33260,B33260)","v":"HLCUKW3230500606:7"},"HLCUKW3230500606","FANU1422373","HLCUKW3230500606","40 Dry","PKKHI",609372,"2023-06-01","2023-06-21",289,"BL"]
[{"$f":"B33261&\":\"&COUNTIF($B$2:B33261,B33261)","v":"HLCUDX3230545918:1"},"HLCUDX3230545918","HLBU9309079","HLCUDX3230545918","40 Reefer","PKKHI",609372,"2023-06-01","2023-06-21",289,"BL"]
[{"$f":"B33262&\":\"&COUNTIF($B$2:B33262,B33262)","v":"HLCUKW3230500712:1"},"HLCUKW3230500712","SEKU6317038","HLCUKW3230500712","40 Dry","PKKHI",609372,"2023-06-01","2023-06-21",289,"BL"]
[{"$f":"B33263&\":\"&COUNTIF($B$2:B33263,B33263)","v":"HLCUKW3230500712:2"},"HLCUKW3230500712","CAAU5680609","HLCUKW3230500712","40 Dry","PKKHI",609372,"2023-06-01","2023-06-21",289,"BL"]
[{"$f":"B33264&\":\"&COUNTIF($B$2:B33264,B33264)","v":"HLCUKW3230500712:3"},"HLCUKW3230500712","BMOU4680778","HLCUKW3230500712","40 Dry","PKKHI",609372,"2023-06-01","2023-06-21",289,"BL"]
[{"$f":"B33265&\":\"&COUNTIF($B$2:B33265,B33265)","v":"HLCUKW3230500712:4"},"HLCUKW3230500712","BEAU4188763","HLCUKW3230500712","40 Dry","PKKHI",609372,"2023-06-01","2023-06-21",289,"BL"]
[{"$f":"B33266&\":\"&COUNTIF($B$2:B33266,B33266)","v":"HLCUKW3230401286:1"},"HLCUKW3230401286","HLBU3120452","HLCUKW3230401286","40 Dry","PKKHI",609372,"2023-06-01","2023-06-21",289,"BL"]
[{"$f":"B33267&\":\"&COUNTIF($B$2:B33267,B33267)","v":"HLCUKW3230401286:2"},"HLCUKW3230401286","SEGU5459624","HLCUKW3230401286","40 Dry","PKKHI",609372,"2023-06-01","2023-06-21",289,"BL"]
[{"$f":"B33268&\":\"&COUNTIF($B$2:B33268,B33268)","v":"HLCUKW3230401286:3"},"HLCUKW3230401286","FANU1812094","HLCUKW3230401286","40 Dry","PKKHI",609372,"2023-06-01","2023-06-21",289,"BL"]
[{"$f":"B33269&\":\"&COUNTIF($B$2:B33269,B33269)","v":"HLCUKW3230401286:4"},"HLCUKW3230401286","HLBU2129835","HLCUKW3230401286","40 Dry","PKKHI",609372,"2023-06-01","2023-06-21",289,"BL"]
[{"$f":"B33270&\":\"&COUNTIF($B$2:B33270,B33270)","v":"HLCUKW3230401286:5"},"HLCUKW3230401286","FSCU7214960","HLCUKW3230401286","40 Dry","PKKHI",609372,"2023-06-01","2023-06-21",289,"BL"]
[{"$f":"B33271&\":\"&COUNTIF($B$2:B33271,B33271)","v":"HLCUKW3230401286:6"},"HLCUKW3230401286","HLBU2099561","HLCUKW3230401286","40 Dry","PKKHI",609372,"2023-06-01","2023-06-21",289,"BL"]
[{"$f":"B33272&\":\"&COUNTIF($B$2:B33272,B33272)","v":"HLCUKW3230401286:7"},"HLCUKW3230401286","FANU1543375","HLCUKW3230401286","40 Dry","PKKHI",609372,"2023-06-01","2023-06-21",289,"BL"]
[{"$f":"B33273&\":\"&COUNTIF($B$2:B33273,B33273)","v":"HLCUKW3230401286:8"},"HLCUKW3230401286","CAIU4299801","HLCUKW3230401286","40 Dry","PKKHI",609372,"2023-06-01","2023-06-21",289,"BL"]
[{"$f":"B33274&\":\"&COUNTIF($B$2:B33274,B33274)","v":"HLCUKW3230401286:9"},"HLCUKW3230401286","FANU1992524","HLCUKW3230401286","40 Dry","PKKHI",609372,"2023-05-31","2023-06-20",289,"BL"]
[{"$f":"B33275&\":\"&COUNTIF($B$2:B33275,B33275)","v":"HLCUKW3230401286:10"},"HLCUKW3230401286","TXGU6827226","HLCUKW3230401286","40 Dry","PKKHI",609372,"2023-06-01","2023-06-21",289,"BL"]
[{"$f":"B33276&\":\"&COUNTIF($B$2:B33276,B33276)","v":"HLCUDX3230534707:1"},"HLCUDX3230534707","UACU2421515","HLCUDX3230534707","20 Special","PKKHI",609372,"2023-06-01","2023-06-14",289,"BL"]
[{"$f":"B33277&\":\"&COUNTIF($B$2:B33277,B33277)","v":"HLCUDX3230534707:2"},"HLCUDX3230534707","HLXU3602322","HLCUDX3230534707","20 Special","PKKHI",609372,"2023-06-01","2023-06-14",289,"BL"]
[{"$f":"B33278&\":\"&COUNTIF($B$2:B33278,B33278)","v":"HLCUDX3230540176:1"},"HLCUDX3230540176","CAXU6487733","HLCUDX3230540176","20 Special","PKKHI",609372,"","",289,"BL"]
[{"$f":"B33279&\":\"&COUNTIF($B$2:B33279,B33279)","v":"HLCUDX3230540176:2"},"HLCUDX3230540176","CLHU2900425","HLCUDX3230540176","20 Special","PKKHI",609372,"","",289,"BL"]
[{"$f":"B33280&\":\"&COUNTIF($B$2:B33280,B33280)","v":"HLCUDX3230540176:3"},"HLCUDX3230540176","EMKU7887763","HLCUDX3230540176","20 Special","PKKHI",609372,"","",289,"BL"]
[{"$f":"B33281&\":\"&COUNTIF($B$2:B33281,B33281)","v":"HLCUDX3230540176:4"},"HLCUDX3230540176","FCIU2540970","HLCUDX3230540176","20 Dry","PKKHI",609372,"","",289,"BL"]
[{"$f":"B33282&\":\"&COUNTIF($B$2:B33282,B33282)","v":"HLCUDX3230540176:5"},"HLCUDX3230540176","FCIU2702578","HLCUDX3230540176","20 Special","PKKHI",609372,"","",289,"BL"]
[{"$f":"B33283&\":\"&COUNTIF($B$2:B33283,B33283)","v":"HLCUDX3230540176:6"},"HLCUDX3230540176","FCIU2924050","HLCUDX3230540176","20 Special","PKKHI",609372,"","",289,"BL"]
[{"$f":"B33284&\":\"&COUNTIF($B$2:B33284,B33284)","v":"HLCUDX3230540176:7"},"HLCUDX3230540176","FCIU3234785","HLCUDX3230540176","20 Special","PKKHI",609372,"","",289,"BL"]
[{"$f":"B33285&\":\"&COUNTIF($B$2:B33285,B33285)","v":"HLCUDX3230540176:8"},"HLCUDX3230540176","FONU0771024","HLCUDX3230540176","20 Special","PKKHI",609372,"","",289,"BL"]
[{"$f":"B33286&\":\"&COUNTIF($B$2:B33286,B33286)","v":"HLCUDX3230540176:9"},"HLCUDX3230540176","FSCU3329180","HLCUDX3230540176","20 Special","PKKHI",609372,"","",289,"BL"]
[{"$f":"B33287&\":\"&COUNTIF($B$2:B33287,B33287)","v":"HLCUDX3230540176:10"},"HLCUDX3230540176","HLXU3347870","HLCUDX3230540176","20 Dry","PKKHI",609372,"","",289,"BL"]
[{"$f":"B33288&\":\"&COUNTIF($B$2:B33288,B33288)","v":"HLCUDX3230606204:1"},"HLCUDX3230606204","KKTU7425967","HLCUDX3230606204","20 Special","PKKHI",609372,"","",289,"BL"]
[{"$f":"B33289&\":\"&COUNTIF($B$2:B33289,B33289)","v":"HLCUDX3230606204:2"},"HLCUDX3230606204","TCKU1909129","HLCUDX3230606204","20 Special","PKKHI",609372,"","",289,"BL"]
[{"$f":"B33290&\":\"&COUNTIF($B$2:B33290,B33290)","v":"HLCUDX3230606204:3"},"HLCUDX3230606204","TEMU4427022","HLCUDX3230606204","20 Special","PKKHI",609372,"","",289,"BL"]
[{"$f":"B33291&\":\"&COUNTIF($B$2:B33291,B33291)","v":"HLCUDX3230606204:4"},"HLCUDX3230606204","TEMU4430915","HLCUDX3230606204","20 Special","PKKHI",609372,"","",289,"BL"]
[{"$f":"B33292&\":\"&COUNTIF($B$2:B33292,B33292)","v":"HLCUDX3230606204:5"},"HLCUDX3230606204","TEMU5383103","HLCUDX3230606204","20 Special","PKKHI",609372,"","",289,"BL"]
[{"$f":"B33293&\":\"&COUNTIF($B$2:B33293,B33293)","v":"HLCUDX3230606204:6"},"HLCUDX3230606204","TEXU2334346","HLCUDX3230606204","20 Special","PKKHI",609372,"","",289,"BL"]
[{"$f":"B33294&\":\"&COUNTIF($B$2:B33294,B33294)","v":"HLCUDX3230606204:7"},"HLCUDX3230606204","TGHU2386836","HLCUDX3230606204","20 Special","PKKHI",609372,"","",289,"BL"]
[{"$f":"B33295&\":\"&COUNTIF($B$2:B33295,B33295)","v":"HLCUDX3230606204:8"},"HLCUDX3230606204","TTNU3370178","HLCUDX3230606204","20 Special","PKKHI",609372,"","",289,"BL"]
[{"$f":"B33296&\":\"&COUNTIF($B$2:B33296,B33296)","v":"HLCUDX3230606204:9"},"HLCUDX3230606204","TTNU3375164","HLCUDX3230606204","20 Special","PKKHI",609372,"","",289,"BL"]
[{"$f":"B33297&\":\"&COUNTIF($B$2:B33297,B33297)","v":"HLCUDX3230606204:10"},"HLCUDX3230606204","WWWU2800097","HLCUDX3230606204","20 Dry","PKKHI",609372,"","",289,"BL"]
[{"$f":"B33298&\":\"&COUNTIF($B$2:B33298,B33298)","v":"HLCUKW3230500343:1"},"HLCUKW3230500343","FSCU7159626","HLCUKW3230500343","40 Dry","PKKHI",609372,"2023-05-31","2023-06-20",289,"BL"]
[{"$f":"B33299&\":\"&COUNTIF($B$2:B33299,B33299)","v":"HLCUKW3230500343:2"},"HLCUKW3230500343","FANU3171889","HLCUKW3230500343","40 Dry","PKKHI",609372,"2023-05-31","2023-06-20",289,"BL"]
[{"$f":"B33300&\":\"&COUNTIF($B$2:B33300,B33300)","v":"HLCUKW3230500343:3"},"HLCUKW3230500343","TCNU4657869","HLCUKW3230500343","40 Dry","PKKHI",609372,"2023-05-31","2023-06-20",289,"BL"]
[{"$f":"B33301&\":\"&COUNTIF($B$2:B33301,B33301)","v":"HLCUKW3230500343:4"},"HLCUKW3230500343","FANU1996828","HLCUKW3230500343","40 Dry","PKKHI",609372,"2023-06-01","2023-06-21",289,"BL"]
[{"$f":"B33302&\":\"&COUNTIF($B$2:B33302,B33302)","v":"HLCUDX3230520458:1"},"HLCUDX3230520458","TGHU6450770","HLCUDX3230520458","40 Dry","PKKHI",609372,"2023-06-01","2023-06-21",289,"BL"]
[{"$f":"B33303&\":\"&COUNTIF($B$2:B33303,B33303)","v":"HLCUKW3230401889:1"},"HLCUKW3230401889","HLXU1294323","HLCUKW3230401889","20 Dry","PKKHI",609372,"2023-06-01","2023-06-18",289,"BL"]
[{"$f":"B33304&\":\"&COUNTIF($B$2:B33304,B33304)","v":"HLCUKW3230401889:2"},"HLCUKW3230401889","HLXU1024755","HLCUKW3230401889","20 Dry","PKKHI",609372,"2023-06-01","2023-06-18",289,"BL"]
[{"$f":"B33305&\":\"&COUNTIF($B$2:B33305,B33305)","v":"HLCUKW3230401889:3"},"HLCUKW3230401889","HLXU3524940","HLCUKW3230401889","20 Dry","PKKHI",609372,"2023-06-01","2023-06-18",289,"BL"]
[{"$f":"B33306&\":\"&COUNTIF($B$2:B33306,B33306)","v":"HLCUKW3230401889:4"},"HLCUKW3230401889","HLXU1170003","HLCUKW3230401889","20 Dry","PKKHI",609372,"2023-06-01","2023-06-18",289,"BL"]
[{"$f":"B33307&\":\"&COUNTIF($B$2:B33307,B33307)","v":"HLCUKW3230500292:1"},"HLCUKW3230500292","UACU3760386","HLCUKW3230500292","20 Dry","PKKHI",609372,"2023-06-01","2023-06-18",289,"BL"]
[{"$f":"B33308&\":\"&COUNTIF($B$2:B33308,B33308)","v":"HLCUKW3230500292:2"},"HLCUKW3230500292","HLXU3351628","HLCUKW3230500292","20 Dry","PKKHI",609372,"2023-06-01","2023-06-18",289,"BL"]
[{"$f":"B33309&\":\"&COUNTIF($B$2:B33309,B33309)","v":"HLCUDM2230507291:1"},"HLCUDM2230507291","UACU5547430","HLCUDM2230507291","40 Dry","PKKHI",609372,"2023-06-01","2023-06-21",289,"BL"]
[{"$f":"B33310&\":\"&COUNTIF($B$2:B33310,B33310)","v":"HLCUDM2230507291:2"},"HLCUDM2230507291","STJU4204151","HLCUDM2230507291","40 Dry","PKKHI",609372,"2023-06-01","2023-06-21",289,"BL"]
[{"$f":"B33311&\":\"&COUNTIF($B$2:B33311,B33311)","v":"HLCUDM2230507291:3"},"HLCUDM2230507291","FANU1800540","HLCUDM2230507291","40 Dry","PKKHI",609372,"2023-06-01","2023-06-21",289,"BL"]
[{"$f":"B33312&\":\"&COUNTIF($B$2:B33312,B33312)","v":"HLCUDM2230507291:4"},"HLCUDM2230507291","CAAU5688451","HLCUDM2230507291","40 Dry","PKKHI",609372,"2023-06-01","2023-06-21",289,"BL"]
[{"$f":"B33313&\":\"&COUNTIF($B$2:B33313,B33313)","v":"HLCUDM2230507291:5"},"HLCUDM2230507291","UACU5720952","HLCUDM2230507291","40 Dry","PKKHI",609372,"2023-06-01","2023-06-21",289,"BL"]
[{"$f":"B33314&\":\"&COUNTIF($B$2:B33314,B33314)","v":"HLCUDM2230507291:6"},"HLCUDM2230507291","HLXU8464036","HLCUDM2230507291","40 Dry","PKKHI",609372,"2023-06-01","2023-06-21",289,"BL"]
[{"$f":"B33315&\":\"&COUNTIF($B$2:B33315,B33315)","v":"HLCUDM2230507291:7"},"HLCUDM2230507291","FANU3096682","HLCUDM2230507291","40 Dry","PKKHI",609372,"2023-06-01","2023-06-21",289,"BL"]
[{"$f":"B33316&\":\"&COUNTIF($B$2:B33316,B33316)","v":"HLCUDM2230507291:8"},"HLCUDM2230507291","TCNU8322565","HLCUDM2230507291","40 Dry","PKKHI",609372,"2023-06-01","2023-06-21",289,"BL"]
[{"$f":"B33317&\":\"&COUNTIF($B$2:B33317,B33317)","v":"HLCUDA3230401800:1"},"HLCUDA3230401800","HLXU1209300","HLCUDA3230401800","20 Dry","PKKHI",609372,"2023-06-01","2023-06-14",289,"BL"]
[{"$f":"B33318&\":\"&COUNTIF($B$2:B33318,B33318)","v":"HLCUDA3230401800:2"},"HLCUDA3230401800","UACU3964163","HLCUDA3230401800","20 Dry","PKKHI",609372,"2023-06-01","2023-06-14",289,"BL"]
[{"$f":"B33319&\":\"&COUNTIF($B$2:B33319,B33319)","v":"HLCUDA3230401800:3"},"HLCUDA3230401800","CAAU2089357","HLCUDA3230401800","20 Dry","PKKHI",609372,"2023-06-01","2023-06-14",289,"BL"]
[{"$f":"B33320&\":\"&COUNTIF($B$2:B33320,B33320)","v":"HLCUDX3230544579:1"},"HLCUDX3230544579","CRXU3316080","HLCUDX3230544579","20 Dry","PKKHI",609372,"2023-06-01","2023-06-30",289,"BL"]
[{"$f":"B33321&\":\"&COUNTIF($B$2:B33321,B33321)","v":"HLCUDX3230524894:1"},"HLCUDX3230524894","BEAU5371378","HLCUDX3230524894","40 Dry","PKKHI",609372,"2023-06-01","2023-06-21",289,"BL"]
[{"$f":"B33322&\":\"&COUNTIF($B$2:B33322,B33322)","v":"HLCUDX3230524894:2"},"HLCUDX3230524894","FANU3211488","HLCUDX3230524894","40 Dry","PKKHI",609372,"2023-06-01","2023-06-21",289,"BL"]
[{"$f":"B33323&\":\"&COUNTIF($B$2:B33323,B33323)","v":"HLCUDX3230524894:3"},"HLCUDX3230524894","TCLU9555477","HLCUDX3230524894","40 Dry","PKKHI",609372,"2023-06-01","2023-06-21",289,"BL"]
[{"$f":"B33324&\":\"&COUNTIF($B$2:B33324,B33324)","v":"HLCUDX3230524894:4"},"HLCUDX3230524894","TXGU7030807","HLCUDX3230524894","40 Dry","PKKHI",609372,"2023-06-01","2023-06-21",289,"BL"]
[{"$f":"B33325&\":\"&COUNTIF($B$2:B33325,B33325)","v":"HLCUDX3230524894:5"},"HLCUDX3230524894","UACU6041811","HLCUDX3230524894","40 Dry","PKKHI",609372,"2023-06-01","2023-06-21",289,"BL"]
[{"$f":"B33326&\":\"&COUNTIF($B$2:B33326,B33326)","v":"HLCUDX3230524894:6"},"HLCUDX3230524894","FFAU1196903","HLCUDX3230524894","40 Dry","PKKHI",609372,"2023-06-01","2023-06-21",289,"BL"]
[{"$f":"B33327&\":\"&COUNTIF($B$2:B33327,B33327)","v":"HLCUDX3230524894:7"},"HLCUDX3230524894","TCLU8091833","HLCUDX3230524894","40 Dry","PKKHI",609372,"2023-06-01","2023-06-21",289,"BL"]
[{"$f":"B33328&\":\"&COUNTIF($B$2:B33328,B33328)","v":"HLCUDX3230524894:8"},"HLCUDX3230524894","TCKU6568508","HLCUDX3230524894","40 Dry","PKKHI",609372,"2023-06-01","2023-06-21",289,"BL"]
[{"$f":"B33329&\":\"&COUNTIF($B$2:B33329,B33329)","v":"HLCUDX3230524894:9"},"HLCUDX3230524894","UACU5195284","HLCUDX3230524894","40 Dry","PKKHI",609372,"2023-06-01","2023-06-21",289,"BL"]
[{"$f":"B33330&\":\"&COUNTIF($B$2:B33330,B33330)","v":"HLCUDX3230524894:10"},"HLCUDX3230524894","FFAU1149727","HLCUDX3230524894","40 Dry","PKKHI",609372,"2023-06-01","2023-06-21",289,"BL"]
[{"$f":"B33331&\":\"&COUNTIF($B$2:B33331,B33331)","v":"HLCUDX3230541559:1"},"HLCUDX3230541559","CAXU9391580","HLCUDX3230541559","40 Dry","PKKHI",609372,"","",289,"BL"]
[{"$f":"B33332&\":\"&COUNTIF($B$2:B33332,B33332)","v":"HLCUDX3230541559:2"},"HLCUDX3230541559","CLHU8186568","HLCUDX3230541559","40 Dry","PKKHI",609372,"","",289,"BL"]
[{"$f":"B33333&\":\"&COUNTIF($B$2:B33333,B33333)","v":"HLCUDX3230541559:3"},"HLCUDX3230541559","CLHU9061591","HLCUDX3230541559","40 Dry","PKKHI",609372,"","",289,"BL"]
[{"$f":"B33334&\":\"&COUNTIF($B$2:B33334,B33334)","v":"HLCUDX3230541559:4"},"HLCUDX3230541559","EMKU9211850","HLCUDX3230541559","40 Dry","PKKHI",609372,"","",289,"BL"]
[{"$f":"B33335&\":\"&COUNTIF($B$2:B33335,B33335)","v":"HLCUDX3230541559:5"},"HLCUDX3230541559","EMKU9218448","HLCUDX3230541559","40 Dry","PKKHI",609372,"","",289,"BL"]
[{"$f":"B33336&\":\"&COUNTIF($B$2:B33336,B33336)","v":"HLCUDX3230541559:6"},"HLCUDX3230541559","TTNU9068890","HLCUDX3230541559","40 Dry","PKKHI",609372,"","",289,"BL"]
[{"$f":"B33337&\":\"&COUNTIF($B$2:B33337,B33337)","v":"HLCUDM2230508111:1"},"HLCUDM2230508111","TLLU5945460","HLCUDM2230508111","40 Dry","PKKHI",609372,"2023-06-01","2023-06-21",289,"BL"]
[{"$f":"B33338&\":\"&COUNTIF($B$2:B33338,B33338)","v":"HLCUDM2230508111:2"},"HLCUDM2230508111","FANU1042373","HLCUDM2230508111","40 Dry","PKKHI",609372,"2023-06-01","2023-06-21",289,"BL"]
[{"$f":"B33339&\":\"&COUNTIF($B$2:B33339,B33339)","v":"HLCURUH230500870:1"},"HLCURUH230500870","FANU3044375","HLCURUH230500870","40 Dry","PKKHI",609372,"2023-06-01","2023-06-21",289,"BL"]
[{"$f":"B33340&\":\"&COUNTIF($B$2:B33340,B33340)","v":"HLCURUH230500870:2"},"HLCURUH230500870","BEAU5001347","HLCURUH230500870","40 Dry","PKKHI",609372,"2023-06-01","2023-06-21",289,"BL"]
[{"$f":"B33341&\":\"&COUNTIF($B$2:B33341,B33341)","v":"HLCURUH230500870:3"},"HLCURUH230500870","FANU3127839","HLCURUH230500870","40 Dry","PKKHI",609372,"2023-06-01","2023-06-21",289,"BL"]
[{"$f":"B33342&\":\"&COUNTIF($B$2:B33342,B33342)","v":"HLCURUH230500870:4"},"HLCURUH230500870","FCIU7624328","HLCURUH230500870","40 Dry","PKKHI",609372,"2023-06-01","2023-06-21",289,"BL"]
[{"$f":"B33343&\":\"&COUNTIF($B$2:B33343,B33343)","v":"HLCURUH230500870:5"},"HLCURUH230500870","TXGU7117867","HLCURUH230500870","40 Dry","PKKHI",609372,"2023-06-01","2023-06-21",289,"BL"]
[{"$f":"B33344&\":\"&COUNTIF($B$2:B33344,B33344)","v":"HLCURUH230500870:6"},"HLCURUH230500870","CAIU9390200","HLCURUH230500870","40 Dry","PKKHI",609372,"2023-06-01","2023-06-21",289,"BL"]
[{"$f":"B33345&\":\"&COUNTIF($B$2:B33345,B33345)","v":"HLCURUH230500870:7"},"HLCURUH230500870","HLBU1649658","HLCURUH230500870","40 Dry","PKKHI",609372,"2023-06-01","2023-06-21",289,"BL"]
[{"$f":"B33346&\":\"&COUNTIF($B$2:B33346,B33346)","v":"HLCURUH230500870:8"},"HLCURUH230500870","BEAU4175410","HLCURUH230500870","40 Dry","PKKHI",609372,"2023-06-01","2023-06-21",289,"BL"]
[{"$f":"B33347&\":\"&COUNTIF($B$2:B33347,B33347)","v":"HLCUKW3230500091:1"},"HLCUKW3230500091","HAMU1139361","HLCUKW3230500091","40 Dry","PKKHI",609372,"2023-06-01","2023-06-21",289,"BL"]
[{"$f":"B33348&\":\"&COUNTIF($B$2:B33348,B33348)","v":"HLCUKW3230500091:2"},"HLCUKW3230500091","FCIU7101501","HLCUKW3230500091","40 Dry","PKKHI",609372,"2023-06-01","2023-06-21",289,"BL"]
[{"$f":"B33349&\":\"&COUNTIF($B$2:B33349,B33349)","v":"HLCUKW3230500091:3"},"HLCUKW3230500091","TCKU6056501","HLCUKW3230500091","40 Dry","PKKHI",609372,"2023-06-01","2023-06-21",289,"BL"]
[{"$f":"B33350&\":\"&COUNTIF($B$2:B33350,B33350)","v":"HLCUKW3230500091:4"},"HLCUKW3230500091","FSCU8233219","HLCUKW3230500091","40 Dry","PKKHI",609372,"2023-06-01","2023-06-21",289,"BL"]
[{"$f":"B33351&\":\"&COUNTIF($B$2:B33351,B33351)","v":"HLCUKW3230500522:1"},"HLCUKW3230500522","NIDU5235272","HLCUKW3230500522","40 Dry","PKKHI",609372,"2023-06-01","2023-06-21",289,"BL"]
[{"$f":"B33352&\":\"&COUNTIF($B$2:B33352,B33352)","v":"HLCUKW3230500522:2"},"HLCUKW3230500522","HLBU2036136","HLCUKW3230500522","40 Dry","PKKHI",609372,"2023-06-01","2023-06-21",289,"BL"]
[{"$f":"B33353&\":\"&COUNTIF($B$2:B33353,B33353)","v":"HLCUKW3230500522:3"},"HLCUKW3230500522","HLBU2772754","HLCUKW3230500522","40 Dry","PKKHI",609372,"2023-06-01","2023-06-21",289,"BL"]
[{"$f":"B33354&\":\"&COUNTIF($B$2:B33354,B33354)","v":"HLCUKW3230500522:4"},"HLCUKW3230500522","HLBU1887738","HLCUKW3230500522","40 Dry","PKKHI",609372,"2023-06-01","2023-06-21",289,"BL"]
[{"$f":"B33355&\":\"&COUNTIF($B$2:B33355,B33355)","v":"HLCUKW3230500522:5"},"HLCUKW3230500522","FFAU1198995","HLCUKW3230500522","40 Dry","PKKHI",609372,"2023-06-01","2023-06-21",289,"BL"]
[{"$f":"B33356&\":\"&COUNTIF($B$2:B33356,B33356)","v":"HLCUKW3230500522:6"},"HLCUKW3230500522","FCIU8618382","HLCUKW3230500522","40 Dry","PKKHI",609372,"2023-06-01","2023-06-21",289,"BL"]
[{"$f":"B33357&\":\"&COUNTIF($B$2:B33357,B33357)","v":"HLCUKW3230500522:7"},"HLCUKW3230500522","NIDU5217828","HLCUKW3230500522","40 Dry","PKKHI",609372,"2023-06-01","2023-06-21",289,"BL"]
[{"$f":"B33358&\":\"&COUNTIF($B$2:B33358,B33358)","v":"HLCUKW3230500522:8"},"HLCUKW3230500522","HLBU1849656","HLCUKW3230500522","40 Dry","PKKHI",609372,"2023-06-01","2023-06-21",289,"BL"]
[{"$f":"B33359&\":\"&COUNTIF($B$2:B33359,B33359)","v":"HLCUKW3230500522:9"},"HLCUKW3230500522","HLBU3416064","HLCUKW3230500522","40 Dry","PKKHI",609372,"2023-06-01","2023-06-21",289,"BL"]
[{"$f":"B33360&\":\"&COUNTIF($B$2:B33360,B33360)","v":"HLCUKW3230500522:10"},"HLCUKW3230500522","TCNU1488214","HLCUKW3230500522","40 Dry","PKKHI",609372,"2023-06-01","2023-06-21",289,"BL"]
[{"$f":"B33361&\":\"&COUNTIF($B$2:B33361,B33361)","v":"HLCUKW3230500522:11"},"HLCUKW3230500522","TGBU6130136","HLCUKW3230500522","40 Dry","PKKHI",609372,"2023-06-01","2023-06-21",289,"BL"]
[{"$f":"B33362&\":\"&COUNTIF($B$2:B33362,B33362)","v":"HLCUKW3230500522:12"},"HLCUKW3230500522","UACU5929752","HLCUKW3230500522","40 Dry","PKKHI",609372,"2023-06-01","2023-06-21",289,"BL"]
[{"$f":"B33363&\":\"&COUNTIF($B$2:B33363,B33363)","v":"HLCUKW3230500522:13"},"HLCUKW3230500522","BMOU6699108","HLCUKW3230500522","40 Dry","PKKHI",609372,"2023-06-01","2023-06-21",289,"BL"]
[{"$f":"B33364&\":\"&COUNTIF($B$2:B33364,B33364)","v":"HLCUKW3230500522:14"},"HLCUKW3230500522","HLBU1949320","HLCUKW3230500522","40 Dry","PKKHI",609372,"2023-06-01","2023-06-21",289,"BL"]
[{"$f":"B33365&\":\"&COUNTIF($B$2:B33365,B33365)","v":"HLCUKW3230500522:15"},"HLCUKW3230500522","UACU5952475","HLCUKW3230500522","40 Dry","PKKHI",609372,"2023-06-01","2023-06-21",289,"BL","2023-05-31"]
[{"$f":"B33366&\":\"&COUNTIF($B$2:B33366,B33366)","v":"HLCUVAN230407290:1"},"HLCUVAN230407290","TCLU5844677","HLCUVAN230407290","40 Dry","PKBQM",605034,"2023-06-02","2023-06-13",288,"SW"]
[{"$f":"B33367&\":\"&COUNTIF($B$2:B33367,B33367)","v":"HLCUBSC230520301:1"},"HLCUBSC230520301","UACU4018411","HLCUBSC230520301","20 Dry","PKBQM",605034,"2023-06-02","2023-06-13",288,"BL"]
[{"$f":"B33368&\":\"&COUNTIF($B$2:B33368,B33368)","v":"HLCUVAN230408237:1"},"HLCUVAN230408237","FANU3031070","HLCUVAN230408237","40 Dry","PKBQM",605034,"2023-06-02","2023-06-13",288,"SW"]
[{"$f":"B33369&\":\"&COUNTIF($B$2:B33369,B33369)","v":"HLCUBSC2304BGXW5:1"},"HLCUBSC2304BGXW5","UACU5801740","HLCUBSC2304BGXW5","40 Dry","PKBQM",605034,"2023-06-02","2023-06-13",288,"BL"]
[{"$f":"B33370&\":\"&COUNTIF($B$2:B33370,B33370)","v":"HLCUBSC2304AQEB7:1"},"HLCUBSC2304AQEB7","FSCU7243784","HLCUBSC2304AQEB7","40 Dry","PKBQM",605034,"2023-06-02","2023-06-13",288,"SW"]
[{"$f":"B33371&\":\"&COUNTIF($B$2:B33371,B33371)","v":"HLCUBSC2304AQEB7:2"},"HLCUBSC2304AQEB7","FANU1796687","HLCUBSC2304AQEB7","40 Dry","PKBQM",605034,"2023-06-02","2023-06-13",288,"SW"]
[{"$f":"B33372&\":\"&COUNTIF($B$2:B33372,B33372)","v":"HLCUBSC2304BNOC2:1"},"HLCUBSC2304BNOC2","FANU1942631","HLCUBSC2304BNOC2","40 Dry","PKBQM",605034,"2023-06-02","2023-06-13",288,"SW"]
[{"$f":"B33373&\":\"&COUNTIF($B$2:B33373,B33373)","v":"HLCUBSC230523259:1"},"HLCUBSC230523259","CAIU9420665","HLCUBSC230523259","40 Dry","PKBQM",605034,"2023-06-02","2023-06-22",288,"BL"]
[{"$f":"B33374&\":\"&COUNTIF($B$2:B33374,B33374)","v":"HLCUBSC2304BMBI9:1"},"HLCUBSC2304BMBI9","CAIU3496597","HLCUBSC2304BMBI9","20 Dry","PKBQM",605034,"2023-06-02","2023-06-15",288,"BL"]
[{"$f":"B33375&\":\"&COUNTIF($B$2:B33375,B33375)","v":"HLCUBSC2304BGVT0:1"},"HLCUBSC2304BGVT0","BEAU4728706","HLCUBSC2304BGVT0","40 Dry","PKBQM",605034,"2023-06-02","2023-06-06",288,"BL"]
[{"$f":"B33376&\":\"&COUNTIF($B$2:B33376,B33376)","v":"HLCUBSC2304BNON3:1"},"HLCUBSC2304BNON3","FANU1548525","HLCUBSC2304BNON3","40 Dry","PKBQM",605034,"2023-06-02","2023-06-13",288,"SW"]
[{"$f":"B33377&\":\"&COUNTIF($B$2:B33377,B33377)","v":"HLCUMTR230424221:1"},"HLCUMTR230424221","UACU5900018","HLCUMTR230424221","40 Dry","PKBQM",605034,"2023-06-02","2023-06-11",288,"BL"]
[{"$f":"B33378&\":\"&COUNTIF($B$2:B33378,B33378)","v":"HLCUMTR230424221:2"},"HLCUMTR230424221","HLBU3312835","HLCUMTR230424221","40 Dry","PKBQM",605034,"2023-06-02","2023-06-11",288,"BL"]
[{"$f":"B33379&\":\"&COUNTIF($B$2:B33379,B33379)","v":"HLCUMTR230424221:3"},"HLCUMTR230424221","TGBU9640107","HLCUMTR230424221","40 Dry","PKBQM",605034,"2023-06-02","2023-06-11",288,"BL"]
[{"$f":"B33380&\":\"&COUNTIF($B$2:B33380,B33380)","v":"HLCUBSC2304BMFY7:1"},"HLCUBSC2304BMFY7","FANU1626850","HLCUBSC2304BMFY7","40 Dry","PKBQM",605034,"2023-06-02","2023-06-13",288,"SW"]
[{"$f":"B33381&\":\"&COUNTIF($B$2:B33381,B33381)","v":"HLCUBSC2304BMKQ6:1"},"HLCUBSC2304BMKQ6","FANU1550543","HLCUBSC2304BMKQ6","40 Dry","PKBQM",605034,"2023-06-02","2023-06-13",288,"SW"]
[{"$f":"B33382&\":\"&COUNTIF($B$2:B33382,B33382)","v":"HLCUBSC2304ARQI7:1"},"HLCUBSC2304ARQI7","HAMU1315100","HLCUBSC2304ARQI7","40 Dry","PKBQM",605034,"2023-06-02","2023-06-13",288,"SW"]
[{"$f":"B33383&\":\"&COUNTIF($B$2:B33383,B33383)","v":"HLCUBSC2304ARQI7:2"},"HLCUBSC2304ARQI7","TRLU7010991","HLCUBSC2304ARQI7","40 Dry","PKBQM",605034,"2023-06-02","2023-06-13",288,"SW"]
[{"$f":"B33384&\":\"&COUNTIF($B$2:B33384,B33384)","v":"HLCUBSC230429067:1"},"HLCUBSC230429067","TCLU7297049","HLCUBSC230429067","20 Dry","PKBQM",605034,"2023-06-02","2023-06-13",288,"BL"]
[{"$f":"B33385&\":\"&COUNTIF($B$2:B33385,B33385)","v":"HLCUBSC2304BMEB9:1"},"HLCUBSC2304BMEB9","FANU1829651","HLCUBSC2304BMEB9","40 Dry","PKBQM",605034,"2023-06-02","2023-06-13",288,"SW"]
[{"$f":"B33386&\":\"&COUNTIF($B$2:B33386,B33386)","v":"HLCUTOR230503433:1"},"HLCUTOR230503433","TCKU6076410","HLCUTOR230503433","40 Dry","PKBQM",605034,"2023-06-02","2023-06-13",288,"SW"]
[{"$f":"B33387&\":\"&COUNTIF($B$2:B33387,B33387)","v":"HLCUBSC2304ATAH3:1"},"HLCUBSC2304ATAH3","TCNU4045879","HLCUBSC2304ATAH3","40 Dry","PKBQM",605034,"2023-06-02","2023-06-13",288,"BL"]
[{"$f":"B33388&\":\"&COUNTIF($B$2:B33388,B33388)","v":"HLCUBSC2304ATAH3:2"},"HLCUBSC2304ATAH3","BMOU4527809","HLCUBSC2304ATAH3","40 Dry","PKBQM",605034,"2023-06-02","2023-06-13",288,"BL"]
[{"$f":"B33389&\":\"&COUNTIF($B$2:B33389,B33389)","v":"HLCUBSC230535462:1"},"HLCUBSC230535462","HLBU1441659","HLCUBSC230535462","40 Dry","PKBQM",605034,"2023-06-02","2023-06-13",288,"BL"]
[{"$f":"B33390&\":\"&COUNTIF($B$2:B33390,B33390)","v":"HLCUBSC2304APTB1:1"},"HLCUBSC2304APTB1","FDCU0171370","HLCUBSC2304APTB1","40 Dry","PKBQM",605034,"2023-06-02","2023-06-13",288,"SW"]
[{"$f":"B33391&\":\"&COUNTIF($B$2:B33391,B33391)","v":"HLCUBSC2304APTB1:2"},"HLCUBSC2304APTB1","GCXU5930569","HLCUBSC2304APTB1","40 Dry","PKBQM",605034,"2023-06-02","2023-06-13",288,"SW"]
[{"$f":"B33392&\":\"&COUNTIF($B$2:B33392,B33392)","v":"HLCUBSC2304APTB1:3"},"HLCUBSC2304APTB1","HLBU1618620","HLCUBSC2304APTB1","40 Dry","PKBQM",605034,"2023-06-02","2023-06-13",288,"SW"]
[{"$f":"B33393&\":\"&COUNTIF($B$2:B33393,B33393)","v":"HLCUVAN230407307:1"},"HLCUVAN230407307","UACU5768508","HLCUVAN230407307","40 Dry","PKBQM",605034,"2023-06-02","2023-06-13",288,"SW"]
[{"$f":"B33394&\":\"&COUNTIF($B$2:B33394,B33394)","v":"HLCUBSC2304BOZZ3:1"},"HLCUBSC2304BOZZ3","TCLU8611051","HLCUBSC2304BOZZ3","40 Dry","PKBQM",605034,"2023-06-02","2023-06-22",288,"BL"]
[{"$f":"B33395&\":\"&COUNTIF($B$2:B33395,B33395)","v":"HLCUTOR230503422:1"},"HLCUTOR230503422","CAIU4980522","HLCUTOR230503422","40 Dry","PKBQM",605034,"2023-06-02","2023-06-13",288,"SW"]
[{"$f":"B33396&\":\"&COUNTIF($B$2:B33396,B33396)","v":"HLCUBSC2304BNUS0:1"},"HLCUBSC2304BNUS0","TGHU6242565","HLCUBSC2304BNUS0","40 Dry","PKBQM",605034,"2023-06-02","2023-06-13",288,"BL"]
[{"$f":"B33397&\":\"&COUNTIF($B$2:B33397,B33397)","v":"HLCUBSC230519281:1"},"HLCUBSC230519281","TEMU6575456","HLCUBSC230519281","40 Dry","PKBQM",605034,"2023-06-02","2023-06-22",288,"BL"]
[{"$f":"B33398&\":\"&COUNTIF($B$2:B33398,B33398)","v":"HLCUBSC230519281:2"},"HLCUBSC230519281","CAIU8553806","HLCUBSC230519281","40 Dry","PKBQM",605034,"2023-06-02","2023-06-22",288,"BL"]
[{"$f":"B33399&\":\"&COUNTIF($B$2:B33399,B33399)","v":"HLCUBSC230519281:3"},"HLCUBSC230519281","HLBU1288679","HLCUBSC230519281","40 Dry","PKBQM",605034,"2023-06-02","2023-06-22",288,"BL"]
[{"$f":"B33400&\":\"&COUNTIF($B$2:B33400,B33400)","v":"HLCUBSC2304BQFN7:1"},"HLCUBSC2304BQFN7","FDCU0313324","HLCUBSC2304BQFN7","40 Dry","PKBQM",605034,"2023-06-02","2023-06-13",288,"BL"]
[{"$f":"B33401&\":\"&COUNTIF($B$2:B33401,B33401)","v":"HLCUBSC2304BQFN7:2"},"HLCUBSC2304BQFN7","HLXU8393272","HLCUBSC2304BQFN7","40 Dry","PKBQM",605034,"2023-06-02","2023-06-13",288,"BL"]
[{"$f":"B33402&\":\"&COUNTIF($B$2:B33402,B33402)","v":"HLCUBSC2304BFCU4:1"},"HLCUBSC2304BFCU4","HLBU2715841","HLCUBSC2304BFCU4","40 Dry","PKBQM",605034,"2023-06-02","2023-06-13",288,"BL"]
[{"$f":"B33403&\":\"&COUNTIF($B$2:B33403,B33403)","v":"HLCUBSC2304BFCU4:2"},"HLCUBSC2304BFCU4","FFAU2648891","HLCUBSC2304BFCU4","40 Dry","PKBQM",605034,"2023-06-02","2023-06-13",288,"BL"]
[{"$f":"B33404&\":\"&COUNTIF($B$2:B33404,B33404)","v":"HLCUBSC2303BSHS0:1"},"HLCUBSC2303BSHS0","TCNU8939285","HLCUBSC2303BSHS0","40 Dry","PKBQM",605034,"2023-06-02","2023-06-22",288,"SW"]
[{"$f":"B33405&\":\"&COUNTIF($B$2:B33405,B33405)","v":"HLCUBSC230504131:1"},"HLCUBSC230504131","UACU3655570","HLCUBSC230504131","20 Dry","PKBQM",605034,"2023-06-02","2023-06-13",288,"BL"]
[{"$f":"B33406&\":\"&COUNTIF($B$2:B33406,B33406)","v":"HLCUBSC2303BSJD6:1"},"HLCUBSC2303BSJD6","HLBU2885982","HLCUBSC2303BSJD6","40 Dry","PKBQM",605034,"2023-06-02","2023-06-22",288,"SW"]
[{"$f":"B33407&\":\"&COUNTIF($B$2:B33407,B33407)","v":"HLCUBSC2304BMFO7:1"},"HLCUBSC2304BMFO7","BEAU2168979","HLCUBSC2304BMFO7","20 Dry","PKBQM",605034,"2023-06-02","2023-06-13",288,"BL"]
[{"$f":"B33408&\":\"&COUNTIF($B$2:B33408,B33408)","v":"HLCUBSC2304BJNT0:1"},"HLCUBSC2304BJNT0","HLBU1656934","HLCUBSC2304BJNT0","40 Dry","PKBQM",605034,"2023-06-02","2023-06-13",288,"SW"]
[{"$f":"B33409&\":\"&COUNTIF($B$2:B33409,B33409)","v":"HLCUBSC2304BJNT0:2"},"HLCUBSC2304BJNT0","HLXU8405202","HLCUBSC2304BJNT0","40 Dry","PKBQM",605034,"2023-06-02","2023-06-13",288,"SW"]
[{"$f":"B33410&\":\"&COUNTIF($B$2:B33410,B33410)","v":"HLCUBSC230526480:1"},"HLCUBSC230526480","SEGU6894170","HLCUBSC230526480","40 Dry","PKBQM",605034,"2023-06-02","2023-06-06",288,"SW"]
[{"$f":"B33411&\":\"&COUNTIF($B$2:B33411,B33411)","v":"HLCUBSC230526480:2"},"HLCUBSC230526480","HLBU1963123","HLCUBSC230526480","40 Dry","PKBQM",605034,"2023-06-02","2023-06-06",288,"SW"]
[{"$f":"B33412&\":\"&COUNTIF($B$2:B33412,B33412)","v":"HLCUBSC2303BSJW5:1"},"HLCUBSC2303BSJW5","TGBU5903340","HLCUBSC2303BSJW5","40 Dry","PKBQM",605034,"2023-06-02","2023-06-22",288,"SW"]
[{"$f":"B33413&\":\"&COUNTIF($B$2:B33413,B33413)","v":"HLCUBSC2304AQUE2:1"},"HLCUBSC2304AQUE2","TCKU3615859","HLCUBSC2304AQUE2","20 Dry","PKBQM",605034,"2023-06-02","2023-06-13",288,"BL"]
[{"$f":"B33414&\":\"&COUNTIF($B$2:B33414,B33414)","v":"HLCUBSC2303BSKC0:1"},"HLCUBSC2303BSKC0","HLBU2694939","HLCUBSC2303BSKC0","40 Dry","PKBQM",605034,"2023-06-02","2023-06-22",288,"SW"]
[{"$f":"B33415&\":\"&COUNTIF($B$2:B33415,B33415)","v":"HLCUBSC2304BQKK0:1"},"HLCUBSC2304BQKK0","HLBU1574163","HLCUBSC2304BQKK0","40 Dry","PKBQM",605034,"2023-06-02","2023-06-22",288,"BL"]
[{"$f":"B33416&\":\"&COUNTIF($B$2:B33416,B33416)","v":"HLCUBSC2304BQKK0:2"},"HLCUBSC2304BQKK0","HLBU2193773","HLCUBSC2304BQKK0","40 Dry","PKBQM",605034,"2023-06-02","2023-06-22",288,"BL"]
[{"$f":"B33417&\":\"&COUNTIF($B$2:B33417,B33417)","v":"HLCUBSC2304BQKK0:3"},"HLCUBSC2304BQKK0","TXGU6763306","HLCUBSC2304BQKK0","40 Dry","PKBQM",605034,"2023-06-02","2023-06-22",288,"BL"]
[{"$f":"B33418&\":\"&COUNTIF($B$2:B33418,B33418)","v":"HLCUBSC2304BQKK0:4"},"HLCUBSC2304BQKK0","HLXU8592823","HLCUBSC2304BQKK0","40 Dry","PKBQM",605034,"2023-06-02","2023-06-22",288,"BL"]
[{"$f":"B33419&\":\"&COUNTIF($B$2:B33419,B33419)","v":"HLCUVAN230408260:1"},"HLCUVAN230408260","TCLU8870480","HLCUVAN230408260","40 Dry","PKBQM",605034,"2023-06-02","2023-06-13",288,"SW"]
[{"$f":"B33420&\":\"&COUNTIF($B$2:B33420,B33420)","v":"HLCUBSC230519270:1"},"HLCUBSC230519270","GCXU5127454","HLCUBSC230519270","40 Dry","PKBQM",605034,"2023-06-02","2023-06-22",288,"BL"]
[{"$f":"B33421&\":\"&COUNTIF($B$2:B33421,B33421)","v":"HLCUBSC230519270:2"},"HLCUBSC230519270","FANU1957837","HLCUBSC230519270","40 Dry","PKBQM",605034,"2023-06-02","2023-06-22",288,"BL"]
[{"$f":"B33422&\":\"&COUNTIF($B$2:B33422,B33422)","v":"HLCUBSC2304AVXE0:1"},"HLCUBSC2304AVXE0","HLBU1918356","HLCUBSC2304AVXE0","40 Dry","PKBQM",605034,"2023-06-02","2023-06-22",288,"BL"]
[{"$f":"B33423&\":\"&COUNTIF($B$2:B33423,B33423)","v":"HLCUBSC2304AVXE0:2"},"HLCUBSC2304AVXE0","CAIU4987131","HLCUBSC2304AVXE0","40 Dry","PKBQM",605034,"2023-06-02","2023-06-22",288,"BL"]
[{"$f":"B33424&\":\"&COUNTIF($B$2:B33424,B33424)","v":"HLCUBSC2304AVXE0:3"},"HLCUBSC2304AVXE0","HLBU2542140","HLCUBSC2304AVXE0","40 Dry","PKBQM",605034,"2023-06-02","2023-06-22",288,"BL"]
[{"$f":"B33425&\":\"&COUNTIF($B$2:B33425,B33425)","v":"HLCUBSC2304AVXE0:4"},"HLCUBSC2304AVXE0","HLBU1885777","HLCUBSC2304AVXE0","40 Dry","PKBQM",605034,"2023-06-02","2023-06-22",288,"BL"]
[{"$f":"B33426&\":\"&COUNTIF($B$2:B33426,B33426)","v":"HLCUBSC2304AVXE0:5"},"HLCUBSC2304AVXE0","HLBU3097075","HLCUBSC2304AVXE0","40 Dry","PKBQM",605034,"2023-06-02","2023-06-22",288,"BL"]
[{"$f":"B33427&\":\"&COUNTIF($B$2:B33427,B33427)","v":"HLCUBSC230523300:1"},"HLCUBSC230523300","TXGU7183914","HLCUBSC230523300","40 Dry","PKBQM",605034,"2023-06-02","2023-06-13",288,"BL"]
[{"$f":"B33428&\":\"&COUNTIF($B$2:B33428,B33428)","v":"HLCUBSC2304BOYZ8:1"},"HLCUBSC2304BOYZ8","HLBU2617399","HLCUBSC2304BOYZ8","20 Dry","PKBQM",605034,"2023-06-02","2023-06-15",288,"BL"]
[{"$f":"B33429&\":\"&COUNTIF($B$2:B33429,B33429)","v":"HLCUVAN230500920:1"},"HLCUVAN230500920","CAIU4803390","HLCUVAN230500920","40 Dry","PKBQM",605034,"2023-06-02","2023-06-13",288,"SW"]
[{"$f":"B33430&\":\"&COUNTIF($B$2:B33430,B33430)","v":"HLCUTOR230503411:1"},"HLCUTOR230503411","FANU3065090","HLCUTOR230503411","40 Dry","PKBQM",605034,"2023-06-02","2023-06-13",288,"SW"]
[{"$f":"B33431&\":\"&COUNTIF($B$2:B33431,B33431)","v":"HLCUBSC2304BNQB2:1"},"HLCUBSC2304BNQB2","NIDU2333763","HLCUBSC2304BNQB2","20 Dry","PKBQM",605034,"2023-06-02","2023-06-13",288,"BL"]
[{"$f":"B33432&\":\"&COUNTIF($B$2:B33432,B33432)","v":"HLCUTOR230428844:1"},"HLCUTOR230428844","HAMU1097604","HLCUTOR230428844","20 Dry","PKBQM",605034,"2023-06-02","2023-06-13",288,"SW"]
[{"$f":"B33433&\":\"&COUNTIF($B$2:B33433,B33433)","v":"HLCUBSC2304BHAZ9:1"},"HLCUBSC2304BHAZ9","HLXU8064662","HLCUBSC2304BHAZ9","40 Dry","PKBQM",605034,"2023-06-02","2023-06-13",288,"BL"]
[{"$f":"B33434&\":\"&COUNTIF($B$2:B33434,B33434)","v":"HLCUBSC230555677:1"},"HLCUBSC230555677","UACU5602902","HLCUBSC230555677","40 Dry","PKBQM",605034,"2023-06-02","2023-06-13",288,"BL"]
[{"$f":"B33435&\":\"&COUNTIF($B$2:B33435,B33435)","v":"HLCUBSC2304AVXM9:1"},"HLCUBSC2304AVXM9","FANU1640647","HLCUBSC2304AVXM9","40 Dry","PKBQM",605034,"2023-06-02","2023-06-22",288,"BL"]
[{"$f":"B33436&\":\"&COUNTIF($B$2:B33436,B33436)","v":"HLCUBSC2304AVXM9:2"},"HLCUBSC2304AVXM9","HLBU1989724","HLCUBSC2304AVXM9","40 Dry","PKBQM",605034,"2023-06-02","2023-06-22",288,"BL"]
[{"$f":"B33437&\":\"&COUNTIF($B$2:B33437,B33437)","v":"HLCUBSC2304AVXM9:3"},"HLCUBSC2304AVXM9","BEAU4185424","HLCUBSC2304AVXM9","40 Dry","PKBQM",605034,"2023-06-02","2023-06-22",288,"BL"]
[{"$f":"B33438&\":\"&COUNTIF($B$2:B33438,B33438)","v":"HLCUBSC2304AVXM9:4"},"HLCUBSC2304AVXM9","HLBU2055938","HLCUBSC2304AVXM9","40 Dry","PKBQM",605034,"2023-06-02","2023-06-22",288,"BL"]
[{"$f":"B33439&\":\"&COUNTIF($B$2:B33439,B33439)","v":"HLCUBSC230521889:1"},"HLCUBSC230521889","FANU1768807","HLCUBSC230521889","40 Dry","PKBQM",605034,"2023-06-02","2023-06-13",288,"BL"]
[{"$f":"B33440&\":\"&COUNTIF($B$2:B33440,B33440)","v":"HLCUBSC230521889:2"},"HLCUBSC230521889","HLBU2898737","HLCUBSC230521889","40 Dry","PKBQM",605034,"2023-06-02","2023-06-13",288,"BL"]
[{"$f":"B33441&\":\"&COUNTIF($B$2:B33441,B33441)","v":"HLCUBSC230521930:1"},"HLCUBSC230521930","HLBU3116426","HLCUBSC230521930","40 Dry","PKBQM",605034,"2023-06-02","2023-06-13",288,"BL"]
[{"$f":"B33442&\":\"&COUNTIF($B$2:B33442,B33442)","v":"HLCUTOR230503466:1"},"HLCUTOR230503466","TCNU7081144","HLCUTOR230503466","40 Dry","PKBQM",605034,"2023-06-02","2023-06-13",288,"SW"]
[{"$f":"B33443&\":\"&COUNTIF($B$2:B33443,B33443)","v":"HLCUBSC230522892:1"},"HLCUBSC230522892","UACU4169233","HLCUBSC230522892","20 Dry","PKBQM",605034,"2023-06-02","2023-06-13",288,"BL"]
[{"$f":"B33444&\":\"&COUNTIF($B$2:B33444,B33444)","v":"HLCUBSC230522892:2"},"HLCUBSC230522892","FANU1355341","HLCUBSC230522892","20 Dry","PKBQM",605034,"2023-06-02","2023-06-13",288,"BL"]
[{"$f":"B33445&\":\"&COUNTIF($B$2:B33445,B33445)","v":"HLCUBSC230537172:1"},"HLCUBSC230537172","BSIU2594681","HLCUBSC230537172","20 Dry","PKBQM",605034,"2023-06-02","2023-06-11",288,"BL"]
[{"$f":"B33446&\":\"&COUNTIF($B$2:B33446,B33446)","v":"HLCUBSC230537172:2"},"HLCUBSC230537172","CAIU6059780","HLCUBSC230537172","20 Dry","PKBQM",605034,"2023-06-02","2023-06-11",288,"BL"]
[{"$f":"B33447&\":\"&COUNTIF($B$2:B33447,B33447)","v":"HLCUBSC230537172:3"},"HLCUBSC230537172","HLXU1363954","HLCUBSC230537172","20 Dry","PKBQM",605034,"2023-06-02","2023-06-11",288,"BL"]
[{"$f":"B33448&\":\"&COUNTIF($B$2:B33448,B33448)","v":"HLCUBSC230537172:4"},"HLCUBSC230537172","TCKU3731592","HLCUBSC230537172","20 Dry","PKBQM",605034,"2023-06-02","2023-06-11",288,"BL"]
[{"$f":"B33449&\":\"&COUNTIF($B$2:B33449,B33449)","v":"HLCUMTR230424802:1"},"HLCUMTR230424802","FANU1716866","HLCUMTR230424802","40 Dry","PKBQM",605034,"2023-06-02","2023-06-13",288,"BL"]
[{"$f":"B33450&\":\"&COUNTIF($B$2:B33450,B33450)","v":"HLCUBSC230508841:1"},"HLCUBSC230508841","BEAU2266553","HLCUBSC230508841","20 Dry","PKBQM",605034,"2023-06-02","2023-06-13",288,"SW"]
[{"$f":"B33451&\":\"&COUNTIF($B$2:B33451,B33451)","v":"HLCUBSC230508841:2"},"HLCUBSC230508841","UACU3675962","HLCUBSC230508841","20 Dry","PKBQM",605034,"2023-06-02","2023-06-13",288,"SW"]
[{"$f":"B33452&\":\"&COUNTIF($B$2:B33452,B33452)","v":"HLCUBSC230508841:3"},"HLCUBSC230508841","SEGU3579019","HLCUBSC230508841","20 Dry","PKBQM",605034,"2023-06-02","2023-06-13",288,"SW"]
[{"$f":"B33453&\":\"&COUNTIF($B$2:B33453,B33453)","v":"HLCUBSC2304BLXW1:1"},"HLCUBSC2304BLXW1","TCLU6672633","HLCUBSC2304BLXW1","40 Dry","PKBQM",605034,"2023-06-02","2023-06-13",288,"SW"]
[{"$f":"B33454&\":\"&COUNTIF($B$2:B33454,B33454)","v":"HLCUBSC230515510:1"},"HLCUBSC230515510","HLBU3153970","HLCUBSC230515510","40 Dry","PKBQM",605034,"2023-06-02","2023-06-13",288,"SW"]
[{"$f":"B33455&\":\"&COUNTIF($B$2:B33455,B33455)","v":"HLCUTOR230503455:1"},"HLCUTOR230503455","FANU1461446","HLCUTOR230503455","40 Dry","PKBQM",605034,"2023-06-02","2023-06-13",288,"SW"]
[{"$f":"B33456&\":\"&COUNTIF($B$2:B33456,B33456)","v":"HLCUBSC230504109:1"},"HLCUBSC230504109","HLBU3084870","HLCUBSC230504109","40 Dry","PKBQM",605034,"2023-06-02","2023-06-13",288,"SW"]
[{"$f":"B33457&\":\"&COUNTIF($B$2:B33457,B33457)","v":"HLCUBSC2304BMDW4:1"},"HLCUBSC2304BMDW4","HLBU2511508","HLCUBSC2304BMDW4","40 Dry","PKBQM",605034,"2023-06-02","2023-06-13",288,"BL"]
[{"$f":"B33458&\":\"&COUNTIF($B$2:B33458,B33458)","v":"HLCUBSC230523450:1"},"HLCUBSC230523450","HLBU1658789","HLCUBSC230523450","40 Dry","PKBQM",605034,"2023-06-02","2023-06-22",288,"BL"]
[{"$f":"B33459&\":\"&COUNTIF($B$2:B33459,B33459)","v":"HLCUBSC230523450:2"},"HLCUBSC230523450","FANU1050390","HLCUBSC230523450","40 Dry","PKBQM",605034,"2023-06-02","2023-06-22",288,"BL"]
[{"$f":"B33460&\":\"&COUNTIF($B$2:B33460,B33460)","v":"HLCUBSC230523533:1"},"HLCUBSC230523533","FCIU7104012","HLCUBSC230523533","40 Dry","PKBQM",605034,"2023-06-02","2023-06-22",288,"BL"]
[{"$f":"B33461&\":\"&COUNTIF($B$2:B33461,B33461)","v":"HLCUBSC2304BCGB0:1"},"HLCUBSC2304BCGB0","HLBU2649056","HLCUBSC2304BCGB0","20 Dry","PKBQM",605034,"2023-06-02","2023-06-13",288,"SW"]
[{"$f":"B33462&\":\"&COUNTIF($B$2:B33462,B33462)","v":"HLCUBSC2304BCGB0:2"},"HLCUBSC2304BCGB0","TEMU1393124","HLCUBSC2304BCGB0","20 Dry","PKBQM",605034,"2023-06-02","2023-06-13",288,"SW"]
[{"$f":"B33463&\":\"&COUNTIF($B$2:B33463,B33463)","v":"HLCUBSC2304BCGB0:3"},"HLCUBSC2304BCGB0","FTAU1595860","HLCUBSC2304BCGB0","20 Dry","PKBQM",605034,"2023-06-02","2023-06-13",288,"SW"]
[{"$f":"B33464&\":\"&COUNTIF($B$2:B33464,B33464)","v":"HLCUBSC2304BCGB0:4"},"HLCUBSC2304BCGB0","CAIU6983156","HLCUBSC2304BCGB0","20 Dry","PKBQM",605034,"2023-06-02","2023-06-13",288,"SW"]
[{"$f":"B33465&\":\"&COUNTIF($B$2:B33465,B33465)","v":"HLCUBSC2304BCIB0:1"},"HLCUBSC2304BCIB0","FCIU6500282","HLCUBSC2304BCIB0","20 Dry","PKBQM",605034,"2023-06-02","2023-06-13",288,"BL"]
[{"$f":"B33466&\":\"&COUNTIF($B$2:B33466,B33466)","v":"HLCUBSC230526246:1"},"HLCUBSC230526246","CAIU2607295","HLCUBSC230526246","20 Dry","PKBQM",605034,"2023-06-02","2023-06-15",288,"BL"]
[{"$f":"B33467&\":\"&COUNTIF($B$2:B33467,B33467)","v":"HLCUBSC2304BPFI9:1"},"HLCUBSC2304BPFI9","HLXU1151066","HLCUBSC2304BPFI9","20 Dry","PKBQM",605034,"2023-06-02","2023-06-13",288,"BL"]
[{"$f":"B33468&\":\"&COUNTIF($B$2:B33468,B33468)","v":"HLCUBSC2304BPFI9:2"},"HLCUBSC2304BPFI9","BMOU2728872","HLCUBSC2304BPFI9","20 Dry","PKBQM",605034,"2023-06-02","2023-06-13",288,"BL"]
[{"$f":"B33469&\":\"&COUNTIF($B$2:B33469,B33469)","v":"HLCUTOR230503444:1"},"HLCUTOR230503444","FANU1300478","HLCUTOR230503444","40 Dry","PKBQM",605034,"2023-06-02","2023-06-13",288,"SW"]
[{"$f":"B33470&\":\"&COUNTIF($B$2:B33470,B33470)","v":"HLCUBSC2304BPKY2:1"},"HLCUBSC2304BPKY2","NIDU2294482","HLCUBSC2304BPKY2","20 Dry","PKBQM",605034,"2023-06-02","2023-06-13",288,"BL"]
[{"$f":"B33471&\":\"&COUNTIF($B$2:B33471,B33471)","v":"HLCUBSC2304BNAV4:1"},"HLCUBSC2304BNAV4","TGHU6235150","HLCUBSC2304BNAV4","40 Dry","PKBQM",605034,"2023-06-02","2023-06-13",288,"SW"]
[{"$f":"B33472&\":\"&COUNTIF($B$2:B33472,B33472)","v":"HLCUBSC230515638:1"},"HLCUBSC230515638","TCNU7778870","HLCUBSC230515638","40 Dry","PKBQM",605034,"2023-06-02","2023-06-13",288,"SW"]
[{"$f":"B33473&\":\"&COUNTIF($B$2:B33473,B33473)","v":"HLCUBSC230511955:1"},"HLCUBSC230511955","TRLU9677160","HLCUBSC230511955","20 Dry","PKBQM",605034,"2023-06-02","2023-06-13",288,"SW"]
[{"$f":"B33474&\":\"&COUNTIF($B$2:B33474,B33474)","v":"HLCUBSC2304BNOW2:1"},"HLCUBSC2304BNOW2","SEGU3643735","HLCUBSC2304BNOW2","20 Dry","PKBQM",605034,"2023-06-02","2023-06-13",288,"SW"]
[{"$f":"B33475&\":\"&COUNTIF($B$2:B33475,B33475)","v":"HLCUBSC2304BQPH0:1"},"HLCUBSC2304BQPH0","BEAU4720665","HLCUBSC2304BQPH0","40 Dry","PKBQM",605034,"2023-06-02","2023-06-22",288,"BL"]
[{"$f":"B33476&\":\"&COUNTIF($B$2:B33476,B33476)","v":"HLCUBSC2304BLYQ0:1"},"HLCUBSC2304BLYQ0","TEMU7548516","HLCUBSC2304BLYQ0","40 Dry","PKBQM",605034,"2023-06-02","2023-06-13",288,"SW"]
[{"$f":"B33477&\":\"&COUNTIF($B$2:B33477,B33477)","v":"HLCUTOR230500596:1"},"HLCUTOR230500596","FSCU8238334","HLCUTOR230500596","40 Dry","PKBQM",605034,"2023-06-02","2023-06-13",288,"BL"]
[{"$f":"B33478&\":\"&COUNTIF($B$2:B33478,B33478)","v":"HLCUTOR230500596:2"},"HLCUTOR230500596","FANU1867878","HLCUTOR230500596","40 Dry","PKBQM",605034,"2023-06-02","2023-06-13",288,"BL"]
[{"$f":"B33479&\":\"&COUNTIF($B$2:B33479,B33479)","v":"HLCUBSC2303BQCL0:1"},"HLCUBSC2303BQCL0","HLXU8514081","HLCUBSC2303BQCL0","40 Dry","PKBQM",605034,"2023-06-02","2023-06-22",288,"SW"]
[{"$f":"B33480&\":\"&COUNTIF($B$2:B33480,B33480)","v":"HLCUBSC2304BMYT6:1"},"HLCUBSC2304BMYT6","UACU5908791","HLCUBSC2304BMYT6","40 Dry","PKBQM",605034,"2023-06-02","2023-06-13",288,"BL"]
[{"$f":"B33481&\":\"&COUNTIF($B$2:B33481,B33481)","v":"HLCUBSC230519650:1"},"HLCUBSC230519650","FANU1872771","HLCUBSC230519650","40 Dry","PKBQM",605034,"2023-06-02","2023-06-22",288,"BL"]
[{"$f":"B33482&\":\"&COUNTIF($B$2:B33482,B33482)","v":"HLCUBSC2304BJFD5:1"},"HLCUBSC2304BJFD5","HLBU1091268","HLCUBSC2304BJFD5","40 Dry","PKBQM",605034,"2023-06-02","2023-06-06",288,"BL"]
[{"$f":"B33483&\":\"&COUNTIF($B$2:B33483,B33483)","v":"HLCUVAN230501460:1"},"HLCUVAN230501460","CAIU8455667","HLCUVAN230501460","40 Dry","PKBQM",605034,"2023-06-02","2023-06-13",288,"SW"]
[{"$f":"B33484&\":\"&COUNTIF($B$2:B33484,B33484)","v":"HLCUTOR230507613:1"},"HLCUTOR230507613","GESU6505210","HLCUTOR230507613","40 Dry","PKBQM",605034,"2023-06-02","2023-06-13",288,"BL"]
[{"$f":"B33485&\":\"&COUNTIF($B$2:B33485,B33485)","v":"HLCUDX3230540483:1"},"HLCUDX3230540483","GCXU5879723","HLCUDX3230540483","40 Dry","PKKHI",609374,"2023-06-02","2023-07-01",288,"SW"]
[{"$f":"B33486&\":\"&COUNTIF($B$2:B33486,B33486)","v":"HLCUDX3230540483:2"},"HLCUDX3230540483","TGBU6234911","HLCUDX3230540483","40 Dry","PKKHI",609374,"2023-06-02","2023-07-01",288,"SW"]
[{"$f":"B33487&\":\"&COUNTIF($B$2:B33487,B33487)","v":"HLCUDX3230540483:3"},"HLCUDX3230540483","BEAU4927159","HLCUDX3230540483","40 Dry","PKKHI",609374,"2023-06-03","2023-07-02",288,"SW"]
[{"$f":"B33488&\":\"&COUNTIF($B$2:B33488,B33488)","v":"HLCUDX3230540483:4"},"HLCUDX3230540483","TRHU4530203","HLCUDX3230540483","40 Dry","PKKHI",609374,"2023-06-03","2023-07-02",288,"SW"]
[{"$f":"B33489&\":\"&COUNTIF($B$2:B33489,B33489)","v":"HLCUDX3230540483:5"},"HLCUDX3230540483","FSCU7223670","HLCUDX3230540483","40 Dry","PKKHI",609374,"2023-06-03","2023-07-02",288,"SW"]
[{"$f":"B33490&\":\"&COUNTIF($B$2:B33490,B33490)","v":"HLCUDX3230540483:6"},"HLCUDX3230540483","HLXU8209730","HLCUDX3230540483","40 Dry","PKKHI",609374,"2023-06-02","2023-07-01",288,"SW"]
[{"$f":"B33491&\":\"&COUNTIF($B$2:B33491,B33491)","v":"HLCUDX3230540483:7"},"HLCUDX3230540483","FFAU1188446","HLCUDX3230540483","40 Dry","PKKHI",609374,"2023-06-02","2023-07-01",288,"SW"]
[{"$f":"B33492&\":\"&COUNTIF($B$2:B33492,B33492)","v":"HLCUDX3230540483:8"},"HLCUDX3230540483","DAYU6131921","HLCUDX3230540483","40 Dry","PKKHI",609374,"2023-06-03","2023-07-02",288,"SW"]
[{"$f":"B33493&\":\"&COUNTIF($B$2:B33493,B33493)","v":"HLCUDX3230540483:9"},"HLCUDX3230540483","HLBU2904167","HLCUDX3230540483","40 Dry","PKKHI",609374,"2023-06-03","2023-07-02",288,"SW"]
[{"$f":"B33494&\":\"&COUNTIF($B$2:B33494,B33494)","v":"HLCUDX3230540483:10"},"HLCUDX3230540483","HLBU3109155","HLCUDX3230540483","40 Dry","PKKHI",609374,"2023-06-03","2023-07-02",288,"SW"]
[{"$f":"B33495&\":\"&COUNTIF($B$2:B33495,B33495)","v":"HLCUDX3230540483:11"},"HLCUDX3230540483","HLBU1153307","HLCUDX3230540483","40 Dry","PKKHI",609374,"2023-06-02","2023-07-01",288,"SW"]
[{"$f":"B33496&\":\"&COUNTIF($B$2:B33496,B33496)","v":"HLCUDX3230540483:12"},"HLCUDX3230540483","DFSU7415635","HLCUDX3230540483","40 Dry","PKKHI",609374,"2023-06-02","2023-07-01",288,"SW"]
[{"$f":"B33497&\":\"&COUNTIF($B$2:B33497,B33497)","v":"HLCUDX3230540483:13"},"HLCUDX3230540483","HLXU8005968","HLCUDX3230540483","40 Dry","PKKHI",609374,"2023-06-02","2023-07-01",288,"SW"]
[{"$f":"B33498&\":\"&COUNTIF($B$2:B33498,B33498)","v":"HLCUDX3230540483:14"},"HLCUDX3230540483","FANU1149377","HLCUDX3230540483","40 Dry","PKKHI",609374,"2023-06-02","2023-07-01",288,"SW"]
[{"$f":"B33499&\":\"&COUNTIF($B$2:B33499,B33499)","v":"HLCUDX3230540483:15"},"HLCUDX3230540483","FANU1187989","HLCUDX3230540483","40 Dry","PKKHI",609374,"2023-06-02","2023-07-01",288,"SW"]
[{"$f":"B33500&\":\"&COUNTIF($B$2:B33500,B33500)","v":"HLCUAS0230301105:1"},"HLCUAS0230301105","TCKU1663550","HLCUAS0230301105","20 Dry","PKKHI",609374,"2023-06-03","2023-06-16",288,"BL"]
[{"$f":"B33501&\":\"&COUNTIF($B$2:B33501,B33501)","v":"HLCUAS0230301105:2"},"HLCUAS0230301105","HLBU3061703","HLCUAS0230301105","20 Dry","PKKHI",609374,"2023-06-03","2023-06-16",288,"BL"]
[{"$f":"B33502&\":\"&COUNTIF($B$2:B33502,B33502)","v":"HLCUAS0230301105:3"},"HLCUAS0230301105","FBIU0238506","HLCUAS0230301105","20 Dry","PKKHI",609374,"2023-06-03","2023-06-16",288,"BL"]
[{"$f":"B33503&\":\"&COUNTIF($B$2:B33503,B33503)","v":"HLCUAS0230301105:4"},"HLCUAS0230301105","HLBU2336107","HLCUAS0230301105","20 Dry","PKKHI",609374,"2023-06-03","2023-06-16",288,"BL"]
[{"$f":"B33504&\":\"&COUNTIF($B$2:B33504,B33504)","v":"HLCUAS0230301105:5"},"HLCUAS0230301105","FCIU6510491","HLCUAS0230301105","20 Dry","PKKHI",609374,"2023-06-03","2023-06-16",288,"BL"]
[{"$f":"B33505&\":\"&COUNTIF($B$2:B33505,B33505)","v":"HLCUAS0230301105:6"},"HLCUAS0230301105","CAIU3335057","HLCUAS0230301105","20 Dry","PKKHI",609374,"2023-06-03","2023-06-16",288,"BL"]
[{"$f":"B33506&\":\"&COUNTIF($B$2:B33506,B33506)","v":"HLCUAS0230301105:7"},"HLCUAS0230301105","HLBU3036866","HLCUAS0230301105","20 Dry","PKKHI",609374,"2023-06-03","2023-06-16",288,"BL"]
[{"$f":"B33507&\":\"&COUNTIF($B$2:B33507,B33507)","v":"HLCUAS0230301127:1"},"HLCUAS0230301127","UACU3965827","HLCUAS0230301127","20 Dry","PKKHI",609374,"2023-06-03","2023-06-16",288,"BL"]
[{"$f":"B33508&\":\"&COUNTIF($B$2:B33508,B33508)","v":"HLCUAS0230301127:2"},"HLCUAS0230301127","UACU3741468","HLCUAS0230301127","20 Dry","PKKHI",609374,"2023-06-03","2023-06-16",288,"BL"]
[{"$f":"B33509&\":\"&COUNTIF($B$2:B33509,B33509)","v":"HLCUAS0230301127:3"},"HLCUAS0230301127","TCLU3339296","HLCUAS0230301127","20 Dry","PKKHI",609374,"2023-06-03","2023-06-16",288,"BL"]
[{"$f":"B33510&\":\"&COUNTIF($B$2:B33510,B33510)","v":"HLCUAS0230301127:4"},"HLCUAS0230301127","HLBU2352010","HLCUAS0230301127","20 Dry","PKKHI",609374,"2023-06-03","2023-06-16",288,"BL"]
[{"$f":"B33511&\":\"&COUNTIF($B$2:B33511,B33511)","v":"HLCUAS0230301127:5"},"HLCUAS0230301127","BEAU2205809","HLCUAS0230301127","20 Dry","PKKHI",609374,"2023-06-03","2023-06-16",288,"BL"]
[{"$f":"B33512&\":\"&COUNTIF($B$2:B33512,B33512)","v":"HLCUAS0230301127:6"},"HLCUAS0230301127","FCIU6324007","HLCUAS0230301127","20 Dry","PKKHI",609374,"2023-06-03","2023-06-16",288,"BL"]
[{"$f":"B33513&\":\"&COUNTIF($B$2:B33513,B33513)","v":"HLCUAS0230301127:7"},"HLCUAS0230301127","FBIU0037923","HLCUAS0230301127","20 Dry","PKKHI",609374,"2023-06-03","2023-06-16",288,"BL"]
[{"$f":"B33514&\":\"&COUNTIF($B$2:B33514,B33514)","v":"HLCUDX3230554575:1"},"HLCUDX3230554575","FANU3175605","HLCUDX3230554575","40 Dry","PKKHI",609374,"2023-06-02","2023-06-22",288,"SW"]
[{"$f":"B33515&\":\"&COUNTIF($B$2:B33515,B33515)","v":"HLCUDX3230544356:1"},"HLCUDX3230544356","FSCU7233214","HLCUDX3230544356","40 Dry","PKKHI",609374,"2023-06-03","2023-06-23",288,"BL"]
[{"$f":"B33516&\":\"&COUNTIF($B$2:B33516,B33516)","v":"HLCUDX3230544356:2"},"HLCUDX3230544356","HLXU8577937","HLCUDX3230544356","40 Dry","PKKHI",609374,"2023-06-03","2023-06-23",288,"BL"]
[{"$f":"B33517&\":\"&COUNTIF($B$2:B33517,B33517)","v":"HLCUDX3230544356:3"},"HLCUDX3230544356","SEGU5658035","HLCUDX3230544356","40 Dry","PKKHI",609374,"2023-06-03","2023-06-23",288,"BL"]
[{"$f":"B33518&\":\"&COUNTIF($B$2:B33518,B33518)","v":"HLCUDX3230544356:4"},"HLCUDX3230544356","HLXU8273425","HLCUDX3230544356","40 Dry","PKKHI",609374,"2023-06-03","2023-06-23",288,"BL"]
[{"$f":"B33519&\":\"&COUNTIF($B$2:B33519,B33519)","v":"HLCUDX3230547387:1"},"HLCUDX3230547387","SEGU6731948","HLCUDX3230547387","40 Dry","PKKHI",609374,"2023-06-03","2023-06-23",288,"BL"]
[{"$f":"B33520&\":\"&COUNTIF($B$2:B33520,B33520)","v":"HLCUDX3230555333:1"},"HLCUDX3230555333","HLBU3374164","HLCUDX3230555333","40 Dry","PKKHI",609374,"2023-06-03","2023-06-23",288,"BL"]
[{"$f":"B33521&\":\"&COUNTIF($B$2:B33521,B33521)","v":"HLCUDX3230555333:2"},"HLCUDX3230555333","HLBU2793401","HLCUDX3230555333","40 Dry","PKKHI",609374,"2023-06-03","2023-06-23",288,"BL"]
[{"$f":"B33522&\":\"&COUNTIF($B$2:B33522,B33522)","v":"HLCUDX3230547153:1"},"HLCUDX3230547153","TXGU6977360","HLCUDX3230547153","40 Dry","PKKHI",609374,"2023-06-03","2023-06-23",288,"BL"]
[{"$f":"B33523&\":\"&COUNTIF($B$2:B33523,B33523)","v":"HLCUDX3230547153:2"},"HLCUDX3230547153","TGBU5739880","HLCUDX3230547153","40 Dry","PKKHI",609374,"2023-06-03","2023-06-23",288,"BL"]
[{"$f":"B33524&\":\"&COUNTIF($B$2:B33524,B33524)","v":"HLCUDX3230547153:3"},"HLCUDX3230547153","TCKU6029701","HLCUDX3230547153","40 Dry","PKKHI",609374,"2023-06-03","2023-06-23",288,"BL"]
[{"$f":"B33525&\":\"&COUNTIF($B$2:B33525,B33525)","v":"HLCUDX3230547142:1"},"HLCUDX3230547142","UACU3797940","HLCUDX3230547142","20 Dry","PKKHI",609374,"2023-06-03","2023-06-23",288,"BL"]
[{"$f":"B33526&\":\"&COUNTIF($B$2:B33526,B33526)","v":"HLCUDX3230547142:2"},"HLCUDX3230547142","TCLU2862390","HLCUDX3230547142","20 Dry","PKKHI",609374,"2023-06-03","2023-06-23",288,"BL"]
[{"$f":"B33527&\":\"&COUNTIF($B$2:B33527,B33527)","v":"HLCUDX3230547142:3"},"HLCUDX3230547142","HLBU1732973","HLCUDX3230547142","20 Dry","PKKHI",609374,"2023-06-03","2023-06-23",288,"BL"]
[{"$f":"B33528&\":\"&COUNTIF($B$2:B33528,B33528)","v":"HLCUDX3230549305:1"},"HLCUDX3230549305","HLBU2839170","HLCUDX3230549305","40 Dry","PKKHI",609374,"2023-06-03","2023-06-23",288,"BL"]
[{"$f":"B33529&\":\"&COUNTIF($B$2:B33529,B33529)","v":"HLCUDX3230549305:2"},"HLCUDX3230549305","CAIU9001355","HLCUDX3230549305","40 Dry","PKKHI",609374,"2023-06-03","2023-06-23",288,"BL"]
[{"$f":"B33530&\":\"&COUNTIF($B$2:B33530,B33530)","v":"HLCUDX3230549305:3"},"HLCUDX3230549305","TEMU7498987","HLCUDX3230549305","40 Dry","PKKHI",609374,"2023-06-03","2023-06-23",288,"BL"]
[{"$f":"B33531&\":\"&COUNTIF($B$2:B33531,B33531)","v":"HLCUDX3230549305:4"},"HLCUDX3230549305","FANU1638824","HLCUDX3230549305","40 Dry","PKKHI",609374,"2023-06-03","2023-06-23",288,"BL"]
[{"$f":"B33532&\":\"&COUNTIF($B$2:B33532,B33532)","v":"HLCUDX3230549305:5"},"HLCUDX3230549305","RFCU5028562","HLCUDX3230549305","40 Dry","PKKHI",609374,"2023-06-03","2023-06-23",288,"BL"]
[{"$f":"B33533&\":\"&COUNTIF($B$2:B33533,B33533)","v":"HLCUDX3230549305:6"},"HLCUDX3230549305","CRSU9081442","HLCUDX3230549305","40 Dry","PKKHI",609374,"2023-06-03","2023-06-23",288,"BL"]
[{"$f":"B33534&\":\"&COUNTIF($B$2:B33534,B33534)","v":"HLCUDX3230549305:7"},"HLCUDX3230549305","HLXU8318788","HLCUDX3230549305","40 Dry","PKKHI",609374,"2023-06-03","2023-06-23",288,"BL"]
[{"$f":"B33535&\":\"&COUNTIF($B$2:B33535,B33535)","v":"HLCUDX3230540534:1"},"HLCUDX3230540534","FCIU7622840","HLCUDX3230540534","40 Dry","PKKHI",609374,"2023-06-03","2023-06-23",288,"BL"]
[{"$f":"B33536&\":\"&COUNTIF($B$2:B33536,B33536)","v":"HLCUDX3230540534:2"},"HLCUDX3230540534","UACU5832844","HLCUDX3230540534","40 Dry","PKKHI",609374,"2023-06-03","2023-06-23",288,"BL"]
[{"$f":"B33537&\":\"&COUNTIF($B$2:B33537,B33537)","v":"HLCUDX3230540534:3"},"HLCUDX3230540534","BSIU9867900","HLCUDX3230540534","40 Dry","PKKHI",609374,"2023-06-03","2023-06-23",288,"BL"]
[{"$f":"B33538&\":\"&COUNTIF($B$2:B33538,B33538)","v":"HLCUDX3230540534:4"},"HLCUDX3230540534","FSCU7147857","HLCUDX3230540534","40 Dry","PKKHI",609374,"2023-06-03","2023-06-23",288,"BL"]
[{"$f":"B33539&\":\"&COUNTIF($B$2:B33539,B33539)","v":"HLCUDX3230540534:5"},"HLCUDX3230540534","TXGU7010204","HLCUDX3230540534","40 Dry","PKKHI",609374,"2023-06-03","2023-06-23",288,"BL"]
[{"$f":"B33540&\":\"&COUNTIF($B$2:B33540,B33540)","v":"HLCUDX3230540534:6"},"HLCUDX3230540534","TCKU6553088","HLCUDX3230540534","40 Dry","PKKHI",609374,"2023-06-03","2023-06-23",288,"BL"]
[{"$f":"B33541&\":\"&COUNTIF($B$2:B33541,B33541)","v":"HLCUDX3230540534:7"},"HLCUDX3230540534","UACU5455735","HLCUDX3230540534","40 Dry","PKKHI",609374,"2023-06-03","2023-06-23",288,"BL"]
[{"$f":"B33542&\":\"&COUNTIF($B$2:B33542,B33542)","v":"HLCUDX3230540534:8"},"HLCUDX3230540534","TGBU6067964","HLCUDX3230540534","40 Dry","PKKHI",609374,"2023-06-03","2023-06-23",288,"BL"]
[{"$f":"B33543&\":\"&COUNTIF($B$2:B33543,B33543)","v":"HLCUDX3230540534:9"},"HLCUDX3230540534","HLBU1481517","HLCUDX3230540534","40 Dry","PKKHI",609374,"2023-06-03","2023-06-23",288,"BL"]
[{"$f":"B33544&\":\"&COUNTIF($B$2:B33544,B33544)","v":"HLCUDX3230540534:10"},"HLCUDX3230540534","FCIU7498092","HLCUDX3230540534","40 Dry","PKKHI",609374,"2023-06-03","2023-06-23",288,"BL"]
[{"$f":"B33545&\":\"&COUNTIF($B$2:B33545,B33545)","v":"HLCUDM2230506720:1"},"HLCUDM2230506720","BEAU5372878","HLCUDM2230506720","40 Dry","PKKHI",609374,"2023-06-03","2023-06-23",288,"BL"]
[{"$f":"B33546&\":\"&COUNTIF($B$2:B33546,B33546)","v":"HLCUDM2230506720:2"},"HLCUDM2230506720","DRYU9742174","HLCUDM2230506720","40 Dry","PKKHI",609374,"2023-06-03","2023-06-23",288,"BL"]
[{"$f":"B33547&\":\"&COUNTIF($B$2:B33547,B33547)","v":"HLCUDM2230506720:3"},"HLCUDM2230506720","UACU5735042","HLCUDM2230506720","40 Dry","PKKHI",609374,"2023-06-03","2023-06-23",288,"BL"]
[{"$f":"B33548&\":\"&COUNTIF($B$2:B33548,B33548)","v":"HLCUDM2230506720:4"},"HLCUDM2230506720","FFAU1335911","HLCUDM2230506720","40 Dry","PKKHI",609374,"2023-06-03","2023-06-23",288,"BL"]
[{"$f":"B33549&\":\"&COUNTIF($B$2:B33549,B33549)","v":"HLCUDM2230506720:5"},"HLCUDM2230506720","UACU5770249","HLCUDM2230506720","40 Dry","PKKHI",609374,"2023-06-03","2023-06-23",288,"BL"]
[{"$f":"B33550&\":\"&COUNTIF($B$2:B33550,B33550)","v":"HLCUDM2230506720:6"},"HLCUDM2230506720","TGBU5903695","HLCUDM2230506720","40 Dry","PKKHI",609374,"2023-06-03","2023-06-23",288,"BL"]
[{"$f":"B33551&\":\"&COUNTIF($B$2:B33551,B33551)","v":"HLCUDX3230547968:1"},"HLCUDX3230547968","HLBU3106201","HLCUDX3230547968","40 Dry","PKKHI",609374,"2023-06-03","2023-06-23",288,"BL"]
[{"$f":"B33552&\":\"&COUNTIF($B$2:B33552,B33552)","v":"HLCUDM2230410480:1"},"HLCUDM2230410480","TGHU8339699","HLCUDM2230410480","40 Dry","PKKHI",609374,"2023-06-03","2023-06-23",288,"SW"]
[{"$f":"B33553&\":\"&COUNTIF($B$2:B33553,B33553)","v":"HLCUDM2230410480:2"},"HLCUDM2230410480","HLXU8343800","HLCUDM2230410480","40 Dry","PKKHI",609374,"2023-06-03","2023-06-23",288,"SW"]
[{"$f":"B33554&\":\"&COUNTIF($B$2:B33554,B33554)","v":"HLCUDM2230410480:3"},"HLCUDM2230410480","TCLU8077141","HLCUDM2230410480","40 Dry","PKKHI",609374,"2023-06-03","2023-06-23",288,"SW"]
[{"$f":"B33555&\":\"&COUNTIF($B$2:B33555,B33555)","v":"HLCUDM2230410480:4"},"HLCUDM2230410480","STJU4201018","HLCUDM2230410480","40 Dry","PKKHI",609374,"2023-06-03","2023-06-23",288,"SW"]
[{"$f":"B33556&\":\"&COUNTIF($B$2:B33556,B33556)","v":"HLCUDM2230410480:5"},"HLCUDM2230410480","FSCU7238535","HLCUDM2230410480","40 Dry","PKKHI",609374,"2023-06-03","2023-06-23",288,"SW"]
[{"$f":"B33557&\":\"&COUNTIF($B$2:B33557,B33557)","v":"HLCUDM2230410480:6"},"HLCUDM2230410480","CAIU4504249","HLCUDM2230410480","40 Dry","PKKHI",609374,"2023-06-03","2023-06-23",288,"SW"]
[{"$f":"B33558&\":\"&COUNTIF($B$2:B33558,B33558)","v":"HLCUDX3230549813:1"},"HLCUDX3230549813","FANU1984998","HLCUDX3230549813","40 Dry","PKKHI",609374,"2023-06-03","2023-06-23",288,"SW"]
[{"$f":"B33559&\":\"&COUNTIF($B$2:B33559,B33559)","v":"HLCUDX3230549813:2"},"HLCUDX3230549813","HLXU8606439","HLCUDX3230549813","40 Dry","PKKHI",609374,"2023-06-03","2023-06-23",288,"SW"]
[{"$f":"B33560&\":\"&COUNTIF($B$2:B33560,B33560)","v":"HLCUDX3230547701:1"},"HLCUDX3230547701","HLXU1412107","HLCUDX3230547701","20 Dry","PKKHI",609374,"2023-06-03","2023-06-23",288,"BL"]
[{"$f":"B33561&\":\"&COUNTIF($B$2:B33561,B33561)","v":"HLCUDX3230547701:2"},"HLCUDX3230547701","UACU3379662","HLCUDX3230547701","20 Dry","PKKHI",609374,"2023-06-03","2023-06-23",288,"BL"]
[{"$f":"B33562&\":\"&COUNTIF($B$2:B33562,B33562)","v":"HLCUDX3230547701:3"},"HLCUDX3230547701","HLXU1381500","HLCUDX3230547701","20 Dry","PKKHI",609374,"2023-06-03","2023-06-23",288,"BL"]
[{"$f":"B33563&\":\"&COUNTIF($B$2:B33563,B33563)","v":"HLCUDX3230547701:4"},"HLCUDX3230547701","UACU3482670","HLCUDX3230547701","20 Dry","PKKHI",609374,"2023-06-03","2023-06-23",288,"BL"]
[{"$f":"B33564&\":\"&COUNTIF($B$2:B33564,B33564)","v":"HLCUDX3230547701:5"},"HLCUDX3230547701","UACU3790415","HLCUDX3230547701","20 Dry","PKKHI",609374,"2023-06-03","2023-06-23",288,"BL"]
[{"$f":"B33565&\":\"&COUNTIF($B$2:B33565,B33565)","v":"HLCUDX3230547701:6"},"HLCUDX3230547701","HLXU1317033","HLCUDX3230547701","20 Dry","PKKHI",609374,"2023-06-03","2023-06-23",288,"BL"]
[{"$f":"B33566&\":\"&COUNTIF($B$2:B33566,B33566)","v":"HLCUDX3230547701:7"},"HLCUDX3230547701","UACU4111360","HLCUDX3230547701","20 Dry","PKKHI",609374,"2023-06-03","2023-06-23",288,"BL"]
[{"$f":"B33567&\":\"&COUNTIF($B$2:B33567,B33567)","v":"HLCUDX3230547701:8"},"HLCUDX3230547701","HLBU1047840","HLCUDX3230547701","20 Dry","PKKHI",609374,"2023-06-03","2023-06-23",288,"BL"]
[{"$f":"B33568&\":\"&COUNTIF($B$2:B33568,B33568)","v":"HLCUDX3230547701:9"},"HLCUDX3230547701","UACU3407701","HLCUDX3230547701","20 Dry","PKKHI",609374,"2023-06-03","2023-06-23",288,"BL"]
[{"$f":"B33569&\":\"&COUNTIF($B$2:B33569,B33569)","v":"HLCUDX3230547701:10"},"HLCUDX3230547701","HLXU1412468","HLCUDX3230547701","20 Dry","PKKHI",609374,"2023-06-03","2023-06-23",288,"BL"]
[{"$f":"B33570&\":\"&COUNTIF($B$2:B33570,B33570)","v":"HLCUDX3230547701:11"},"HLCUDX3230547701","UACU3663806","HLCUDX3230547701","20 Dry","PKKHI",609374,"2023-06-03","2023-06-23",288,"BL"]
[{"$f":"B33571&\":\"&COUNTIF($B$2:B33571,B33571)","v":"HLCUDX3230547701:12"},"HLCUDX3230547701","HLBU1018230","HLCUDX3230547701","20 Dry","PKKHI",609374,"2023-06-03","2023-06-23",288,"BL"]
[{"$f":"B33572&\":\"&COUNTIF($B$2:B33572,B33572)","v":"HLCUDX3230547701:13"},"HLCUDX3230547701","HLBU1829053","HLCUDX3230547701","20 Dry","PKKHI",609374,"2023-06-03","2023-06-23",288,"BL"]
[{"$f":"B33573&\":\"&COUNTIF($B$2:B33573,B33573)","v":"HLCUDX3230547701:14"},"HLCUDX3230547701","HLXU1419122","HLCUDX3230547701","20 Dry","PKKHI",609374,"2023-06-03","2023-06-23",288,"BL"]
[{"$f":"B33574&\":\"&COUNTIF($B$2:B33574,B33574)","v":"HLCUDX3230547701:15"},"HLCUDX3230547701","NIDU2355905","HLCUDX3230547701","20 Dry","PKKHI",609374,"2023-06-03","2023-06-23",288,"BL"]
[{"$f":"B33575&\":\"&COUNTIF($B$2:B33575,B33575)","v":"HLCUDX3230547701:16"},"HLCUDX3230547701","FANU1362762","HLCUDX3230547701","20 Dry","PKKHI",609374,"2023-06-03","2023-06-23",288,"BL"]
[{"$f":"B33576&\":\"&COUNTIF($B$2:B33576,B33576)","v":"HLCUDX3230547701:17"},"HLCUDX3230547701","NIDU2247074","HLCUDX3230547701","20 Dry","PKKHI",609374,"2023-06-03","2023-06-23",288,"BL"]
[{"$f":"B33577&\":\"&COUNTIF($B$2:B33577,B33577)","v":"HLCUDX3230547701:18"},"HLCUDX3230547701","FCIU2187523","HLCUDX3230547701","20 Dry","PKKHI",609374,"2023-06-03","2023-06-23",288,"BL"]
[{"$f":"B33578&\":\"&COUNTIF($B$2:B33578,B33578)","v":"HLCUDX3230547701:19"},"HLCUDX3230547701","TEMU4328499","HLCUDX3230547701","20 Dry","PKKHI",609374,"2023-06-03","2023-06-23",288,"BL"]
[{"$f":"B33579&\":\"&COUNTIF($B$2:B33579,B33579)","v":"HLCUDOH230502077:1"},"HLCUDOH230502077","TGCU5166591","HLCUDOH230502077","40 Dry","PKKHI",609374,"2023-06-03","2023-06-23",288,"BL"]
[{"$f":"B33580&\":\"&COUNTIF($B$2:B33580,B33580)","v":"HLCUDOH230502077:2"},"HLCUDOH230502077","UACU5174065","HLCUDOH230502077","40 Dry","PKKHI",609374,"2023-06-03","2023-06-23",288,"BL"]
[{"$f":"B33581&\":\"&COUNTIF($B$2:B33581,B33581)","v":"HLCUDOH230502077:3"},"HLCUDOH230502077","UACU5927106","HLCUDOH230502077","40 Dry","PKKHI",609374,"2023-06-03","2023-06-23",288,"BL"]
[{"$f":"B33582&\":\"&COUNTIF($B$2:B33582,B33582)","v":"HLCUDOH230502077:4"},"HLCUDOH230502077","HLBU1439944","HLCUDOH230502077","40 Dry","PKKHI",609374,"2023-06-03","2023-06-23",288,"BL"]
[{"$f":"B33583&\":\"&COUNTIF($B$2:B33583,B33583)","v":"HLCUDOH230502077:5"},"HLCUDOH230502077","FANU3153102","HLCUDOH230502077","40 Dry","PKKHI",609374,"2023-06-03","2023-06-23",288,"BL"]
[{"$f":"B33584&\":\"&COUNTIF($B$2:B33584,B33584)","v":"HLCUDOH230502077:6"},"HLCUDOH230502077","TCNU1598187","HLCUDOH230502077","40 Dry","PKKHI",609374,"2023-06-03","2023-06-23",288,"BL"]
[{"$f":"B33585&\":\"&COUNTIF($B$2:B33585,B33585)","v":"HLCUDOH230502077:7"},"HLCUDOH230502077","TLLU5863510","HLCUDOH230502077","40 Dry","PKKHI",609374,"2023-06-02","2023-06-22",288,"BL"]
[{"$f":"B33586&\":\"&COUNTIF($B$2:B33586,B33586)","v":"HLCUDOH230502077:8"},"HLCUDOH230502077","FANU1115037","HLCUDOH230502077","40 Dry","PKKHI",609374,"2023-06-03","2023-06-23",288,"BL"]
[{"$f":"B33587&\":\"&COUNTIF($B$2:B33587,B33587)","v":"HLCUDX3230531011:1"},"HLCUDX3230531011","FANU1670852","HLCUDX3230531011","40 Dry","PKKHI",609374,"2023-06-03","2023-06-23",288,"SW"]
[{"$f":"B33588&\":\"&COUNTIF($B$2:B33588,B33588)","v":"HLCUDX3230531011:2"},"HLCUDX3230531011","FANU3093580","HLCUDX3230531011","40 Dry","PKKHI",609374,"2023-06-03","2023-06-23",288,"SW"]
[{"$f":"B33589&\":\"&COUNTIF($B$2:B33589,B33589)","v":"HLCUDX3230541102:1"},"HLCUDX3230541102","FANU1872827","HLCUDX3230541102","40 Dry","PKKHI",609374,"2023-06-03","2023-06-23",288,"BL"]
[{"$f":"B33590&\":\"&COUNTIF($B$2:B33590,B33590)","v":"HLCUDX3230553517:1"},"HLCUDX3230553517","FANU1084743","HLCUDX3230553517","40 Dry","PKKHI",609374,"2023-06-03","2023-06-23",288,"BL"]
[{"$f":"B33591&\":\"&COUNTIF($B$2:B33591,B33591)","v":"HLCUDX3230553517:2"},"HLCUDX3230553517","HLBU2506203","HLCUDX3230553517","40 Dry","PKKHI",609374,"2023-06-03","2023-06-23",288,"BL"]
[{"$f":"B33592&\":\"&COUNTIF($B$2:B33592,B33592)","v":"HLCUDX3230535470:1"},"HLCUDX3230535470","SEKU6407698","HLCUDX3230535470","40 Dry","PKKHI",609374,"2023-06-03","2023-06-23",288,"BL"]
[{"$f":"B33593&\":\"&COUNTIF($B$2:B33593,B33593)","v":"HLCUDX3230535470:2"},"HLCUDX3230535470","DFSU6223617","HLCUDX3230535470","40 Dry","PKKHI",609374,"2023-06-03","2023-06-23",288,"BL"]
[{"$f":"B33594&\":\"&COUNTIF($B$2:B33594,B33594)","v":"HLCUDX3230535470:3"},"HLCUDX3230535470","CAIU4368435","HLCUDX3230535470","40 Dry","PKKHI",609374,"2023-06-03","2023-06-23",288,"BL"]
[{"$f":"B33595&\":\"&COUNTIF($B$2:B33595,B33595)","v":"HLCUDX3230535470:4"},"HLCUDX3230535470","TXGU6765103","HLCUDX3230535470","40 Dry","PKKHI",609374,"2023-06-03","2023-06-23",288,"BL"]
[{"$f":"B33596&\":\"&COUNTIF($B$2:B33596,B33596)","v":"HLCUDX3230522738:1"},"HLCUDX3230522738","GLDU3830872","HLCUDX3230522738","20 Dry","PKKHI",609374,"2023-06-03","2023-06-23",288,"BL"]
[{"$f":"B33597&\":\"&COUNTIF($B$2:B33597,B33597)","v":"HLCUDX3230522738:2"},"HLCUDX3230522738","DFSU1265646","HLCUDX3230522738","20 Dry","PKKHI",609374,"2023-06-03","2023-06-23",288,"BL"]
[{"$f":"B33598&\":\"&COUNTIF($B$2:B33598,B33598)","v":"HLCUDX3230522738:3"},"HLCUDX3230522738","FTAU1274095","HLCUDX3230522738","20 Dry","PKKHI",609374,"2023-06-03","2023-06-23",288,"BL"]
[{"$f":"B33599&\":\"&COUNTIF($B$2:B33599,B33599)","v":"HLCUDX3230522738:4"},"HLCUDX3230522738","BSIU2119491","HLCUDX3230522738","20 Dry","PKKHI",609374,"2023-06-03","2023-06-23",288,"BL"]
[{"$f":"B33600&\":\"&COUNTIF($B$2:B33600,B33600)","v":"HLCUDX3230522738:5"},"HLCUDX3230522738","TEMU1609635","HLCUDX3230522738","20 Dry","PKKHI",609374,"2023-06-03","2023-06-23",288,"BL"]
[{"$f":"B33601&\":\"&COUNTIF($B$2:B33601,B33601)","v":"HLCUDX3230522750:1"},"HLCUDX3230522750","WFHU1029456","HLCUDX3230522750","20 Dry","PKKHI",609374,"2023-06-03","2023-06-23",288,"BL"]
[{"$f":"B33602&\":\"&COUNTIF($B$2:B33602,B33602)","v":"HLCUDX3230522750:2"},"HLCUDX3230522750","HLBU2300296","HLCUDX3230522750","20 Dry","PKKHI",609374,"2023-06-03","2023-06-23",288,"BL"]
[{"$f":"B33603&\":\"&COUNTIF($B$2:B33603,B33603)","v":"HLCUDX3230522750:3"},"HLCUDX3230522750","HLXU1061759","HLCUDX3230522750","20 Dry","PKKHI",609374,"2023-06-03","2023-06-23",288,"BL"]
[{"$f":"B33604&\":\"&COUNTIF($B$2:B33604,B33604)","v":"HLCUDX3230522750:4"},"HLCUDX3230522750","CAAU2086574","HLCUDX3230522750","20 Dry","PKKHI",609374,"2023-06-03","2023-06-23",288,"BL"]
[{"$f":"B33605&\":\"&COUNTIF($B$2:B33605,B33605)","v":"HLCUDX3230522750:5"},"HLCUDX3230522750","HLBU3020155","HLCUDX3230522750","20 Dry","PKKHI",609374,"2023-06-03","2023-06-23",288,"BL"]
[{"$f":"B33606&\":\"&COUNTIF($B$2:B33606,B33606)","v":"HLCUDX3230524700:1"},"HLCUDX3230524700","HLXU1220378","HLCUDX3230524700","20 Dry","PKKHI",609374,"2023-06-03","2023-06-23",288,"BL"]
[{"$f":"B33607&\":\"&COUNTIF($B$2:B33607,B33607)","v":"HLCUDX3230524700:2"},"HLCUDX3230524700","BSIU2522866","HLCUDX3230524700","20 Dry","PKKHI",609374,"2023-06-03","2023-06-23",288,"BL"]
[{"$f":"B33608&\":\"&COUNTIF($B$2:B33608,B33608)","v":"HLCUDX3230524700:3"},"HLCUDX3230524700","UACU3732390","HLCUDX3230524700","20 Dry","PKKHI",609374,"2023-06-03","2023-06-23",288,"BL"]
[{"$f":"B33609&\":\"&COUNTIF($B$2:B33609,B33609)","v":"HLCUDX3230524700:4"},"HLCUDX3230524700","BMOU1447886","HLCUDX3230524700","20 Dry","PKKHI",609374,"2023-06-03","2023-06-23",288,"BL"]
[{"$f":"B33610&\":\"&COUNTIF($B$2:B33610,B33610)","v":"HLCUDX3230524700:5"},"HLCUDX3230524700","BEAU2172541","HLCUDX3230524700","20 Dry","PKKHI",609374,"2023-06-03","2023-06-23",288,"BL"]
[{"$f":"B33611&\":\"&COUNTIF($B$2:B33611,B33611)","v":"HLCUDX3230524700:6"},"HLCUDX3230524700","HLBU2924672","HLCUDX3230524700","20 Dry","PKKHI",609374,"2023-06-03","2023-06-23",288,"BL"]
[{"$f":"B33612&\":\"&COUNTIF($B$2:B33612,B33612)","v":"HLCUDX3230524700:7"},"HLCUDX3230524700","TCLU2831320","HLCUDX3230524700","20 Dry","PKKHI",609374,"2023-06-03","2023-06-23",288,"BL"]
[{"$f":"B33613&\":\"&COUNTIF($B$2:B33613,B33613)","v":"HLCUDX3230524700:8"},"HLCUDX3230524700","HLXU1319592","HLCUDX3230524700","20 Dry","PKKHI",609374,"2023-06-03","2023-06-23",288,"BL"]
[{"$f":"B33614&\":\"&COUNTIF($B$2:B33614,B33614)","v":"HLCUDX3230524700:9"},"HLCUDX3230524700","FANU1360420","HLCUDX3230524700","20 Dry","PKKHI",609374,"2023-06-03","2023-06-23",288,"BL"]
[{"$f":"B33615&\":\"&COUNTIF($B$2:B33615,B33615)","v":"HLCUDX3230524700:10"},"HLCUDX3230524700","UACU3790610","HLCUDX3230524700","20 Dry","PKKHI",609374,"2023-06-03","2023-06-23",288,"BL"]
[{"$f":"B33616&\":\"&COUNTIF($B$2:B33616,B33616)","v":"HLCUDX3230544250:1"},"HLCUDX3230544250","FANU1854525","HLCUDX3230544250","40 Dry","PKKHI",609374,"2023-06-03","2023-06-23",288,"BL"]
[{"$f":"B33617&\":\"&COUNTIF($B$2:B33617,B33617)","v":"HLCUDX3230544250:2"},"HLCUDX3230544250","HLBU2886361","HLCUDX3230544250","40 Dry","PKKHI",609374,"2023-06-03","2023-06-23",288,"BL"]
[{"$f":"B33618&\":\"&COUNTIF($B$2:B33618,B33618)","v":"HLCUDX3230554626:1"},"HLCUDX3230554626","HAMU1103311","HLCUDX3230554626","20 Dry","PKKHI",609374,"2023-06-03","2023-06-23",288,"BL"]
[{"$f":"B33619&\":\"&COUNTIF($B$2:B33619,B33619)","v":"HLCUDX3230544050:1"},"HLCUDX3230544050","TEMU6285729","HLCUDX3230544050","40 Dry","PKKHI",609374,"2023-06-03","2023-06-23",288,"BL"]
[{"$f":"B33620&\":\"&COUNTIF($B$2:B33620,B33620)","v":"HLCUDX3230544050:2"},"HLCUDX3230544050","CAIU8999423","HLCUDX3230544050","40 Dry","PKKHI",609374,"2023-06-03","2023-06-23",288,"BL"]
[{"$f":"B33621&\":\"&COUNTIF($B$2:B33621,B33621)","v":"HLCUDX3230544050:3"},"HLCUDX3230544050","FANU1030428","HLCUDX3230544050","40 Dry","PKKHI",609374,"2023-06-03","2023-06-23",288,"BL"]
[{"$f":"B33622&\":\"&COUNTIF($B$2:B33622,B33622)","v":"HLCUDX3230522570:1"},"HLCUDX3230522570","CAIU3643933","HLCUDX3230522570","20 Dry","PKKHI",609374,"2023-06-03","2023-06-23",288,"BL"]
[{"$f":"B33623&\":\"&COUNTIF($B$2:B33623,B33623)","v":"HLCUDX3230522570:2"},"HLCUDX3230522570","HLBU1230595","HLCUDX3230522570","20 Dry","PKKHI",609374,"2023-06-03","2023-06-23",288,"BL"]
[{"$f":"B33624&\":\"&COUNTIF($B$2:B33624,B33624)","v":"HLCUDX3230522570:3"},"HLCUDX3230522570","DRYU2024935","HLCUDX3230522570","20 Dry","PKKHI",609374,"2023-06-03","2023-06-23",288,"BL"]
[{"$f":"B33625&\":\"&COUNTIF($B$2:B33625,B33625)","v":"HLCUDX3230522570:4"},"HLCUDX3230522570","HLBU1227945","HLCUDX3230522570","20 Dry","PKKHI",609374,"2023-06-03","2023-06-23",288,"BL"]
[{"$f":"B33626&\":\"&COUNTIF($B$2:B33626,B33626)","v":"HLCUDX3230522570:5"},"HLCUDX3230522570","HLXU1167890","HLCUDX3230522570","20 Dry","PKKHI",609374,"2023-06-03","2023-06-23",288,"BL"]
[{"$f":"B33627&\":\"&COUNTIF($B$2:B33627,B33627)","v":"HLCUDM2230410470:1"},"HLCUDM2230410470","DRYU9150391","HLCUDM2230410470","40 Dry","PKKHI",609374,"2023-06-03","2023-06-23",288,"SW"]
[{"$f":"B33628&\":\"&COUNTIF($B$2:B33628,B33628)","v":"HLCUDM2230410470:2"},"HLCUDM2230410470","TCNU7052043","HLCUDM2230410470","40 Dry","PKKHI",609374,"2023-06-03","2023-06-23",288,"SW"]
[{"$f":"B33629&\":\"&COUNTIF($B$2:B33629,B33629)","v":"HLCUDM2230410470:3"},"HLCUDM2230410470","HLBU1677562","HLCUDM2230410470","40 Dry","PKKHI",609374,"2023-06-03","2023-06-23",288,"SW"]
[{"$f":"B33630&\":\"&COUNTIF($B$2:B33630,B33630)","v":"HLCUDM2230410470:4"},"HLCUDM2230410470","BMOU6638864","HLCUDM2230410470","40 Dry","PKKHI",609374,"2023-06-03","2023-06-23",288,"SW"]
[{"$f":"B33631&\":\"&COUNTIF($B$2:B33631,B33631)","v":"HLCUDM2230410470:5"},"HLCUDM2230410470","HLBU1155341","HLCUDM2230410470","40 Dry","PKKHI",609374,"2023-06-03","2023-06-23",288,"SW"]
[{"$f":"B33632&\":\"&COUNTIF($B$2:B33632,B33632)","v":"HLCUDX3230547354:1"},"HLCUDX3230547354","HLBU1892293","HLCUDX3230547354","40 Dry","PKKHI",609374,"2023-06-03","2023-06-23",288,"BL"]
[{"$f":"B33633&\":\"&COUNTIF($B$2:B33633,B33633)","v":"HLCUDX3230547354:2"},"HLCUDX3230547354","FANU1184758","HLCUDX3230547354","40 Dry","PKKHI",609374,"2023-06-03","2023-06-23",288,"BL"]
[{"$f":"B33634&\":\"&COUNTIF($B$2:B33634,B33634)","v":"HLCUDX3230547354:3"},"HLCUDX3230547354","FANU1759430","HLCUDX3230547354","40 Dry","PKKHI",609374,"2023-06-03","2023-06-23",288,"BL"]
[{"$f":"B33635&\":\"&COUNTIF($B$2:B33635,B33635)","v":"HLCUDX3230547354:4"},"HLCUDX3230547354","HAMU1137461","HLCUDX3230547354","40 Dry","PKKHI",609374,"2023-06-03","2023-06-23",288,"BL"]
[{"$f":"B33636&\":\"&COUNTIF($B$2:B33636,B33636)","v":"HLCUDX3230547354:5"},"HLCUDX3230547354","HLBU2913071","HLCUDX3230547354","40 Dry","PKKHI",609374,"2023-06-03","2023-06-23",288,"BL"]
[{"$f":"B33637&\":\"&COUNTIF($B$2:B33637,B33637)","v":"HLCUDX3230547354:6"},"HLCUDX3230547354","FANU1749263","HLCUDX3230547354","40 Dry","PKKHI",609374,"2023-06-03","2023-06-23",288,"BL"]
[{"$f":"B33638&\":\"&COUNTIF($B$2:B33638,B33638)","v":"HLCUDX3230539587:1"},"HLCUDX3230539587","GCXU5128738","HLCUDX3230539587","40 Dry","PKKHI",609374,"2023-06-03","2023-06-23",288,"SW"]
[{"$f":"B33639&\":\"&COUNTIF($B$2:B33639,B33639)","v":"HLCUDX3230540713:1"},"HLCUDX3230540713","HLBU2536091","HLCUDX3230540713","40 Dry","PKKHI",609374,"2023-06-03","2023-06-23",288,"BL"]
[{"$f":"B33640&\":\"&COUNTIF($B$2:B33640,B33640)","v":"HLCUDX3230540713:2"},"HLCUDX3230540713","FCIU9109899","HLCUDX3230540713","40 Dry","PKKHI",609374,"2023-06-03","2023-06-23",288,"BL"]
[{"$f":"B33641&\":\"&COUNTIF($B$2:B33641,B33641)","v":"HLCUDX3230540713:3"},"HLCUDX3230540713","HLBU1601443","HLCUDX3230540713","40 Dry","PKKHI",609374,"2023-06-03","2023-06-23",288,"BL"]
[{"$f":"B33642&\":\"&COUNTIF($B$2:B33642,B33642)","v":"HLCUDX3230540713:4"},"HLCUDX3230540713","TCLU5136852","HLCUDX3230540713","40 Dry","PKKHI",609374,"2023-06-03","2023-06-23",288,"BL"]
[{"$f":"B33643&\":\"&COUNTIF($B$2:B33643,B33643)","v":"HLCUDX3230540713:5"},"HLCUDX3230540713","HLBU2696401","HLCUDX3230540713","40 Dry","PKKHI",609374,"2023-06-03","2023-06-23",288,"BL"]
[{"$f":"B33644&\":\"&COUNTIF($B$2:B33644,B33644)","v":"HLCUDX3230540713:6"},"HLCUDX3230540713","HLBU3087014","HLCUDX3230540713","40 Dry","PKKHI",609374,"2023-06-03","2023-06-23",288,"BL"]
[{"$f":"B33645&\":\"&COUNTIF($B$2:B33645,B33645)","v":"HLCUDX3230540713:7"},"HLCUDX3230540713","HLXU8057299","HLCUDX3230540713","40 Dry","PKKHI",609374,"2023-06-03","2023-06-23",288,"BL"]
[{"$f":"B33646&\":\"&COUNTIF($B$2:B33646,B33646)","v":"HLCUDX3230540713:8"},"HLCUDX3230540713","UACU5728470","HLCUDX3230540713","40 Dry","PKKHI",609374,"2023-06-03","2023-06-23",288,"BL"]
[{"$f":"B33647&\":\"&COUNTIF($B$2:B33647,B33647)","v":"HLCUDX3230540713:9"},"HLCUDX3230540713","FANU1951490","HLCUDX3230540713","40 Dry","PKKHI",609374,"2023-06-03","2023-06-23",288,"BL"]
[{"$f":"B33648&\":\"&COUNTIF($B$2:B33648,B33648)","v":"HLCUDX3230540713:10"},"HLCUDX3230540713","GCXU5890717","HLCUDX3230540713","40 Dry","PKKHI",609374,"2023-06-03","2023-06-23",288,"BL"]
[{"$f":"B33649&\":\"&COUNTIF($B$2:B33649,B33649)","v":"HLCUDX3230508965:1"},"HLCUDX3230508965","HLBU1408563","HLCUDX3230508965","40 Dry","PKKHI",609374,"2023-06-03","2023-06-16",288,"BL"]
[{"$f":"B33650&\":\"&COUNTIF($B$2:B33650,B33650)","v":"HLCUDX3230508965:2"},"HLCUDX3230508965","HLBU1274490","HLCUDX3230508965","40 Dry","PKKHI",609374,"2023-06-03","2023-06-16",288,"BL"]
[{"$f":"B33651&\":\"&COUNTIF($B$2:B33651,B33651)","v":"HLCUDX3230549985:1"},"HLCUDX3230549985","UACU5622961","HLCUDX3230549985","40 Dry","PKKHI",609374,"2023-06-03","2023-06-23",288,"SW"]
[{"$f":"B33652&\":\"&COUNTIF($B$2:B33652,B33652)","v":"HLCUDX3230549751:1"},"HLCUDX3230549751","HLBU2030307","HLCUDX3230549751","40 Dry","PKKHI",609374,"2023-06-03","2023-06-23",288,"BL"]
[{"$f":"B33653&\":\"&COUNTIF($B$2:B33653,B33653)","v":"HLCUDX3230529865:1"},"HLCUDX3230529865","HLBU9188758","HLCUDX3230529865","20 Reefer","PKKHI",609374,"2023-06-03","2023-06-05",288,"SW"]
[{"$f":"B33654&\":\"&COUNTIF($B$2:B33654,B33654)","v":"HLCUDX3230522592:1"},"HLCUDX3230522592","UACU3933938","HLCUDX3230522592","20 Dry","PKKHI",609374,"2023-06-03","2023-06-23",288,"BL"]
[{"$f":"B33655&\":\"&COUNTIF($B$2:B33655,B33655)","v":"HLCUDX3230522592:2"},"HLCUDX3230522592","TEMU1470489","HLCUDX3230522592","20 Dry","PKKHI",609374,"2023-06-03","2023-06-23",288,"BL"]
[{"$f":"B33656&\":\"&COUNTIF($B$2:B33656,B33656)","v":"HLCUDX3230522592:3"},"HLCUDX3230522592","HLBU3000605","HLCUDX3230522592","20 Dry","PKKHI",609374,"2023-06-03","2023-06-23",288,"BL"]
[{"$f":"B33657&\":\"&COUNTIF($B$2:B33657,B33657)","v":"HLCUDX3230522592:4"},"HLCUDX3230522592","BSIU2306960","HLCUDX3230522592","20 Dry","PKKHI",609374,"2023-06-03","2023-06-23",288,"BL"]
[{"$f":"B33658&\":\"&COUNTIF($B$2:B33658,B33658)","v":"HLCUDX3230522592:5"},"HLCUDX3230522592","DFSU2660537","HLCUDX3230522592","20 Dry","PKKHI",609374,"2023-06-03","2023-06-23",288,"BL"]
[{"$f":"B33659&\":\"&COUNTIF($B$2:B33659,B33659)","v":"HLCUDA3230401463:1"},"HLCUDA3230401463","HLBU1574543","HLCUDA3230401463","40 Dry","PKKHI",609374,"2023-06-03","2023-06-16",288,"BL"]
[{"$f":"B33660&\":\"&COUNTIF($B$2:B33660,B33660)","v":"HLCUDM2230408219:1"},"HLCUDM2230408219","FANU1436130","HLCUDM2230408219","40 Dry","PKKHI",609374,"2023-06-03","2023-06-23",288,"BL"]
[{"$f":"B33661&\":\"&COUNTIF($B$2:B33661,B33661)","v":"HLCUDM2230408219:2"},"HLCUDM2230408219","SEKU5725673","HLCUDM2230408219","40 Dry","PKKHI",609374,"2023-06-03","2023-06-23",288,"BL"]
[{"$f":"B33662&\":\"&COUNTIF($B$2:B33662,B33662)","v":"HLCUDM2230408219:3"},"HLCUDM2230408219","FANU1684305","HLCUDM2230408219","40 Dry","PKKHI",609374,"2023-06-03","2023-06-23",288,"BL"]
[{"$f":"B33663&\":\"&COUNTIF($B$2:B33663,B33663)","v":"HLCUDM2230408219:4"},"HLCUDM2230408219","TXGU6830282","HLCUDM2230408219","40 Dry","PKKHI",609374,"2023-06-03","2023-06-23",288,"BL"]
[{"$f":"B33664&\":\"&COUNTIF($B$2:B33664,B33664)","v":"HLCUDM2230408219:5"},"HLCUDM2230408219","FANU1854649","HLCUDM2230408219","40 Dry","PKKHI",609374,"2023-06-03","2023-06-23",288,"BL"]
[{"$f":"B33665&\":\"&COUNTIF($B$2:B33665,B33665)","v":"HLCUDM2230410491:1"},"HLCUDM2230410491","HLBU1076704","HLCUDM2230410491","40 Dry","PKKHI",609374,"2023-06-03","2023-06-23",288,"BL"]
[{"$f":"B33666&\":\"&COUNTIF($B$2:B33666,B33666)","v":"HLCUDM2230410491:2"},"HLCUDM2230410491","TCLU5273990","HLCUDM2230410491","40 Dry","PKKHI",609374,"2023-06-03","2023-06-23",288,"BL"]
[{"$f":"B33667&\":\"&COUNTIF($B$2:B33667,B33667)","v":"HLCUDM2230410491:3"},"HLCUDM2230410491","DFSU6487564","HLCUDM2230410491","40 Dry","PKKHI",609374,"2023-06-03","2023-06-23",288,"BL"]
[{"$f":"B33668&\":\"&COUNTIF($B$2:B33668,B33668)","v":"HLCUDM2230410491:4"},"HLCUDM2230410491","UACU5643460","HLCUDM2230410491","40 Dry","PKKHI",609374,"2023-06-03","2023-06-23",288,"BL"]
[{"$f":"B33669&\":\"&COUNTIF($B$2:B33669,B33669)","v":"HLCUDM2230410491:5"},"HLCUDM2230410491","TCLU8074184","HLCUDM2230410491","40 Dry","PKKHI",609374,"2023-06-03","2023-06-23",288,"BL"]
[{"$f":"B33670&\":\"&COUNTIF($B$2:B33670,B33670)","v":"HLCUDX3230547946:1"},"HLCUDX3230547946","HLBU2081351","HLCUDX3230547946","40 Dry","PKKHI",609374,"2023-06-03","2023-06-23",288,"BL"]
[{"$f":"B33671&\":\"&COUNTIF($B$2:B33671,B33671)","v":"HLCUDX3230543700:1"},"HLCUDX3230543700","RFCU5062839","HLCUDX3230543700","40 Dry","PKKHI",609374,"2023-06-03","2023-06-23",288,"BL"]
[{"$f":"B33672&\":\"&COUNTIF($B$2:B33672,B33672)","v":"HLCUDX3230543700:2"},"HLCUDX3230543700","SEKU5767154","HLCUDX3230543700","40 Dry","PKKHI",609374,"2023-06-03","2023-06-23",288,"BL"]
[{"$f":"B33673&\":\"&COUNTIF($B$2:B33673,B33673)","v":"HLCUDX3230534371:1"},"HLCUDX3230534371","HLBU2179883","HLCUDX3230534371","40 Dry","PKKHI",609374,"2023-06-03","2023-06-23",288,"BL"]
[{"$f":"B33674&\":\"&COUNTIF($B$2:B33674,B33674)","v":"HLCUDX3230534371:2"},"HLCUDX3230534371","HAMU1147602","HLCUDX3230534371","40 Dry","PKKHI",609374,"2023-06-03","2023-06-23",288,"BL"]
[{"$f":"B33675&\":\"&COUNTIF($B$2:B33675,B33675)","v":"HLCUDX3230534371:3"},"HLCUDX3230534371","HLBU3144120","HLCUDX3230534371","40 Dry","PKKHI",609374,"2023-06-03","2023-06-23",288,"BL"]
[{"$f":"B33676&\":\"&COUNTIF($B$2:B33676,B33676)","v":"HLCUDX3230534371:4"},"HLCUDX3230534371","HLXU8594662","HLCUDX3230534371","40 Dry","PKKHI",609374,"2023-06-03","2023-06-23",288,"BL"]
[{"$f":"B33677&\":\"&COUNTIF($B$2:B33677,B33677)","v":"HLCUDX3230534371:5"},"HLCUDX3230534371","HLXU8369002","HLCUDX3230534371","40 Dry","PKKHI",609374,"2023-06-02","2023-06-22",288,"BL"]
[{"$f":"B33678&\":\"&COUNTIF($B$2:B33678,B33678)","v":"HLCUDX3230548218:1"},"HLCUDX3230548218","HLBU3396693","HLCUDX3230548218","40 Dry","PKKHI",609374,"2023-06-03","2023-06-23",288,"SW"]
[{"$f":"B33679&\":\"&COUNTIF($B$2:B33679,B33679)","v":"HLCUDX3230548218:2"},"HLCUDX3230548218","FANU1590382","HLCUDX3230548218","40 Dry","PKKHI",609374,"2023-06-03","2023-06-23",288,"SW"]
[{"$f":"B33680&\":\"&COUNTIF($B$2:B33680,B33680)","v":"HLCUDX3230548218:3"},"HLCUDX3230548218","FANU1836286","HLCUDX3230548218","40 Dry","PKKHI",609374,"2023-06-03","2023-06-23",288,"SW"]
[{"$f":"B33681&\":\"&COUNTIF($B$2:B33681,B33681)","v":"HLCUDX3230548218:4"},"HLCUDX3230548218","HAMU1229758","HLCUDX3230548218","40 Dry","PKKHI",609374,"2023-06-03","2023-06-23",288,"SW"]
[{"$f":"B33682&\":\"&COUNTIF($B$2:B33682,B33682)","v":"HLCUDX3230548218:5"},"HLCUDX3230548218","FANU3182902","HLCUDX3230548218","40 Dry","PKKHI",609374,"2023-06-03","2023-06-23",288,"SW"]
[{"$f":"B33683&\":\"&COUNTIF($B$2:B33683,B33683)","v":"HLCUDM2230501452:1"},"HLCUDM2230501452","UACU5912066","HLCUDM2230501452","40 Dry","PKKHI",609374,"2023-06-03","2023-06-23",288,"BL"]
[{"$f":"B33684&\":\"&COUNTIF($B$2:B33684,B33684)","v":"HLCUDM2230501452:2"},"HLCUDM2230501452","FANU1022124","HLCUDM2230501452","40 Dry","PKKHI",609374,"2023-06-03","2023-06-23",288,"BL"]
[{"$f":"B33685&\":\"&COUNTIF($B$2:B33685,B33685)","v":"HLCUDM2230501452:3"},"HLCUDM2230501452","HLBU3432363","HLCUDM2230501452","40 Dry","PKKHI",609374,"2023-06-03","2023-06-23",288,"BL"]
[{"$f":"B33686&\":\"&COUNTIF($B$2:B33686,B33686)","v":"HLCUDM2230501452:4"},"HLCUDM2230501452","HLBU1299349","HLCUDM2230501452","40 Dry","PKKHI",609374,"2023-06-03","2023-06-23",288,"BL"]
[{"$f":"B33687&\":\"&COUNTIF($B$2:B33687,B33687)","v":"HLCUDM2230501452:5"},"HLCUDM2230501452","FANU1900847","HLCUDM2230501452","40 Dry","PKKHI",609374,"2023-06-03","2023-06-23",288,"BL"]
[{"$f":"B33688&\":\"&COUNTIF($B$2:B33688,B33688)","v":"HLCUDM2230501452:6"},"HLCUDM2230501452","FSCU8942045","HLCUDM2230501452","40 Dry","PKKHI",609374,"2023-06-03","2023-06-23",288,"BL"]
[{"$f":"B33689&\":\"&COUNTIF($B$2:B33689,B33689)","v":"HLCUDM2230501452:7"},"HLCUDM2230501452","HLBU1082034","HLCUDM2230501452","40 Dry","PKKHI",609374,"2023-06-03","2023-06-23",288,"BL"]
[{"$f":"B33690&\":\"&COUNTIF($B$2:B33690,B33690)","v":"HLCUDM2230501452:8"},"HLCUDM2230501452","TCNU7118182","HLCUDM2230501452","40 Dry","PKKHI",609374,"2023-06-03","2023-06-23",288,"BL"]
[{"$f":"B33691&\":\"&COUNTIF($B$2:B33691,B33691)","v":"HLCUDM2230501452:9"},"HLCUDM2230501452","UASU1040239","HLCUDM2230501452","40 Dry","PKKHI",609374,"2023-06-03","2023-06-23",288,"BL"]
[{"$f":"B33692&\":\"&COUNTIF($B$2:B33692,B33692)","v":"HLCUDM2230501452:10"},"HLCUDM2230501452","HLXU8484201","HLCUDM2230501452","40 Dry","PKKHI",609374,"2023-06-03","2023-06-23",288,"BL"]
[{"$f":"B33693&\":\"&COUNTIF($B$2:B33693,B33693)","v":"HLCUDX3230547398:1"},"HLCUDX3230547398","HLBU2431357","HLCUDX3230547398","40 Dry","PKKHI",609374,"2023-06-03","2023-06-23",288,"BL"]
[{"$f":"B33694&\":\"&COUNTIF($B$2:B33694,B33694)","v":"HLCUDA3230401189:1"},"HLCUDA3230401189","TXGU7167678","HLCUDA3230401189","40 Dry","PKKHI",609374,"2023-06-03","2023-06-16",288,"BL"]
[{"$f":"B33695&\":\"&COUNTIF($B$2:B33695,B33695)","v":"HLCUDM2230503520:1"},"HLCUDM2230503520","STJU4202230","HLCUDM2230503520","40 Dry","PKKHI",609374,"2023-06-03","2023-06-23",288,"BL"]
[{"$f":"B33696&\":\"&COUNTIF($B$2:B33696,B33696)","v":"HLCUDM2230503520:2"},"HLCUDM2230503520","FANU1575541","HLCUDM2230503520","40 Dry","PKKHI",609374,"2023-06-03","2023-06-23",288,"BL"]
[{"$f":"B33697&\":\"&COUNTIF($B$2:B33697,B33697)","v":"HLCUDM2230503520:3"},"HLCUDM2230503520","TGBU6910024","HLCUDM2230503520","40 Dry","PKKHI",609374,"2023-06-03","2023-06-23",288,"BL"]
[{"$f":"B33698&\":\"&COUNTIF($B$2:B33698,B33698)","v":"HLCUDM2230503520:4"},"HLCUDM2230503520","HLXU8421780","HLCUDM2230503520","40 Dry","PKKHI",609374,"2023-06-03","2023-06-23",288,"BL"]
[{"$f":"B33699&\":\"&COUNTIF($B$2:B33699,B33699)","v":"HLCUDM2230503520:5"},"HLCUDM2230503520","TXGU6537058","HLCUDM2230503520","40 Dry","PKKHI",609374,"2023-06-03","2023-06-23",288,"BL"]
[{"$f":"B33700&\":\"&COUNTIF($B$2:B33700,B33700)","v":"HLCUDM2230512390:1"},"HLCUDM2230512390","FANU1516580","HLCUDM2230512390","40 Dry","PKKHI",609374,"2023-06-03","2023-06-23",288,"BL"]
[{"$f":"B33701&\":\"&COUNTIF($B$2:B33701,B33701)","v":"HLCUDM2230512390:2"},"HLCUDM2230512390","HLXU8067867","HLCUDM2230512390","40 Dry","PKKHI",609374,"2023-06-03","2023-06-23",288,"BL"]
[{"$f":"B33702&\":\"&COUNTIF($B$2:B33702,B33702)","v":"HLCUDM2230512390:3"},"HLCUDM2230512390","HLBU2584119","HLCUDM2230512390","40 Dry","PKKHI",609374,"2023-06-03","2023-06-23",288,"BL"]
[{"$f":"B33703&\":\"&COUNTIF($B$2:B33703,B33703)","v":"HLCUDM2230512390:4"},"HLCUDM2230512390","UACU6061628","HLCUDM2230512390","40 Dry","PKKHI",609374,"2023-06-03","2023-06-23",288,"BL"]
[{"$f":"B33704&\":\"&COUNTIF($B$2:B33704,B33704)","v":"HLCUDM2230512390:5"},"HLCUDM2230512390","HLBU1672447","HLCUDM2230512390","40 Dry","PKKHI",609374,"2023-06-03","2023-06-23",288,"BL"]
[{"$f":"B33705&\":\"&COUNTIF($B$2:B33705,B33705)","v":"HLCURTM230448612:1"},"HLCURTM230448612","UACU8240010","HLCURTM230448612","40 Dry","PKKHI",609633,"2023-06-04","2023-06-08",288,"SW"]
[{"$f":"B33706&\":\"&COUNTIF($B$2:B33706,B33706)","v":"HLCUANR230431281:1"},"HLCUANR230431281","HLXU1293380","HLCUANR230431281","20 Dry","PKKHI",609633,"2023-06-04","2023-06-08",288,"SW"]
[{"$f":"B33707&\":\"&COUNTIF($B$2:B33707,B33707)","v":"HLCUANR230431300:1"},"HLCUANR230431300","TEMU2763943","HLCUANR230431300","20 Dry","PKKHI",609633,"2023-06-04","2023-06-08",288,"BL"]
[{"$f":"B33708&\":\"&COUNTIF($B$2:B33708,B33708)","v":"HLCUBC1230443957:1"},"HLCUBC1230443957","UACU5583588","HLCUBC1230443957","40 Dry","PKKHI",609633,"2023-06-04","2023-06-17",288,"BL"]
[{"$f":"B33709&\":\"&COUNTIF($B$2:B33709,B33709)","v":"HLCUBC1230443957:2"},"HLCUBC1230443957","HAMU1231307","HLCUBC1230443957","40 Dry","PKKHI",609633,"2023-06-04","2023-06-17",288,"BL"]
[{"$f":"B33710&\":\"&COUNTIF($B$2:B33710,B33710)","v":"HLCUANR230465186:1"},"HLCUANR230465186","GESU1201998","HLCUANR230465186","20 Dry","PKKHI",609633,"2023-06-04","2023-06-17",288,"BL"]
[{"$f":"B33711&\":\"&COUNTIF($B$2:B33711,B33711)","v":"HLCUALY230503186:1"},"HLCUALY230503186","CAAU2087502","HLCUALY230503186","20 Dry","PKKHI",609633,"2023-06-04","2023-06-17",288,"BL"]
[{"$f":"B33712&\":\"&COUNTIF($B$2:B33712,B33712)","v":"HLCUALY230503186:2"},"HLCUALY230503186","BEAU2222025","HLCUALY230503186","20 Dry","PKKHI",609633,"2023-06-04","2023-06-17",288,"BL"]
[{"$f":"B33713&\":\"&COUNTIF($B$2:B33713,B33713)","v":"HLCUALY230503186:3"},"HLCUALY230503186","CAIU3224259","HLCUALY230503186","20 Dry","PKKHI",609633,"2023-06-04","2023-06-17",288,"BL"]
[{"$f":"B33714&\":\"&COUNTIF($B$2:B33714,B33714)","v":"HLCUHAM2304BGBI9:1"},"HLCUHAM2304BGBI9","SEGU5707422","HLCUHAM2304BGBI9","40 Dry","PKKHI",609633,"2023-06-04","2023-06-17",288,"SW"]
[{"$f":"B33715&\":\"&COUNTIF($B$2:B33715,B33715)","v":"HLCUHAM2304BGBI9:2"},"HLCUHAM2304BGBI9","FBIU0090825","HLCUHAM2304BGBI9","20 Dry","PKKHI",609633,"2023-06-04","2023-06-17",288,"SW"]
[{"$f":"B33716&\":\"&COUNTIF($B$2:B33716,B33716)","v":"HLCUHAM2304AXXN4:1"},"HLCUHAM2304AXXN4","UACU4083799","HLCUHAM2304AXXN4","20 Dry","PKKHI",609633,"2023-06-04","2023-06-17",288,"SW"]
[{"$f":"B33717&\":\"&COUNTIF($B$2:B33717,B33717)","v":"HLCUIZ1230436040:1"},"HLCUIZ1230436040","HLBU1075164","HLCUIZ1230436040","40 Dry","PKKHI",609633,"2023-06-04","2023-06-17",288,"BL"]
[{"$f":"B33718&\":\"&COUNTIF($B$2:B33718,B33718)","v":"HLCUIZ1230436040:2"},"HLCUIZ1230436040","FANU1489525","HLCUIZ1230436040","40 Dry","PKKHI",609633,"2023-06-04","2023-06-17",288,"BL"]
[{"$f":"B33719&\":\"&COUNTIF($B$2:B33719,B33719)","v":"HLCUIZ1230436040:3"},"HLCUIZ1230436040","HLBU3273894","HLCUIZ1230436040","40 Dry","PKKHI",609633,"2023-06-04","2023-06-17",288,"BL"]
[{"$f":"B33720&\":\"&COUNTIF($B$2:B33720,B33720)","v":"HLCUIZ1230436040:4"},"HLCUIZ1230436040","FANU1793501","HLCUIZ1230436040","40 Dry","PKKHI",609633,"2023-06-04","2023-06-17",288,"BL"]
[{"$f":"B33721&\":\"&COUNTIF($B$2:B33721,B33721)","v":"HLCUIZ1230436040:5"},"HLCUIZ1230436040","BSIU9852875","HLCUIZ1230436040","40 Dry","PKKHI",609633,"2023-06-04","2023-06-17",288,"BL"]
[{"$f":"B33722&\":\"&COUNTIF($B$2:B33722,B33722)","v":"HLCUIZ1230436040:6"},"HLCUIZ1230436040","TCKU6060224","HLCUIZ1230436040","40 Dry","PKKHI",609633,"2023-06-04","2023-06-17",288,"BL"]
[{"$f":"B33723&\":\"&COUNTIF($B$2:B33723,B33723)","v":"HLCUIZ1230436040:7"},"HLCUIZ1230436040","FDCU0118626","HLCUIZ1230436040","40 Dry","PKKHI",609633,"2023-06-04","2023-06-17",288,"BL"]
[{"$f":"B33724&\":\"&COUNTIF($B$2:B33724,B33724)","v":"HLCUIZ1230436040:8"},"HLCUIZ1230436040","FCGU1998468","HLCUIZ1230436040","40 Dry","PKKHI",609633,"2023-06-04","2023-06-17",288,"BL"]
[{"$f":"B33725&\":\"&COUNTIF($B$2:B33725,B33725)","v":"HLCUIZ1230436040:9"},"HLCUIZ1230436040","TCKU6544580","HLCUIZ1230436040","40 Dry","PKKHI",609633,"2023-06-04","2023-06-17",288,"BL"]
[{"$f":"B33726&\":\"&COUNTIF($B$2:B33726,B33726)","v":"HLCUIZ1230436040:10"},"HLCUIZ1230436040","TRHU4553240","HLCUIZ1230436040","40 Dry","PKKHI",609633,"2023-06-04","2023-06-17",288,"BL"]
[{"$f":"B33727&\":\"&COUNTIF($B$2:B33727,B33727)","v":"HLCUHAM2304BIGC6:1"},"HLCUHAM2304BIGC6","BMOU6604714","HLCUHAM2304BIGC6","40 Dry","PKKHI",609633,"2023-06-04","2023-06-17",288,"SW"]
[{"$f":"B33728&\":\"&COUNTIF($B$2:B33728,B33728)","v":"HLCUANR230404682:1"},"HLCUANR230404682","HLXU8229994","HLCUANR230404682","40 Dry","PKKHI",609633,"2023-06-04","2023-06-17",288,"BL"]
[{"$f":"B33729&\":\"&COUNTIF($B$2:B33729,B33729)","v":"HLCUANR230404682:2"},"HLCUANR230404682","HAMU1141266","HLCUANR230404682","40 Dry","PKKHI",609633,"2023-06-04","2023-06-17",288,"BL"]
[{"$f":"B33730&\":\"&COUNTIF($B$2:B33730,B33730)","v":"HLCUANR230404682:3"},"HLCUANR230404682","UACU8289319","HLCUANR230404682","40 Dry","PKKHI",609633,"2023-06-04","2023-06-17",288,"BL"]
[{"$f":"B33731&\":\"&COUNTIF($B$2:B33731,B33731)","v":"HLCULIV230426150:1"},"HLCULIV230426150","HLBU1219512","HLCULIV230426150","20 Dry","PKKHI",609633,"2023-06-04","2023-06-08",288,"BL"]
[{"$f":"B33732&\":\"&COUNTIF($B$2:B33732,B33732)","v":"HLCUIZ1230428675:1"},"HLCUIZ1230428675","HLBU2596850","HLCUIZ1230428675","40 Dry","PKKHI",609633,"2023-06-04","2023-06-17",288,"BL"]
[{"$f":"B33733&\":\"&COUNTIF($B$2:B33733,B33733)","v":"HLCUIZ1230428675:2"},"HLCUIZ1230428675","CAAU5682751","HLCUIZ1230428675","40 Dry","PKKHI",609633,"2023-06-04","2023-06-17",288,"BL"]
[{"$f":"B33734&\":\"&COUNTIF($B$2:B33734,B33734)","v":"HLCUAB1230500790:1"},"HLCUAB1230500790","TEMU4986247","HLCUAB1230500790","20 Dry","PKKHI",609633,"2023-06-04","2023-06-17",288,"ES"]
[{"$f":"B33735&\":\"&COUNTIF($B$2:B33735,B33735)","v":"HLCUALY230509010:1"},"HLCUALY230509010","CAIU6988754","HLCUALY230509010","20 Dry","PKKHI",609633,"2023-06-04","2023-06-24",288,"BL"]
[{"$f":"B33736&\":\"&COUNTIF($B$2:B33736,B33736)","v":"HLCUALY230509010:2"},"HLCUALY230509010","TEMU1458499","HLCUALY230509010","20 Dry","PKKHI",609633,"2023-06-04","2023-06-24",288,"BL"]
[{"$f":"B33737&\":\"&COUNTIF($B$2:B33737,B33737)","v":"HLCUALY230509668:1"},"HLCUALY230509668","GESU3858282","HLCUALY230509668","20 Dry","PKKHI",609633,"2023-06-04","2023-06-24",288,"BL"]
[{"$f":"B33738&\":\"&COUNTIF($B$2:B33738,B33738)","v":"HLCUALY230509668:2"},"HLCUALY230509668","RFCU2258263","HLCUALY230509668","20 Dry","PKKHI",609633,"2023-06-04","2023-06-24",288,"BL"]
[{"$f":"B33739&\":\"&COUNTIF($B$2:B33739,B33739)","v":"HLCUHAM2304AQMQ0:1"},"HLCUHAM2304AQMQ0","FANU1823308","HLCUHAM2304AQMQ0","40 Dry","PKKHI",609633,"2023-06-04","2023-06-17",288,"SW"]
[{"$f":"B33740&\":\"&COUNTIF($B$2:B33740,B33740)","v":"HLCUALY230502804:1"},"HLCUALY230502804","BSIU2793220","HLCUALY230502804","20 Dry","PKKHI",609633,"2023-06-04","2023-06-17",288,"BL"]
[{"$f":"B33741&\":\"&COUNTIF($B$2:B33741,B33741)","v":"HLCUALY230502804:2"},"HLCUALY230502804","CXDU1402751","HLCUALY230502804","20 Dry","PKKHI",609633,"2023-06-04","2023-06-17",288,"BL"]
[{"$f":"B33742&\":\"&COUNTIF($B$2:B33742,B33742)","v":"HLCUHAM2304AYBL4:1"},"HLCUHAM2304AYBL4","HLBU9466484","HLCUHAM2304AYBL4","20 Reefer","PKKHI",609633,"2023-06-04","2023-06-17",288,"BL"]
[{"$f":"B33743&\":\"&COUNTIF($B$2:B33743,B33743)","v":"HLCUALY230512030:1"},"HLCUALY230512030","HLBU2999542","HLCUALY230512030","20 Dry","PKKHI",609633,"2023-06-04","2023-06-24",288,"BL"]
[{"$f":"B33744&\":\"&COUNTIF($B$2:B33744,B33744)","v":"HLCUALY230512030:2"},"HLCUALY230512030","HLBU2731159","HLCUALY230512030","20 Dry","PKKHI",609633,"2023-06-04","2023-06-24",288,"BL"]
[{"$f":"B33745&\":\"&COUNTIF($B$2:B33745,B33745)","v":"HLCUALY230512062:1"},"HLCUALY230512062","FCIU6643832","HLCUALY230512062","20 Dry","PKKHI",609633,"2023-06-04","2023-06-24",288,"BL"]
[{"$f":"B33746&\":\"&COUNTIF($B$2:B33746,B33746)","v":"HLCUALY230512062:2"},"HLCUALY230512062","HLBU2604262","HLCUALY230512062","20 Dry","PKKHI",609633,"2023-06-04","2023-06-24",288,"BL"]
[{"$f":"B33747&\":\"&COUNTIF($B$2:B33747,B33747)","v":"HLCUALY230512095:1"},"HLCUALY230512095","HLBU2736952","HLCUALY230512095","20 Dry","PKKHI",609633,"2023-06-04","2023-06-24",288,"BL"]
[{"$f":"B33748&\":\"&COUNTIF($B$2:B33748,B33748)","v":"HLCUALY230512095:2"},"HLCUALY230512095","HLXU1346155","HLCUALY230512095","20 Dry","PKKHI",609633,"2023-06-04","2023-06-24",288,"BL"]
[{"$f":"B33749&\":\"&COUNTIF($B$2:B33749,B33749)","v":"HLCUALY230512102:1"},"HLCUALY230512102","HLBU1739216","HLCUALY230512102","20 Dry","PKKHI",609633,"2023-06-04","2023-06-24",288,"BL"]
[{"$f":"B33750&\":\"&COUNTIF($B$2:B33750,B33750)","v":"HLCUALY230512102:2"},"HLCUALY230512102","HLBU1350179","HLCUALY230512102","20 Dry","PKKHI",609633,"2023-06-04","2023-06-24",288,"BL"]
[{"$f":"B33751&\":\"&COUNTIF($B$2:B33751,B33751)","v":"HLCUALY230518365:1"},"HLCUALY230518365","TCKU6073685","HLCUALY230518365","40 Dry","PKKHI",609633,"2023-06-04","2023-06-17",288,"BL"]
[{"$f":"B33752&\":\"&COUNTIF($B$2:B33752,B33752)","v":"HLCUALY230518365:2"},"HLCUALY230518365","TCLU6521998","HLCUALY230518365","40 Dry","PKKHI",609633,"2023-06-04","2023-06-17",288,"BL","2023-06-03"]

{"sheet":"Work Out","index":5,"n_rows":423,"n_cols":55,"rows_kept":423,"cut":false,"hidden":true,"merged":[[7,7,8,7]]}
[]
["Country:","Pakistan"]
["Currency:","PKR"]
["Country e-mail:","pakistan@service.hlag.com"]
["Date of data avalalibility from:","2022-04-20"]
[]
[]
["Count of Holidays","Holidays (Date)",null,null,null,null,null,"Period","20 Dry"]
[null,null,null,null,null,null,null,null,"Calendar days","Rate per day in USD"]
[null,null,null,null,null,null," ","Tariff free time",5,0]
[null,null,null,null,null,null,"20 Dry","Thereafter",null,54]
[]
[null,null,null,null,null,null,null,"Period","40 Dry"]
[null,null,null,null,null,null,null,null,"Calendar days","Rate per day in USD"]
[null,null,null,null,null,null,null,"Tariff free time",5,0]
[null,null,null,null,null,null,"40 Dry","Thereafter",null,108]
[]
[null,null,null,null,null,null,null,"Period","20 Reefer"]
[null,null,null,null,null,null,null,null,"Calendar days","Rate per day in USD"]
[null,null,null,null,null,null,null,"Tariff free time",3,0]
[null,null,null,null,null,null,"20 Reefer","Thereafter",null,100]
[]
[null,null,null,null,null,null,null,"Period","40 Reefer"]
[null,null,null,null,null,null,null,null,"Calendar days","Rate per day in USD"]
[null,null,null,null,null,null,null,"Tariff free time",3,0]
[null,null,null,null,null,null,"40 Reefer","Thereafter",null,150]
[]
[null,null,null,null,null,null,null,"Period","20 Special"]
[null,null,null,null,null,null,null,null,"Calendar days","Rate per day in USD"]
[null,null,null,null,null,null,null,"Tariff free time",5,0]
[null,null,null,null,null,null,"20 Special","Thereafter",null,120]
[]
[null,null,null,null,null,null,null,"Period","40 Special"]
[null,null,null,null,null,null,null,null,"Calendar days","Rate per day in USD"]
[null,null,null,null,null,null,null,"Tariff free time",5,0]
[null,null,null,null,null,null,"40 Special","Thereafter",null,150]
[]
[]
[]
[]
[]
[]
[]
[]
[]
[]
[]
[]
[" A8","ACTUAL","FREE",null,null,"Actual F9","free","Total","No of cont","Output","Final output","Output 2","Final output","Output 4","Final output"]
["Type/size",{"$f":"'Free Time Calculator by Cntr'!#REF!","v":{"$error":"#REF!"}},{"$f":"'Free Time Calculator by Cntr'!#REF!","v":{"$error":"#REF!"}},null,null,{"$f":"IFERROR(VLOOKUP(B51,D58:K307,MATCH(B50,D58:J58,0),0),0)","v":0},{"$f":"IFERROR(VLOOKUP(C51,D58:K307,MATCH(C50,D58:J58,0),0),0)","v":0},{"$f":"+F50-G50","v":0},1,{"$f":"H50*I50","v":0},{"$f":"MAX(0,J50)","v":0},{"$f":"K50-BC62","v":{"$error":"#REF!"}},{"$f":"MAX(0,L50)","v":{"$error":"#REF!"}},{"$f":"BC62-G50","v":{"$error":"#REF!"}},{"$f":"MAX(0,N50)","v":{"$error":"#REF!"}}]
["Days",{"$f":"'Free Time Calculator by Cntr'!C3-'Free Time Calculator by Cntr'!#REF!+1","v":{"$error":"#REF!"}},{"$f":"'Free Time Calculator by Cntr'!#REF!","v":{"$error":"#REF!"}}]
[]
[null,null,null,null,null,null,null,null,null,null,null,null,null,null,null,null,null,null,"Discharge date","Free time ends on ","Detention end date","Detention days after free time","Approved free time","Total detention days"]
[null,null,null,null,null,null,null,null,null,null,null,null,null,null,null,null,null,null,{"$f":"'Free Time Calculator by Cntr'!#REF!","v":{"$error":"#REF!"}},{"$f":"'Free Time Calculator by Cntr'!B3","v":{"$error":"#N/A"}},{"$f":"'Free Time Calculator by Cntr'!C3","v":"2023-06-08"},{"$f":"U54-T54","v":{"$error":"#N/A"}},{"$f":"C51","v":{"$error":"#REF!"}},{"$f":"U54-S54+1","v":{"$error":"#REF!"}}]
[]
[null,null,null,null,null,null,null,null,null,null,null,null,null,null,null,null,null,"Slab amount",{"$f":"'Free Time Calculator by Cntr'!#REF!","v":{"$error":"#REF!"}},"Slab start date","Slab end date","Period","DET calculation","Max values","Holiday count","Holiday deduction","Holiday back slab",null,"End date 2","Holiday count 2","End date 3","Holiday count 3","End date 4","Holiday count 4","End date 5","Holiday count 5","End date 6","Holiday count 6","End date 7","Holiday count 7","End date 8","Holiday count 8","End date 9","Holiday count 9","End date 10","Holiday count 10","End date 11","Holiday count 11","End date 12","Holiday count 12","Detention days","Detention amount","Holiday dedcution amount"]
[null,null,null,null,null,null,null,null,null,null,null,null,null,null,null,null,null,{"$f":"'Free Time Calculator by Cntr'!#REF!","v":{"$error":"#REF!"}},"Tariff free time",{"$f":"S54","v":{"$error":"#REF!"}},{"$f":"IF(W65>0,T57+V57-1,U54)","v":{"$error":"#REF!"}},{"$f":"'Free Time Calculator by Cntr'!#REF!","v":{"$error":"#REF!"}},{"$f":"U54-T57+1","v":{"$error":"#REF!"}},{"$f":"MAX(0,W57)","v":{"$error":"#REF!"}},{"$f":"SUMPRODUCT(('Work Out'!$B$9:$B$34>=T57)*('Work Out'!$B$9:$B$34<=U57))","v":{"$error":"#REF!"}},{"$f":"Y57*R57","v":{"$error":"#REF!"}},{"$f":"Y57*R57","v":{"$error":"#REF!"}},{"$f":"Y57*R58","v":{"$error":"#REF!"}},{"$f":"U57+Y57","v":{"$error":"#REF!"}},{"$f":"SUMPRODUCT(('Work Out'!$B$9:$B$34>=T57)*('Work Out'!$B$9:$B$34<=AC57))","v":{"$error":"#REF!"}},{"$f":"U57+AD57","v":{"$error":"#REF!"}},{"$f":"SUMPRODUCT(('Work Out'!$B$9:$B$34>=T57)*('Work Out'!$B$9:$B$34<=AE57))","v":{"$error":"#REF!"}},{"$f":"U57+AF57","v":{"$error":"#REF!"}},{"$f":"SUMPRODUCT(('Work Out'!$B$9:$B$34>=T57)*('Work Out'!$B$9:$B$34<=AG57))","v":{"$error":"#REF!"}},{"$f":"AH57+U57","v":{"$error":"#REF!"}},{"$f":"SUMPRODUCT(('Work Out'!$B$9:$B$34>=T57)*('Work Out'!$B$9:$B$34<=AI57))","v":{"$error":"#REF!"}},{"$f":"AJ57+AI57","v":{"$error":"#REF!"}},{"$f":"SUMPRODUCT(('Work Out'!$B$9:$B$34>=T57)*('Work Out'!$B$9:$B$34<=AK57))","v":{"$error":"#REF!"}},{"$f":"AL57+AK57","v":{"$error":"#REF!"}},{"$f":"SUMPRODUCT(('Work Out'!$B$9:$B$34>=T57)*('Work Out'!$B$9:$B$34<=AM57))","v":{"$error":"#REF!"}},{"$f":"AN57+AM57","v":{"$error":"#REF!"}},{"$f":"SUMPRODUCT(('Work Out'!$B$9:$B$34>=T57)*('Work Out'!$B$9:$B$34<=AO57))","v":{"$error":"#REF!"}},{"$f":"AP57+AO57","v":{"$error":"#REF!"}},{"$f":"SUMPRODUCT(('Work Out'!$B$9:$B$34>=T57)*('Work Out'!$B$9:$B$34<=AQ57))","v":{"$error":"#REF!"}},{"$f":"AR57+AQ57","v":{"$error":"#REF!"}},{"$f":"SUMPRODUCT(('Work Out'!$B$9:$B$34>=T57)*('Work Out'!$B$9:$B$34<=AS57))","v":{"$error":"#REF!"}},{"$f":"AT57+AS57","v":{"$error":"#REF!"}},{"$f":"SUMPRODUCT(('Work Out'!$B$9:$B$34>=T57)*('Work Out'!$B$9:$B$34<=AU57))","v":{"$error":"#REF!"}},{"$f":"AV57+AU57","v":{"$error":"#REF!"}},{"$f":"SUMPRODUCT(('Work Out'!$B$9:$B$34>=T57)*('Work Out'!$B$9:$B$34<=AW57))","v":{"$error":"#REF!"}},{"$f":"AW57-T57+1","v":{"$error":"#REF!"}},{"$f":"AY57*R57","v":{"$error":"#REF!"}},{"$f":"AX57*R57","v":{"$error":"#REF!"}}]
[null,null,null,"Days D18","20 Dry","40 Dry","20 Reefer","40 Reefer","20 Special","40 Special",null,null,null,null,null,null,null,{"$f":"'Free Time Calculator by Cntr'!D8","v":0},"Thereafter",{"$f":"AI57+1","v":{"$error":"#REF!"}},{"$f":"U54","v":"2023-06-08"},{"$f":"'Free Time Calculator by Cntr'!C8","v":0},{"$f":"$U$54-T58+1","v":{"$error":"#REF!"}},{"$f":"MAX(0,W58)","v":{"$error":"#REF!"}},{"$f":"SUMPRODUCT(('Work Out'!$B$9:$B$34>=T58)*('Work Out'!$B$9:$B$34<=U58))","v":{"$error":"#REF!"}},{"$f":"Y58*R58","v":{"$error":"#REF!"}},{"$f":"Y58*R58","v":{"$error":"#REF!"}},{"$f":"Y58*R59","v":{"$error":"#REF!"}},{"$f":"IF(U58+Y58>U54,U54,U58+Y58)","v":{"$error":"#REF!"}},{"$f":"SUMPRODUCT(('Work Out'!$B$9:$B$34>=T58)*('Work Out'!$B$9:$B$34<=AC58))","v":{"$error":"#REF!"}},{"$f":"IF(U58+AD58>$U$54,$U$54,U58+AD58)","v":{"$error":"#REF!"}},{"$f":"SUMPRODUCT(('Work Out'!$B$9:$B$34>=T58)*('Work Out'!$B$9:$B$34<=AE58))","v":{"$error":"#REF!"}},{"$f":"IF(U58+AF58>$U$54,$U$54,U58+AF58)","v":{"$error":"#REF!"}},{"$f":"SUMPRODUCT(('Work Out'!$B$9:$B$34>=T58)*('Work Out'!$B$9:$B$34<=AG58))","v":{"$error":"#REF!"}},{"$f":"IF(U58+AH58>$U$54,$U$54,U58+AH58)","v":{"$error":"#REF!"}},{"$f":"SUMPRODUCT(('Work Out'!$B$9:$B$34>=T58)*('Work Out'!$B$9:$B$34<=AI58))","v":{"$error":"#REF!"}},{"$f":"IF(U58+AJ58>$U$54,$U$54,U58+AJ58)","v":{"$error":"#REF!"}},{"$f":"SUMPRODUCT(('Work Out'!$B$9:$B$34>=T58)*('Work Out'!$B$9:$B$34<=AK58))","v":{"$error":"#REF!"}},{"$f":"IF(U58+AL58>$U$54,$U$54,U58+AL58)","v":{"$error":"#REF!"}},{"$f":"SUMPRODUCT(('Work Out'!$B$9:$B$34>=T58)*('Work Out'!$B$9:$B$34<=AM58))","v":{"$error":"#REF!"}},{"$f":"IF(U58+AN58>$U$54,$U$54,U58+AN58)","v":{"$error":"#REF!"}},{"$f":"SUMPRODUCT(('Work Out'!$B$9:$B$34>=T58)*('Work Out'!$B$9:$B$34<=AO58))","v":{"$error":"#REF!"}},{"$f":"IF(U58+AP58>$U$54,$U$54,U58+AP58)","v":{"$error":"#REF!"}},{"$f":"SUMPRODUCT(('Work Out'!$B$9:$B$34>=T58)*('Work Out'!$B$9:$B$34<=AQ58))","v":{"$error":"#REF!"}},{"$f":"IF(U58+AR58>$U$54,$U$54,U58+AR58)","v":{"$error":"#REF!"}},{"$f":"SUMPRODUCT(('Work Out'!$B$9:$B$34>=T58)*('Work Out'!$B$9:$B$34<=AS58))","v":{"$error":"#REF!"}},{"$f":"IF(U58+AT58>$U$54,$U$54,U58+AT58)","v":{"$error":"#REF!"}},{"$f":"SUMPRODUCT(('Work Out'!$B$9:$B$34>=T58)*('Work Out'!$B$9:$B$34<=AU58))","v":{"$error":"#REF!"}},{"$f":"IF(U58+AV58>$U$54,$U$54,U58+AV58)","v":{"$error":"#REF!"}},{"$f":"SUMPRODUCT(('Work Out'!$B$9:$B$34>=T58)*('Work Out'!$B$9:$B$34<=AW58))","v":{"$error":"#REF!"}},{"$f":"AW58-T58+1","v":{"$error":"#REF!"}},{"$f":"AY58*R58","v":{"$error":"#REF!"}},{"$f":"AX58*R58","v":{"$error":"#REF!"}}]
[null,null,null,1,0,0,0,0,0,0]
[null,null,null,2,0,0,0,0,0,0]
[null,null,null,3,0,0,0,0,0,0]
[null,null,null,4,0,0,100,150,0,0,null,null,null,null,null,null,null,null,null,null,null,null,null,null,null,{"$f":"SUM(Z57:Z61)","v":{"$error":"#REF!"}},{"$f":"SUM(AA57:AA61)","v":{"$error":"#REF!"}},{"$f":"SUM(AB57:AB61)","v":{"$error":"#REF!"}},null,null,null,null,null,null,null,null,null,null,null,null,null,null,null,null,null,null,null,null,null,null,{"$f":"SUM(AY57:AY61)","v":{"$error":"#REF!"}},{"$f":"SUM(AZ57:AZ61)","v":{"$error":"#REF!"}},{"$f":"SUM(BA57:BA61)","v":{"$error":"#REF!"}},{"$f":"AZ62-BA62","v":{"$error":"#REF!"}},{"$f":"MAX(0,BB62)","v":{"$error":"#REF!"}}]
[null,null,null,5,0,0,{"$f":"G62+100","v":200},{"$f":"H62+150","v":300},0,0]
[null,null,null,6,54,108,{"$f":"G63+100","v":300},{"$f":"H63+150","v":450},{"$f":"I63+120","v":120},{"$f":"J63+150","v":150},null,null,null,null,null,null,null,null,null,null,null,"Detention period","Detention days","Detention days",null,"Det Days","DET amount","Holiday amount"]
[null,null,null,7,{"$f":"E64+54","v":108},{"$f":"F64+108","v":216},400,600,240,300,null,null,null,null,null,null,null,null,null,null,{"$f":"X54-X65","v":{"$error":"#REF!"}},{"$f":"U54-X65","v":{"$error":"#REF!"}},{"$f":"X54-V57","v":{"$error":"#REF!"}},{"$f":"MAX(0,W65)","v":{"$error":"#REF!"}},null,{"$f":"U57-T57+1","v":{"$error":"#REF!"}},{"$f":"Z65*R57","v":{"$error":"#REF!"}},{"$f":"Y57*R57","v":{"$error":"#REF!"}}]
[null,null,null,8,{"$f":"E65+54","v":162},{"$f":"F65+108","v":324},500,750,360,450,null,null,null,null,null,null,null,null,null,null,{"$f":"X65-X66","v":{"$error":"#REF!"}},{"$f":"V65+U66","v":{"$error":"#REF!"}},{"$f":"W65-V58","v":{"$error":"#REF!"}},{"$f":"MAX(0,W66)","v":{"$error":"#REF!"}},null,{"$f":"U58-T58+1","v":{"$error":"#REF!"}},{"$f":"Z66*R58","v":{"$error":"#REF!"}},{"$f":"Y58*R58","v":{"$error":"#REF!"}}]
[null,null,null,9,216,432,600,900,480,600,null,null,null,null,null,null,null,null,null,null,null,null,null,null,null,{"$f":"U59-T59+1","v":1},{"$f":"Z67*R59","v":0},{"$f":"Y59*R59","v":0}]
[null,null,null,10,270,540,700,1050,600,750,null,null,null,null,null,null,null,null,null,null,null,null,null,null,null,{"$f":"U60-T60+1","v":1},{"$f":"Z68*R60","v":0},{"$f":"Y60*R60","v":0}]
[null,null,null,11,324,648,800,1200,720,900,null,null,null,null,null,null,null,null,null,null,null,null,null,null,null,{"$f":"U61-T61+1","v":1},{"$f":"Z69*R61","v":0},{"$f":"Y61*R61","v":0}]
[null,null,null,12,378,756,900,1350,840,1050,null,null,null,null,null,null,null,null,null,null,null,null,null,null,null,null,{"$f":"SUM(AA65:AA69)","v":{"$error":"#REF!"}},{"$f":"SUM(AB65:AB69)","v":{"$error":"#REF!"}},{"$f":"AA70-AB70","v":{"$error":"#REF!"}}]
[null,null,null,13,432,864,1000,1500,960,1200]
[null,null,null,14,486,972,1100,1650,1080,1350]
[null,null,null,15,540,1080,1200,1800,1200,1500]
[null,null,null,16,594,1188,1300,1950,1320,1650]
[null,null,null,17,648,1296,1400,2100,1440,1800]
[null,null,null,18,702,1404,1500,2250,1560,1950]
[null,null,null,19,756,1512,1600,2400,1680,2100]
[null,null,null,20,810,1620,1700,2550,1800,2250]
[null,null,null,21,864,1728,1800,2700,1920,2400]
[null,null,null,22,918,1836,1900,2850,2040,2550]
[null,null,null,23,972,1944,2000,3000,2160,2700]
[null,null,null,24,1026,2052,2100,3150,2280,2850]
[null,null,null,25,1080,2160,2200,3300,2400,3000]
[null,null,null,26,1134,2268,2300,3450,2520,3150]
[null,null,null,27,1188,2376,2400,3600,2640,3300]
[null,null,null,28,1242,2484,2500,3750,2760,3450]
[null,null,null,29,1296,2592,2600,3900,2880,3600]
[null,null,null,30,1350,2700,2700,4050,3000,3750]
[null,null,null,31,1404,2808,2800,4200,3120,3900]
[null,null,null,32,1458,2916,2900,4350,3240,4050]
[null,null,null,33,1512,3024,3000,4500,3360,4200]
[null,null,null,34,1566,3132,3100,4650,3480,4350]
[null,null,null,35,1620,3240,3200,4800,3600,4500]
[null,null,null,36,1674,3348,3300,4950,3720,4650]
[null,null,null,37,1728,3456,3400,5100,3840,4800]
[null,null,null,38,1782,3564,3500,5250,3960,4950]
[null,null,null,39,1836,3672,3600,5400,4080,5100]
[null,null,null,40,1890,3780,3700,5550,4200,5250]
[null,null,null,41,1944,3888,3800,5700,4320,5400]
[null,null,null,42,1998,3996,3900,5850,4440,5550]
[null,null,null,43,2052,4104,4000,6000,4560,5700]
[null,null,null,44,2106,4212,4100,6150,4680,5850]
[null,null,null,45,2160,4320,4200,6300,4800,6000]
[null,null,null,46,2214,4428,4300,6450,4920,6150]
[null,null,null,47,2268,4536,4400,6600,5040,6300]
[null,null,null,48,2322,4644,4500,6750,5160,6450]
[null,null,null,49,2376,4752,4600,6900,5280,6600]
[null,null,null,50,2430,4860,4700,7050,5400,6750]
[null,null,null,51,2484,4968,4800,7200,5520,6900]
[null,null,null,52,2538,5076,4900,7350,5640,7050]
[null,null,null,53,2592,5184,5000,7500,5760,7200]
[null,null,null,54,2646,5292,5100,7650,5880,7350]
[null,null,null,55,2700,5400,5200,7800,6000,7500]
[null,null,null,56,2754,5508,5300,7950,6120,7650]
[null,null,null,57,2808,5616,5400,8100,6240,7800]
[null,null,null,58,2862,5724,5500,8250,6360,7950]
[null,null,null,59,2916,5832,5600,8400,6480,8100]
[null,null,null,60,2970,5940,5700,8550,6600,8250]
[null,null,null,61,3024,6048,5800,8700,6720,8400]
[null,null,null,62,3078,6156,5900,8850,6840,8550]
[null,null,null,63,3132,6264,6000,9000,6960,8700]
[null,null,null,64,3186,6372,6100,9150,7080,8850]
[null,null,null,65,3240,6480,6200,9300,7200,9000]
[null,null,null,66,3294,6588,6300,9450,7320,9150]
[null,null,null,67,3348,6696,6400,9600,7440,9300]
[null,null,null,68,3402,6804,6500,9750,7560,9450]
[null,null,null,69,3456,6912,6600,9900,7680,9600]
[null,null,null,70,3510,7020,{"$f":"G127+100","v":6700},{"$f":"H127+150","v":10050},{"$f":"I127+120","v":7800},{"$f":"J127+150","v":9750}]
[null,null,null,71,3564,7128,6800,10200,7920,9900]
[null,null,null,72,{"$f":"E129+54","v":3618},{"$f":"F129+108","v":7236},6900,10350,8040,10050]
[null,null,null,73,3672,7344,7000,10500,8160,10200]
[null,null,null,74,3726,7452,7100,10650,8280,10350]
[null,null,null,75,3780,7560,7200,10800,8400,10500]
[null,null,null,76,3834,7668,7300,10950,8520,10650]
[null,null,null,77,3888,7776,7400,11100,8640,10800]
[null,null,null,78,3942,7884,7500,11250,8760,10950]
[null,null,null,79,3996,7992,7600,11400,8880,11100]
[null,null,null,80,4050,8100,7700,11550,9000,11250]
[null,null,null,81,4104,8208,7800,11700,9120,11400]
[null,null,null,82,4158,8316,7900,11850,9240,11550]
[null,null,null,83,4212,8424,8000,12000,9360,11700]
[null,null,null,84,4266,8532,8100,12150,9480,11850]
[null,null,null,85,4320,8640,8200,12300,9600,12000]
[null,null,null,86,4374,8748,8300,12450,9720,12150]
[null,null,null,87,4428,8856,8400,12600,9840,12300]
[null,null,null,88,4482,8964,8500,12750,9960,12450]
[null,null,null,89,4536,9072,8600,12900,10080,12600]
[null,null,null,90,4590,9180,8700,13050,10200,12750]
[null,null,null,91,4644,9288,8800,13200,10320,12900]
[null,null,null,92,4698,9396,8900,13350,10440,13050]
[null,null,null,93,4752,9504,9000,13500,10560,13200]
[null,null,null,94,4806,9612,9100,13650,10680,13350]
[null,null,null,95,4860,9720,9200,13800,10800,13500]
[null,null,null,96,4914,9828,9300,13950,10920,13650]
[null,null,null,97,4968,9936,9400,14100,11040,13800]
[null,null,null,98,5022,10044,9500,14250,11160,13950]
[null,null,null,99,5076,10152,9600,14400,11280,14100]
[null,null,null,100,5130,10260,9700,14550,11400,14250]
[null,null,null,101,5184,10368,9800,14700,11520,14400]
[null,null,null,102,5238,10476,9900,14850,11640,14550]
[null,null,null,103,5292,10584,10000,15000,11760,14700]
[null,null,null,104,5346,10692,10100,15150,11880,14850]
[null,null,null,105,5400,10800,10200,15300,12000,15000]
[null,null,null,106,5454,10908,10300,15450,12120,15150]
[null,null,null,107,5508,11016,10400,15600,12240,15300]
[null,null,null,108,5562,11124,10500,15750,12360,15450]
[null,null,null,109,5616,11232,10600,15900,12480,15600]
[null,null,null,110,5670,11340,10700,16050,12600,15750]
[null,null,null,111,5724,11448,10800,16200,12720,15900]
[null,null,null,112,5778,11556,10900,16350,12840,16050]
[null,null,null,113,5832,11664,11000,16500,12960,16200]
[null,null,null,114,5886,11772,11100,16650,13080,16350]
[null,null,null,115,5940,11880,11200,16800,13200,16500]
[null,null,null,116,5994,11988,11300,16950,13320,16650]
[null,null,null,117,6048,12096,11400,17100,13440,16800]
[null,null,null,118,6102,12204,11500,17250,13560,16950]
[null,null,null,119,6156,12312,11600,17400,13680,17100]
[null,null,null,120,6210,12420,11700,17550,13800,17250]
[null,null,null,121,6264,12528,11800,17700,13920,17400]
[null,null,null,122,6318,12636,11900,17850,14040,17550]
[null,null,null,123,6372,12744,12000,18000,14160,17700]
[null,null,null,124,6426,12852,12100,18150,14280,17850]
[null,null,null,125,6480,12960,12200,18300,14400,18000]
[null,null,null,126,6534,13068,12300,18450,14520,18150]
[null,null,null,127,6588,13176,12400,18600,14640,18300]
[null,null,null,128,6642,13284,12500,18750,14760,18450]
[null,null,null,129,6696,13392,12600,18900,14880,18600]
[null,null,null,130,6750,13500,12700,19050,15000,18750]
[null,null,null,131,6804,13608,12800,19200,15120,18900]
[null,null,null,132,6858,13716,12900,19350,15240,19050]
[null,null,null,133,6912,13824,13000,19500,15360,19200]
[null,null,null,134,6966,13932,{"$f":"G191+100","v":13100},{"$f":"H191+150","v":19650},{"$f":"I191+120","v":15480},{"$f":"J191+150","v":19350}]
[null,null,null,135,7020,14040,13200,19800,15600,19500]
[null,null,null,136,{"$f":"E193+54","v":7074},{"$f":"F193+108","v":14148},13300,19950,15720,19650]
[null,null,null,137,7128,14256,13400,20100,15840,19800]
[null,null,null,138,7182,14364,13500,20250,15960,19950]
[null,null,null,139,7236,14472,13600,20400,16080,20100]
[null,null,null,140,7290,14580,13700,20550,16200,20250]
[null,null,null,141,7344,14688,13800,20700,16320,20400]
[null,null,null,142,7398,14796,13900,20850,16440,20550]
[null,null,null,143,7452,14904,14000,21000,16560,20700]
[null,null,null,144,7506,15012,14100,21150,16680,20850]
[null,null,null,145,7560,15120,14200,21300,16800,21000]
[null,null,null,146,7614,15228,14300,21450,16920,21150]
[null,null,null,147,7668,15336,14400,21600,17040,21300]
[null,null,null,148,7722,15444,14500,21750,17160,21450]
[null,null,null,149,7776,15552,14600,21900,17280,21600]
[null,null,null,150,7830,15660,14700,22050,17400,21750]
[null,null,null,151,7884,15768,14800,22200,17520,21900]
[null,null,null,152,7938,15876,14900,22350,17640,22050]
[null,null,null,153,7992,15984,15000,22500,17760,22200]
[null,null,null,154,8046,16092,15100,22650,17880,22350]
[null,null,null,155,8100,16200,15200,22800,18000,22500]
[null,null,null,156,8154,16308,15300,22950,18120,22650]
[null,null,null,157,8208,16416,15400,23100,18240,22800]
[null,null,null,158,8262,16524,15500,23250,18360,22950]
[null,null,null,159,8316,16632,15600,23400,18480,23100]
[null,null,null,160,8370,16740,15700,23550,18600,23250]
[null,null,null,161,8424,16848,15800,23700,18720,23400]
[null,null,null,162,8478,16956,15900,23850,18840,23550]
[null,null,null,163,8532,17064,16000,24000,18960,23700]
[null,null,null,164,8586,17172,16100,24150,19080,23850]
[null,null,null,165,8640,17280,16200,24300,19200,24000]
[null,null,null,166,8694,17388,16300,24450,19320,24150]
[null,null,null,167,8748,17496,16400,24600,19440,24300]
[null,null,null,168,8802,17604,16500,24750,19560,24450]
[null,null,null,169,8856,17712,16600,24900,19680,24600]
[null,null,null,170,8910,17820,16700,25050,19800,24750]
[null,null,null,171,8964,17928,16800,25200,19920,24900]
[null,null,null,172,9018,18036,16900,25350,20040,25050]
[null,null,null,173,9072,18144,17000,25500,20160,25200]
[null,null,null,174,9126,18252,17100,25650,20280,25350]
[null,null,null,175,9180,18360,17200,25800,20400,25500]
[null,null,null,176,9234,18468,17300,25950,20520,25650]
[null,null,null,177,9288,18576,17400,26100,20640,25800]
[null,null,null,178,9342,18684,17500,26250,20760,25950]
[null,null,null,179,9396,18792,17600,26400,20880,26100]
[null,null,null,180,9450,18900,17700,26550,21000,26250]
[null,null,null,181,9504,19008,17800,26700,21120,26400]
[null,null,null,182,9558,19116,17900,26850,21240,26550]
[null,null,null,183,9612,19224,18000,27000,21360,26700]
[null,null,null,184,9666,19332,18100,27150,21480,26850]
[null,null,null,185,9720,19440,18200,27300,21600,27000]
[null,null,null,186,9774,19548,18300,27450,21720,27150]
[null,null,null,187,9828,19656,18400,27600,21840,27300]
[null,null,null,188,9882,19764,18500,27750,21960,27450]
[null,null,null,189,9936,19872,18600,27900,22080,27600]
[null,null,null,190,9990,19980,18700,28050,22200,27750]
[null,null,null,191,10044,20088,18800,28200,22320,27900]
[null,null,null,192,10098,20196,18900,28350,22440,28050]
[null,null,null,193,10152,20304,19000,28500,22560,28200]
[null,null,null,194,10206,20412,19100,28650,22680,28350]
[null,null,null,195,10260,20520,19200,28800,22800,28500]
[null,null,null,196,10314,20628,19300,28950,22920,28650]
[null,null,null,197,10368,20736,19400,29100,23040,28800]
[null,null,null,198,10422,20844,{"$f":"G255+100","v":19500},{"$f":"H255+150","v":29250},{"$f":"I255+120","v":23160},{"$f":"J255+150","v":28950}]
[null,null,null,199,10476,20952,19600,29400,23280,29100]
[null,null,null,200,{"$f":"E257+54","v":10530},{"$f":"F257+108","v":21060},19700,29550,23400,29250]
[null,null,null,201,10584,21168,19800,29700,23520,29400]
[null,null,null,202,10638,21276,19900,29850,23640,29550]
[null,null,null,203,10692,21384,20000,30000,23760,29700]
[null,null,null,204,10746,21492,20100,30150,23880,29850]
[null,null,null,205,10800,21600,20200,30300,24000,30000]
[null,null,null,206,10854,21708,20300,30450,24120,30150]
[null,null,null,207,10908,21816,20400,30600,24240,30300]
[null,null,null,208,10962,21924,20500,30750,24360,30450]
[null,null,null,209,11016,22032,20600,30900,24480,30600]
[null,null,null,210,11070,22140,20700,31050,24600,30750]
[null,null,null,211,11124,22248,20800,31200,24720,30900]
[null,null,null,212,11178,22356,20900,31350,24840,31050]
[null,null,null,213,11232,22464,21000,31500,24960,31200]
[null,null,null,214,11286,22572,21100,31650,25080,31350]
[null,null,null,215,11340,22680,21200,31800,25200,31500]
[null,null,null,216,11394,22788,21300,31950,25320,31650]
[null,null,null,217,11448,22896,21400,32100,25440,31800]
[null,null,null,218,11502,23004,21500,32250,25560,31950]
[null,null,null,219,11556,23112,21600,32400,25680,32100]
[null,null,null,220,11610,23220,21700,32550,25800,32250]
[null,null,null,221,11664,23328,21800,32700,25920,32400]
[null,null,null,222,11718,23436,21900,32850,26040,32550]
[null,null,null,223,11772,23544,22000,33000,26160,32700]
[null,null,null,224,11826,23652,22100,33150,26280,32850]
[null,null,null,225,11880,23760,22200,33300,26400,33000]
[null,null,null,226,11934,23868,22300,33450,26520,33150]
[null,null,null,227,11988,23976,22400,33600,26640,33300]
[null,null,null,228,12042,24084,22500,33750,26760,33450]
[null,null,null,229,12096,24192,22600,33900,26880,33600]
[null,null,null,230,12150,24300,22700,34050,27000,33750]
[null,null,null,231,12204,24408,22800,34200,27120,33900]
[null,null,null,232,12258,24516,22900,34350,27240,34050]
[null,null,null,233,12312,24624,23000,34500,27360,34200]
[null,null,null,234,12366,24732,23100,34650,27480,34350]
[null,null,null,235,12420,24840,23200,34800,27600,34500]
[null,null,null,236,12474,24948,23300,34950,27720,34650]
[null,null,null,237,12528,25056,23400,35100,27840,34800]
[null,null,null,238,12582,25164,23500,35250,27960,34950]
[null,null,null,239,12636,25272,23600,35400,28080,35100]
[null,null,null,240,12690,25380,23700,35550,28200,35250]
[null,null,null,241,12744,25488,23800,35700,28320,35400]
[null,null,null,242,12798,25596,23900,35850,28440,35550]
[null,null,null,243,12852,25704,24000,36000,28560,35700]
[null,null,null,244,12906,25812,24100,36150,28680,35850]
[null,null,null,245,12960,25920,24200,36300,28800,36000]
[null,null,null,246,13014,26028,24300,36450,28920,36150]
[null,null,null,247,13068,26136,24400,36600,29040,36300]
[null,null,null,248,13122,26244,24500,36750,29160,36450]
[null,null,null,249,13176,26352,24600,36900,29280,36600]
[null,null,null,250,13230,26460,24700,37050,29400,36750]
[null,null,null,251,13284,26568,24800,37200,29520,36900]
[null,null,null,252,13338,26676,24900,37350,29640,37050]
[null,null,null,253,13392,26784,25000,37500,29760,37200]
[null,null,null,254,13446,26892,25100,37650,29880,37350]
[null,null,null,255,13500,27000,25200,37800,30000,37500]
[null,null,null,256,13554,27108,25300,37950,30120,37650]
[null,null,null,257,13608,27216,25400,38100,30240,37800]
[null,null,null,258,13662,27324,25500,38250,30360,37950]
[null,null,null,259,13716,27432,25600,38400,30480,38100]
[null,null,null,260,13770,27540,25700,38550,30600,38250]
[null,null,null,261,13824,27648,25800,38700,30720,38400]
[null,null,null,262,13878,27756,{"$f":"G319+100","v":25900},{"$f":"H319+150","v":38850},{"$f":"I319+120","v":30840},{"$f":"J319+150","v":38550}]
[null,null,null,263,13932,27864,26000,39000,30960,38700]
[null,null,null,264,{"$f":"E321+54","v":13986},{"$f":"F321+108","v":27972},26100,39150,31080,38850]
[null,null,null,265,14040,28080,26200,39300,31200,39000]
[null,null,null,266,14094,28188,26300,39450,31320,39150]
[null,null,null,267,14148,28296,26400,39600,31440,39300]
[null,null,null,268,14202,28404,26500,39750,31560,39450]
[null,null,null,269,14256,28512,26600,39900,31680,39600]
[null,null,null,270,14310,28620,26700,40050,31800,39750]
[null,null,null,271,14364,28728,26800,40200,31920,39900]
[null,null,null,272,14418,28836,26900,40350,32040,40050]
[null,null,null,273,14472,28944,27000,40500,32160,40200]
[null,null,null,274,14526,29052,27100,40650,32280,40350]
[null,null,null,275,14580,29160,27200,40800,32400,40500]
[null,null,null,276,14634,29268,27300,40950,32520,40650]
[null,null,null,277,14688,29376,27400,41100,32640,40800]
[null,null,null,278,14742,29484,27500,41250,32760,40950]
[null,null,null,279,14796,29592,27600,41400,32880,41100]
[null,null,null,280,14850,29700,27700,41550,33000,41250]
[null,null,null,281,14904,29808,27800,41700,33120,41400]
[null,null,null,282,14958,29916,27900,41850,33240,41550]
[null,null,null,283,15012,30024,28000,42000,33360,41700]
[null,null,null,284,15066,30132,28100,42150,33480,41850]
[null,null,null,285,15120,30240,28200,42300,33600,42000]
[null,null,null,286,15174,30348,28300,42450,33720,42150]
[null,null,null,287,15228,30456,28400,42600,33840,42300]
[null,null,null,288,15282,30564,28500,42750,33960,42450]
[null,null,null,289,15336,30672,28600,42900,34080,42600]
[null,null,null,290,15390,30780,28700,43050,34200,42750]
[null,null,null,291,15444,30888,28800,43200,34320,42900]
[null,null,null,292,15498,30996,28900,43350,34440,43050]
[null,null,null,293,15552,31104,29000,43500,34560,43200]
[null,null,null,294,15606,31212,29100,43650,34680,43350]
[null,null,null,295,15660,31320,29200,43800,34800,43500]
[null,null,null,296,15714,31428,29300,43950,34920,43650]
[null,null,null,297,15768,31536,29400,44100,35040,43800]
[null,null,null,298,15822,31644,29500,44250,35160,43950]
[null,null,null,299,15876,31752,29600,44400,35280,44100]
[null,null,null,300,15930,31860,29700,44550,35400,44250]
[null,null,null,301,15984,31968,29800,44700,35520,44400]
[null,null,null,302,16038,32076,29900,44850,35640,44550]
[null,null,null,303,16092,32184,30000,45000,35760,44700]
[null,null,null,304,16146,32292,30100,45150,35880,44850]
[null,null,null,305,16200,32400,30200,45300,36000,45000]
[null,null,null,306,16254,32508,30300,45450,36120,45150]
[null,null,null,307,16308,32616,30400,45600,36240,45300]
[null,null,null,308,16362,32724,30500,45750,36360,45450]
[null,null,null,309,16416,32832,30600,45900,36480,45600]
[null,null,null,310,16470,32940,30700,46050,36600,45750]
[null,null,null,311,16524,33048,30800,46200,36720,45900]
[null,null,null,312,16578,33156,30900,46350,36840,46050]
[null,null,null,313,16632,33264,31000,46500,36960,46200]
[null,null,null,314,16686,33372,31100,46650,37080,46350]
[null,null,null,315,16740,33480,31200,46800,37200,46500]
[null,null,null,316,16794,33588,31300,46950,37320,46650]
[null,null,null,317,16848,33696,31400,47100,37440,46800]
[null,null,null,318,16902,33804,31500,47250,37560,46950]
[null,null,null,319,16956,33912,31600,47400,37680,47100]
[null,null,null,320,17010,34020,31700,47550,37800,47250]
[null,null,null,321,17064,34128,31800,47700,37920,47400]
[null,null,null,322,17118,34236,31900,47850,38040,47550]
[null,null,null,323,17172,34344,32000,48000,38160,47700]
[null,null,null,324,17226,34452,32100,48150,38280,47850]
[null,null,null,325,17280,34560,32200,48300,38400,48000]
[null,null,null,326,17334,34668,{"$f":"G383+100","v":32300},{"$f":"H383+150","v":48450},{"$f":"I383+120","v":38520},{"$f":"J383+150","v":48150}]
[null,null,null,327,17388,34776,32400,48600,38640,48300]
[null,null,null,328,{"$f":"E385+54","v":17442},{"$f":"F385+108","v":34884},32500,48750,38760,48450]
[null,null,null,329,17496,34992,32600,48900,38880,48600]
[null,null,null,330,17550,35100,32700,49050,39000,48750]
[null,null,null,331,17604,35208,32800,49200,39120,48900]
[null,null,null,332,17658,35316,32900,49350,39240,49050]
[null,null,null,333,17712,35424,33000,49500,39360,49200]
[null,null,null,334,17766,35532,33100,49650,39480,49350]
[null,null,null,335,17820,35640,33200,49800,39600,49500]
[null,null,null,336,17874,35748,33300,49950,39720,49650]
[null,null,null,337,17928,35856,33400,50100,39840,49800]
[null,null,null,338,17982,35964,33500,50250,39960,49950]
[null,null,null,339,18036,36072,33600,50400,40080,50100]
[null,null,null,340,18090,36180,33700,50550,40200,50250]
[null,null,null,341,18144,36288,33800,50700,40320,50400]
[null,null,null,342,18198,36396,33900,50850,40440,50550]
[null,null,null,343,18252,36504,34000,51000,40560,50700]
[null,null,null,344,18306,36612,34100,51150,40680,50850]
[null,null,null,345,18360,36720,34200,51300,40800,51000]
[null,null,null,346,18414,36828,34300,51450,40920,51150]
[null,null,null,347,18468,36936,34400,51600,41040,51300]
[null,null,null,348,18522,37044,34500,51750,41160,51450]
[null,null,null,349,18576,37152,34600,51900,41280,51600]
[null,null,null,350,18630,37260,34700,52050,41400,51750]
[null,null,null,351,18684,37368,34800,52200,41520,51900]
[null,null,null,352,18738,37476,34900,52350,41640,52050]
[null,null,null,353,18792,37584,35000,52500,41760,52200]
[null,null,null,354,18846,37692,35100,52650,41880,52350]
[null,null,null,355,18900,37800,35200,52800,42000,52500]
[null,null,null,356,18954,37908,35300,52950,42120,52650]
[null,null,null,357,19008,38016,35400,53100,42240,52800]
[null,null,null,358,19062,38124,35500,53250,42360,52950]
[null,null,null,359,19116,38232,35600,53400,42480,53100]
[null,null,null,360,19170,38340,35700,53550,42600,53250]
[null,null,null,361,19224,38448,35800,53700,42720,53400]
[null,null,null,362,19278,38556,35900,53850,42840,53550]
[null,null,null,363,19332,38664,36000,54000,42960,53700]
[null,null,null,364,19386,38772,36100,54150,43080,53850]
[null,null,null,365,19440,38880,36200,54300,43200,54000]

{"sheet":"FIS - Container sizetype code","index":6,"n_rows":59,"n_cols":7,"rows_kept":59,"cut":false,"hidden":true,"merged":[]}
["Size Type Code","Type Group Code","Size/type","Dimension","HL Operated","Description","Details"]
["22G0","22GP","20 Dry","20' X 8' X 8'6\"","Y","GENERAL PURPOSE CONT.","OPENING(S) AT ONE END OR BOTH ENDS"]
["22G1","22GP","20 Dry","20' X 8' X 8'6\"","Y","GENERAL PURPOSE CONT.","PASSIVE VENTS AT UPPER PART OF CARGO SPACE"]
["22G2","22GP","20 Dry","20' X 8' X 8'6\"","Y","GENERAL PURPOSE OPEN SIDE","HL: OPENING(S) AT ENDS FULL OPENING(S) ON SIDES"]
["22GB","22GP","20 Dry","20' X 8' X 8'6\"","Y","GENERAL PURPOSE CONT.","GENERAL PURPOSE CONTAINER - REDUCED STACKING / RACKING LOAD"]
["22P1","22PF","20 Special","20' X 8' X 8'6\"","Y","FLAT (FIXED ENDS)","TWO COMPLETE AND FIXED ENDS"]
["22P2","22PF","20 Special","20' X 8' X 8'6\"","Y","FLAT (FIXED POSTS)","FLAT (FIXED POSTS)"]
["22P3","22PC","20 Special","20' X 8' X 8'6\"","Y","FLAT (COLLAPSIBLE)","FOLDING COMPLETE END STRUCTURE"]
["22P6","22PC","20 Special","20' X 8' X 8'6\"","Y","FLAT (COLLAPSIBLE)","FLAT (COLLAPSIBLE, NAMED CARGO, SPRING HINGE)"]
["22P7","22PF","20 Special","20' X 8' X 8'6\"","Y","FLAT (GENSET CARRIER)","HL:FLAT (GENSET-CARRIER)"]
["22P8","22PC","20 Special","20' X 8' X 8'6\"","Y","FLAT (COLL.FLUSH FOLDING)","HL: FLUSH FOLDING COMPLETE END STRUCTURE"]
["22P9","22PC","20 Special","20' X 8' X 8'6\"","Y","FLAT (COLLAPSIBLE)","HL: FLUSH FOLDING COMPLETE END STRUCTURE"]
["22R1","22RT","20 Reefer","20' X 8' X 8'6\"","Y","REEFER CONTAINER","MECHANICALLY REFRIGERATED AND HEATED"]
["22R7","22RS","20 Reefer","20' X 8' X 8'6\"","Y","REEFER POWERPACK GENERATOR","HL: BUILT-IN GENERATOR FOR POWER SUPPLY OF REEFER-CONTAINER"]
["22R9","22RC","20 Reefer","20' X 8' X 8'6\"","Y","REEFER CONT.(NO FOOD)","HL: MECHANICALLY REFRIGERATED AND HEATED (NO FOOD STUFF)"]
["22S1","22SN","20 Special","20' X 8' X 8'6\"","Y","NAMED CARGO CONTAINER","NAMED CARGO CONTAINER"]
["22T0","22TN","20 Special","20' X 8' X 8'6\"","Y","TANK CONTAINER (NON DG)","MINIMUM PRESSURE 45 KPA"]
["22T1","22TN","20 Special","20' X 8' X 8'6\"","Y","TANK CONTAINER (NON DG)","MINIMUM PRESSURE 150 KPA"]
["22T2","22TN","20 Special","20' X 8' X 8'6\"","Y","TANK CONTAINER (NON DG)","MINIMUM PRESSURE 265 KPA"]
["22T3","22TD","20 Special","20' X 8' X 8'6\"","Y","TANK CONTAINER (DG)","MINIMUM PRESSURE 150 KPA"]
["22T4","22TD","20 Special","20' X 8' X 8'6\"","Y","TANK CONTAINER (DG)","MINIMUM PRESSURE 265 KPA"]
["22T5","22TD","20 Special","20' X 8' X 8'6\"","Y","TANK CONTAINER (DG)","MINIMUM PRESSURE 400 KPA"]
["22T6","22TD","20 Special","20' X 8' X 8'6\"","Y","TANK CONTAINER (DG)","MINIMUM PRESSURE 600 KPA"]
["22T9","22TD","20 Special","20' X 8' X 8'6\"","Y","TANK (TEMPERATURE CONTROLLED)","TANK CONTAINER (TEMPERATURE CONTROLLED)"]
["22U1","22UT","20 Special","20' X 8' X 8'6\"","Y","OPEN TOP CONTAINER","OPENING(S) AT ONE OR BOTH ENDS, PLUS REMV TOP MEMBER(S)"]
["22U6","22UP","20 Special","20' X 8' X 8'6\"","Y","HARDTOP CONTAINER","HL: OPENING AT ONE OR BOTH ENDS, REMV TOP MEMBER/STEEL-ROOF"]
["25U1","25UT","20 Special","20' X 8  X 9' 6\"","Y","OPEN TOP CONTAINER HIGH CUBE","OPEN TOP CONTAINER HIGH CUBE"]
["42G0","42GP","40 Dry","40' X 8' X 8'6\"","Y","GENERAL PURPOSE CONT.","OPENING(S) AT ONE END OR BOTH ENDS"]
["42G1","42GP","40 Dry","40' X 8' X 8'6\"","Y","GENERAL PURPOSE CONT.","PASSIVE VENTS AT UPPER PART OF CARGO SPACE"]
["42G2","42GP","40 Dry","40' X 8' X 8'6\"","Y","GENERAL PURPOSE OPEN SIDE"," "]
["42GB","42GP","40 Dry","40' X 8' X 8'6\"","Y","GENERAL PURPOSE CONT.","GENERAL PURPOSE CONT.  REDUCED STACKING / RACKING LOAD"]
["42P1","42PF","40 Special","40' X 8' X 8'6\"","Y","FLAT (FIXED ENDS)","TWO COMPLETE AND FIXED ENDS"]
["42P2","42PF","40 Special","40' X 8' X 8'6\"","Y","FLAT (FIXED POSTS)","FLAT (FIXED POSTS)"]
["42P3","42PC","40 Special","40' X 8' X 8'6\"","Y","FLAT (COLLAPSIBLE)","FOLDING COMPLETE END STRUCTURE"]
["42P4","42PC","40 Special","40' X 8' X 8'6\"","Y","FLAT (COLLAPSIBLE)","FLAT (COLLAPSIBLE)"]
["42P8","42PC","40 Special","40' X 8' X 8'6\"","Y","FLAT (COLL.FLUSH FOLDING)","HL: FLUSH FOLDING COMPLETE END STRUCTURE"]
["42P9","42PC","40 Special","40' X 8' X 8'6\"","Y","FLAT (COLLAPSIBLE)","HL: FLUSH FOLDING COMPLETE END STRUCTURE"]
["42R9","42RC","40 Reefer","40' X 8' X 8'6\"","Y","REEFER CONT.(NO FOOD)","HL: MECHANICALLY REFRIGERATED AND HEATED (NOT FOOD STUFF)"]
["42U1","42UT","40 Special","40' X 8' X 8'6\"","Y","OPEN TOP CONTAINER","OPENING AT ONE END OR BOTH ENDS"]
["42U6","42UP","40 Special","40' X 8' X 8'6\"","Y","HARDTOP CONTAINER","HL: OPENING AT ONE END, REMV TOP MEMBER AND STEEL-ROOF"]
["42UB","42UT","40 Special","40' X 8' X 8'6\"","Y","OPEN TOP CONTAINER","OPEN TOP - REDUCED STACKING / RACKING CAPACITY"]
["44SG","44SN","40 Special","40' X 8' X 9'","Y","NAMED CARGO CONTAINER","NAMED CARGO CONTAINER - REDUCED STACKING / RACKING"]
["45G0","45GP","40 Dry","40' X 8' X 9'6\"","Y","HIGH CUBE CONT.","OPENING(S) AT ONE END OR BOTH ENDS"]
["45G1","45GP","40 Dry","40' X 8' X 9'6\"","Y","HIGH CUBE CONT.","PASSIVE VENTS AT UPPER PART OF CARGO SPACE"]
["45GB","45GP","40 Dry","40' X 8' X 9'6\"","Y","HIGH CUBE CONT.","HIGH CUBE CONT.  REDUCED STACKING / RACKING LOAD"]
["45P1","45PF","40 Special","40' X 8' X>9'6\"","Y","FLAT (FIXED ENDS)","FLAT (TWO COMPLETE AND FIXED ENDS)"]
["45P3","45PC","40 Special","40' X 8' X 9'6\"","Y","FLAT (COLLAPSIBLE)","FOLDING COMPLETE END STRUCTURE"]
["45P8","45PC","40 Special","40' X 8' X 9'6\"","Y","FLAT (COLL.FLUSH FOLDING)","HL: FLUSH FOLDING COMPLETE END STRUCTURE"]
["45R1","45RT","40 Reefer","40' X 8' X 9'6\"","Y","REEFER CONTAINER","MECHANICALLY REFRIGERATED AND HEATED"]
["45R9","45RC","40 Reefer","40' X 8' X 9'6\"","Y","REEFER CONT.(NO FOOD)","HL: MECHANICALLY REFRIGERATED AND HEATED (NO FOOD STUFF)"]
["45S4","45SN","40 Special","45' X 8' X 9'6\"","Y","ONSHORE POWER SUPPLY CONTAINER","HL:ONSHORE POWER SUPPLY CONTAINER"]
["45S5","45SN","40 Special","45' X 8' X 8'6\"","Y","ONSHORE POWER SUPPLY CONTAINER","ONSHORE POWER SUPPLY CONTAINER"]
["45U1","45UT","40 Special","40' X 8' X 9'6\"","Y","HIGH CUBE OPEN TOP CONT.","OPEN TOP CONTAINER HIGH CUBE"]
["45U6","45UP","40 Special","40' X 8' X 9'6\"","Y","HIGH CUBE HARDTOP CONT.","HL: OPENING AT ONE END, REMV TOP MEMBER AND STEEL-ROOF"]
["46P2","46PC","40 Special","40' X 8' X>9'6\"","Y","FLAT (FIXED POSTS)","FLAT (FIXED POSTS, FREE STANDING OR W. REMOVABLE TOP MEMBER)"]
["46P3","46PC","40 Special","40' X 8' X>9'6\"","Y","FLAT (COLLAPSIBLE)","FLAT (FOLDING COMPLETE END STRUCTURE)"]
["49P0","49PL","40 Special","40' X 8' X 2'","Y","PLATFORM","PLATFORM (CONTAINER)"]
["L5G1","L5GP","40 Special","45' X 8' X 9'6\"","Y","HIGH CUBE CONT.","HL: OPENING(S) AT ONE END OR BOTH ENDS"]
["L5G3","L5GP","40 Special","45' X 8' X 9'6\"","Y","HIGH CUBE CONT.(SIDE OPENINGS)","GENERAL PURPOSE CONTAINER WITHOUT VENTILATION"]

{"sheet":"process file","index":7,"n_rows":584,"n_cols":11,"rows_kept":584,"cut":false,"hidden":true,"merged":[]}
[null,"Container","Size/type","POD","DP Voy","DIFU Date","Detention End Date"]
[null,12345678910,"20 Dry","PKKHI","Test",{"$f":"TODAY()","v":"2023-06-09"},"2022-05-01","Test"]
[null,"Special20","20 Special","PKKHI","Test","2022-03-10","2022-03-19","Test"]
[null,"Reefer20","20 Reefer","PKKHI","Test","2022-03-10","2022-03-16","Test"]
[null,"Reefer40","40 Reefer","PKKHI","Test","2022-03-10","2022-03-16","Test"]
[null,"FANU1137967","40 Dry","PKKHI",282310,"2022-03-04","2022-03-15"]
[null,"TLLU4307748","40 Dry","PKKHI",282310,"2022-03-04","2022-03-15"]
[null,"UACU5058240","40 Dry","PKKHI",282310,"2022-03-04","2022-03-15"]
[null,"TCNU1597405","40 Dry","PKKHI",282310,"2022-03-04","2022-03-15"]
[null,"FANU1085740","40 Dry","PKKHI",282310,"2022-03-04","2022-03-15"]
[null,"BMOU6645987","40 Dry","PKKHI",282310,"2022-03-04","2022-03-15"]
[null,"CAIU4300728","40 Dry","PKKHI",282310,"2022-03-04","2022-03-15"]
[null,"HLBU2122131","40 Dry","PKKHI",282310,"2022-03-04","2022-03-15"]
[null,"HAMU1243360","40 Dry","PKKHI",282310,"2022-03-04","2022-03-15"]
[null,"HLBU8002489","40 Special","PKKHI",282310,"2022-03-05","2022-03-09"]
[null,"HLXU8252227","40 Dry","PKKHI",282310,"2022-03-04","2022-03-15"]
[null,"TCLU8068371","40 Dry","PKKHI",282310,"2022-03-04","2022-03-15"]
[null,"UACU5071215","40 Dry","PKKHI",282310,"2022-03-04","2022-03-15"]
[null,"HLBU3159407","40 Dry","PKKHI",282310,"2022-03-04","2022-03-15"]
[null,"HLBU1583308","40 Dry","PKKHI",282310,"2022-03-04","2022-03-11"]
[null,"FANU1598510","40 Dry","PKKHI",282310,"2022-03-04","2022-03-11"]
[null,"UASU1051980","40 Dry","PKKHI",282310,"2022-03-04","2022-03-11"]
[null,"CAIU9154457","40 Dry","PKKHI",282310,"2022-03-04","2022-03-11"]
[null,"FANU1318815","40 Dry","PKKHI",282310,"2022-03-04","2022-03-11"]
[null,"HAMU1251406","40 Dry","PKKHI",282310,"2022-03-04","2022-03-15"]
[null,"FCIU8037562","40 Dry","PKKHI",282310,"2022-03-04","2022-03-15"]
[null,"GESU6508760","40 Dry","PKKHI",282310,"2022-03-04","2022-03-15"]
[null,"GLDU7421506","40 Dry","PKKHI",282310,"2022-03-04","2022-03-15"]
[null,"DFSU7059278","40 Dry","PKKHI",282310,"2022-03-04","2022-03-15"]
[null,"DFSU7096796","40 Dry","PKKHI",282310,"2022-03-04","2022-03-15"]
[null,"HLBU2237022","40 Dry","PKKHI",282310,"2022-03-04","2022-03-15"]
[null,"HLXU8291199","40 Dry","PKKHI",282310,"2022-03-04","2022-03-15"]
[null,"UACU5726185","40 Dry","PKKHI",282310,"2022-03-04","2022-03-15"]
[null,"TGBU5463127","40 Dry","PKKHI",282310,"2022-03-04","2022-03-15"]
[null,"TCNU7529347","40 Dry","PKKHI",282310,"2022-03-04","2022-03-15"]
[null,"TCKU6598159","40 Dry","PKKHI",282310,"2022-03-04","2022-03-15"]
[null,"HLXU8065000","40 Dry","PKKHI",282310,"2022-03-04","2022-03-15"]
[null,"HLBU3235195","40 Dry","PKKHI",282310,"2022-03-04","2022-03-15"]
[null,"UACU5236573","40 Dry","PKKHI",282310,"2022-03-04","2022-03-11"]
[null,"HLBU2671260","40 Dry","PKKHI",282310,"2022-03-04","2022-03-11"]
[null,"HLXU8149749","40 Dry","PKKHI",282310,"2022-03-04","2022-03-08"]
[null,"HLXU6520953","40 Dry","PKKHI",282310,"2022-03-04","2022-03-08"]
[null,"CAAU5541542","40 Dry","PKKHI",282310,"2022-03-04","2022-03-08"]
[null,"UACU5877577","40 Dry","PKKHI",282310,"2022-03-04","2022-03-08"]
[null,"TCLU9531747","40 Dry","PKKHI",282310,"2022-03-04","2022-03-08"]
[null,"HLBU2030903","40 Dry","PKKHI",282310,"2022-03-04","2022-03-08"]
[null,"FCIU7444985","40 Dry","PKKHI",282310,"2022-03-04","2022-03-08"]
[null,"BMOU4531429","40 Dry","PKKHI",282310,"2022-03-04","2022-03-08"]
[null,"HLBU1916250","40 Dry","PKKHI",282310,"2022-03-04","2022-03-08"]
[null,"DFSU7377725","40 Dry","PKKHI",282310,"2022-03-04","2022-03-08"]
[null,"HLBU2407900","40 Dry","PKKHI",282310,"2022-03-04","2022-03-08"]
[null,"TCKU9699100","40 Dry","PKKHI",282310,"2022-03-04","2022-03-08"]
[null,"FCIU7489948","40 Dry","PKKHI",282310,"2022-03-04","2022-03-08"]
[null,"HLBU3254791","40 Dry","PKKHI",282310,"2022-03-04","2022-03-08"]
[null,"TLLU4864194","40 Dry","PKKHI",282310,"2022-03-04","2022-03-08"]
[null,"HLXU8448539","40 Dry","PKKHI",282310,"2022-03-04","2022-03-08"]
[null,"HLXU8430186","40 Dry","PKKHI",282310,"2022-03-04","2022-03-08"]
[null,"HLXU6458760","40 Dry","PKKHI",282310,"2022-03-04","2022-03-11"]
[null,"UACU5155595","40 Dry","PKKHI",282310,"2022-03-04","2022-03-11"]
[null,"HLBU1422896","40 Dry","PKKHI",282310,"2022-03-04","2022-03-11"]
[null,"HLBU1305858","40 Dry","PKKHI",282310,"2022-03-04","2022-03-11"]
[null,"TGBU6223692","40 Dry","PKKHI",282310,"2022-03-04","2022-03-11"]
[null,"HLXU8107569","40 Dry","PKKHI",282310,"2022-03-04","2022-03-11"]
[null,"MTSU9664119","40 Dry","PKKHI",282310,"2022-03-04","2022-03-08"]
[null,"FANU1212227","40 Dry","PKKHI",282310,"2022-03-04","2022-03-08"]
[null,"FFAU1895541","40 Dry","PKKHI",282310,"2022-03-04","2022-03-08"]
[null,"TCLU1452169","40 Dry","PKKHI",282310,"2022-03-04","2022-03-08"]
[null,"HLXU6581429","40 Dry","PKKHI",282310,"2022-03-04","2022-03-08"]
[null,"HLBU2862987","40 Dry","PKKHI",282310,"2022-03-04","2022-03-08"]
[null,"UACU5893407","40 Dry","PKKHI",282310,"2022-03-05","2022-03-09"]
[null,"TGBU5798096","40 Dry","PKKHI",282310,"2022-03-04","2022-03-08"]
[null,"FANU1249057","40 Dry","PKKHI",282310,"2022-03-04","2022-03-08"]
[null,"HLBU1198894","40 Dry","PKKHI",282310,"2022-03-04","2022-03-08"]
[null,"CAAU5565138","40 Dry","PKKHI",282310,"2022-03-04","2022-03-08"]
[null,"FANU3058574","40 Dry","PKKHI",282310,"2022-03-04","2022-03-08"]
[null,"BEAU4983580","40 Dry","PKKHI",282310,"2022-03-04","2022-03-08"]
[null,"HLXU8063780","40 Dry","PKKHI",282310,"2022-03-04","2022-03-08"]
[null,"HLBU3303767","40 Dry","PKKHI",282310,"2022-03-04","2022-03-08"]
[null,"FANU1192136","40 Dry","PKKHI",282310,"2022-03-04","2022-03-08"]
[null,"HLBU2105833","40 Dry","PKKHI",282310,"2022-03-04","2022-03-08"]
[null,"HLBU1487541","40 Dry","PKKHI",282310,"2022-03-04","2022-03-08"]
[null,"CLHU8817724","40 Dry","PKKHI",282310,"2022-03-04","2022-03-08"]
[null,"TEMU7319000","40 Dry","PKKHI",282310,"2022-03-04","2022-03-08"]
[null,"HLXU8396081","40 Dry","PKKHI",282310,"2022-03-04","2022-03-08"]
[null,"SEGU6982970","40 Dry","PKKHI",282310,"2022-03-04","2022-03-08"]
[null,"HLBU2419080","40 Dry","PKKHI",282310,"2022-03-04","2022-03-08"]
[null,"CAIU8552395","40 Dry","PKKHI",282310,"2022-03-04","2022-03-08"]
[null,"FFAU1195764","40 Dry","PKKHI",282310,"2022-03-04","2022-03-08"]
[null,"BSIU9278392","40 Dry","PKKHI",282310,"2022-03-04","2022-03-12"]
[null,"FANU1090915","40 Dry","PKKHI",282310,"2022-03-04","2022-03-24"]
[null,"HLXU5404239","40 Dry","PKKHI",282310,"2022-03-05","2022-03-25"]
[null,"HLBU2145862","40 Dry","PKKHI",282310,"2022-03-04","2022-03-24"]
[null,"BEAU4721661","40 Dry","PKKHI",282310,"2022-03-04","2022-03-24"]
[null,"HAMU1194348","40 Dry","PKKHI",282310,"2022-03-04","2022-03-24"]
[null,"CXDU2277572","40 Dry","PKKHI",282310,"2022-03-04","2022-03-24"]
[null,"HLBU1124377","40 Dry","PKKHI",282310,"2022-03-05","2022-03-25"]
[null,"HLBU3289000","40 Dry","PKKHI",282310,"2022-03-04","2022-03-24"]
[null,"TCLU4147338","40 Dry","PKKHI",282310,"2022-03-05","2022-03-25"]
[null,"FCIU9197101","40 Dry","PKKHI",282310,"2022-03-04","2022-03-24"]
[null,"HLBU1468496","40 Dry","PKKHI",282310,"2022-03-05","2022-03-25"]
[null,"HLBU1599140","40 Dry","PKKHI",282310,"2022-03-04","2022-03-24"]
[null,"MTSU9672829","40 Dry","PKKHI",282310,"2022-03-04","2022-03-24"]
[null,"HLXU6469126","40 Dry","PKKHI",282310,"2022-03-04","2022-03-24"]
[null,"HAMU1212101","40 Dry","PKKHI",282310,"2022-03-04","2022-03-24"]
[null,"UACU8148516","40 Dry","PKKHI",282310,"2022-03-05","2022-03-25"]
[null,"FANU1029772","40 Dry","PKKHI",282310,"2022-03-04","2022-03-24"]
[null,"TRHU4949289","40 Dry","PKKHI",282310,"2022-03-04","2022-03-24"]
[null,"HLXU8094604","40 Dry","PKKHI",282310,"2022-03-04","2022-03-24"]
[null,"CAIU8145126","40 Dry","PKKHI",282310,"2022-03-04","2022-03-24"]
[null,"HLBU8162194","40 Special","PKKHI",282310,"2022-03-05","2022-03-14"]
[null,"UETU5808420","40 Dry","PKKHI",282310,"2022-03-04","2022-03-24"]
[null,"TCLU8064864","40 Dry","PKKHI",282310,"2022-03-04","2022-03-24"]
[null,"TCLU8228802","40 Dry","PKKHI",282310,"2022-03-04","2022-03-24"]
[null,"HLBU1661329","40 Dry","PKKHI",282310,"2022-03-04","2022-03-24"]
[null,"FSCU7231320","40 Dry","PKKHI",282310,"2022-03-04","2022-03-24"]
[null,"FANU1145073","40 Dry","PKKHI",282310,"2022-03-04","2022-03-24"]
[null,"FCIU7038158","40 Dry","PKKHI",282310,"2022-03-04","2022-03-24"]
[null,"TTNU5965494","40 Dry","PKKHI",282310,"2022-03-05","2022-03-25"]
[null,"UACU8225063","40 Dry","PKKHI",282310,"2022-03-05","2022-03-12"]
[null,"HLBU1781047","40 Dry","PKKHI",282310,"2022-03-05","2022-03-12"]
[null,"TCLU9179873","40 Dry","PKKHI",282310,"2022-03-05","2022-03-12"]
[null,"UACU8457536","40 Dry","PKKHI",282310,"2022-03-05","2022-03-12"]
[null,"BMOU6695870","40 Dry","PKKHI",282310,"2022-03-04","2022-03-15"]
[null,"FANU1113306","40 Dry","PKKHI",282310,"2022-03-04","2022-03-15"]
[null,"HLBU2549870","40 Dry","PKKHI",282310,"2022-03-04","2022-03-15"]
[null,"HLBU2219137","40 Dry","PKKHI",282310,"2022-03-04","2022-03-15"]
[null,"HLBU2407601","40 Dry","PKKHI",282310,"2022-03-04","2022-03-11"]
[null,"FANU1621483","40 Dry","PKKHI",282310,"2022-03-04","2022-03-11"]
[null,"UETU5860959","40 Dry","PKKHI",282310,"2022-03-04","2022-03-11"]
[null,"HLBU2402810","40 Dry","PKKHI",282310,"2022-03-05","2022-03-12"]
[null,"DFSU7097534","40 Dry","PKKHI",282310,"2022-03-05","2022-03-12"]
[null,"HLXU8309512","40 Dry","PKKHI",282310,"2022-03-05","2022-03-16"]
[null,"BMOU5484240","40 Dry","PKKHI",282310,"2022-03-04","2022-03-15"]
[null,"UACU5218538","40 Dry","PKKHI",282310,"2022-03-04","2022-03-15"]
[null,"MTSU9672876","40 Dry","PKKHI",282310,"2022-03-04","2022-03-15"]
[null,"FANU1519105","40 Dry","PKKHI",282310,"2022-03-04","2022-03-15"]
[null,"TCNU3270010","40 Dry","PKKHI",282310,"2022-03-04","2022-03-15"]
[null,"FANU1176747","40 Dry","PKKHI",282310,"2022-03-04","2022-03-15"]
[null,"FCGU1668698","40 Dry","PKKHI",282310,"2022-03-04","2022-03-15"]
[null,"TCNU9184645","40 Dry","PKKHI",282310,"2022-03-04","2022-03-15"]
[null,"FANU1745360","40 Dry","PKKHI",282310,"2022-03-04","2022-03-15"]
[null,"HAMU1320385","40 Dry","PKKHI",282310,"2022-03-04","2022-03-15"]
[null,"FCIU7100085","40 Dry","PKKHI",282310,"2022-03-04","2022-03-15"]
[null,"CAIU3093729","20 Dry","PKKHI",282310,"2022-03-04","2022-03-24"]
[null,"CAIU4217104","40 Dry","PKKHI",282310,"2022-03-04","2022-03-15"]
[null,"BMOU6608622","40 Dry","PKKHI",282310,"2022-03-04","2022-03-15"]
[null,"HLBU3097500","40 Dry","PKKHI",282310,"2022-03-04","2022-03-15"]
[null,"HLBU1904270","40 Dry","PKKHI",282310,"2022-03-04","2022-03-15"]
[null,"FANU1181321","40 Dry","PKKHI",282310,"2022-03-04","2022-03-15"]
[null,"HLXU8533815","40 Dry","PKKHI",282310,"2022-03-04","2022-03-15"]
[null,"FANU1223854","40 Dry","PKKHI",282310,"2022-03-04","2022-03-15"]
[null,"FANU1590757","40 Dry","PKKHI",282310,"2022-03-04","2022-03-15"]
[null,"GESU6411364","40 Dry","PKKHI",282310,"2022-03-04","2022-03-15"]
[null,"HLBU1964691","40 Dry","PKKHI",282310,"2022-03-04","2022-03-15"]
[null,"HLBU2033559","40 Dry","PKKHI",282310,"2022-03-04","2022-03-15"]
[null,"MAGU4888790","40 Dry","PKKHI",282308,"2022-03-02","2022-03-22"]
[null,"UACU8606898","40 Dry","PKKHI",282308,"2022-03-02","2022-03-22"]
[null,"HLXU8542817","40 Dry","PKKHI",282308,"2022-03-03","2022-03-23"]
[null,"HLBU1567919","40 Dry","PKKHI",282308,"2022-03-02","2022-03-09"]
[null,"TCLU5422753","40 Dry","PKKHI",282308,"2022-03-02","2022-03-09"]
[null,"UACU5941110","40 Dry","PKKHI",282308,"2022-03-02","2022-03-09"]
[null,"GATU8775647","40 Dry","PKKHI",282308,"2022-03-03","2022-03-10"]
[null,"HLBU2830439","40 Dry","PKKHI",282308,"2022-03-02","2022-03-09"]
[null,"GATU8826889","40 Dry","PKKHI",282308,"2022-03-02","2022-03-09"]
[null,"FSCU7104310","40 Dry","PKKHI",282308,"2022-03-02","2022-03-09"]
[null,"HLBU3251452","40 Dry","PKKHI",282308,"2022-03-02","2022-03-09"]
[null,"BEAU5363460","40 Dry","PKKHI",282308,"2022-03-03","2022-03-16"]
[null,"TLLU5321205","40 Dry","PKKHI",282308,"2022-03-02","2022-03-15"]
[null,"HLXU8108117","40 Dry","PKKHI",282308,"2022-03-02","2022-03-15"]
[null,"TGHU5195284","40 Dry","PKKHI",282308,"2022-03-02","2022-03-22"]
[null,"TCKU4709839","40 Dry","PKKHI",282308,"2022-03-02","2022-03-22"]
[null,"BMOU6637934","40 Dry","PKKHI",282308,"2022-03-03","2022-03-23"]
[null,"HLBU2174691","40 Dry","PKKHI",282308,"2022-03-03","2022-03-14"]
[null,"FFAU2860494","40 Dry","PKKHI",282308,"2022-03-02","2022-03-13"]
[null,"UACU8222526","40 Dry","PKKHI",282308,"2022-03-03","2022-03-23"]
[null,"HLBU1634684","40 Dry","PKKHI",282308,"2022-03-02","2022-03-15"]
[null,"UACU8219311","40 Dry","PKKHI",282308,"2022-03-02","2022-03-15"]
[null,"TCNU8029285","40 Dry","PKKHI",282308,"2022-03-02","2022-03-15"]
[null,"TTNU5364446","40 Dry","PKKHI",282308,"2022-03-02","2022-03-15"]
[null,"UACU8503879","40 Dry","PKKHI",282308,"2022-03-02","2022-03-15"]
[null,"HLBU2762313","40 Dry","PKKHI",282308,"2022-03-02","2022-03-09"]
[null,"HLXU6555836","40 Dry","PKKHI",282308,"2022-03-02","2022-03-09"]
[null,"FANU1214765","40 Dry","PKKHI",282308,"2022-03-02","2022-03-09"]
[null,"GESU6436758","40 Dry","PKKHI",282308,"2022-03-02","2022-03-09"]
[null,"BMOU5574873","40 Dry","PKKHI",282308,"2022-03-02","2022-03-09"]
[null,"CAIU4357683","40 Dry","PKKHI",282308,"2022-03-02","2022-03-15"]
[null,"BMOU3015011","40 Dry","PKKHI",282308,"2022-03-02","2022-03-22"]
[null,"TEMU7652686","40 Dry","PKKHI",282308,"2022-03-03","2022-03-23"]
[null,"HLXU5299658","40 Dry","PKKHI",282308,"2022-03-03","2022-03-23"]
[null,"CAIU9513156","40 Dry","PKKHI",282308,"2022-03-02","2022-03-22"]
[null,"TCNU6150256","40 Dry","PKKHI",282308,"2022-03-03","2022-03-23"]
[null,"HLXU5386201","40 Dry","PKKHI",282308,"2022-03-02","2022-03-22"]
[null,"TCLU4072943","40 Dry","PKKHI",282308,"2022-03-03","2022-03-23"]
[null,"HLBU1266290","40 Dry","PKKHI",282308,"2022-03-02","2022-03-22"]
[null,"HLXU5337064","40 Dry","PKKHI",282308,"2022-03-02","2022-03-08"]
[null,"HLXU6379450","40 Dry","PKKHI",282308,"2022-03-02","2022-03-08"]
[null,"CLHU9051973","40 Dry","PKKHI",282308,"2022-03-02","2022-03-08"]
[null,"HLBU3422302","40 Dry","PKKHI",282308,"2022-03-02","2022-03-08"]
[null,"FANU3219160","40 Dry","PKKHI",282308,"2022-03-02","2022-03-08"]
[null,"TEMU6569453","40 Dry","PKKHI",282308,"2022-03-02","2022-03-08"]
[null,"TCNU8372078","40 Dry","PKKHI",282308,"2022-03-02","2022-03-08"]
[null,"FANU1617333","40 Dry","PKKHI",282308,"2022-03-02","2022-03-08"]
[null,"CAIU4982931","40 Dry","PKKHI",282308,"2022-03-02","2022-03-08"]
[null,"HLXU8583396","40 Dry","PKKHI",282308,"2022-03-02","2022-03-08"]
[null,"FSCU7155852","40 Dry","PKKHI",282308,"2022-03-02","2022-03-16"]
[null,"HLBU3093697","40 Dry","PKKHI",282308,"2022-03-02","2022-03-16"]
[null,"HLXU5369776","40 Dry","PKKHI",282308,"2022-03-02","2022-03-16"]
[null,"FDCU0177911","40 Dry","PKKHI",282308,"2022-03-02","2022-03-16"]
[null,"TCLU4135553","40 Dry","PKKHI",282308,"2022-03-02","2022-03-16"]
[null,"HLBU2672375","40 Dry","PKKHI",282308,"2022-03-02","2022-03-16"]
[null,"TGBU5457757","40 Dry","PKKHI",282308,"2022-03-02","2022-03-16"]
[null,"FCIU9175627","40 Dry","PKKHI",282308,"2022-03-02","2022-03-16"]
[null,"TGBU5750826","40 Dry","PKKHI",282308,"2022-03-02","2022-03-16"]
[null,"GESU6473411","40 Dry","PKKHI",282308,"2022-03-02","2022-03-16"]
[null,"HLBU2429318","40 Dry","PKKHI",282308,"2022-03-02","2022-03-16"]
[null,"FANU1587178","40 Dry","PKKHI",282308,"2022-03-02","2022-03-16"]
[null,"FANU1834956","40 Dry","PKKHI",282308,"2022-03-02","2022-03-16"]
[null,"CLHU4727427","40 Dry","PKKHI",282308,"2022-03-02","2022-03-16"]
[null,"HLBU2874972","40 Dry","PKKHI",282308,"2022-03-02","2022-03-16"]
[null,"TRLU4868523","40 Dry","PKKHI",282308,"2022-03-02","2022-03-16"]
[null,"UACU5921643","40 Dry","PKKHI",282308,"2022-03-02","2022-03-06"]
[null,"TCLU5036072","40 Dry","PKKHI",282308,"2022-03-02","2022-03-06"]
[null,"HLBU3102119","40 Dry","PKKHI",282308,"2022-03-02","2022-03-06"]
[null,"TGBU9607238","40 Dry","PKKHI",282308,"2022-03-02","2022-03-06"]
[null,"TGBU5749424","40 Dry","PKKHI",282308,"2022-03-02","2022-03-06"]
[null,"HLBU1781181","40 Dry","PKKHI",282308,"2022-03-02","2022-03-06"]
[null,"FANU1518182","40 Dry","PKKHI",282308,"2022-03-03","2022-03-07"]
[null,"FDCU0144374","40 Dry","PKKHI",282308,"2022-03-03","2022-03-07"]
[null,"FANU1722175","40 Dry","PKKHI",282308,"2022-03-02","2022-03-06"]
[null,"HLBU2167521","40 Dry","PKKHI",282308,"2022-03-03","2022-03-10"]
[null,"TEMU6707059","40 Dry","PKKHI",282308,"2022-03-03","2022-03-10"]
[null,"HLXU8434129","40 Dry","PKKHI",282308,"2022-03-03","2022-03-10"]
[null,"HLBU3211716","40 Dry","PKKHI",282308,"2022-03-02","2022-03-06"]
[null,"HLBU3257960","40 Dry","PKKHI",282308,"2022-03-02","2022-03-06"]
[null,"FANU1941851","40 Dry","PKKHI",282308,"2022-03-02","2022-03-06"]
[null,"HLBU2010316","40 Dry","PKKHI",282308,"2022-03-02","2022-03-06"]
[null,"FANU1874100","40 Dry","PKKHI",282308,"2022-03-03","2022-03-07"]
[null,"HLBU2070573","40 Dry","PKKHI",282308,"2022-03-02","2022-03-09"]
[null,"FSCU7152128","40 Dry","PKKHI",282308,"2022-03-02","2022-03-09"]
[null,"HAMU1243463","40 Dry","PKKHI",282308,"2022-03-02","2022-03-09"]
[null,"HLBU1858318","40 Dry","PKKHI",282308,"2022-03-02","2022-03-09"]
[null,"UACU5678934","40 Dry","PKKHI",282308,"2022-03-02","2022-03-09"]
[null,"HLBU2194785","40 Dry","PKKHI",282308,"2022-03-02","2022-03-06"]
[null,"TGBU5683395","40 Dry","PKKHI",282308,"2022-03-03","2022-03-07"]
[null,"TGCU5185631","40 Dry","PKKHI",282308,"2022-03-02","2022-03-06"]
[null,"FSCU8246047","40 Dry","PKKHI",282308,"2022-03-02","2022-03-09"]
[null,"FANU1673954","40 Dry","PKKHI",282308,"2022-03-02","2022-03-09"]
[null,"FSCU7184450","40 Dry","PKKHI",282308,"2022-03-02","2022-03-09"]
[null,"HLBU2523089","40 Dry","PKKHI",282308,"2022-03-02","2022-03-09"]
[null,"TGBU6170463","40 Dry","PKKHI",282308,"2022-03-02","2022-03-09"]
[null,"HLBU3333632","40 Dry","PKKHI",282308,"2022-03-03","2022-03-10"]
[null,"BEAU4706271","40 Dry","PKKHI",282308,"2022-03-02","2022-03-09"]
[null,"CAIU9131153","40 Dry","PKKHI",282308,"2022-03-02","2022-03-09"]
[null,"HLBU2408974","40 Dry","PKKHI",282308,"2022-03-02","2022-03-09"]
[null,"TCLU5780736","40 Dry","PKKHI",282308,"2022-03-02","2022-03-06"]
[null,"FDCU0315991","40 Dry","PKKHI",282308,"2022-03-02","2022-03-06"]
[null,"FANU1407527","40 Dry","PKKHI",282308,"2022-03-02","2022-03-06"]
[null,"HLBU2213566","40 Dry","PKKHI",282308,"2022-03-03","2022-03-07"]
[null,"HLBU3387412","40 Dry","PKKHI",282308,"2022-03-02","2022-03-06"]
[null,"TGBU5805528","40 Dry","PKKHI",282308,"2022-03-03","2022-03-07"]
[null,"HLBU1986556","40 Dry","PKKHI",282308,"2022-03-02","2022-03-06"]
[null,"TLLU5410508","40 Dry","PKKHI",282308,"2022-03-02","2022-03-06"]
[null,"HAMU1245656","40 Dry","PKKHI",282308,"2022-03-03","2022-03-07"]
[null,"HLBU1630035","40 Dry","PKKHI",282308,"2022-03-03","2022-03-07"]
[null,"FCIU9110740","40 Dry","PKKHI",282308,"2022-03-02","2022-03-06"]
[null,"XINU8067296","40 Dry","PKKHI",282308,"2022-03-02","2022-03-06"]
[null,"HLBU2813257","40 Dry","PKKHI",282308,"2022-03-03","2022-03-07"]
[null,"TCKU6560791","40 Dry","PKKHI",282308,"2022-03-03","2022-03-07"]
[null,"HLBU2251798","40 Dry","PKKHI",282308,"2022-03-02","2022-03-06"]
[null,"UASU1050160","40 Dry","PKKHI",282308,"2022-03-02","2022-03-06"]
[null,"UACU5558121","40 Dry","PKKHI",282308,"2022-03-02","2022-03-06"]
[null,"GVCU5311091","40 Dry","PKKHI",282308,"2022-03-02","2022-03-06"]
[null,"HLBU3248382","40 Dry","PKKHI",282308,"2022-03-03","2022-03-07"]
[null,"CAIU8522615","40 Dry","PKKHI",282308,"2022-03-02","2022-03-06"]
[null,"UACU5518406","40 Dry","PKKHI",282308,"2022-03-02","2022-03-06"]
[null,"TLLU5403941","40 Dry","PKKHI",282308,"2022-03-03","2022-03-07"]
[null,"TCNU9873937","40 Dry","PKKHI",282308,"2022-03-03","2022-03-07"]
[null,"HLXU8623457","40 Dry","PKKHI",282308,"2022-03-02","2022-03-09"]
[null,"TCNU3416569","40 Dry","PKKHI",282308,"2022-03-02","2022-03-09"]
[null,"FANU1204448","40 Dry","PKKHI",282308,"2022-03-02","2022-03-09"]
[null,"HLBU2147274","40 Dry","PKKHI",282308,"2022-03-02","2022-03-09"]
[null,"CLHU8964330","40 Dry","PKKHI",282308,"2022-03-02","2022-03-09"]
[null,"UACU5315477","40 Dry","PKKHI",282308,"2022-03-02","2022-03-09"]
[null,"CAIU8546258","40 Dry","PKKHI",282308,"2022-03-03","2022-03-07"]
[null,"UACU6054228","40 Dry","PKKHI",282308,"2022-03-03","2022-03-07"]
[null,"TGBU6234378","40 Dry","PKKHI",282308,"2022-03-02","2022-03-06"]
[null,"HLXU8454634","40 Dry","PKKHI",282308,"2022-03-02","2022-03-06"]
[null,"HLBU1322120","40 Dry","PKKHI",282308,"2022-03-02","2022-03-06"]
[null,"HLBU2489826","40 Dry","PKKHI",282308,"2022-03-02","2022-03-08"]
[null,"HLBU2231390","40 Dry","PKKHI",282308,"2022-03-02","2022-03-08"]
[null,"CAAU5549271","40 Dry","PKKHI",282308,"2022-03-02","2022-03-08"]
[null,"TCLU4138824","40 Dry","PKKHI",282308,"2022-03-02","2022-03-08"]
[null,"HLXU8021824","40 Dry","PKKHI",282308,"2022-03-02","2022-03-08"]
[null,"TCLU4129910","40 Dry","PKKHI",282308,"2022-03-02","2022-03-08"]
[null,"TRLU6512790","40 Dry","PKKHI",282308,"2022-03-02","2022-03-08"]
[null,"FANU1390147","40 Dry","PKKHI",282308,"2022-03-02","2022-03-08"]
[null,"TCLU4140740","40 Dry","PKKHI",282308,"2022-03-02","2022-03-08"]
[null,"TCLU9521311","40 Dry","PKKHI",282308,"2022-03-02","2022-03-08"]
[null,"HLXU6490484","40 Dry","PKKHI",282308,"2022-03-02","2022-03-06"]
[null,"AMFU8909083","40 Dry","PKKHI",282308,"2022-03-02","2022-03-06"]
[null,"HLBU2429787","40 Dry","PKKHI",282308,"2022-03-02","2022-03-06"]
[null,"TCNU9149937","40 Dry","PKKHI",282308,"2022-03-02","2022-03-06"]
[null,"CXDU1010344","20 Dry","PKKHI",282308,"2022-03-03","2022-03-07"]
[null,"TEMU1620697","20 Dry","PKKHI",282308,"2022-03-02","2022-03-16"]
[null,"UACU3691500","20 Dry","PKKHI",282308,"2022-03-03","2022-03-17"]
[null,"BEAU5366704","40 Dry","PKKHI",282308,"2022-03-03","2022-03-23"]
[null,"TCNU9043293","40 Dry","PKKHI",282308,"2022-03-02","2022-03-22"]
[null,"SEGU5621186","40 Dry","PKKHI",282308,"2022-03-02","2022-03-22"]
[null,"UACU8609120","40 Dry","PKKHI",282308,"2022-03-02","2022-03-22"]
[null,"GESU6166781","40 Dry","PKKHI",282308,"2022-03-03","2022-03-09"]
[null,"FANU1905540","40 Dry","PKKHI",282308,"2022-03-02","2022-03-22"]
[null,"UACU8470862","40 Dry","PKKHI",282308,"2022-03-02","2022-03-22"]
[null,"TCLU4793765","40 Dry","PKKHI",282308,"2022-03-03","2022-03-23"]
[null,"FCIU9105450","40 Dry","PKKHI",282308,"2022-03-02","2022-03-11"]
[null,"HLBU2894808","40 Dry","PKKHI",282308,"2022-03-03","2022-03-12"]
[null,"HLXU8182325","40 Dry","PKKHI",282308,"2022-03-02","2022-03-11"]
[null,"TCNU3298620","40 Dry","PKKHI",282308,"2022-03-02","2022-03-11"]
[null,"HLBU2857933","40 Dry","PKKHI",282308,"2022-03-02","2022-03-11"]
[null,"TCNU8435900","40 Dry","PKKHI",282308,"2022-03-02","2022-03-11"]
[null,"TRHU4967235","40 Dry","PKKHI",282308,"2022-03-02","2022-03-11"]
[null,"TCNU1379620","40 Dry","PKKHI",282308,"2022-03-02","2022-03-11"]
[null,"HLXU8500257","40 Dry","PKKHI",282308,"2022-03-02","2022-03-11"]
[null,"UACU8179395","40 Dry","PKKHI",282308,"2022-03-02","2022-03-06"]
[null,"HLBU1316636","40 Dry","PKKHI",282308,"2022-03-02","2022-03-08"]
[null,"UACU8439050","40 Dry","PKKHI",282308,"2022-03-02","2022-03-22"]
[null,"HLXU5338749","40 Dry","PKKHI",282308,"2022-03-02","2022-03-22"]
[null,"FCIU7492788","40 Dry","PKKHI",282308,"2022-03-02","2022-03-22"]
[null,"CAIU9763279","40 Dry","PKKHI",282308,"2022-03-03","2022-03-23"]
[null,"HLBU1469450","40 Dry","PKKHI",282308,"2022-03-02","2022-03-22"]
[null,"HAMU1325031","40 Dry","PKKHI",282308,"2022-03-03","2022-03-23"]
[null,"SLSU8036401","40 Dry","PKKHI",282308,"2022-03-02","2022-03-22"]
[null,"HLBU2769576","40 Dry","PKKHI",282308,"2022-03-02","2022-03-22"]
[null,"UACU8356870","40 Dry","PKKHI",282308,"2022-03-03","2022-03-23"]
[null,"TCKU6551803","40 Dry","PKKHI",282308,"2022-03-02","2022-03-22"]
[null,"TCLU4084250","40 Dry","PKKHI",282308,"2022-03-02","2022-03-22"]
[null,"BSIU9652202","40 Dry","PKKHI",282308,"2022-03-02","2022-03-22"]
[null,"TCLU5092348","40 Dry","PKKHI",282308,"2022-03-03","2022-03-23"]
[null,"FSCU8081986","40 Dry","PKKHI",282308,"2022-03-02","2022-03-22"]
[null,"TEMU7089490","40 Dry","PKKHI",282308,"2022-03-02","2022-03-06"]
[null,"HLBU2597883","40 Dry","PKKHI",282308,"2022-03-02","2022-03-06"]
[null,"BMOU5493452","40 Dry","PKKHI",282308,"2022-03-02","2022-03-11"]
[null,"UACU8554217","40 Dry","PKKHI",282308,"2022-03-02","2022-03-22"]
[null,"TCLU6625781","40 Dry","PKKHI",282308,"2022-03-03","2022-03-23"]
[null,"TCLU4774786","40 Dry","PKKHI",282308,"2022-03-03","2022-03-23"]
[null,"TTNU4995010","40 Dry","PKKHI",282308,"2022-03-02","2022-03-22"]
[null,"BSIU4026192","40 Dry","PKKHI",282308,"2022-03-03","2022-03-23"]
[null,"HLXU8454660","40 Dry","PKKHI",282308,"2022-03-03","2022-03-23"]
[null,"FANU1396865","40 Dry","PKKHI",282308,"2022-03-02","2022-03-06"]
[null,"UACU5319472","40 Dry","PKKHI",282308,"2022-03-02","2022-03-06"]
[null,"TGHU5155574","40 Dry","PKKHI",282308,"2022-03-02","2022-03-06"]
[null,"FCIU3466899","20 Dry","PKKHI",282308,"2022-03-02","2022-03-11"]
[null,"TCKU3637879","20 Dry","PKKHI",282308,"2022-03-03","2022-03-23"]
[null,"UACU3842859","20 Dry","PKKHI",282308,"2022-03-02","2022-03-06"]
[null,"HLXU1069493","20 Dry","PKKHI",282308,"2022-03-03","2022-03-07"]
[null,"HAMU1137693","40 Dry","PKKHI",282308,"2022-03-02","2022-03-22"]
[null,"UACU5432220","40 Dry","PKKHI",282308,"2022-03-02","2022-03-22"]
[null,"HLBU3382236","40 Dry","PKKHI",282308,"2022-03-02","2022-03-22"]
[null,"GLDU7444991","40 Dry","PKKHI",282308,"2022-03-02","2022-03-22"]
[null,"UACU5815929","40 Dry","PKKHI",282308,"2022-03-02","2022-03-22"]
[null,"FANU1878527","40 Dry","PKKHI",282308,"2022-03-02","2022-03-22"]
[null,"UACU5083303","40 Dry","PKKHI",282308,"2022-03-02","2022-03-22"]
[null,"FANU1224906","40 Dry","PKKHI",282308,"2022-03-02","2022-03-22"]
[null,"FCGU1985199","40 Dry","PKKHI",282308,"2022-03-02","2022-03-22"]
[null,"TGHU9086131","40 Dry","PKKHI",282308,"2022-03-02","2022-03-22"]
[null,"HLBU2669216","40 Dry","PKKHI",282308,"2022-03-02","2022-03-22"]
[null,"HLBU2792961","40 Dry","PKKHI",282308,"2022-03-02","2022-03-22"]
[null,"TRLU9516910","40 Dry","PKKHI",282308,"2022-03-02","2022-03-22"]
[null,"TCKU6607986","40 Dry","PKKHI",282308,"2022-03-03","2022-03-23"]
[null,"HLXU8196397","40 Dry","PKKHI",282308,"2022-03-03","2022-03-23"]
[null,"UACU5128645","40 Dry","PKKHI",282308,"2022-03-02","2022-03-22"]
[null,"HAMU1309004","40 Dry","PKKHI",282308,"2022-03-03","2022-03-23"]
[null,"CAIU8350990","40 Dry","PKKHI",282308,"2022-03-02","2022-03-22"]
[null,"HLBU3331120","40 Dry","PKKHI",282308,"2022-03-03","2022-03-23"]
[null,"CAIU4517565","40 Dry","PKKHI",282308,"2022-03-03","2022-03-23"]
[null,"HLXU8545457","40 Dry","PKKHI",282308,"2022-03-02","2022-03-22"]
[null,"HLBU1058491","40 Dry","PKKHI",282308,"2022-03-03","2022-03-23"]
[null,"HLBU1772596","40 Dry","PKKHI",282308,"2022-03-03","2022-03-23"]
[null,"BMOU6679605","40 Dry","PKKHI",282308,"2022-03-02","2022-03-11"]
[null,"HLXU8426416","40 Dry","PKKHI",282308,"2022-03-02","2022-03-11"]
[null,"BEAU5004480","40 Dry","PKKHI",282308,"2022-03-02","2022-03-11"]
[null,"DFSU7411347","40 Dry","PKKHI",282308,"2022-03-02","2022-03-11"]
[null,"TLLU5950506","40 Dry","PKKHI",282308,"2022-03-02","2022-03-22"]
[null,"UACU8513476","40 Dry","PKKHI",282308,"2022-03-03","2022-03-23"]
[null,"SEGU5016816","40 Dry","PKKHI",282308,"2022-03-02","2022-03-22"]
[null,"GESU6478584","40 Dry","PKKHI",282308,"2022-03-03","2022-03-23"]
[null,"SLSU8064023","40 Dry","PKKHI",282308,"2022-03-02","2022-03-22"]
[null,"FANU1024277","40 Dry","PKKHI",282308,"2022-03-03","2022-03-23"]
[null,"UACU8514786","40 Dry","PKKHI",282308,"2022-03-03","2022-03-23"]
[null,"HLBU1945367","40 Dry","PKKHI",282308,"2022-03-02","2022-03-08"]
[null,"SEGU6890770","40 Dry","PKKHI",282308,"2022-03-02","2022-03-08"]
[null,"FANU1129832","40 Dry","PKKHI",282308,"2022-03-02","2022-03-11"]
[null,"HLBU3278026","40 Dry","PKKHI",282308,"2022-03-02","2022-03-22"]
[null,"TRLU6507710","40 Dry","PKKHI",282308,"2022-03-02","2022-03-22"]
[null,"FANU1716254","40 Dry","PKKHI",282308,"2022-03-02","2022-03-08"]
[null,"TCNU8472652","40 Dry","PKKHI",282308,"2022-03-02","2022-03-08"]
[null,"HLXU8212712","40 Dry","PKKHI",282308,"2022-03-02","2022-03-08"]
[null,"TCLU4138470","40 Dry","PKKHI",282308,"2022-03-03","2022-03-23"]
[null,"HLBU1521353","40 Dry","PKKHI",282308,"2022-03-03","2022-03-23"]
[null,"FFAU2861314","40 Dry","PKKHI",282308,"2022-03-02","2022-03-13"]
[null,"HAMU1152126","40 Dry","PKKHI",282308,"2022-03-02","2022-03-08"]
[null,"UACU5145391","40 Dry","PKKHI",282308,"2022-03-03","2022-03-23"]
[null,"CAIU8350434","40 Dry","PKKHI",282308,"2022-03-02","2022-03-22"]
[null,"FANU1941996","40 Dry","PKKHI",282308,"2022-03-02","2022-03-22"]
[null,"UACU5433870","40 Dry","PKKHI",282308,"2022-03-02","2022-03-22"]
[null,"HLBU3332997","40 Dry","PKKHI",282308,"2022-03-02","2022-03-10"]
[null,"UACU5316133","40 Dry","PKKHI",282308,"2022-03-02","2022-03-10"]
[null,"HLBU1786809","40 Dry","PKKHI",282308,"2022-03-02","2022-03-22"]
[null,"HLBU1530099","40 Dry","PKKHI",282308,"2022-03-03","2022-03-23"]
[null,"HLXU8094517","40 Dry","PKKHI",282308,"2022-03-02","2022-03-06"]
[null,"TGBU9609713","40 Dry","PKKHI",282308,"2022-03-02","2022-03-11"]
[null,"HLBU1559446","40 Dry","PKKHI",282308,"2022-03-02","2022-03-08"]
[null,"UACU5206835","40 Dry","PKKHI",282308,"2022-03-02","2022-03-06"]
[null,"FFAU1793365","40 Dry","PKKHI",282308,"2022-03-02","2022-03-22"]
[null,"UACU8328354","40 Dry","PKKHI",282308,"2022-03-02","2022-03-22"]
[null,"TEMU7900885","40 Dry","PKKHI",282308,"2022-03-02","2022-03-22"]
[null,"UACU5676335","40 Dry","PKKHI",282308,"2022-03-02","2022-03-22"]
[null,"UACU8441102","40 Dry","PKKHI",282308,"2022-03-03","2022-03-23"]
[null,"UACU5113579","40 Dry","PKKHI",282308,"2022-03-02","2022-03-22"]
[null,"TCLU4003644","40 Dry","PKKHI",282308,"2022-03-03","2022-03-23"]
[null,"DRYU9221957","40 Dry","PKKHI",282308,"2022-03-02","2022-03-06"]
[null,"HLBU2015339","40 Dry","PKKHI",282308,"2022-03-02","2022-03-22"]
[null,"HLBU3170432","40 Dry","PKKHI",282308,"2022-03-02","2022-03-22"]
[null,"HLXU5231977","40 Dry","PKKHI",282308,"2022-03-02","2022-03-22"]
[null,"HLXU5390773","40 Dry","PKKHI",282308,"2022-03-03","2022-03-23"]
[null,"FANU1912088","40 Dry","PKKHI",282308,"2022-03-02","2022-03-22"]
[null,"UACU8601047","40 Dry","PKKHI",282308,"2022-03-03","2022-03-23"]
[null,"HLXU5297254","40 Dry","PKKHI",282308,"2022-03-02","2022-03-22"]
[null,"TCLU4765017","40 Dry","PKKHI",282308,"2022-03-02","2022-03-22"]
[null,"TCNU8244138","40 Dry","PKKHI",282308,"2022-03-02","2022-03-22"]
[null,"FANU1448064","40 Dry","PKKHI",282308,"2022-03-02","2022-03-15"]
[null,"HLXU8040547","40 Dry","PKKHI",282308,"2022-03-02","2022-03-15"]
[null,"HLXU8438818","40 Dry","PKKHI",282308,"2022-03-02","2022-03-15"]
[null,"UACU5635526","40 Dry","PKKHI",282308,"2022-03-02","2022-03-15"]
[null,"HLBU2149127","40 Dry","PKKHI",282308,"2022-03-02","2022-03-31"]
[null,"FCIU7456137","40 Dry","PKKHI",282308,"2022-03-02","2022-03-13"]
[null,"UACU5509493","40 Dry","PKKHI",282308,"2022-03-02","2022-03-13"]
[null,"TEMU6974733","40 Dry","PKKHI",282308,"2022-03-02","2022-03-13"]
[null,"TCNU8242639","40 Dry","PKKHI",282308,"2022-03-02","2022-03-13"]
[null,"CAIU4825819","40 Dry","PKKHI",282308,"2022-03-02","2022-03-13"]
[null,"UACU5595953","40 Dry","PKKHI",282308,"2022-03-02","2022-03-13"]
[null,"TCLU9214378","40 Dry","PKKHI",282308,"2022-03-03","2022-03-14"]
[null,"DFSU6638275","40 Dry","PKKHI",282308,"2022-03-02","2022-03-13"]
[null,"HLBU3348627","40 Dry","PKKHI",282308,"2022-03-02","2022-03-13"]
[null,"TGBU5686500","40 Dry","PKKHI",282308,"2022-03-02","2022-03-13"]
[null,"XINU8221035","40 Dry","PKKHI",282308,"2022-03-03","2022-03-12"]
[null,"TCLU5535770","40 Dry","PKKHI",282308,"2022-03-02","2022-03-11"]
[null,"BEAU6001059","40 Dry","PKKHI",282308,"2022-03-02","2022-03-11"]
[null,"TCNU8203988","40 Dry","PKKHI",282308,"2022-03-02","2022-03-11"]
["HLCUJE2220207415","FANU1743239","40 Dry","PKKHI",279059,"2022-03-13","2022-03-22",179.25]
["HLCUJE2220207364","HLBU2899693","40 Dry","PKKHI",279059,"2022-03-13","2022-03-22",179.25]
["HLCUGOA2201AVME2","HLBU2995784","20 Dry","PKKHI",279059,"2022-03-13","2022-03-26",179.25]
["HLCUJE2220209951","FBIU0000415","20 Dry","PKKHI",279059,"2022-03-14","2022-03-23",179.25]
["HLCUJE2220207404","MTSU9659088","40 Dry","PKKHI",279059,"2022-03-13","2022-03-22",179.25]
["HLCULE12201APJW2","TGHU3126638","20 Dry","PKKHI",279059,"2022-03-13","2022-03-22",179.25]
["HLCUGOA220206390","CLHU9005089","40 Dry","PKKHI",279059,"2022-03-13","2022-03-17",179.25]
["HLCUJE2220212272","FANU1408272","40 Dry","PKKHI",279059,"2022-03-13","2022-03-22",179.25]
["HLCUANR220145089","UACU5657823","40 Dry","PKKHI",279059,"2022-03-13","2022-04-02",179.25]
["HLCUALY220229935","DFSU7105352","40 Dry","PKKHI",279059,"2022-03-13","2022-03-19",179.25]
["HLCUALY220230619","TGHU6787082","40 Dry","PKKHI",279059,"2022-03-13","2022-03-17",179.25]
["HLCUBC1220224258","HLBU1337834","20 Dry","PKKHI",279059,"2022-03-14","2022-03-23",179.25]
["HLCULE1220232051","TEMU1592595","20 Dry","PKKHI",279059,"2022-03-13","2022-03-26",179.25]
["HLCURJ2220102571","FSCU8943571","40 Dry","PKKHI",279059,"2022-03-13","2022-03-26",179.25]
["HLCURJ2220102571","CAIU4990095","40 Dry","PKKHI",279059,"2022-03-13","2022-03-26",179.25]
["HLCUJE2220211500","TEMU6711819","40 Dry","PKKHI",279059,"2022-03-13","2022-03-22",179.25]
["HLCUJE2220211353","FSCU7243341","40 Dry","PKKHI",279059,"2022-03-13","2022-03-22",179.25]
["HLCURTM2201ARAT8","FANU1806996","40 Dry","PKKHI",279059,"2022-03-13","2022-03-22",179.25]
["HLCUGOA2201BAFL3","SEGU9422270","40 Reefer","PKKHI",279059,"2022-03-13","2022-03-20",179.25]
["HLCUJE2220211460","SEGU5769506","40 Dry","PKKHI",279059,"2022-03-13","2022-03-22",179.25]
["HLCUALY220231210","GVCU2246990","20 Dry","PKKHI",279059,"2022-03-13","2022-03-17",179.25]
["HLCUALY220231275","GESU3878550","20 Dry","PKKHI",279059,"2022-03-13","2022-03-17",179.25]
["HLCUALY220234821","HLBU2640280","20 Dry","PKKHI",279059,"2022-03-13","2022-03-17",179.25]
["HLCUBC1220223065","TCNU1599270","40 Dry","PKKHI",279059,"2022-03-13","2022-03-19",179.25]
["HLCUBC1220223065","UACU5682111","40 Dry","PKKHI",279059,"2022-03-14","2022-03-20",179.25,null,"HLCUBSC220169823"]
["HLCUGOA220233570","HLXU3227807","20 Dry","PKKHI",279059,"2022-03-13","2022-03-17",179.25]
["HLCUGOA220231184","AMFU8817027","40 Dry","PKKHI",279059,"2022-03-13","2022-03-24",179.25]
["HLCUALY220227801","HAMU1129208","20 Dry","PKKHI",279059,"2022-03-13","2022-03-19",179.25]
["HLCUALY220227801","HLBU1969590","40 Dry","PKKHI",279059,"2022-03-13","2022-03-19",179.25]
["HLCUALY220227801","UACU5892294","40 Dry","PKKHI",279059,"2022-03-13","2022-03-19",179.25,null,{"$f":"VLOOKUP($J$473,'Raw Data - Free time'!$B:$J,1,0)","v":{"$error":"#N/A"}},{"$f":"VLOOKUP($J$473,'Raw Data - Free time'!$B:$J,2,0)","v":{"$error":"#N/A"}}]
["HLCUGOA220226813","TRLU3898014","20 Dry","PKKHI",279059,"2022-03-13","2022-03-26",179.25,null,{"$f":"VLOOKUP($J$473,'Raw Data - Free time'!$B:$J,1,0)","v":{"$error":"#N/A"}},{"$f":"INDEX(A:A,MATCH(J478,B:B,0)+1)","v":{"$error":"#N/A"}}]
["HLCUGOA220214303","HLXU3155944","20 Dry","PKKHI",279059,"2022-03-13","2022-03-17",179.25,null,{"$f":"VLOOKUP($J$473,'Raw Data - Free time'!$B:$J,1,0)","v":{"$error":"#N/A"}},{"$f":"INDEX('Raw Data - Free time'!M:M,MATCH(K479,'Raw Data - Free time'!M:M,0)+1)","v":{"$error":"#N/A"}}]
["HLCUALY220228307","BMOU9729443","40 Reefer","PKKHI",279059,"2022-03-13","2022-03-15",179.25,null,{"$f":"VLOOKUP($J$473,'Raw Data - Free time'!$B:$J,1,0)","v":{"$error":"#N/A"}},{"$f":"INDEX('Raw Data - Free time'!M:M,MATCH(K480,'Raw Data - Free time'!M:M,0)+1)","v":{"$error":"#N/A"}}]
["HLCUALY220228307","BMOU9765013","40 Reefer","PKKHI",279059,"2022-03-13","2022-03-15",179.25]
["HLCUGOA2201AYMA6","FCIU3649333","20 Dry","PKKHI",279059,"2022-03-13","2022-03-19",179.25,null,{"$f":"VLOOKUP(J473,A1:B584,2,0)","v":"HLBU2409564"}]
["HLCUGOA2201AYQD1","FANU3026392","40 Dry","PKKHI",279059,"2022-03-13","2022-03-19",179.25]
["HLCUEUR2110BZZL4","TCNU8368020","40 Dry","PKKHI",279059,"2022-03-13","2022-03-17",179.25]
["HLCUTOR220107671","HLBU3353325","40 Dry","PKKHI",279059,"2022-03-14","2022-03-25",179.25]
["HLCUTOR220107671","HLBU2825793","40 Dry","PKKHI",279059,"2022-03-14","2022-03-25",179.25]
["HLCUEUR2109DAWB9","CAIU2619167","20 Dry","PKKHI",279059,"2022-03-14","2022-03-22",179.25]
["HLCUEUR2109DAWB9","FTAU1269360","20 Dry","PKKHI",279059,"2022-03-14","2022-03-22",179.25]
["HLCUGOA2201AXQS3","TEMU6723039","40 Dry","PKKHI",279059,"2022-03-13","2022-03-26",179.25]
["HLCULI3211214104","HLBU2303042","20 Dry","PKKHI",279059,"2022-03-13","2022-03-26",179.25]
["HLCUBSC220169823","HLBU2409564","40 Dry","PKKHI",279059,"2022-03-13","2022-03-24",179.25]
["HLCUBSC220169823","BEAU5066060","40 Dry","PKKHI",279059,"2022-03-14","2022-03-25",179.25]
["HLCUBSC220169823","HLBU3374987","40 Dry","PKKHI",279059,"2022-03-14","2022-03-25",179.25]
["HLCUBSC220169823","TCKU6546643","40 Dry","PKKHI",279059,"2022-03-14","2022-03-25",179.25]
["HLCUBSC220195379","HAMU1219940","40 Dry","PKKHI",279059,"2022-03-13","2022-03-24",179.25]
["HLCUBSC220195653","TCLU8094719","40 Dry","PKKHI",279059,"2022-03-13","2022-03-24",179.25]
["HLCUBSC220195653","UACU5355510","40 Dry","PKKHI",279059,"2022-03-14","2022-03-25",179.25]
["HLCUBSC220195653","FANU1717100","40 Dry","PKKHI",279059,"2022-03-14","2022-03-25",179.25]
["HLCUTOR220108630","HAMU1146695","40 Dry","PKKHI",279059,"2022-03-13","2022-03-17",179.25]
["HLCUANR220157427","FANU3155574","40 Dry","PKKHI",279059,"2022-03-14","2022-03-28",179.25]
["HLCUALY220223113","FANU3144461","40 Dry","PKKHI",279059,"2022-03-13","2022-03-17",179.25]
["HLCUALY220223113","FBLU0170191","40 Dry","PKKHI",279059,"2022-03-13","2022-03-17",179.25]
["HLCUDRZ220100324","GESU9575675","40 Reefer","PKKHI",279059,"2022-03-13","2022-03-15",179.25]
["HLCUALY220228267","UACU4790997","40 Reefer","PKKHI",279059,"2022-03-13","2022-03-19",179.25]
["HLCUALY220228267","HLBU9511900","40 Reefer","PKKHI",279059,"2022-03-13","2022-03-19",179.25]
["HLCUALY220228267","HLBU9499831","40 Reefer","PKKHI",279059,"2022-03-13","2022-03-19",179.25]
["HLCURDS211200536","BEAU5348146","40 Dry","PKKHI",279059,"2022-03-13","2022-03-22",179.25]
["HLCURDS211200536","CAIU4505820","40 Dry","PKKHI",279059,"2022-03-13","2022-03-22",179.25]
["HLCURDS211200536","TGBU6072240","40 Dry","PKKHI",279059,"2022-03-13","2022-03-22",179.25]
["HLCURDS211200536","FDCU0318521","40 Dry","PKKHI",279059,"2022-03-13","2022-03-22",179.25]
["HLCURDS211200536","CAIU8537791","40 Dry","PKKHI",279059,"2022-03-13","2022-03-22",179.25]
["HLCURDS211200536","HLBU1168673","40 Dry","PKKHI",279059,"2022-03-13","2022-03-22",179.25]
["HLCURDS211200760","UACU6056154","40 Dry","PKKHI",279059,"2022-03-13","2022-03-22",179.25]
["HLCURDS211200760","HAMU1274000","40 Dry","PKKHI",279059,"2022-03-13","2022-03-22",179.25]
["HLCUGOA2201ASAU0","HLXU5314599","40 Dry","PKKHI",279059,"2022-03-13","2022-03-22",179.25]
["HLCUALY220223621","GESU6787686","40 Dry","PKKHI",279059,"2022-03-13","2022-03-17",179.25]
["HLCUALY220228413","UACU3438359","20 Dry","PKKHI",279059,"2022-03-13","2022-03-26",179.25]
["HLCUALY220228413","FCIU2911290","20 Dry","PKKHI",279059,"2022-03-13","2022-03-26",179.25]
["HLCUALY220228413","BMOU2229889","20 Dry","PKKHI",279059,"2022-03-13","2022-03-26",179.25]
["HLCUALY220228413","UACU3449688","20 Dry","PKKHI",279059,"2022-03-13","2022-03-26",179.25]
["HLCURTM211190355","HLXU3260873","20 Dry","PKKHI",279059,"2022-03-13","2022-04-02",179.25]
["HLCURTM211190355","CRXU3234206","20 Dry","PKKHI",279059,"2022-03-13","2022-04-02",179.25]
["HLCUGOA220153470","TGHU9480588","40 Dry","PKKHI",279059,"2022-03-13","2022-03-19",179.25]
["HLCUGOA2201ARBG5","CAAU2081696","20 Dry","PKKHI",279059,"2022-03-13","2022-03-26",179.25]
["HLCURJ2220101133","TCLU6682966","40 Dry","PKKHI",279059,"2022-03-13","2022-03-19",179.25]
["HLCURTM2112ARUY6","FCIU2590987","20 Dry","PKKHI",279059,"2022-03-13","2022-03-22",179.25]
["HLCUGOA211222035","FANU3136471","40 Dry","PKKHI",279059,"2022-03-13","2022-03-22",179.25]
["HLCUCA6220102774","TEMU6420412","40 Dry","PKKHI",279059,"2022-03-13","2022-03-17",179.25]
["HLCULE1220182603","TCLU3875787","20 Dry","PKKHI",279059,"2022-03-13","2022-03-26",179.25]
["HLCUGOA2201ATHS5","GESU2769386","20 Dry","PKKHI",279059,"2022-03-13","2022-03-19",179.25]
["HLCUGOA2201ASBF7","UACU8404069","40 Dry","PKKHI",279059,"2022-03-13","2022-03-22",179.25]
["HLCURDS211100264","CAAU5572610","40 Dry","PKKHI",279059,"2022-03-13","2022-03-22",179.25]
["HLCURDS211100264","FANU1515732","40 Dry","PKKHI",279059,"2022-03-13","2022-03-22",179.25]
["HLCURDS211100264","FSCU7186600","40 Dry","PKKHI",279059,"2022-03-13","2022-03-22",179.25]
["HLCURDS211100264","UACU5911244","40 Dry","PKKHI",279059,"2022-03-13","2022-03-22",179.25]
["HLCURDS211100264","TGHU9424922","40 Dry","PKKHI",279059,"2022-03-13","2022-03-22",179.25]
["HLCUHAM2201ATSS3","LNXU8458999","40 Reefer","PKKHI",279059,"2022-03-13","2022-03-22",179.25]
["HLCUBC1220176732","HLBU3182475","40 Dry","PKKHI",279059,"2022-03-14","2022-03-20",179.25]
["HLCUALY220231772","HLXU1299536","20 Dry","PKKHI",279059,"2022-03-13","2022-03-17",179.25]
["HLCUALY220231772","HLBU1007560","20 Dry","PKKHI",279059,"2022-03-13","2022-03-17",179.25]
["HLCUALY220231772","FBIU0493250","20 Dry","PKKHI",279059,"2022-03-13","2022-03-17",179.25]
["HLCUALY220227739","FANU3160020","40 Dry","PKKHI",279059,"2022-03-13","2022-03-17",179.25]
["HLCURDS211200547","BSIU9100060","40 Dry","PKKHI",279059,"2022-03-13","2022-03-22",179.25]
["HLCURDS211200547","HLBU1169073","40 Dry","PKKHI",279059,"2022-03-13","2022-03-22",179.25]
["HLCURDS211200547","TRHU4533054","40 Dry","PKKHI",279059,"2022-03-13","2022-03-22",179.25]
["HLCURDS211200547","TGBU6246173","40 Dry","PKKHI",279059,"2022-03-13","2022-03-22",179.25]
["HLCURDS211200547","FANU1107448","40 Dry","PKKHI",279059,"2022-03-13","2022-03-22",179.25]
["HLCURDS211200547","HLXU8364633","40 Dry","PKKHI",279059,"2022-03-13","2022-03-22",179.25]
["HLCUGOA220116399","GCXU2186197","20 Dry","PKKHI",279059,"2022-03-13","2022-03-19",179.25]
["HLCURJ2220101568","HLXU3482459","20 Dry","PKKHI",279059,"2022-03-13","2022-03-17",179.25]
["HLCUGOA2201ATUQ0","HLXU5635135","40 Special","PKKHI",279059,"2022-03-13","2022-03-17",179.25]
["HLCULE1220128718","HLBU1911217","40 Dry","PKKHI",279059,"2022-03-13","2022-03-19",179.25]
["HLCURJ2220102359","HLBU1954456","40 Dry","PKKHI",279059,"2022-03-13","2022-03-19",179.25]
["HLCUGOA2201AQWM4","UACU8261610","40 Dry","PKKHI",279059,"2022-03-13","2022-03-17",179.25]
["HLCUBI1220102961","UACU8510672","40 Dry","PKKHI",279059,"2022-03-14","2022-03-20",179.25]
["HLCURDS211100253","FANU1794046","40 Dry","PKKHI",279059,"2022-03-13","2022-03-22",179.25]
["HLCURDS211100253","HLBU2047850","40 Dry","PKKHI",279059,"2022-03-13","2022-03-22",179.25]
["HLCURDS211100253","UACU6000284","40 Dry","PKKHI",279059,"2022-03-13","2022-03-22",179.25]
["HLCURDS211100253","FCIU8825754","40 Dry","PKKHI",279059,"2022-03-13","2022-03-22",179.25]
["HLCURDS211100253","GCXU5302921","40 Dry","PKKHI",279059,"2022-03-13","2022-03-22",179.25]
["HLCUGOA220104353","TCKU4364146","40 Dry","PKKHI",279059,"2022-03-13","2022-03-19",179.25]
["HLCUHAM2201AYFC8","FANU1356688","20 Dry","PKKHI",279059,"2022-03-13","2022-03-17",179.25]
["HLCUHAM2201AYFC8","UACU8415715","40 Dry","PKKHI",279059,"2022-03-13","2022-03-17",179.25]
["HLCUHAM2201AYFC8","UACU8280482","40 Dry","PKKHI",279059,"2022-03-13","2022-03-17",179.25]
["HLCUHAM2201AYFC8","UACU8164163","40 Dry","PKKHI",279059,"2022-03-13","2022-03-17",179.25]
["HLCUHAM2201AYFC8","TGHU5019541","40 Dry","PKKHI",279059,"2022-03-13","2022-03-17",179.25]
["HLCUHAM2201AYFC8","CLHU4716504","40 Dry","PKKHI",279059,"2022-03-13","2022-03-17",179.25]
["HLCUBC1220172245","FANU1337796","20 Dry","PKKHI",279059,"2022-03-13","2022-03-19",179.25]
["HLCUIZ12201BGJY8","CAAU5556809","40 Dry","PKKHI",279059,"2022-03-13","2022-03-26",179.25]
["HLCUIZ12201BGJY8","HLBU1650330","40 Dry","PKKHI",279059,"2022-03-13","2022-03-26",179.25]
["HLCUIZ1220221357","TCLU8780597","40 Dry","PKKHI",279059,"2022-03-13","2022-03-26",179.25]
["HLCUIZ1220221357","UACU6060410","40 Dry","PKKHI",279059,"2022-03-13","2022-03-26",179.25]
["HLCURJ2220101959","CAAU5558000","40 Dry","PKKHI",279059,"2022-03-13","2022-03-26",179.25]
["HLCURJ2220101959","TCNU6333663","40 Dry","PKKHI",279059,"2022-03-13","2022-03-26",179.25]
["HLCUGOA2112AVOE6","CAIU2393439","20 Dry","PKKHI",279059,"2022-03-13","2022-03-17",179.25]
["HLCUIZ12201BGJL5","FCIU7435258","40 Dry","PKKHI",279059,"2022-03-13","2022-03-26",179.25]
["HLCUALY220229606","BEAU6003806","40 Dry","PKKHI",279059,"2022-03-13","2022-03-22",179.25]
["HLCUALY220229606","TCLU5708860","40 Dry","PKKHI",279059,"2022-03-13","2022-03-22",179.25]
["HLCUALY220227169","HAMU1076052","20 Dry","PKKHI",279059,"2022-03-13","2022-03-17",179.25]
["HLCUJE2220212356","NIDU2284165","20 Dry","PKKHI",279059,"2022-03-14","2022-03-23",179.25]
["HLCUJE2220207386","FANU1033690","40 Dry","PKKHI",279059,"2022-03-13","2022-03-22",179.25]
["HLCUGOA220206273","HLXU8107023","40 Dry","PKKHI",279059,"2022-03-13","2022-03-17",179.25]
["HLCUJE2220212261","GCXU5306758","40 Dry","PKKHI",279059,"2022-03-13","2022-03-22",179.25]